Workbook

Sheet Diem
A2: A1 | B2: 10
A3: A2 | B3: 9
A4: A3 | B4: 8
A5: A4 | B5: 7
A7: B1 | B7: 6
A8: B2 | B8: 5
A9: C1 | B9: 4
A10: C2 | B10: 3
A11: D | B11: 1
A12: E | B12: 0

Sheet HK1 22-23
A1: TRƯỜNG CAO ĐẲNG LÝ TỰ TRỌNG | I1: CỘNG HÒA XÃ HỘI CHỦ NGHĨA VIỆT NAM
A2: THÀNH PHỐ HỒ CHÍ MINH | I2: Độc lập - Tự do - Hạnh phúc
A3: TRUNG TÂM QUAN HỆ DOANH NGHIỆP
A5: DANH SÁCH TẠM XÉT THI ĐUA HỌC KÌ I NĂM HỌC 2022 - 2023
A7: TT | B7: Họ và tên | C7: Mã số E-office | D7: Tháng 9/2022 | F7: Tháng 10/2022 | H7: Tháng 11/2022 | J7: Tháng 12/2022 | L7: Tháng 01/2023 | N7: Điểm K | O7: Hệ số trừ bậc (C, D, E) | P7: Xếp loại HK1 | Q7: Ghi chú
D8: Xếp loại | E8: Điểm | F8: Xếp loại | G8: Điểm | H8: Xếp loại | I8: Điểm | J8: Xếp loại | K8: Điểm | L8: Xếp loại | M8: Điểm
B9: Viên chức
A10: 1 | B10: Nguyễn Văn Chiến | C10: 01007008 | D10: A1 | E10: =VLOOKUP(D10,Diem!$A$2:$B$12,2,0) -> 10 | F10: A1 | G10: =VLOOKUP(F10,Diem!$A$2:$B$12,2,0) -> 10 | H10: A1 | I10: =VLOOKUP(H10,Diem!$A$2:$B$12,2,0) -> 10 | J10: A1 | K10: =VLOOKUP(J10,Diem!$A$2:$B$12,2,0) -> 10 | L10: A1 | M10: =VLOOKUP(L10,Diem!$A$2:$B$12,2,0) -> 10 | N10: =ROUND(AVERAGE(E10,G10,I10,K10),2) -> 10 | O10: =COUNTIF(D10:K10,"C*")*1+COUNTIF(D10:K10,"D")*2+COUNTIF(D10:K10,"E")*3 -> 0 | P10: =IF(O10>=3,"Không hoàn thành nhiệm vụ",IF(AND($N10>=8,$N10<=10,O10=0),"Hoàn thành xuất sắc nhiệm vụ",IF(AND($N10>=8,$N10<=10,O10=1),"Hoàn thành tốt nhiệm vụ",IF(AND($N10>=8,$N10<=10,O10=2),"Hoàn thành nhiệm vụ",IF(AND($N10>6,$N10<8,O10<=1),"Hoàn thành tốt nhiệm vụ",IF(AND($N10>6,$N10<8,O10=2),"Hoàn thành nhiệm vụ",IF(AND($N10>=5,$N10<=6,O10<=2),"Hoàn thành nhiệm vụ",IF(AND($N10<5,O10>3),"Không hoàn thành nhiệm vụ","")))))))) -> Hoàn thành xuất sắc nhiệm vụ
A11: 2 | B11: Nguyễn Thùy Dương | C11: 01014010 | D11: A4 | E11: =VLOOKUP(D11,Diem!$A$2:$B$12,2,0) -> 7 | F11: A4 | G11: =VLOOKUP(F11,Diem!$A$2:$B$12,2,0) -> 7 | H11: A3 | I11: =VLOOKUP(H11,Diem!$A$2:$B$12,2,0) -> 8 | J11: A4 | K11: =VLOOKUP(J11,Diem!$A$2:$B$12,2,0) -> 7 | L11: A3 | M11: =VLOOKUP(L11,Diem!$A$2:$B$12,2,0) -> 8 | N11: =ROUND(AVERAGE(E11,G11,I11,K11),2) -> 7.25 | O11: =COUNTIF(D11:K11,"C*")*1+COUNTIF(D11:K11,"D")*2+COUNTIF(D11:K11,"E")*3 -> 0 | P11: =IF(O11>=3,"Không hoàn thành nhiệm vụ",IF(AND($N11>=8,$N11<=10,O11=0),"Hoàn thành xuất sắc nhiệm vụ",IF(AND($N11>=8,$N11<=10,O11=1),"Hoàn thành tốt nhiệm vụ",IF(AND($N11>=8,$N11<=10,O11=2),"Hoàn thành nhiệm vụ",IF(AND($N11>6,$N11<8,O11<=1),"Hoàn thành tốt nhiệm vụ",IF(AND($N11>6,$N11<8,O11=2),"Hoàn thành nhiệm vụ",IF(AND($N11>=5,$N11<=6,O11<=2),"Hoàn thành nhiệm vụ",IF(AND($N11<5,O11>3),"Không hoàn thành nhiệm vụ","")))))))) -> Hoàn thành tốt nhiệm vụ
I14: Thành phố Hồ Chí Minh, ngày 27 tháng 02 năm 2023
I15: TRƯỞNG ĐƠN VỊ
I20: Nguyễn Văn Chiến

Sheet KH2 22-23
A1: TRƯỜNG CAO ĐẲNG LÝ TỰ TRỌNG | I1: CỘNG HÒA XÃ HỘI CHỦ NGHĨA VIỆT NAM
A2: THÀNH PHỐ HỒ CHÍ MINH | I2: Độc lập - Tự do - Hạnh phúc
A3: TRUNG TÂM QUAN HỆ DOANH NGHIỆP
A5: DANH SÁCH XÉT THI ĐUA HỌC KÌ II NĂM HỌC 2022 - 2023
A7: TT | B7: Họ và tên | C7: Mã số E-office | D7: Tháng 02/2023 | F7: Tháng 03/2023 | H7: Tháng 4/2023 | J7: Tháng 5/2023 | L7: Tháng 6/2023 | N7: Điểm K | O7: Hệ số trừ bậc (C, D, E) | P7: Xếp loại HK2 | Q7: Ghi chú
D8: Xếp loại | E8: Điểm | F8: Xếp loại | G8: Điểm | H8: Xếp loại | I8: Điểm | J8: Xếp loại | K8: Điểm | L8: Xếp loại | M8: Điểm
B9: Viên chức
A10: 1 | B10: Nguyễn Văn Chiến | C10: 01007008 | D10: A2 | E10: =VLOOKUP(D10,Diem!$A$2:$B$12,2,0) -> 9 | F10: A3 | G10: =VLOOKUP(F10,Diem!$A$2:$B$12,2,0) -> 8 | H10: A2 | I10: =VLOOKUP(H10,Diem!$A$2:$B$12,2,0) -> 9 | J10: A2 | K10: =VLOOKUP(J10,Diem!$A$2:$B$12,2,0) -> 9 | N10: =ROUND(AVERAGE(E10,G10,I10,K10),2) -> 8.75 | O10: =COUNTIF(D10:K10,"C*")*1+COUNTIF(D10:K10,"D")*2+COUNTIF(D10:K10,"E")*3 -> 0 | P10: =IF(O10>=3,"Không hoàn thành nhiệm vụ",IF(AND($N10>=8,$N10<=10,O10=0),"Hoàn thành xuất sắc nhiệm vụ",IF(AND($N10>=8,$N10<=10,O10=1),"Hoàn thành tốt nhiệm vụ",IF(AND($N10>=8,$N10<=10,O10=2),"Hoàn thành nhiệm vụ",IF(AND($N10>6,$N10<8,O10<=1),"Hoàn thành tốt nhiệm vụ",IF(AND($N10>6,$N10<8,O10=2),"Hoàn thành nhiệm vụ",IF(AND($N10>=5,$N10<=6,O10<=2),"Hoàn thành nhiệm vụ",IF(AND($N10<5,O10>3),"Không hoàn thành nhiệm vụ","")))))))) -> Hoàn thành xuất sắc nhiệm vụ
A11: 2 | B11: Nguyễn Thùy Dương | C11: 01014010 | D11: A4 | E11: =VLOOKUP(D11,Diem!$A$2:$B$12,2,0) -> 7 | F11: A4 | G11: =VLOOKUP(F11,Diem!$A$2:$B$12,2,0) -> 7 | H11: A4 | I11: =VLOOKUP(H11,Diem!$A$2:$B$12,2,0) -> 7 | J11: A4 | K11: =VLOOKUP(J11,Diem!$A$2:$B$12,2,0) -> 7 | N11: =ROUND(AVERAGE(E11,G11,I11,K11),2) -> 7 | O11: =COUNTIF(D11:K11,"C*")*1+COUNTIF(D11:K11,"D")*2+COUNTIF(D11:K11,"E")*3 -> 0 | P11: =IF(O11>=3,"Không hoàn thành nhiệm vụ",IF(AND($N11>=8,$N11<=10,O11=0),"Hoàn thành xuất sắc nhiệm vụ",IF(AND($N11>=8,$N11<=10,O11=1),"Hoàn thành tốt nhiệm vụ",IF(AND($N11>=8,$N11<=10,O11=2),"Hoàn thành nhiệm vụ",IF(AND($N11>6,$N11<8,O11<=1),"Hoàn thành tốt nhiệm vụ",IF(AND($N11>6,$N11<8,O11=2),"Hoàn thành nhiệm vụ",IF(AND($N11>=5,$N11<=6,O11<=2),"Hoàn thành nhiệm vụ",IF(AND($N11<5,O11>3),"Không hoàn thành nhiệm vụ","")))))))) -> Hoàn thành tốt nhiệm vụ
I14: Thành phố Hồ Chí Minh, ngày 19 tháng 5 năm 2023
I15: TRƯỞNG ĐƠN VỊ
I20: Nguyễn Văn Chiến

Sheet Năm học 
A1: TRƯỜNG CAO ĐẲNG LÝ TỰ TRỌNG | G1: CỘNG HÒA XÃ HỘI CHỦ NGHĨA VIỆT NAM
A2: THÀNH PHỐ HỒ CHÍ MINH | G2: Độc lập - Tự do - Hạnh phúc
A3: TRUNG TÂM QUAN HỆ DOANH NGHIỆP
A5: DANH SÁCH XÉT THI ĐUA NĂM HỌC 2022 - 2023
A7: TT | B7: Họ tên | C7: Mã số E-office | D7: Học kỳ 1 | F7: Học kỳ 2 | H7: Cả năm | J7: Danh hiệu | K7: GHI CHÚ
D8: Điểm K | E8: Xếp loại | F8: Điểm K | G8: Xếp loại | H8: Điểm X | I8: Xếp loại
B9: Viên chức
A10: 1 | B10: Nguyễn Văn Chiến | C10: 01007008 | D10: 10 | E10: Hoàn thành xuất sắc nhiệm vụ | F10: 8.75 | G10: Hoàn thành xuất sắc nhiệm vụ | H10: 9.37 | I10: =IF(AND(8<=$H10,$H10<=10),"Hoàn thành xuất sắc nhiệm vụ",IF(AND(6<$H10,$H10<8),"Hoàn thành tốt nhiệm vụ",IF(AND(5<$H10,$H10<6),"Hoàn thành nhiệm vụ","Không hoàn thành nhiệm vụ"))) -> Hoàn thành xuất sắc nhiệm vụ | J10: =IF(G10="Hoàn thành nhiệm vụ","Không đạt LĐTT",IF(OR(I10="Hoàn thành xuất sắc nhiệm vụ",I10="Hoàn thành tốt nhiệm vụ"),"Đạt LĐTT","Không đạt LĐTT")) -> Đạt LĐTT
A11: 2 | B11: Nguyễn Thùy Dương | C11: 01014010 | D11: 7.25 | E11: Hoàn thành tốt nhiện vụ | F11: 7 | G11: Hoàn thành tốt nhiện vụ | H11: 7.12 | I11: =IF(AND(8<=$H11,$H11<=10),"Hoàn thành xuất sắc nhiệm vụ",IF(AND(6<$H11,$H11<8),"Hoàn thành tốt nhiệm vụ",IF(AND(5<$H11,$H11<6),"Hoàn thành nhiệm vụ","Không hoàn thành nhiệm vụ"))) -> Hoàn thành tốt nhiệm vụ | J11: =IF(G11="Hoàn thành NV","Không đạt LĐTT",IF(OR(I11="Hoàn thành xuất sắc nhiệm vụ",I11="Hoàn thành tốt nhiệm vụ"),"Đạt LĐTT","Không đạt LĐTT")) -> Đạt LĐTT
B14: Đạt LĐTT: | C14: =COUNTIF($J$10:$J$12,"Đạt LĐTT") -> 2
B15: Không đạt LĐTT: | C15: =COUNTIF($J$10:$J$12,"Không đạt LĐTT") -> 0
B16: Không xét LĐTT (Tuyển dụng dưới 10 tháng) | C16: =COUNTIF($J$10:$J$12,"Không xét LĐTT") -> 0
E18: Thành phố Hồ Chí Minh, ngày 19 tháng 5 năm 2023
H19: TRƯỞNG ĐƠN VỊ
H25: Nguyễn Văn Chiền
