Workbook

Sheet HK2 - 22-23 + HKI 23-24(22C2)
A1: UỶ BAN NHÂN DÂN THÀNH PHỐ HỒ CHÍ MINH | AL1: CỘNG HOÀ XÃ HỘI CHỦ NGHĨA VIỆT NAM
A2: TRƯỜNG CAO ĐẲNG LÝ TỰ TRỌNG TP. HỒ CHÍ MINH | AL2: Độc lập - Tự do - Hạnh phúc
A4: KHỐI LƯỢNG CÔNG TÁC COI - CHẤM THI HỌC KÌ 2 NĂM HỌC 2022 - 2023 - KHOA KHOA HỌC CƠ BẢN
E7: 2 | F7: 3 | G7: 4 | H7: 5 | I7: 6 | J7: 7 | K7: 8 | L7: 9 | M7: 10 | N7: 11 | O7: 12 | P7: 13 | Q7: 14 | R7: 15 | S7: 16 | T7: 17 | U7: 18 | V7: 19 | W7: 20 | X7: 21 | Y7: 22 | Z7: 23 | AA7: 24 | AB7: 25 | AC7: 26 | AD7: 27 | AE7: 28 | AF7: 29 | AG7: 30 | AH7: 31 | AI7: 32 | AJ7: 33 | AK7: 34 | AL7: 35 | AM7: 36 | AN7: 37 | AO7: 38 | AP7: 39 | AQ7: 40 | AR7: 41 | AS7: 42
E8: =SUBTOTAL(9,E12:E182) -> 91 | F8: =SUBTOTAL(9,F12:F182) -> 18 | G8: =SUBTOTAL(9,G12:G182) -> 0 | H8: =SUBTOTAL(9,H12:H182) -> 0 | I8: =SUBTOTAL(9,I12:I182) -> 0 | J8: =SUBTOTAL(9,J12:J182) -> 0 | K8: =SUBTOTAL(9,K12:K182) -> 0 | L8: =SUBTOTAL(9,L12:L182) -> 0 | ... R8: =SUBTOTAL(9,R12:R182) -> 143.55 | S8: =SUBTOTAL(9,S12:S193) -> 6620 | T8: =SUBTOTAL(9,T12:T193) -> 6627 | U8: =SUBTOTAL(9,U12:U193) -> 6654 | V8: =SUBTOTAL(9,V12:V193) -> 659.3 | W8: =SUBTOTAL(9,W12:W182) -> 0 | X8: =SUBTOTAL(9,X12:X182) -> 0 | Y8: =SUBTOTAL(9,Y12:Y182) -> 0 | Z8: =SUBTOTAL(9,Z12:Z182) -> 0 | AA8: =SUBTOTAL(9,AA12:AA182) -> 1591 | AB8: =SUBTOTAL(9,AB12:AB182) -> 1591 | AC8: =SUBTOTAL(9,AC12:AC182) -> 1591 | AD8: =SUBTOTAL(9,AD12:AD182) -> 159.1 | ... AT8: =SUBTOTAL(9,AT12:AT182) -> 1095.9
B9: Mã nhân sự | C9: Đơn vị | D9: HỌ VÀ TÊN GIẢNG VIÊN | E9: ĐỀ THI | N9: COI THI | S9: CHẤM THI KTHP | AI9: CHẤM THI TỐT NGHIỆP | AR9: DỰ PHÒNG KỲ THI | AS9: GIÁM SÁT | AT9: TỔNG KHỐI LƯỢNG | AU9: =SUBTOTAL(9,AT:AT) -> 1095.9
S10: LÝ THUYẾT (TV+TN) | W10: VẤN ĐÁP | AA10: TIỂU LUẬN | AE10: THỰC HÀNH | AI10: LÝ THUYẾT (TV+TN) | AL10: VẤN ĐÁP | AO10: THỰC HÀNH
E11: SL ĐỀ LT KTHP | F11: SL ĐỀ TN KTHP | G11: SL ĐỀ VĐ KTHP | H11: SL ĐỀ TH KTHP | I11: SL ĐỀ LT ThiTN | J11: SL ĐỀ TN ThiTN | K11: SL ĐỀ VĐ ThiTN | L11: SL ĐỀ TH ThiTN | M11: KL SOẠN ĐỀ (tiết) | N11: COITHI 2 KTHP | O11: COITHI 1 KTHP | P11: COITHI 1 Thi TN | Q11: COITHI 2 Thi TN | R11: KL COITHI (tiết) | S11: SL CHẤM LT 1 | T11: SL CHẤM LT 2 | U11: SL CHẤM NV | V11: KL CHẤM LT (tiết) | W11: SL CHẤM TL 1 | X11: SL CHẤM TL 2 | Y11: SL CHẤM NV | Z11: KL CHẤM TL (tiết) | AA11: SL CHẤM TL 1 | AB11: SL CHẤM TL 2 | AC11: SL CHẤM NV | AD11: KL CHẤM TL (tiết) | AE11: SL CHẤM TL 1 | AF11: SL CHẤM TL 2 | AG11: SL CHẤM NV | AH11: KL CHẤM TL (tiết) | AI11: SL BÀI LT CHẤM 1 | AJ11: SL BÀI LT CHẤM 2 | AK11: KL CHẤM LT (tiết) | AL11: SL BÀI VĐ CHẤM 1 | AM11: SL BÀI VĐ CHẤM 2 | AN11: KL CHẤM VĐ (tiết) | AO11: SL BÀI TL CHẤM 1 | AP11: SL BÀI TL CHẤM 2 | AQ11: KL CHẤM TL (tiết)
A12: =IF(D12="","",SUBTOTAL(3,$D$12:D12)) -> 1 | B12: 1010092 | C12: Khoa Khoa học cơ bản | D12: Bạch Văn Gân (TG) | E12: 0 | F12: 0 | G12: 0 | H12: 0 | I12: 0 | J12: 0 | K12: 0 | L12: 0 | M12: 0 | N12: 0 | O12: 0 | P12: 0 | Q12: 0 | R12: 0 | S12: 0 | T12: 0 | U12: 0 | V12: 0 | W12: 0 | X12: 0 | Y12: 0 | Z12: 0 | AA12: 0 | AB12: 0 | AC12: 0 | AD12: 0 | AE12: 0 | AF12: 0 | AG12: 0 | AH12: 0 | AI12: 0 | AJ12: 0 | AK12: 0 | AL12: 0 | AM12: 0 | AN12: 0 | AO12: 0 | AP12: 0 | AQ12: 0 | AR12: 0 | AS12: 0 | AT12: 0
A13: =IF(D13="","",SUBTOTAL(3,$D$12:D13)) -> 2 | B13: 1010074 | C13: Khoa Khoa học cơ bản | D13: Bùi Bảo Trung (TG) | E13: 0 | F13: 0 | G13: 0 | H13: 0 | I13: 0 | J13: 0 | K13: 0 | L13: 0 | M13: 0 | N13: 0 | O13: 0 | P13: 0 | Q13: 0 | R13: 0 | S13: 0 | T13: 0 | U13: 0 | V13: 0 | W13: 0 | X13: 0 | Y13: 0 | Z13: 0 | AA13: 0 | AB13: 0 | AC13: 0 | AD13: 0 | AE13: 0 | AF13: 0 | AG13: 0 | AH13: 0 | AI13: 0 | AJ13: 0 | AK13: 0 | AL13: 0 | AM13: 0 | AN13: 0 | AO13: 0 | AP13: 0 | AQ13: 0 | AR13: 0 | AS13: 0 | AT13: 0
A14: =IF(D14="","",SUBTOTAL(3,$D$12:D14)) -> 3 | B14: 1010132 | C14: Khoa Khoa học cơ bản | D14: Bùi Đình Trường (TG) | E14: 2 | F14: 0 | G14: 0 | H14: 0 | I14: 0 | J14: 0 | K14: 0 | L14: 0 | M14: 2 | N14: 0.6 | O14: 0 | P14: 0 | Q14: 0 | R14: 0.6 | S14: 0 | T14: 14 | U14: 14 | V14: 0 | W14: 0 | X14: 0 | Y14: 0 | Z14: 0 | AA14: 0 | AB14: 0 | AC14: 0 | AD14: 0 | AE14: 0 | AF14: 0 | AG14: 0 | AH14: 0 | AI14: 0 | AJ14: 0 | AK14: 0 | AL14: 0 | AM14: 0 | AN14: 0 | AO14: 0 | AP14: 0 | AQ14: 0 | AR14: 0 | AS14: 0 | AT14: 2.6
A15: =IF(D15="","",SUBTOTAL(3,$D$12:D15)) -> 4 | C15: Khoa Khoa học cơ bản | D15: Bùi Lâm Trúc Quỳnh (TG) | E15: 0 | F15: 0 | G15: 0 | H15: 0 | I15: 0 | J15: 0 | K15: 0 | L15: 0 | M15: 0 | N15: 0 | O15: 0 | P15: 0 | Q15: 0 | R15: 0 | S15: 0 | T15: 0 | U15: 0 | V15: 0 | W15: 0 | X15: 0 | Y15: 0 | Z15: 0 | AA15: 0 | AB15: 0 | AC15: 0 | AD15: 0 | AE15: 0 | AF15: 0 | AG15: 0 | AH15: 0 | AI15: 0 | AJ15: 0 | AK15: 0 | AL15: 0 | AM15: 0 | AN15: 0 | AO15: 0 | AP15: 0 | AQ15: 0 | AR15: 0 | AS15: 0 | AT15: 0
A16: =IF(D16="","",SUBTOTAL(3,$D$12:D16)) -> 5 | B16: 1010121 | C16: Khoa Khoa học cơ bản | D16: Bùi Thị Hợp (TG) | E16: 0 | F16: 0 | G16: 0 | H16: 0 | I16: 0 | J16: 0 | K16: 0 | L16: 0 | M16: 0 | N16: 0 | O16: 0 | P16: 0 | Q16: 0 | R16: 0 | S16: 0 | T16: 0 | U16: 0 | V16: 0 | W16: 0 | X16: 0 | Y16: 0 | Z16: 0 | AA16: 0 | AB16: 0 | AC16: 0 | AD16: 0 | AE16: 0 | AF16: 0 | AG16: 0 | AH16: 0 | AI16: 0 | AJ16: 0 | AK16: 0 | AL16: 0 | AM16: 0 | AN16: 0 | AO16: 0 | AP16: 0 | AQ16: 0 | AR16: 0 | AS16: 0 | AT16: 0
A17: =IF(D17="","",SUBTOTAL(3,$D$12:D17)) -> 6 | B17: 1010083 | C17: Khoa Khoa học cơ bản | D17: Bùi Thị Ngọc Tuyền (TG) | E17: 0 | F17: 0 | G17: 0 | H17: 0 | I17: 0 | J17: 0 | K17: 0 | L17: 0 | M17: 0 | N17: 0 | O17: 0 | P17: 0 | Q17: 0 | R17: 0 | S17: 0 | T17: 0 | U17: 0 | V17: 0 | W17: 0 | X17: 0 | Y17: 0 | Z17: 0 | AA17: 0 | AB17: 0 | AC17: 0 | AD17: 0 | AE17: 0 | AF17: 0 | AG17: 0 | AH17: 0 | AI17: 0 | AJ17: 0 | AK17: 0 | AL17: 0 | AM17: 0 | AN17: 0 | AO17: 0 | AP17: 0 | AQ17: 0 | AR17: 0 | AS17: 0 | AT17: 0
A18: =IF(D18="","",SUBTOTAL(3,$D$12:D18)) -> 7 | B18: 1010050 | C18: Khoa Khoa học cơ bản | D18: Bùi Thị Tú Uyên | E18: 0 | F18: 0 | G18: 0 | H18: 0 | I18: 0 | J18: 0 | K18: 0 | L18: 0 | M18: 0 | N18: 0 | O18: 0 | P18: 0 | Q18: 0 | R18: 0 | S18: 0 | T18: 0 | U18: 0 | V18: 0 | W18: 0 | X18: 0 | Y18: 0 | Z18: 0 | AA18: 0 | AB18: 0 | AC18: 0 | AD18: 0 | AE18: 0 | AF18: 0 | AG18: 0 | AH18: 0 | AI18: 0 | AJ18: 0 | AK18: 0 | AL18: 0 | AM18: 0 | AN18: 0 | AO18: 0 | AP18: 0 | AQ18: 0 | AR18: 0 | AS18: 0 | AT18: 0
A19: =IF(D19="","",SUBTOTAL(3,$D$12:D19)) -> 8 | B19: 1010075 | C19: Khoa Khoa học cơ bản | D19: Bùi Văn Mạnh (TG) | E19: 0 | F19: 0 | G19: 0 | H19: 0 | I19: 0 | J19: 0 | K19: 0 | L19: 0 | M19: 0 | N19: 0 | O19: 0 | P19: 0 | Q19: 0 | R19: 0 | S19: 0 | T19: 0 | U19: 0 | V19: 0 | W19: 0 | X19: 0 | Y19: 0 | Z19: 0 | AA19: 0 | AB19: 0 | AC19: 0 | AD19: 0 | AE19: 0 | AF19: 0 | AG19: 0 | AH19: 0 | AI19: 0 | AJ19: 0 | AK19: 0 | AL19: 0 | AM19: 0 | AN19: 0 | AO19: 0 | AP19: 0 | AQ19: 0 | AR19: 0 | AS19: 0 | AT19: 0
A20: =IF(D20="","",SUBTOTAL(3,$D$12:D20)) -> 9 | B20: 1010071 | C20: Khoa Khoa học cơ bản | D20: Bùi Văn Phương (TG) | E20: 0 | F20: 0 | G20: 0 | H20: 0 | I20: 0 | J20: 0 | K20: 0 | L20: 0 | M20: 0 | N20: 0 | O20: 0 | P20: 0 | Q20: 0 | R20: 0 | S20: 0 | T20: 0 | U20: 0 | V20: 0 | W20: 0 | X20: 0 | Y20: 0 | Z20: 0 | AA20: 0 | AB20: 0 | AC20: 0 | AD20: 0 | AE20: 0 | AF20: 0 | AG20: 0 | AH20: 0 | AI20: 0 | AJ20: 0 | AK20: 0 | AL20: 0 | AM20: 0 | AN20: 0 | AO20: 0 | AP20: 0 | AQ20: 0 | AR20: 0 | AS20: 0 | AT20: 0
A21: =IF(D21="","",SUBTOTAL(3,$D$12:D21)) -> 10 | B21: 1010036 | C21: Khoa Khoa học cơ bản | D21: Cao Đình Trung Hậu | E21: 0 | F21: 0 | G21: 0 | H21: 0 | I21: 0 | J21: 0 | K21: 0 | L21: 0 | M21: 0 | N21: 0 | O21: 0 | P21: 0 | Q21: 0 | R21: 0 | S21: 0 | T21: 0 | U21: 0 | V21: 0 | W21: 0 | X21: 0 | Y21: 0 | Z21: 0 | AA21: 0 | AB21: 0 | AC21: 0 | AD21: 0 | AE21: 0 | AF21: 0 | AG21: 0 | AH21: 0 | AI21: 0 | AJ21: 0 | AK21: 0 | AL21: 0 | AM21: 0 | AN21: 0 | AO21: 0 | AP21: 0 | AQ21: 0 | AR21: 0 | AS21: 0 | AT21: 0
A22: =IF(D22="","",SUBTOTAL(3,$D$12:D22)) -> 11 | C22: Khoa Khoa học cơ bản | D22: Cao Thế Nhật (TG) | E22: 0 | F22: 0 | G22: 0 | H22: 0 | I22: 0 | J22: 0 | K22: 0 | L22: 0 | M22: 0 | N22: 0 | O22: 0 | P22: 0 | Q22: 0 | R22: 0 | S22: 0 | T22: 0 | U22: 0 | V22: 0 | W22: 0 | X22: 0 | Y22: 0 | Z22: 0 | AA22: 0 | AB22: 0 | AC22: 0 | AD22: 0 | AE22: 0 | AF22: 0 | AG22: 0 | AH22: 0 | AI22: 0 | AJ22: 0 | AK22: 0 | AL22: 0 | AM22: 0 | AN22: 0 | AO22: 0 | AP22: 0 | AQ22: 0 | AR22: 0 | AS22: 0 | AT22: 0
A23: =IF(D23="","",SUBTOTAL(3,$D$12:D23)) -> 12 | C23: Khoa Khoa học cơ bản | D23: Châu Quốc Cường (TG) | E23: 4 | F23: 0 | G23: 0 | H23: 0 | I23: 0 | J23: 0 | K23: 0 | L23: 0 | M23: 4 | N23: 0.6 | O23: 0 | P23: 0 | Q23: 0 | R23: 0.6 | S23: 257 | T23: 0 | U23: 251 | V23: 0.6 | W23: 0 | X23: 0 | Y23: 0 | Z23: 0 | AA23: 0 | AB23: 0 | AC23: 0 | AD23: 0 | AE23: 0 | AF23: 0 | AG23: 0 | AH23: 0 | AI23: 0 | AJ23: 0 | AK23: 0 | AL23: 0 | AM23: 0 | AN23: 0 | AO23: 0 | AP23: 0 | AQ23: 0 | AR23: 0 | AS23: 0 | AT23: 5.2
A24: =IF(D24="","",SUBTOTAL(3,$D$12:D24)) -> 13 | C24: Khoa Khoa học cơ bản | D24: Chiêm Thanh Quốc Anh (TG) | E24: 0 | F24: 0 | G24: 0 | H24: 0 | I24: 0 | J24: 0 | K24: 0 | L24: 0 | M24: 0 | N24: 0 | O24: 0 | P24: 0 | Q24: 0 | R24: 0 | S24: 0 | T24: 0 | U24: 0 | V24: 0 | W24: 0 | X24: 0 | Y24: 0 | Z24: 0 | AA24: 0 | AB24: 0 | AC24: 195 | AD24: -19.5 | AE24: 0 | AF24: 0 | AG24: 0 | AH24: 0 | AI24: 0 | AJ24: 0 | AK24: 0 | AL24: 0 | AM24: 0 | AN24: 0 | AO24: 0 | AP24: 0 | AQ24: 0 | AR24: 0 | AS24: 0 | AT24: -19.5
A25: =IF(D25="","",SUBTOTAL(3,$D$12:D25)) -> 14 | C25: Khoa Khoa học cơ bản | D25: Đặng Đoàn Cẩm Tú (TG) | E25: 0 | F25: 0 | G25: 0 | H25: 0 | I25: 0 | J25: 0 | K25: 0 | L25: 0 | M25: 0 | N25: 0 | O25: 0 | P25: 0 | Q25: 0 | R25: 0 | S25: 0 | T25: 0 | U25: 0 | V25: 0 | W25: 0 | X25: 0 | Y25: 0 | Z25: 0 | AA25: 0 | AB25: 0 | AC25: 0 | AD25: 0 | AE25: 0 | AF25: 0 | AG25: 0 | AH25: 0 | AI25: 0 | AJ25: 0 | AK25: 0 | AL25: 0 | AM25: 0 | AN25: 0 | AO25: 0 | AP25: 0 | AQ25: 0 | AR25: 0 | AS25: 0 | AT25: 0
A26: =IF(D26="","",SUBTOTAL(3,$D$12:D26)) -> 15 | B26: 1010072 | C26: Khoa Khoa học cơ bản | D26: Đặng Duy Đồng (TG) | E26: 0 | F26: 0 | G26: 0 | H26: 0 | I26: 0 | J26: 0 | K26: 0 | L26: 0 | M26: 0 | N26: 0 | O26: 0 | P26: 0 | Q26: 0 | R26: 0 | S26: 0 | T26: 0 | U26: 0 | V26: 0 | W26: 0 | X26: 0 | Y26: 0 | Z26: 0 | AA26: 0 | AB26: 0 | AC26: 0 | AD26: 0 | AE26: 0 | AF26: 0 | AG26: 0 | AH26: 0 | AI26: 0 | AJ26: 0 | AK26: 0 | AL26: 0 | AM26: 0 | AN26: 0 | AO26: 0 | AP26: 0 | AQ26: 0 | AR26: 0 | AS26: 0 | AT26: 0
A27: =IF(D27="","",SUBTOTAL(3,$D$12:D27)) -> 16 | C27: Khoa Khoa học cơ bản | D27: Đặng Thị Giàu (TG) | E27: 0 | F27: 0 | G27: 0 | H27: 0 | I27: 0 | J27: 0 | K27: 0 | L27: 0 | M27: 0 | N27: 0 | O27: 0 | P27: 0 | Q27: 0 | R27: 0 | S27: 0 | T27: 0 | U27: 0 | V27: 0 | W27: 0 | X27: 0 | Y27: 0 | Z27: 0 | AA27: 0 | AB27: 0 | AC27: 0 | AD27: 0 | AE27: 0 | AF27: 0 | AG27: 0 | AH27: 0 | AI27: 0 | AJ27: 0 | AK27: 0 | AL27: 0 | AM27: 0 | AN27: 0 | AO27: 0 | AP27: 0 | AQ27: 0 | AR27: 0 | AS27: 0 | AT27: 0
A28: =IF(D28="","",SUBTOTAL(3,$D$12:D28)) -> 17 | C28: Khoa Khoa học cơ bản | D28: Đặng Thị Hiên (TG) | E28: 0 | F28: 0 | G28: 0 | H28: 0 | I28: 0 | J28: 0 | K28: 0 | L28: 0 | M28: 0 | N28: 0 | O28: 0 | P28: 0 | Q28: 0 | R28: 0 | S28: 0 | T28: 0 | U28: 0 | V28: 0 | W28: 0 | X28: 0 | Y28: 0 | Z28: 0 | AA28: 0 | AB28: 0 | AC28: 0 | AD28: 0 | AE28: 0 | AF28: 0 | AG28: 0 | AH28: 0 | AI28: 0 | AJ28: 0 | AK28: 0 | AL28: 0 | AM28: 0 | AN28: 0 | AO28: 0 | AP28: 0 | AQ28: 0 | AR28: 0 | AS28: 0 | AT28: 0
A29: =IF(D29="","",SUBTOTAL(3,$D$12:D29)) -> 18 | B29: 1010024 | C29: Khoa Khoa học cơ bản | D29: Đặng Thị Kiến Trúc | E29: 0 | F29: 0 | G29: 0 | H29: 0 | I29: 0 | J29: 0 | K29: 0 | L29: 0 | M29: 0 | N29: 2.25 | O29: 2.7 | P29: 0 | Q29: 0 | R29: 4.95 | S29: 0 | T29: 3 | U29: 0 | V29: 0.3 | W29: 0 | X29: 0 | Y29: 0 | Z29: 0 | AA29: 0 | AB29: 0 | AC29: 0 | AD29: 0 | AE29: 0 | AF29: 0 | AG29: 0 | AH29: 0 | AI29: 0 | AJ29: 0 | AK29: 0 | AL29: 0 | AM29: 0 | AN29: 0 | AO29: 0 | AP29: 0 | AQ29: 0 | AR29: 0 | AS29: 0 | AT29: 5.3
A30: =IF(D30="","",SUBTOTAL(3,$D$12:D30)) -> 19 | C30: Khoa Khoa học cơ bản | D30: Đặng Thừa Ân (TG) | E30: 0 | F30: 0 | G30: 0 | H30: 0 | I30: 0 | J30: 0 | K30: 0 | L30: 0 | M30: 0 | N30: 0 | O30: 0 | P30: 0 | Q30: 0 | R30: 0 | S30: 0 | T30: 0 | U30: 0 | V30: 0 | W30: 0 | X30: 0 | Y30: 0 | Z30: 0 | AA30: 0 | AB30: 0 | AC30: 0 | AD30: 0 | AE30: 0 | AF30: 0 | AG30: 0 | AH30: 0 | AI30: 0 | AJ30: 0 | AK30: 0 | AL30: 0 | AM30: 0 | AN30: 0 | AO30: 0 | AP30: 0 | AQ30: 0 | AR30: 0 | AS30: 0 | AT30: 0
A31: =IF(D31="","",SUBTOTAL(3,$D$12:D31)) -> 20 | C31: Khoa Khoa học cơ bản | D31: Đào Thị Kim Hương (TG) | E31: 0 | F31: 0 | G31: 0 | H31: 0 | I31: 0 | J31: 0 | K31: 0 | L31: 0 | M31: 0 | N31: 0 | O31: 0 | P31: 0 | Q31: 0 | R31: 0 | S31: 0 | T31: 0 | U31: 0 | V31: 0 | W31: 0 | X31: 0 | Y31: 0 | Z31: 0 | AA31: 0 | AB31: 0 | AC31: 0 | AD31: 0 | AE31: 0 | AF31: 0 | AG31: 0 | AH31: 0 | AI31: 0 | AJ31: 0 | AK31: 0 | AL31: 0 | AM31: 0 | AN31: 0 | AO31: 0 | AP31: 0 | AQ31: 0 | AR31: 0 | AS31: 0 | AT31: 0
A32: =IF(D32="","",SUBTOTAL(3,$D$12:D32)) -> 21 | C32: Khoa Khoa học cơ bản | D32: Đào Thị Ngọc Yến (TG) | E32: 1 | F32: 0 | G32: 0 | H32: 0 | I32: 0 | J32: 0 | K32: 0 | L32: 0 | M32: 1 | N32: 0 | O32: 0 | P32: 0 | Q32: 0 | R32: 0 | S32: 0 | T32: 71 | U32: 0 | V32: 7.1 | W32: 0 | X32: 0 | Y32: 0 | Z32: 0 | AA32: 0 | AB32: 0 | AC32: 0 | AD32: 0 | AE32: 0 | AF32: 0 | AG32: 0 | AH32: 0 | AI32: 0 | AJ32: 0 | AK32: 0 | AL32: 0 | AM32: 0 | AN32: 0 | AO32: 0 | AP32: 0 | AQ32: 0 | AR32: 0 | AS32: 0 | AT32: 8.1
A33: =IF(D33="","",SUBTOTAL(3,$D$12:D33)) -> 22 | B33: 1010056 | C33: Khoa Khoa học cơ bản | D33: Đinh Thị Thắng (TG) | E33: 0 | F33: 0 | G33: 0 | H33: 0 | I33: 0 | J33: 0 | K33: 0 | L33: 0 | M33: 0 | N33: 0 | O33: 0 | P33: 0 | Q33: 0 | R33: 0 | S33: 0 | T33: 0 | U33: 0 | V33: 0 | W33: 0 | X33: 0 | Y33: 0 | Z33: 0 | AA33: 0 | AB33: 0 | AC33: 0 | AD33: 0 | AE33: 0 | AF33: 0 | AG33: 0 | AH33: 0 | AI33: 0 | AJ33: 0 | AK33: 0 | AL33: 0 | AM33: 0 | AN33: 0 | AO33: 0 | AP33: 0 | AQ33: 0 | AR33: 0 | AS33: 0 | AT33: 0
A34: =IF(D34="","",SUBTOTAL(3,$D$12:D34)) -> 23 | B34: 1010076 | C34: Khoa Khoa học cơ bản | D34: Đinh Văn Quyên (TG) | E34: 0 | F34: 0 | G34: 0 | H34: 0 | I34: 0 | J34: 0 | K34: 0 | L34: 0 | M34: 0 | N34: 0 | O34: 0 | P34: 0 | Q34: 0 | R34: 0 | S34: 0 | T34: 0 | U34: 0 | V34: 0 | W34: 0 | X34: 0 | Y34: 0 | Z34: 0 | AA34: 0 | AB34: 0 | AC34: 0 | AD34: 0 | AE34: 0 | AF34: 0 | AG34: 0 | AH34: 0 | AI34: 0 | AJ34: 0 | AK34: 0 | AL34: 0 | AM34: 0 | AN34: 0 | AO34: 0 | AP34: 0 | AQ34: 0 | AR34: 0 | AS34: 0 | AT34: 0
A35: =IF(D35="","",SUBTOTAL(3,$D$12:D35)) -> 24 | B35: 1010049 | C35: Khoa Khoa học cơ bản | D35: Đoàn Thị Điểm (TG) | E35: 0 | F35: 0 | G35: 0 | H35: 0 | I35: 0 | J35: 0 | K35: 0 | L35: 0 | M35: 0 | N35: 0 | O35: 0 | P35: 0 | Q35: 0 | R35: 0 | S35: 0 | T35: 0 | U35: 0 | V35: 0 | W35: 0 | X35: 0 | Y35: 0 | Z35: 0 | AA35: 0 | AB35: 0 | AC35: 0 | AD35: 0 | AE35: 0 | AF35: 0 | AG35: 0 | AH35: 0 | AI35: 0 | AJ35: 0 | AK35: 0 | AL35: 0 | AM35: 0 | AN35: 0 | AO35: 0 | AP35: 0 | AQ35: 0 | AR35: 0 | AS35: 0 | AT35: 0
A36: =IF(D36="","",SUBTOTAL(3,$D$12:D36)) -> 25 | B36: 1010063 | C36: Khoa Khoa học cơ bản | D36: Đồng Văn Đẹp (TG) | E36: 0 | F36: 0 | G36: 0 | H36: 0 | I36: 0 | J36: 0 | K36: 0 | L36: 0 | M36: 0 | N36: 0 | O36: 0 | P36: 0 | Q36: 0 | R36: 0 | S36: 0 | T36: 0 | U36: 0 | V36: 0 | W36: 0 | X36: 0 | Y36: 0 | Z36: 0 | AA36: 0 | AB36: 0 | AC36: 0 | AD36: 0 | AE36: 0 | AF36: 0 | AG36: 0 | AH36: 0 | AI36: 0 | AJ36: 0 | AK36: 0 | AL36: 0 | AM36: 0 | AN36: 0 | AO36: 0 | AP36: 0 | AQ36: 0 | AR36: 0 | AS36: 0 | AT36: 0
A37: =IF(D37="","",SUBTOTAL(3,$D$12:D37)) -> 26 | B37: 1010037 | C37: Khoa Khoa học cơ bản | D37: Dương Đức Kiên | E37: 10 | F37: 0 | G37: 0 | H37: 0 | I37: 0 | J37: 0 | K37: 0 | L37: 0 | M37: 10 | N37: 7.8 | O37: 2.4 | P37: 0 | Q37: 0 | R37: 10.2 | S37: 263 | T37: 395 | U37: 249 | V37: 40.9 | W37: 0 | X37: 0 | Y37: 0 | Z37: 0 | AA37: 0 | AB37: 0 | AC37: 0 | AD37: 0 | AE37: 0 | AF37: 0 | AG37: 0 | AH37: 0 | AI37: 0 | AJ37: 0 | AK37: 0 | AL37: 0 | AM37: 0 | AN37: 0 | AO37: 0 | AP37: 0 | AQ37: 0 | AR37: 0 | AS37: 1.5 | AT37: 62.6
A38: =IF(D38="","",SUBTOTAL(3,$D$12:D38)) -> 27 | B38: 1010085 | C38: Khoa Khoa học cơ bản | D38: Dương Lê Kỳ Quang (TG) | E38: 0 | F38: 0 | G38: 0 | H38: 0 | I38: 0 | J38: 0 | K38: 0 | L38: 0 | M38: 0 | N38: 0 | O38: 0 | P38: 0 | Q38: 0 | R38: 0 | S38: 0 | T38: 0 | U38: 0 | V38: 0 | W38: 0 | X38: 0 | Y38: 0 | Z38: 0 | AA38: 0 | AB38: 0 | AC38: 0 | AD38: 0 | AE38: 0 | AF38: 0 | AG38: 0 | AH38: 0 | AI38: 0 | AJ38: 0 | AK38: 0 | AL38: 0 | AM38: 0 | AN38: 0 | AO38: 0 | AP38: 0 | AQ38: 0 | AR38: 0 | AS38: 0 | AT38: 0
A39: =IF(D39="","",SUBTOTAL(3,$D$12:D39)) -> 28 | B39: 1010030 | C39: Khoa Khoa học cơ bản | D39: Giang Phi Hùng | E39: 0 | F39: 0 | G39: 0 | H39: 0 | I39: 0 | J39: 0 | K39: 0 | L39: 0 | M39: 0 | N39: 0 | O39: 0 | P39: 0 | Q39: 0 | R39: 0 | S39: 0 | T39: 0 | U39: 0 | V39: 0 | W39: 0 | X39: 0 | Y39: 0 | Z39: 0 | AA39: 1591 | AB39: 0 | AC39: 224 | AD39: 136.7 | AE39: 0 | AF39: 0 | AG39: 0 | AH39: 0 | AI39: 0 | AJ39: 0 | AK39: 0 | AL39: 0 | AM39: 0 | AN39: 0 | AO39: 0 | AP39: 0 | AQ39: 0 | AR39: 0 | AS39: 0 | AT39: 136.7
A40: =IF(D40="","",SUBTOTAL(3,$D$12:D40)) -> 29 | C40: Khoa Khoa học cơ bản | D40: Hà Đông Cảnh (TG) | E40: 0 | F40: 0 | G40: 0 | H40: 0 | I40: 0 | J40: 0 | K40: 0 | L40: 0 | M40: 0 | N40: 0 | O40: 0 | P40: 0 | Q40: 0 | R40: 0 | S40: 0 | T40: 0 | U40: 0 | V40: 0 | W40: 0 | X40: 0 | Y40: 0 | Z40: 0 | AA40: 0 | AB40: 217 | AC40: 175 | AD40: 4.2 | AE40: 0 | AF40: 0 | AG40: 0 | AH40: 0 | AI40: 0 | AJ40: 0 | AK40: 0 | AL40: 0 | AM40: 0 | AN40: 0 | AO40: 0 | AP40: 0 | AQ40: 0 | AR40: 0 | AS40: 0 | AT40: 4.2
A41: =IF(D41="","",SUBTOTAL(3,$D$12:D41)) -> 30 | B41: 1010031 | C41: Khoa Khoa học cơ bản | D41: Hà Như Mai | E41: 5 | F41: 0 | G41: 0 | H41: 0 | I41: 0 | J41: 0 | K41: 0 | L41: 0 | M41: 5 | N41: 6.15 | O41: 1.2 | P41: 0 | Q41: 0 | R41: 7.35 | S41: 256 | T41: 442 | U41: 150 | V41: 54.8 | W41: 0 | X41: 0 | Y41: 0 | Z41: 0 | AA41: 0 | AB41: 0 | AC41: 0 | AD41: 0 | AE41: 0 | AF41: 0 | AG41: 0 | AH41: 0 | AI41: 0 | AJ41: 0 | AK41: 0 | AL41: 0 | AM41: 0 | AN41: 0 | AO41: 0 | AP41: 0 | AQ41: 0 | AR41: 0 | AS41: 0 | AT41: 67.2
A42: =IF(D42="","",SUBTOTAL(3,$D$12:D42)) -> 31 | C42: Khoa Khoa học cơ bản | D42: Hà Thị Hường (TG) | E42: 0 | F42: 0 | G42: 0 | H42: 0 | I42: 0 | J42: 0 | K42: 0 | L42: 0 | M42: 0 | N42: 0 | O42: 0 | P42: 0 | Q42: 0 | R42: 0 | S42: 224 | T42: 224 | U42: 220 | V42: 22.8 | W42: 0 | X42: 0 | Y42: 0 | Z42: 0 | AA42: 0 | AB42: 0 | AC42: 0 | AD42: 0 | AE42: 0 | AF42: 0 | AG42: 0 | AH42: 0 | AI42: 0 | AJ42: 0 | AK42: 0 | AL42: 0 | AM42: 0 | AN42: 0 | AO42: 0 | AP42: 0 | AQ42: 0 | AR42: 0 | AS42: 0 | AT42: 22.8
A43: =IF(D43="","",SUBTOTAL(3,$D$12:D43)) -> 32 | C43: Khoa Khoa học cơ bản | D43: Hà Thị Thu Huyền (TG) | E43: 0 | F43: 0 | G43: 0 | H43: 0 | I43: 0 | J43: 0 | K43: 0 | L43: 0 | M43: 0 | N43: 0 | O43: 0 | P43: 0 | Q43: 0 | R43: 0 | S43: 0 | T43: 0 | U43: 0 | V43: 0 | W43: 0 | X43: 0 | Y43: 0 | Z43: 0 | AA43: 0 | AB43: 0 | AC43: 0 | AD43: 0 | AE43: 0 | AF43: 0 | AG43: 0 | AH43: 0 | AI43: 0 | AJ43: 0 | AK43: 0 | AL43: 0 | AM43: 0 | AN43: 0 | AO43: 0 | AP43: 0 | AQ43: 0 | AR43: 0 | AS43: 0 | AT43: 0
A44: =IF(D44="","",SUBTOTAL(3,$D$12:D44)) -> 33 | B44: 1010053 | C44: Khoa Khoa học cơ bản | D44: Hà Việt Hường (TG) | E44: 0 | F44: 0 | G44: 0 | H44: 0 | I44: 0 | J44: 0 | K44: 0 | L44: 0 | M44: 0 | N44: 0 | O44: 0 | P44: 0 | Q44: 0 | R44: 0 | S44: 0 | T44: 0 | U44: 0 | V44: 0 | W44: 0 | X44: 0 | Y44: 0 | Z44: 0 | AA44: 0 | AB44: 0 | AC44: 0 | AD44: 0 | AE44: 0 | AF44: 0 | AG44: 0 | AH44: 0 | AI44: 0 | AJ44: 0 | AK44: 0 | AL44: 0 | AM44: 0 | AN44: 0 | AO44: 0 | AP44: 0 | AQ44: 0 | AR44: 0 | AS44: 0 | AT44: 0
A45: =IF(D45="","",SUBTOTAL(3,$D$12:D45)) -> 34 | B45: 1010057 | C45: Khoa Khoa học cơ bản | D45: Hồ Khắc Khuyên (TG) | E45: 0 | F45: 0 | G45: 0 | H45: 0 | I45: 0 | J45: 0 | K45: 0 | L45: 0 | M45: 0 | N45: 0 | O45: 0 | P45: 0 | Q45: 0 | R45: 0 | S45: 286 | T45: 0 | U45: 246 | V45: 4 | W45: 0 | X45: 0 | Y45: 0 | Z45: 0 | AA45: 0 | AB45: 0 | AC45: 0 | AD45: 0 | AE45: 0 | AF45: 0 | AG45: 0 | AH45: 0 | AI45: 0 | AJ45: 0 | AK45: 0 | AL45: 0 | AM45: 0 | AN45: 0 | AO45: 0 | AP45: 0 | AQ45: 0 | AR45: 0 | AS45: 0 | AT45: 4
A46: =IF(D46="","",SUBTOTAL(3,$D$12:D46)) -> 35 | B46: 1010060 | C46: Khoa Khoa học cơ bản | D46: Hồ Minh Hùng (TG) | E46: 0 | F46: 0 | G46: 0 | H46: 0 | I46: 0 | J46: 0 | K46: 0 | L46: 0 | M46: 0 | N46: 0 | O46: 0 | P46: 0 | Q46: 0 | R46: 0 | S46: 0 | T46: 0 | U46: 0 | V46: 0 | W46: 0 | X46: 0 | Y46: 0 | Z46: 0 | AA46: 0 | AB46: 0 | AC46: 0 | AD46: 0 | AE46: 0 | AF46: 0 | AG46: 0 | AH46: 0 | AI46: 0 | AJ46: 0 | AK46: 0 | AL46: 0 | AM46: 0 | AN46: 0 | AO46: 0 | AP46: 0 | AQ46: 0 | AR46: 0 | AS46: 0 | AT46: 0
A47: =IF(D47="","",SUBTOTAL(3,$D$12:D47)) -> 36 | B47: 1010093 | C47: Khoa Khoa học cơ bản | D47: Hồ Thị Thanh Thương (TG) | E47: 2 | F47: 0 | G47: 0 | H47: 0 | I47: 0 | J47: 0 | K47: 0 | L47: 0 | M47: 2 | N47: 0 | O47: 0.6 | P47: 0 | Q47: 0 | R47: 0.6 | S47: 0 | T47: 0 | U47: 109 | V47: -10.9 | W47: 0 | X47: 0 | Y47: 0 | Z47: 0 | AA47: 0 | AB47: 0 | AC47: 0 | AD47: 0 | AE47: 0 | AF47: 0 | AG47: 0 | AH47: 0 | AI47: 0 | AJ47: 0 | AK47: 0 | AL47: 0 | AM47: 0 | AN47: 0 | AO47: 0 | AP47: 0 | AQ47: 0 | AR47: 0 | AS47: 0 | AT47: -8.3
A48: =IF(D48="","",SUBTOTAL(3,$D$12:D48)) -> 37 | C48: Khoa Khoa học cơ bản | D48: Hồ Thị Thu Hương (TG) | E48: 0 | F48: 0 | G48: 0 | H48: 0 | I48: 0 | J48: 0 | K48: 0 | L48: 0 | M48: 0 | N48: 0 | O48: 0 | P48: 0 | Q48: 0 | R48: 0 | S48: 74 | T48: 0 | U48: 96 | V48: -2.2 | W48: 0 | X48: 0 | Y48: 0 | Z48: 0 | AA48: 0 | AB48: 0 | AC48: 0 | AD48: 0 | AE48: 0 | AF48: 0 | AG48: 0 | AH48: 0 | AI48: 0 | AJ48: 0 | AK48: 0 | AL48: 0 | AM48: 0 | AN48: 0 | AO48: 0 | AP48: 0 | AQ48: 0 | AR48: 0 | AS48: 0 | AT48: -2.2
A49: =IF(D49="","",SUBTOTAL(3,$D$12:D49)) -> 38 | C49: Khoa Khoa học cơ bản | D49: Hồ Tô Như Ý (TG) | E49: 0 | F49: 0 | G49: 0 | H49: 0 | I49: 0 | J49: 0 | K49: 0 | L49: 0 | M49: 0 | N49: 0 | O49: 0 | P49: 0 | Q49: 0 | R49: 0 | S49: 185 | T49: 0 | U49: 133 | V49: 5.2 | W49: 0 | X49: 0 | Y49: 0 | Z49: 0 | AA49: 0 | AB49: 0 | AC49: 0 | AD49: 0 | AE49: 0 | AF49: 0 | AG49: 0 | AH49: 0 | AI49: 0 | AJ49: 0 | AK49: 0 | AL49: 0 | AM49: 0 | AN49: 0 | AO49: 0 | AP49: 0 | AQ49: 0 | AR49: 0 | AS49: 0 | AT49: 5.2
A50: =IF(D50="","",SUBTOTAL(3,$D$12:D50)) -> 39 | C50: Khoa Khoa học cơ bản | D50: Hứa Trọng Tín (TG) | E50: 0 | F50: 0 | G50: 0 | H50: 0 | I50: 0 | J50: 0 | K50: 0 | L50: 0 | M50: 0 | N50: 0 | O50: 0 | P50: 0 | Q50: 0 | R50: 0 | S50: 0 | T50: 0 | U50: 0 | V50: 0 | W50: 0 | X50: 0 | Y50: 0 | Z50: 0 | AA50: 0 | AB50: 0 | AC50: 0 | AD50: 0 | AE50: 0 | AF50: 0 | AG50: 0 | AH50: 0 | AI50: 0 | AJ50: 0 | AK50: 0 | AL50: 0 | AM50: 0 | AN50: 0 | AO50: 0 | AP50: 0 | AQ50: 0 | AR50: 0 | AS50: 0 | AT50: 0
A51: =IF(D51="","",SUBTOTAL(3,$D$12:D51)) -> 40 | B51: 1010055 | C51: Khoa Khoa học cơ bản | D51: Huỳnh Thị Bích (TG) | E51: 0 | F51: 0 | G51: 0 | H51: 0 | I51: 0 | J51: 0 | K51: 0 | L51: 0 | M51: 0 | N51: 0 | O51: 0 | P51: 0 | Q51: 0 | R51: 0 | S51: 0 | T51: 0 | U51: 0 | V51: 0 | W51: 0 | X51: 0 | Y51: 0 | Z51: 0 | AA51: 0 | AB51: 0 | AC51: 0 | AD51: 0 | AE51: 0 | AF51: 0 | AG51: 0 | AH51: 0 | AI51: 0 | AJ51: 0 | AK51: 0 | AL51: 0 | AM51: 0 | AN51: 0 | AO51: 0 | AP51: 0 | AQ51: 0 | AR51: 0 | AS51: 0 | AT51: 0
A52: =IF(D52="","",SUBTOTAL(3,$D$12:D52)) -> 41 | B52: 1010091 | C52: Khoa Khoa học cơ bản | D52: Huỳnh Thị Phương Kiều (TG) | E52: 0 | F52: 0 | G52: 0 | H52: 0 | I52: 0 | J52: 0 | K52: 0 | L52: 0 | M52: 0 | N52: 0 | O52: 0 | P52: 0 | Q52: 0 | R52: 0 | S52: 0 | T52: 0 | U52: 0 | V52: 0 | W52: 0 | X52: 0 | Y52: 0 | Z52: 0 | AA52: 0 | AB52: 0 | AC52: 0 | AD52: 0 | AE52: 0 | AF52: 0 | AG52: 0 | AH52: 0 | AI52: 0 | AJ52: 0 | AK52: 0 | AL52: 0 | AM52: 0 | AN52: 0 | AO52: 0 | AP52: 0 | AQ52: 0 | AR52: 0 | AS52: 0 | AT52: 0
A53: =IF(D53="","",SUBTOTAL(3,$D$12:D53)) -> 42 | B53: 1010090 | C53: Khoa Khoa học cơ bản | D53: Kiều Thị Thanh Hiếu (TG) | E53: 0 | F53: 0 | G53: 0 | H53: 0 | I53: 0 | J53: 0 | K53: 0 | L53: 0 | M53: 0 | N53: 0 | O53: 0 | P53: 0 | Q53: 0 | R53: 0 | S53: 0 | T53: 0 | U53: 0 | V53: 0 | W53: 0 | X53: 0 | Y53: 0 | Z53: 0 | AA53: 0 | AB53: 0 | AC53: 0 | AD53: 0 | AE53: 0 | AF53: 0 | AG53: 0 | AH53: 0 | AI53: 0 | AJ53: 0 | AK53: 0 | AL53: 0 | AM53: 0 | AN53: 0 | AO53: 0 | AP53: 0 | AQ53: 0 | AR53: 0 | AS53: 0 | AT53: 0
A54: =IF(D54="","",SUBTOTAL(3,$D$12:D54)) -> 43 | C54: Khoa Khoa học cơ bản | D54: La Thị Thảo My (TG) | E54: 4 | F54: 0 | G54: 0 | H54: 0 | I54: 0 | J54: 0 | K54: 0 | L54: 0 | M54: 4 | N54: 0 | O54: 0 | P54: 0 | Q54: 0 | R54: 0 | S54: 8 | T54: 0 | U54: 8 | V54: 0 | W54: 0 | X54: 0 | Y54: 0 | Z54: 0 | AA54: 0 | AB54: 0 | AC54: 0 | AD54: 0 | AE54: 0 | AF54: 0 | AG54: 0 | AH54: 0 | AI54: 0 | AJ54: 0 | AK54: 0 | AL54: 0 | AM54: 0 | AN54: 0 | AO54: 0 | AP54: 0 | AQ54: 0 | AR54: 0 | AS54: 0 | AT54: 4
A55: =IF(D55="","",SUBTOTAL(3,$D$12:D55)) -> 44 | C55: Khoa Khoa học cơ bản | D55: Lại Phát Tài (TG) | E55: 0 | F55: 0 | G55: 0 | H55: 0 | I55: 0 | J55: 0 | K55: 0 | L55: 0 | M55: 0 | N55: 0 | O55: 0 | P55: 0 | Q55: 0 | R55: 0 | S55: 0 | T55: 0 | U55: 0 | V55: 0 | W55: 0 | X55: 0 | Y55: 0 | Z55: 0 | AA55: 0 | AB55: 0 | AC55: 0 | AD55: 0 | AE55: 0 | AF55: 0 | AG55: 0 | AH55: 0 | AI55: 0 | AJ55: 0 | AK55: 0 | AL55: 0 | AM55: 0 | AN55: 0 | AO55: 0 | AP55: 0 | AQ55: 0 | AR55: 0 | AS55: 0 | AT55: 0
A56: =IF(D56="","",SUBTOTAL(3,$D$12:D56)) -> 45 | C56: Khoa Khoa học cơ bản | D56: Lâm Lệ Tâm (TG) | E56: 0 | F56: 0 | G56: 0 | H56: 0 | I56: 0 | J56: 0 | K56: 0 | L56: 0 | M56: 0 | N56: 0 | O56: 0 | P56: 0 | Q56: 0 | R56: 0 | S56: 75 | T56: 36 | U56: 101 | V56: 1 | W56: 0 | X56: 0 | Y56: 0 | Z56: 0 | AA56: 0 | AB56: 0 | AC56: 0 | AD56: 0 | AE56: 0 | AF56: 0 | AG56: 0 | AH56: 0 | AI56: 0 | AJ56: 0 | AK56: 0 | AL56: 0 | AM56: 0 | AN56: 0 | AO56: 0 | AP56: 0 | AQ56: 0 | AR56: 0 | AS56: 0 | AT56: 1
A57: =IF(D57="","",SUBTOTAL(3,$D$12:D57)) -> 46 | C57: Khoa Khoa học cơ bản | D57: Lê Gia Mẫn (TG) | E57: 2 | F57: 0 | G57: 0 | H57: 0 | I57: 0 | J57: 0 | K57: 0 | L57: 0 | M57: 2 | N57: 0 | O57: 0 | P57: 0 | Q57: 0 | R57: 0 | S57: 8 | T57: 0 | U57: 8 | V57: 0 | W57: 0 | X57: 0 | Y57: 0 | Z57: 0 | AA57: 0 | AB57: 0 | AC57: 0 | AD57: 0 | AE57: 0 | AF57: 0 | AG57: 0 | AH57: 0 | AI57: 0 | AJ57: 0 | AK57: 0 | AL57: 0 | AM57: 0 | AN57: 0 | AO57: 0 | AP57: 0 | AQ57: 0 | AR57: 0 | AS57: 0 | AT57: 2
A58: =IF(D58="","",SUBTOTAL(3,$D$12:D58)) -> 47 | B58: 1022048 | C58: Khoa Khoa học cơ bản | D58: Lê Minh Phong | E58: 4 | F58: 0 | G58: 0 | H58: 0 | I58: 0 | J58: 0 | K58: 0 | L58: 0 | M58: 4 | N58: 4.8 | O58: 2.4 | P58: 0 | Q58: 0 | R58: 7.2 | S58: 273 | T58: 510 | U58: 288 | V58: 49.5 | W58: 0 | X58: 0 | Y58: 0 | Z58: 0 | AA58: 0 | AB58: 0 | AC58: 0 | AD58: 0 | AE58: 0 | AF58: 0 | AG58: 0 | AH58: 0 | AI58: 0 | AJ58: 0 | AK58: 0 | AL58: 0 | AM58: 0 | AN58: 0 | AO58: 0 | AP58: 0 | AQ58: 0 | AR58: 0 | AS58: 2.7 | AT58: 63.4
A59: =IF(D59="","",SUBTOTAL(3,$D$12:D59)) -> 48 | C59: Khoa Khoa học cơ bản | D59: Lê Ngọc Trinh (TG) | E59: 0 | F59: 0 | G59: 0 | H59: 0 | I59: 0 | J59: 0 | K59: 0 | L59: 0 | M59: 0 | N59: 0 | O59: 0 | P59: 0 | Q59: 0 | R59: 0 | S59: 0 | T59: 0 | U59: 0 | V59: 0 | W59: 0 | X59: 0 | Y59: 0 | Z59: 0 | AA59: 0 | AB59: 0 | AC59: 0 | AD59: 0 | AE59: 0 | AF59: 0 | AG59: 0 | AH59: 0 | AI59: 0 | AJ59: 0 | AK59: 0 | AL59: 0 | AM59: 0 | AN59: 0 | AO59: 0 | AP59: 0 | AQ59: 0 | AR59: 0 | AS59: 0 | AT59: 0
A60: =IF(D60="","",SUBTOTAL(3,$D$12:D60)) -> 49 | C60: Khoa Khoa học cơ bản | D60: Lê Nhật Phong (TG) | E60: 0 | F60: 0 | G60: 0 | H60: 0 | I60: 0 | J60: 0 | K60: 0 | L60: 0 | M60: 0 | N60: 0 | O60: 0 | P60: 0 | Q60: 0 | R60: 0 | S60: 0 | T60: 113 | U60: 138 | V60: -2.5 | W60: 0 | X60: 0 | Y60: 0 | Z60: 0 | AA60: 0 | AB60: 0 | AC60: 0 | AD60: 0 | AE60: 0 | AF60: 0 | AG60: 0 | AH60: 0 | AI60: 0 | AJ60: 0 | AK60: 0 | AL60: 0 | AM60: 0 | AN60: 0 | AO60: 0 | AP60: 0 | AQ60: 0 | AR60: 0 | AS60: 0 | AT60: -2.5
A61: =IF(D61="","",SUBTOTAL(3,$D$12:D61)) -> 50 | C61: Khoa Khoa học cơ bản | D61: Lê Phạm Hữu Tâm (TG) | E61: 0 | F61: 0 | G61: 0 | H61: 0 | I61: 0 | J61: 0 | K61: 0 | L61: 0 | M61: 0 | N61: 0 | O61: 0 | P61: 0 | Q61: 0 | R61: 0 | S61: 0 | T61: 0 | U61: 0 | V61: 0 | W61: 0 | X61: 0 | Y61: 0 | Z61: 0 | AA61: 0 | AB61: 0 | AC61: 0 | AD61: 0 | AE61: 0 | AF61: 0 | AG61: 0 | AH61: 0 | AI61: 0 | AJ61: 0 | AK61: 0 | AL61: 0 | AM61: 0 | AN61: 0 | AO61: 0 | AP61: 0 | AQ61: 0 | AR61: 0 | AS61: 0 | AT61: 0
A62: =IF(D62="","",SUBTOTAL(3,$D$12:D62)) -> 51 | B62: 1022007 | C62: Khoa Khoa học cơ bản | D62: Lê Phương Ngọc | E62: 0 | F62: 0 | G62: 0 | H62: 0 | I62: 0 | J62: 0 | K62: 0 | L62: 0 | M62: 0 | N62: 0 | O62: 0 | P62: 0 | Q62: 0 | R62: 0 | S62: 0 | T62: 0 | U62: 0 | V62: 0 | W62: 0 | X62: 0 | Y62: 0 | Z62: 0 | AA62: 0 | AB62: 0 | AC62: 0 | AD62: 0 | AE62: 0 | AF62: 0 | AG62: 0 | AH62: 0 | AI62: 0 | AJ62: 0 | AK62: 0 | AL62: 0 | AM62: 0 | AN62: 0 | AO62: 0 | AP62: 0 | AQ62: 0 | AR62: 0 | AS62: 0 | AT62: 0
A63: =IF(D63="","",SUBTOTAL(3,$D$12:D63)) -> 52 | B63: 1010051 | C63: Khoa Khoa học cơ bản | D63: Lê Quang Vinh | E63: 0 | F63: 0 | G63: 0 | H63: 0 | I63: 0 | J63: 0 | K63: 0 | L63: 0 | M63: 0 | N63: 0 | O63: 0 | P63: 0 | Q63: 0 | R63: 0 | S63: 0 | T63: 0 | U63: 0 | V63: 0 | W63: 0 | X63: 0 | Y63: 0 | Z63: 0 | AA63: 0 | AB63: 0 | AC63: 0 | AD63: 0 | AE63: 0 | AF63: 0 | AG63: 0 | AH63: 0 | AI63: 0 | AJ63: 0 | AK63: 0 | AL63: 0 | AM63: 0 | AN63: 0 | AO63: 0 | AP63: 0 | AQ63: 0 | AR63: 0 | AS63: 0 | AT63: 0
A64: =IF(D64="","",SUBTOTAL(3,$D$12:D64)) -> 53 | B64: 1010021 | C64: Khoa Khoa học cơ bản | D64: Lê Thái Hùng | E64: 0 | F64: 0 | G64: 0 | H64: 0 | I64: 0 | J64: 0 | K64: 0 | L64: 0 | M64: 0 | N64: 0 | O64: 0 | P64: 0 | Q64: 0 | R64: 0 | S64: 0 | T64: 0 | U64: 0 | V64: 0 | W64: 0 | X64: 0 | Y64: 0 | Z64: 0 | AA64: 0 | AB64: 0 | AC64: 0 | AD64: 0 | AE64: 0 | AF64: 0 | AG64: 0 | AH64: 0 | AI64: 0 | AJ64: 0 | AK64: 0 | AL64: 0 | AM64: 0 | AN64: 0 | AO64: 0 | AP64: 0 | AQ64: 0 | AR64: 0 | AS64: 0 | AT64: 0
A65: =IF(D65="","",SUBTOTAL(3,$D$12:D65)) -> 54 | C65: Khoa Khoa học cơ bản | D65: Lê Thị Ban (TG) | E65: 1 | F65: 0 | G65: 0 | H65: 0 | I65: 0 | J65: 0 | K65: 0 | L65: 0 | M65: 1 | N65: 0 | O65: 0 | P65: 0 | Q65: 0 | R65: 0 | S65: 111 | T65: 174 | U65: 150 | V65: 13.5 | W65: 0 | X65: 0 | Y65: 0 | Z65: 0 | AA65: 0 | AB65: 0 | AC65: 0 | AD65: 0 | AE65: 0 | AF65: 0 | AG65: 0 | AH65: 0 | AI65: 0 | AJ65: 0 | AK65: 0 | AL65: 0 | AM65: 0 | AN65: 0 | AO65: 0 | AP65: 0 | AQ65: 0 | AR65: 0 | AS65: 0 | AT65: 14.5
A66: =IF(D66="","",SUBTOTAL(3,$D$12:D66)) -> 55 | B66: 1010082 | C66: Khoa Khoa học cơ bản | D66: Lê Thị Hồng Nhung (TG) | E66: 0 | F66: 0 | G66: 0 | H66: 0 | I66: 0 | J66: 0 | K66: 0 | L66: 0 | M66: 0 | N66: 0 | O66: 0 | P66: 0 | Q66: 0 | R66: 0 | S66: 0 | T66: 0 | U66: 0 | V66: 0 | W66: 0 | X66: 0 | Y66: 0 | Z66: 0 | AA66: 0 | AB66: 0 | AC66: 0 | AD66: 0 | AE66: 0 | AF66: 0 | AG66: 0 | AH66: 0 | AI66: 0 | AJ66: 0 | AK66: 0 | AL66: 0 | AM66: 0 | AN66: 0 | AO66: 0 | AP66: 0 | AQ66: 0 | AR66: 0 | AS66: 0 | AT66: 0
A67: =IF(D67="","",SUBTOTAL(3,$D$12:D67)) -> 56 | B67: 1010070 | C67: Khoa Khoa học cơ bản | D67: Lê Thị Hường (TG) | E67: 0 | F67: 0 | G67: 0 | H67: 0 | I67: 0 | J67: 0 | K67: 0 | L67: 0 | M67: 0 | N67: 0 | O67: 0 | P67: 0 | Q67: 0 | R67: 0 | S67: 0 | T67: 0 | U67: 0 | V67: 0 | W67: 0 | X67: 0 | Y67: 0 | Z67: 0 | AA67: 0 | AB67: 0 | AC67: 0 | AD67: 0 | AE67: 0 | AF67: 0 | AG67: 0 | AH67: 0 | AI67: 0 | AJ67: 0 | AK67: 0 | AL67: 0 | AM67: 0 | AN67: 0 | AO67: 0 | AP67: 0 | AQ67: 0 | AR67: 0 | AS67: 0 | AT67: 0
A68: =IF(D68="","",SUBTOTAL(3,$D$12:D68)) -> 57 | B68: 1010061 | C68: Khoa Khoa học cơ bản | D68: Lê Thị Mùi (TG) | E68: 4 | F68: 0 | G68: 0 | H68: 0 | I68: 0 | J68: 0 | K68: 0 | L68: 0 | M68: 4 | N68: 0 | O68: 0 | P68: 0 | Q68: 0 | R68: 0 | S68: 327 | T68: 262 | U68: 327 | V68: 26.2 | W68: 0 | X68: 0 | Y68: 0 | Z68: 0 | AA68: 0 | AB68: 0 | AC68: 0 | AD68: 0 | AE68: 0 | AF68: 0 | AG68: 0 | AH68: 0 | AI68: 0 | AJ68: 0 | AK68: 0 | AL68: 0 | AM68: 0 | AN68: 0 | AO68: 0 | AP68: 0 | AQ68: 0 | AR68: 0 | AS68: 0 | AT68: 30.2
A69: =IF(D69="","",SUBTOTAL(3,$D$12:D69)) -> 58 | B69: 1010109 | C69: Khoa Khoa học cơ bản | D69: Lê Thị Yến Nhung (TG) | E69: 0 | F69: 0 | G69: 0 | H69: 0 | I69: 0 | J69: 0 | K69: 0 | L69: 0 | M69: 0 | N69: 0 | O69: 0 | P69: 0 | Q69: 0 | R69: 0 | S69: 0 | T69: 0 | U69: 0 | V69: 0 | W69: 0 | X69: 0 | Y69: 0 | Z69: 0 | AA69: 0 | AB69: 0 | AC69: 0 | AD69: 0 | AE69: 0 | AF69: 0 | AG69: 0 | AH69: 0 | AI69: 0 | AJ69: 0 | AK69: 0 | AL69: 0 | AM69: 0 | AN69: 0 | AO69: 0 | AP69: 0 | AQ69: 0 | AR69: 0 | AS69: 0 | AT69: 0
A70: =IF(D70="","",SUBTOTAL(3,$D$12:D70)) -> 59 | B70: 1004012 | C70: Khoa Khoa học cơ bản | D70: Lê Văn Bình | E70: 6 | F70: 0 | G70: 0 | H70: 0 | I70: 0 | J70: 0 | K70: 0 | L70: 0 | M70: 6 | N70: 3.75 | O70: 1.2 | P70: 0 | Q70: 0 | R70: 4.95 | S70: 113 | T70: 410 | U70: 162 | V70: 36.1 | W70: 0 | X70: 0 | Y70: 0 | Z70: 0 | AA70: 0 | AB70: 0 | AC70: 0 | AD70: 0 | AE70: 0 | AF70: 0 | AG70: 0 | AH70: 0 | AI70: 0 | AJ70: 0 | AK70: 0 | AL70: 0 | AM70: 0 | AN70: 0 | AO70: 0 | AP70: 0 | AQ70: 0 | AR70: 0 | AS70: 3.9 | AT70: 51
A71: =IF(D71="","",SUBTOTAL(3,$D$12:D71)) -> 60 | C71: Khoa Khoa học cơ bản | D71: Lương Thị Chi (TG) | E71: 0 | F71: 0 | G71: 0 | H71: 0 | I71: 0 | J71: 0 | K71: 0 | L71: 0 | M71: 0 | N71: 0 | O71: 0 | P71: 0 | Q71: 0 | R71: 0 | S71: 0 | T71: 0 | U71: 0 | V71: 0 | W71: 0 | X71: 0 | Y71: 0 | Z71: 0 | AA71: 0 | AB71: 0 | AC71: 0 | AD71: 0 | AE71: 0 | AF71: 0 | AG71: 0 | AH71: 0 | AI71: 0 | AJ71: 0 | AK71: 0 | AL71: 0 | AM71: 0 | AN71: 0 | AO71: 0 | AP71: 0 | AQ71: 0 | AR71: 0 | AS71: 0 | AT71: 0
A72: =IF(D72="","",SUBTOTAL(3,$D$12:D72)) -> 61 | B72: 1010086 | C72: Khoa Khoa học cơ bản | D72: Lý Thục Trinh (TG) | E72: 0 | F72: 0 | G72: 0 | H72: 0 | I72: 0 | J72: 0 | K72: 0 | L72: 0 | M72: 0 | N72: 0 | O72: 0 | P72: 0 | Q72: 0 | R72: 0 | S72: 0 | T72: 0 | U72: 0 | V72: 0 | W72: 0 | X72: 0 | Y72: 0 | Z72: 0 | AA72: 0 | AB72: 0 | AC72: 0 | AD72: 0 | AE72: 0 | AF72: 0 | AG72: 0 | AH72: 0 | AI72: 0 | AJ72: 0 | AK72: 0 | AL72: 0 | AM72: 0 | AN72: 0 | AO72: 0 | AP72: 0 | AQ72: 0 | AR72: 0 | AS72: 0 | AT72: 0
A73: =IF(D73="","",SUBTOTAL(3,$D$12:D73)) -> 62 | B73: 1010089 | C73: Khoa Khoa học cơ bản | D73: Mai Võ Hoài Giang (TG) | E73: 1 | F73: 0 | G73: 0 | H73: 0 | I73: 0 | J73: 0 | K73: 0 | L73: 0 | M73: 1 | N73: 0 | O73: 0 | P73: 0 | Q73: 0 | R73: 0 | S73: 113 | T73: 145 | U73: 96 | V73: 16.2 | W73: 0 | X73: 0 | Y73: 0 | Z73: 0 | AA73: 0 | AB73: 0 | AC73: 0 | AD73: 0 | AE73: 0 | AF73: 0 | AG73: 0 | AH73: 0 | AI73: 0 | AJ73: 0 | AK73: 0 | AL73: 0 | AM73: 0 | AN73: 0 | AO73: 0 | AP73: 0 | AQ73: 0 | AR73: 0 | AS73: 0 | AT73: 17.2
A74: =IF(D74="","",SUBTOTAL(3,$D$12:D74)) -> 63 | B74: 1022005 | C74: Khoa Khoa học cơ bản | D74: Ngô Thanh Điền | E74: 0 | F74: 0 | G74: 0 | H74: 0 | I74: 0 | J74: 0 | K74: 0 | L74: 0 | M74: 0 | N74: 0 | O74: 0 | P74: 0 | Q74: 0 | R74: 0 | S74: 0 | T74: 0 | U74: 0 | V74: 0 | W74: 0 | X74: 0 | Y74: 0 | Z74: 0 | AA74: 0 | AB74: 0 | AC74: 0 | AD74: 0 | AE74: 0 | AF74: 0 | AG74: 0 | AH74: 0 | AI74: 0 | AJ74: 0 | AK74: 0 | AL74: 0 | AM74: 0 | AN74: 0 | AO74: 0 | AP74: 0 | AQ74: 0 | AR74: 0 | AS74: 0 | AT74: 0
A75: =IF(D75="","",SUBTOTAL(3,$D$12:D75)) -> 64 | C75: Khoa Khoa học cơ bản | D75: Ngô Thị Thanh Vân (TG) | E75: 0 | F75: 0 | G75: 0 | H75: 0 | I75: 0 | J75: 0 | K75: 0 | L75: 0 | M75: 0 | N75: 0 | O75: 0 | P75: 0 | Q75: 0 | R75: 0 | S75: 0 | T75: 0 | U75: 0 | V75: 0 | W75: 0 | X75: 0 | Y75: 0 | Z75: 0 | AA75: 0 | AB75: 0 | AC75: 0 | AD75: 0 | AE75: 0 | AF75: 0 | AG75: 0 | AH75: 0 | AI75: 0 | AJ75: 0 | AK75: 0 | AL75: 0 | AM75: 0 | AN75: 0 | AO75: 0 | AP75: 0 | AQ75: 0 | AR75: 0 | AS75: 0 | AT75: 0
A76: =IF(D76="","",SUBTOTAL(3,$D$12:D76)) -> 65 | C76: Khoa Khoa học cơ bản | D76: Ngô Thuận Dủ (TG) | E76: 2 | F76: 0 | G76: 0 | H76: 0 | I76: 0 | J76: 0 | K76: 0 | L76: 0 | M76: 2 | N76: 1.2 | O76: 0.6 | P76: 0 | Q76: 0 | R76: 1.8 | S76: 197 | T76: 35 | U76: 189 | V76: 4.3 | W76: 0 | X76: 0 | Y76: 0 | Z76: 0 | AA76: 0 | AB76: 0 | AC76: 0 | AD76: 0 | AE76: 0 | AF76: 0 | AG76: 0 | AH76: 0 | AI76: 0 | AJ76: 0 | AK76: 0 | AL76: 0 | AM76: 0 | AN76: 0 | AO76: 0 | AP76: 0 | AQ76: 0 | AR76: 0 | AS76: 0 | AT76: 8.1
A77: =IF(D77="","",SUBTOTAL(3,$D$12:D77)) -> 66 | B77: 1010067 | C77: Khoa Khoa học cơ bản | D77: Nguyễn Công Cường (TG) | E77: 0 | F77: 0 | G77: 0 | H77: 0 | I77: 0 | J77: 0 | K77: 0 | L77: 0 | M77: 0 | N77: 0 | O77: 0 | P77: 0 | Q77: 0 | R77: 0 | S77: 0 | T77: 0 | U77: 0 | V77: 0 | W77: 0 | X77: 0 | Y77: 0 | Z77: 0 | AA77: 0 | AB77: 0 | AC77: 0 | AD77: 0 | AE77: 0 | AF77: 0 | AG77: 0 | AH77: 0 | AI77: 0 | AJ77: 0 | AK77: 0 | AL77: 0 | AM77: 0 | AN77: 0 | AO77: 0 | AP77: 0 | AQ77: 0 | AR77: 0 | AS77: 0 | AT77: 0
A78: =IF(D78="","",SUBTOTAL(3,$D$12:D78)) -> 67 | C78: Khoa Khoa học cơ bản | D78: Nguyễn Đỗ Thành (TG) | E78: 4 | F78: 0 | G78: 0 | H78: 0 | I78: 0 | J78: 0 | K78: 0 | L78: 0 | M78: 4 | N78: 0 | O78: 0 | P78: 0 | Q78: 0 | R78: 0 | S78: 14 | T78: 0 | U78: 14 | V78: 0 | W78: 0 | X78: 0 | Y78: 0 | Z78: 0 | AA78: 0 | AB78: 0 | AC78: 0 | AD78: 0 | AE78: 0 | AF78: 0 | AG78: 0 | AH78: 0 | AI78: 0 | AJ78: 0 | AK78: 0 | AL78: 0 | AM78: 0 | AN78: 0 | AO78: 0 | AP78: 0 | AQ78: 0 | AR78: 0 | AS78: 0 | AT78: 4
A79: =IF(D79="","",SUBTOTAL(3,$D$12:D79)) -> 68 | B79: 1010003 | C79: Khoa Khoa học cơ bản | D79: Nguyễn Đức Thắng | E79: 0 | F79: 0 | G79: 0 | H79: 0 | I79: 0 | J79: 0 | K79: 0 | L79: 0 | M79: 0 | N79: 0 | O79: 0 | P79: 0 | Q79: 0 | R79: 0 | S79: 0 | T79: 0 | U79: 0 | V79: 0 | W79: 0 | X79: 0 | Y79: 0 | Z79: 0 | AA79: 0 | AB79: 0 | AC79: 0 | AD79: 0 | AE79: 0 | AF79: 0 | AG79: 0 | AH79: 0 | AI79: 0 | AJ79: 0 | AK79: 0 | AL79: 0 | AM79: 0 | AN79: 0 | AO79: 0 | AP79: 0 | AQ79: 0 | AR79: 0 | AS79: 0 | AT79: 0
A80: =IF(D80="","",SUBTOTAL(3,$D$12:D80)) -> 69 | B80: 1010094 | C80: Khoa Khoa học cơ bản | D80: Nguyễn Hoàng Tùng (TG) | E80: 0 | F80: 0 | G80: 0 | H80: 0 | I80: 0 | J80: 0 | K80: 0 | L80: 0 | M80: 0 | N80: 0 | O80: 0 | P80: 0 | Q80: 0 | R80: 0 | S80: 0 | T80: 0 | U80: 0 | V80: 0 | W80: 0 | X80: 0 | Y80: 0 | Z80: 0 | AA80: 0 | AB80: 0 | AC80: 0 | AD80: 0 | AE80: 0 | AF80: 0 | AG80: 0 | AH80: 0 | AI80: 0 | AJ80: 0 | AK80: 0 | AL80: 0 | AM80: 0 | AN80: 0 | AO80: 0 | AP80: 0 | AQ80: 0 | AR80: 0 | AS80: 0 | AT80: 0
A81: =IF(D81="","",SUBTOTAL(3,$D$12:D81)) -> 70 | B81: 1010025 | C81: Khoa Khoa học cơ bản | D81: Nguyễn Huỳnh Mai Hạnh (TG) | E81: 0 | F81: 0 | G81: 0 | H81: 0 | I81: 0 | J81: 0 | K81: 0 | L81: 0 | M81: 0 | N81: 0 | O81: 0 | P81: 0 | Q81: 0 | R81: 0 | S81: 0 | T81: 0 | U81: 0 | V81: 0 | W81: 0 | X81: 0 | Y81: 0 | Z81: 0 | AA81: 0 | AB81: 0 | AC81: 0 | AD81: 0 | AE81: 0 | AF81: 0 | AG81: 0 | AH81: 0 | AI81: 0 | AJ81: 0 | AK81: 0 | AL81: 0 | AM81: 0 | AN81: 0 | AO81: 0 | AP81: 0 | AQ81: 0 | AR81: 0 | AS81: 0 | AT81: 0
A82: =IF(D82="","",SUBTOTAL(3,$D$12:D82)) -> 71 | B82: 1010126 | C82: Khoa Khoa học cơ bản | D82: Nguyễn Huỳnh Như Thủy (TG) | E82: 0 | F82: 0 | G82: 0 | H82: 0 | I82: 0 | J82: 0 | K82: 0 | L82: 0 | M82: 0 | N82: 0 | O82: 0 | P82: 0 | Q82: 0 | R82: 0 | S82: 0 | T82: 0 | U82: 0 | V82: 0 | W82: 0 | X82: 0 | Y82: 0 | Z82: 0 | AA82: 0 | AB82: 0 | AC82: 0 | AD82: 0 | AE82: 0 | AF82: 0 | AG82: 0 | AH82: 0 | AI82: 0 | AJ82: 0 | AK82: 0 | AL82: 0 | AM82: 0 | AN82: 0 | AO82: 0 | AP82: 0 | AQ82: 0 | AR82: 0 | AS82: 0 | AT82: 0
A83: =IF(D83="","",SUBTOTAL(3,$D$12:D83)) -> 72 | B83: 1010130 | C83: Khoa Khoa học cơ bản | D83: Nguyễn Lê Thuận (TG) | E83: 0 | F83: 0 | G83: 0 | H83: 0 | I83: 0 | J83: 0 | K83: 0 | L83: 0 | M83: 0 | N83: 0 | O83: 0 | P83: 0 | Q83: 0 | R83: 0 | S83: 0 | T83: 0 | U83: 0 | V83: 0 | W83: 0 | X83: 0 | Y83: 0 | Z83: 0 | AA83: 0 | AB83: 0 | AC83: 0 | AD83: 0 | AE83: 0 | AF83: 0 | AG83: 0 | AH83: 0 | AI83: 0 | AJ83: 0 | AK83: 0 | AL83: 0 | AM83: 0 | AN83: 0 | AO83: 0 | AP83: 0 | AQ83: 0 | AR83: 0 | AS83: 0 | AT83: 0
A84: =IF(D84="","",SUBTOTAL(3,$D$12:D84)) -> 73 | B84: 1010073 | C84: Khoa Khoa học cơ bản | D84: Nguyễn Mai Chinh (TG) | E84: 0 | F84: 0 | G84: 0 | H84: 0 | I84: 0 | J84: 0 | K84: 0 | L84: 0 | M84: 0 | N84: 0 | O84: 0 | P84: 0 | Q84: 0 | R84: 0 | S84: 0 | T84: 0 | U84: 0 | V84: 0 | W84: 0 | X84: 0 | Y84: 0 | Z84: 0 | AA84: 0 | AB84: 0 | AC84: 0 | AD84: 0 | AE84: 0 | AF84: 0 | AG84: 0 | AH84: 0 | AI84: 0 | AJ84: 0 | AK84: 0 | AL84: 0 | AM84: 0 | AN84: 0 | AO84: 0 | AP84: 0 | AQ84: 0 | AR84: 0 | AS84: 0 | AT84: 0
A85: =IF(D85="","",SUBTOTAL(3,$D$12:D85)) -> 74 | B85: 1010032 | C85: Khoa Khoa học cơ bản | D85: Nguyễn Mạnh Phương | E85: 0 | F85: 0 | G85: 0 | H85: 0 | I85: 0 | J85: 0 | K85: 0 | L85: 0 | M85: 0 | N85: 0 | O85: 0 | P85: 0 | Q85: 0 | R85: 0 | S85: 0 | T85: 0 | U85: 0 | V85: 0 | W85: 0 | X85: 0 | Y85: 0 | Z85: 0 | AA85: 0 | AB85: 0 | AC85: 0 | AD85: 0 | AE85: 0 | AF85: 0 | AG85: 0 | AH85: 0 | AI85: 0 | AJ85: 0 | AK85: 0 | AL85: 0 | AM85: 0 | AN85: 0 | AO85: 0 | AP85: 0 | AQ85: 0 | AR85: 0 | AS85: 0 | AT85: 0
A86: =IF(D86="","",SUBTOTAL(3,$D$12:D86)) -> 75 | B86: 1010139 | C86: Khoa Khoa học cơ bản | D86: Nguyễn Ngô Anh Tuấn (TG) | E86: 0 | F86: 0 | G86: 0 | H86: 0 | I86: 0 | J86: 0 | K86: 0 | L86: 0 | M86: 0 | N86: 0 | O86: 0 | P86: 0 | Q86: 0 | R86: 0 | S86: 0 | T86: 0 | U86: 0 | V86: 0 | W86: 0 | X86: 0 | Y86: 0 | Z86: 0 | AA86: 0 | AB86: 0 | AC86: 0 | AD86: 0 | AE86: 0 | AF86: 0 | AG86: 0 | AH86: 0 | AI86: 0 | AJ86: 0 | AK86: 0 | AL86: 0 | AM86: 0 | AN86: 0 | AO86: 0 | AP86: 0 | AQ86: 0 | AR86: 0 | AS86: 0 | AT86: 0
A87: =IF(D87="","",SUBTOTAL(3,$D$12:D87)) -> 76 | B87: 1010080 | C87: Khoa Khoa học cơ bản | D87: Nguyễn Ngọc Chương (TG) | E87: 0 | F87: 0 | G87: 0 | H87: 0 | I87: 0 | J87: 0 | K87: 0 | L87: 0 | M87: 0 | N87: 0 | O87: 0 | P87: 0 | Q87: 0 | R87: 0 | S87: 0 | T87: 0 | U87: 0 | V87: 0 | W87: 0 | X87: 0 | Y87: 0 | Z87: 0 | AA87: 0 | AB87: 0 | AC87: 0 | AD87: 0 | AE87: 0 | AF87: 0 | AG87: 0 | AH87: 0 | AI87: 0 | AJ87: 0 | AK87: 0 | AL87: 0 | AM87: 0 | AN87: 0 | AO87: 0 | AP87: 0 | AQ87: 0 | AR87: 0 | AS87: 0 | AT87: 0
A88: =IF(D88="","",SUBTOTAL(3,$D$12:D88)) -> 77 | C88: Khoa Khoa học cơ bản | D88: Nguyễn Ngọc Trâm (TG) | E88: 0 | F88: 0 | G88: 0 | H88: 0 | I88: 0 | J88: 0 | K88: 0 | L88: 0 | M88: 0 | N88: 0 | O88: 0 | P88: 0 | Q88: 0 | R88: 0 | S88: 110 | T88: 0 | U88: 139 | V88: -2.9 | W88: 0 | X88: 0 | Y88: 0 | Z88: 0 | AA88: 0 | AB88: 0 | AC88: 0 | AD88: 0 | AE88: 0 | AF88: 0 | AG88: 0 | AH88: 0 | AI88: 0 | AJ88: 0 | AK88: 0 | AL88: 0 | AM88: 0 | AN88: 0 | AO88: 0 | AP88: 0 | AQ88: 0 | AR88: 0 | AS88: 0 | AT88: -2.9
A89: =IF(D89="","",SUBTOTAL(3,$D$12:D89)) -> 78 | B89: 1010066 | C89: Khoa Khoa học cơ bản | D89: Nguyễn Nhân Anh (TG) | E89: 0 | F89: 0 | G89: 0 | H89: 0 | I89: 0 | J89: 0 | K89: 0 | L89: 0 | M89: 0 | N89: 0 | O89: 0 | P89: 0 | Q89: 0 | R89: 0 | S89: 0 | T89: 0 | U89: 0 | V89: 0 | W89: 0 | X89: 0 | Y89: 0 | Z89: 0 | AA89: 0 | AB89: 0 | AC89: 0 | AD89: 0 | AE89: 0 | AF89: 0 | AG89: 0 | AH89: 0 | AI89: 0 | AJ89: 0 | AK89: 0 | AL89: 0 | AM89: 0 | AN89: 0 | AO89: 0 | AP89: 0 | AQ89: 0 | AR89: 0 | AS89: 0 | AT89: 0
A90: =IF(D90="","",SUBTOTAL(3,$D$12:D90)) -> 79 | C90: Khoa Khoa học cơ bản | D90: Nguyễn Phan Hoàng Hạc (TG) | E90: 0 | F90: 0 | G90: 0 | H90: 0 | I90: 0 | J90: 0 | K90: 0 | L90: 0 | M90: 0 | N90: 0 | O90: 0 | P90: 0 | Q90: 0 | R90: 0 | S90: 0 | T90: 0 | U90: 0 | V90: 0 | W90: 0 | X90: 0 | Y90: 0 | Z90: 0 | AA90: 0 | AB90: 0 | AC90: 0 | AD90: 0 | AE90: 0 | AF90: 0 | AG90: 0 | AH90: 0 | AI90: 0 | AJ90: 0 | AK90: 0 | AL90: 0 | AM90: 0 | AN90: 0 | AO90: 0 | AP90: 0 | AQ90: 0 | AR90: 0 | AS90: 0 | AT90: 0
A91: =IF(D91="","",SUBTOTAL(3,$D$12:D91)) -> 80 | B91: 1010079 | C91: Khoa Khoa học cơ bản | D91: Nguyễn Phú Cường (TG) | E91: 0 | F91: 0 | G91: 0 | H91: 0 | I91: 0 | J91: 0 | K91: 0 | L91: 0 | M91: 0 | N91: 0 | O91: 0 | P91: 0 | Q91: 0 | R91: 0 | S91: 0 | T91: 0 | U91: 0 | V91: 0 | W91: 0 | X91: 0 | Y91: 0 | Z91: 0 | AA91: 0 | AB91: 0 | AC91: 0 | AD91: 0 | AE91: 0 | AF91: 0 | AG91: 0 | AH91: 0 | AI91: 0 | AJ91: 0 | AK91: 0 | AL91: 0 | AM91: 0 | AN91: 0 | AO91: 0 | AP91: 0 | AQ91: 0 | AR91: 0 | AS91: 0 | AT91: 0
A92: =IF(D92="","",SUBTOTAL(3,$D$12:D92)) -> 81 | B92: 1010022 | C92: Khoa Khoa học cơ bản | D92: Nguyễn Phú Tân | E92: 0 | F92: 0 | G92: 0 | H92: 0 | I92: 0 | J92: 0 | K92: 0 | L92: 0 | M92: 0 | N92: 0 | O92: 0 | P92: 0 | Q92: 0 | R92: 0 | S92: 0 | T92: 0 | U92: 0 | V92: 0 | W92: 0 | X92: 0 | Y92: 0 | Z92: 0 | AA92: 0 | AB92: 0 | AC92: 0 | AD92: 0 | AE92: 0 | AF92: 0 | AG92: 0 | AH92: 0 | AI92: 0 | AJ92: 0 | AK92: 0 | AL92: 0 | AM92: 0 | AN92: 0 | AO92: 0 | AP92: 0 | AQ92: 0 | AR92: 0 | AS92: 0 | AT92: 0
A93: =IF(D93="","",SUBTOTAL(3,$D$12:D93)) -> 82 | B93: 1010023 | C93: Khoa Khoa học cơ bản | D93: Nguyễn Phương Hà | E93: 13 | F93: 0 | G93: 0 | H93: 0 | I93: 0 | J93: 0 | K93: 0 | L93: 0 | M93: 13 | N93: 9.9 | O93: 1.65 | P93: 0 | Q93: 0 | R93: 11.55 | S93: 741 | T93: 336 | U93: 377 | V93: 70 | W93: 0 | X93: 0 | Y93: 0 | Z93: 0 | AA93: 0 | AB93: 0 | AC93: 0 | AD93: 0 | AE93: 0 | AF93: 0 | AG93: 0 | AH93: 0 | AI93: 0 | AJ93: 0 | AK93: 0 | AL93: 0 | AM93: 0 | AN93: 0 | AO93: 0 | AP93: 0 | AQ93: 0 | AR93: 0 | AS93: 0.5 | AT93: 95.1
A94: =IF(D94="","",SUBTOTAL(3,$D$12:D94)) -> 83 | C94: Khoa Khoa học cơ bản | D94: Nguyễn Quang Diệu (TG) | E94: 0 | F94: 0 | G94: 0 | H94: 0 | I94: 0 | J94: 0 | K94: 0 | L94: 0 | M94: 0 | N94: 0 | O94: 0 | P94: 0 | Q94: 0 | R94: 0 | S94: 0 | T94: 0 | U94: 0 | V94: 0 | W94: 0 | X94: 0 | Y94: 0 | Z94: 0 | AA94: 0 | AB94: 0 | AC94: 0 | AD94: 0 | AE94: 0 | AF94: 0 | AG94: 0 | AH94: 0 | AI94: 0 | AJ94: 0 | AK94: 0 | AL94: 0 | AM94: 0 | AN94: 0 | AO94: 0 | AP94: 0 | AQ94: 0 | AR94: 0 | AS94: 0 | AT94: 0
A95: =IF(D95="","",SUBTOTAL(3,$D$12:D95)) -> 84 | C95: Khoa Khoa học cơ bản | D95: Nguyễn Quí Long (TG) | E95: 0 | F95: 0 | G95: 0 | H95: 0 | I95: 0 | J95: 0 | K95: 0 | L95: 0 | M95: 0 | N95: 0 | O95: 0 | P95: 0 | Q95: 0 | R95: 0 | S95: 0 | T95: 0 | U95: 0 | V95: 0 | W95: 0 | X95: 0 | Y95: 0 | Z95: 0 | AA95: 0 | AB95: 1374 | AC95: 871 | AD95: 50.3 | AE95: 0 | AF95: 0 | AG95: 0 | AH95: 0 | AI95: 0 | AJ95: 0 | AK95: 0 | AL95: 0 | AM95: 0 | AN95: 0 | AO95: 0 | AP95: 0 | AQ95: 0 | AR95: 0 | AS95: 0 | AT95: 50.3
A96: =IF(D96="","",SUBTOTAL(3,$D$12:D96)) -> 85 | B96: 1010008 | C96: Khoa Khoa học cơ bản | D96: Nguyễn Quỳnh Giao (TG) | E96: 0 | F96: 0 | G96: 0 | H96: 0 | I96: 0 | J96: 0 | K96: 0 | L96: 0 | M96: 0 | N96: 0 | O96: 0 | P96: 0 | Q96: 0 | R96: 0 | S96: 0 | T96: 0 | U96: 0 | V96: 0 | W96: 0 | X96: 0 | Y96: 0 | Z96: 0 | AA96: 0 | AB96: 0 | AC96: 0 | AD96: 0 | AE96: 0 | AF96: 0 | AG96: 0 | AH96: 0 | AI96: 0 | AJ96: 0 | AK96: 0 | AL96: 0 | AM96: 0 | AN96: 0 | AO96: 0 | AP96: 0 | AQ96: 0 | AR96: 0 | AS96: 0 | AT96: 0
A97: =IF(D97="","",SUBTOTAL(3,$D$12:D97)) -> 86 | B97: 1010077 | C97: Khoa Khoa học cơ bản | D97: Nguyễn Tấn Phát (TG) | E97: 0 | F97: 0 | G97: 0 | H97: 0 | I97: 0 | J97: 0 | K97: 0 | L97: 0 | M97: 0 | N97: 0 | O97: 0 | P97: 0 | Q97: 0 | R97: 0 | S97: 0 | T97: 0 | U97: 0 | V97: 0 | W97: 0 | X97: 0 | Y97: 0 | Z97: 0 | AA97: 0 | AB97: 0 | AC97: 0 | AD97: 0 | AE97: 0 | AF97: 0 | AG97: 0 | AH97: 0 | AI97: 0 | AJ97: 0 | AK97: 0 | AL97: 0 | AM97: 0 | AN97: 0 | AO97: 0 | AP97: 0 | AQ97: 0 | AR97: 0 | AS97: 0 | AT97: 0
A98: =IF(D98="","",SUBTOTAL(3,$D$12:D98)) -> 87 | B98: 1010012 | C98: Khoa Khoa học cơ bản | D98: Nguyễn Thanh Tú | E98: 2 | F98: 10 | G98: 0 | H98: 0 | I98: 0 | J98: 0 | K98: 0 | L98: 0 | M98: 17 | N98: 10.5 | O98: 6.75 | P98: 0 | Q98: 0 | R98: 17.25 | S98: 19 | T98: 0 | U98: 19 | V98: 0 | W98: 0 | X98: 0 | Y98: 0 | Z98: 0 | AA98: 0 | AB98: 0 | AC98: 0 | AD98: 0 | AE98: 0 | AF98: 0 | AG98: 0 | AH98: 0 | AI98: 0 | AJ98: 0 | AK98: 0 | AL98: 0 | AM98: 0 | AN98: 0 | AO98: 0 | AP98: 0 | AQ98: 0 | AR98: 0 | AS98: 1.7 | AT98: 36
A99: =IF(D99="","",SUBTOTAL(3,$D$12:D99)) -> 88 | C99: Khoa Khoa học cơ bản | D99: Nguyễn Thị Bảo Linh (TG) | E99: 0 | F99: 0 | G99: 0 | H99: 0 | I99: 0 | J99: 0 | K99: 0 | L99: 0 | M99: 0 | N99: 0 | O99: 0 | P99: 0 | Q99: 0 | R99: 0 | S99: 0 | T99: 0 | U99: 0 | V99: 0 | W99: 0 | X99: 0 | Y99: 0 | Z99: 0 | AA99: 0 | AB99: 0 | AC99: 0 | AD99: 0 | AE99: 0 | AF99: 0 | AG99: 0 | AH99: 0 | AI99: 0 | AJ99: 0 | AK99: 0 | AL99: 0 | AM99: 0 | AN99: 0 | AO99: 0 | AP99: 0 | AQ99: 0 | AR99: 0 | AS99: 0 | AT99: 0
A100: =IF(D100="","",SUBTOTAL(3,$D$12:D100)) -> 89 | B100: 1010078 | C100: Khoa Khoa học cơ bản | D100: Nguyễn Thị Bích Hồng (TG) | E100: 0 | F100: 0 | G100: 0 | H100: 0 | I100: 0 | J100: 0 | K100: 0 | L100: 0 | M100: 0 | N100: 0 | O100: 0 | P100: 0 | Q100: 0 | R100: 0 | S100: 0 | T100: 0 | U100: 0 | V100: 0 | W100: 0 | X100: 0 | Y100: 0 | Z100: 0 | AA100: 0 | AB100: 0 | AC100: 0 | AD100: 0 | AE100: 0 | AF100: 0 | AG100: 0 | AH100: 0 | AI100: 0 | AJ100: 0 | AK100: 0 | AL100: 0 | AM100: 0 | AN100: 0 | AO100: 0 | AP100: 0 | AQ100: 0 | AR100: 0 | AS100: 0 | AT100: 0
A101: =IF(D101="","",SUBTOTAL(3,$D$12:D101)) -> 90 | C101: Khoa Khoa học cơ bản | D101: Nguyễn Thị Bích Trâm (TG) | E101: 0 | F101: 0 | G101: 0 | H101: 0 | I101: 0 | J101: 0 | K101: 0 | L101: 0 | M101: 0 | N101: 0 | O101: 0 | P101: 0 | Q101: 0 | R101: 0 | S101: 0 | T101: 0 | U101: 0 | V101: 0 | W101: 0 | X101: 0 | Y101: 0 | Z101: 0 | AA101: 0 | AB101: 0 | AC101: 0 | AD101: 0 | AE101: 0 | AF101: 0 | AG101: 0 | AH101: 0 | AI101: 0 | AJ101: 0 | AK101: 0 | AL101: 0 | AM101: 0 | AN101: 0 | AO101: 0 | AP101: 0 | AQ101: 0 | AR101: 0 | AS101: 0 | AT101: 0
A102: =IF(D102="","",SUBTOTAL(3,$D$12:D102)) -> 91 | B102: 1010122 | C102: Khoa Khoa học cơ bản | D102: Nguyễn Thị Cẩm Loan (TG) | E102: 0 | F102: 0 | G102: 0 | H102: 0 | I102: 0 | J102: 0 | K102: 0 | L102: 0 | M102: 0 | N102: 0 | O102: 0 | P102: 0 | Q102: 0 | R102: 0 | S102: 0 | T102: 0 | U102: 0 | V102: 0 | W102: 0 | X102: 0 | Y102: 0 | Z102: 0 | AA102: 0 | AB102: 0 | AC102: 0 | AD102: 0 | AE102: 0 | AF102: 0 | AG102: 0 | AH102: 0 | AI102: 0 | AJ102: 0 | AK102: 0 | AL102: 0 | AM102: 0 | AN102: 0 | AO102: 0 | AP102: 0 | AQ102: 0 | AR102: 0 | AS102: 0 | AT102: 0
A103: =IF(D103="","",SUBTOTAL(3,$D$12:D103)) -> 92 | B103: 1010016 | C103: Khoa Khoa học cơ bản | D103: Nguyễn Thị Cẩm Thạch | E103: 0 | F103: 0 | G103: 0 | H103: 0 | I103: 0 | J103: 0 | K103: 0 | L103: 0 | M103: 0 | N103: 0 | O103: 5.1 | P103: 0 | Q103: 0 | R103: 5.1 | S103: 149 | T103: 185 | U103: 218 | V103: 11.6 | W103: 0 | X103: 0 | Y103: 0 | Z103: 0 | AA103: 0 | AB103: 0 | AC103: 0 | AD103: 0 | AE103: 0 | AF103: 0 | AG103: 0 | AH103: 0 | AI103: 0 | AJ103: 0 | AK103: 0 | AL103: 0 | AM103: 0 | AN103: 0 | AO103: 0 | AP103: 0 | AQ103: 0 | AR103: 0 | AS103: 0.6 | AT103: 17.3
...

Sheet HKI 22-23
A1: UỶ BAN NHÂN DÂN THÀNH PHỐ HỒ CHÍ MINH | AL1: CỘNG HOÀ XÃ HỘI CHỦ NGHĨA VIỆT NAM
A2: TRƯỜNG CAO ĐẲNG LÝ TỰ TRỌNG TP. HỒ CHÍ MINH | AL2: Độc lập - Tự do - Hạnh phúc
A4: KHỐI LƯỢNG CÔNG TÁC COI - CHẤM THI HỌC KÌ 1 NĂM HỌC 2022 - 2023 - KHOA KHOA HỌC CƠ BẢN
E7: 2 | F7: 3 | G7: 4 | H7: 5 | I7: 6 | J7: 7 | K7: 8 | L7: 9 | M7: 10 | N7: 11 | O7: 12 | P7: 13 | Q7: 14 | R7: 15 | S7: 16 | T7: 17 | U7: 18 | V7: 19 | W7: 20 | X7: 21 | Y7: 22 | Z7: 23 | AA7: 24 | AB7: 25 | AC7: 26 | AD7: 27 | AE7: 28 | AF7: 29 | AG7: 30 | AH7: 31 | AI7: 32 | AJ7: 33 | AK7: 34 | AL7: 35 | AM7: 36 | AN7: 37 | AO7: 38 | AP7: 39 | AQ7: 40 | AR7: 41 | AS7: 42 | AT7: 43
E8: =SUBTOTAL(9,E12:E205) -> 57 | F8: =SUBTOTAL(9,F10:F205) -> 32 | G8: =SUBTOTAL(9,G10:G205) -> 0 | H8: =SUBTOTAL(9,H10:H205) -> 0 | I8: =SUBTOTAL(9,I10:I205) -> 0 | J8: =SUBTOTAL(9,J10:J205) -> 0 | K8: =SUBTOTAL(9,K10:K205) -> 0 | L8: =SUBTOTAL(9,L10:L205) -> 0 | M8: =SUBTOTAL(9,M10:M205) -> 105 | ... AT8: =SUBTOTAL(9,AT10:AT205) -> 1196.1
A9: STT | B9: Mã nhân sự | C9: Đơn vị | D9: HỌ VÀ TÊN GIẢNG VIÊN | E9: ĐỀ THI | N9: COI THI | S9: CHẤM THI KTHP | AI9: CHẤM THI TỐT NGHIỆP | AR9: DỰ PHÒNG KỲ THI | AS9: GIÁM SÁT | AT9: TỔNG KHỐI LƯỢNG | AU9: =SUBTOTAL(9,AT:AT) -> 1239.1
S10: LÝ THUYẾT (TV+TN) | W10: VẤN ĐÁP | AA10: TIỂU LUẬN | AE10: THỰC HÀNH | AI10: LÝ THUYẾT (TV+TN) | AL10: VẤN ĐÁP | AO10: THỰC HÀNH
E11: SL ĐỀ LT KTHP | F11: SL ĐỀ TN KTHP | G11: SL ĐỀ VĐ KTHP | H11: SL ĐỀ TH KTHP | I11: SL ĐỀ LT ThiTN | J11: SL ĐỀ TN ThiTN | K11: SL ĐỀ VĐ ThiTN | L11: SL ĐỀ TH ThiTN | M11: KL SOẠN ĐỀ (tiết) | N11: COITHI 2 KTHP | O11: COITHI 1 KTHP | P11: COITHI 1 Thi TN | Q11: COITHI 2 Thi TN | R11: KL COITHI (tiết) | S11: SL CHẤM LT 1 | T11: SL CHẤM LT 2 | U11: SL CHẤM NV | V11: KL CHẤM LT (tiết) | W11: SL CHẤM TL 1 | X11: SL CHẤM TL 2 | Y11: SL CHẤM NV | Z11: KL CHẤM TL (tiết) | AA11: SL CHẤM TL 1 | AB11: SL CHẤM TL 2 | AC11: SL CHẤM NV | AD11: KL CHẤM TL (tiết) | AE11: SL CHẤM TL 1 | AF11: SL CHẤM TL 2 | AG11: SL CHẤM NV | AH11: KL CHẤM TL (tiết) | AI11: SL BÀI LT CHẤM 1 | AJ11: SL BÀI LT CHẤM 2 | AK11: KL CHẤM LT (tiết) | AL11: SL BÀI VĐ CHẤM 1 | AM11: SL BÀI VĐ CHẤM 2 | AN11: KL CHẤM VĐ (tiết) | AO11: SL BÀI TL CHẤM 1 | AP11: SL BÀI TL CHẤM 2 | AQ11: KL CHẤM TL (tiết)
A12: =IF(D12="","",SUBTOTAL(3,$D$12:D12)) -> 1 | B12: 1010092 | C12: Khoa Khoa học cơ bản | D12: Bạch Văn Gân (TG) | E12: 0 | F12: 0 | G12: 0 | H12: 0 | I12: 0 | J12: 0 | K12: 0 | L12: 0 | M12: 0 | N12: 0 | O12: 0 | P12: 0 | Q12: 0 | R12: 0 | S12: 0 | T12: 0 | U12: 0 | V12: 0 | W12: 0 | X12: 0 | Y12: 0 | Z12: 0 | AA12: 0 | AB12: 0 | AC12: 0 | AD12: 0 | AE12: 0 | AF12: 0 | AG12: 0 | AH12: 0 | AI12: 0 | AJ12: 0 | AK12: 0 | AL12: 0 | AM12: 0 | AN12: 0 | AO12: 0 | AP12: 0 | AQ12: 0 | AR12: 0 | AS12: 0 | AT12: 0
A13: =IF(D13="","",SUBTOTAL(3,$D$12:D13)) -> 2 | B13: 1010074 | C13: Khoa Khoa học cơ bản | D13: Bùi Bảo Trung (TG) | E13: 0 | F13: 0 | G13: 0 | H13: 0 | I13: 0 | J13: 0 | K13: 0 | L13: 0 | M13: 0 | N13: 0 | O13: 0 | P13: 0 | Q13: 0 | R13: 0 | S13: 0 | T13: 0 | U13: 0 | V13: 0 | W13: 0 | X13: 0 | Y13: 0 | Z13: 0 | AA13: 0 | AB13: 0 | AC13: 0 | AD13: 0 | AE13: 0 | AF13: 0 | AG13: 0 | AH13: 0 | AI13: 0 | AJ13: 0 | AK13: 0 | AL13: 0 | AM13: 0 | AN13: 0 | AO13: 0 | AP13: 0 | AQ13: 0 | AR13: 0 | AS13: 0 | AT13: 0
A14: =IF(D14="","",SUBTOTAL(3,$D$12:D14)) -> 3 | B14: 1010132 | C14: Khoa Khoa học cơ bản | D14: Bùi Đình Trường (TG) | E14: 6 | F14: 0 | G14: 0 | H14: 0 | I14: 0 | J14: 0 | K14: 0 | L14: 0 | M14: 6 | N14: 0 | O14: 0 | P14: 0 | Q14: 0 | R14: 0 | S14: 494 | T14: 109 | U14: 210 | V14: 39.3 | W14: 0 | X14: 0 | Y14: 0 | Z14: 0 | AA14: 0 | AB14: 0 | AC14: 0 | AD14: 0 | AE14: 0 | AF14: 0 | AG14: 0 | AH14: 0 | AI14: 0 | AJ14: 0 | AK14: 0 | AL14: 0 | AM14: 0 | AN14: 0 | AO14: 0 | AP14: 0 | AQ14: 0 | AR14: 0 | AS14: 0 | AT14: 45.3
A15: =IF(D15="","",SUBTOTAL(3,$D$12:D15)) -> 4 | C15: Khoa Khoa học cơ bản | D15: Bùi Lâm Trúc Quỳnh (TG) | E15: 0 | F15: 0 | G15: 0 | H15: 0 | I15: 0 | J15: 0 | K15: 0 | L15: 0 | M15: 0 | N15: 0 | O15: 0 | P15: 0 | Q15: 0 | R15: 0 | S15: 0 | T15: 0 | U15: 116 | V15: -11.6 | W15: 0 | X15: 0 | Y15: 0 | Z15: 0 | AA15: 0 | AB15: 0 | AC15: 0 | AD15: 0 | AE15: 0 | AF15: 0 | AG15: 0 | AH15: 0 | AI15: 0 | AJ15: 0 | AK15: 0 | AL15: 0 | AM15: 0 | AN15: 0 | AO15: 0 | AP15: 0 | AQ15: 0 | AR15: 0 | AS15: 0 | AT15: -11.6
A16: =IF(D16="","",SUBTOTAL(3,$D$12:D16)) -> 5 | B16: 1010121 | C16: Khoa Khoa học cơ bản | D16: Bùi Thị Hợp (TG) | E16: 0 | F16: 0 | G16: 0 | H16: 0 | I16: 0 | J16: 0 | K16: 0 | L16: 0 | M16: 0 | N16: 0 | O16: 0 | P16: 0 | Q16: 0 | R16: 0 | S16: 216 | T16: 272 | U16: 0 | V16: 48.8 | W16: 0 | X16: 0 | Y16: 0 | Z16: 0 | AA16: 0 | AB16: 0 | AC16: 0 | AD16: 0 | AE16: 0 | AF16: 0 | AG16: 0 | AH16: 0 | AI16: 0 | AJ16: 0 | AK16: 0 | AL16: 0 | AM16: 0 | AN16: 0 | AO16: 0 | AP16: 0 | AQ16: 0 | AR16: 0 | AS16: 0 | AT16: 48.8
A17: =IF(D17="","",SUBTOTAL(3,$D$12:D17)) -> 6 | B17: 1010083 | C17: Khoa Khoa học cơ bản | D17: Bùi Thị Ngọc Tuyền (TG) | E17: 0 | F17: 0 | G17: 0 | H17: 0 | I17: 0 | J17: 0 | K17: 0 | L17: 0 | M17: 0 | N17: 0 | O17: 0 | P17: 0 | Q17: 0 | R17: 0 | S17: 0 | T17: 0 | U17: 0 | V17: 0 | W17: 0 | X17: 0 | Y17: 0 | Z17: 0 | AA17: 0 | AB17: 0 | AC17: 0 | AD17: 0 | AE17: 0 | AF17: 0 | AG17: 0 | AH17: 0 | AI17: 0 | AJ17: 0 | AK17: 0 | AL17: 0 | AM17: 0 | AN17: 0 | AO17: 0 | AP17: 0 | AQ17: 0 | AR17: 0 | AS17: 0 | AT17: 0
A18: =IF(D18="","",SUBTOTAL(3,$D$12:D18)) -> 7 | B18: 1010050 | C18: Khoa Khoa học cơ bản | D18: Bùi Thị Tú Uyên | E18: 0 | F18: 0 | G18: 0 | H18: 0 | I18: 0 | J18: 0 | K18: 0 | L18: 0 | M18: 0 | N18: 0 | O18: 0 | P18: 0 | Q18: 0 | R18: 0 | S18: 0 | T18: 0 | U18: 0 | V18: 0 | W18: 0 | X18: 0 | Y18: 0 | Z18: 0 | AA18: 0 | AB18: 0 | AC18: 0 | AD18: 0 | AE18: 0 | AF18: 0 | AG18: 0 | AH18: 0 | AI18: 0 | AJ18: 0 | AK18: 0 | AL18: 0 | AM18: 0 | AN18: 0 | AO18: 0 | AP18: 0 | AQ18: 0 | AR18: 0 | AS18: 0 | AT18: 0
A19: =IF(D19="","",SUBTOTAL(3,$D$12:D19)) -> 8 | B19: 1010075 | C19: Khoa Khoa học cơ bản | D19: Bùi Văn Mạnh (TG) | E19: 0 | F19: 0 | G19: 0 | H19: 0 | I19: 0 | J19: 0 | K19: 0 | L19: 0 | M19: 0 | N19: 0 | O19: 0 | P19: 0 | Q19: 0 | R19: 0 | S19: 0 | T19: 0 | U19: 0 | V19: 0 | W19: 0 | X19: 0 | Y19: 0 | Z19: 0 | AA19: 0 | AB19: 0 | AC19: 0 | AD19: 0 | AE19: 0 | AF19: 0 | AG19: 0 | AH19: 0 | AI19: 0 | AJ19: 0 | AK19: 0 | AL19: 0 | AM19: 0 | AN19: 0 | AO19: 0 | AP19: 0 | AQ19: 0 | AR19: 0 | AS19: 0 | AT19: 0
A20: =IF(D20="","",SUBTOTAL(3,$D$12:D20)) -> 9 | B20: 1010071 | C20: Khoa Khoa học cơ bản | D20: Bùi Văn Phương (TG) | E20: 0 | F20: 0 | G20: 0 | H20: 0 | I20: 0 | J20: 0 | K20: 0 | L20: 0 | M20: 0 | N20: 0 | O20: 0 | P20: 0 | Q20: 0 | R20: 0 | S20: 0 | T20: 0 | U20: 0 | V20: 0 | W20: 0 | X20: 0 | Y20: 0 | Z20: 0 | AA20: 0 | AB20: 0 | AC20: 0 | AD20: 0 | AE20: 0 | AF20: 0 | AG20: 0 | AH20: 0 | AI20: 0 | AJ20: 0 | AK20: 0 | AL20: 0 | AM20: 0 | AN20: 0 | AO20: 0 | AP20: 0 | AQ20: 0 | AR20: 0 | AS20: 0 | AT20: 0
A21: =IF(D21="","",SUBTOTAL(3,$D$12:D21)) -> 10 | B21: 1010036 | C21: Khoa Khoa học cơ bản | D21: Cao Đình Trung Hậu | E21: 0 | F21: 0 | G21: 0 | H21: 0 | I21: 0 | J21: 0 | K21: 0 | L21: 0 | M21: 0 | N21: 0 | O21: 0 | P21: 0 | Q21: 0 | R21: 0 | S21: 0 | T21: 0 | U21: 0 | V21: 0 | W21: 0 | X21: 0 | Y21: 0 | Z21: 0 | AA21: 0 | AB21: 0 | AC21: 0 | AD21: 0 | AE21: 0 | AF21: 0 | AG21: 0 | AH21: 0 | AI21: 0 | AJ21: 0 | AK21: 0 | AL21: 0 | AM21: 0 | AN21: 0 | AO21: 0 | AP21: 0 | AQ21: 0 | AR21: 0 | AS21: 0 | AT21: 0
A22: =IF(D22="","",SUBTOTAL(3,$D$12:D22)) -> 11 | C22: Khoa Khoa học cơ bản | D22: Cao Thế Nhật (TG) | E22: 0 | F22: 0 | G22: 0 | H22: 0 | I22: 0 | J22: 0 | K22: 0 | L22: 0 | M22: 0 | N22: 0 | O22: 0 | P22: 0 | Q22: 0 | R22: 0 | S22: 11 | T22: 0 | U22: 11 | V22: 0 | W22: 0 | X22: 0 | Y22: 0 | Z22: 0 | AA22: 0 | AB22: 0 | AC22: 0 | AD22: 0 | AE22: 0 | AF22: 0 | AG22: 0 | AH22: 0 | AI22: 0 | AJ22: 0 | AK22: 0 | AL22: 0 | AM22: 0 | AN22: 0 | AO22: 0 | AP22: 0 | AQ22: 0 | AR22: 0 | AS22: 0 | AT22: 0
A23: =IF(D23="","",SUBTOTAL(3,$D$12:D23)) -> 12 | C23: Khoa Khoa học cơ bản | D23: Châu Quốc Cường (TG) | E23: 0 | F23: 0 | G23: 0 | H23: 0 | I23: 0 | J23: 0 | K23: 0 | L23: 0 | M23: 0 | N23: 0 | O23: 0 | P23: 0 | Q23: 0 | R23: 0 | S23: 111 | T23: 72 | U23: 170 | V23: 1.3 | W23: 0 | X23: 0 | Y23: 0 | Z23: 0 | AA23: 0 | AB23: 0 | AC23: 0 | AD23: 0 | AE23: 0 | AF23: 0 | AG23: 0 | AH23: 0 | AI23: 0 | AJ23: 0 | AK23: 0 | AL23: 0 | AM23: 0 | AN23: 0 | AO23: 0 | AP23: 0 | AQ23: 0 | AR23: 0 | AS23: 0 | AT23: 1.3
A24: =IF(D24="","",SUBTOTAL(3,$D$12:D24)) -> 13 | C24: Khoa Khoa học cơ bản | D24: Chiêm Thanh Quốc Anh (TG) | E24: 0 | F24: 0 | G24: 0 | H24: 0 | I24: 0 | J24: 0 | K24: 0 | L24: 0 | M24: 0 | N24: 0 | O24: 0 | P24: 0 | Q24: 0 | R24: 0 | S24: 0 | T24: 0 | U24: 0 | V24: 0 | W24: 0 | X24: 0 | Y24: 0 | Z24: 0 | AA24: 0 | AB24: 0 | AC24: 0 | AD24: 0 | AE24: 0 | AF24: 0 | AG24: 0 | AH24: 0 | AI24: 0 | AJ24: 0 | AK24: 0 | AL24: 0 | AM24: 0 | AN24: 0 | AO24: 0 | AP24: 0 | AQ24: 0 | AR24: 0 | AS24: 0 | AT24: 0
A25: =IF(D25="","",SUBTOTAL(3,$D$12:D25)) -> 14 | C25: Khoa Khoa học cơ bản | D25: Đặng Đoàn Cẩm Tú (TG) | E25: 0 | F25: 0 | G25: 0 | H25: 0 | I25: 0 | J25: 0 | K25: 0 | L25: 0 | M25: 0 | N25: 0 | O25: 0 | P25: 0 | Q25: 0 | R25: 0 | S25: 0 | T25: 0 | U25: 0 | V25: 0 | W25: 0 | X25: 0 | Y25: 0 | Z25: 0 | AA25: 0 | AB25: 0 | AC25: 0 | AD25: 0 | AE25: 0 | AF25: 0 | AG25: 0 | AH25: 0 | AI25: 0 | AJ25: 0 | AK25: 0 | AL25: 0 | AM25: 0 | AN25: 0 | AO25: 0 | AP25: 0 | AQ25: 0 | AR25: 0 | AS25: 0 | AT25: 0
A26: =IF(D26="","",SUBTOTAL(3,$D$12:D26)) -> 15 | B26: 1010072 | C26: Khoa Khoa học cơ bản | D26: Đặng Duy Đồng (TG) | E26: 0 | F26: 0 | G26: 0 | H26: 0 | I26: 0 | J26: 0 | K26: 0 | L26: 0 | M26: 0 | N26: 0 | O26: 0 | P26: 0 | Q26: 0 | R26: 0 | S26: 0 | T26: 0 | U26: 0 | V26: 0 | W26: 0 | X26: 0 | Y26: 0 | Z26: 0 | AA26: 0 | AB26: 0 | AC26: 0 | AD26: 0 | AE26: 0 | AF26: 0 | AG26: 0 | AH26: 0 | AI26: 0 | AJ26: 0 | AK26: 0 | AL26: 0 | AM26: 0 | AN26: 0 | AO26: 0 | AP26: 0 | AQ26: 0 | AR26: 0 | AS26: 0 | AT26: 0
A27: =IF(D27="","",SUBTOTAL(3,$D$12:D27)) -> 16 | C27: Khoa Khoa học cơ bản | D27: Đặng Thị Giàu (TG) | E27: 0 | F27: 0 | G27: 0 | H27: 0 | I27: 0 | J27: 0 | K27: 0 | L27: 0 | M27: 0 | N27: 0 | O27: 0 | P27: 0 | Q27: 0 | R27: 0 | S27: 0 | T27: 0 | U27: 0 | V27: 0 | W27: 0 | X27: 0 | Y27: 0 | Z27: 0 | AA27: 0 | AB27: 0 | AC27: 0 | AD27: 0 | AE27: 0 | AF27: 0 | AG27: 0 | AH27: 0 | AI27: 0 | AJ27: 0 | AK27: 0 | AL27: 0 | AM27: 0 | AN27: 0 | AO27: 0 | AP27: 0 | AQ27: 0 | AR27: 0 | AS27: 0 | AT27: 0
A28: =IF(D28="","",SUBTOTAL(3,$D$12:D28)) -> 17 | C28: Khoa Khoa học cơ bản | D28: Đặng Thị Hiên (TG) | E28: 0 | F28: 0 | G28: 0 | H28: 0 | I28: 0 | J28: 0 | K28: 0 | L28: 0 | M28: 0 | N28: 0 | O28: 0 | P28: 0 | Q28: 0 | R28: 0 | S28: 0 | T28: 0 | U28: 0 | V28: 0 | W28: 0 | X28: 0 | Y28: 0 | Z28: 0 | AA28: 0 | AB28: 0 | AC28: 0 | AD28: 0 | AE28: 0 | AF28: 0 | AG28: 0 | AH28: 0 | AI28: 0 | AJ28: 0 | AK28: 0 | AL28: 0 | AM28: 0 | AN28: 0 | AO28: 0 | AP28: 0 | AQ28: 0 | AR28: 0 | AS28: 0 | AT28: 0
A29: =IF(D29="","",SUBTOTAL(3,$D$12:D29)) -> 18 | B29: 1010024 | C29: Khoa Khoa học cơ bản | D29: Đặng Thị Kiến Trúc | E29: 0 | F29: 0 | G29: 0 | H29: 0 | I29: 0 | J29: 0 | K29: 0 | L29: 0 | M29: 0 | N29: 3.6 | O29: 3.3 | P29: 0 | Q29: 0 | R29: 6.9 | S29: 0 | T29: 0 | U29: 0 | V29: 0 | W29: 0 | X29: 0 | Y29: 0 | Z29: 0 | AA29: 0 | AB29: 0 | AC29: 0 | AD29: 0 | AE29: 0 | AF29: 0 | AG29: 0 | AH29: 0 | AI29: 0 | AJ29: 0 | AK29: 0 | AL29: 0 | AM29: 0 | AN29: 0 | AO29: 0 | AP29: 0 | AQ29: 0 | AR29: 0 | AS29: 0 | AT29: 6.9
A30: =IF(D30="","",SUBTOTAL(3,$D$12:D30)) -> 19 | C30: Khoa Khoa học cơ bản | D30: Đặng Thừa Ân (TG) | E30: 0 | F30: 0 | G30: 0 | H30: 0 | I30: 0 | J30: 0 | K30: 0 | L30: 0 | M30: 0 | N30: 0 | O30: 0 | P30: 0 | Q30: 0 | R30: 0 | S30: 0 | T30: 0 | U30: 0 | V30: 0 | W30: 0 | X30: 0 | Y30: 0 | Z30: 0 | AA30: 0 | AB30: 0 | AC30: 0 | AD30: 0 | AE30: 0 | AF30: 0 | AG30: 0 | AH30: 0 | AI30: 0 | AJ30: 0 | AK30: 0 | AL30: 0 | AM30: 0 | AN30: 0 | AO30: 0 | AP30: 0 | AQ30: 0 | AR30: 0 | AS30: 0 | AT30: 0
A31: =IF(D31="","",SUBTOTAL(3,$D$12:D31)) -> 20 | C31: Khoa Khoa học cơ bản | D31: Đào Thị Kim Hương (TG) | E31: 0 | F31: 0 | G31: 0 | H31: 0 | I31: 0 | J31: 0 | K31: 0 | L31: 0 | M31: 0 | N31: 0 | O31: 0 | P31: 0 | Q31: 0 | R31: 0 | S31: 0 | T31: 0 | U31: 0 | V31: 0 | W31: 0 | X31: 0 | Y31: 0 | Z31: 0 | AA31: 0 | AB31: 0 | AC31: 0 | AD31: 0 | AE31: 0 | AF31: 0 | AG31: 0 | AH31: 0 | AI31: 0 | AJ31: 0 | AK31: 0 | AL31: 0 | AM31: 0 | AN31: 0 | AO31: 0 | AP31: 0 | AQ31: 0 | AR31: 0 | AS31: 0 | AT31: 0
A32: =IF(D32="","",SUBTOTAL(3,$D$12:D32)) -> 21 | C32: Khoa Khoa học cơ bản | D32: Đào Thị Ngọc Yến (TG) | E32: 0 | F32: 0 | G32: 0 | H32: 0 | I32: 0 | J32: 0 | K32: 0 | L32: 0 | M32: 0 | N32: 0 | O32: 0 | P32: 0 | Q32: 0 | R32: 0 | S32: 0 | T32: 0 | U32: 0 | V32: 0 | W32: 0 | X32: 0 | Y32: 0 | Z32: 0 | AA32: 0 | AB32: 0 | AC32: 0 | AD32: 0 | AE32: 0 | AF32: 0 | AG32: 0 | AH32: 0 | AI32: 0 | AJ32: 0 | AK32: 0 | AL32: 0 | AM32: 0 | AN32: 0 | AO32: 0 | AP32: 0 | AQ32: 0 | AR32: 0 | AS32: 0 | AT32: 0
A33: =IF(D33="","",SUBTOTAL(3,$D$12:D33)) -> 22 | B33: 1010056 | C33: Khoa Khoa học cơ bản | D33: Đinh Thị Thắng (TG) | E33: 0 | F33: 0 | G33: 0 | H33: 0 | I33: 0 | J33: 0 | K33: 0 | L33: 0 | M33: 0 | N33: 0 | O33: 0 | P33: 0 | Q33: 0 | R33: 0 | S33: 0 | T33: 0 | U33: 0 | V33: 0 | W33: 0 | X33: 0 | Y33: 0 | Z33: 0 | AA33: 0 | AB33: 0 | AC33: 0 | AD33: 0 | AE33: 0 | AF33: 0 | AG33: 0 | AH33: 0 | AI33: 0 | AJ33: 0 | AK33: 0 | AL33: 0 | AM33: 0 | AN33: 0 | AO33: 0 | AP33: 0 | AQ33: 0 | AR33: 0 | AS33: 0 | AT33: 0
A34: =IF(D34="","",SUBTOTAL(3,$D$12:D34)) -> 23 | B34: 1010076 | C34: Khoa Khoa học cơ bản | D34: Đinh Văn Quyên (TG) | E34: 0 | F34: 0 | G34: 0 | H34: 0 | I34: 0 | J34: 0 | K34: 0 | L34: 0 | M34: 0 | N34: 0 | O34: 0 | P34: 0 | Q34: 0 | R34: 0 | S34: 0 | T34: 0 | U34: 0 | V34: 0 | W34: 0 | X34: 0 | Y34: 0 | Z34: 0 | AA34: 0 | AB34: 0 | AC34: 0 | AD34: 0 | AE34: 0 | AF34: 0 | AG34: 0 | AH34: 0 | AI34: 0 | AJ34: 0 | AK34: 0 | AL34: 0 | AM34: 0 | AN34: 0 | AO34: 0 | AP34: 0 | AQ34: 0 | AR34: 0 | AS34: 0 | AT34: 0
A35: =IF(D35="","",SUBTOTAL(3,$D$12:D35)) -> 24 | B35: 1010049 | C35: Khoa Khoa học cơ bản | D35: Đoàn Thị Điểm (TG) | E35: 0 | F35: 0 | G35: 0 | H35: 0 | I35: 0 | J35: 0 | K35: 0 | L35: 0 | M35: 0 | N35: 0 | O35: 0 | P35: 0 | Q35: 0 | R35: 0 | S35: 0 | T35: 0 | U35: 0 | V35: 0 | W35: 0 | X35: 0 | Y35: 0 | Z35: 0 | AA35: 0 | AB35: 0 | AC35: 0 | AD35: 0 | AE35: 0 | AF35: 0 | AG35: 0 | AH35: 0 | AI35: 0 | AJ35: 0 | AK35: 0 | AL35: 0 | AM35: 0 | AN35: 0 | AO35: 0 | AP35: 0 | AQ35: 0 | AR35: 0 | AS35: 0 | AT35: 0
A36: =IF(D36="","",SUBTOTAL(3,$D$12:D36)) -> 25 | B36: 1010063 | C36: Khoa Khoa học cơ bản | D36: Đồng Văn Đẹp (TG) | E36: 0 | F36: 0 | G36: 0 | H36: 0 | I36: 0 | J36: 0 | K36: 0 | L36: 0 | M36: 0 | N36: 0 | O36: 0 | P36: 0 | Q36: 0 | R36: 0 | S36: 0 | T36: 0 | U36: 0 | V36: 0 | W36: 0 | X36: 0 | Y36: 0 | Z36: 0 | AA36: 0 | AB36: 0 | AC36: 0 | AD36: 0 | AE36: 0 | AF36: 0 | AG36: 0 | AH36: 0 | AI36: 0 | AJ36: 0 | AK36: 0 | AL36: 0 | AM36: 0 | AN36: 0 | AO36: 0 | AP36: 0 | AQ36: 0 | AR36: 0 | AS36: 0 | AT36: 0
A37: =IF(D37="","",SUBTOTAL(3,$D$12:D37)) -> 26 | B37: 1010037 | C37: Khoa Khoa học cơ bản | D37: Dương Đức Kiên | E37: 2 | F37: 0 | G37: 0 | H37: 0 | I37: 0 | J37: 0 | K37: 0 | L37: 0 | M37: 2 | N37: 4.8 | O37: 1.5 | P37: 0 | Q37: 0 | R37: 6.3 | S37: 402 | T37: 380 | U37: 232 | V37: 55 | W37: 0 | X37: 0 | Y37: 0 | Z37: 0 | AA37: 0 | AB37: 0 | AC37: 0 | AD37: 0 | AE37: 0 | AF37: 0 | AG37: 0 | AH37: 0 | AI37: 0 | AJ37: 0 | AK37: 0 | AL37: 0 | AM37: 0 | AN37: 0 | AO37: 0 | AP37: 0 | AQ37: 0 | AR37: 0 | AS37: 4.8 | AT37: 68.1
A38: =IF(D38="","",SUBTOTAL(3,$D$12:D38)) -> 27 | B38: 1010085 | C38: Khoa Khoa học cơ bản | D38: Dương Lê Kỳ Quang (TG) | E38: 0 | F38: 0 | G38: 0 | H38: 0 | I38: 0 | J38: 0 | K38: 0 | L38: 0 | M38: 0 | N38: 0 | O38: 0 | P38: 0 | Q38: 0 | R38: 0 | S38: 0 | T38: 0 | U38: 0 | V38: 0 | W38: 0 | X38: 0 | Y38: 0 | Z38: 0 | AA38: 0 | AB38: 0 | AC38: 0 | AD38: 0 | AE38: 0 | AF38: 0 | AG38: 0 | AH38: 0 | AI38: 0 | AJ38: 0 | AK38: 0 | AL38: 0 | AM38: 0 | AN38: 0 | AO38: 0 | AP38: 0 | AQ38: 0 | AR38: 0 | AS38: 0 | AT38: 0
A39: =IF(D39="","",SUBTOTAL(3,$D$12:D39)) -> 28 | B39: 1010030 | C39: Khoa Khoa học cơ bản | D39: Giang Phi Hùng | E39: 0 | F39: 0 | G39: 0 | H39: 0 | I39: 0 | J39: 0 | K39: 0 | L39: 0 | M39: 0 | N39: 0 | O39: 0 | P39: 0 | Q39: 0 | R39: 0 | S39: 0 | T39: 0 | U39: 0 | V39: 0 | W39: 0 | X39: 0 | Y39: 0 | Z39: 0 | AA39: 2657 | AB39: 0 | AC39: 934 | AD39: 172.3 | AE39: 0 | AF39: 0 | AG39: 0 | AH39: 0 | AI39: 0 | AJ39: 0 | AK39: 0 | AL39: 0 | AM39: 0 | AN39: 0 | AO39: 0 | AP39: 0 | AQ39: 0 | AR39: 0 | AS39: 0 | AT39: 172.3
A40: =IF(D40="","",SUBTOTAL(3,$D$12:D40)) -> 29 | C40: Khoa Khoa học cơ bản | D40: Hà Đông Cảnh (TG) | E40: 0 | F40: 0 | G40: 0 | H40: 0 | I40: 0 | J40: 0 | K40: 0 | L40: 0 | M40: 0 | N40: 0 | O40: 0 | P40: 0 | Q40: 0 | R40: 0 | S40: 0 | T40: 0 | U40: 0 | V40: 0 | W40: 0 | X40: 0 | Y40: 0 | Z40: 0 | AA40: 0 | AB40: 527 | AC40: 745 | AD40: -21.8 | AE40: 0 | AF40: 0 | AG40: 0 | AH40: 0 | AI40: 0 | AJ40: 0 | AK40: 0 | AL40: 0 | AM40: 0 | AN40: 0 | AO40: 0 | AP40: 0 | AQ40: 0 | AR40: 0 | AS40: 0 | AT40: -21.8
A41: =IF(D41="","",SUBTOTAL(3,$D$12:D41)) -> 30 | B41: 1010031 | C41: Khoa Khoa học cơ bản | D41: Hà Như Mai | E41: 0 | F41: 0 | G41: 0 | H41: 0 | I41: 0 | J41: 0 | K41: 0 | L41: 0 | M41: 0 | N41: 6.6 | O41: 1.95 | P41: 0 | Q41: 0 | R41: 8.55 | S41: 333 | T41: 440 | U41: 218 | V41: 55.5 | W41: 0 | X41: 0 | Y41: 0 | Z41: 0 | AA41: 0 | AB41: 0 | AC41: 0 | AD41: 0 | AE41: 0 | AF41: 0 | AG41: 0 | AH41: 0 | AI41: 0 | AJ41: 0 | AK41: 0 | AL41: 0 | AM41: 0 | AN41: 0 | AO41: 0 | AP41: 0 | AQ41: 0 | AR41: 0 | AS41: 1.8 | AT41: 65.9
A42: =IF(D42="","",SUBTOTAL(3,$D$12:D42)) -> 31 | C42: Khoa Khoa học cơ bản | D42: Hà Thị Hường (TG) | E42: 1 | F42: 0 | G42: 0 | H42: 0 | I42: 0 | J42: 0 | K42: 0 | L42: 0 | M42: 1 | N42: 0 | O42: 0 | P42: 0 | Q42: 0 | R42: 0 | S42: 0 | T42: 183 | U42: 100 | V42: 8.3 | W42: 0 | X42: 0 | Y42: 0 | Z42: 0 | AA42: 0 | AB42: 0 | AC42: 0 | AD42: 0 | AE42: 0 | AF42: 0 | AG42: 0 | AH42: 0 | AI42: 0 | AJ42: 0 | AK42: 0 | AL42: 0 | AM42: 0 | AN42: 0 | AO42: 0 | AP42: 0 | AQ42: 0 | AR42: 0 | AS42: 0 | AT42: 9.3
A43: =IF(D43="","",SUBTOTAL(3,$D$12:D43)) -> 32 | C43: Khoa Khoa học cơ bản | D43: Hà Thị Thu Huyền (TG) | E43: 0 | F43: 0 | G43: 0 | H43: 0 | I43: 0 | J43: 0 | K43: 0 | L43: 0 | M43: 0 | N43: 0 | O43: 0 | P43: 0 | Q43: 0 | R43: 0 | S43: 0 | T43: 0 | U43: 0 | V43: 0 | W43: 0 | X43: 0 | Y43: 0 | Z43: 0 | AA43: 0 | AB43: 0 | AC43: 0 | AD43: 0 | AE43: 0 | AF43: 0 | AG43: 0 | AH43: 0 | AI43: 0 | AJ43: 0 | AK43: 0 | AL43: 0 | AM43: 0 | AN43: 0 | AO43: 0 | AP43: 0 | AQ43: 0 | AR43: 0 | AS43: 0 | AT43: 0
A44: =IF(D44="","",SUBTOTAL(3,$D$12:D44)) -> 33 | B44: 1010053 | C44: Khoa Khoa học cơ bản | D44: Hà Việt Hường (TG) | E44: 0 | F44: 0 | G44: 0 | H44: 0 | I44: 0 | J44: 0 | K44: 0 | L44: 0 | M44: 0 | N44: 0 | O44: 0 | P44: 0 | Q44: 0 | R44: 0 | S44: 108 | T44: 76 | U44: 151 | V44: 3.3 | W44: 0 | X44: 0 | Y44: 0 | Z44: 0 | AA44: 0 | AB44: 0 | AC44: 0 | AD44: 0 | AE44: 0 | AF44: 0 | AG44: 0 | AH44: 0 | AI44: 0 | AJ44: 0 | AK44: 0 | AL44: 0 | AM44: 0 | AN44: 0 | AO44: 0 | AP44: 0 | AQ44: 0 | AR44: 0 | AS44: 0 | AT44: 3.3
A45: =IF(D45="","",SUBTOTAL(3,$D$12:D45)) -> 34 | B45: 1010057 | C45: Khoa Khoa học cơ bản | D45: Hồ Khắc Khuyên (TG) | E45: 0 | F45: 0 | G45: 0 | H45: 0 | I45: 0 | J45: 0 | K45: 0 | L45: 0 | M45: 0 | N45: 0 | O45: 0 | P45: 0 | Q45: 0 | R45: 0 | S45: 109 | T45: 101 | U45: 137 | V45: 7.3 | W45: 0 | X45: 0 | Y45: 0 | Z45: 0 | AA45: 0 | AB45: 0 | AC45: 0 | AD45: 0 | AE45: 0 | AF45: 0 | AG45: 0 | AH45: 0 | AI45: 0 | AJ45: 0 | AK45: 0 | AL45: 0 | AM45: 0 | AN45: 0 | AO45: 0 | AP45: 0 | AQ45: 0 | AR45: 0 | AS45: 0 | AT45: 7.3
A46: =IF(D46="","",SUBTOTAL(3,$D$12:D46)) -> 35 | B46: 1010060 | C46: Khoa Khoa học cơ bản | D46: Hồ Minh Hùng (TG) | E46: 0 | F46: 0 | G46: 0 | H46: 0 | I46: 0 | J46: 0 | K46: 0 | L46: 0 | M46: 0 | N46: 0 | O46: 0 | P46: 0 | Q46: 0 | R46: 0 | S46: 0 | T46: 0 | U46: 0 | V46: 0 | W46: 0 | X46: 0 | Y46: 0 | Z46: 0 | AA46: 0 | AB46: 0 | AC46: 0 | AD46: 0 | AE46: 0 | AF46: 0 | AG46: 0 | AH46: 0 | AI46: 0 | AJ46: 0 | AK46: 0 | AL46: 0 | AM46: 0 | AN46: 0 | AO46: 0 | AP46: 0 | AQ46: 0 | AR46: 0 | AS46: 0 | AT46: 0
A47: =IF(D47="","",SUBTOTAL(3,$D$12:D47)) -> 36 | B47: 1010093 | C47: Khoa Khoa học cơ bản | D47: Hồ Thị Thanh Thương (TG) | E47: 0 | F47: 0 | G47: 0 | H47: 0 | I47: 0 | J47: 0 | K47: 0 | L47: 0 | M47: 0 | N47: 0 | O47: 0 | P47: 0 | Q47: 0 | R47: 0 | S47: 0 | T47: 0 | U47: 0 | V47: 0 | W47: 0 | X47: 0 | Y47: 0 | Z47: 0 | AA47: 0 | AB47: 0 | AC47: 0 | AD47: 0 | AE47: 0 | AF47: 0 | AG47: 0 | AH47: 0 | AI47: 0 | AJ47: 0 | AK47: 0 | AL47: 0 | AM47: 0 | AN47: 0 | AO47: 0 | AP47: 0 | AQ47: 0 | AR47: 0 | AS47: 0 | AT47: 0
A48: =IF(D48="","",SUBTOTAL(3,$D$12:D48)) -> 37 | C48: Khoa Khoa học cơ bản | D48: Hồ Thị Thu Hương (TG) | E48: 0 | F48: 0 | G48: 0 | H48: 0 | I48: 0 | J48: 0 | K48: 0 | L48: 0 | M48: 0 | N48: 0 | O48: 0 | P48: 0 | Q48: 0 | R48: 0 | S48: 47 | T48: 74 | U48: 127 | V48: -0.6 | W48: 0 | X48: 0 | Y48: 0 | Z48: 0 | AA48: 0 | AB48: 0 | AC48: 0 | AD48: 0 | AE48: 0 | AF48: 0 | AG48: 0 | AH48: 0 | AI48: 0 | AJ48: 0 | AK48: 0 | AL48: 0 | AM48: 0 | AN48: 0 | AO48: 0 | AP48: 0 | AQ48: 0 | AR48: 0 | AS48: 0 | AT48: -0.6
A49: =IF(D49="","",SUBTOTAL(3,$D$12:D49)) -> 38 | C49: Khoa Khoa học cơ bản | D49: Hồ Tô Như Ý (TG) | E49: 0 | F49: 0 | G49: 0 | H49: 0 | I49: 0 | J49: 0 | K49: 0 | L49: 0 | M49: 0 | N49: 0 | O49: 0 | P49: 0 | Q49: 0 | R49: 0 | S49: 85 | T49: 0 | U49: 63 | V49: 2.2 | W49: 0 | X49: 0 | Y49: 0 | Z49: 0 | AA49: 0 | AB49: 0 | AC49: 0 | AD49: 0 | AE49: 0 | AF49: 0 | AG49: 0 | AH49: 0 | AI49: 0 | AJ49: 0 | AK49: 0 | AL49: 0 | AM49: 0 | AN49: 0 | AO49: 0 | AP49: 0 | AQ49: 0 | AR49: 0 | AS49: 0 | AT49: 2.2
A50: =IF(D50="","",SUBTOTAL(3,$D$12:D50)) -> 39 | C50: Khoa Khoa học cơ bản | D50: Hứa Trọng Tín (TG) | E50: 0 | F50: 0 | G50: 0 | H50: 0 | I50: 0 | J50: 0 | K50: 0 | L50: 0 | M50: 0 | N50: 0 | O50: 0 | P50: 0 | Q50: 0 | R50: 0 | S50: 0 | T50: 0 | U50: 0 | V50: 0 | W50: 0 | X50: 0 | Y50: 0 | Z50: 0 | AA50: 0 | AB50: 0 | AC50: 0 | AD50: 0 | AE50: 0 | AF50: 0 | AG50: 0 | AH50: 0 | AI50: 0 | AJ50: 0 | AK50: 0 | AL50: 0 | AM50: 0 | AN50: 0 | AO50: 0 | AP50: 0 | AQ50: 0 | AR50: 0 | AS50: 0 | AT50: 0
A51: =IF(D51="","",SUBTOTAL(3,$D$12:D51)) -> 40 | B51: 1010055 | C51: Khoa Khoa học cơ bản | D51: Huỳnh Thị Bích (TG) | E51: 0 | F51: 0 | G51: 0 | H51: 0 | I51: 0 | J51: 0 | K51: 0 | L51: 0 | M51: 0 | N51: 0 | O51: 0 | P51: 0 | Q51: 0 | R51: 0 | S51: 0 | T51: 0 | U51: 0 | V51: 0 | W51: 0 | X51: 0 | Y51: 0 | Z51: 0 | AA51: 0 | AB51: 0 | AC51: 0 | AD51: 0 | AE51: 0 | AF51: 0 | AG51: 0 | AH51: 0 | AI51: 0 | AJ51: 0 | AK51: 0 | AL51: 0 | AM51: 0 | AN51: 0 | AO51: 0 | AP51: 0 | AQ51: 0 | AR51: 0 | AS51: 0 | AT51: 0
A52: =IF(D52="","",SUBTOTAL(3,$D$12:D52)) -> 41 | B52: 1010091 | C52: Khoa Khoa học cơ bản | D52: Huỳnh Thị Phương Kiều (TG) | E52: 0 | F52: 0 | G52: 0 | H52: 0 | I52: 0 | J52: 0 | K52: 0 | L52: 0 | M52: 0 | N52: 0 | O52: 0 | P52: 0 | Q52: 0 | R52: 0 | S52: 0 | T52: 0 | U52: 0 | V52: 0 | W52: 0 | X52: 0 | Y52: 0 | Z52: 0 | AA52: 0 | AB52: 0 | AC52: 0 | AD52: 0 | AE52: 0 | AF52: 0 | AG52: 0 | AH52: 0 | AI52: 0 | AJ52: 0 | AK52: 0 | AL52: 0 | AM52: 0 | AN52: 0 | AO52: 0 | AP52: 0 | AQ52: 0 | AR52: 0 | AS52: 0 | AT52: 0
A53: =IF(D53="","",SUBTOTAL(3,$D$12:D53)) -> 42 | B53: 1010090 | C53: Khoa Khoa học cơ bản | D53: Kiều Thị Thanh Hiếu (TG) | E53: 0 | F53: 0 | G53: 0 | H53: 0 | I53: 0 | J53: 0 | K53: 0 | L53: 0 | M53: 0 | N53: 0 | O53: 0 | P53: 0 | Q53: 0 | R53: 0 | S53: 0 | T53: 0 | U53: 0 | V53: 0 | W53: 0 | X53: 0 | Y53: 0 | Z53: 0 | AA53: 0 | AB53: 0 | AC53: 0 | AD53: 0 | AE53: 0 | AF53: 0 | AG53: 0 | AH53: 0 | AI53: 0 | AJ53: 0 | AK53: 0 | AL53: 0 | AM53: 0 | AN53: 0 | AO53: 0 | AP53: 0 | AQ53: 0 | AR53: 0 | AS53: 0 | AT53: 0
A54: =IF(D54="","",SUBTOTAL(3,$D$12:D54)) -> 43 | C54: Khoa Khoa học cơ bản | D54: La Thị Thảo My (TG) | E54: 0 | F54: 0 | G54: 0 | H54: 0 | I54: 0 | J54: 0 | K54: 0 | L54: 0 | M54: 0 | N54: 0 | O54: 0 | P54: 0 | Q54: 0 | R54: 0 | S54: 0 | T54: 0 | U54: 0 | V54: 0 | W54: 0 | X54: 0 | Y54: 0 | Z54: 0 | AA54: 0 | AB54: 0 | AC54: 0 | AD54: 0 | AE54: 0 | AF54: 0 | AG54: 0 | AH54: 0 | AI54: 0 | AJ54: 0 | AK54: 0 | AL54: 0 | AM54: 0 | AN54: 0 | AO54: 0 | AP54: 0 | AQ54: 0 | AR54: 0 | AS54: 0 | AT54: 0
A55: =IF(D55="","",SUBTOTAL(3,$D$12:D55)) -> 44 | C55: Khoa Khoa học cơ bản | D55: Lại Phát Tài (TG) | E55: 0 | F55: 0 | G55: 0 | H55: 0 | I55: 0 | J55: 0 | K55: 0 | L55: 0 | M55: 0 | N55: 0 | O55: 0 | P55: 0 | Q55: 0 | R55: 0 | S55: 0 | T55: 0 | U55: 0 | V55: 0 | W55: 0 | X55: 0 | Y55: 0 | Z55: 0 | AA55: 0 | AB55: 0 | AC55: 0 | AD55: 0 | AE55: 0 | AF55: 0 | AG55: 0 | AH55: 0 | AI55: 0 | AJ55: 0 | AK55: 0 | AL55: 0 | AM55: 0 | AN55: 0 | AO55: 0 | AP55: 0 | AQ55: 0 | AR55: 0 | AS55: 0 | AT55: 0
A56: =IF(D56="","",SUBTOTAL(3,$D$12:D56)) -> 45 | C56: Khoa Khoa học cơ bản | D56: Lâm Lệ Tâm (TG) | E56: 0 | F56: 0 | G56: 0 | H56: 0 | I56: 0 | J56: 0 | K56: 0 | L56: 0 | M56: 0 | N56: 0 | O56: 0 | P56: 0 | Q56: 0 | R56: 0 | S56: 183 | T56: 0 | U56: 119 | V56: 6.4 | W56: 0 | X56: 0 | Y56: 0 | Z56: 0 | AA56: 0 | AB56: 0 | AC56: 0 | AD56: 0 | AE56: 0 | AF56: 0 | AG56: 0 | AH56: 0 | AI56: 0 | AJ56: 0 | AK56: 0 | AL56: 0 | AM56: 0 | AN56: 0 | AO56: 0 | AP56: 0 | AQ56: 0 | AR56: 0 | AS56: 0 | AT56: 6.4
A57: =IF(D57="","",SUBTOTAL(3,$D$12:D57)) -> 46 | C57: Khoa Khoa học cơ bản | D57: Lê Gia Mẫn (TG) | E57: 0 | F57: 0 | G57: 0 | H57: 0 | I57: 0 | J57: 0 | K57: 0 | L57: 0 | M57: 0 | N57: 0 | O57: 0 | P57: 0 | Q57: 0 | R57: 0 | S57: 0 | T57: 0 | U57: 0 | V57: 0 | W57: 0 | X57: 0 | Y57: 0 | Z57: 0 | AA57: 0 | AB57: 0 | AC57: 0 | AD57: 0 | AE57: 0 | AF57: 0 | AG57: 0 | AH57: 0 | AI57: 0 | AJ57: 0 | AK57: 0 | AL57: 0 | AM57: 0 | AN57: 0 | AO57: 0 | AP57: 0 | AQ57: 0 | AR57: 0 | AS57: 0 | AT57: 0
A58: =IF(D58="","",SUBTOTAL(3,$D$12:D58)) -> 47 | B58: 1022048 | C58: Khoa Khoa học cơ bản | D58: Lê Minh Phong | E58: 6 | F58: 0 | G58: 0 | H58: 0 | I58: 0 | J58: 0 | K58: 0 | L58: 0 | M58: 6 | N58: 5.85 | O58: 2.7 | P58: 0 | Q58: 0 | R58: 8.55 | S58: 214 | T58: 333 | U58: 274 | V58: 27.3 | W58: 0 | X58: 0 | Y58: 0 | Z58: 0 | AA58: 0 | AB58: 0 | AC58: 0 | AD58: 0 | AE58: 0 | AF58: 0 | AG58: 0 | AH58: 0 | AI58: 0 | AJ58: 0 | AK58: 0 | AL58: 0 | AM58: 0 | AN58: 0 | AO58: 0 | AP58: 0 | AQ58: 0 | AR58: 0 | AS58: 2.7 | AT58: 44.6
A59: =IF(D59="","",SUBTOTAL(3,$D$12:D59)) -> 48 | C59: Khoa Khoa học cơ bản | D59: Lê Ngọc Trinh (TG) | E59: 0 | F59: 0 | G59: 0 | H59: 0 | I59: 0 | J59: 0 | K59: 0 | L59: 0 | M59: 0 | N59: 0 | O59: 0 | P59: 0 | Q59: 0 | R59: 0 | S59: 0 | T59: 0 | U59: 0 | V59: 0 | W59: 0 | X59: 0 | Y59: 0 | Z59: 0 | AA59: 0 | AB59: 0 | AC59: 0 | AD59: 0 | AE59: 0 | AF59: 0 | AG59: 0 | AH59: 0 | AI59: 0 | AJ59: 0 | AK59: 0 | AL59: 0 | AM59: 0 | AN59: 0 | AO59: 0 | AP59: 0 | AQ59: 0 | AR59: 0 | AS59: 0 | AT59: 0
A60: =IF(D60="","",SUBTOTAL(3,$D$12:D60)) -> 49 | C60: Khoa Khoa học cơ bản | D60: Lê Nhật Phong (TG) | E60: 0 | F60: 0 | G60: 0 | H60: 0 | I60: 0 | J60: 0 | K60: 0 | L60: 0 | M60: 0 | N60: 0 | O60: 0 | P60: 0 | Q60: 0 | R60: 0 | S60: 108 | T60: 0 | U60: 72 | V60: 3.6 | W60: 0 | X60: 0 | Y60: 0 | Z60: 0 | AA60: 0 | AB60: 0 | AC60: 0 | AD60: 0 | AE60: 0 | AF60: 0 | AG60: 0 | AH60: 0 | AI60: 0 | AJ60: 0 | AK60: 0 | AL60: 0 | AM60: 0 | AN60: 0 | AO60: 0 | AP60: 0 | AQ60: 0 | AR60: 0 | AS60: 0 | AT60: 3.6
A61: =IF(D61="","",SUBTOTAL(3,$D$12:D61)) -> 50 | C61: Khoa Khoa học cơ bản | D61: Lê Phạm Hữu Tâm (TG) | E61: 0 | F61: 0 | G61: 0 | H61: 0 | I61: 0 | J61: 0 | K61: 0 | L61: 0 | M61: 0 | N61: 0 | O61: 0 | P61: 0 | Q61: 0 | R61: 0 | S61: 0 | T61: 0 | U61: 0 | V61: 0 | W61: 0 | X61: 0 | Y61: 0 | Z61: 0 | AA61: 0 | AB61: 0 | AC61: 0 | AD61: 0 | AE61: 0 | AF61: 0 | AG61: 0 | AH61: 0 | AI61: 0 | AJ61: 0 | AK61: 0 | AL61: 0 | AM61: 0 | AN61: 0 | AO61: 0 | AP61: 0 | AQ61: 0 | AR61: 0 | AS61: 0 | AT61: 0
A62: =IF(D62="","",SUBTOTAL(3,$D$12:D62)) -> 51 | B62: 1022007 | C62: Khoa Khoa học cơ bản | D62: Lê Phương Ngọc | E62: 0 | F62: 0 | G62: 0 | H62: 0 | I62: 0 | J62: 0 | K62: 0 | L62: 0 | M62: 0 | N62: 0 | O62: 0 | P62: 0 | Q62: 0 | R62: 0 | S62: 0 | T62: 0 | U62: 0 | V62: 0 | W62: 0 | X62: 0 | Y62: 0 | Z62: 0 | AA62: 0 | AB62: 0 | AC62: 0 | AD62: 0 | AE62: 0 | AF62: 0 | AG62: 0 | AH62: 0 | AI62: 0 | AJ62: 0 | AK62: 0 | AL62: 0 | AM62: 0 | AN62: 0 | AO62: 0 | AP62: 0 | AQ62: 0 | AR62: 0 | AS62: 0 | AT62: 0
A63: =IF(D63="","",SUBTOTAL(3,$D$12:D63)) -> 52 | B63: 1010051 | C63: Khoa Khoa học cơ bản | D63: Lê Quang Vinh | E63: 0 | F63: 0 | G63: 0 | H63: 0 | I63: 0 | J63: 0 | K63: 0 | L63: 0 | M63: 0 | N63: 0 | O63: 0 | P63: 0 | Q63: 0 | R63: 0 | S63: 0 | T63: 0 | U63: 0 | V63: 0 | W63: 0 | X63: 0 | Y63: 0 | Z63: 0 | AA63: 0 | AB63: 0 | AC63: 0 | AD63: 0 | AE63: 0 | AF63: 0 | AG63: 0 | AH63: 0 | AI63: 0 | AJ63: 0 | AK63: 0 | AL63: 0 | AM63: 0 | AN63: 0 | AO63: 0 | AP63: 0 | AQ63: 0 | AR63: 0 | AS63: 0 | AT63: 0
A64: =IF(D64="","",SUBTOTAL(3,$D$12:D64)) -> 53 | B64: 1010021 | C64: Khoa Khoa học cơ bản | D64: Lê Thái Hùng | E64: 0 | F64: 0 | G64: 0 | H64: 0 | I64: 0 | J64: 0 | K64: 0 | L64: 0 | M64: 0 | N64: 0 | O64: 0 | P64: 0 | Q64: 0 | R64: 0 | S64: 0 | T64: 0 | U64: 0 | V64: 0 | W64: 0 | X64: 0 | Y64: 0 | Z64: 0 | AA64: 0 | AB64: 0 | AC64: 0 | AD64: 0 | AE64: 0 | AF64: 0 | AG64: 0 | AH64: 0 | AI64: 0 | AJ64: 0 | AK64: 0 | AL64: 0 | AM64: 0 | AN64: 0 | AO64: 0 | AP64: 0 | AQ64: 0 | AR64: 0 | AS64: 0 | AT64: 0
A65: =IF(D65="","",SUBTOTAL(3,$D$12:D65)) -> 54 | C65: Khoa Khoa học cơ bản | D65: Lê Thị Ban (TG) | E65: 0 | F65: 0 | G65: 0 | H65: 0 | I65: 0 | J65: 0 | K65: 0 | L65: 0 | M65: 0 | N65: 0 | O65: 0 | P65: 0 | Q65: 0 | R65: 0 | S65: 0 | T65: 0 | U65: 0 | V65: 0 | W65: 0 | X65: 0 | Y65: 0 | Z65: 0 | AA65: 0 | AB65: 0 | AC65: 0 | AD65: 0 | AE65: 0 | AF65: 0 | AG65: 0 | AH65: 0 | AI65: 0 | AJ65: 0 | AK65: 0 | AL65: 0 | AM65: 0 | AN65: 0 | AO65: 0 | AP65: 0 | AQ65: 0 | AR65: 0 | AS65: 0 | AT65: 0
A66: =IF(D66="","",SUBTOTAL(3,$D$12:D66)) -> 55 | B66: 1010082 | C66: Khoa Khoa học cơ bản | D66: Lê Thị Hồng Nhung (TG) | E66: 0 | F66: 0 | G66: 0 | H66: 0 | I66: 0 | J66: 0 | K66: 0 | L66: 0 | M66: 0 | N66: 0 | O66: 0 | P66: 0 | Q66: 0 | R66: 0 | S66: 0 | T66: 0 | U66: 0 | V66: 0 | W66: 0 | X66: 0 | Y66: 0 | Z66: 0 | AA66: 0 | AB66: 0 | AC66: 0 | AD66: 0 | AE66: 0 | AF66: 0 | AG66: 0 | AH66: 0 | AI66: 0 | AJ66: 0 | AK66: 0 | AL66: 0 | AM66: 0 | AN66: 0 | AO66: 0 | AP66: 0 | AQ66: 0 | AR66: 0 | AS66: 0 | AT66: 0
A67: =IF(D67="","",SUBTOTAL(3,$D$12:D67)) -> 56 | B67: 1010070 | C67: Khoa Khoa học cơ bản | D67: Lê Thị Hường (TG) | E67: 0 | F67: 0 | G67: 0 | H67: 0 | I67: 0 | J67: 0 | K67: 0 | L67: 0 | M67: 0 | N67: 0 | O67: 0 | P67: 0 | Q67: 0 | R67: 0 | S67: 0 | T67: 0 | U67: 0 | V67: 0 | W67: 0 | X67: 0 | Y67: 0 | Z67: 0 | AA67: 0 | AB67: 0 | AC67: 0 | AD67: 0 | AE67: 0 | AF67: 0 | AG67: 0 | AH67: 0 | AI67: 0 | AJ67: 0 | AK67: 0 | AL67: 0 | AM67: 0 | AN67: 0 | AO67: 0 | AP67: 0 | AQ67: 0 | AR67: 0 | AS67: 0 | AT67: 0
A68: =IF(D68="","",SUBTOTAL(3,$D$12:D68)) -> 57 | B68: 1010061 | C68: Khoa Khoa học cơ bản | D68: Lê Thị Mùi (TG) | E68: 0 | F68: 0 | G68: 0 | H68: 0 | I68: 0 | J68: 0 | K68: 0 | L68: 0 | M68: 0 | N68: 0 | O68: 0 | P68: 0 | Q68: 0 | R68: 0 | S68: 0 | T68: 0 | U68: 0 | V68: 0 | W68: 0 | X68: 0 | Y68: 0 | Z68: 0 | AA68: 0 | AB68: 0 | AC68: 0 | AD68: 0 | AE68: 0 | AF68: 0 | AG68: 0 | AH68: 0 | AI68: 0 | AJ68: 0 | AK68: 0 | AL68: 0 | AM68: 0 | AN68: 0 | AO68: 0 | AP68: 0 | AQ68: 0 | AR68: 0 | AS68: 0 | AT68: 0
A69: =IF(D69="","",SUBTOTAL(3,$D$12:D69)) -> 58 | B69: 1010109 | C69: Khoa Khoa học cơ bản | D69: Lê Thị Yến Nhung (TG) | E69: 0 | F69: 0 | G69: 0 | H69: 0 | I69: 0 | J69: 0 | K69: 0 | L69: 0 | M69: 0 | N69: 0 | O69: 0 | P69: 0 | Q69: 0 | R69: 0 | S69: 0 | T69: 0 | U69: 0 | V69: 0 | W69: 0 | X69: 0 | Y69: 0 | Z69: 0 | AA69: 0 | AB69: 0 | AC69: 0 | AD69: 0 | AE69: 0 | AF69: 0 | AG69: 0 | AH69: 0 | AI69: 0 | AJ69: 0 | AK69: 0 | AL69: 0 | AM69: 0 | AN69: 0 | AO69: 0 | AP69: 0 | AQ69: 0 | AR69: 0 | AS69: 0 | AT69: 0
A70: =IF(D70="","",SUBTOTAL(3,$D$12:D70)) -> 59 | B70: 1004012 | C70: Khoa Khoa học cơ bản | D70: Lê Văn Bình | E70: 0 | F70: 0 | G70: 0 | H70: 0 | I70: 0 | J70: 0 | K70: 0 | L70: 0 | M70: 0 | N70: 8.85 | O70: 3.3 | P70: 0 | Q70: 0 | R70: 12.15 | S70: 254 | T70: 403 | U70: 209 | V70: 44.8 | W70: 0 | X70: 0 | Y70: 0 | Z70: 0 | AA70: 0 | AB70: 0 | AC70: 0 | AD70: 0 | AE70: 0 | AF70: 0 | AG70: 0 | AH70: 0 | AI70: 0 | AJ70: 0 | AK70: 0 | AL70: 0 | AM70: 0 | AN70: 0 | AO70: 0 | AP70: 0 | AQ70: 0 | AR70: 0 | AS70: 2 | AT70: 59
A71: =IF(D71="","",SUBTOTAL(3,$D$12:D71)) -> 60 | C71: Khoa Khoa học cơ bản | D71: Lương Thị Chi (TG) | E71: 0 | F71: 0 | G71: 0 | H71: 0 | I71: 0 | J71: 0 | K71: 0 | L71: 0 | M71: 0 | N71: 0 | O71: 0 | P71: 0 | Q71: 0 | R71: 0 | S71: 0 | T71: 0 | U71: 0 | V71: 0 | W71: 0 | X71: 0 | Y71: 0 | Z71: 0 | AA71: 0 | AB71: 0 | AC71: 0 | AD71: 0 | AE71: 0 | AF71: 0 | AG71: 0 | AH71: 0 | AI71: 0 | AJ71: 0 | AK71: 0 | AL71: 0 | AM71: 0 | AN71: 0 | AO71: 0 | AP71: 0 | AQ71: 0 | AR71: 0 | AS71: 0 | AT71: 0
A72: =IF(D72="","",SUBTOTAL(3,$D$12:D72)) -> 61 | B72: 1010086 | C72: Khoa Khoa học cơ bản | D72: Lý Thục Trinh (TG) | E72: 0 | F72: 0 | G72: 0 | H72: 0 | I72: 0 | J72: 0 | K72: 0 | L72: 0 | M72: 0 | N72: 0 | O72: 0 | P72: 0 | Q72: 0 | R72: 0 | S72: 0 | T72: 0 | U72: 0 | V72: 0 | W72: 0 | X72: 0 | Y72: 0 | Z72: 0 | AA72: 0 | AB72: 0 | AC72: 0 | AD72: 0 | AE72: 0 | AF72: 0 | AG72: 0 | AH72: 0 | AI72: 0 | AJ72: 0 | AK72: 0 | AL72: 0 | AM72: 0 | AN72: 0 | AO72: 0 | AP72: 0 | AQ72: 0 | AR72: 0 | AS72: 0 | AT72: 0
A73: =IF(D73="","",SUBTOTAL(3,$D$12:D73)) -> 62 | B73: 1010089 | C73: Khoa Khoa học cơ bản | D73: Mai Võ Hoài Giang (TG) | E73: 0 | F73: 0 | G73: 0 | H73: 0 | I73: 0 | J73: 0 | K73: 0 | L73: 0 | M73: 0 | N73: 0 | O73: 0 | P73: 0 | Q73: 0 | R73: 0 | S73: 0 | T73: 0 | U73: 0 | V73: 0 | W73: 0 | X73: 0 | Y73: 0 | Z73: 0 | AA73: 0 | AB73: 0 | AC73: 0 | AD73: 0 | AE73: 0 | AF73: 0 | AG73: 0 | AH73: 0 | AI73: 0 | AJ73: 0 | AK73: 0 | AL73: 0 | AM73: 0 | AN73: 0 | AO73: 0 | AP73: 0 | AQ73: 0 | AR73: 0 | AS73: 0 | AT73: 0
A74: =IF(D74="","",SUBTOTAL(3,$D$12:D74)) -> 63 | B74: 1022005 | C74: Khoa Khoa học cơ bản | D74: Ngô Thanh Điền | E74: 0 | F74: 0 | G74: 0 | H74: 0 | I74: 0 | J74: 0 | K74: 0 | L74: 0 | M74: 0 | N74: 0 | O74: 0 | P74: 0 | Q74: 0 | R74: 0 | S74: 0 | T74: 0 | U74: 0 | V74: 0 | W74: 0 | X74: 0 | Y74: 0 | Z74: 0 | AA74: 0 | AB74: 0 | AC74: 0 | AD74: 0 | AE74: 0 | AF74: 0 | AG74: 0 | AH74: 0 | AI74: 0 | AJ74: 0 | AK74: 0 | AL74: 0 | AM74: 0 | AN74: 0 | AO74: 0 | AP74: 0 | AQ74: 0 | AR74: 0 | AS74: 0 | AT74: 0
A75: =IF(D75="","",SUBTOTAL(3,$D$12:D75)) -> 64 | C75: Khoa Khoa học cơ bản | D75: Ngô Thị Thanh Vân (TG) | E75: 0 | F75: 4 | G75: 0 | H75: 0 | I75: 0 | J75: 0 | K75: 0 | L75: 0 | M75: 6 | N75: 0 | O75: 0 | P75: 0 | Q75: 0 | R75: 0 | S75: 0 | T75: 0 | U75: 0 | V75: 0 | W75: 0 | X75: 0 | Y75: 0 | Z75: 0 | AA75: 0 | AB75: 0 | AC75: 0 | AD75: 0 | AE75: 0 | AF75: 0 | AG75: 0 | AH75: 0 | AI75: 0 | AJ75: 0 | AK75: 0 | AL75: 0 | AM75: 0 | AN75: 0 | AO75: 0 | AP75: 0 | AQ75: 0 | AR75: 0 | AS75: 0 | AT75: 6
A76: =IF(D76="","",SUBTOTAL(3,$D$12:D76)) -> 65 | C76: Khoa Khoa học cơ bản | D76: Ngô Thuận Dủ (TG) | E76: 2 | F76: 0 | G76: 0 | H76: 0 | I76: 0 | J76: 0 | K76: 0 | L76: 0 | M76: 2 | N76: 0.6 | O76: 0 | P76: 0 | Q76: 0 | R76: 0.6 | S76: 212 | T76: 0 | U76: 240 | V76: -2.8 | W76: 0 | X76: 0 | Y76: 0 | Z76: 0 | AA76: 0 | AB76: 0 | AC76: 0 | AD76: 0 | AE76: 0 | AF76: 0 | AG76: 0 | AH76: 0 | AI76: 0 | AJ76: 0 | AK76: 0 | AL76: 0 | AM76: 0 | AN76: 0 | AO76: 0 | AP76: 0 | AQ76: 0 | AR76: 0 | AS76: 0 | AT76: -0.2
A77: =IF(D77="","",SUBTOTAL(3,$D$12:D77)) -> 66 | B77: 1010067 | C77: Khoa Khoa học cơ bản | D77: Nguyễn Công Cường (TG) | E77: 0 | F77: 0 | G77: 0 | H77: 0 | I77: 0 | J77: 0 | K77: 0 | L77: 0 | M77: 0 | N77: 0 | O77: 0 | P77: 0 | Q77: 0 | R77: 0 | S77: 0 | T77: 0 | U77: 0 | V77: 0 | W77: 0 | X77: 0 | Y77: 0 | Z77: 0 | AA77: 0 | AB77: 0 | AC77: 0 | AD77: 0 | AE77: 0 | AF77: 0 | AG77: 0 | AH77: 0 | AI77: 0 | AJ77: 0 | AK77: 0 | AL77: 0 | AM77: 0 | AN77: 0 | AO77: 0 | AP77: 0 | AQ77: 0 | AR77: 0 | AS77: 0 | AT77: 0
A78: =IF(D78="","",SUBTOTAL(3,$D$12:D78)) -> 67 | C78: Khoa Khoa học cơ bản | D78: Nguyễn Đỗ Thành (TG) | E78: 0 | F78: 0 | G78: 0 | H78: 0 | I78: 0 | J78: 0 | K78: 0 | L78: 0 | M78: 0 | N78: 0 | O78: 0 | P78: 0 | Q78: 0 | R78: 0 | S78: 0 | T78: 0 | U78: 0 | V78: 0 | W78: 0 | X78: 0 | Y78: 0 | Z78: 0 | AA78: 0 | AB78: 0 | AC78: 0 | AD78: 0 | AE78: 0 | AF78: 0 | AG78: 0 | AH78: 0 | AI78: 0 | AJ78: 0 | AK78: 0 | AL78: 0 | AM78: 0 | AN78: 0 | AO78: 0 | AP78: 0 | AQ78: 0 | AR78: 0 | AS78: 0 | AT78: 0
A79: =IF(D79="","",SUBTOTAL(3,$D$12:D79)) -> 68 | B79: 1010003 | C79: Khoa Khoa học cơ bản | D79: Nguyễn Đức Thắng | E79: 0 | F79: 0 | G79: 0 | H79: 0 | I79: 0 | J79: 0 | K79: 0 | L79: 0 | M79: 0 | N79: 0 | O79: 0 | P79: 0 | Q79: 0 | R79: 0 | S79: 0 | T79: 0 | U79: 0 | V79: 0 | W79: 0 | X79: 0 | Y79: 0 | Z79: 0 | AA79: 0 | AB79: 0 | AC79: 0 | AD79: 0 | AE79: 0 | AF79: 0 | AG79: 0 | AH79: 0 | AI79: 0 | AJ79: 0 | AK79: 0 | AL79: 0 | AM79: 0 | AN79: 0 | AO79: 0 | AP79: 0 | AQ79: 0 | AR79: 0 | AS79: 0 | AT79: 0
A80: =IF(D80="","",SUBTOTAL(3,$D$12:D80)) -> 69 | B80: 1010094 | C80: Khoa Khoa học cơ bản | D80: Nguyễn Hoàng Tùng (TG) | E80: 0 | F80: 0 | G80: 0 | H80: 0 | I80: 0 | J80: 0 | K80: 0 | L80: 0 | M80: 0 | N80: 0 | O80: 0 | P80: 0 | Q80: 0 | R80: 0 | S80: 0 | T80: 0 | U80: 0 | V80: 0 | W80: 0 | X80: 0 | Y80: 0 | Z80: 0 | AA80: 0 | AB80: 0 | AC80: 0 | AD80: 0 | AE80: 0 | AF80: 0 | AG80: 0 | AH80: 0 | AI80: 0 | AJ80: 0 | AK80: 0 | AL80: 0 | AM80: 0 | AN80: 0 | AO80: 0 | AP80: 0 | AQ80: 0 | AR80: 0 | AS80: 0 | AT80: 0
A81: =IF(D81="","",SUBTOTAL(3,$D$12:D81)) -> 70 | B81: 1010025 | C81: Khoa Khoa học cơ bản | D81: Nguyễn Huỳnh Mai Hạnh (TG) | E81: 0 | F81: 0 | G81: 0 | H81: 0 | I81: 0 | J81: 0 | K81: 0 | L81: 0 | M81: 0 | N81: 0 | O81: 0 | P81: 0 | Q81: 0 | R81: 0 | S81: 0 | T81: 0 | U81: 0 | V81: 0 | W81: 0 | X81: 0 | Y81: 0 | Z81: 0 | AA81: 0 | AB81: 0 | AC81: 0 | AD81: 0 | AE81: 0 | AF81: 0 | AG81: 0 | AH81: 0 | AI81: 0 | AJ81: 0 | AK81: 0 | AL81: 0 | AM81: 0 | AN81: 0 | AO81: 0 | AP81: 0 | AQ81: 0 | AR81: 0 | AS81: 0 | AT81: 0
A82: =IF(D82="","",SUBTOTAL(3,$D$12:D82)) -> 71 | B82: 1010126 | C82: Khoa Khoa học cơ bản | D82: Nguyễn Huỳnh Như Thủy (TG) | E82: 0 | F82: 0 | G82: 0 | H82: 0 | I82: 0 | J82: 0 | K82: 0 | L82: 0 | M82: 0 | N82: 0 | O82: 0 | P82: 0 | Q82: 0 | R82: 0 | S82: 0 | T82: 0 | U82: 0 | V82: 0 | W82: 0 | X82: 0 | Y82: 0 | Z82: 0 | AA82: 0 | AB82: 0 | AC82: 0 | AD82: 0 | AE82: 0 | AF82: 0 | AG82: 0 | AH82: 0 | AI82: 0 | AJ82: 0 | AK82: 0 | AL82: 0 | AM82: 0 | AN82: 0 | AO82: 0 | AP82: 0 | AQ82: 0 | AR82: 0 | AS82: 0 | AT82: 0
A83: =IF(D83="","",SUBTOTAL(3,$D$12:D83)) -> 72 | B83: 1010130 | C83: Khoa Khoa học cơ bản | D83: Nguyễn Lê Thuận (TG) | E83: 0 | F83: 0 | G83: 0 | H83: 0 | I83: 0 | J83: 0 | K83: 0 | L83: 0 | M83: 0 | N83: 0 | O83: 0 | P83: 0 | Q83: 0 | R83: 0 | S83: 0 | T83: 0 | U83: 0 | V83: 0 | W83: 0 | X83: 0 | Y83: 0 | Z83: 0 | AA83: 0 | AB83: 0 | AC83: 0 | AD83: 0 | AE83: 0 | AF83: 0 | AG83: 0 | AH83: 0 | AI83: 0 | AJ83: 0 | AK83: 0 | AL83: 0 | AM83: 0 | AN83: 0 | AO83: 0 | AP83: 0 | AQ83: 0 | AR83: 0 | AS83: 0 | AT83: 0
A84: =IF(D84="","",SUBTOTAL(3,$D$12:D84)) -> 73 | B84: 1010073 | C84: Khoa Khoa học cơ bản | D84: Nguyễn Mai Chinh (TG) | E84: 0 | F84: 0 | G84: 0 | H84: 0 | I84: 0 | J84: 0 | K84: 0 | L84: 0 | M84: 0 | N84: 0 | O84: 0 | P84: 0 | Q84: 0 | R84: 0 | S84: 0 | T84: 0 | U84: 0 | V84: 0 | W84: 0 | X84: 0 | Y84: 0 | Z84: 0 | AA84: 0 | AB84: 0 | AC84: 0 | AD84: 0 | AE84: 0 | AF84: 0 | AG84: 0 | AH84: 0 | AI84: 0 | AJ84: 0 | AK84: 0 | AL84: 0 | AM84: 0 | AN84: 0 | AO84: 0 | AP84: 0 | AQ84: 0 | AR84: 0 | AS84: 0 | AT84: 0
A85: =IF(D85="","",SUBTOTAL(3,$D$12:D85)) -> 74 | B85: 1010032 | C85: Khoa Khoa học cơ bản | D85: Nguyễn Mạnh Phương | E85: 0 | F85: 0 | G85: 0 | H85: 0 | I85: 0 | J85: 0 | K85: 0 | L85: 0 | M85: 0 | N85: 0 | O85: 0 | P85: 0 | Q85: 0 | R85: 0 | S85: 0 | T85: 0 | U85: 0 | V85: 0 | W85: 0 | X85: 0 | Y85: 0 | Z85: 0 | AA85: 0 | AB85: 0 | AC85: 0 | AD85: 0 | AE85: 0 | AF85: 0 | AG85: 0 | AH85: 0 | AI85: 0 | AJ85: 0 | AK85: 0 | AL85: 0 | AM85: 0 | AN85: 0 | AO85: 0 | AP85: 0 | AQ85: 0 | AR85: 0 | AS85: 0 | AT85: 0
A86: =IF(D86="","",SUBTOTAL(3,$D$12:D86)) -> 75 | B86: 1010139 | C86: Khoa Khoa học cơ bản | D86: Nguyễn Ngô Anh Tuấn (TG) | E86: 0 | F86: 0 | G86: 0 | H86: 0 | I86: 0 | J86: 0 | K86: 0 | L86: 0 | M86: 0 | N86: 0 | O86: 0 | P86: 0 | Q86: 0 | R86: 0 | S86: 0 | T86: 0 | U86: 0 | V86: 0 | W86: 0 | X86: 0 | Y86: 0 | Z86: 0 | AA86: 0 | AB86: 0 | AC86: 0 | AD86: 0 | AE86: 0 | AF86: 0 | AG86: 0 | AH86: 0 | AI86: 0 | AJ86: 0 | AK86: 0 | AL86: 0 | AM86: 0 | AN86: 0 | AO86: 0 | AP86: 0 | AQ86: 0 | AR86: 0 | AS86: 0 | AT86: 0
A87: =IF(D87="","",SUBTOTAL(3,$D$12:D87)) -> 76 | B87: 1010080 | C87: Khoa Khoa học cơ bản | D87: Nguyễn Ngọc Chương (TG) | E87: 0 | F87: 0 | G87: 0 | H87: 0 | I87: 0 | J87: 0 | K87: 0 | L87: 0 | M87: 0 | N87: 0 | O87: 0 | P87: 0 | Q87: 0 | R87: 0 | S87: 0 | T87: 0 | U87: 0 | V87: 0 | W87: 0 | X87: 0 | Y87: 0 | Z87: 0 | AA87: 0 | AB87: 0 | AC87: 0 | AD87: 0 | AE87: 0 | AF87: 0 | AG87: 0 | AH87: 0 | AI87: 0 | AJ87: 0 | AK87: 0 | AL87: 0 | AM87: 0 | AN87: 0 | AO87: 0 | AP87: 0 | AQ87: 0 | AR87: 0 | AS87: 0 | AT87: 0
A88: =IF(D88="","",SUBTOTAL(3,$D$12:D88)) -> 77 | C88: Khoa Khoa học cơ bản | D88: Nguyễn Ngọc Trâm (TG) | E88: 0 | F88: 0 | G88: 0 | H88: 0 | I88: 0 | J88: 0 | K88: 0 | L88: 0 | M88: 0 | N88: 0 | O88: 0 | P88: 0 | Q88: 0 | R88: 0 | S88: 119 | T88: 0 | U88: 76 | V88: 4.3 | W88: 0 | X88: 0 | Y88: 0 | Z88: 0 | AA88: 0 | AB88: 0 | AC88: 0 | AD88: 0 | AE88: 0 | AF88: 0 | AG88: 0 | AH88: 0 | AI88: 0 | AJ88: 0 | AK88: 0 | AL88: 0 | AM88: 0 | AN88: 0 | AO88: 0 | AP88: 0 | AQ88: 0 | AR88: 0 | AS88: 0 | AT88: 4.3
A89: =IF(D89="","",SUBTOTAL(3,$D$12:D89)) -> 78 | B89: 1010066 | C89: Khoa Khoa học cơ bản | D89: Nguyễn Nhân Anh (TG) | E89: 0 | F89: 0 | G89: 0 | H89: 0 | I89: 0 | J89: 0 | K89: 0 | L89: 0 | M89: 0 | N89: 0 | O89: 0 | P89: 0 | Q89: 0 | R89: 0 | S89: 0 | T89: 0 | U89: 0 | V89: 0 | W89: 0 | X89: 0 | Y89: 0 | Z89: 0 | AA89: 0 | AB89: 0 | AC89: 0 | AD89: 0 | AE89: 0 | AF89: 0 | AG89: 0 | AH89: 0 | AI89: 0 | AJ89: 0 | AK89: 0 | AL89: 0 | AM89: 0 | AN89: 0 | AO89: 0 | AP89: 0 | AQ89: 0 | AR89: 0 | AS89: 0 | AT89: 0
A90: =IF(D90="","",SUBTOTAL(3,$D$12:D90)) -> 79 | C90: Khoa Khoa học cơ bản | D90: Nguyễn Phan Hoàng Hạc (TG) | E90: 0 | F90: 0 | G90: 0 | H90: 0 | I90: 0 | J90: 0 | K90: 0 | L90: 0 | M90: 0 | N90: 0 | O90: 0 | P90: 0 | Q90: 0 | R90: 0 | S90: 0 | T90: 0 | U90: 0 | V90: 0 | W90: 0 | X90: 0 | Y90: 0 | Z90: 0 | AA90: 0 | AB90: 0 | AC90: 0 | AD90: 0 | AE90: 0 | AF90: 0 | AG90: 0 | AH90: 0 | AI90: 0 | AJ90: 0 | AK90: 0 | AL90: 0 | AM90: 0 | AN90: 0 | AO90: 0 | AP90: 0 | AQ90: 0 | AR90: 0 | AS90: 0 | AT90: 0
A91: =IF(D91="","",SUBTOTAL(3,$D$12:D91)) -> 80 | B91: 1010079 | C91: Khoa Khoa học cơ bản | D91: Nguyễn Phú Cường (TG) | E91: 0 | F91: 0 | G91: 0 | H91: 0 | I91: 0 | J91: 0 | K91: 0 | L91: 0 | M91: 0 | N91: 0 | O91: 0 | P91: 0 | Q91: 0 | R91: 0 | S91: 0 | T91: 0 | U91: 0 | V91: 0 | W91: 0 | X91: 0 | Y91: 0 | Z91: 0 | AA91: 0 | AB91: 0 | AC91: 0 | AD91: 0 | AE91: 0 | AF91: 0 | AG91: 0 | AH91: 0 | AI91: 0 | AJ91: 0 | AK91: 0 | AL91: 0 | AM91: 0 | AN91: 0 | AO91: 0 | AP91: 0 | AQ91: 0 | AR91: 0 | AS91: 0 | AT91: 0
A92: =IF(D92="","",SUBTOTAL(3,$D$12:D92)) -> 81 | B92: 1010022 | C92: Khoa Khoa học cơ bản | D92: Nguyễn Phú Tân | E92: 0 | F92: 0 | G92: 0 | H92: 0 | I92: 0 | J92: 0 | K92: 0 | L92: 0 | M92: 0 | N92: 0 | O92: 0 | P92: 0 | Q92: 0 | R92: 0 | S92: 0 | T92: 0 | U92: 0 | V92: 0 | W92: 0 | X92: 0 | Y92: 0 | Z92: 0 | AA92: 0 | AB92: 0 | AC92: 0 | AD92: 0 | AE92: 0 | AF92: 0 | AG92: 0 | AH92: 0 | AI92: 0 | AJ92: 0 | AK92: 0 | AL92: 0 | AM92: 0 | AN92: 0 | AO92: 0 | AP92: 0 | AQ92: 0 | AR92: 0 | AS92: 0 | AT92: 0
A93: =IF(D93="","",SUBTOTAL(3,$D$12:D93)) -> 82 | B93: 1010023 | C93: Khoa Khoa học cơ bản | D93: Nguyễn Phương Hà | E93: 6 | F93: 0 | G93: 0 | H93: 0 | I93: 0 | J93: 0 | K93: 0 | L93: 0 | M93: 6 | N93: 6.45 | O93: 3.6 | P93: 0 | Q93: 0 | R93: 10.05 | S93: 295 | T93: 699 | U93: 281 | V93: 71.3 | W93: 0 | X93: 0 | Y93: 0 | Z93: 0 | AA93: 0 | AB93: 0 | AC93: 0 | AD93: 0 | AE93: 0 | AF93: 0 | AG93: 0 | AH93: 0 | AI93: 0 | AJ93: 0 | AK93: 0 | AL93: 0 | AM93: 0 | AN93: 0 | AO93: 0 | AP93: 0 | AQ93: 0 | AR93: 0 | AS93: 3 | AT93: 90.4
A94: =IF(D94="","",SUBTOTAL(3,$D$12:D94)) -> 83 | C94: Khoa Khoa học cơ bản | D94: Nguyễn Quang Diệu (TG) | E94: 0 | F94: 0 | G94: 0 | H94: 0 | I94: 0 | J94: 0 | K94: 0 | L94: 0 | M94: 0 | N94: 0 | O94: 0 | P94: 0 | Q94: 0 | R94: 0 | S94: 0 | T94: 0 | U94: 0 | V94: 0 | W94: 0 | X94: 0 | Y94: 0 | Z94: 0 | AA94: 0 | AB94: 0 | AC94: 0 | AD94: 0 | AE94: 0 | AF94: 0 | AG94: 0 | AH94: 0 | AI94: 0 | AJ94: 0 | AK94: 0 | AL94: 0 | AM94: 0 | AN94: 0 | AO94: 0 | AP94: 0 | AQ94: 0 | AR94: 0 | AS94: 0 | AT94: 0
A95: =IF(D95="","",SUBTOTAL(3,$D$12:D95)) -> 84 | C95: Khoa Khoa học cơ bản | D95: Nguyễn Quí Long (TG) | E95: 0 | F95: 0 | G95: 0 | H95: 0 | I95: 0 | J95: 0 | K95: 0 | L95: 0 | M95: 0 | N95: 0 | O95: 0 | P95: 0 | Q95: 0 | R95: 0 | S95: 0 | T95: 0 | U95: 0 | V95: 0 | W95: 0 | X95: 0 | Y95: 0 | Z95: 0 | AA95: 0 | AB95: 2130 | AC95: 978 | AD95: 115.2 | AE95: 0 | AF95: 0 | AG95: 0 | AH95: 0 | AI95: 0 | AJ95: 0 | AK95: 0 | AL95: 0 | AM95: 0 | AN95: 0 | AO95: 0 | AP95: 0 | AQ95: 0 | AR95: 0 | AS95: 0 | AT95: 115.2
A96: =IF(D96="","",SUBTOTAL(3,$D$12:D96)) -> 85 | B96: 1010008 | C96: Khoa Khoa học cơ bản | D96: Nguyễn Quỳnh Giao (TG) | E96: 0 | F96: 0 | G96: 0 | H96: 0 | I96: 0 | J96: 0 | K96: 0 | L96: 0 | M96: 0 | N96: 0 | O96: 0 | P96: 0 | Q96: 0 | R96: 0 | S96: 0 | T96: 0 | U96: 0 | V96: 0 | W96: 0 | X96: 0 | Y96: 0 | Z96: 0 | AA96: 0 | AB96: 0 | AC96: 0 | AD96: 0 | AE96: 0 | AF96: 0 | AG96: 0 | AH96: 0 | AI96: 0 | AJ96: 0 | AK96: 0 | AL96: 0 | AM96: 0 | AN96: 0 | AO96: 0 | AP96: 0 | AQ96: 0 | AR96: 0 | AS96: 0 | AT96: 0
A97: =IF(D97="","",SUBTOTAL(3,$D$12:D97)) -> 86 | B97: 1010077 | C97: Khoa Khoa học cơ bản | D97: Nguyễn Tấn Phát (TG) | E97: 0 | F97: 0 | G97: 0 | H97: 0 | I97: 0 | J97: 0 | K97: 0 | L97: 0 | M97: 0 | N97: 0 | O97: 0 | P97: 0 | Q97: 0 | R97: 0 | S97: 0 | T97: 0 | U97: 0 | V97: 0 | W97: 0 | X97: 0 | Y97: 0 | Z97: 0 | AA97: 0 | AB97: 0 | AC97: 0 | AD97: 0 | AE97: 0 | AF97: 0 | AG97: 0 | AH97: 0 | AI97: 0 | AJ97: 0 | AK97: 0 | AL97: 0 | AM97: 0 | AN97: 0 | AO97: 0 | AP97: 0 | AQ97: 0 | AR97: 0 | AS97: 0 | AT97: 0
A98: =IF(D98="","",SUBTOTAL(3,$D$12:D98)) -> 87 | B98: 1010012 | C98: Khoa Khoa học cơ bản | D98: Nguyễn Thanh Tú | E98: 2 | F98: 20 | G98: 0 | H98: 0 | I98: 0 | J98: 0 | K98: 0 | L98: 0 | M98: 32 | N98: 5.4 | O98: 4.2 | P98: 0 | Q98: 0 | R98: 9.6 | S98: 25 | T98: 0 | U98: 25 | V98: 0 | W98: 0 | X98: 0 | Y98: 0 | Z98: 0 | AA98: 0 | AB98: 0 | AC98: 0 | AD98: 0 | AE98: 0 | AF98: 0 | AG98: 0 | AH98: 0 | AI98: 0 | AJ98: 0 | AK98: 0 | AL98: 0 | AM98: 0 | AN98: 0 | AO98: 0 | AP98: 0 | AQ98: 0 | AR98: 0 | AS98: 4.7 | AT98: 46.3
A99: =IF(D99="","",SUBTOTAL(3,$D$12:D99)) -> 88 | C99: Khoa Khoa học cơ bản | D99: Nguyễn Thị Bảo Linh (TG) | E99: 0 | F99: 0 | G99: 0 | H99: 0 | I99: 0 | J99: 0 | K99: 0 | L99: 0 | M99: 0 | N99: 0 | O99: 0 | P99: 0 | Q99: 0 | R99: 0 | S99: 0 | T99: 0 | U99: 0 | V99: 0 | W99: 0 | X99: 0 | Y99: 0 | Z99: 0 | AA99: 0 | AB99: 0 | AC99: 0 | AD99: 0 | AE99: 0 | AF99: 0 | AG99: 0 | AH99: 0 | AI99: 0 | AJ99: 0 | AK99: 0 | AL99: 0 | AM99: 0 | AN99: 0 | AO99: 0 | AP99: 0 | AQ99: 0 | AR99: 0 | AS99: 0 | AT99: 0
A100: =IF(D100="","",SUBTOTAL(3,$D$12:D100)) -> 89 | B100: 1010078 | C100: Khoa Khoa học cơ bản | D100: Nguyễn Thị Bích Hồng (TG) | E100: 0 | F100: 0 | G100: 0 | H100: 0 | I100: 0 | J100: 0 | K100: 0 | L100: 0 | M100: 0 | N100: 0 | O100: 0 | P100: 0 | Q100: 0 | R100: 0 | S100: 113 | T100: 113 | U100: 204 | V100: 2.2 | W100: 0 | X100: 0 | Y100: 0 | Z100: 0 | AA100: 0 | AB100: 0 | AC100: 0 | AD100: 0 | AE100: 0 | AF100: 0 | AG100: 0 | AH100: 0 | AI100: 0 | AJ100: 0 | AK100: 0 | AL100: 0 | AM100: 0 | AN100: 0 | AO100: 0 | AP100: 0 | AQ100: 0 | AR100: 0 | AS100: 0 | AT100: 2.2
A101: =IF(D101="","",SUBTOTAL(3,$D$12:D101)) -> 90 | C101: Khoa Khoa học cơ bản | D101: Nguyễn Thị Bích Trâm (TG) | E101: 2 | F101: 0 | G101: 0 | H101: 0 | I101: 0 | J101: 0 | K101: 0 | L101: 0 | M101: 2 | N101: 0 | O101: 0 | P101: 0 | Q101: 0 | R101: 0 | S101: 0 | T101: 0 | U101: 392 | V101: -39.2 | W101: 0 | X101: 0 | Y101: 0 | Z101: 0 | AA101: 0 | AB101: 0 | AC101: 0 | AD101: 0 | AE101: 0 | AF101: 0 | AG101: 0 | AH101: 0 | AI101: 0 | AJ101: 0 | AK101: 0 | AL101: 0 | AM101: 0 | AN101: 0 | AO101: 0 | AP101: 0 | AQ101: 0 | AR101: 0 | AS101: 0 | AT101: -37.2
A102: =IF(D102="","",SUBTOTAL(3,$D$12:D102)) -> 91 | B102: 1010122 | C102: Khoa Khoa học cơ bản | D102: Nguyễn Thị Cẩm Loan (TG) | E102: 0 | F102: 0 | G102: 0 | H102: 0 | I102: 0 | J102: 0 | K102: 0 | L102: 0 | M102: 0 | N102: 0 | O102: 0 | P102: 0 | Q102: 0 | R102: 0 | S102: 188 | T102: 38 | U102: 122 | V102: 10.4 | W102: 0 | X102: 0 | Y102: 0 | Z102: 0 | AA102: 0 | AB102: 0 | AC102: 0 | AD102: 0 | AE102: 0 | AF102: 0 | AG102: 0 | AH102: 0 | AI102: 0 | AJ102: 0 | AK102: 0 | AL102: 0 | AM102: 0 | AN102: 0 | AO102: 0 | AP102: 0 | AQ102: 0 | AR102: 0 | AS102: 0 | AT102: 10.4
A103: =IF(D103="","",SUBTOTAL(3,$D$12:D103)) -> 92 | B103: 1010016 | C103: Khoa Khoa học cơ bản | D103: Nguyễn Thị Cẩm Thạch | E103: 6 | F103: 0 | G103: 0 | H103: 0 | I103: 0 | J103: 0 | K103: 0 | L103: 0 | M103: 6 | N103: 2.7 | O103: 3.9 | P103: 0 | Q103: 0 | R103: 6.6 | S103: 108 | T103: 147 | U103: 167 | V103: 8.8 | W103: 0 | X103: 0 | Y103: 0 | Z103: 0 | AA103: 0 | AB103: 0 | AC103: 0 | AD103: 0 | AE103: 0 | AF103: 0 | AG103: 0 | AH103: 0 | AI103: 0 | AJ103: 0 | AK103: 0 | AL103: 0 | AM103: 0 | AN103: 0 | AO103: 0 | AP103: 0 | AQ103: 0 | AR103: 0 | AS103: 0.5 | AT103: 21.9
...

Sheet CA NAM
A1: UỶ BAN NHÂN DÂN THÀNH PHỐ HỒ CHÍ MINH | AL1: CỘNG HOÀ XÃ HỘI CHỦ NGHĨA VIỆT NAM
A2: TRƯỜNG CAO ĐẲNG LÝ TỰ TRỌNG TP. HỒ CHÍ MINH | AL2: Độc lập - Tự do - Hạnh phúc
A4: KHỐI LƯỢNG CÔNG TÁC COI - CHẤM THI NĂM HỌC 2022 - 2023 - KHOA KHOA HỌC CƠ BẢN
E10: =SUBTOTAL(9,E14:E190) -> 148 | F10: =SUBTOTAL(9,F14:F190) -> 50 | G10: =SUBTOTAL(9,G14:G190) -> 0 | H10: =SUBTOTAL(9,H14:H190) -> 0 | I10: =SUBTOTAL(9,I14:I190) -> 0 | J10: =SUBTOTAL(9,J14:J190) -> 0 | K10: =SUBTOTAL(9,K14:K190) -> 0 | L10: =SUBTOTAL(9,L14:L190) -> 0 | ... AT10: =SUBTOTAL(9,AT14:AT190) -> 2292
A11: STT | B11: Mã nhân sự | C11: Đơn vị | D11: HỌ VÀ TÊN GIẢNG VIÊN | E11: ĐỀ THI | N11: COI THI | S11: CHẤM THI KTHP | AI11: CHẤM THI TỐT NGHIỆP | AR11: DỰ PHÒNG KỲ THI | AS11: GIÁM SÁT | AT11: TỔNG KHỐI LƯỢNG | AU11: =SUBTOTAL(9,AT:AT) -> 2292
S12: LÝ THUYẾT (TV+TN) | W12: VẤN ĐÁP | AA12: TIỂU LUẬN | AE12: THỰC HÀNH | AI12: LÝ THUYẾT (TV+TN) | AL12: VẤN ĐÁP | AO12: THỰC HÀNH
E13: SL ĐỀ LT KTHP | F13: SL ĐỀ TN KTHP | G13: SL ĐỀ VĐ KTHP | H13: SL ĐỀ TH KTHP | I13: SL ĐỀ LT ThiTN | J13: SL ĐỀ TN ThiTN | K13: SL ĐỀ VĐ ThiTN | L13: SL ĐỀ TH ThiTN | M13: KL SOẠN ĐỀ (tiết) | N13: COITHI 2KTHP | O13: COITHI 1 KTHP | P13: COITHI 1 Thi TN | Q13: COITHI 2 Thi TN | R13: KL COITHI (tiết) | S13: SL CHẤM LT 1 | T13: SL CHẤM LT 2 | U13: SL CHẤM NV | V13: KL CHẤM LT (tiết) | W13: SL CHẤM TL 1 | X13: SL CHẤM TL 2 | Y13: SL CHẤM NV | Z13: KL CHẤM TL (tiết) | AA13: SL CHẤM TL 1 | AB13: SL CHẤM TL 2 | AC13: SL CHẤM NV | AD13: KL CHẤM TL (tiết) | AE13: SL CHẤM TL 1 | AF13: SL CHẤM TL 2 | AG13: SL CHẤM NV | AH13: KL CHẤM TL (tiết) | AI13: SL BÀI LT CHẤM 1 | AJ13: SL BÀI LT CHẤM 2 | AK13: KL CHẤM LT (tiết) | AL13: SL BÀI VĐ CHẤM 1 | AM13: SL BÀI VĐ CHẤM 2 | AN13: KL CHẤM VĐ (tiết) | AO13: SL BÀI TL CHẤM 1 | AP13: SL BÀI TL CHẤM 2 | AQ13: KL CHẤM TL (tiết)
A14: =IF(D14="","",SUBTOTAL(3,$D$14:D14)) -> 1 | B14: 1010092 | C14: Khoa Khoa học cơ bản | D14: Bạch Văn Gân (TG) | E14: =IF($D14="","",'HK2 - 22-23 + HKI 23-24(22C2)'!E12+'HKI 22-23'!E12) -> 0 | F14: =IF($D14="","",'HK2 - 22-23 + HKI 23-24(22C2)'!F12+'HKI 22-23'!F12) -> 0 | G14: =IF($D14="","",'HK2 - 22-23 + HKI 23-24(22C2)'!G12+'HKI 22-23'!G12) -> 0 | H14: =IF($D14="","",'HK2 - 22-23 + HKI 23-24(22C2)'!H12+'HKI 22-23'!H12) -> 0 | I14: =IF($D14="","",'HK2 - 22-23 + HKI 23-24(22C2)'!I12+'HKI 22-23'!I12) -> 0 | J14: =IF($D14="","",'HK2 - 22-23 + HKI 23-24(22C2)'!J12+'HKI 22-23'!J12) -> 0 | K14: =IF($D14="","",'HK2 - 22-23 + HKI 23-24(22C2)'!K12+'HKI 22-23'!K12) -> 0 | L14: =IF($D14="","",'HK2 - 22-23 + HKI 23-24(22C2)'!L12+'HKI 22-23'!L12) -> 0 | ... AT14: =IF($D14="","",'HK2 - 22-23 + HKI 23-24(22C2)'!AT12+'HKI 22-23'!AT12) -> 0
A15: =IF(D15="","",SUBTOTAL(3,$D$14:D15)) -> 2 | B15: 1010074 | C15: Khoa Khoa học cơ bản | D15: Bùi Bảo Trung (TG) | E15: =IF($D15="","",'HK2 - 22-23 + HKI 23-24(22C2)'!E13+'HKI 22-23'!E13) -> 0 | F15: =IF($D15="","",'HK2 - 22-23 + HKI 23-24(22C2)'!F13+'HKI 22-23'!F13) -> 0 | G15: =IF($D15="","",'HK2 - 22-23 + HKI 23-24(22C2)'!G13+'HKI 22-23'!G13) -> 0 | H15: =IF($D15="","",'HK2 - 22-23 + HKI 23-24(22C2)'!H13+'HKI 22-23'!H13) -> 0 | I15: =IF($D15="","",'HK2 - 22-23 + HKI 23-24(22C2)'!I13+'HKI 22-23'!I13) -> 0 | J15: =IF($D15="","",'HK2 - 22-23 + HKI 23-24(22C2)'!J13+'HKI 22-23'!J13) -> 0 | K15: =IF($D15="","",'HK2 - 22-23 + HKI 23-24(22C2)'!K13+'HKI 22-23'!K13) -> 0 | L15: =IF($D15="","",'HK2 - 22-23 + HKI 23-24(22C2)'!L13+'HKI 22-23'!L13) -> 0 | ... AT15: =IF($D15="","",'HK2 - 22-23 + HKI 23-24(22C2)'!AT13+'HKI 22-23'!AT13) -> 0
A16: =IF(D16="","",SUBTOTAL(3,$D$14:D16)) -> 3 | B16: 1010132 | C16: Khoa Khoa học cơ bản | D16: Bùi Đình Trường (TG) | E16: =IF($D16="","",'HK2 - 22-23 + HKI 23-24(22C2)'!E14+'HKI 22-23'!E14) -> 8 | F16: =IF($D16="","",'HK2 - 22-23 + HKI 23-24(22C2)'!F14+'HKI 22-23'!F14) -> 0 | G16: =IF($D16="","",'HK2 - 22-23 + HKI 23-24(22C2)'!G14+'HKI 22-23'!G14) -> 0 | H16: =IF($D16="","",'HK2 - 22-23 + HKI 23-24(22C2)'!H14+'HKI 22-23'!H14) -> 0 | I16: =IF($D16="","",'HK2 - 22-23 + HKI 23-24(22C2)'!I14+'HKI 22-23'!I14) -> 0 | J16: =IF($D16="","",'HK2 - 22-23 + HKI 23-24(22C2)'!J14+'HKI 22-23'!J14) -> 0 | K16: =IF($D16="","",'HK2 - 22-23 + HKI 23-24(22C2)'!K14+'HKI 22-23'!K14) -> 0 | L16: =IF($D16="","",'HK2 - 22-23 + HKI 23-24(22C2)'!L14+'HKI 22-23'!L14) -> 0 | ... AT16: =IF($D16="","",'HK2 - 22-23 + HKI 23-24(22C2)'!AT14+'HKI 22-23'!AT14) -> 47.9
A17: =IF(D17="","",SUBTOTAL(3,$D$14:D17)) -> 4 | C17: Khoa Khoa học cơ bản | D17: Bùi Lâm Trúc Quỳnh (TG) | E17: =IF($D17="","",'HK2 - 22-23 + HKI 23-24(22C2)'!E15+'HKI 22-23'!E15) -> 0 | F17: =IF($D17="","",'HK2 - 22-23 + HKI 23-24(22C2)'!F15+'HKI 22-23'!F15) -> 0 | G17: =IF($D17="","",'HK2 - 22-23 + HKI 23-24(22C2)'!G15+'HKI 22-23'!G15) -> 0 | H17: =IF($D17="","",'HK2 - 22-23 + HKI 23-24(22C2)'!H15+'HKI 22-23'!H15) -> 0 | I17: =IF($D17="","",'HK2 - 22-23 + HKI 23-24(22C2)'!I15+'HKI 22-23'!I15) -> 0 | J17: =IF($D17="","",'HK2 - 22-23 + HKI 23-24(22C2)'!J15+'HKI 22-23'!J15) -> 0 | K17: =IF($D17="","",'HK2 - 22-23 + HKI 23-24(22C2)'!K15+'HKI 22-23'!K15) -> 0 | L17: =IF($D17="","",'HK2 - 22-23 + HKI 23-24(22C2)'!L15+'HKI 22-23'!L15) -> 0 | ... AT17: =IF($D17="","",'HK2 - 22-23 + HKI 23-24(22C2)'!AT15+'HKI 22-23'!AT15) -> -11.6
A18: =IF(D18="","",SUBTOTAL(3,$D$14:D18)) -> 5 | B18: 1010121 | C18: Khoa Khoa học cơ bản | D18: Bùi Thị Hợp (TG) | E18: =IF($D18="","",'HK2 - 22-23 + HKI 23-24(22C2)'!E16+'HKI 22-23'!E16) -> 0 | F18: =IF($D18="","",'HK2 - 22-23 + HKI 23-24(22C2)'!F16+'HKI 22-23'!F16) -> 0 | G18: =IF($D18="","",'HK2 - 22-23 + HKI 23-24(22C2)'!G16+'HKI 22-23'!G16) -> 0 | H18: =IF($D18="","",'HK2 - 22-23 + HKI 23-24(22C2)'!H16+'HKI 22-23'!H16) -> 0 | I18: =IF($D18="","",'HK2 - 22-23 + HKI 23-24(22C2)'!I16+'HKI 22-23'!I16) -> 0 | J18: =IF($D18="","",'HK2 - 22-23 + HKI 23-24(22C2)'!J16+'HKI 22-23'!J16) -> 0 | K18: =IF($D18="","",'HK2 - 22-23 + HKI 23-24(22C2)'!K16+'HKI 22-23'!K16) -> 0 | L18: =IF($D18="","",'HK2 - 22-23 + HKI 23-24(22C2)'!L16+'HKI 22-23'!L16) -> 0 | ... AT18: =IF($D18="","",'HK2 - 22-23 + HKI 23-24(22C2)'!AT16+'HKI 22-23'!AT16) -> 48.8
A19: =IF(D19="","",SUBTOTAL(3,$D$14:D19)) -> 6 | B19: 1010083 | C19: Khoa Khoa học cơ bản | D19: Bùi Thị Ngọc Tuyền (TG) | E19: =IF($D19="","",'HK2 - 22-23 + HKI 23-24(22C2)'!E17+'HKI 22-23'!E17) -> 0 | F19: =IF($D19="","",'HK2 - 22-23 + HKI 23-24(22C2)'!F17+'HKI 22-23'!F17) -> 0 | G19: =IF($D19="","",'HK2 - 22-23 + HKI 23-24(22C2)'!G17+'HKI 22-23'!G17) -> 0 | H19: =IF($D19="","",'HK2 - 22-23 + HKI 23-24(22C2)'!H17+'HKI 22-23'!H17) -> 0 | I19: =IF($D19="","",'HK2 - 22-23 + HKI 23-24(22C2)'!I17+'HKI 22-23'!I17) -> 0 | J19: =IF($D19="","",'HK2 - 22-23 + HKI 23-24(22C2)'!J17+'HKI 22-23'!J17) -> 0 | K19: =IF($D19="","",'HK2 - 22-23 + HKI 23-24(22C2)'!K17+'HKI 22-23'!K17) -> 0 | L19: =IF($D19="","",'HK2 - 22-23 + HKI 23-24(22C2)'!L17+'HKI 22-23'!L17) -> 0 | ... AT19: =IF($D19="","",'HK2 - 22-23 + HKI 23-24(22C2)'!AT17+'HKI 22-23'!AT17) -> 0
A20: =IF(D20="","",SUBTOTAL(3,$D$14:D20)) -> 7 | B20: 1010050 | C20: Khoa Khoa học cơ bản | D20: Bùi Thị Tú Uyên | E20: =IF($D20="","",'HK2 - 22-23 + HKI 23-24(22C2)'!E18+'HKI 22-23'!E18) -> 0 | F20: =IF($D20="","",'HK2 - 22-23 + HKI 23-24(22C2)'!F18+'HKI 22-23'!F18) -> 0 | G20: =IF($D20="","",'HK2 - 22-23 + HKI 23-24(22C2)'!G18+'HKI 22-23'!G18) -> 0 | H20: =IF($D20="","",'HK2 - 22-23 + HKI 23-24(22C2)'!H18+'HKI 22-23'!H18) -> 0 | I20: =IF($D20="","",'HK2 - 22-23 + HKI 23-24(22C2)'!I18+'HKI 22-23'!I18) -> 0 | J20: =IF($D20="","",'HK2 - 22-23 + HKI 23-24(22C2)'!J18+'HKI 22-23'!J18) -> 0 | K20: =IF($D20="","",'HK2 - 22-23 + HKI 23-24(22C2)'!K18+'HKI 22-23'!K18) -> 0 | L20: =IF($D20="","",'HK2 - 22-23 + HKI 23-24(22C2)'!L18+'HKI 22-23'!L18) -> 0 | ... AT20: =IF($D20="","",'HK2 - 22-23 + HKI 23-24(22C2)'!AT18+'HKI 22-23'!AT18) -> 0
A21: =IF(D21="","",SUBTOTAL(3,$D$14:D21)) -> 8 | B21: 1010075 | C21: Khoa Khoa học cơ bản | D21: Bùi Văn Mạnh (TG) | E21: =IF($D21="","",'HK2 - 22-23 + HKI 23-24(22C2)'!E19+'HKI 22-23'!E19) -> 0 | F21: =IF($D21="","",'HK2 - 22-23 + HKI 23-24(22C2)'!F19+'HKI 22-23'!F19) -> 0 | G21: =IF($D21="","",'HK2 - 22-23 + HKI 23-24(22C2)'!G19+'HKI 22-23'!G19) -> 0 | H21: =IF($D21="","",'HK2 - 22-23 + HKI 23-24(22C2)'!H19+'HKI 22-23'!H19) -> 0 | I21: =IF($D21="","",'HK2 - 22-23 + HKI 23-24(22C2)'!I19+'HKI 22-23'!I19) -> 0 | J21: =IF($D21="","",'HK2 - 22-23 + HKI 23-24(22C2)'!J19+'HKI 22-23'!J19) -> 0 | K21: =IF($D21="","",'HK2 - 22-23 + HKI 23-24(22C2)'!K19+'HKI 22-23'!K19) -> 0 | L21: =IF($D21="","",'HK2 - 22-23 + HKI 23-24(22C2)'!L19+'HKI 22-23'!L19) -> 0 | ... AT21: =IF($D21="","",'HK2 - 22-23 + HKI 23-24(22C2)'!AT19+'HKI 22-23'!AT19) -> 0
A22: =IF(D22="","",SUBTOTAL(3,$D$14:D22)) -> 9 | B22: 1010071 | C22: Khoa Khoa học cơ bản | D22: Bùi Văn Phương (TG) | E22: =IF($D22="","",'HK2 - 22-23 + HKI 23-24(22C2)'!E20+'HKI 22-23'!E20) -> 0 | F22: =IF($D22="","",'HK2 - 22-23 + HKI 23-24(22C2)'!F20+'HKI 22-23'!F20) -> 0 | G22: =IF($D22="","",'HK2 - 22-23 + HKI 23-24(22C2)'!G20+'HKI 22-23'!G20) -> 0 | H22: =IF($D22="","",'HK2 - 22-23 + HKI 23-24(22C2)'!H20+'HKI 22-23'!H20) -> 0 | I22: =IF($D22="","",'HK2 - 22-23 + HKI 23-24(22C2)'!I20+'HKI 22-23'!I20) -> 0 | J22: =IF($D22="","",'HK2 - 22-23 + HKI 23-24(22C2)'!J20+'HKI 22-23'!J20) -> 0 | K22: =IF($D22="","",'HK2 - 22-23 + HKI 23-24(22C2)'!K20+'HKI 22-23'!K20) -> 0 | L22: =IF($D22="","",'HK2 - 22-23 + HKI 23-24(22C2)'!L20+'HKI 22-23'!L20) -> 0 | ... AT22: =IF($D22="","",'HK2 - 22-23 + HKI 23-24(22C2)'!AT20+'HKI 22-23'!AT20) -> 0
A23: =IF(D23="","",SUBTOTAL(3,$D$14:D23)) -> 10 | B23: 1010036 | C23: Khoa Khoa học cơ bản | D23: Cao Đình Trung Hậu | E23: =IF($D23="","",'HK2 - 22-23 + HKI 23-24(22C2)'!E21+'HKI 22-23'!E21) -> 0 | F23: =IF($D23="","",'HK2 - 22-23 + HKI 23-24(22C2)'!F21+'HKI 22-23'!F21) -> 0 | G23: =IF($D23="","",'HK2 - 22-23 + HKI 23-24(22C2)'!G21+'HKI 22-23'!G21) -> 0 | H23: =IF($D23="","",'HK2 - 22-23 + HKI 23-24(22C2)'!H21+'HKI 22-23'!H21) -> 0 | I23: =IF($D23="","",'HK2 - 22-23 + HKI 23-24(22C2)'!I21+'HKI 22-23'!I21) -> 0 | J23: =IF($D23="","",'HK2 - 22-23 + HKI 23-24(22C2)'!J21+'HKI 22-23'!J21) -> 0 | K23: =IF($D23="","",'HK2 - 22-23 + HKI 23-24(22C2)'!K21+'HKI 22-23'!K21) -> 0 | L23: =IF($D23="","",'HK2 - 22-23 + HKI 23-24(22C2)'!L21+'HKI 22-23'!L21) -> 0 | ... AT23: =IF($D23="","",'HK2 - 22-23 + HKI 23-24(22C2)'!AT21+'HKI 22-23'!AT21) -> 0
A24: =IF(D24="","",SUBTOTAL(3,$D$14:D24)) -> 11 | C24: Khoa Khoa học cơ bản | D24: Cao Thế Nhật (TG) | E24: =IF($D24="","",'HK2 - 22-23 + HKI 23-24(22C2)'!E22+'HKI 22-23'!E22) -> 0 | F24: =IF($D24="","",'HK2 - 22-23 + HKI 23-24(22C2)'!F22+'HKI 22-23'!F22) -> 0 | G24: =IF($D24="","",'HK2 - 22-23 + HKI 23-24(22C2)'!G22+'HKI 22-23'!G22) -> 0 | H24: =IF($D24="","",'HK2 - 22-23 + HKI 23-24(22C2)'!H22+'HKI 22-23'!H22) -> 0 | I24: =IF($D24="","",'HK2 - 22-23 + HKI 23-24(22C2)'!I22+'HKI 22-23'!I22) -> 0 | J24: =IF($D24="","",'HK2 - 22-23 + HKI 23-24(22C2)'!J22+'HKI 22-23'!J22) -> 0 | K24: =IF($D24="","",'HK2 - 22-23 + HKI 23-24(22C2)'!K22+'HKI 22-23'!K22) -> 0 | L24: =IF($D24="","",'HK2 - 22-23 + HKI 23-24(22C2)'!L22+'HKI 22-23'!L22) -> 0 | ... AT24: =IF($D24="","",'HK2 - 22-23 + HKI 23-24(22C2)'!AT22+'HKI 22-23'!AT22) -> 0
A25: =IF(D25="","",SUBTOTAL(3,$D$14:D25)) -> 12 | C25: Khoa Khoa học cơ bản | D25: Châu Quốc Cường (TG) | E25: =IF($D25="","",'HK2 - 22-23 + HKI 23-24(22C2)'!E23+'HKI 22-23'!E23) -> 4 | F25: =IF($D25="","",'HK2 - 22-23 + HKI 23-24(22C2)'!F23+'HKI 22-23'!F23) -> 0 | G25: =IF($D25="","",'HK2 - 22-23 + HKI 23-24(22C2)'!G23+'HKI 22-23'!G23) -> 0 | H25: =IF($D25="","",'HK2 - 22-23 + HKI 23-24(22C2)'!H23+'HKI 22-23'!H23) -> 0 | I25: =IF($D25="","",'HK2 - 22-23 + HKI 23-24(22C2)'!I23+'HKI 22-23'!I23) -> 0 | J25: =IF($D25="","",'HK2 - 22-23 + HKI 23-24(22C2)'!J23+'HKI 22-23'!J23) -> 0 | K25: =IF($D25="","",'HK2 - 22-23 + HKI 23-24(22C2)'!K23+'HKI 22-23'!K23) -> 0 | L25: =IF($D25="","",'HK2 - 22-23 + HKI 23-24(22C2)'!L23+'HKI 22-23'!L23) -> 0 | ... AT25: =IF($D25="","",'HK2 - 22-23 + HKI 23-24(22C2)'!AT23+'HKI 22-23'!AT23) -> 6.5
A26: =IF(D26="","",SUBTOTAL(3,$D$14:D26)) -> 13 | C26: Khoa Khoa học cơ bản | D26: Chiêm Thanh Quốc Anh (TG) | E26: =IF($D26="","",'HK2 - 22-23 + HKI 23-24(22C2)'!E24+'HKI 22-23'!E24) -> 0 | F26: =IF($D26="","",'HK2 - 22-23 + HKI 23-24(22C2)'!F24+'HKI 22-23'!F24) -> 0 | G26: =IF($D26="","",'HK2 - 22-23 + HKI 23-24(22C2)'!G24+'HKI 22-23'!G24) -> 0 | H26: =IF($D26="","",'HK2 - 22-23 + HKI 23-24(22C2)'!H24+'HKI 22-23'!H24) -> 0 | I26: =IF($D26="","",'HK2 - 22-23 + HKI 23-24(22C2)'!I24+'HKI 22-23'!I24) -> 0 | J26: =IF($D26="","",'HK2 - 22-23 + HKI 23-24(22C2)'!J24+'HKI 22-23'!J24) -> 0 | K26: =IF($D26="","",'HK2 - 22-23 + HKI 23-24(22C2)'!K24+'HKI 22-23'!K24) -> 0 | L26: =IF($D26="","",'HK2 - 22-23 + HKI 23-24(22C2)'!L24+'HKI 22-23'!L24) -> 0 | ... AT26: =IF($D26="","",'HK2 - 22-23 + HKI 23-24(22C2)'!AT24+'HKI 22-23'!AT24) -> -19.5
A27: =IF(D27="","",SUBTOTAL(3,$D$14:D27)) -> 14 | C27: Khoa Khoa học cơ bản | D27: Đặng Đoàn Cẩm Tú (TG) | E27: =IF($D27="","",'HK2 - 22-23 + HKI 23-24(22C2)'!E25+'HKI 22-23'!E25) -> 0 | F27: =IF($D27="","",'HK2 - 22-23 + HKI 23-24(22C2)'!F25+'HKI 22-23'!F25) -> 0 | G27: =IF($D27="","",'HK2 - 22-23 + HKI 23-24(22C2)'!G25+'HKI 22-23'!G25) -> 0 | H27: =IF($D27="","",'HK2 - 22-23 + HKI 23-24(22C2)'!H25+'HKI 22-23'!H25) -> 0 | I27: =IF($D27="","",'HK2 - 22-23 + HKI 23-24(22C2)'!I25+'HKI 22-23'!I25) -> 0 | J27: =IF($D27="","",'HK2 - 22-23 + HKI 23-24(22C2)'!J25+'HKI 22-23'!J25) -> 0 | K27: =IF($D27="","",'HK2 - 22-23 + HKI 23-24(22C2)'!K25+'HKI 22-23'!K25) -> 0 | L27: =IF($D27="","",'HK2 - 22-23 + HKI 23-24(22C2)'!L25+'HKI 22-23'!L25) -> 0 | ... AT27: =IF($D27="","",'HK2 - 22-23 + HKI 23-24(22C2)'!AT25+'HKI 22-23'!AT25) -> 0
A28: =IF(D28="","",SUBTOTAL(3,$D$14:D28)) -> 15 | B28: 1010072 | C28: Khoa Khoa học cơ bản | D28: Đặng Duy Đồng (TG) | E28: =IF($D28="","",'HK2 - 22-23 + HKI 23-24(22C2)'!E26+'HKI 22-23'!E26) -> 0 | F28: =IF($D28="","",'HK2 - 22-23 + HKI 23-24(22C2)'!F26+'HKI 22-23'!F26) -> 0 | G28: =IF($D28="","",'HK2 - 22-23 + HKI 23-24(22C2)'!G26+'HKI 22-23'!G26) -> 0 | H28: =IF($D28="","",'HK2 - 22-23 + HKI 23-24(22C2)'!H26+'HKI 22-23'!H26) -> 0 | I28: =IF($D28="","",'HK2 - 22-23 + HKI 23-24(22C2)'!I26+'HKI 22-23'!I26) -> 0 | J28: =IF($D28="","",'HK2 - 22-23 + HKI 23-24(22C2)'!J26+'HKI 22-23'!J26) -> 0 | K28: =IF($D28="","",'HK2 - 22-23 + HKI 23-24(22C2)'!K26+'HKI 22-23'!K26) -> 0 | L28: =IF($D28="","",'HK2 - 22-23 + HKI 23-24(22C2)'!L26+'HKI 22-23'!L26) -> 0 | ... AT28: =IF($D28="","",'HK2 - 22-23 + HKI 23-24(22C2)'!AT26+'HKI 22-23'!AT26) -> 0
A29: =IF(D29="","",SUBTOTAL(3,$D$14:D29)) -> 16 | C29: Khoa Khoa học cơ bản | D29: Đặng Thị Giàu (TG) | E29: =IF($D29="","",'HK2 - 22-23 + HKI 23-24(22C2)'!E27+'HKI 22-23'!E27) -> 0 | F29: =IF($D29="","",'HK2 - 22-23 + HKI 23-24(22C2)'!F27+'HKI 22-23'!F27) -> 0 | G29: =IF($D29="","",'HK2 - 22-23 + HKI 23-24(22C2)'!G27+'HKI 22-23'!G27) -> 0 | H29: =IF($D29="","",'HK2 - 22-23 + HKI 23-24(22C2)'!H27+'HKI 22-23'!H27) -> 0 | I29: =IF($D29="","",'HK2 - 22-23 + HKI 23-24(22C2)'!I27+'HKI 22-23'!I27) -> 0 | J29: =IF($D29="","",'HK2 - 22-23 + HKI 23-24(22C2)'!J27+'HKI 22-23'!J27) -> 0 | K29: =IF($D29="","",'HK2 - 22-23 + HKI 23-24(22C2)'!K27+'HKI 22-23'!K27) -> 0 | L29: =IF($D29="","",'HK2 - 22-23 + HKI 23-24(22C2)'!L27+'HKI 22-23'!L27) -> 0 | ... AT29: =IF($D29="","",'HK2 - 22-23 + HKI 23-24(22C2)'!AT27+'HKI 22-23'!AT27) -> 0
A30: =IF(D30="","",SUBTOTAL(3,$D$14:D30)) -> 17 | C30: Khoa Khoa học cơ bản | D30: Đặng Thị Hiên (TG) | E30: =IF($D30="","",'HK2 - 22-23 + HKI 23-24(22C2)'!E28+'HKI 22-23'!E28) -> 0 | F30: =IF($D30="","",'HK2 - 22-23 + HKI 23-24(22C2)'!F28+'HKI 22-23'!F28) -> 0 | G30: =IF($D30="","",'HK2 - 22-23 + HKI 23-24(22C2)'!G28+'HKI 22-23'!G28) -> 0 | H30: =IF($D30="","",'HK2 - 22-23 + HKI 23-24(22C2)'!H28+'HKI 22-23'!H28) -> 0 | I30: =IF($D30="","",'HK2 - 22-23 + HKI 23-24(22C2)'!I28+'HKI 22-23'!I28) -> 0 | J30: =IF($D30="","",'HK2 - 22-23 + HKI 23-24(22C2)'!J28+'HKI 22-23'!J28) -> 0 | K30: =IF($D30="","",'HK2 - 22-23 + HKI 23-24(22C2)'!K28+'HKI 22-23'!K28) -> 0 | L30: =IF($D30="","",'HK2 - 22-23 + HKI 23-24(22C2)'!L28+'HKI 22-23'!L28) -> 0 | ... AT30: =IF($D30="","",'HK2 - 22-23 + HKI 23-24(22C2)'!AT28+'HKI 22-23'!AT28) -> 0
A31: =IF(D31="","",SUBTOTAL(3,$D$14:D31)) -> 18 | B31: 1010024 | C31: Khoa Khoa học cơ bản | D31: Đặng Thị Kiến Trúc | E31: =IF($D31="","",'HK2 - 22-23 + HKI 23-24(22C2)'!E29+'HKI 22-23'!E29) -> 0 | F31: =IF($D31="","",'HK2 - 22-23 + HKI 23-24(22C2)'!F29+'HKI 22-23'!F29) -> 0 | G31: =IF($D31="","",'HK2 - 22-23 + HKI 23-24(22C2)'!G29+'HKI 22-23'!G29) -> 0 | H31: =IF($D31="","",'HK2 - 22-23 + HKI 23-24(22C2)'!H29+'HKI 22-23'!H29) -> 0 | I31: =IF($D31="","",'HK2 - 22-23 + HKI 23-24(22C2)'!I29+'HKI 22-23'!I29) -> 0 | J31: =IF($D31="","",'HK2 - 22-23 + HKI 23-24(22C2)'!J29+'HKI 22-23'!J29) -> 0 | K31: =IF($D31="","",'HK2 - 22-23 + HKI 23-24(22C2)'!K29+'HKI 22-23'!K29) -> 0 | L31: =IF($D31="","",'HK2 - 22-23 + HKI 23-24(22C2)'!L29+'HKI 22-23'!L29) -> 0 | ... AT31: =IF($D31="","",'HK2 - 22-23 + HKI 23-24(22C2)'!AT29+'HKI 22-23'!AT29) -> 12.2
A32: =IF(D32="","",SUBTOTAL(3,$D$14:D32)) -> 19 | C32: Khoa Khoa học cơ bản | D32: Đặng Thừa Ân (TG) | E32: =IF($D32="","",'HK2 - 22-23 + HKI 23-24(22C2)'!E30+'HKI 22-23'!E30) -> 0 | F32: =IF($D32="","",'HK2 - 22-23 + HKI 23-24(22C2)'!F30+'HKI 22-23'!F30) -> 0 | G32: =IF($D32="","",'HK2 - 22-23 + HKI 23-24(22C2)'!G30+'HKI 22-23'!G30) -> 0 | H32: =IF($D32="","",'HK2 - 22-23 + HKI 23-24(22C2)'!H30+'HKI 22-23'!H30) -> 0 | I32: =IF($D32="","",'HK2 - 22-23 + HKI 23-24(22C2)'!I30+'HKI 22-23'!I30) -> 0 | J32: =IF($D32="","",'HK2 - 22-23 + HKI 23-24(22C2)'!J30+'HKI 22-23'!J30) -> 0 | K32: =IF($D32="","",'HK2 - 22-23 + HKI 23-24(22C2)'!K30+'HKI 22-23'!K30) -> 0 | L32: =IF($D32="","",'HK2 - 22-23 + HKI 23-24(22C2)'!L30+'HKI 22-23'!L30) -> 0 | ... AT32: =IF($D32="","",'HK2 - 22-23 + HKI 23-24(22C2)'!AT30+'HKI 22-23'!AT30) -> 0
A33: =IF(D33="","",SUBTOTAL(3,$D$14:D33)) -> 20 | C33: Khoa Khoa học cơ bản | D33: Đào Thị Kim Hương (TG) | E33: =IF($D33="","",'HK2 - 22-23 + HKI 23-24(22C2)'!E31+'HKI 22-23'!E31) -> 0 | F33: =IF($D33="","",'HK2 - 22-23 + HKI 23-24(22C2)'!F31+'HKI 22-23'!F31) -> 0 | G33: =IF($D33="","",'HK2 - 22-23 + HKI 23-24(22C2)'!G31+'HKI 22-23'!G31) -> 0 | H33: =IF($D33="","",'HK2 - 22-23 + HKI 23-24(22C2)'!H31+'HKI 22-23'!H31) -> 0 | I33: =IF($D33="","",'HK2 - 22-23 + HKI 23-24(22C2)'!I31+'HKI 22-23'!I31) -> 0 | J33: =IF($D33="","",'HK2 - 22-23 + HKI 23-24(22C2)'!J31+'HKI 22-23'!J31) -> 0 | K33: =IF($D33="","",'HK2 - 22-23 + HKI 23-24(22C2)'!K31+'HKI 22-23'!K31) -> 0 | L33: =IF($D33="","",'HK2 - 22-23 + HKI 23-24(22C2)'!L31+'HKI 22-23'!L31) -> 0 | ... AT33: =IF($D33="","",'HK2 - 22-23 + HKI 23-24(22C2)'!AT31+'HKI 22-23'!AT31) -> 0
A34: =IF(D34="","",SUBTOTAL(3,$D$14:D34)) -> 21 | C34: Khoa Khoa học cơ bản | D34: Đào Thị Ngọc Yến (TG) | E34: =IF($D34="","",'HK2 - 22-23 + HKI 23-24(22C2)'!E32+'HKI 22-23'!E32) -> 1 | F34: =IF($D34="","",'HK2 - 22-23 + HKI 23-24(22C2)'!F32+'HKI 22-23'!F32) -> 0 | G34: =IF($D34="","",'HK2 - 22-23 + HKI 23-24(22C2)'!G32+'HKI 22-23'!G32) -> 0 | H34: =IF($D34="","",'HK2 - 22-23 + HKI 23-24(22C2)'!H32+'HKI 22-23'!H32) -> 0 | I34: =IF($D34="","",'HK2 - 22-23 + HKI 23-24(22C2)'!I32+'HKI 22-23'!I32) -> 0 | J34: =IF($D34="","",'HK2 - 22-23 + HKI 23-24(22C2)'!J32+'HKI 22-23'!J32) -> 0 | K34: =IF($D34="","",'HK2 - 22-23 + HKI 23-24(22C2)'!K32+'HKI 22-23'!K32) -> 0 | L34: =IF($D34="","",'HK2 - 22-23 + HKI 23-24(22C2)'!L32+'HKI 22-23'!L32) -> 0 | ... AT34: =IF($D34="","",'HK2 - 22-23 + HKI 23-24(22C2)'!AT32+'HKI 22-23'!AT32) -> 8.1
A35: =IF(D35="","",SUBTOTAL(3,$D$14:D35)) -> 22 | B35: 1010056 | C35: Khoa Khoa học cơ bản | D35: Đinh Thị Thắng (TG) | E35: =IF($D35="","",'HK2 - 22-23 + HKI 23-24(22C2)'!E33+'HKI 22-23'!E33) -> 0 | F35: =IF($D35="","",'HK2 - 22-23 + HKI 23-24(22C2)'!F33+'HKI 22-23'!F33) -> 0 | G35: =IF($D35="","",'HK2 - 22-23 + HKI 23-24(22C2)'!G33+'HKI 22-23'!G33) -> 0 | H35: =IF($D35="","",'HK2 - 22-23 + HKI 23-24(22C2)'!H33+'HKI 22-23'!H33) -> 0 | I35: =IF($D35="","",'HK2 - 22-23 + HKI 23-24(22C2)'!I33+'HKI 22-23'!I33) -> 0 | J35: =IF($D35="","",'HK2 - 22-23 + HKI 23-24(22C2)'!J33+'HKI 22-23'!J33) -> 0 | K35: =IF($D35="","",'HK2 - 22-23 + HKI 23-24(22C2)'!K33+'HKI 22-23'!K33) -> 0 | L35: =IF($D35="","",'HK2 - 22-23 + HKI 23-24(22C2)'!L33+'HKI 22-23'!L33) -> 0 | ... AT35: =IF($D35="","",'HK2 - 22-23 + HKI 23-24(22C2)'!AT33+'HKI 22-23'!AT33) -> 0
A36: =IF(D36="","",SUBTOTAL(3,$D$14:D36)) -> 23 | B36: 1010076 | C36: Khoa Khoa học cơ bản | D36: Đinh Văn Quyên (TG) | E36: =IF($D36="","",'HK2 - 22-23 + HKI 23-24(22C2)'!E34+'HKI 22-23'!E34) -> 0 | F36: =IF($D36="","",'HK2 - 22-23 + HKI 23-24(22C2)'!F34+'HKI 22-23'!F34) -> 0 | G36: =IF($D36="","",'HK2 - 22-23 + HKI 23-24(22C2)'!G34+'HKI 22-23'!G34) -> 0 | H36: =IF($D36="","",'HK2 - 22-23 + HKI 23-24(22C2)'!H34+'HKI 22-23'!H34) -> 0 | I36: =IF($D36="","",'HK2 - 22-23 + HKI 23-24(22C2)'!I34+'HKI 22-23'!I34) -> 0 | J36: =IF($D36="","",'HK2 - 22-23 + HKI 23-24(22C2)'!J34+'HKI 22-23'!J34) -> 0 | K36: =IF($D36="","",'HK2 - 22-23 + HKI 23-24(22C2)'!K34+'HKI 22-23'!K34) -> 0 | L36: =IF($D36="","",'HK2 - 22-23 + HKI 23-24(22C2)'!L34+'HKI 22-23'!L34) -> 0 | ... AT36: =IF($D36="","",'HK2 - 22-23 + HKI 23-24(22C2)'!AT34+'HKI 22-23'!AT34) -> 0
A37: =IF(D37="","",SUBTOTAL(3,$D$14:D37)) -> 24 | B37: 1010049 | C37: Khoa Khoa học cơ bản | D37: Đoàn Thị Điểm (TG) | E37: =IF($D37="","",'HK2 - 22-23 + HKI 23-24(22C2)'!E35+'HKI 22-23'!E35) -> 0 | F37: =IF($D37="","",'HK2 - 22-23 + HKI 23-24(22C2)'!F35+'HKI 22-23'!F35) -> 0 | G37: =IF($D37="","",'HK2 - 22-23 + HKI 23-24(22C2)'!G35+'HKI 22-23'!G35) -> 0 | H37: =IF($D37="","",'HK2 - 22-23 + HKI 23-24(22C2)'!H35+'HKI 22-23'!H35) -> 0 | I37: =IF($D37="","",'HK2 - 22-23 + HKI 23-24(22C2)'!I35+'HKI 22-23'!I35) -> 0 | J37: =IF($D37="","",'HK2 - 22-23 + HKI 23-24(22C2)'!J35+'HKI 22-23'!J35) -> 0 | K37: =IF($D37="","",'HK2 - 22-23 + HKI 23-24(22C2)'!K35+'HKI 22-23'!K35) -> 0 | L37: =IF($D37="","",'HK2 - 22-23 + HKI 23-24(22C2)'!L35+'HKI 22-23'!L35) -> 0 | ... AT37: =IF($D37="","",'HK2 - 22-23 + HKI 23-24(22C2)'!AT35+'HKI 22-23'!AT35) -> 0
A38: =IF(D38="","",SUBTOTAL(3,$D$14:D38)) -> 25 | B38: 1010063 | C38: Khoa Khoa học cơ bản | D38: Đồng Văn Đẹp (TG) | E38: =IF($D38="","",'HK2 - 22-23 + HKI 23-24(22C2)'!E36+'HKI 22-23'!E36) -> 0 | F38: =IF($D38="","",'HK2 - 22-23 + HKI 23-24(22C2)'!F36+'HKI 22-23'!F36) -> 0 | G38: =IF($D38="","",'HK2 - 22-23 + HKI 23-24(22C2)'!G36+'HKI 22-23'!G36) -> 0 | H38: =IF($D38="","",'HK2 - 22-23 + HKI 23-24(22C2)'!H36+'HKI 22-23'!H36) -> 0 | I38: =IF($D38="","",'HK2 - 22-23 + HKI 23-24(22C2)'!I36+'HKI 22-23'!I36) -> 0 | J38: =IF($D38="","",'HK2 - 22-23 + HKI 23-24(22C2)'!J36+'HKI 22-23'!J36) -> 0 | K38: =IF($D38="","",'HK2 - 22-23 + HKI 23-24(22C2)'!K36+'HKI 22-23'!K36) -> 0 | L38: =IF($D38="","",'HK2 - 22-23 + HKI 23-24(22C2)'!L36+'HKI 22-23'!L36) -> 0 | ... AT38: =IF($D38="","",'HK2 - 22-23 + HKI 23-24(22C2)'!AT36+'HKI 22-23'!AT36) -> 0
A39: =IF(D39="","",SUBTOTAL(3,$D$14:D39)) -> 26 | B39: 1010037 | C39: Khoa Khoa học cơ bản | D39: Dương Đức Kiên | E39: =IF($D39="","",'HK2 - 22-23 + HKI 23-24(22C2)'!E37+'HKI 22-23'!E37) -> 12 | F39: =IF($D39="","",'HK2 - 22-23 + HKI 23-24(22C2)'!F37+'HKI 22-23'!F37) -> 0 | G39: =IF($D39="","",'HK2 - 22-23 + HKI 23-24(22C2)'!G37+'HKI 22-23'!G37) -> 0 | H39: =IF($D39="","",'HK2 - 22-23 + HKI 23-24(22C2)'!H37+'HKI 22-23'!H37) -> 0 | I39: =IF($D39="","",'HK2 - 22-23 + HKI 23-24(22C2)'!I37+'HKI 22-23'!I37) -> 0 | J39: =IF($D39="","",'HK2 - 22-23 + HKI 23-24(22C2)'!J37+'HKI 22-23'!J37) -> 0 | K39: =IF($D39="","",'HK2 - 22-23 + HKI 23-24(22C2)'!K37+'HKI 22-23'!K37) -> 0 | L39: =IF($D39="","",'HK2 - 22-23 + HKI 23-24(22C2)'!L37+'HKI 22-23'!L37) -> 0 | ... AT39: =IF($D39="","",'HK2 - 22-23 + HKI 23-24(22C2)'!AT37+'HKI 22-23'!AT37) -> 130.7
A40: =IF(D40="","",SUBTOTAL(3,$D$14:D40)) -> 27 | B40: 1010085 | C40: Khoa Khoa học cơ bản | D40: Dương Lê Kỳ Quang (TG) | E40: =IF($D40="","",'HK2 - 22-23 + HKI 23-24(22C2)'!E38+'HKI 22-23'!E38) -> 0 | F40: =IF($D40="","",'HK2 - 22-23 + HKI 23-24(22C2)'!F38+'HKI 22-23'!F38) -> 0 | G40: =IF($D40="","",'HK2 - 22-23 + HKI 23-24(22C2)'!G38+'HKI 22-23'!G38) -> 0 | H40: =IF($D40="","",'HK2 - 22-23 + HKI 23-24(22C2)'!H38+'HKI 22-23'!H38) -> 0 | I40: =IF($D40="","",'HK2 - 22-23 + HKI 23-24(22C2)'!I38+'HKI 22-23'!I38) -> 0 | J40: =IF($D40="","",'HK2 - 22-23 + HKI 23-24(22C2)'!J38+'HKI 22-23'!J38) -> 0 | K40: =IF($D40="","",'HK2 - 22-23 + HKI 23-24(22C2)'!K38+'HKI 22-23'!K38) -> 0 | L40: =IF($D40="","",'HK2 - 22-23 + HKI 23-24(22C2)'!L38+'HKI 22-23'!L38) -> 0 | ... AT40: =IF($D40="","",'HK2 - 22-23 + HKI 23-24(22C2)'!AT38+'HKI 22-23'!AT38) -> 0
A41: =IF(D41="","",SUBTOTAL(3,$D$14:D41)) -> 28 | B41: 1010030 | C41: Khoa Khoa học cơ bản | D41: Giang Phi Hùng | E41: =IF($D41="","",'HK2 - 22-23 + HKI 23-24(22C2)'!E39+'HKI 22-23'!E39) -> 0 | F41: =IF($D41="","",'HK2 - 22-23 + HKI 23-24(22C2)'!F39+'HKI 22-23'!F39) -> 0 | G41: =IF($D41="","",'HK2 - 22-23 + HKI 23-24(22C2)'!G39+'HKI 22-23'!G39) -> 0 | H41: =IF($D41="","",'HK2 - 22-23 + HKI 23-24(22C2)'!H39+'HKI 22-23'!H39) -> 0 | I41: =IF($D41="","",'HK2 - 22-23 + HKI 23-24(22C2)'!I39+'HKI 22-23'!I39) -> 0 | J41: =IF($D41="","",'HK2 - 22-23 + HKI 23-24(22C2)'!J39+'HKI 22-23'!J39) -> 0 | K41: =IF($D41="","",'HK2 - 22-23 + HKI 23-24(22C2)'!K39+'HKI 22-23'!K39) -> 0 | L41: =IF($D41="","",'HK2 - 22-23 + HKI 23-24(22C2)'!L39+'HKI 22-23'!L39) -> 0 | ... AT41: =IF($D41="","",'HK2 - 22-23 + HKI 23-24(22C2)'!AT39+'HKI 22-23'!AT39) -> 309
A42: =IF(D42="","",SUBTOTAL(3,$D$14:D42)) -> 29 | C42: Khoa Khoa học cơ bản | D42: Hà Đông Cảnh (TG) | E42: =IF($D42="","",'HK2 - 22-23 + HKI 23-24(22C2)'!E40+'HKI 22-23'!E40) -> 0 | F42: =IF($D42="","",'HK2 - 22-23 + HKI 23-24(22C2)'!F40+'HKI 22-23'!F40) -> 0 | G42: =IF($D42="","",'HK2 - 22-23 + HKI 23-24(22C2)'!G40+'HKI 22-23'!G40) -> 0 | H42: =IF($D42="","",'HK2 - 22-23 + HKI 23-24(22C2)'!H40+'HKI 22-23'!H40) -> 0 | I42: =IF($D42="","",'HK2 - 22-23 + HKI 23-24(22C2)'!I40+'HKI 22-23'!I40) -> 0 | J42: =IF($D42="","",'HK2 - 22-23 + HKI 23-24(22C2)'!J40+'HKI 22-23'!J40) -> 0 | K42: =IF($D42="","",'HK2 - 22-23 + HKI 23-24(22C2)'!K40+'HKI 22-23'!K40) -> 0 | L42: =IF($D42="","",'HK2 - 22-23 + HKI 23-24(22C2)'!L40+'HKI 22-23'!L40) -> 0 | ... AT42: =IF($D42="","",'HK2 - 22-23 + HKI 23-24(22C2)'!AT40+'HKI 22-23'!AT40) -> -17.6
A43: =IF(D43="","",SUBTOTAL(3,$D$14:D43)) -> 30 | B43: 1010031 | C43: Khoa Khoa học cơ bản | D43: Hà Như Mai | E43: =IF($D43="","",'HK2 - 22-23 + HKI 23-24(22C2)'!E41+'HKI 22-23'!E41) -> 5 | F43: =IF($D43="","",'HK2 - 22-23 + HKI 23-24(22C2)'!F41+'HKI 22-23'!F41) -> 0 | G43: =IF($D43="","",'HK2 - 22-23 + HKI 23-24(22C2)'!G41+'HKI 22-23'!G41) -> 0 | H43: =IF($D43="","",'HK2 - 22-23 + HKI 23-24(22C2)'!H41+'HKI 22-23'!H41) -> 0 | I43: =IF($D43="","",'HK2 - 22-23 + HKI 23-24(22C2)'!I41+'HKI 22-23'!I41) -> 0 | J43: =IF($D43="","",'HK2 - 22-23 + HKI 23-24(22C2)'!J41+'HKI 22-23'!J41) -> 0 | K43: =IF($D43="","",'HK2 - 22-23 + HKI 23-24(22C2)'!K41+'HKI 22-23'!K41) -> 0 | L43: =IF($D43="","",'HK2 - 22-23 + HKI 23-24(22C2)'!L41+'HKI 22-23'!L41) -> 0 | ... AT43: =IF($D43="","",'HK2 - 22-23 + HKI 23-24(22C2)'!AT41+'HKI 22-23'!AT41) -> 133.1
A44: =IF(D44="","",SUBTOTAL(3,$D$14:D44)) -> 31 | C44: Khoa Khoa học cơ bản | D44: Hà Thị Hường (TG) | E44: =IF($D44="","",'HK2 - 22-23 + HKI 23-24(22C2)'!E42+'HKI 22-23'!E42) -> 1 | F44: =IF($D44="","",'HK2 - 22-23 + HKI 23-24(22C2)'!F42+'HKI 22-23'!F42) -> 0 | G44: =IF($D44="","",'HK2 - 22-23 + HKI 23-24(22C2)'!G42+'HKI 22-23'!G42) -> 0 | H44: =IF($D44="","",'HK2 - 22-23 + HKI 23-24(22C2)'!H42+'HKI 22-23'!H42) -> 0 | I44: =IF($D44="","",'HK2 - 22-23 + HKI 23-24(22C2)'!I42+'HKI 22-23'!I42) -> 0 | J44: =IF($D44="","",'HK2 - 22-23 + HKI 23-24(22C2)'!J42+'HKI 22-23'!J42) -> 0 | K44: =IF($D44="","",'HK2 - 22-23 + HKI 23-24(22C2)'!K42+'HKI 22-23'!K42) -> 0 | L44: =IF($D44="","",'HK2 - 22-23 + HKI 23-24(22C2)'!L42+'HKI 22-23'!L42) -> 0 | ... AT44: =IF($D44="","",'HK2 - 22-23 + HKI 23-24(22C2)'!AT42+'HKI 22-23'!AT42) -> 32.1
A45: =IF(D45="","",SUBTOTAL(3,$D$14:D45)) -> 32 | C45: Khoa Khoa học cơ bản | D45: Hà Thị Thu Huyền (TG) | E45: =IF($D45="","",'HK2 - 22-23 + HKI 23-24(22C2)'!E43+'HKI 22-23'!E43) -> 0 | F45: =IF($D45="","",'HK2 - 22-23 + HKI 23-24(22C2)'!F43+'HKI 22-23'!F43) -> 0 | G45: =IF($D45="","",'HK2 - 22-23 + HKI 23-24(22C2)'!G43+'HKI 22-23'!G43) -> 0 | H45: =IF($D45="","",'HK2 - 22-23 + HKI 23-24(22C2)'!H43+'HKI 22-23'!H43) -> 0 | I45: =IF($D45="","",'HK2 - 22-23 + HKI 23-24(22C2)'!I43+'HKI 22-23'!I43) -> 0 | J45: =IF($D45="","",'HK2 - 22-23 + HKI 23-24(22C2)'!J43+'HKI 22-23'!J43) -> 0 | K45: =IF($D45="","",'HK2 - 22-23 + HKI 23-24(22C2)'!K43+'HKI 22-23'!K43) -> 0 | L45: =IF($D45="","",'HK2 - 22-23 + HKI 23-24(22C2)'!L43+'HKI 22-23'!L43) -> 0 | ... AT45: =IF($D45="","",'HK2 - 22-23 + HKI 23-24(22C2)'!AT43+'HKI 22-23'!AT43) -> 0
A46: =IF(D46="","",SUBTOTAL(3,$D$14:D46)) -> 33 | B46: 1010053 | C46: Khoa Khoa học cơ bản | D46: Hà Việt Hường (TG) | E46: =IF($D46="","",'HK2 - 22-23 + HKI 23-24(22C2)'!E44+'HKI 22-23'!E44) -> 0 | F46: =IF($D46="","",'HK2 - 22-23 + HKI 23-24(22C2)'!F44+'HKI 22-23'!F44) -> 0 | G46: =IF($D46="","",'HK2 - 22-23 + HKI 23-24(22C2)'!G44+'HKI 22-23'!G44) -> 0 | H46: =IF($D46="","",'HK2 - 22-23 + HKI 23-24(22C2)'!H44+'HKI 22-23'!H44) -> 0 | I46: =IF($D46="","",'HK2 - 22-23 + HKI 23-24(22C2)'!I44+'HKI 22-23'!I44) -> 0 | J46: =IF($D46="","",'HK2 - 22-23 + HKI 23-24(22C2)'!J44+'HKI 22-23'!J44) -> 0 | K46: =IF($D46="","",'HK2 - 22-23 + HKI 23-24(22C2)'!K44+'HKI 22-23'!K44) -> 0 | L46: =IF($D46="","",'HK2 - 22-23 + HKI 23-24(22C2)'!L44+'HKI 22-23'!L44) -> 0 | ... AT46: =IF($D46="","",'HK2 - 22-23 + HKI 23-24(22C2)'!AT44+'HKI 22-23'!AT44) -> 3.3
A47: =IF(D47="","",SUBTOTAL(3,$D$14:D47)) -> 34 | B47: 1010057 | C47: Khoa Khoa học cơ bản | D47: Hồ Khắc Khuyên (TG) | E47: =IF($D47="","",'HK2 - 22-23 + HKI 23-24(22C2)'!E45+'HKI 22-23'!E45) -> 0 | F47: =IF($D47="","",'HK2 - 22-23 + HKI 23-24(22C2)'!F45+'HKI 22-23'!F45) -> 0 | G47: =IF($D47="","",'HK2 - 22-23 + HKI 23-24(22C2)'!G45+'HKI 22-23'!G45) -> 0 | H47: =IF($D47="","",'HK2 - 22-23 + HKI 23-24(22C2)'!H45+'HKI 22-23'!H45) -> 0 | I47: =IF($D47="","",'HK2 - 22-23 + HKI 23-24(22C2)'!I45+'HKI 22-23'!I45) -> 0 | J47: =IF($D47="","",'HK2 - 22-23 + HKI 23-24(22C2)'!J45+'HKI 22-23'!J45) -> 0 | K47: =IF($D47="","",'HK2 - 22-23 + HKI 23-24(22C2)'!K45+'HKI 22-23'!K45) -> 0 | L47: =IF($D47="","",'HK2 - 22-23 + HKI 23-24(22C2)'!L45+'HKI 22-23'!L45) -> 0 | ... AT47: =IF($D47="","",'HK2 - 22-23 + HKI 23-24(22C2)'!AT45+'HKI 22-23'!AT45) -> 11.3
A48: =IF(D48="","",SUBTOTAL(3,$D$14:D48)) -> 35 | B48: 1010060 | C48: Khoa Khoa học cơ bản | D48: Hồ Minh Hùng (TG) | E48: =IF($D48="","",'HK2 - 22-23 + HKI 23-24(22C2)'!E46+'HKI 22-23'!E46) -> 0 | F48: =IF($D48="","",'HK2 - 22-23 + HKI 23-24(22C2)'!F46+'HKI 22-23'!F46) -> 0 | G48: =IF($D48="","",'HK2 - 22-23 + HKI 23-24(22C2)'!G46+'HKI 22-23'!G46) -> 0 | H48: =IF($D48="","",'HK2 - 22-23 + HKI 23-24(22C2)'!H46+'HKI 22-23'!H46) -> 0 | I48: =IF($D48="","",'HK2 - 22-23 + HKI 23-24(22C2)'!I46+'HKI 22-23'!I46) -> 0 | J48: =IF($D48="","",'HK2 - 22-23 + HKI 23-24(22C2)'!J46+'HKI 22-23'!J46) -> 0 | K48: =IF($D48="","",'HK2 - 22-23 + HKI 23-24(22C2)'!K46+'HKI 22-23'!K46) -> 0 | L48: =IF($D48="","",'HK2 - 22-23 + HKI 23-24(22C2)'!L46+'HKI 22-23'!L46) -> 0 | ... AT48: =IF($D48="","",'HK2 - 22-23 + HKI 23-24(22C2)'!AT46+'HKI 22-23'!AT46) -> 0
A49: =IF(D49="","",SUBTOTAL(3,$D$14:D49)) -> 36 | B49: 1010093 | C49: Khoa Khoa học cơ bản | D49: Hồ Thị Thanh Thương (TG) | E49: =IF($D49="","",'HK2 - 22-23 + HKI 23-24(22C2)'!E47+'HKI 22-23'!E47) -> 2 | F49: =IF($D49="","",'HK2 - 22-23 + HKI 23-24(22C2)'!F47+'HKI 22-23'!F47) -> 0 | G49: =IF($D49="","",'HK2 - 22-23 + HKI 23-24(22C2)'!G47+'HKI 22-23'!G47) -> 0 | H49: =IF($D49="","",'HK2 - 22-23 + HKI 23-24(22C2)'!H47+'HKI 22-23'!H47) -> 0 | I49: =IF($D49="","",'HK2 - 22-23 + HKI 23-24(22C2)'!I47+'HKI 22-23'!I47) -> 0 | J49: =IF($D49="","",'HK2 - 22-23 + HKI 23-24(22C2)'!J47+'HKI 22-23'!J47) -> 0 | K49: =IF($D49="","",'HK2 - 22-23 + HKI 23-24(22C2)'!K47+'HKI 22-23'!K47) -> 0 | L49: =IF($D49="","",'HK2 - 22-23 + HKI 23-24(22C2)'!L47+'HKI 22-23'!L47) -> 0 | ... AT49: =IF($D49="","",'HK2 - 22-23 + HKI 23-24(22C2)'!AT47+'HKI 22-23'!AT47) -> -8.3
A50: =IF(D50="","",SUBTOTAL(3,$D$14:D50)) -> 37 | C50: Khoa Khoa học cơ bản | D50: Hồ Thị Thu Hương (TG) | E50: =IF($D50="","",'HK2 - 22-23 + HKI 23-24(22C2)'!E48+'HKI 22-23'!E48) -> 0 | F50: =IF($D50="","",'HK2 - 22-23 + HKI 23-24(22C2)'!F48+'HKI 22-23'!F48) -> 0 | G50: =IF($D50="","",'HK2 - 22-23 + HKI 23-24(22C2)'!G48+'HKI 22-23'!G48) -> 0 | H50: =IF($D50="","",'HK2 - 22-23 + HKI 23-24(22C2)'!H48+'HKI 22-23'!H48) -> 0 | I50: =IF($D50="","",'HK2 - 22-23 + HKI 23-24(22C2)'!I48+'HKI 22-23'!I48) -> 0 | J50: =IF($D50="","",'HK2 - 22-23 + HKI 23-24(22C2)'!J48+'HKI 22-23'!J48) -> 0 | K50: =IF($D50="","",'HK2 - 22-23 + HKI 23-24(22C2)'!K48+'HKI 22-23'!K48) -> 0 | L50: =IF($D50="","",'HK2 - 22-23 + HKI 23-24(22C2)'!L48+'HKI 22-23'!L48) -> 0 | ... AT50: =IF($D50="","",'HK2 - 22-23 + HKI 23-24(22C2)'!AT48+'HKI 22-23'!AT48) -> -2.8
A51: =IF(D51="","",SUBTOTAL(3,$D$14:D51)) -> 38 | C51: Khoa Khoa học cơ bản | D51: Hồ Tô Như Ý (TG) | E51: =IF($D51="","",'HK2 - 22-23 + HKI 23-24(22C2)'!E49+'HKI 22-23'!E49) -> 0 | F51: =IF($D51="","",'HK2 - 22-23 + HKI 23-24(22C2)'!F49+'HKI 22-23'!F49) -> 0 | G51: =IF($D51="","",'HK2 - 22-23 + HKI 23-24(22C2)'!G49+'HKI 22-23'!G49) -> 0 | H51: =IF($D51="","",'HK2 - 22-23 + HKI 23-24(22C2)'!H49+'HKI 22-23'!H49) -> 0 | I51: =IF($D51="","",'HK2 - 22-23 + HKI 23-24(22C2)'!I49+'HKI 22-23'!I49) -> 0 | J51: =IF($D51="","",'HK2 - 22-23 + HKI 23-24(22C2)'!J49+'HKI 22-23'!J49) -> 0 | K51: =IF($D51="","",'HK2 - 22-23 + HKI 23-24(22C2)'!K49+'HKI 22-23'!K49) -> 0 | L51: =IF($D51="","",'HK2 - 22-23 + HKI 23-24(22C2)'!L49+'HKI 22-23'!L49) -> 0 | ... AT51: =IF($D51="","",'HK2 - 22-23 + HKI 23-24(22C2)'!AT49+'HKI 22-23'!AT49) -> 7.4
A52: =IF(D52="","",SUBTOTAL(3,$D$14:D52)) -> 39 | C52: Khoa Khoa học cơ bản | D52: Hứa Trọng Tín (TG) | E52: =IF($D52="","",'HK2 - 22-23 + HKI 23-24(22C2)'!E50+'HKI 22-23'!E50) -> 0 | F52: =IF($D52="","",'HK2 - 22-23 + HKI 23-24(22C2)'!F50+'HKI 22-23'!F50) -> 0 | G52: =IF($D52="","",'HK2 - 22-23 + HKI 23-24(22C2)'!G50+'HKI 22-23'!G50) -> 0 | H52: =IF($D52="","",'HK2 - 22-23 + HKI 23-24(22C2)'!H50+'HKI 22-23'!H50) -> 0 | I52: =IF($D52="","",'HK2 - 22-23 + HKI 23-24(22C2)'!I50+'HKI 22-23'!I50) -> 0 | J52: =IF($D52="","",'HK2 - 22-23 + HKI 23-24(22C2)'!J50+'HKI 22-23'!J50) -> 0 | K52: =IF($D52="","",'HK2 - 22-23 + HKI 23-24(22C2)'!K50+'HKI 22-23'!K50) -> 0 | L52: =IF($D52="","",'HK2 - 22-23 + HKI 23-24(22C2)'!L50+'HKI 22-23'!L50) -> 0 | ... AT52: =IF($D52="","",'HK2 - 22-23 + HKI 23-24(22C2)'!AT50+'HKI 22-23'!AT50) -> 0
A53: =IF(D53="","",SUBTOTAL(3,$D$14:D53)) -> 40 | B53: 1010055 | C53: Khoa Khoa học cơ bản | D53: Huỳnh Thị Bích (TG) | E53: =IF($D53="","",'HK2 - 22-23 + HKI 23-24(22C2)'!E51+'HKI 22-23'!E51) -> 0 | F53: =IF($D53="","",'HK2 - 22-23 + HKI 23-24(22C2)'!F51+'HKI 22-23'!F51) -> 0 | G53: =IF($D53="","",'HK2 - 22-23 + HKI 23-24(22C2)'!G51+'HKI 22-23'!G51) -> 0 | H53: =IF($D53="","",'HK2 - 22-23 + HKI 23-24(22C2)'!H51+'HKI 22-23'!H51) -> 0 | I53: =IF($D53="","",'HK2 - 22-23 + HKI 23-24(22C2)'!I51+'HKI 22-23'!I51) -> 0 | J53: =IF($D53="","",'HK2 - 22-23 + HKI 23-24(22C2)'!J51+'HKI 22-23'!J51) -> 0 | K53: =IF($D53="","",'HK2 - 22-23 + HKI 23-24(22C2)'!K51+'HKI 22-23'!K51) -> 0 | L53: =IF($D53="","",'HK2 - 22-23 + HKI 23-24(22C2)'!L51+'HKI 22-23'!L51) -> 0 | ... AT53: =IF($D53="","",'HK2 - 22-23 + HKI 23-24(22C2)'!AT51+'HKI 22-23'!AT51) -> 0
A54: =IF(D54="","",SUBTOTAL(3,$D$14:D54)) -> 41 | B54: 1010091 | C54: Khoa Khoa học cơ bản | D54: Huỳnh Thị Phương Kiều (TG) | E54: =IF($D54="","",'HK2 - 22-23 + HKI 23-24(22C2)'!E52+'HKI 22-23'!E52) -> 0 | F54: =IF($D54="","",'HK2 - 22-23 + HKI 23-24(22C2)'!F52+'HKI 22-23'!F52) -> 0 | G54: =IF($D54="","",'HK2 - 22-23 + HKI 23-24(22C2)'!G52+'HKI 22-23'!G52) -> 0 | H54: =IF($D54="","",'HK2 - 22-23 + HKI 23-24(22C2)'!H52+'HKI 22-23'!H52) -> 0 | I54: =IF($D54="","",'HK2 - 22-23 + HKI 23-24(22C2)'!I52+'HKI 22-23'!I52) -> 0 | J54: =IF($D54="","",'HK2 - 22-23 + HKI 23-24(22C2)'!J52+'HKI 22-23'!J52) -> 0 | K54: =IF($D54="","",'HK2 - 22-23 + HKI 23-24(22C2)'!K52+'HKI 22-23'!K52) -> 0 | L54: =IF($D54="","",'HK2 - 22-23 + HKI 23-24(22C2)'!L52+'HKI 22-23'!L52) -> 0 | ... AT54: =IF($D54="","",'HK2 - 22-23 + HKI 23-24(22C2)'!AT52+'HKI 22-23'!AT52) -> 0
A55: =IF(D55="","",SUBTOTAL(3,$D$14:D55)) -> 42 | B55: 1010090 | C55: Khoa Khoa học cơ bản | D55: Kiều Thị Thanh Hiếu (TG) | E55: =IF($D55="","",'HK2 - 22-23 + HKI 23-24(22C2)'!E53+'HKI 22-23'!E53) -> 0 | F55: =IF($D55="","",'HK2 - 22-23 + HKI 23-24(22C2)'!F53+'HKI 22-23'!F53) -> 0 | G55: =IF($D55="","",'HK2 - 22-23 + HKI 23-24(22C2)'!G53+'HKI 22-23'!G53) -> 0 | H55: =IF($D55="","",'HK2 - 22-23 + HKI 23-24(22C2)'!H53+'HKI 22-23'!H53) -> 0 | I55: =IF($D55="","",'HK2 - 22-23 + HKI 23-24(22C2)'!I53+'HKI 22-23'!I53) -> 0 | J55: =IF($D55="","",'HK2 - 22-23 + HKI 23-24(22C2)'!J53+'HKI 22-23'!J53) -> 0 | K55: =IF($D55="","",'HK2 - 22-23 + HKI 23-24(22C2)'!K53+'HKI 22-23'!K53) -> 0 | L55: =IF($D55="","",'HK2 - 22-23 + HKI 23-24(22C2)'!L53+'HKI 22-23'!L53) -> 0 | ... AT55: =IF($D55="","",'HK2 - 22-23 + HKI 23-24(22C2)'!AT53+'HKI 22-23'!AT53) -> 0
A56: =IF(D56="","",SUBTOTAL(3,$D$14:D56)) -> 43 | C56: Khoa Khoa học cơ bản | D56: La Thị Thảo My (TG) | E56: =IF($D56="","",'HK2 - 22-23 + HKI 23-24(22C2)'!E54+'HKI 22-23'!E54) -> 4 | F56: =IF($D56="","",'HK2 - 22-23 + HKI 23-24(22C2)'!F54+'HKI 22-23'!F54) -> 0 | G56: =IF($D56="","",'HK2 - 22-23 + HKI 23-24(22C2)'!G54+'HKI 22-23'!G54) -> 0 | H56: =IF($D56="","",'HK2 - 22-23 + HKI 23-24(22C2)'!H54+'HKI 22-23'!H54) -> 0 | I56: =IF($D56="","",'HK2 - 22-23 + HKI 23-24(22C2)'!I54+'HKI 22-23'!I54) -> 0 | J56: =IF($D56="","",'HK2 - 22-23 + HKI 23-24(22C2)'!J54+'HKI 22-23'!J54) -> 0 | K56: =IF($D56="","",'HK2 - 22-23 + HKI 23-24(22C2)'!K54+'HKI 22-23'!K54) -> 0 | L56: =IF($D56="","",'HK2 - 22-23 + HKI 23-24(22C2)'!L54+'HKI 22-23'!L54) -> 0 | ... AT56: =IF($D56="","",'HK2 - 22-23 + HKI 23-24(22C2)'!AT54+'HKI 22-23'!AT54) -> 4
A57: =IF(D57="","",SUBTOTAL(3,$D$14:D57)) -> 44 | C57: Khoa Khoa học cơ bản | D57: Lại Phát Tài (TG) | E57: =IF($D57="","",'HK2 - 22-23 + HKI 23-24(22C2)'!E55+'HKI 22-23'!E55) -> 0 | F57: =IF($D57="","",'HK2 - 22-23 + HKI 23-24(22C2)'!F55+'HKI 22-23'!F55) -> 0 | G57: =IF($D57="","",'HK2 - 22-23 + HKI 23-24(22C2)'!G55+'HKI 22-23'!G55) -> 0 | H57: =IF($D57="","",'HK2 - 22-23 + HKI 23-24(22C2)'!H55+'HKI 22-23'!H55) -> 0 | I57: =IF($D57="","",'HK2 - 22-23 + HKI 23-24(22C2)'!I55+'HKI 22-23'!I55) -> 0 | J57: =IF($D57="","",'HK2 - 22-23 + HKI 23-24(22C2)'!J55+'HKI 22-23'!J55) -> 0 | K57: =IF($D57="","",'HK2 - 22-23 + HKI 23-24(22C2)'!K55+'HKI 22-23'!K55) -> 0 | L57: =IF($D57="","",'HK2 - 22-23 + HKI 23-24(22C2)'!L55+'HKI 22-23'!L55) -> 0 | ... AT57: =IF($D57="","",'HK2 - 22-23 + HKI 23-24(22C2)'!AT55+'HKI 22-23'!AT55) -> 0
A58: =IF(D58="","",SUBTOTAL(3,$D$14:D58)) -> 45 | C58: Khoa Khoa học cơ bản | D58: Lâm Lệ Tâm (TG) | E58: =IF($D58="","",'HK2 - 22-23 + HKI 23-24(22C2)'!E56+'HKI 22-23'!E56) -> 0 | F58: =IF($D58="","",'HK2 - 22-23 + HKI 23-24(22C2)'!F56+'HKI 22-23'!F56) -> 0 | G58: =IF($D58="","",'HK2 - 22-23 + HKI 23-24(22C2)'!G56+'HKI 22-23'!G56) -> 0 | H58: =IF($D58="","",'HK2 - 22-23 + HKI 23-24(22C2)'!H56+'HKI 22-23'!H56) -> 0 | I58: =IF($D58="","",'HK2 - 22-23 + HKI 23-24(22C2)'!I56+'HKI 22-23'!I56) -> 0 | J58: =IF($D58="","",'HK2 - 22-23 + HKI 23-24(22C2)'!J56+'HKI 22-23'!J56) -> 0 | K58: =IF($D58="","",'HK2 - 22-23 + HKI 23-24(22C2)'!K56+'HKI 22-23'!K56) -> 0 | L58: =IF($D58="","",'HK2 - 22-23 + HKI 23-24(22C2)'!L56+'HKI 22-23'!L56) -> 0 | ... AT58: =IF($D58="","",'HK2 - 22-23 + HKI 23-24(22C2)'!AT56+'HKI 22-23'!AT56) -> 7.4
A59: =IF(D59="","",SUBTOTAL(3,$D$14:D59)) -> 46 | C59: Khoa Khoa học cơ bản | D59: Lê Gia Mẫn (TG) | E59: =IF($D59="","",'HK2 - 22-23 + HKI 23-24(22C2)'!E57+'HKI 22-23'!E57) -> 2 | F59: =IF($D59="","",'HK2 - 22-23 + HKI 23-24(22C2)'!F57+'HKI 22-23'!F57) -> 0 | G59: =IF($D59="","",'HK2 - 22-23 + HKI 23-24(22C2)'!G57+'HKI 22-23'!G57) -> 0 | H59: =IF($D59="","",'HK2 - 22-23 + HKI 23-24(22C2)'!H57+'HKI 22-23'!H57) -> 0 | I59: =IF($D59="","",'HK2 - 22-23 + HKI 23-24(22C2)'!I57+'HKI 22-23'!I57) -> 0 | J59: =IF($D59="","",'HK2 - 22-23 + HKI 23-24(22C2)'!J57+'HKI 22-23'!J57) -> 0 | K59: =IF($D59="","",'HK2 - 22-23 + HKI 23-24(22C2)'!K57+'HKI 22-23'!K57) -> 0 | L59: =IF($D59="","",'HK2 - 22-23 + HKI 23-24(22C2)'!L57+'HKI 22-23'!L57) -> 0 | ... AT59: =IF($D59="","",'HK2 - 22-23 + HKI 23-24(22C2)'!AT57+'HKI 22-23'!AT57) -> 2
A60: =IF(D60="","",SUBTOTAL(3,$D$14:D60)) -> 47 | B60: 1022048 | C60: Khoa Khoa học cơ bản | D60: Lê Minh Phong | E60: =IF($D60="","",'HK2 - 22-23 + HKI 23-24(22C2)'!E58+'HKI 22-23'!E58) -> 10 | F60: =IF($D60="","",'HK2 - 22-23 + HKI 23-24(22C2)'!F58+'HKI 22-23'!F58) -> 0 | G60: =IF($D60="","",'HK2 - 22-23 + HKI 23-24(22C2)'!G58+'HKI 22-23'!G58) -> 0 | H60: =IF($D60="","",'HK2 - 22-23 + HKI 23-24(22C2)'!H58+'HKI 22-23'!H58) -> 0 | I60: =IF($D60="","",'HK2 - 22-23 + HKI 23-24(22C2)'!I58+'HKI 22-23'!I58) -> 0 | J60: =IF($D60="","",'HK2 - 22-23 + HKI 23-24(22C2)'!J58+'HKI 22-23'!J58) -> 0 | K60: =IF($D60="","",'HK2 - 22-23 + HKI 23-24(22C2)'!K58+'HKI 22-23'!K58) -> 0 | L60: =IF($D60="","",'HK2 - 22-23 + HKI 23-24(22C2)'!L58+'HKI 22-23'!L58) -> 0 | ... AT60: =IF($D60="","",'HK2 - 22-23 + HKI 23-24(22C2)'!AT58+'HKI 22-23'!AT58) -> 108
A61: =IF(D61="","",SUBTOTAL(3,$D$14:D61)) -> 48 | C61: Khoa Khoa học cơ bản | D61: Lê Ngọc Trinh (TG) | E61: =IF($D61="","",'HK2 - 22-23 + HKI 23-24(22C2)'!E59+'HKI 22-23'!E59) -> 0 | F61: =IF($D61="","",'HK2 - 22-23 + HKI 23-24(22C2)'!F59+'HKI 22-23'!F59) -> 0 | G61: =IF($D61="","",'HK2 - 22-23 + HKI 23-24(22C2)'!G59+'HKI 22-23'!G59) -> 0 | H61: =IF($D61="","",'HK2 - 22-23 + HKI 23-24(22C2)'!H59+'HKI 22-23'!H59) -> 0 | I61: =IF($D61="","",'HK2 - 22-23 + HKI 23-24(22C2)'!I59+'HKI 22-23'!I59) -> 0 | J61: =IF($D61="","",'HK2 - 22-23 + HKI 23-24(22C2)'!J59+'HKI 22-23'!J59) -> 0 | K61: =IF($D61="","",'HK2 - 22-23 + HKI 23-24(22C2)'!K59+'HKI 22-23'!K59) -> 0 | L61: =IF($D61="","",'HK2 - 22-23 + HKI 23-24(22C2)'!L59+'HKI 22-23'!L59) -> 0 | ... AT61: =IF($D61="","",'HK2 - 22-23 + HKI 23-24(22C2)'!AT59+'HKI 22-23'!AT59) -> 0
A62: =IF(D62="","",SUBTOTAL(3,$D$14:D62)) -> 49 | C62: Khoa Khoa học cơ bản | D62: Lê Nhật Phong (TG) | E62: =IF($D62="","",'HK2 - 22-23 + HKI 23-24(22C2)'!E60+'HKI 22-23'!E60) -> 0 | F62: =IF($D62="","",'HK2 - 22-23 + HKI 23-24(22C2)'!F60+'HKI 22-23'!F60) -> 0 | G62: =IF($D62="","",'HK2 - 22-23 + HKI 23-24(22C2)'!G60+'HKI 22-23'!G60) -> 0 | H62: =IF($D62="","",'HK2 - 22-23 + HKI 23-24(22C2)'!H60+'HKI 22-23'!H60) -> 0 | I62: =IF($D62="","",'HK2 - 22-23 + HKI 23-24(22C2)'!I60+'HKI 22-23'!I60) -> 0 | J62: =IF($D62="","",'HK2 - 22-23 + HKI 23-24(22C2)'!J60+'HKI 22-23'!J60) -> 0 | K62: =IF($D62="","",'HK2 - 22-23 + HKI 23-24(22C2)'!K60+'HKI 22-23'!K60) -> 0 | L62: =IF($D62="","",'HK2 - 22-23 + HKI 23-24(22C2)'!L60+'HKI 22-23'!L60) -> 0 | ... AT62: =IF($D62="","",'HK2 - 22-23 + HKI 23-24(22C2)'!AT60+'HKI 22-23'!AT60) -> 1.1
A63: =IF(D63="","",SUBTOTAL(3,$D$14:D63)) -> 50 | C63: Khoa Khoa học cơ bản | D63: Lê Phạm Hữu Tâm (TG) | E63: =IF($D63="","",'HK2 - 22-23 + HKI 23-24(22C2)'!E61+'HKI 22-23'!E61) -> 0 | F63: =IF($D63="","",'HK2 - 22-23 + HKI 23-24(22C2)'!F61+'HKI 22-23'!F61) -> 0 | G63: =IF($D63="","",'HK2 - 22-23 + HKI 23-24(22C2)'!G61+'HKI 22-23'!G61) -> 0 | H63: =IF($D63="","",'HK2 - 22-23 + HKI 23-24(22C2)'!H61+'HKI 22-23'!H61) -> 0 | I63: =IF($D63="","",'HK2 - 22-23 + HKI 23-24(22C2)'!I61+'HKI 22-23'!I61) -> 0 | J63: =IF($D63="","",'HK2 - 22-23 + HKI 23-24(22C2)'!J61+'HKI 22-23'!J61) -> 0 | K63: =IF($D63="","",'HK2 - 22-23 + HKI 23-24(22C2)'!K61+'HKI 22-23'!K61) -> 0 | L63: =IF($D63="","",'HK2 - 22-23 + HKI 23-24(22C2)'!L61+'HKI 22-23'!L61) -> 0 | ... AT63: =IF($D63="","",'HK2 - 22-23 + HKI 23-24(22C2)'!AT61+'HKI 22-23'!AT61) -> 0
A64: =IF(D64="","",SUBTOTAL(3,$D$14:D64)) -> 51 | B64: 1022007 | C64: Khoa Khoa học cơ bản | D64: Lê Phương Ngọc | E64: =IF($D64="","",'HK2 - 22-23 + HKI 23-24(22C2)'!E62+'HKI 22-23'!E62) -> 0 | F64: =IF($D64="","",'HK2 - 22-23 + HKI 23-24(22C2)'!F62+'HKI 22-23'!F62) -> 0 | G64: =IF($D64="","",'HK2 - 22-23 + HKI 23-24(22C2)'!G62+'HKI 22-23'!G62) -> 0 | H64: =IF($D64="","",'HK2 - 22-23 + HKI 23-24(22C2)'!H62+'HKI 22-23'!H62) -> 0 | I64: =IF($D64="","",'HK2 - 22-23 + HKI 23-24(22C2)'!I62+'HKI 22-23'!I62) -> 0 | J64: =IF($D64="","",'HK2 - 22-23 + HKI 23-24(22C2)'!J62+'HKI 22-23'!J62) -> 0 | K64: =IF($D64="","",'HK2 - 22-23 + HKI 23-24(22C2)'!K62+'HKI 22-23'!K62) -> 0 | L64: =IF($D64="","",'HK2 - 22-23 + HKI 23-24(22C2)'!L62+'HKI 22-23'!L62) -> 0 | ... AT64: =IF($D64="","",'HK2 - 22-23 + HKI 23-24(22C2)'!AT62+'HKI 22-23'!AT62) -> 0
A65: =IF(D65="","",SUBTOTAL(3,$D$14:D65)) -> 52 | B65: 1010051 | C65: Khoa Khoa học cơ bản | D65: Lê Quang Vinh | E65: =IF($D65="","",'HK2 - 22-23 + HKI 23-24(22C2)'!E63+'HKI 22-23'!E63) -> 0 | F65: =IF($D65="","",'HK2 - 22-23 + HKI 23-24(22C2)'!F63+'HKI 22-23'!F63) -> 0 | G65: =IF($D65="","",'HK2 - 22-23 + HKI 23-24(22C2)'!G63+'HKI 22-23'!G63) -> 0 | H65: =IF($D65="","",'HK2 - 22-23 + HKI 23-24(22C2)'!H63+'HKI 22-23'!H63) -> 0 | I65: =IF($D65="","",'HK2 - 22-23 + HKI 23-24(22C2)'!I63+'HKI 22-23'!I63) -> 0 | J65: =IF($D65="","",'HK2 - 22-23 + HKI 23-24(22C2)'!J63+'HKI 22-23'!J63) -> 0 | K65: =IF($D65="","",'HK2 - 22-23 + HKI 23-24(22C2)'!K63+'HKI 22-23'!K63) -> 0 | L65: =IF($D65="","",'HK2 - 22-23 + HKI 23-24(22C2)'!L63+'HKI 22-23'!L63) -> 0 | ... AT65: =IF($D65="","",'HK2 - 22-23 + HKI 23-24(22C2)'!AT63+'HKI 22-23'!AT63) -> 0
A66: =IF(D66="","",SUBTOTAL(3,$D$14:D66)) -> 53 | B66: 1010021 | C66: Khoa Khoa học cơ bản | D66: Lê Thái Hùng | E66: =IF($D66="","",'HK2 - 22-23 + HKI 23-24(22C2)'!E64+'HKI 22-23'!E64) -> 0 | F66: =IF($D66="","",'HK2 - 22-23 + HKI 23-24(22C2)'!F64+'HKI 22-23'!F64) -> 0 | G66: =IF($D66="","",'HK2 - 22-23 + HKI 23-24(22C2)'!G64+'HKI 22-23'!G64) -> 0 | H66: =IF($D66="","",'HK2 - 22-23 + HKI 23-24(22C2)'!H64+'HKI 22-23'!H64) -> 0 | I66: =IF($D66="","",'HK2 - 22-23 + HKI 23-24(22C2)'!I64+'HKI 22-23'!I64) -> 0 | J66: =IF($D66="","",'HK2 - 22-23 + HKI 23-24(22C2)'!J64+'HKI 22-23'!J64) -> 0 | K66: =IF($D66="","",'HK2 - 22-23 + HKI 23-24(22C2)'!K64+'HKI 22-23'!K64) -> 0 | L66: =IF($D66="","",'HK2 - 22-23 + HKI 23-24(22C2)'!L64+'HKI 22-23'!L64) -> 0 | ... AT66: =IF($D66="","",'HK2 - 22-23 + HKI 23-24(22C2)'!AT64+'HKI 22-23'!AT64) -> 0
A67: =IF(D67="","",SUBTOTAL(3,$D$14:D67)) -> 54 | C67: Khoa Khoa học cơ bản | D67: Lê Thị Ban (TG) | E67: =IF($D67="","",'HK2 - 22-23 + HKI 23-24(22C2)'!E65+'HKI 22-23'!E65) -> 1 | F67: =IF($D67="","",'HK2 - 22-23 + HKI 23-24(22C2)'!F65+'HKI 22-23'!F65) -> 0 | G67: =IF($D67="","",'HK2 - 22-23 + HKI 23-24(22C2)'!G65+'HKI 22-23'!G65) -> 0 | H67: =IF($D67="","",'HK2 - 22-23 + HKI 23-24(22C2)'!H65+'HKI 22-23'!H65) -> 0 | I67: =IF($D67="","",'HK2 - 22-23 + HKI 23-24(22C2)'!I65+'HKI 22-23'!I65) -> 0 | J67: =IF($D67="","",'HK2 - 22-23 + HKI 23-24(22C2)'!J65+'HKI 22-23'!J65) -> 0 | K67: =IF($D67="","",'HK2 - 22-23 + HKI 23-24(22C2)'!K65+'HKI 22-23'!K65) -> 0 | L67: =IF($D67="","",'HK2 - 22-23 + HKI 23-24(22C2)'!L65+'HKI 22-23'!L65) -> 0 | ... AT67: =IF($D67="","",'HK2 - 22-23 + HKI 23-24(22C2)'!AT65+'HKI 22-23'!AT65) -> 14.5
A68: =IF(D68="","",SUBTOTAL(3,$D$14:D68)) -> 55 | B68: 1010082 | C68: Khoa Khoa học cơ bản | D68: Lê Thị Hồng Nhung (TG) | E68: =IF($D68="","",'HK2 - 22-23 + HKI 23-24(22C2)'!E66+'HKI 22-23'!E66) -> 0 | F68: =IF($D68="","",'HK2 - 22-23 + HKI 23-24(22C2)'!F66+'HKI 22-23'!F66) -> 0 | G68: =IF($D68="","",'HK2 - 22-23 + HKI 23-24(22C2)'!G66+'HKI 22-23'!G66) -> 0 | H68: =IF($D68="","",'HK2 - 22-23 + HKI 23-24(22C2)'!H66+'HKI 22-23'!H66) -> 0 | I68: =IF($D68="","",'HK2 - 22-23 + HKI 23-24(22C2)'!I66+'HKI 22-23'!I66) -> 0 | J68: =IF($D68="","",'HK2 - 22-23 + HKI 23-24(22C2)'!J66+'HKI 22-23'!J66) -> 0 | K68: =IF($D68="","",'HK2 - 22-23 + HKI 23-24(22C2)'!K66+'HKI 22-23'!K66) -> 0 | L68: =IF($D68="","",'HK2 - 22-23 + HKI 23-24(22C2)'!L66+'HKI 22-23'!L66) -> 0 | ... AT68: =IF($D68="","",'HK2 - 22-23 + HKI 23-24(22C2)'!AT66+'HKI 22-23'!AT66) -> 0
A69: =IF(D69="","",SUBTOTAL(3,$D$14:D69)) -> 56 | B69: 1010070 | C69: Khoa Khoa học cơ bản | D69: Lê Thị Hường (TG) | E69: =IF($D69="","",'HK2 - 22-23 + HKI 23-24(22C2)'!E67+'HKI 22-23'!E67) -> 0 | F69: =IF($D69="","",'HK2 - 22-23 + HKI 23-24(22C2)'!F67+'HKI 22-23'!F67) -> 0 | G69: =IF($D69="","",'HK2 - 22-23 + HKI 23-24(22C2)'!G67+'HKI 22-23'!G67) -> 0 | H69: =IF($D69="","",'HK2 - 22-23 + HKI 23-24(22C2)'!H67+'HKI 22-23'!H67) -> 0 | I69: =IF($D69="","",'HK2 - 22-23 + HKI 23-24(22C2)'!I67+'HKI 22-23'!I67) -> 0 | J69: =IF($D69="","",'HK2 - 22-23 + HKI 23-24(22C2)'!J67+'HKI 22-23'!J67) -> 0 | K69: =IF($D69="","",'HK2 - 22-23 + HKI 23-24(22C2)'!K67+'HKI 22-23'!K67) -> 0 | L69: =IF($D69="","",'HK2 - 22-23 + HKI 23-24(22C2)'!L67+'HKI 22-23'!L67) -> 0 | ... AT69: =IF($D69="","",'HK2 - 22-23 + HKI 23-24(22C2)'!AT67+'HKI 22-23'!AT67) -> 0
A70: =IF(D70="","",SUBTOTAL(3,$D$14:D70)) -> 57 | B70: 1010061 | C70: Khoa Khoa học cơ bản | D70: Lê Thị Mùi (TG) | E70: =IF($D70="","",'HK2 - 22-23 + HKI 23-24(22C2)'!E68+'HKI 22-23'!E68) -> 4 | F70: =IF($D70="","",'HK2 - 22-23 + HKI 23-24(22C2)'!F68+'HKI 22-23'!F68) -> 0 | G70: =IF($D70="","",'HK2 - 22-23 + HKI 23-24(22C2)'!G68+'HKI 22-23'!G68) -> 0 | H70: =IF($D70="","",'HK2 - 22-23 + HKI 23-24(22C2)'!H68+'HKI 22-23'!H68) -> 0 | I70: =IF($D70="","",'HK2 - 22-23 + HKI 23-24(22C2)'!I68+'HKI 22-23'!I68) -> 0 | J70: =IF($D70="","",'HK2 - 22-23 + HKI 23-24(22C2)'!J68+'HKI 22-23'!J68) -> 0 | K70: =IF($D70="","",'HK2 - 22-23 + HKI 23-24(22C2)'!K68+'HKI 22-23'!K68) -> 0 | L70: =IF($D70="","",'HK2 - 22-23 + HKI 23-24(22C2)'!L68+'HKI 22-23'!L68) -> 0 | ... AT70: =IF($D70="","",'HK2 - 22-23 + HKI 23-24(22C2)'!AT68+'HKI 22-23'!AT68) -> 30.2
A71: =IF(D71="","",SUBTOTAL(3,$D$14:D71)) -> 58 | B71: 1010109 | C71: Khoa Khoa học cơ bản | D71: Lê Thị Yến Nhung (TG) | E71: =IF($D71="","",'HK2 - 22-23 + HKI 23-24(22C2)'!E69+'HKI 22-23'!E69) -> 0 | F71: =IF($D71="","",'HK2 - 22-23 + HKI 23-24(22C2)'!F69+'HKI 22-23'!F69) -> 0 | G71: =IF($D71="","",'HK2 - 22-23 + HKI 23-24(22C2)'!G69+'HKI 22-23'!G69) -> 0 | H71: =IF($D71="","",'HK2 - 22-23 + HKI 23-24(22C2)'!H69+'HKI 22-23'!H69) -> 0 | I71: =IF($D71="","",'HK2 - 22-23 + HKI 23-24(22C2)'!I69+'HKI 22-23'!I69) -> 0 | J71: =IF($D71="","",'HK2 - 22-23 + HKI 23-24(22C2)'!J69+'HKI 22-23'!J69) -> 0 | K71: =IF($D71="","",'HK2 - 22-23 + HKI 23-24(22C2)'!K69+'HKI 22-23'!K69) -> 0 | L71: =IF($D71="","",'HK2 - 22-23 + HKI 23-24(22C2)'!L69+'HKI 22-23'!L69) -> 0 | ... AT71: =IF($D71="","",'HK2 - 22-23 + HKI 23-24(22C2)'!AT69+'HKI 22-23'!AT69) -> 0
A72: =IF(D72="","",SUBTOTAL(3,$D$14:D72)) -> 59 | B72: 1004012 | C72: Khoa Khoa học cơ bản | D72: Lê Văn Bình | E72: =IF($D72="","",'HK2 - 22-23 + HKI 23-24(22C2)'!E70+'HKI 22-23'!E70) -> 6 | F72: =IF($D72="","",'HK2 - 22-23 + HKI 23-24(22C2)'!F70+'HKI 22-23'!F70) -> 0 | G72: =IF($D72="","",'HK2 - 22-23 + HKI 23-24(22C2)'!G70+'HKI 22-23'!G70) -> 0 | H72: =IF($D72="","",'HK2 - 22-23 + HKI 23-24(22C2)'!H70+'HKI 22-23'!H70) -> 0 | I72: =IF($D72="","",'HK2 - 22-23 + HKI 23-24(22C2)'!I70+'HKI 22-23'!I70) -> 0 | J72: =IF($D72="","",'HK2 - 22-23 + HKI 23-24(22C2)'!J70+'HKI 22-23'!J70) -> 0 | K72: =IF($D72="","",'HK2 - 22-23 + HKI 23-24(22C2)'!K70+'HKI 22-23'!K70) -> 0 | L72: =IF($D72="","",'HK2 - 22-23 + HKI 23-24(22C2)'!L70+'HKI 22-23'!L70) -> 0 | ... AT72: =IF($D72="","",'HK2 - 22-23 + HKI 23-24(22C2)'!AT70+'HKI 22-23'!AT70) -> 110
A73: =IF(D73="","",SUBTOTAL(3,$D$14:D73)) -> 60 | C73: Khoa Khoa học cơ bản | D73: Lương Thị Chi (TG) | E73: =IF($D73="","",'HK2 - 22-23 + HKI 23-24(22C2)'!E71+'HKI 22-23'!E71) -> 0 | F73: =IF($D73="","",'HK2 - 22-23 + HKI 23-24(22C2)'!F71+'HKI 22-23'!F71) -> 0 | G73: =IF($D73="","",'HK2 - 22-23 + HKI 23-24(22C2)'!G71+'HKI 22-23'!G71) -> 0 | H73: =IF($D73="","",'HK2 - 22-23 + HKI 23-24(22C2)'!H71+'HKI 22-23'!H71) -> 0 | I73: =IF($D73="","",'HK2 - 22-23 + HKI 23-24(22C2)'!I71+'HKI 22-23'!I71) -> 0 | J73: =IF($D73="","",'HK2 - 22-23 + HKI 23-24(22C2)'!J71+'HKI 22-23'!J71) -> 0 | K73: =IF($D73="","",'HK2 - 22-23 + HKI 23-24(22C2)'!K71+'HKI 22-23'!K71) -> 0 | L73: =IF($D73="","",'HK2 - 22-23 + HKI 23-24(22C2)'!L71+'HKI 22-23'!L71) -> 0 | ... AT73: =IF($D73="","",'HK2 - 22-23 + HKI 23-24(22C2)'!AT71+'HKI 22-23'!AT71) -> 0
A74: =IF(D74="","",SUBTOTAL(3,$D$14:D74)) -> 61 | B74: 1010086 | C74: Khoa Khoa học cơ bản | D74: Lý Thục Trinh (TG) | E74: =IF($D74="","",'HK2 - 22-23 + HKI 23-24(22C2)'!E72+'HKI 22-23'!E72) -> 0 | F74: =IF($D74="","",'HK2 - 22-23 + HKI 23-24(22C2)'!F72+'HKI 22-23'!F72) -> 0 | G74: =IF($D74="","",'HK2 - 22-23 + HKI 23-24(22C2)'!G72+'HKI 22-23'!G72) -> 0 | H74: =IF($D74="","",'HK2 - 22-23 + HKI 23-24(22C2)'!H72+'HKI 22-23'!H72) -> 0 | I74: =IF($D74="","",'HK2 - 22-23 + HKI 23-24(22C2)'!I72+'HKI 22-23'!I72) -> 0 | J74: =IF($D74="","",'HK2 - 22-23 + HKI 23-24(22C2)'!J72+'HKI 22-23'!J72) -> 0 | K74: =IF($D74="","",'HK2 - 22-23 + HKI 23-24(22C2)'!K72+'HKI 22-23'!K72) -> 0 | L74: =IF($D74="","",'HK2 - 22-23 + HKI 23-24(22C2)'!L72+'HKI 22-23'!L72) -> 0 | ... AT74: =IF($D74="","",'HK2 - 22-23 + HKI 23-24(22C2)'!AT72+'HKI 22-23'!AT72) -> 0
A75: =IF(D75="","",SUBTOTAL(3,$D$14:D75)) -> 62 | B75: 1010089 | C75: Khoa Khoa học cơ bản | D75: Mai Võ Hoài Giang (TG) | E75: =IF($D75="","",'HK2 - 22-23 + HKI 23-24(22C2)'!E73+'HKI 22-23'!E73) -> 1 | F75: =IF($D75="","",'HK2 - 22-23 + HKI 23-24(22C2)'!F73+'HKI 22-23'!F73) -> 0 | G75: =IF($D75="","",'HK2 - 22-23 + HKI 23-24(22C2)'!G73+'HKI 22-23'!G73) -> 0 | H75: =IF($D75="","",'HK2 - 22-23 + HKI 23-24(22C2)'!H73+'HKI 22-23'!H73) -> 0 | I75: =IF($D75="","",'HK2 - 22-23 + HKI 23-24(22C2)'!I73+'HKI 22-23'!I73) -> 0 | J75: =IF($D75="","",'HK2 - 22-23 + HKI 23-24(22C2)'!J73+'HKI 22-23'!J73) -> 0 | K75: =IF($D75="","",'HK2 - 22-23 + HKI 23-24(22C2)'!K73+'HKI 22-23'!K73) -> 0 | L75: =IF($D75="","",'HK2 - 22-23 + HKI 23-24(22C2)'!L73+'HKI 22-23'!L73) -> 0 | ... AT75: =IF($D75="","",'HK2 - 22-23 + HKI 23-24(22C2)'!AT73+'HKI 22-23'!AT73) -> 17.2
A76: =IF(D76="","",SUBTOTAL(3,$D$14:D76)) -> 63 | B76: 1022005 | C76: Khoa Khoa học cơ bản | D76: Ngô Thanh Điền | E76: =IF($D76="","",'HK2 - 22-23 + HKI 23-24(22C2)'!E74+'HKI 22-23'!E74) -> 0 | F76: =IF($D76="","",'HK2 - 22-23 + HKI 23-24(22C2)'!F74+'HKI 22-23'!F74) -> 0 | G76: =IF($D76="","",'HK2 - 22-23 + HKI 23-24(22C2)'!G74+'HKI 22-23'!G74) -> 0 | H76: =IF($D76="","",'HK2 - 22-23 + HKI 23-24(22C2)'!H74+'HKI 22-23'!H74) -> 0 | I76: =IF($D76="","",'HK2 - 22-23 + HKI 23-24(22C2)'!I74+'HKI 22-23'!I74) -> 0 | J76: =IF($D76="","",'HK2 - 22-23 + HKI 23-24(22C2)'!J74+'HKI 22-23'!J74) -> 0 | K76: =IF($D76="","",'HK2 - 22-23 + HKI 23-24(22C2)'!K74+'HKI 22-23'!K74) -> 0 | L76: =IF($D76="","",'HK2 - 22-23 + HKI 23-24(22C2)'!L74+'HKI 22-23'!L74) -> 0 | ... AT76: =IF($D76="","",'HK2 - 22-23 + HKI 23-24(22C2)'!AT74+'HKI 22-23'!AT74) -> 0
A77: =IF(D77="","",SUBTOTAL(3,$D$14:D77)) -> 64 | C77: Khoa Khoa học cơ bản | D77: Ngô Thị Thanh Vân (TG) | E77: =IF($D77="","",'HK2 - 22-23 + HKI 23-24(22C2)'!E75+'HKI 22-23'!E75) -> 0 | F77: =IF($D77="","",'HK2 - 22-23 + HKI 23-24(22C2)'!F75+'HKI 22-23'!F75) -> 4 | G77: =IF($D77="","",'HK2 - 22-23 + HKI 23-24(22C2)'!G75+'HKI 22-23'!G75) -> 0 | H77: =IF($D77="","",'HK2 - 22-23 + HKI 23-24(22C2)'!H75+'HKI 22-23'!H75) -> 0 | I77: =IF($D77="","",'HK2 - 22-23 + HKI 23-24(22C2)'!I75+'HKI 22-23'!I75) -> 0 | J77: =IF($D77="","",'HK2 - 22-23 + HKI 23-24(22C2)'!J75+'HKI 22-23'!J75) -> 0 | K77: =IF($D77="","",'HK2 - 22-23 + HKI 23-24(22C2)'!K75+'HKI 22-23'!K75) -> 0 | L77: =IF($D77="","",'HK2 - 22-23 + HKI 23-24(22C2)'!L75+'HKI 22-23'!L75) -> 0 | ... AT77: =IF($D77="","",'HK2 - 22-23 + HKI 23-24(22C2)'!AT75+'HKI 22-23'!AT75) -> 6
A78: =IF(D78="","",SUBTOTAL(3,$D$14:D78)) -> 65 | C78: Khoa Khoa học cơ bản | D78: Ngô Thuận Dủ (TG) | E78: =IF($D78="","",'HK2 - 22-23 + HKI 23-24(22C2)'!E76+'HKI 22-23'!E76) -> 4 | F78: =IF($D78="","",'HK2 - 22-23 + HKI 23-24(22C2)'!F76+'HKI 22-23'!F76) -> 0 | G78: =IF($D78="","",'HK2 - 22-23 + HKI 23-24(22C2)'!G76+'HKI 22-23'!G76) -> 0 | H78: =IF($D78="","",'HK2 - 22-23 + HKI 23-24(22C2)'!H76+'HKI 22-23'!H76) -> 0 | I78: =IF($D78="","",'HK2 - 22-23 + HKI 23-24(22C2)'!I76+'HKI 22-23'!I76) -> 0 | J78: =IF($D78="","",'HK2 - 22-23 + HKI 23-24(22C2)'!J76+'HKI 22-23'!J76) -> 0 | K78: =IF($D78="","",'HK2 - 22-23 + HKI 23-24(22C2)'!K76+'HKI 22-23'!K76) -> 0 | L78: =IF($D78="","",'HK2 - 22-23 + HKI 23-24(22C2)'!L76+'HKI 22-23'!L76) -> 0 | ... AT78: =IF($D78="","",'HK2 - 22-23 + HKI 23-24(22C2)'!AT76+'HKI 22-23'!AT76) -> 7.9
A79: =IF(D79="","",SUBTOTAL(3,$D$14:D79)) -> 66 | B79: 1010067 | C79: Khoa Khoa học cơ bản | D79: Nguyễn Công Cường (TG) | E79: =IF($D79="","",'HK2 - 22-23 + HKI 23-24(22C2)'!E77+'HKI 22-23'!E77) -> 0 | F79: =IF($D79="","",'HK2 - 22-23 + HKI 23-24(22C2)'!F77+'HKI 22-23'!F77) -> 0 | G79: =IF($D79="","",'HK2 - 22-23 + HKI 23-24(22C2)'!G77+'HKI 22-23'!G77) -> 0 | H79: =IF($D79="","",'HK2 - 22-23 + HKI 23-24(22C2)'!H77+'HKI 22-23'!H77) -> 0 | I79: =IF($D79="","",'HK2 - 22-23 + HKI 23-24(22C2)'!I77+'HKI 22-23'!I77) -> 0 | J79: =IF($D79="","",'HK2 - 22-23 + HKI 23-24(22C2)'!J77+'HKI 22-23'!J77) -> 0 | K79: =IF($D79="","",'HK2 - 22-23 + HKI 23-24(22C2)'!K77+'HKI 22-23'!K77) -> 0 | L79: =IF($D79="","",'HK2 - 22-23 + HKI 23-24(22C2)'!L77+'HKI 22-23'!L77) -> 0 | ... AT79: =IF($D79="","",'HK2 - 22-23 + HKI 23-24(22C2)'!AT77+'HKI 22-23'!AT77) -> 0
A80: =IF(D80="","",SUBTOTAL(3,$D$14:D80)) -> 67 | C80: Khoa Khoa học cơ bản | D80: Nguyễn Đỗ Thành (TG) | E80: =IF($D80="","",'HK2 - 22-23 + HKI 23-24(22C2)'!E78+'HKI 22-23'!E78) -> 4 | F80: =IF($D80="","",'HK2 - 22-23 + HKI 23-24(22C2)'!F78+'HKI 22-23'!F78) -> 0 | G80: =IF($D80="","",'HK2 - 22-23 + HKI 23-24(22C2)'!G78+'HKI 22-23'!G78) -> 0 | H80: =IF($D80="","",'HK2 - 22-23 + HKI 23-24(22C2)'!H78+'HKI 22-23'!H78) -> 0 | I80: =IF($D80="","",'HK2 - 22-23 + HKI 23-24(22C2)'!I78+'HKI 22-23'!I78) -> 0 | J80: =IF($D80="","",'HK2 - 22-23 + HKI 23-24(22C2)'!J78+'HKI 22-23'!J78) -> 0 | K80: =IF($D80="","",'HK2 - 22-23 + HKI 23-24(22C2)'!K78+'HKI 22-23'!K78) -> 0 | L80: =IF($D80="","",'HK2 - 22-23 + HKI 23-24(22C2)'!L78+'HKI 22-23'!L78) -> 0 | ... AT80: =IF($D80="","",'HK2 - 22-23 + HKI 23-24(22C2)'!AT78+'HKI 22-23'!AT78) -> 4
A81: =IF(D81="","",SUBTOTAL(3,$D$14:D81)) -> 68 | B81: 1010003 | C81: Khoa Khoa học cơ bản | D81: Nguyễn Đức Thắng | E81: =IF($D81="","",'HK2 - 22-23 + HKI 23-24(22C2)'!E79+'HKI 22-23'!E79) -> 0 | F81: =IF($D81="","",'HK2 - 22-23 + HKI 23-24(22C2)'!F79+'HKI 22-23'!F79) -> 0 | G81: =IF($D81="","",'HK2 - 22-23 + HKI 23-24(22C2)'!G79+'HKI 22-23'!G79) -> 0 | H81: =IF($D81="","",'HK2 - 22-23 + HKI 23-24(22C2)'!H79+'HKI 22-23'!H79) -> 0 | I81: =IF($D81="","",'HK2 - 22-23 + HKI 23-24(22C2)'!I79+'HKI 22-23'!I79) -> 0 | J81: =IF($D81="","",'HK2 - 22-23 + HKI 23-24(22C2)'!J79+'HKI 22-23'!J79) -> 0 | K81: =IF($D81="","",'HK2 - 22-23 + HKI 23-24(22C2)'!K79+'HKI 22-23'!K79) -> 0 | L81: =IF($D81="","",'HK2 - 22-23 + HKI 23-24(22C2)'!L79+'HKI 22-23'!L79) -> 0 | ... AT81: =IF($D81="","",'HK2 - 22-23 + HKI 23-24(22C2)'!AT79+'HKI 22-23'!AT79) -> 0
A82: =IF(D82="","",SUBTOTAL(3,$D$14:D82)) -> 69 | B82: 1010094 | C82: Khoa Khoa học cơ bản | D82: Nguyễn Hoàng Tùng (TG) | E82: =IF($D82="","",'HK2 - 22-23 + HKI 23-24(22C2)'!E80+'HKI 22-23'!E80) -> 0 | F82: =IF($D82="","",'HK2 - 22-23 + HKI 23-24(22C2)'!F80+'HKI 22-23'!F80) -> 0 | G82: =IF($D82="","",'HK2 - 22-23 + HKI 23-24(22C2)'!G80+'HKI 22-23'!G80) -> 0 | H82: =IF($D82="","",'HK2 - 22-23 + HKI 23-24(22C2)'!H80+'HKI 22-23'!H80) -> 0 | I82: =IF($D82="","",'HK2 - 22-23 + HKI 23-24(22C2)'!I80+'HKI 22-23'!I80) -> 0 | J82: =IF($D82="","",'HK2 - 22-23 + HKI 23-24(22C2)'!J80+'HKI 22-23'!J80) -> 0 | K82: =IF($D82="","",'HK2 - 22-23 + HKI 23-24(22C2)'!K80+'HKI 22-23'!K80) -> 0 | L82: =IF($D82="","",'HK2 - 22-23 + HKI 23-24(22C2)'!L80+'HKI 22-23'!L80) -> 0 | ... AT82: =IF($D82="","",'HK2 - 22-23 + HKI 23-24(22C2)'!AT80+'HKI 22-23'!AT80) -> 0
A83: =IF(D83="","",SUBTOTAL(3,$D$14:D83)) -> 70 | B83: 1010025 | C83: Khoa Khoa học cơ bản | D83: Nguyễn Huỳnh Mai Hạnh (TG) | E83: =IF($D83="","",'HK2 - 22-23 + HKI 23-24(22C2)'!E81+'HKI 22-23'!E81) -> 0 | F83: =IF($D83="","",'HK2 - 22-23 + HKI 23-24(22C2)'!F81+'HKI 22-23'!F81) -> 0 | G83: =IF($D83="","",'HK2 - 22-23 + HKI 23-24(22C2)'!G81+'HKI 22-23'!G81) -> 0 | H83: =IF($D83="","",'HK2 - 22-23 + HKI 23-24(22C2)'!H81+'HKI 22-23'!H81) -> 0 | I83: =IF($D83="","",'HK2 - 22-23 + HKI 23-24(22C2)'!I81+'HKI 22-23'!I81) -> 0 | J83: =IF($D83="","",'HK2 - 22-23 + HKI 23-24(22C2)'!J81+'HKI 22-23'!J81) -> 0 | K83: =IF($D83="","",'HK2 - 22-23 + HKI 23-24(22C2)'!K81+'HKI 22-23'!K81) -> 0 | L83: =IF($D83="","",'HK2 - 22-23 + HKI 23-24(22C2)'!L81+'HKI 22-23'!L81) -> 0 | ... AT83: =IF($D83="","",'HK2 - 22-23 + HKI 23-24(22C2)'!AT81+'HKI 22-23'!AT81) -> 0
A84: =IF(D84="","",SUBTOTAL(3,$D$14:D84)) -> 71 | B84: 1010126 | C84: Khoa Khoa học cơ bản | D84: Nguyễn Huỳnh Như Thủy (TG) | E84: =IF($D84="","",'HK2 - 22-23 + HKI 23-24(22C2)'!E82+'HKI 22-23'!E82) -> 0 | F84: =IF($D84="","",'HK2 - 22-23 + HKI 23-24(22C2)'!F82+'HKI 22-23'!F82) -> 0 | G84: =IF($D84="","",'HK2 - 22-23 + HKI 23-24(22C2)'!G82+'HKI 22-23'!G82) -> 0 | H84: =IF($D84="","",'HK2 - 22-23 + HKI 23-24(22C2)'!H82+'HKI 22-23'!H82) -> 0 | I84: =IF($D84="","",'HK2 - 22-23 + HKI 23-24(22C2)'!I82+'HKI 22-23'!I82) -> 0 | J84: =IF($D84="","",'HK2 - 22-23 + HKI 23-24(22C2)'!J82+'HKI 22-23'!J82) -> 0 | K84: =IF($D84="","",'HK2 - 22-23 + HKI 23-24(22C2)'!K82+'HKI 22-23'!K82) -> 0 | L84: =IF($D84="","",'HK2 - 22-23 + HKI 23-24(22C2)'!L82+'HKI 22-23'!L82) -> 0 | ... AT84: =IF($D84="","",'HK2 - 22-23 + HKI 23-24(22C2)'!AT82+'HKI 22-23'!AT82) -> 0
A85: =IF(D85="","",SUBTOTAL(3,$D$14:D85)) -> 72 | B85: 1010130 | C85: Khoa Khoa học cơ bản | D85: Nguyễn Lê Thuận (TG) | E85: =IF($D85="","",'HK2 - 22-23 + HKI 23-24(22C2)'!E83+'HKI 22-23'!E83) -> 0 | F85: =IF($D85="","",'HK2 - 22-23 + HKI 23-24(22C2)'!F83+'HKI 22-23'!F83) -> 0 | G85: =IF($D85="","",'HK2 - 22-23 + HKI 23-24(22C2)'!G83+'HKI 22-23'!G83) -> 0 | H85: =IF($D85="","",'HK2 - 22-23 + HKI 23-24(22C2)'!H83+'HKI 22-23'!H83) -> 0 | I85: =IF($D85="","",'HK2 - 22-23 + HKI 23-24(22C2)'!I83+'HKI 22-23'!I83) -> 0 | J85: =IF($D85="","",'HK2 - 22-23 + HKI 23-24(22C2)'!J83+'HKI 22-23'!J83) -> 0 | K85: =IF($D85="","",'HK2 - 22-23 + HKI 23-24(22C2)'!K83+'HKI 22-23'!K83) -> 0 | L85: =IF($D85="","",'HK2 - 22-23 + HKI 23-24(22C2)'!L83+'HKI 22-23'!L83) -> 0 | ... AT85: =IF($D85="","",'HK2 - 22-23 + HKI 23-24(22C2)'!AT83+'HKI 22-23'!AT83) -> 0
A86: =IF(D86="","",SUBTOTAL(3,$D$14:D86)) -> 73 | B86: 1010073 | C86: Khoa Khoa học cơ bản | D86: Nguyễn Mai Chinh (TG) | E86: =IF($D86="","",'HK2 - 22-23 + HKI 23-24(22C2)'!E84+'HKI 22-23'!E84) -> 0 | F86: =IF($D86="","",'HK2 - 22-23 + HKI 23-24(22C2)'!F84+'HKI 22-23'!F84) -> 0 | G86: =IF($D86="","",'HK2 - 22-23 + HKI 23-24(22C2)'!G84+'HKI 22-23'!G84) -> 0 | H86: =IF($D86="","",'HK2 - 22-23 + HKI 23-24(22C2)'!H84+'HKI 22-23'!H84) -> 0 | I86: =IF($D86="","",'HK2 - 22-23 + HKI 23-24(22C2)'!I84+'HKI 22-23'!I84) -> 0 | J86: =IF($D86="","",'HK2 - 22-23 + HKI 23-24(22C2)'!J84+'HKI 22-23'!J84) -> 0 | K86: =IF($D86="","",'HK2 - 22-23 + HKI 23-24(22C2)'!K84+'HKI 22-23'!K84) -> 0 | L86: =IF($D86="","",'HK2 - 22-23 + HKI 23-24(22C2)'!L84+'HKI 22-23'!L84) -> 0 | ... AT86: =IF($D86="","",'HK2 - 22-23 + HKI 23-24(22C2)'!AT84+'HKI 22-23'!AT84) -> 0
A87: =IF(D87="","",SUBTOTAL(3,$D$14:D87)) -> 74 | B87: 1010032 | C87: Khoa Khoa học cơ bản | D87: Nguyễn Mạnh Phương | E87: =IF($D87="","",'HK2 - 22-23 + HKI 23-24(22C2)'!E85+'HKI 22-23'!E85) -> 0 | F87: =IF($D87="","",'HK2 - 22-23 + HKI 23-24(22C2)'!F85+'HKI 22-23'!F85) -> 0 | G87: =IF($D87="","",'HK2 - 22-23 + HKI 23-24(22C2)'!G85+'HKI 22-23'!G85) -> 0 | H87: =IF($D87="","",'HK2 - 22-23 + HKI 23-24(22C2)'!H85+'HKI 22-23'!H85) -> 0 | I87: =IF($D87="","",'HK2 - 22-23 + HKI 23-24(22C2)'!I85+'HKI 22-23'!I85) -> 0 | J87: =IF($D87="","",'HK2 - 22-23 + HKI 23-24(22C2)'!J85+'HKI 22-23'!J85) -> 0 | K87: =IF($D87="","",'HK2 - 22-23 + HKI 23-24(22C2)'!K85+'HKI 22-23'!K85) -> 0 | L87: =IF($D87="","",'HK2 - 22-23 + HKI 23-24(22C2)'!L85+'HKI 22-23'!L85) -> 0 | ... AT87: =IF($D87="","",'HK2 - 22-23 + HKI 23-24(22C2)'!AT85+'HKI 22-23'!AT85) -> 0
A88: =IF(D88="","",SUBTOTAL(3,$D$14:D88)) -> 75 | B88: 1010139 | C88: Khoa Khoa học cơ bản | D88: Nguyễn Ngô Anh Tuấn (TG) | E88: =IF($D88="","",'HK2 - 22-23 + HKI 23-24(22C2)'!E86+'HKI 22-23'!E86) -> 0 | F88: =IF($D88="","",'HK2 - 22-23 + HKI 23-24(22C2)'!F86+'HKI 22-23'!F86) -> 0 | G88: =IF($D88="","",'HK2 - 22-23 + HKI 23-24(22C2)'!G86+'HKI 22-23'!G86) -> 0 | H88: =IF($D88="","",'HK2 - 22-23 + HKI 23-24(22C2)'!H86+'HKI 22-23'!H86) -> 0 | I88: =IF($D88="","",'HK2 - 22-23 + HKI 23-24(22C2)'!I86+'HKI 22-23'!I86) -> 0 | J88: =IF($D88="","",'HK2 - 22-23 + HKI 23-24(22C2)'!J86+'HKI 22-23'!J86) -> 0 | K88: =IF($D88="","",'HK2 - 22-23 + HKI 23-24(22C2)'!K86+'HKI 22-23'!K86) -> 0 | L88: =IF($D88="","",'HK2 - 22-23 + HKI 23-24(22C2)'!L86+'HKI 22-23'!L86) -> 0 | ... AT88: =IF($D88="","",'HK2 - 22-23 + HKI 23-24(22C2)'!AT86+'HKI 22-23'!AT86) -> 0
A89: =IF(D89="","",SUBTOTAL(3,$D$14:D89)) -> 76 | B89: 1010080 | C89: Khoa Khoa học cơ bản | D89: Nguyễn Ngọc Chương (TG) | E89: =IF($D89="","",'HK2 - 22-23 + HKI 23-24(22C2)'!E87+'HKI 22-23'!E87) -> 0 | F89: =IF($D89="","",'HK2 - 22-23 + HKI 23-24(22C2)'!F87+'HKI 22-23'!F87) -> 0 | G89: =IF($D89="","",'HK2 - 22-23 + HKI 23-24(22C2)'!G87+'HKI 22-23'!G87) -> 0 | H89: =IF($D89="","",'HK2 - 22-23 + HKI 23-24(22C2)'!H87+'HKI 22-23'!H87) -> 0 | I89: =IF($D89="","",'HK2 - 22-23 + HKI 23-24(22C2)'!I87+'HKI 22-23'!I87) -> 0 | J89: =IF($D89="","",'HK2 - 22-23 + HKI 23-24(22C2)'!J87+'HKI 22-23'!J87) -> 0 | K89: =IF($D89="","",'HK2 - 22-23 + HKI 23-24(22C2)'!K87+'HKI 22-23'!K87) -> 0 | L89: =IF($D89="","",'HK2 - 22-23 + HKI 23-24(22C2)'!L87+'HKI 22-23'!L87) -> 0 | ... AT89: =IF($D89="","",'HK2 - 22-23 + HKI 23-24(22C2)'!AT87+'HKI 22-23'!AT87) -> 0
A90: =IF(D90="","",SUBTOTAL(3,$D$14:D90)) -> 77 | C90: Khoa Khoa học cơ bản | D90: Nguyễn Ngọc Trâm (TG) | E90: =IF($D90="","",'HK2 - 22-23 + HKI 23-24(22C2)'!E88+'HKI 22-23'!E88) -> 0 | F90: =IF($D90="","",'HK2 - 22-23 + HKI 23-24(22C2)'!F88+'HKI 22-23'!F88) -> 0 | G90: =IF($D90="","",'HK2 - 22-23 + HKI 23-24(22C2)'!G88+'HKI 22-23'!G88) -> 0 | H90: =IF($D90="","",'HK2 - 22-23 + HKI 23-24(22C2)'!H88+'HKI 22-23'!H88) -> 0 | I90: =IF($D90="","",'HK2 - 22-23 + HKI 23-24(22C2)'!I88+'HKI 22-23'!I88) -> 0 | J90: =IF($D90="","",'HK2 - 22-23 + HKI 23-24(22C2)'!J88+'HKI 22-23'!J88) -> 0 | K90: =IF($D90="","",'HK2 - 22-23 + HKI 23-24(22C2)'!K88+'HKI 22-23'!K88) -> 0 | L90: =IF($D90="","",'HK2 - 22-23 + HKI 23-24(22C2)'!L88+'HKI 22-23'!L88) -> 0 | ... AT90: =IF($D90="","",'HK2 - 22-23 + HKI 23-24(22C2)'!AT88+'HKI 22-23'!AT88) -> 1.4
A91: =IF(D91="","",SUBTOTAL(3,$D$14:D91)) -> 78 | B91: 1010066 | C91: Khoa Khoa học cơ bản | D91: Nguyễn Nhân Anh (TG) | E91: =IF($D91="","",'HK2 - 22-23 + HKI 23-24(22C2)'!E89+'HKI 22-23'!E89) -> 0 | F91: =IF($D91="","",'HK2 - 22-23 + HKI 23-24(22C2)'!F89+'HKI 22-23'!F89) -> 0 | G91: =IF($D91="","",'HK2 - 22-23 + HKI 23-24(22C2)'!G89+'HKI 22-23'!G89) -> 0 | H91: =IF($D91="","",'HK2 - 22-23 + HKI 23-24(22C2)'!H89+'HKI 22-23'!H89) -> 0 | I91: =IF($D91="","",'HK2 - 22-23 + HKI 23-24(22C2)'!I89+'HKI 22-23'!I89) -> 0 | J91: =IF($D91="","",'HK2 - 22-23 + HKI 23-24(22C2)'!J89+'HKI 22-23'!J89) -> 0 | K91: =IF($D91="","",'HK2 - 22-23 + HKI 23-24(22C2)'!K89+'HKI 22-23'!K89) -> 0 | L91: =IF($D91="","",'HK2 - 22-23 + HKI 23-24(22C2)'!L89+'HKI 22-23'!L89) -> 0 | ... AT91: =IF($D91="","",'HK2 - 22-23 + HKI 23-24(22C2)'!AT89+'HKI 22-23'!AT89) -> 0
A92: =IF(D92="","",SUBTOTAL(3,$D$14:D92)) -> 79 | C92: Khoa Khoa học cơ bản | D92: Nguyễn Phan Hoàng Hạc (TG) | E92: =IF($D92="","",'HK2 - 22-23 + HKI 23-24(22C2)'!E90+'HKI 22-23'!E90) -> 0 | F92: =IF($D92="","",'HK2 - 22-23 + HKI 23-24(22C2)'!F90+'HKI 22-23'!F90) -> 0 | G92: =IF($D92="","",'HK2 - 22-23 + HKI 23-24(22C2)'!G90+'HKI 22-23'!G90) -> 0 | H92: =IF($D92="","",'HK2 - 22-23 + HKI 23-24(22C2)'!H90+'HKI 22-23'!H90) -> 0 | I92: =IF($D92="","",'HK2 - 22-23 + HKI 23-24(22C2)'!I90+'HKI 22-23'!I90) -> 0 | J92: =IF($D92="","",'HK2 - 22-23 + HKI 23-24(22C2)'!J90+'HKI 22-23'!J90) -> 0 | K92: =IF($D92="","",'HK2 - 22-23 + HKI 23-24(22C2)'!K90+'HKI 22-23'!K90) -> 0 | L92: =IF($D92="","",'HK2 - 22-23 + HKI 23-24(22C2)'!L90+'HKI 22-23'!L90) -> 0 | ... AT92: =IF($D92="","",'HK2 - 22-23 + HKI 23-24(22C2)'!AT90+'HKI 22-23'!AT90) -> 0
A93: =IF(D93="","",SUBTOTAL(3,$D$14:D93)) -> 80 | B93: 1010079 | C93: Khoa Khoa học cơ bản | D93: Nguyễn Phú Cường (TG) | E93: =IF($D93="","",'HK2 - 22-23 + HKI 23-24(22C2)'!E91+'HKI 22-23'!E91) -> 0 | F93: =IF($D93="","",'HK2 - 22-23 + HKI 23-24(22C2)'!F91+'HKI 22-23'!F91) -> 0 | G93: =IF($D93="","",'HK2 - 22-23 + HKI 23-24(22C2)'!G91+'HKI 22-23'!G91) -> 0 | H93: =IF($D93="","",'HK2 - 22-23 + HKI 23-24(22C2)'!H91+'HKI 22-23'!H91) -> 0 | I93: =IF($D93="","",'HK2 - 22-23 + HKI 23-24(22C2)'!I91+'HKI 22-23'!I91) -> 0 | J93: =IF($D93="","",'HK2 - 22-23 + HKI 23-24(22C2)'!J91+'HKI 22-23'!J91) -> 0 | K93: =IF($D93="","",'HK2 - 22-23 + HKI 23-24(22C2)'!K91+'HKI 22-23'!K91) -> 0 | L93: =IF($D93="","",'HK2 - 22-23 + HKI 23-24(22C2)'!L91+'HKI 22-23'!L91) -> 0 | ... AT93: =IF($D93="","",'HK2 - 22-23 + HKI 23-24(22C2)'!AT91+'HKI 22-23'!AT91) -> 0
A94: =IF(D94="","",SUBTOTAL(3,$D$14:D94)) -> 81 | B94: 1010022 | C94: Khoa Khoa học cơ bản | D94: Nguyễn Phú Tân | E94: =IF($D94="","",'HK2 - 22-23 + HKI 23-24(22C2)'!E92+'HKI 22-23'!E92) -> 0 | F94: =IF($D94="","",'HK2 - 22-23 + HKI 23-24(22C2)'!F92+'HKI 22-23'!F92) -> 0 | G94: =IF($D94="","",'HK2 - 22-23 + HKI 23-24(22C2)'!G92+'HKI 22-23'!G92) -> 0 | H94: =IF($D94="","",'HK2 - 22-23 + HKI 23-24(22C2)'!H92+'HKI 22-23'!H92) -> 0 | I94: =IF($D94="","",'HK2 - 22-23 + HKI 23-24(22C2)'!I92+'HKI 22-23'!I92) -> 0 | J94: =IF($D94="","",'HK2 - 22-23 + HKI 23-24(22C2)'!J92+'HKI 22-23'!J92) -> 0 | K94: =IF($D94="","",'HK2 - 22-23 + HKI 23-24(22C2)'!K92+'HKI 22-23'!K92) -> 0 | L94: =IF($D94="","",'HK2 - 22-23 + HKI 23-24(22C2)'!L92+'HKI 22-23'!L92) -> 0 | ... AT94: =IF($D94="","",'HK2 - 22-23 + HKI 23-24(22C2)'!AT92+'HKI 22-23'!AT92) -> 0
A95: =IF(D95="","",SUBTOTAL(3,$D$14:D95)) -> 82 | B95: 1010023 | C95: Khoa Khoa học cơ bản | D95: Nguyễn Phương Hà | E95: =IF($D95="","",'HK2 - 22-23 + HKI 23-24(22C2)'!E93+'HKI 22-23'!E93) -> 19 | F95: =IF($D95="","",'HK2 - 22-23 + HKI 23-24(22C2)'!F93+'HKI 22-23'!F93) -> 0 | G95: =IF($D95="","",'HK2 - 22-23 + HKI 23-24(22C2)'!G93+'HKI 22-23'!G93) -> 0 | H95: =IF($D95="","",'HK2 - 22-23 + HKI 23-24(22C2)'!H93+'HKI 22-23'!H93) -> 0 | I95: =IF($D95="","",'HK2 - 22-23 + HKI 23-24(22C2)'!I93+'HKI 22-23'!I93) -> 0 | J95: =IF($D95="","",'HK2 - 22-23 + HKI 23-24(22C2)'!J93+'HKI 22-23'!J93) -> 0 | K95: =IF($D95="","",'HK2 - 22-23 + HKI 23-24(22C2)'!K93+'HKI 22-23'!K93) -> 0 | L95: =IF($D95="","",'HK2 - 22-23 + HKI 23-24(22C2)'!L93+'HKI 22-23'!L93) -> 0 | ... AT95: =IF($D95="","",'HK2 - 22-23 + HKI 23-24(22C2)'!AT93+'HKI 22-23'!AT93) -> 185.5
A96: =IF(D96="","",SUBTOTAL(3,$D$14:D96)) -> 83 | C96: Khoa Khoa học cơ bản | D96: Nguyễn Quang Diệu (TG) | E96: =IF($D96="","",'HK2 - 22-23 + HKI 23-24(22C2)'!E94+'HKI 22-23'!E94) -> 0 | F96: =IF($D96="","",'HK2 - 22-23 + HKI 23-24(22C2)'!F94+'HKI 22-23'!F94) -> 0 | G96: =IF($D96="","",'HK2 - 22-23 + HKI 23-24(22C2)'!G94+'HKI 22-23'!G94) -> 0 | H96: =IF($D96="","",'HK2 - 22-23 + HKI 23-24(22C2)'!H94+'HKI 22-23'!H94) -> 0 | I96: =IF($D96="","",'HK2 - 22-23 + HKI 23-24(22C2)'!I94+'HKI 22-23'!I94) -> 0 | J96: =IF($D96="","",'HK2 - 22-23 + HKI 23-24(22C2)'!J94+'HKI 22-23'!J94) -> 0 | K96: =IF($D96="","",'HK2 - 22-23 + HKI 23-24(22C2)'!K94+'HKI 22-23'!K94) -> 0 | L96: =IF($D96="","",'HK2 - 22-23 + HKI 23-24(22C2)'!L94+'HKI 22-23'!L94) -> 0 | ... AT96: =IF($D96="","",'HK2 - 22-23 + HKI 23-24(22C2)'!AT94+'HKI 22-23'!AT94) -> 0
A97: =IF(D97="","",SUBTOTAL(3,$D$14:D97)) -> 84 | C97: Khoa Khoa học cơ bản | D97: Nguyễn Quí Long (TG) | E97: =IF($D97="","",'HK2 - 22-23 + HKI 23-24(22C2)'!E95+'HKI 22-23'!E95) -> 0 | F97: =IF($D97="","",'HK2 - 22-23 + HKI 23-24(22C2)'!F95+'HKI 22-23'!F95) -> 0 | G97: =IF($D97="","",'HK2 - 22-23 + HKI 23-24(22C2)'!G95+'HKI 22-23'!G95) -> 0 | H97: =IF($D97="","",'HK2 - 22-23 + HKI 23-24(22C2)'!H95+'HKI 22-23'!H95) -> 0 | I97: =IF($D97="","",'HK2 - 22-23 + HKI 23-24(22C2)'!I95+'HKI 22-23'!I95) -> 0 | J97: =IF($D97="","",'HK2 - 22-23 + HKI 23-24(22C2)'!J95+'HKI 22-23'!J95) -> 0 | K97: =IF($D97="","",'HK2 - 22-23 + HKI 23-24(22C2)'!K95+'HKI 22-23'!K95) -> 0 | L97: =IF($D97="","",'HK2 - 22-23 + HKI 23-24(22C2)'!L95+'HKI 22-23'!L95) -> 0 | ... AT97: =IF($D97="","",'HK2 - 22-23 + HKI 23-24(22C2)'!AT95+'HKI 22-23'!AT95) -> 165.5
A98: =IF(D98="","",SUBTOTAL(3,$D$14:D98)) -> 85 | B98: 1010008 | C98: Khoa Khoa học cơ bản | D98: Nguyễn Quỳnh Giao (TG) | E98: =IF($D98="","",'HK2 - 22-23 + HKI 23-24(22C2)'!E96+'HKI 22-23'!E96) -> 0 | F98: =IF($D98="","",'HK2 - 22-23 + HKI 23-24(22C2)'!F96+'HKI 22-23'!F96) -> 0 | G98: =IF($D98="","",'HK2 - 22-23 + HKI 23-24(22C2)'!G96+'HKI 22-23'!G96) -> 0 | H98: =IF($D98="","",'HK2 - 22-23 + HKI 23-24(22C2)'!H96+'HKI 22-23'!H96) -> 0 | I98: =IF($D98="","",'HK2 - 22-23 + HKI 23-24(22C2)'!I96+'HKI 22-23'!I96) -> 0 | J98: =IF($D98="","",'HK2 - 22-23 + HKI 23-24(22C2)'!J96+'HKI 22-23'!J96) -> 0 | K98: =IF($D98="","",'HK2 - 22-23 + HKI 23-24(22C2)'!K96+'HKI 22-23'!K96) -> 0 | L98: =IF($D98="","",'HK2 - 22-23 + HKI 23-24(22C2)'!L96+'HKI 22-23'!L96) -> 0 | ... AT98: =IF($D98="","",'HK2 - 22-23 + HKI 23-24(22C2)'!AT96+'HKI 22-23'!AT96) -> 0
A99: =IF(D99="","",SUBTOTAL(3,$D$14:D99)) -> 86 | B99: 1010077 | C99: Khoa Khoa học cơ bản | D99: Nguyễn Tấn Phát (TG) | E99: =IF($D99="","",'HK2 - 22-23 + HKI 23-24(22C2)'!E97+'HKI 22-23'!E97) -> 0 | F99: =IF($D99="","",'HK2 - 22-23 + HKI 23-24(22C2)'!F97+'HKI 22-23'!F97) -> 0 | G99: =IF($D99="","",'HK2 - 22-23 + HKI 23-24(22C2)'!G97+'HKI 22-23'!G97) -> 0 | H99: =IF($D99="","",'HK2 - 22-23 + HKI 23-24(22C2)'!H97+'HKI 22-23'!H97) -> 0 | I99: =IF($D99="","",'HK2 - 22-23 + HKI 23-24(22C2)'!I97+'HKI 22-23'!I97) -> 0 | J99: =IF($D99="","",'HK2 - 22-23 + HKI 23-24(22C2)'!J97+'HKI 22-23'!J97) -> 0 | K99: =IF($D99="","",'HK2 - 22-23 + HKI 23-24(22C2)'!K97+'HKI 22-23'!K97) -> 0 | L99: =IF($D99="","",'HK2 - 22-23 + HKI 23-24(22C2)'!L97+'HKI 22-23'!L97) -> 0 | ... AT99: =IF($D99="","",'HK2 - 22-23 + HKI 23-24(22C2)'!AT97+'HKI 22-23'!AT97) -> 0
A100: =IF(D100="","",SUBTOTAL(3,$D$14:D100)) -> 87 | B100: 1010012 | C100: Khoa Khoa học cơ bản | D100: Nguyễn Thanh Tú | E100: =IF($D100="","",'HK2 - 22-23 + HKI 23-24(22C2)'!E98+'HKI 22-23'!E98) -> 4 | F100: =IF($D100="","",'HK2 - 22-23 + HKI 23-24(22C2)'!F98+'HKI 22-23'!F98) -> 30 | G100: =IF($D100="","",'HK2 - 22-23 + HKI 23-24(22C2)'!G98+'HKI 22-23'!G98) -> 0 | H100: =IF($D100="","",'HK2 - 22-23 + HKI 23-24(22C2)'!H98+'HKI 22-23'!H98) -> 0 | I100: =IF($D100="","",'HK2 - 22-23 + HKI 23-24(22C2)'!I98+'HKI 22-23'!I98) -> 0 | J100: =IF($D100="","",'HK2 - 22-23 + HKI 23-24(22C2)'!J98+'HKI 22-23'!J98) -> 0 | K100: =IF($D100="","",'HK2 - 22-23 + HKI 23-24(22C2)'!K98+'HKI 22-23'!K98) -> 0 | L100: =IF($D100="","",'HK2 - 22-23 + HKI 23-24(22C2)'!L98+'HKI 22-23'!L98) -> 0 | ... AT100: =IF($D100="","",'HK2 - 22-23 + HKI 23-24(22C2)'!AT98+'HKI 22-23'!AT98) -> 82.3
A101: =IF(D101="","",SUBTOTAL(3,$D$14:D101)) -> 88 | C101: Khoa Khoa học cơ bản | D101: Nguyễn Thị Bảo Linh (TG) | E101: =IF($D101="","",'HK2 - 22-23 + HKI 23-24(22C2)'!E99+'HKI 22-23'!E99) -> 0 | F101: =IF($D101="","",'HK2 - 22-23 + HKI 23-24(22C2)'!F99+'HKI 22-23'!F99) -> 0 | G101: =IF($D101="","",'HK2 - 22-23 + HKI 23-24(22C2)'!G99+'HKI 22-23'!G99) -> 0 | H101: =IF($D101="","",'HK2 - 22-23 + HKI 23-24(22C2)'!H99+'HKI 22-23'!H99) -> 0 | I101: =IF($D101="","",'HK2 - 22-23 + HKI 23-24(22C2)'!I99+'HKI 22-23'!I99) -> 0 | J101: =IF($D101="","",'HK2 - 22-23 + HKI 23-24(22C2)'!J99+'HKI 22-23'!J99) -> 0 | K101: =IF($D101="","",'HK2 - 22-23 + HKI 23-24(22C2)'!K99+'HKI 22-23'!K99) -> 0 | L101: =IF($D101="","",'HK2 - 22-23 + HKI 23-24(22C2)'!L99+'HKI 22-23'!L99) -> 0 | ... AT101: =IF($D101="","",'HK2 - 22-23 + HKI 23-24(22C2)'!AT99+'HKI 22-23'!AT99) -> 0
A102: =IF(D102="","",SUBTOTAL(3,$D$14:D102)) -> 89 | B102: 1010078 | C102: Khoa Khoa học cơ bản | D102: Nguyễn Thị Bích Hồng (TG) | E102: =IF($D102="","",'HK2 - 22-23 + HKI 23-24(22C2)'!E100+'HKI 22-23'!E100) -> 0 | F102: =IF($D102="","",'HK2 - 22-23 + HKI 23-24(22C2)'!F100+'HKI 22-23'!F100) -> 0 | G102: =IF($D102="","",'HK2 - 22-23 + HKI 23-24(22C2)'!G100+'HKI 22-23'!G100) -> 0 | H102: =IF($D102="","",'HK2 - 22-23 + HKI 23-24(22C2)'!H100+'HKI 22-23'!H100) -> 0 | I102: =IF($D102="","",'HK2 - 22-23 + HKI 23-24(22C2)'!I100+'HKI 22-23'!I100) -> 0 | J102: =IF($D102="","",'HK2 - 22-23 + HKI 23-24(22C2)'!J100+'HKI 22-23'!J100) -> 0 | K102: =IF($D102="","",'HK2 - 22-23 + HKI 23-24(22C2)'!K100+'HKI 22-23'!K100) -> 0 | L102: =IF($D102="","",'HK2 - 22-23 + HKI 23-24(22C2)'!L100+'HKI 22-23'!L100) -> 0 | ... AT102: =IF($D102="","",'HK2 - 22-23 + HKI 23-24(22C2)'!AT100+'HKI 22-23'!AT100) -> 2.2
A103: =IF(D103="","",SUBTOTAL(3,$D$14:D103)) -> 90 | C103: Khoa Khoa học cơ bản | D103: Nguyễn Thị Bích Trâm (TG) | E103: =IF($D103="","",'HK2 - 22-23 + HKI 23-24(22C2)'!E101+'HKI 22-23'!E101) -> 2 | F103: =IF($D103="","",'HK2 - 22-23 + HKI 23-24(22C2)'!F101+'HKI 22-23'!F101) -> 0 | G103: =IF($D103="","",'HK2 - 22-23 + HKI 23-24(22C2)'!G101+'HKI 22-23'!G101) -> 0 | H103: =IF($D103="","",'HK2 - 22-23 + HKI 23-24(22C2)'!H101+'HKI 22-23'!H101) -> 0 | I103: =IF($D103="","",'HK2 - 22-23 + HKI 23-24(22C2)'!I101+'HKI 22-23'!I101) -> 0 | J103: =IF($D103="","",'HK2 - 22-23 + HKI 23-24(22C2)'!J101+'HKI 22-23'!J101) -> 0 | K103: =IF($D103="","",'HK2 - 22-23 + HKI 23-24(22C2)'!K101+'HKI 22-23'!K101) -> 0 | L103: =IF($D103="","",'HK2 - 22-23 + HKI 23-24(22C2)'!L101+'HKI 22-23'!L101) -> 0 | ... AT103: =IF($D103="","",'HK2 - 22-23 + HKI 23-24(22C2)'!AT101+'HKI 22-23'!AT101) -> -37.2
A104: =IF(D104="","",SUBTOTAL(3,$D$14:D104)) -> 91 | B104: 1010122 | C104: Khoa Khoa học cơ bản | D104: Nguyễn Thị Cẩm Loan (TG) | E104: =IF($D104="","",'HK2 - 22-23 + HKI 23-24(22C2)'!E102+'HKI 22-23'!E102) -> 0 | F104: =IF($D104="","",'HK2 - 22-23 + HKI 23-24(22C2)'!F102+'HKI 22-23'!F102) -> 0 | G104: =IF($D104="","",'HK2 - 22-23 + HKI 23-24(22C2)'!G102+'HKI 22-23'!G102) -> 0 | H104: =IF($D104="","",'HK2 - 22-23 + HKI 23-24(22C2)'!H102+'HKI 22-23'!H102) -> 0 | I104: =IF($D104="","",'HK2 - 22-23 + HKI 23-24(22C2)'!I102+'HKI 22-23'!I102) -> 0 | J104: =IF($D104="","",'HK2 - 22-23 + HKI 23-24(22C2)'!J102+'HKI 22-23'!J102) -> 0 | K104: =IF($D104="","",'HK2 - 22-23 + HKI 23-24(22C2)'!K102+'HKI 22-23'!K102) -> 0 | L104: =IF($D104="","",'HK2 - 22-23 + HKI 23-24(22C2)'!L102+'HKI 22-23'!L102) -> 0 | ... AT104: =IF($D104="","",'HK2 - 22-23 + HKI 23-24(22C2)'!AT102+'HKI 22-23'!AT102) -> 10.4
A105: =IF(D105="","",SUBTOTAL(3,$D$14:D105)) -> 92 | B105: 1010016 | C105: Khoa Khoa học cơ bản | D105: Nguyễn Thị Cẩm Thạch | E105: =IF($D105="","",'HK2 - 22-23 + HKI 23-24(22C2)'!E103+'HKI 22-23'!E103) -> 6 | F105: =IF($D105="","",'HK2 - 22-23 + HKI 23-24(22C2)'!F103+'HKI 22-23'!F103) -> 0 | G105: =IF($D105="","",'HK2 - 22-23 + HKI 23-24(22C2)'!G103+'HKI 22-23'!G103) -> 0 | H105: =IF($D105="","",'HK2 - 22-23 + HKI 23-24(22C2)'!H103+'HKI 22-23'!H103) -> 0 | I105: =IF($D105="","",'HK2 - 22-23 + HKI 23-24(22C2)'!I103+'HKI 22-23'!I103) -> 0 | J105: =IF($D105="","",'HK2 - 22-23 + HKI 23-24(22C2)'!J103+'HKI 22-23'!J103) -> 0 | K105: =IF($D105="","",'HK2 - 22-23 + HKI 23-24(22C2)'!K103+'HKI 22-23'!K103) -> 0 | L105: =IF($D105="","",'HK2 - 22-23 + HKI 23-24(22C2)'!L103+'HKI 22-23'!L103) -> 0 | ... AT105: =IF($D105="","",'HK2 - 22-23 + HKI 23-24(22C2)'!AT103+'HKI 22-23'!AT103) -> 39.2
A106: =IF(D106="","",SUBTOTAL(3,$D$14:D106)) -> 93 | C106: Khoa Khoa học cơ bản | D106: Nguyễn Thị Cẩm Thạch (TG) | E106: =IF($D106="","",'HK2 - 22-23 + HKI 23-24(22C2)'!E104+'HKI 22-23'!E104) -> 0 | F106: =IF($D106="","",'HK2 - 22-23 + HKI 23-24(22C2)'!F104+'HKI 22-23'!F104) -> 0 | G106: =IF($D106="","",'HK2 - 22-23 + HKI 23-24(22C2)'!G104+'HKI 22-23'!G104) -> 0 | H106: =IF($D106="","",'HK2 - 22-23 + HKI 23-24(22C2)'!H104+'HKI 22-23'!H104) -> 0 | I106: =IF($D106="","",'HK2 - 22-23 + HKI 23-24(22C2)'!I104+'HKI 22-23'!I104) -> 0 | J106: =IF($D106="","",'HK2 - 22-23 + HKI 23-24(22C2)'!J104+'HKI 22-23'!J104) -> 0 | K106: =IF($D106="","",'HK2 - 22-23 + HKI 23-24(22C2)'!K104+'HKI 22-23'!K104) -> 0 | L106: =IF($D106="","",'HK2 - 22-23 + HKI 23-24(22C2)'!L104+'HKI 22-23'!L104) -> 0 | ... AT106: =IF($D106="","",'HK2 - 22-23 + HKI 23-24(22C2)'!AT104+'HKI 22-23'!AT104) -> -1.7
...

Sheet XUẤT HKI
E1: =SUBTOTAL(9,E5:E473) -> #N/A | F1: =SUBTOTAL(9,F5:F473) -> #N/A | G1: =SUBTOTAL(9,G5:G473) -> #N/A | H1: =SUBTOTAL(9,H5:H473) -> #N/A | I1: =SUBTOTAL(9,I5:I473) -> #N/A | J1: =SUBTOTAL(9,J5:J473) -> #N/A | K1: =SUBTOTAL(9,K5:K473) -> #N/A | L1: =SUBTOTAL(9,L5:L473) -> #N/A | ... AT1: =SUBTOTAL(9,AT5:AT473) -> #N/A
A2: STT | B2: Mã nhân sự | C2: Đơn vị | D2: HỌ VÀ TÊN GIẢNG VIÊN | E2: ĐỀ THI | N2: COI THI | S2: CHẤM THI KTHP | AI2: CHẤM THI TỐT NGHIỆP | AR2: DỰ PHÒNG KỲ THI | AS2: GIÁM SÁT | AT2: TỔNG KHỐI LƯỢNG | AU2: =SUBTOTAL(9,AT:AT) -> #N/A
S3: LÝ THUYẾT (TV+TN) | W3: VẤN ĐÁP | AA3: TIỂU LUẬN | AE3: THỰC HÀNH | AI3: LÝ THUYẾT (TV+TN) | AL3: VẤN ĐÁP | AO3: THỰC HÀNH
E4: SL ĐỀ LT KTHP | F4: SL ĐỀ TN KTHP | G4: SL ĐỀ VĐ KTHP | H4: SL ĐỀ TH KTHP | I4: SL ĐỀ LT ThiTN | J4: SL ĐỀ TN ThiTN | K4: SL ĐỀ VĐ ThiTN | L4: SL ĐỀ TH ThiTN | M4: KL SOẠN ĐỀ (tiết) | N4: COITHI 2 KTHP | O4: COITHI 1 KTHP | P4: COITHI 1 Thi TN | Q4: COITHI 2 Thi TN | R4: KL COITHI (tiết) | S4: SL CHẤM LT 1 | T4: SL CHẤM LT 2 | U4: SL CHẤM NV | V4: KL CHẤM LT (tiết) | W4: SL CHẤM TL 1 | X4: SL CHẤM TL 2 | Y4: SL CHẤM NV | Z4: KL CHẤM TL (tiết) | AA4: SL CHẤM TL 1 | AB4: SL CHẤM TL 2 | AC4: SL CHẤM NV | AD4: KL CHẤM TL (tiết) | AE4: SL CHẤM TL 1 | AF4: SL CHẤM TL 2 | AG4: SL CHẤM NV | AH4: KL CHẤM TL (tiết) | AI4: SL BÀI LT CHẤM 1 | AJ4: SL BÀI LT CHẤM 2 | AK4: KL CHẤM LT (tiết) | AL4: SL BÀI VĐ CHẤM 1 | AM4: SL BÀI VĐ CHẤM 2 | AN4: KL CHẤM VĐ (tiết) | AO4: SL BÀI TL CHẤM 1 | AP4: SL BÀI TL CHẤM 2 | AQ4: KL CHẤM TL (tiết)
A5: =IF(D5="","",SUBTOTAL(3,$D$5:D5)) -> 1 | B5: 01001001 | C5: Ban Giám hiệu | D5: Đinh Hồng Minh | E5: =IF($B5="","",VLOOKUP($B5,'HK2 - 22-23 + HKI 23-24(22C2)'!$B$12:$AT$182,4,0)) -> #N/A | F5: =IF($B5="","",VLOOKUP($B5,'HK2 - 22-23 + HKI 23-24(22C2)'!$B$12:$AT$182,5,0)) -> #N/A | G5: =IF($B5="","",VLOOKUP($B5,'HK2 - 22-23 + HKI 23-24(22C2)'!$B$12:$AT$182,6,0)) -> #N/A | H5: =IF($B5="","",VLOOKUP($B5,'HK2 - 22-23 + HKI 23-24(22C2)'!$B$12:$AT$182,7,0)) -> #N/A | I5: =IF($B5="","",VLOOKUP($B5,'HK2 - 22-23 + HKI 23-24(22C2)'!$B$12:$AT$182,8,0)) -> #N/A | J5: =IF($B5="","",VLOOKUP($B5,'HK2 - 22-23 + HKI 23-24(22C2)'!$B$12:$AT$182,9,0)) -> #N/A | K5: =IF($B5="","",VLOOKUP($B5,'HK2 - 22-23 + HKI 23-24(22C2)'!$B$12:$AT$182,10,0)) -> #N/A | L5: =IF($B5="","",VLOOKUP($B5,'HK2 - 22-23 + HKI 23-24(22C2)'!$B$12:$AT$182,11,0)) -> #N/A | M5: =IF($D5="","",($E5+$F5*1.5+$G5*0.25+$H5*0.5+$I5*2+$J5*2.5+$K5*0.5+$L5*1.5)) -> #N/A | N5: =IF($B5="","",VLOOKUP($B5,'HK2 - 22-23 + HKI 23-24(22C2)'!$B$12:$AT$182,13,0)) -> #N/A | O5: =IF($B5="","",VLOOKUP($B5,'HK2 - 22-23 + HKI 23-24(22C2)'!$B$12:$AT$182,14,0)) -> #N/A | P5: =IF($B5="","",VLOOKUP($B5,'HK2 - 22-23 + HKI 23-24(22C2)'!$B$12:$AT$182,15,0)) -> #N/A | Q5: =IF($B5="","",VLOOKUP($B5,'HK2 - 22-23 + HKI 23-24(22C2)'!$B$12:$AT$182,16,0)) -> #N/A | R5: =IF($D5="","",SUM($N5:$Q5)) -> #N/A | S5: =IF($B5="","",VLOOKUP($B5,'HK2 - 22-23 + HKI 23-24(22C2)'!$B$12:$AT$182,18,0)) -> #N/A | T5: =IF($B5="","",VLOOKUP($B5,'HK2 - 22-23 + HKI 23-24(22C2)'!$B$12:$AT$182,19,0)) -> #N/A | U5: =IF($B5="","",VLOOKUP($B5,'HK2 - 22-23 + HKI 23-24(22C2)'!$B$12:$AT$182,20,0)) -> #N/A | V5: =IF($D5="","",((SUM($S5:$T5))-U5)*0.1) -> #N/A | W5: =IF($B5="","",VLOOKUP($B5,'HK2 - 22-23 + HKI 23-24(22C2)'!$B$12:$AT$182,22,0)) -> #N/A | X5: =IF($B5="","",VLOOKUP($B5,'HK2 - 22-23 + HKI 23-24(22C2)'!$B$12:$AT$182,23,0)) -> #N/A | Y5: =IF($B5="","",VLOOKUP($B5,'HK2 - 22-23 + HKI 23-24(22C2)'!$B$12:$AT$182,24,0)) -> #N/A | Z5: =IF($D5="","",((SUM($W5:$X5))-Y5)*0.2) -> #N/A | AA5: =IF($B5="","",VLOOKUP($B5,'HK2 - 22-23 + HKI 23-24(22C2)'!$B$12:$AT$182,26,0)) -> #N/A | AB5: =IF($B5="","",VLOOKUP($B5,'HK2 - 22-23 + HKI 23-24(22C2)'!$B$12:$AT$182,27,0)) -> #N/A | AC5: =IF($B5="","",VLOOKUP($B5,'HK2 - 22-23 + HKI 23-24(22C2)'!$B$12:$AT$182,28,0)) -> #N/A | AD5: =IF($D5="","",((SUM($AA5:$AB5))-AC5)*0.1) -> #N/A | AE5: =IF($B5="","",VLOOKUP($B5,'HK2 - 22-23 + HKI 23-24(22C2)'!$B$12:$AT$182,30,0)) -> #N/A | AF5: =IF($B5="","",VLOOKUP($B5,'HK2 - 22-23 + HKI 23-24(22C2)'!$B$12:$AT$182,31,0)) -> #N/A | AG5: =IF($B5="","",VLOOKUP($B5,'HK2 - 22-23 + HKI 23-24(22C2)'!$B$12:$AT$182,32,0)) -> #N/A | AH5: =IF($D5="","",((SUM($AE5:$AF5))-AG5)*0.2) -> #N/A | AI5: =IF($B5="","",VLOOKUP($B5,'HK2 - 22-23 + HKI 23-24(22C2)'!$B$12:$AT$182,34,0)) -> #N/A | AJ5: =IF($B5="","",VLOOKUP($B5,'HK2 - 22-23 + HKI 23-24(22C2)'!$B$12:$AT$182,35,0)) -> #N/A | AK5: =IF($D5="","",(SUM($AI5:$AJ5))*0.2) -> #N/A | AL5: =IF($B5="","",VLOOKUP($B5,'HK2 - 22-23 + HKI 23-24(22C2)'!$B$12:$AT$182,37,0)) -> #N/A | AM5: =IF($B5="","",VLOOKUP($B5,'HK2 - 22-23 + HKI 23-24(22C2)'!$B$12:$AT$182,38,0)) -> #N/A | AN5: =IF($D5="","",(SUM(AL5:AM5))*0.4) -> #N/A | AO5: =IF($B5="","",VLOOKUP($B5,'HK2 - 22-23 + HKI 23-24(22C2)'!$B$12:$AT$182,40,0)) -> #N/A | AP5: =IF($B5="","",VLOOKUP($B5,'HK2 - 22-23 + HKI 23-24(22C2)'!$B$12:$AT$182,41,0)) -> #N/A | AQ5: =IF(D5="","",SUM(AO5:AP5)*0.4) -> #N/A | AR5: =IF($B5="","",VLOOKUP($B5,'HK2 - 22-23 + HKI 23-24(22C2)'!$B$12:$AT$182,43,0)) -> #N/A | AS5: =IF($B5="","",VLOOKUP($B5,'HK2 - 22-23 + HKI 23-24(22C2)'!$B$12:$AT$182,44,0)) -> #N/A | AT5: =IF(D5="","",ROUND(M5+R5+V5+Z5+AD5+AH5+AK5+AN5+AQ5+SUM(AR5:AS5),1)) -> #N/A
A6: =IF(D6="","",SUBTOTAL(3,$D$5:D6)) -> 2 | B6: 01002001 | C6: Ban Giám hiệu | D6: Đinh Văn Đệ | E6: =IF($B6="","",VLOOKUP($B6,'HK2 - 22-23 + HKI 23-24(22C2)'!$B$12:$AT$182,4,0)) -> #N/A | F6: =IF($B6="","",VLOOKUP($B6,'HK2 - 22-23 + HKI 23-24(22C2)'!$B$12:$AT$182,5,0)) -> #N/A | G6: =IF($B6="","",VLOOKUP($B6,'HK2 - 22-23 + HKI 23-24(22C2)'!$B$12:$AT$182,6,0)) -> #N/A | H6: =IF($B6="","",VLOOKUP($B6,'HK2 - 22-23 + HKI 23-24(22C2)'!$B$12:$AT$182,7,0)) -> #N/A | I6: =IF($B6="","",VLOOKUP($B6,'HK2 - 22-23 + HKI 23-24(22C2)'!$B$12:$AT$182,8,0)) -> #N/A | J6: =IF($B6="","",VLOOKUP($B6,'HK2 - 22-23 + HKI 23-24(22C2)'!$B$12:$AT$182,9,0)) -> #N/A | K6: =IF($B6="","",VLOOKUP($B6,'HK2 - 22-23 + HKI 23-24(22C2)'!$B$12:$AT$182,10,0)) -> #N/A | L6: =IF($B6="","",VLOOKUP($B6,'HK2 - 22-23 + HKI 23-24(22C2)'!$B$12:$AT$182,11,0)) -> #N/A | M6: =IF($D6="","",($E6+$F6*1.5+$G6*0.25+$H6*0.5+$I6*2+$J6*2.5+$K6*0.5+$L6*1.5)) -> #N/A | N6: =IF($B6="","",VLOOKUP($B6,'HK2 - 22-23 + HKI 23-24(22C2)'!$B$12:$AT$182,13,0)) -> #N/A | O6: =IF($B6="","",VLOOKUP($B6,'HK2 - 22-23 + HKI 23-24(22C2)'!$B$12:$AT$182,14,0)) -> #N/A | P6: =IF($B6="","",VLOOKUP($B6,'HK2 - 22-23 + HKI 23-24(22C2)'!$B$12:$AT$182,15,0)) -> #N/A | Q6: =IF($B6="","",VLOOKUP($B6,'HK2 - 22-23 + HKI 23-24(22C2)'!$B$12:$AT$182,16,0)) -> #N/A | R6: =IF($D6="","",SUM($N6:$Q6)) -> #N/A | S6: =IF($B6="","",VLOOKUP($B6,'HK2 - 22-23 + HKI 23-24(22C2)'!$B$12:$AT$182,18,0)) -> #N/A | T6: =IF($B6="","",VLOOKUP($B6,'HK2 - 22-23 + HKI 23-24(22C2)'!$B$12:$AT$182,19,0)) -> #N/A | U6: =IF($B6="","",VLOOKUP($B6,'HK2 - 22-23 + HKI 23-24(22C2)'!$B$12:$AT$182,20,0)) -> #N/A | V6: =IF($D6="","",((SUM($S6:$T6))-U6)*0.1) -> #N/A | W6: =IF($B6="","",VLOOKUP($B6,'HK2 - 22-23 + HKI 23-24(22C2)'!$B$12:$AT$182,22,0)) -> #N/A | X6: =IF($B6="","",VLOOKUP($B6,'HK2 - 22-23 + HKI 23-24(22C2)'!$B$12:$AT$182,23,0)) -> #N/A | Y6: =IF($B6="","",VLOOKUP($B6,'HK2 - 22-23 + HKI 23-24(22C2)'!$B$12:$AT$182,24,0)) -> #N/A | Z6: =IF($D6="","",((SUM($W6:$X6))-Y6)*0.2) -> #N/A | AA6: =IF($B6="","",VLOOKUP($B6,'HK2 - 22-23 + HKI 23-24(22C2)'!$B$12:$AT$182,26,0)) -> #N/A | AB6: =IF($B6="","",VLOOKUP($B6,'HK2 - 22-23 + HKI 23-24(22C2)'!$B$12:$AT$182,27,0)) -> #N/A | AC6: =IF($B6="","",VLOOKUP($B6,'HK2 - 22-23 + HKI 23-24(22C2)'!$B$12:$AT$182,28,0)) -> #N/A | AD6: =IF($D6="","",((SUM($AA6:$AB6))-AC6)*0.1) -> #N/A | AE6: =IF($B6="","",VLOOKUP($B6,'HK2 - 22-23 + HKI 23-24(22C2)'!$B$12:$AT$182,30,0)) -> #N/A | AF6: =IF($B6="","",VLOOKUP($B6,'HK2 - 22-23 + HKI 23-24(22C2)'!$B$12:$AT$182,31,0)) -> #N/A | AG6: =IF($B6="","",VLOOKUP($B6,'HK2 - 22-23 + HKI 23-24(22C2)'!$B$12:$AT$182,32,0)) -> #N/A | AH6: =IF($D6="","",((SUM($AE6:$AF6))-AG6)*0.2) -> #N/A | AI6: =IF($B6="","",VLOOKUP($B6,'HK2 - 22-23 + HKI 23-24(22C2)'!$B$12:$AT$182,34,0)) -> #N/A | AJ6: =IF($B6="","",VLOOKUP($B6,'HK2 - 22-23 + HKI 23-24(22C2)'!$B$12:$AT$182,35,0)) -> #N/A | AK6: =IF($D6="","",(SUM($AI6:$AJ6))*0.2) -> #N/A | AL6: =IF($B6="","",VLOOKUP($B6,'HK2 - 22-23 + HKI 23-24(22C2)'!$B$12:$AT$182,37,0)) -> #N/A | AM6: =IF($B6="","",VLOOKUP($B6,'HK2 - 22-23 + HKI 23-24(22C2)'!$B$12:$AT$182,38,0)) -> #N/A | AN6: =IF($D6="","",(SUM(AL6:AM6))*0.4) -> #N/A | AO6: =IF($B6="","",VLOOKUP($B6,'HK2 - 22-23 + HKI 23-24(22C2)'!$B$12:$AT$182,40,0)) -> #N/A | AP6: =IF($B6="","",VLOOKUP($B6,'HK2 - 22-23 + HKI 23-24(22C2)'!$B$12:$AT$182,41,0)) -> #N/A | AQ6: =IF(D6="","",SUM(AO6:AP6)*0.4) -> #N/A | AR6: =IF($B6="","",VLOOKUP($B6,'HK2 - 22-23 + HKI 23-24(22C2)'!$B$12:$AT$182,43,0)) -> #N/A | AS6: =IF($B6="","",VLOOKUP($B6,'HK2 - 22-23 + HKI 23-24(22C2)'!$B$12:$AT$182,44,0)) -> #N/A | AT6: =IF(D6="","",ROUND(M6+R6+V6+Z6+AD6+AH6+AK6+AN6+AQ6+SUM(AR6:AS6),1)) -> #N/A
A7: =IF(D7="","",SUBTOTAL(3,$D$5:D7)) -> 3 | B7: 01001006 | C7: Ban Giám hiệu | D7: Nguyễn Văn Dũng | E7: =IF($B7="","",VLOOKUP($B7,'HK2 - 22-23 + HKI 23-24(22C2)'!$B$12:$AT$182,4,0)) -> #N/A | F7: =IF($B7="","",VLOOKUP($B7,'HK2 - 22-23 + HKI 23-24(22C2)'!$B$12:$AT$182,5,0)) -> #N/A | G7: =IF($B7="","",VLOOKUP($B7,'HK2 - 22-23 + HKI 23-24(22C2)'!$B$12:$AT$182,6,0)) -> #N/A | H7: =IF($B7="","",VLOOKUP($B7,'HK2 - 22-23 + HKI 23-24(22C2)'!$B$12:$AT$182,7,0)) -> #N/A | I7: =IF($B7="","",VLOOKUP($B7,'HK2 - 22-23 + HKI 23-24(22C2)'!$B$12:$AT$182,8,0)) -> #N/A | J7: =IF($B7="","",VLOOKUP($B7,'HK2 - 22-23 + HKI 23-24(22C2)'!$B$12:$AT$182,9,0)) -> #N/A | K7: =IF($B7="","",VLOOKUP($B7,'HK2 - 22-23 + HKI 23-24(22C2)'!$B$12:$AT$182,10,0)) -> #N/A | L7: =IF($B7="","",VLOOKUP($B7,'HK2 - 22-23 + HKI 23-24(22C2)'!$B$12:$AT$182,11,0)) -> #N/A | M7: =IF($D7="","",($E7+$F7*1.5+$G7*0.25+$H7*0.5+$I7*2+$J7*2.5+$K7*0.5+$L7*1.5)) -> #N/A | N7: =IF($B7="","",VLOOKUP($B7,'HK2 - 22-23 + HKI 23-24(22C2)'!$B$12:$AT$182,13,0)) -> #N/A | O7: =IF($B7="","",VLOOKUP($B7,'HK2 - 22-23 + HKI 23-24(22C2)'!$B$12:$AT$182,14,0)) -> #N/A | P7: =IF($B7="","",VLOOKUP($B7,'HK2 - 22-23 + HKI 23-24(22C2)'!$B$12:$AT$182,15,0)) -> #N/A | Q7: =IF($B7="","",VLOOKUP($B7,'HK2 - 22-23 + HKI 23-24(22C2)'!$B$12:$AT$182,16,0)) -> #N/A | R7: =IF($D7="","",SUM($N7:$Q7)) -> #N/A | S7: =IF($B7="","",VLOOKUP($B7,'HK2 - 22-23 + HKI 23-24(22C2)'!$B$12:$AT$182,18,0)) -> #N/A | T7: =IF($B7="","",VLOOKUP($B7,'HK2 - 22-23 + HKI 23-24(22C2)'!$B$12:$AT$182,19,0)) -> #N/A | U7: =IF($B7="","",VLOOKUP($B7,'HK2 - 22-23 + HKI 23-24(22C2)'!$B$12:$AT$182,20,0)) -> #N/A | V7: =IF($D7="","",((SUM($S7:$T7))-U7)*0.1) -> #N/A | W7: =IF($B7="","",VLOOKUP($B7,'HK2 - 22-23 + HKI 23-24(22C2)'!$B$12:$AT$182,22,0)) -> #N/A | X7: =IF($B7="","",VLOOKUP($B7,'HK2 - 22-23 + HKI 23-24(22C2)'!$B$12:$AT$182,23,0)) -> #N/A | Y7: =IF($B7="","",VLOOKUP($B7,'HK2 - 22-23 + HKI 23-24(22C2)'!$B$12:$AT$182,24,0)) -> #N/A | Z7: =IF($D7="","",((SUM($W7:$X7))-Y7)*0.2) -> #N/A | AA7: =IF($B7="","",VLOOKUP($B7,'HK2 - 22-23 + HKI 23-24(22C2)'!$B$12:$AT$182,26,0)) -> #N/A | AB7: =IF($B7="","",VLOOKUP($B7,'HK2 - 22-23 + HKI 23-24(22C2)'!$B$12:$AT$182,27,0)) -> #N/A | AC7: =IF($B7="","",VLOOKUP($B7,'HK2 - 22-23 + HKI 23-24(22C2)'!$B$12:$AT$182,28,0)) -> #N/A | AD7: =IF($D7="","",((SUM($AA7:$AB7))-AC7)*0.1) -> #N/A | AE7: =IF($B7="","",VLOOKUP($B7,'HK2 - 22-23 + HKI 23-24(22C2)'!$B$12:$AT$182,30,0)) -> #N/A | AF7: =IF($B7="","",VLOOKUP($B7,'HK2 - 22-23 + HKI 23-24(22C2)'!$B$12:$AT$182,31,0)) -> #N/A | AG7: =IF($B7="","",VLOOKUP($B7,'HK2 - 22-23 + HKI 23-24(22C2)'!$B$12:$AT$182,32,0)) -> #N/A | AH7: =IF($D7="","",((SUM($AE7:$AF7))-AG7)*0.2) -> #N/A | AI7: =IF($B7="","",VLOOKUP($B7,'HK2 - 22-23 + HKI 23-24(22C2)'!$B$12:$AT$182,34,0)) -> #N/A | AJ7: =IF($B7="","",VLOOKUP($B7,'HK2 - 22-23 + HKI 23-24(22C2)'!$B$12:$AT$182,35,0)) -> #N/A | AK7: =IF($D7="","",(SUM($AI7:$AJ7))*0.2) -> #N/A | AL7: =IF($B7="","",VLOOKUP($B7,'HK2 - 22-23 + HKI 23-24(22C2)'!$B$12:$AT$182,37,0)) -> #N/A | AM7: =IF($B7="","",VLOOKUP($B7,'HK2 - 22-23 + HKI 23-24(22C2)'!$B$12:$AT$182,38,0)) -> #N/A | AN7: =IF($D7="","",(SUM(AL7:AM7))*0.4) -> #N/A | AO7: =IF($B7="","",VLOOKUP($B7,'HK2 - 22-23 + HKI 23-24(22C2)'!$B$12:$AT$182,40,0)) -> #N/A | AP7: =IF($B7="","",VLOOKUP($B7,'HK2 - 22-23 + HKI 23-24(22C2)'!$B$12:$AT$182,41,0)) -> #N/A | AQ7: =IF(D7="","",SUM(AO7:AP7)*0.4) -> #N/A | AR7: =IF($B7="","",VLOOKUP($B7,'HK2 - 22-23 + HKI 23-24(22C2)'!$B$12:$AT$182,43,0)) -> #N/A | AS7: =IF($B7="","",VLOOKUP($B7,'HK2 - 22-23 + HKI 23-24(22C2)'!$B$12:$AT$182,44,0)) -> #N/A | AT7: =IF(D7="","",ROUND(M7+R7+V7+Z7+AD7+AH7+AK7+AN7+AQ7+SUM(AR7:AS7),1)) -> #N/A
A8: =IF(D8="","",SUBTOTAL(3,$D$5:D8)) -> 4 | B8: 01001003 | C8: Ban Giám hiệu | D8: Phạm Hữu Lộc | E8: =IF($B8="","",VLOOKUP($B8,'HK2 - 22-23 + HKI 23-24(22C2)'!$B$12:$AT$182,4,0)) -> #N/A | F8: =IF($B8="","",VLOOKUP($B8,'HK2 - 22-23 + HKI 23-24(22C2)'!$B$12:$AT$182,5,0)) -> #N/A | G8: =IF($B8="","",VLOOKUP($B8,'HK2 - 22-23 + HKI 23-24(22C2)'!$B$12:$AT$182,6,0)) -> #N/A | H8: =IF($B8="","",VLOOKUP($B8,'HK2 - 22-23 + HKI 23-24(22C2)'!$B$12:$AT$182,7,0)) -> #N/A | I8: =IF($B8="","",VLOOKUP($B8,'HK2 - 22-23 + HKI 23-24(22C2)'!$B$12:$AT$182,8,0)) -> #N/A | J8: =IF($B8="","",VLOOKUP($B8,'HK2 - 22-23 + HKI 23-24(22C2)'!$B$12:$AT$182,9,0)) -> #N/A | K8: =IF($B8="","",VLOOKUP($B8,'HK2 - 22-23 + HKI 23-24(22C2)'!$B$12:$AT$182,10,0)) -> #N/A | L8: =IF($B8="","",VLOOKUP($B8,'HK2 - 22-23 + HKI 23-24(22C2)'!$B$12:$AT$182,11,0)) -> #N/A | M8: =IF($D8="","",($E8+$F8*1.5+$G8*0.25+$H8*0.5+$I8*2+$J8*2.5+$K8*0.5+$L8*1.5)) -> #N/A | N8: =IF($B8="","",VLOOKUP($B8,'HK2 - 22-23 + HKI 23-24(22C2)'!$B$12:$AT$182,13,0)) -> #N/A | O8: =IF($B8="","",VLOOKUP($B8,'HK2 - 22-23 + HKI 23-24(22C2)'!$B$12:$AT$182,14,0)) -> #N/A | P8: =IF($B8="","",VLOOKUP($B8,'HK2 - 22-23 + HKI 23-24(22C2)'!$B$12:$AT$182,15,0)) -> #N/A | Q8: =IF($B8="","",VLOOKUP($B8,'HK2 - 22-23 + HKI 23-24(22C2)'!$B$12:$AT$182,16,0)) -> #N/A | R8: =IF($D8="","",SUM($N8:$Q8)) -> #N/A | S8: =IF($B8="","",VLOOKUP($B8,'HK2 - 22-23 + HKI 23-24(22C2)'!$B$12:$AT$182,18,0)) -> #N/A | T8: =IF($B8="","",VLOOKUP($B8,'HK2 - 22-23 + HKI 23-24(22C2)'!$B$12:$AT$182,19,0)) -> #N/A | U8: =IF($B8="","",VLOOKUP($B8,'HK2 - 22-23 + HKI 23-24(22C2)'!$B$12:$AT$182,20,0)) -> #N/A | V8: =IF($D8="","",((SUM($S8:$T8))-U8)*0.1) -> #N/A | W8: =IF($B8="","",VLOOKUP($B8,'HK2 - 22-23 + HKI 23-24(22C2)'!$B$12:$AT$182,22,0)) -> #N/A | X8: =IF($B8="","",VLOOKUP($B8,'HK2 - 22-23 + HKI 23-24(22C2)'!$B$12:$AT$182,23,0)) -> #N/A | Y8: =IF($B8="","",VLOOKUP($B8,'HK2 - 22-23 + HKI 23-24(22C2)'!$B$12:$AT$182,24,0)) -> #N/A | Z8: =IF($D8="","",((SUM($W8:$X8))-Y8)*0.2) -> #N/A | AA8: =IF($B8="","",VLOOKUP($B8,'HK2 - 22-23 + HKI 23-24(22C2)'!$B$12:$AT$182,26,0)) -> #N/A | AB8: =IF($B8="","",VLOOKUP($B8,'HK2 - 22-23 + HKI 23-24(22C2)'!$B$12:$AT$182,27,0)) -> #N/A | AC8: =IF($B8="","",VLOOKUP($B8,'HK2 - 22-23 + HKI 23-24(22C2)'!$B$12:$AT$182,28,0)) -> #N/A | AD8: =IF($D8="","",((SUM($AA8:$AB8))-AC8)*0.1) -> #N/A | AE8: =IF($B8="","",VLOOKUP($B8,'HK2 - 22-23 + HKI 23-24(22C2)'!$B$12:$AT$182,30,0)) -> #N/A | AF8: =IF($B8="","",VLOOKUP($B8,'HK2 - 22-23 + HKI 23-24(22C2)'!$B$12:$AT$182,31,0)) -> #N/A | AG8: =IF($B8="","",VLOOKUP($B8,'HK2 - 22-23 + HKI 23-24(22C2)'!$B$12:$AT$182,32,0)) -> #N/A | AH8: =IF($D8="","",((SUM($AE8:$AF8))-AG8)*0.2) -> #N/A | AI8: =IF($B8="","",VLOOKUP($B8,'HK2 - 22-23 + HKI 23-24(22C2)'!$B$12:$AT$182,34,0)) -> #N/A | AJ8: =IF($B8="","",VLOOKUP($B8,'HK2 - 22-23 + HKI 23-24(22C2)'!$B$12:$AT$182,35,0)) -> #N/A | AK8: =IF($D8="","",(SUM($AI8:$AJ8))*0.2) -> #N/A | AL8: =IF($B8="","",VLOOKUP($B8,'HK2 - 22-23 + HKI 23-24(22C2)'!$B$12:$AT$182,37,0)) -> #N/A | AM8: =IF($B8="","",VLOOKUP($B8,'HK2 - 22-23 + HKI 23-24(22C2)'!$B$12:$AT$182,38,0)) -> #N/A | AN8: =IF($D8="","",(SUM(AL8:AM8))*0.4) -> #N/A | AO8: =IF($B8="","",VLOOKUP($B8,'HK2 - 22-23 + HKI 23-24(22C2)'!$B$12:$AT$182,40,0)) -> #N/A | AP8: =IF($B8="","",VLOOKUP($B8,'HK2 - 22-23 + HKI 23-24(22C2)'!$B$12:$AT$182,41,0)) -> #N/A | AQ8: =IF(D8="","",SUM(AO8:AP8)*0.4) -> #N/A | AR8: =IF($B8="","",VLOOKUP($B8,'HK2 - 22-23 + HKI 23-24(22C2)'!$B$12:$AT$182,43,0)) -> #N/A | AS8: =IF($B8="","",VLOOKUP($B8,'HK2 - 22-23 + HKI 23-24(22C2)'!$B$12:$AT$182,44,0)) -> #N/A | AT8: =IF(D8="","",ROUND(M8+R8+V8+Z8+AD8+AH8+AK8+AN8+AQ8+SUM(AR8:AS8),1)) -> #N/A
