Workbook

Sheet HK2 - 22-23 + HKI 23-24(22C2)
A1: UỶ BAN NHÂN DÂN THÀNH PHỐ HỒ CHÍ MINH | AL1: CỘNG HOÀ XÃ HỘI CHỦ NGHĨA VIỆT NAM
A2: TRƯỜNG CAO ĐẲNG LÝ TỰ TRỌNG TP. HỒ CHÍ MINH | AL2: Độc lập - Tự do - Hạnh phúc
A4: KHỐI LƯỢNG CÔNG TÁC COI - CHẤM THI HỌC KÌ 2 NĂM HỌC 2022 - 2023 - KHOA KHOA HỌC CƠ BẢN
E7: 2 | F7: 3 | G7: 4 | H7: 5 | I7: 6 | J7: 7 | K7: 8 | L7: 9 | M7: 10 | N7: 11 | O7: 12 | P7: 13 | Q7: 14 | R7: 15 | S7: 16 | T7: 17 | U7: 18 | V7: 19 | W7: 20 | X7: 21 | Y7: 22 | Z7: 23 | AA7: 24 | AB7: 25 | AC7: 26 | AD7: 27 | AE7: 28 | AF7: 29 | AG7: 30 | AH7: 31 | AI7: 32 | AJ7: 33 | AK7: 34 | AL7: 35 | AM7: 36 | AN7: 37 | AO7: 38 | AP7: 39 | AQ7: 40 | AR7: 41 | AS7: 42
E8: =SUBTOTAL(9,E12:E182) -> 91 | F8: =SUBTOTAL(9,F12:F182) -> 18 | G8: =SUBTOTAL(9,G12:G182) -> 0 | H8: =SUBTOTAL(9,H12:H182) -> 0 | I8: =SUBTOTAL(9,I12:I182) -> 0 | J8: =SUBTOTAL(9,J12:J182) -> 0 | K8: =SUBTOTAL(9,K12:K182) -> 0 | L8: =SUBTOTAL(9,L12:L182) -> 0 | ... R8: =SUBTOTAL(9,R12:R182) -> 143.55 | S8: =SUBTOTAL(9,S12:S193) -> 6620 | T8: =SUBTOTAL(9,T12:T193) -> 6627 | U8: =SUBTOTAL(9,U12:U193) -> 6654 | V8: =SUBTOTAL(9,V12:V193) -> 659.3 | W8: =SUBTOTAL(9,W12:W182) -> 0 | X8: =SUBTOTAL(9,X12:X182) -> 0 | Y8: =SUBTOTAL(9,Y12:Y182) -> 0 | Z8: =SUBTOTAL(9,Z12:Z182) -> 0 | AA8: =SUBTOTAL(9,AA12:AA182) -> 1591 | AB8: =SUBTOTAL(9,AB12:AB182) -> 1591 | AC8: =SUBTOTAL(9,AC12:AC182) -> 1591 | AD8: =SUBTOTAL(9,AD12:AD182) -> 159.1 | ... AT8: =SUBTOTAL(9,AT12:AT182) -> 1095.9
B9: Mã nhân sự | C9: Đơn vị | D9: HỌ VÀ TÊN GIẢNG VIÊN | E9: ĐỀ THI | N9: COI THI | S9: CHẤM THI KTHP | AI9: CHẤM THI TỐT NGHIỆP | AR9: DỰ PHÒNG KỲ THI | AS9: GIÁM SÁT | AT9: TỔNG KHỐI LƯỢNG | AU9: =SUBTOTAL(9,AT:AT) -> 1095.9
S10: LÝ THUYẾT (TV+TN) | W10: VẤN ĐÁP | AA10: TIỂU LUẬN | AE10: THỰC HÀNH | AI10: LÝ THUYẾT (TV+TN) | AL10: VẤN ĐÁP | AO10: THỰC HÀNH
E11: SL ĐỀ LT KTHP | F11: SL ĐỀ TN KTHP | G11: SL ĐỀ VĐ KTHP | H11: SL ĐỀ TH KTHP | I11: SL ĐỀ LT ThiTN | J11: SL ĐỀ TN ThiTN | K11: SL ĐỀ VĐ ThiTN | L11: SL ĐỀ TH ThiTN | M11: KL SOẠN ĐỀ (tiết) | N11: COITHI 2 KTHP | O11: COITHI 1 KTHP | P11: COITHI 1 Thi TN | Q11: COITHI 2 Thi TN | R11: KL COITHI (tiết) | S11: SL CHẤM LT 1 | T11: SL CHẤM LT 2 | U11: SL CHẤM NV | V11: KL CHẤM LT (tiết) | W11: SL CHẤM TL 1 | X11: SL CHẤM TL 2 | Y11: SL CHẤM NV | Z11: KL CHẤM TL (tiết) | AA11: SL CHẤM TL 1 | AB11: SL CHẤM TL 2 | AC11: SL CHẤM NV | AD11: KL CHẤM TL (tiết) | AE11: SL CHẤM TL 1 | AF11: SL CHẤM TL 2 | AG11: SL CHẤM NV | AH11: KL CHẤM TL (tiết) | AI11: SL BÀI LT CHẤM 1 | AJ11: SL BÀI LT CHẤM 2 | AK11: KL CHẤM LT (tiết) | AL11: SL BÀI VĐ CHẤM 1 | AM11: SL BÀI VĐ CHẤM 2 | AN11: KL CHẤM VĐ (tiết) | AO11: SL BÀI TL CHẤM 1 | AP11: SL BÀI TL CHẤM 2 | AQ11: KL CHẤM TL (tiết)
A12: =IF(D12="","",SUBTOTAL(3,$D$12:D12)) -> 1 | B12: 1010092 | C12: Khoa Khoa học cơ bản | D12: Bạch Văn Gân (TG) | E12: 0 | F12: 0 | G12: 0 | H12: 0 | I12: 0 | J12: 0 | K12: 0 | L12: 0 | M12: 0 | N12: 0 | O12: 0 | P12: 0 | Q12: 0 | R12: 0 | S12: 0 | T12: 0 | U12: 0 | V12: 0 | W12: 0 | X12: 0 | Y12: 0 | Z12: 0 | AA12: 0 | AB12: 0 | AC12: 0 | AD12: 0 | AE12: 0 | AF12: 0 | AG12: 0 | AH12: 0 | AI12: 0 | AJ12: 0 | AK12: 0 | AL12: 0 | AM12: 0 | AN12: 0 | AO12: 0 | AP12: 0 | AQ12: 0 | AR12: 0 | AS12: 0 | AT12: 0
A13: =IF(D13="","",SUBTOTAL(3,$D$12:D13)) -> 2 | B13: 1010074 | C13: Khoa Khoa học cơ bản | D13: Bùi Bảo Trung (TG) | E13: 0 | F13: 0 | G13: 0 | H13: 0 | I13: 0 | J13: 0 | K13: 0 | L13: 0 | M13: 0 | N13: 0 | O13: 0 | P13: 0 | Q13: 0 | R13: 0 | S13: 0 | T13: 0 | U13: 0 | V13: 0 | W13: 0 | X13: 0 | Y13: 0 | Z13: 0 | AA13: 0 | AB13: 0 | AC13: 0 | AD13: 0 | AE13: 0 | AF13: 0 | AG13: 0 | AH13: 0 | AI13: 0 | AJ13: 0 | AK13: 0 | AL13: 0 | AM13: 0 | AN13: 0 | AO13: 0 | AP13: 0 | AQ13: 0 | AR13: 0 | AS13: 0 | AT13: 0
A14: =IF(D14="","",SUBTOTAL(3,$D$12:D14)) -> 3 | B14: 1010132 | C14: Khoa Khoa học cơ bản | D14: Bùi Đình Trường (TG) | E14: 2 | F14: 0 | G14: 0 | H14: 0 | I14: 0 | J14: 0 | K14: 0 | L14: 0 | M14: 2 | N14: 0.6 | O14: 0 | P14: 0 | Q14: 0 | R14: 0.6 | S14: 0 | T14: 14 | U14: 14 | V14: 0 | W14: 0 | X14: 0 | Y14: 0 | Z14: 0 | AA14: 0 | AB14: 0 | AC14: 0 | AD14: 0 | AE14: 0 | AF14: 0 | AG14: 0 | AH14: 0 | AI14: 0 | AJ14: 0 | AK14: 0 | AL14: 0 | AM14: 0 | AN14: 0 | AO14: 0 | AP14: 0 | AQ14: 0 | AR14: 0 | AS14: 0 | AT14: 2.6
A15: =IF(D15="","",SUBTOTAL(3,$D$12:D15)) -> 4 | C15: Khoa Khoa học cơ bản | D15: Bùi Lâm Trúc Quỳnh (TG) | E15: 0 | F15: 0 | G15: 0 | H15: 0 | I15: 0 | J15: 0 | K15: 0 | L15: 0 | M15: 0 | N15: 0 | O15: 0 | P15: 0 | Q15: 0 | R15: 0 | S15: 0 | T15: 0 | U15: 0 | V15: 0 | W15: 0 | X15: 0 | Y15: 0 | Z15: 0 | AA15: 0 | AB15: 0 | AC15: 0 | AD15: 0 | AE15: 0 | AF15: 0 | AG15: 0 | AH15: 0 | AI15: 0 | AJ15: 0 | AK15: 0 | AL15: 0 | AM15: 0 | AN15: 0 | AO15: 0 | AP15: 0 | AQ15: 0 | AR15: 0 | AS15: 0 | AT15: 0
A16: =IF(D16="","",SUBTOTAL(3,$D$12:D16)) -> 5 | B16: 1010121 | C16: Khoa Khoa học cơ bản | D16: Bùi Thị Hợp (TG) | E16: 0 | F16: 0 | G16: 0 | H16: 0 | I16: 0 | J16: 0 | K16: 0 | L16: 0 | M16: 0 | N16: 0 | O16: 0 | P16: 0 | Q16: 0 | R16: 0 | S16: 0 | T16: 0 | U16: 0 | V16: 0 | W16: 0 | X16: 0 | Y16: 0 | Z16: 0 | AA16: 0 | AB16: 0 | AC16: 0 | AD16: 0 | AE16: 0 | AF16: 0 | AG16: 0 | AH16: 0 | AI16: 0 | AJ16: 0 | AK16: 0 | AL16: 0 | AM16: 0 | AN16: 0 | AO16: 0 | AP16: 0 | AQ16: 0 | AR16: 0 | AS16: 0 | AT16: 0
A17: =IF(D17="","",SUBTOTAL(3,$D$12:D17)) -> 6 | B17: 1010083 | C17: Khoa Khoa học cơ bản | D17: Bùi Thị Ngọc Tuyền (TG) | E17: 0 | F17: 0 | G17: 0 | H17: 0 | I17: 0 | J17: 0 | K17: 0 | L17: 0 | M17: 0 | N17: 0 | O17: 0 | P17: 0 | Q17: 0 | R17: 0 | S17: 0 | T17: 0 | U17: 0 | V17: 0 | W17: 0 | X17: 0 | Y17: 0 | Z17: 0 | AA17: 0 | AB17: 0 | AC17: 0 | AD17: 0 | AE17: 0 | AF17: 0 | AG17: 0 | AH17: 0 | AI17: 0 | AJ17: 0 | AK17: 0 | AL17: 0 | AM17: 0 | AN17: 0 | AO17: 0 | AP17: 0 | AQ17: 0 | AR17: 0 | AS17: 0 | AT17: 0
A18: =IF(D18="","",SUBTOTAL(3,$D$12:D18)) -> 7 | B18: 1010050 | C18: Khoa Khoa học cơ bản | D18: Bùi Thị Tú Uyên | E18: 0 | F18: 0 | G18: 0 | H18: 0 | I18: 0 | J18: 0 | K18: 0 | L18: 0 | M18: 0 | N18: 0 | O18: 0 | P18: 0 | Q18: 0 | R18: 0 | S18: 0 | T18: 0 | U18: 0 | V18: 0 | W18: 0 | X18: 0 | Y18: 0 | Z18: 0 | AA18: 0 | AB18: 0 | AC18: 0 | AD18: 0 | AE18: 0 | AF18: 0 | AG18: 0 | AH18: 0 | AI18: 0 | AJ18: 0 | AK18: 0 | AL18: 0 | AM18: 0 | AN18: 0 | AO18: 0 | AP18: 0 | AQ18: 0 | AR18: 0 | AS18: 0 | AT18: 0
A19: =IF(D19="","",SUBTOTAL(3,$D$12:D19)) -> 8 | B19: 1010075 | C19: Khoa Khoa học cơ bản | D19: Bùi Văn Mạnh (TG) | E19: 0 | F19: 0 | G19: 0 | H19: 0 | I19: 0 | J19: 0 | K19: 0 | L19: 0 | M19: 0 | N19: 0 | O19: 0 | P19: 0 | Q19: 0 | R19: 0 | S19: 0 | T19: 0 | U19: 0 | V19: 0 | W19: 0 | X19: 0 | Y19: 0 | Z19: 0 | AA19: 0 | AB19: 0 | AC19: 0 | AD19: 0 | AE19: 0 | AF19: 0 | AG19: 0 | AH19: 0 | AI19: 0 | AJ19: 0 | AK19: 0 | AL19: 0 | AM19: 0 | AN19: 0 | AO19: 0 | AP19: 0 | AQ19: 0 | AR19: 0 | AS19: 0 | AT19: 0
A20: =IF(D20="","",SUBTOTAL(3,$D$12:D20)) -> 9 | B20: 1010071 | C20: Khoa Khoa học cơ bản | D20: Bùi Văn Phương (TG) | E20: 0 | F20: 0 | G20: 0 | H20: 0 | I20: 0 | J20: 0 | K20: 0 | L20: 0 | M20: 0 | N20: 0 | O20: 0 | P20: 0 | Q20: 0 | R20: 0 | S20: 0 | T20: 0 | U20: 0 | V20: 0 | W20: 0 | X20: 0 | Y20: 0 | Z20: 0 | AA20: 0 | AB20: 0 | AC20: 0 | AD20: 0 | AE20: 0 | AF20: 0 | AG20: 0 | AH20: 0 | AI20: 0 | AJ20: 0 | AK20: 0 | AL20: 0 | AM20: 0 | AN20: 0 | AO20: 0 | AP20: 0 | AQ20: 0 | AR20: 0 | AS20: 0 | AT20: 0
A21: =IF(D21="","",SUBTOTAL(3,$D$12:D21)) -> 10 | B21: 1010036 | C21: Khoa Khoa học cơ bản | D21: Cao Đình Trung Hậu | E21: 0 | F21: 0 | G21: 0 | H21: 0 | I21: 0 | J21: 0 | K21: 0 | L21: 0 | M21: 0 | N21: 0 | O21: 0 | P21: 0 | Q21: 0 | R21: 0 | S21: 0 | T21: 0 | U21: 0 | V21: 0 | W21: 0 | X21: 0 | Y21: 0 | Z21: 0 | AA21: 0 | AB21: 0 | AC21: 0 | AD21: 0 | AE21: 0 | AF21: 0 | AG21: 0 | AH21: 0 | AI21: 0 | AJ21: 0 | AK21: 0 | AL21: 0 | AM21: 0 | AN21: 0 | AO21: 0 | AP21: 0 | AQ21: 0 | AR21: 0 | AS21: 0 | AT21: 0
A22: =IF(D22="","",SUBTOTAL(3,$D$12:D22)) -> 11 | C22: Khoa Khoa học cơ bản | D22: Cao Thế Nhật (TG) | E22: 0 | F22: 0 | G22: 0 | H22: 0 | I22: 0 | J22: 0 | K22: 0 | L22: 0 | M22: 0 | N22: 0 | O22: 0 | P22: 0 | Q22: 0 | R22: 0 | S22: 0 | T22: 0 | U22: 0 | V22: 0 | W22: 0 | X22: 0 | Y22: 0 | Z22: 0 | AA22: 0 | AB22: 0 | AC22: 0 | AD22: 0 | AE22: 0 | AF22: 0 | AG22: 0 | AH22: 0 | AI22: 0 | AJ22: 0 | AK22: 0 | AL22: 0 | AM22: 0 | AN22: 0 | AO22: 0 | AP22: 0 | AQ22: 0 | AR22: 0 | AS22: 0 | AT22: 0
A23: =IF(D23="","",SUBTOTAL(3,$D$12:D23)) -> 12 | C23: Khoa Khoa học cơ bản | D23: Châu Quốc Cường (TG) | E23: 4 | F23: 0 | G23: 0 | H23: 0 | I23: 0 | J23: 0 | K23: 0 | L23: 0 | M23: 4 | N23: 0.6 | O23: 0 | P23: 0 | Q23: 0 | R23: 0.6 | S23: 257 | T23: 0 | U23: 251 | V23: 0.6 | W23: 0 | X23: 0 | Y23: 0 | Z23: 0 | AA23: 0 | AB23: 0 | AC23: 0 | AD23: 0 | AE23: 0 | AF23: 0 | AG23: 0 | AH23: 0 | AI23: 0 | AJ23: 0 | AK23: 0 | AL23: 0 | AM23: 0 | AN23: 0 | AO23: 0 | AP23: 0 | AQ23: 0 | AR23: 0 | AS23: 0 | AT23: 5.2
A24: =IF(D24="","",SUBTOTAL(3,$D$12:D24)) -> 13 | C24: Khoa Khoa học cơ bản | D24: Chiêm Thanh Quốc Anh (TG) | E24: 0 | F24: 0 | G24: 0 | H24: 0 | I24: 0 | J24: 0 | K24: 0 | L24: 0 | M24: 0 | N24: 0 | O24: 0 | P24: 0 | Q24: 0 | R24: 0 | S24: 0 | T24: 0 | U24: 0 | V24: 0 | W24: 0 | X24: 0 | Y24: 0 | Z24: 0 | AA24: 0 | AB24: 0 | AC24: 195 | AD24: -19.5 | AE24: 0 | AF24: 0 | AG24: 0 | AH24: 0 | AI24: 0 | AJ24: 0 | AK24: 0 | AL24: 0 | AM24: 0 | AN24: 0 | AO24: 0 | AP24: 0 | AQ24: 0 | AR24: 0 | AS24: 0 | AT24: -19.5
A25: =IF(D25="","",SUBTOTAL(3,$D$12:D25)) -> 14 | C25: Khoa Khoa học cơ bản | D25: Đặng Đoàn Cẩm Tú (TG) | E25: 0 | F25: 0 | G25: 0 | H25: 0 | I25: 0 | J25: 0 | K25: 0 | L25: 0 | M25: 0 | N25: 0 | O25: 0 | P25: 0 | Q25: 0 | R25: 0 | S25: 0 | T25: 0 | U25: 0 | V25: 0 | W25: 0 | X25: 0 | Y25: 0 | Z25: 0 | AA25: 0 | AB25: 0 | AC25: 0 | AD25: 0 | AE25: 0 | AF25: 0 | AG25: 0 | AH25: 0 | AI25: 0 | AJ25: 0 | AK25: 0 | AL25: 0 | AM25: 0 | AN25: 0 | AO25: 0 | AP25: 0 | AQ25: 0 | AR25: 0 | AS25: 0 | AT25: 0
A26: =IF(D26="","",SUBTOTAL(3,$D$12:D26)) -> 15 | B26: 1010072 | C26: Khoa Khoa học cơ bản | D26: Đặng Duy Đồng (TG) | E26: 0 | F26: 0 | G26: 0 | H26: 0 | I26: 0 | J26: 0 | K26: 0 | L26: 0 | M26: 0 | N26: 0 | O26: 0 | P26: 0 | Q26: 0 | R26: 0 | S26: 0 | T26: 0 | U26: 0 | V26: 0 | W26: 0 | X26: 0 | Y26: 0 | Z26: 0 | AA26: 0 | AB26: 0 | AC26: 0 | AD26: 0 | AE26: 0 | AF26: 0 | AG26: 0 | AH26: 0 | AI26: 0 | AJ26: 0 | AK26: 0 | AL26: 0 | AM26: 0 | AN26: 0 | AO26: 0 | AP26: 0 | AQ26: 0 | AR26: 0 | AS26: 0 | AT26: 0
A27: =IF(D27="","",SUBTOTAL(3,$D$12:D27)) -> 16 | C27: Khoa Khoa học cơ bản | D27: Đặng Thị Giàu (TG) | E27: 0 | F27: 0 | G27: 0 | H27: 0 | I27: 0 | J27: 0 | K27: 0 | L27: 0 | M27: 0 | N27: 0 | O27: 0 | P27: 0 | Q27: 0 | R27: 0 | S27: 0 | T27: 0 | U27: 0 | V27: 0 | W27: 0 | X27: 0 | Y27: 0 | Z27: 0 | AA27: 0 | AB27: 0 | AC27: 0 | AD27: 0 | AE27: 0 | AF27: 0 | AG27: 0 | AH27: 0 | AI27: 0 | AJ27: 0 | AK27: 0 | AL27: 0 | AM27: 0 | AN27: 0 | AO27: 0 | AP27: 0 | AQ27: 0 | AR27: 0 | AS27: 0 | AT27: 0
A28: =IF(D28="","",SUBTOTAL(3,$D$12:D28)) -> 17 | C28: Khoa Khoa học cơ bản | D28: Đặng Thị Hiên (TG) | E28: 0 | F28: 0 | G28: 0 | H28: 0 | I28: 0 | J28: 0 | K28: 0 | L28: 0 | M28: 0 | N28: 0 | O28: 0 | P28: 0 | Q28: 0 | R28: 0 | S28: 0 | T28: 0 | U28: 0 | V28: 0 | W28: 0 | X28: 0 | Y28: 0 | Z28: 0 | AA28: 0 | AB28: 0 | AC28: 0 | AD28: 0 | AE28: 0 | AF28: 0 | AG28: 0 | AH28: 0 | AI28: 0 | AJ28: 0 | AK28: 0 | AL28: 0 | AM28: 0 | AN28: 0 | AO28: 0 | AP28: 0 | AQ28: 0 | AR28: 0 | AS28: 0 | AT28: 0
A29: =IF(D29="","",SUBTOTAL(3,$D$12:D29)) -> 18 | B29: 1010024 | C29: Khoa Khoa học cơ bản | D29: Đặng Thị Kiến Trúc | E29: 0 | F29: 0 | G29: 0 | H29: 0 | I29: 0 | J29: 0 | K29: 0 | L29: 0 | M29: 0 | N29: 2.25 | O29: 2.7 | P29: 0 | Q29: 0 | R29: 4.95 | S29: 0 | T29: 3 | U29: 0 | V29: 0.3 | W29: 0 | X29: 0 | Y29: 0 | Z29: 0 | AA29: 0 | AB29: 0 | AC29: 0 | AD29: 0 | AE29: 0 | AF29: 0 | AG29: 0 | AH29: 0 | AI29: 0 | AJ29: 0 | AK29: 0 | AL29: 0 | AM29: 0 | AN29: 0 | AO29: 0 | AP29: 0 | AQ29: 0 | AR29: 0 | AS29: 0 | AT29: 5.3
A30: =IF(D30="","",SUBTOTAL(3,$D$12:D30)) -> 19 | C30: Khoa Khoa học cơ bản | D30: Đặng Thừa Ân (TG) | E30: 0 | F30: 0 | G30: 0 | H30: 0 | I30: 0 | J30: 0 | K30: 0 | L30: 0 | M30: 0 | N30: 0 | O30: 0 | P30: 0 | Q30: 0 | R30: 0 | S30: 0 | T30: 0 | U30: 0 | V30: 0 | W30: 0 | X30: 0 | Y30: 0 | Z30: 0 | AA30: 0 | AB30: 0 | AC30: 0 | AD30: 0 | AE30: 0 | AF30: 0 | AG30: 0 | AH30: 0 | AI30: 0 | AJ30: 0 | AK30: 0 | AL30: 0 | AM30: 0 | AN30: 0 | AO30: 0 | AP30: 0 | AQ30: 0 | AR30: 0 | AS30: 0 | AT30: 0
A31: =IF(D31="","",SUBTOTAL(3,$D$12:D31)) -> 20 | C31: Khoa Khoa học cơ bản | D31: Đào Thị Kim Hương (TG) | E31: 0 | F31: 0 | G31: 0 | H31: 0 | I31: 0 | J31: 0 | K31: 0 | L31: 0 | M31: 0 | N31: 0 | O31: 0 | P31: 0 | Q31: 0 | R31: 0 | S31: 0 | T31: 0 | U31: 0 | V31: 0 | W31: 0 | X31: 0 | Y31: 0 | Z31: 0 | AA31: 0 | AB31: 0 | AC31: 0 | AD31: 0 | AE31: 0 | AF31: 0 | AG31: 0 | AH31: 0 | AI31: 0 | AJ31: 0 | AK31: 0 | AL31: 0 | AM31: 0 | AN31: 0 | AO31: 0 | AP31: 0 | AQ31: 0 | AR31: 0 | AS31: 0 | AT31: 0
A32: =IF(D32="","",SUBTOTAL(3,$D$12:D32)) -> 21 | C32: Khoa Khoa học cơ bản | D32: Đào Thị Ngọc Yến (TG) | E32: 1 | F32: 0 | G32: 0 | H32: 0 | I32: 0 | J32: 0 | K32: 0 | L32: 0 | M32: 1 | N32: 0 | O32: 0 | P32: 0 | Q32: 0 | R32: 0 | S32: 0 | T32: 71 | U32: 0 | V32: 7.1 | W32: 0 | X32: 0 | Y32: 0 | Z32: 0 | AA32: 0 | AB32: 0 | AC32: 0 | AD32: 0 | AE32: 0 | AF32: 0 | AG32: 0 | AH32: 0 | AI32: 0 | AJ32: 0 | AK32: 0 | AL32: 0 | AM32: 0 | AN32: 0 | AO32: 0 | AP32: 0 | AQ32: 0 | AR32: 0 | AS32: 0 | AT32: 8.1
A33: =IF(D33="","",SUBTOTAL(3,$D$12:D33)) -> 22 | B33: 1010056 | C33: Khoa Khoa học cơ bản | D33: Đinh Thị Thắng (TG) | E33: 0 | F33: 0 | G33: 0 | H33: 0 | I33: 0 | J33: 0 | K33: 0 | L33: 0 | M33: 0 | N33: 0 | O33: 0 | P33: 0 | Q33: 0 | R33: 0 | S33: 0 | T33: 0 | U33: 0 | V33: 0 | W33: 0 | X33: 0 | Y33: 0 | Z33: 0 | AA33: 0 | AB33: 0 | AC33: 0 | AD33: 0 | AE33: 0 | AF33: 0 | AG33: 0 | AH33: 0 | AI33: 0 | AJ33: 0 | AK33: 0 | AL33: 0 | AM33: 0 | AN33: 0 | AO33: 0 | AP33: 0 | AQ33: 0 | AR33: 0 | AS33: 0 | AT33: 0
A34: =IF(D34="","",SUBTOTAL(3,$D$12:D34)) -> 23 | B34: 1010076 | C34: Khoa Khoa học cơ bản | D34: Đinh Văn Quyên (TG) | E34: 0 | F34: 0 | G34: 0 | H34: 0 | I34: 0 | J34: 0 | K34: 0 | L34: 0 | M34: 0 | N34: 0 | O34: 0 | P34: 0 | Q34: 0 | R34: 0 | S34: 0 | T34: 0 | U34: 0 | V34: 0 | W34: 0 | X34: 0 | Y34: 0 | Z34: 0 | AA34: 0 | AB34: 0 | AC34: 0 | AD34: 0 | AE34: 0 | AF34: 0 | AG34: 0 | AH34: 0 | AI34: 0 | AJ34: 0 | AK34: 0 | AL34: 0 | AM34: 0 | AN34: 0 | AO34: 0 | AP34: 0 | AQ34: 0 | AR34: 0 | AS34: 0 | AT34: 0
A35: =IF(D35="","",SUBTOTAL(3,$D$12:D35)) -> 24 | B35: 1010049 | C35: Khoa Khoa học cơ bản | D35: Đoàn Thị Điểm (TG) | E35: 0 | F35: 0 | G35: 0 | H35: 0 | I35: 0 | J35: 0 | K35: 0 | L35: 0 | M35: 0 | N35: 0 | O35: 0 | P35: 0 | Q35: 0 | R35: 0 | S35: 0 | T35: 0 | U35: 0 | V35: 0 | W35: 0 | X35: 0 | Y35: 0 | Z35: 0 | AA35: 0 | AB35: 0 | AC35: 0 | AD35: 0 | AE35: 0 | AF35: 0 | AG35: 0 | AH35: 0 | AI35: 0 | AJ35: 0 | AK35: 0 | AL35: 0 | AM35: 0 | AN35: 0 | AO35: 0 | AP35: 0 | AQ35: 0 | AR35: 0 | AS35: 0 | AT35: 0
A36: =IF(D36="","",SUBTOTAL(3,$D$12:D36)) -> 25 | B36: 1010063 | C36: Khoa Khoa học cơ bản | D36: Đồng Văn Đẹp (TG) | E36: 0 | F36: 0 | G36: 0 | H36: 0 | I36: 0 | J36: 0 | K36: 0 | L36: 0 | M36: 0 | N36: 0 | O36: 0 | P36: 0 | Q36: 0 | R36: 0 | S36: 0 | T36: 0 | U36: 0 | V36: 0 | W36: 0 | X36: 0 | Y36: 0 | Z36: 0 | AA36: 0 | AB36: 0 | AC36: 0 | AD36: 0 | AE36: 0 | AF36: 0 | AG36: 0 | AH36: 0 | AI36: 0 | AJ36: 0 | AK36: 0 | AL36: 0 | AM36: 0 | AN36: 0 | AO36: 0 | AP36: 0 | AQ36: 0 | AR36: 0 | AS36: 0 | AT36: 0
A37: =IF(D37="","",SUBTOTAL(3,$D$12:D37)) -> 26 | B37: 1010037 | C37: Khoa Khoa học cơ bản | D37: Dương Đức Kiên | E37: 10 | F37: 0 | G37: 0 | H37: 0 | I37: 0 | J37: 0 | K37: 0 | L37: 0 | M37: 10 | N37: 7.8 | O37: 2.4 | P37: 0 | Q37: 0 | R37: 10.2 | S37: 263 | T37: 395 | U37: 249 | V37: 40.9 | W37: 0 | X37: 0 | Y37: 0 | Z37: 0 | AA37: 0 | AB37: 0 | AC37: 0 | AD37: 0 | AE37: 0 | AF37: 0 | AG37: 0 | AH37: 0 | AI37: 0 | AJ37: 0 | AK37: 0 | AL37: 0 | AM37: 0 | AN37: 0 | AO37: 0 | AP37: 0 | AQ37: 0 | AR37: 0 | AS37: 1.5 | AT37: 62.6
A38: =IF(D38="","",SUBTOTAL(3,$D$12:D38)) -> 27 | B38: 1010085 | C38: Khoa Khoa học cơ bản | D38: Dương Lê Kỳ Quang (TG) | E38: 0 | F38: 0 | G38: 0 | H38: 0 | I38: 0 | J38: 0 | K38: 0 | L38: 0 | M38: 0 | N38: 0 | O38: 0 | P38: 0 | Q38: 0 | R38: 0 | S38: 0 | T38: 0 | U38: 0 | V38: 0 | W38: 0 | X38: 0 | Y38: 0 | Z38: 0 | AA38: 0 | AB38: 0 | AC38: 0 | AD38: 0 | AE38: 0 | AF38: 0 | AG38: 0 | AH38: 0 | AI38: 0 | AJ38: 0 | AK38: 0 | AL38: 0 | AM38: 0 | AN38: 0 | AO38: 0 | AP38: 0 | AQ38: 0 | AR38: 0 | AS38: 0 | AT38: 0
A39: =IF(D39="","",SUBTOTAL(3,$D$12:D39)) -> 28 | B39: 1010030 | C39: Khoa Khoa học cơ bản | D39: Giang Phi Hùng | E39: 0 | F39: 0 | G39: 0 | H39: 0 | I39: 0 | J39: 0 | K39: 0 | L39: 0 | M39: 0 | N39: 0 | O39: 0 | P39: 0 | Q39: 0 | R39: 0 | S39: 0 | T39: 0 | U39: 0 | V39: 0 | W39: 0 | X39: 0 | Y39: 0 | Z39: 0 | AA39: 1591 | AB39: 0 | AC39: 224 | AD39: 136.7 | AE39: 0 | AF39: 0 | AG39: 0 | AH39: 0 | AI39: 0 | AJ39: 0 | AK39: 0 | AL39: 0 | AM39: 0 | AN39: 0 | AO39: 0 | AP39: 0 | AQ39: 0 | AR39: 0 | AS39: 0 | AT39: 136.7
A40: =IF(D40="","",SUBTOTAL(3,$D$12:D40)) -> 29 | C40: Khoa Khoa học cơ bản | D40: Hà Đông Cảnh (TG) | E40: 0 | F40: 0 | G40: 0 | H40: 0 | I40: 0 | J40: 0 | K40: 0 | L40: 0 | M40: 0 | N40: 0 | O40: 0 | P40: 0 | Q40: 0 | R40: 0 | S40: 0 | T40: 0 | U40: 0 | V40: 0 | W40: 0 | X40: 0 | Y40: 0 | Z40: 0 | AA40: 0 | AB40: 217 | AC40: 175 | AD40: 4.2 | AE40: 0 | AF40: 0 | AG40: 0 | AH40: 0 | AI40: 0 | AJ40: 0 | AK40: 0 | AL40: 0 | AM40: 0 | AN40: 0 | AO40: 0 | AP40: 0 | AQ40: 0 | AR40: 0 | AS40: 0 | AT40: 4.2
A41: =IF(D41="","",SUBTOTAL(3,$D$12:D41)) -> 30 | B41: 1010031 | C41: Khoa Khoa học cơ bản | D41: Hà Như Mai | E41: 5 | F41: 0 | G41: 0 | H41: 0 | I41: 0 | J41: 0 | K41: 0 | L41: 0 | M41: 5 | N41: 6.15 | O41: 1.2 | P41: 0 | Q41: 0 | R41: 7.35 | S41: 256 | T41: 442 | U41: 150 | V41: 54.8 | W41: 0 | X41: 0 | Y41: 0 | Z41: 0 | AA41: 0 | AB41: 0 | AC41: 0 | AD41: 0 | AE41: 0 | AF41: 0 | AG41: 0 | AH41: 0 | AI41: 0 | AJ41: 0 | AK41: 0 | AL41: 0 | AM41: 0 | AN41: 0 | AO41: 0 | AP41: 0 | AQ41: 0 | AR41: 0 | AS41: 0 | AT41: 67.2
A42: =IF(D42="","",SUBTOTAL(3,$D$12:D42)) -> 31 | C42: Khoa Khoa học cơ bản | D42: Hà Thị Hường (TG) | E42: 0 | F42: 0 | G42: 0 | H42: 0 | I42: 0 | J42: 0 | K42: 0 | L42: 0 | M42: 0 | N42: 0 | O42: 0 | P42: 0 | Q42: 0 | R42: 0 | S42: 224 | T42: 224 | U42: 220 | V42: 22.8 | W42: 0 | X42: 0 | Y42: 0 | Z42: 0 | AA42: 0 | AB42: 0 | AC42: 0 | AD42: 0 | AE42: 0 | AF42: 0 | AG42: 0 | AH42: 0 | AI42: 0 | AJ42: 0 | AK42: 0 | AL42: 0 | AM42: 0 | AN42: 0 | AO42: 0 | AP42: 0 | AQ42: 0 | AR42: 0 | AS42: 0 | AT42: 22.8
A43: =IF(D43="","",SUBTOTAL(3,$D$12:D43)) -> 32 | C43: Khoa Khoa học cơ bản | D43: Hà Thị Thu Huyền (TG) | E43: 0 | F43: 0 | G43: 0 | H43: 0 | I43: 0 | J43: 0 | K43: 0 | L43: 0 | M43: 0 | N43: 0 | O43: 0 | P43: 0 | Q43: 0 | R43: 0 | S43: 0 | T43: 0 | U43: 0 | V43: 0 | W43: 0 | X43: 0 | Y43: 0 | Z43: 0 | AA43: 0 | AB43: 0 | AC43: 0 | AD43: 0 | AE43: 0 | AF43: 0 | AG43: 0 | AH43: 0 | AI43: 0 | AJ43: 0 | AK43: 0 | AL43: 0 | AM43: 0 | AN43: 0 | AO43: 0 | AP43: 0 | AQ43: 0 | AR43: 0 | AS43: 0 | AT43: 0
...

Sheet HKI 22-23
A1: UỶ BAN NHÂN DÂN THÀNH PHỐ HỒ CHÍ MINH | AL1: CỘNG HOÀ XÃ HỘI CHỦ NGHĨA VIỆT NAM
A2: TRƯỜNG CAO ĐẲNG LÝ TỰ TRỌNG TP. HỒ CHÍ MINH | AL2: Độc lập - Tự do - Hạnh phúc
A4: KHỐI LƯỢNG CÔNG TÁC COI - CHẤM THI HỌC KÌ 1 NĂM HỌC 2022 - 2023 - KHOA KHOA HỌC CƠ BẢN
E7: 2 | F7: 3 | G7: 4 | H7: 5 | I7: 6 | J7: 7 | K7: 8 | L7: 9 | M7: 10 | N7: 11 | O7: 12 | P7: 13 | Q7: 14 | R7: 15 | S7: 16 | T7: 17 | U7: 18 | V7: 19 | W7: 20 | X7: 21 | Y7: 22 | Z7: 23 | AA7: 24 | AB7: 25 | AC7: 26 | AD7: 27 | AE7: 28 | AF7: 29 | AG7: 30 | AH7: 31 | AI7: 32 | AJ7: 33 | AK7: 34 | AL7: 35 | AM7: 36 | AN7: 37 | AO7: 38 | AP7: 39 | AQ7: 40 | AR7: 41 | AS7: 42 | AT7: 43
E8: =SUBTOTAL(9,E12:E205) -> 57 | F8: =SUBTOTAL(9,F10:F205) -> 32 | G8: =SUBTOTAL(9,G10:G205) -> 0 | H8: =SUBTOTAL(9,H10:H205) -> 0 | I8: =SUBTOTAL(9,I10:I205) -> 0 | J8: =SUBTOTAL(9,J10:J205) -> 0 | K8: =SUBTOTAL(9,K10:K205) -> 0 | L8: =SUBTOTAL(9,L10:L205) -> 0 | M8: =SUBTOTAL(9,M10:M205) -> 105 | ... AT8: =SUBTOTAL(9,AT10:AT205) -> 1196.1
A9: STT | B9: Mã nhân sự | C9: Đơn vị | D9: HỌ VÀ TÊN GIẢNG VIÊN | E9: ĐỀ THI | N9: COI THI | S9: CHẤM THI KTHP | AI9: CHẤM THI TỐT NGHIỆP | AR9: DỰ PHÒNG KỲ THI | AS9: GIÁM SÁT | AT9: TỔNG KHỐI LƯỢNG | AU9: =SUBTOTAL(9,AT:AT) -> 1239.1
S10: LÝ THUYẾT (TV+TN) | W10: VẤN ĐÁP | AA10: TIỂU LUẬN | AE10: THỰC HÀNH | AI10: LÝ THUYẾT (TV+TN) | AL10: VẤN ĐÁP | AO10: THỰC HÀNH
E11: SL ĐỀ LT KTHP | F11: SL ĐỀ TN KTHP | G11: SL ĐỀ VĐ KTHP | H11: SL ĐỀ TH KTHP | I11: SL ĐỀ LT ThiTN | J11: SL ĐỀ TN ThiTN | K11: SL ĐỀ VĐ ThiTN | L11: SL ĐỀ TH ThiTN | M11: KL SOẠN ĐỀ (tiết) | N11: COITHI 2 KTHP | O11: COITHI 1 KTHP | P11: COITHI 1 Thi TN | Q11: COITHI 2 Thi TN | R11: KL COITHI (tiết) | S11: SL CHẤM LT 1 | T11: SL CHẤM LT 2 | U11: SL CHẤM NV | V11: KL CHẤM LT (tiết) | W11: SL CHẤM TL 1 | X11: SL CHẤM TL 2 | Y11: SL CHẤM NV | Z11: KL CHẤM TL (tiết) | AA11: SL CHẤM TL 1 | AB11: SL CHẤM TL 2 | AC11: SL CHẤM NV | AD11: KL CHẤM TL (tiết) | AE11: SL CHẤM TL 1 | AF11: SL CHẤM TL 2 | AG11: SL CHẤM NV | AH11: KL CHẤM TL (tiết) | AI11: SL BÀI LT CHẤM 1 | AJ11: SL BÀI LT CHẤM 2 | AK11: KL CHẤM LT (tiết) | AL11: SL BÀI VĐ CHẤM 1 | AM11: SL BÀI VĐ CHẤM 2 | AN11: KL CHẤM VĐ (tiết) | AO11: SL BÀI TL CHẤM 1 | AP11: SL BÀI TL CHẤM 2 | AQ11: KL CHẤM TL (tiết)
A12: =IF(D12="","",SUBTOTAL(3,$D$12:D12)) -> 1 | B12: 1010092 | C12: Khoa Khoa học cơ bản | D12: Bạch Văn Gân (TG) | E12: 0 | F12: 0 | G12: 0 | H12: 0 | I12: 0 | J12: 0 | K12: 0 | L12: 0 | M12: 0 | N12: 0 | O12: 0 | P12: 0 | Q12: 0 | R12: 0 | S12: 0 | T12: 0 | U12: 0 | V12: 0 | W12: 0 | X12: 0 | Y12: 0 | Z12: 0 | AA12: 0 | AB12: 0 | AC12: 0 | AD12: 0 | AE12: 0 | AF12: 0 | AG12: 0 | AH12: 0 | AI12: 0 | AJ12: 0 | AK12: 0 | AL12: 0 | AM12: 0 | AN12: 0 | AO12: 0 | AP12: 0 | AQ12: 0 | AR12: 0 | AS12: 0 | AT12: 0
A13: =IF(D13="","",SUBTOTAL(3,$D$12:D13)) -> 2 | B13: 1010074 | C13: Khoa Khoa học cơ bản | D13: Bùi Bảo Trung (TG) | E13: 0 | F13: 0 | G13: 0 | H13: 0 | I13: 0 | J13: 0 | K13: 0 | L13: 0 | M13: 0 | N13: 0 | O13: 0 | P13: 0 | Q13: 0 | R13: 0 | S13: 0 | T13: 0 | U13: 0 | V13: 0 | W13: 0 | X13: 0 | Y13: 0 | Z13: 0 | AA13: 0 | AB13: 0 | AC13: 0 | AD13: 0 | AE13: 0 | AF13: 0 | AG13: 0 | AH13: 0 | AI13: 0 | AJ13: 0 | AK13: 0 | AL13: 0 | AM13: 0 | AN13: 0 | AO13: 0 | AP13: 0 | AQ13: 0 | AR13: 0 | AS13: 0 | AT13: 0
A14: =IF(D14="","",SUBTOTAL(3,$D$12:D14)) -> 3 | B14: 1010132 | C14: Khoa Khoa học cơ bản | D14: Bùi Đình Trường (TG) | E14: 6 | F14: 0 | G14: 0 | H14: 0 | I14: 0 | J14: 0 | K14: 0 | L14: 0 | M14: 6 | N14: 0 | O14: 0 | P14: 0 | Q14: 0 | R14: 0 | S14: 494 | T14: 109 | U14: 210 | V14: 39.3 | W14: 0 | X14: 0 | Y14: 0 | Z14: 0 | AA14: 0 | AB14: 0 | AC14: 0 | AD14: 0 | AE14: 0 | AF14: 0 | AG14: 0 | AH14: 0 | AI14: 0 | AJ14: 0 | AK14: 0 | AL14: 0 | AM14: 0 | AN14: 0 | AO14: 0 | AP14: 0 | AQ14: 0 | AR14: 0 | AS14: 0 | AT14: 45.3
A15: =IF(D15="","",SUBTOTAL(3,$D$12:D15)) -> 4 | C15: Khoa Khoa học cơ bản | D15: Bùi Lâm Trúc Quỳnh (TG) | E15: 0 | F15: 0 | G15: 0 | H15: 0 | I15: 0 | J15: 0 | K15: 0 | L15: 0 | M15: 0 | N15: 0 | O15: 0 | P15: 0 | Q15: 0 | R15: 0 | S15: 0 | T15: 0 | U15: 116 | V15: -11.6 | W15: 0 | X15: 0 | Y15: 0 | Z15: 0 | AA15: 0 | AB15: 0 | AC15: 0 | AD15: 0 | AE15: 0 | AF15: 0 | AG15: 0 | AH15: 0 | AI15: 0 | AJ15: 0 | AK15: 0 | AL15: 0 | AM15: 0 | AN15: 0 | AO15: 0 | AP15: 0 | AQ15: 0 | AR15: 0 | AS15: 0 | AT15: -11.6
A16: =IF(D16="","",SUBTOTAL(3,$D$12:D16)) -> 5 | B16: 1010121 | C16: Khoa Khoa học cơ bản | D16: Bùi Thị Hợp (TG) | E16: 0 | F16: 0 | G16: 0 | H16: 0 | I16: 0 | J16: 0 | K16: 0 | L16: 0 | M16: 0 | N16: 0 | O16: 0 | P16: 0 | Q16: 0 | R16: 0 | S16: 216 | T16: 272 | U16: 0 | V16: 48.8 | W16: 0 | X16: 0 | Y16: 0 | Z16: 0 | AA16: 0 | AB16: 0 | AC16: 0 | AD16: 0 | AE16: 0 | AF16: 0 | AG16: 0 | AH16: 0 | AI16: 0 | AJ16: 0 | AK16: 0 | AL16: 0 | AM16: 0 | AN16: 0 | AO16: 0 | AP16: 0 | AQ16: 0 | AR16: 0 | AS16: 0 | AT16: 48.8
A17: =IF(D17="","",SUBTOTAL(3,$D$12:D17)) -> 6 | B17: 1010083 | C17: Khoa Khoa học cơ bản | D17: Bùi Thị Ngọc Tuyền (TG) | E17: 0 | F17: 0 | G17: 0 | H17: 0 | I17: 0 | J17: 0 | K17: 0 | L17: 0 | M17: 0 | N17: 0 | O17: 0 | P17: 0 | Q17: 0 | R17: 0 | S17: 0 | T17: 0 | U17: 0 | V17: 0 | W17: 0 | X17: 0 | Y17: 0 | Z17: 0 | AA17: 0 | AB17: 0 | AC17: 0 | AD17: 0 | AE17: 0 | AF17: 0 | AG17: 0 | AH17: 0 | AI17: 0 | AJ17: 0 | AK17: 0 | AL17: 0 | AM17: 0 | AN17: 0 | AO17: 0 | AP17: 0 | AQ17: 0 | AR17: 0 | AS17: 0 | AT17: 0
A18: =IF(D18="","",SUBTOTAL(3,$D$12:D18)) -> 7 | B18: 1010050 | C18: Khoa Khoa học cơ bản | D18: Bùi Thị Tú Uyên | E18: 0 | F18: 0 | G18: 0 | H18: 0 | I18: 0 | J18: 0 | K18: 0 | L18: 0 | M18: 0 | N18: 0 | O18: 0 | P18: 0 | Q18: 0 | R18: 0 | S18: 0 | T18: 0 | U18: 0 | V18: 0 | W18: 0 | X18: 0 | Y18: 0 | Z18: 0 | AA18: 0 | AB18: 0 | AC18: 0 | AD18: 0 | AE18: 0 | AF18: 0 | AG18: 0 | AH18: 0 | AI18: 0 | AJ18: 0 | AK18: 0 | AL18: 0 | AM18: 0 | AN18: 0 | AO18: 0 | AP18: 0 | AQ18: 0 | AR18: 0 | AS18: 0 | AT18: 0
A19: =IF(D19="","",SUBTOTAL(3,$D$12:D19)) -> 8 | B19: 1010075 | C19: Khoa Khoa học cơ bản | D19: Bùi Văn Mạnh (TG) | E19: 0 | F19: 0 | G19: 0 | H19: 0 | I19: 0 | J19: 0 | K19: 0 | L19: 0 | M19: 0 | N19: 0 | O19: 0 | P19: 0 | Q19: 0 | R19: 0 | S19: 0 | T19: 0 | U19: 0 | V19: 0 | W19: 0 | X19: 0 | Y19: 0 | Z19: 0 | AA19: 0 | AB19: 0 | AC19: 0 | AD19: 0 | AE19: 0 | AF19: 0 | AG19: 0 | AH19: 0 | AI19: 0 | AJ19: 0 | AK19: 0 | AL19: 0 | AM19: 0 | AN19: 0 | AO19: 0 | AP19: 0 | AQ19: 0 | AR19: 0 | AS19: 0 | AT19: 0
A20: =IF(D20="","",SUBTOTAL(3,$D$12:D20)) -> 9 | B20: 1010071 | C20: Khoa Khoa học cơ bản | D20: Bùi Văn Phương (TG) | E20: 0 | F20: 0 | G20: 0 | H20: 0 | I20: 0 | J20: 0 | K20: 0 | L20: 0 | M20: 0 | N20: 0 | O20: 0 | P20: 0 | Q20: 0 | R20: 0 | S20: 0 | T20: 0 | U20: 0 | V20: 0 | W20: 0 | X20: 0 | Y20: 0 | Z20: 0 | AA20: 0 | AB20: 0 | AC20: 0 | AD20: 0 | AE20: 0 | AF20: 0 | AG20: 0 | AH20: 0 | AI20: 0 | AJ20: 0 | AK20: 0 | AL20: 0 | AM20: 0 | AN20: 0 | AO20: 0 | AP20: 0 | AQ20: 0 | AR20: 0 | AS20: 0 | AT20: 0
A21: =IF(D21="","",SUBTOTAL(3,$D$12:D21)) -> 10 | B21: 1010036 | C21: Khoa Khoa học cơ bản | D21: Cao Đình Trung Hậu | E21: 0 | F21: 0 | G21: 0 | H21: 0 | I21: 0 | J21: 0 | K21: 0 | L21: 0 | M21: 0 | N21: 0 | O21: 0 | P21: 0 | Q21: 0 | R21: 0 | S21: 0 | T21: 0 | U21: 0 | V21: 0 | W21: 0 | X21: 0 | Y21: 0 | Z21: 0 | AA21: 0 | AB21: 0 | AC21: 0 | AD21: 0 | AE21: 0 | AF21: 0 | AG21: 0 | AH21: 0 | AI21: 0 | AJ21: 0 | AK21: 0 | AL21: 0 | AM21: 0 | AN21: 0 | AO21: 0 | AP21: 0 | AQ21: 0 | AR21: 0 | AS21: 0 | AT21: 0
A22: =IF(D22="","",SUBTOTAL(3,$D$12:D22)) -> 11 | C22: Khoa Khoa học cơ bản | D22: Cao Thế Nhật (TG) | E22: 0 | F22: 0 | G22: 0 | H22: 0 | I22: 0 | J22: 0 | K22: 0 | L22: 0 | M22: 0 | N22: 0 | O22: 0 | P22: 0 | Q22: 0 | R22: 0 | S22: 11 | T22: 0 | U22: 11 | V22: 0 | W22: 0 | X22: 0 | Y22: 0 | Z22: 0 | AA22: 0 | AB22: 0 | AC22: 0 | AD22: 0 | AE22: 0 | AF22: 0 | AG22: 0 | AH22: 0 | AI22: 0 | AJ22: 0 | AK22: 0 | AL22: 0 | AM22: 0 | AN22: 0 | AO22: 0 | AP22: 0 | AQ22: 0 | AR22: 0 | AS22: 0 | AT22: 0
A23: =IF(D23="","",SUBTOTAL(3,$D$12:D23)) -> 12 | C23: Khoa Khoa học cơ bản | D23: Châu Quốc Cường (TG) | E23: 0 | F23: 0 | G23: 0 | H23: 0 | I23: 0 | J23: 0 | K23: 0 | L23: 0 | M23: 0 | N23: 0 | O23: 0 | P23: 0 | Q23: 0 | R23: 0 | S23: 111 | T23: 72 | U23: 170 | V23: 1.3 | W23: 0 | X23: 0 | Y23: 0 | Z23: 0 | AA23: 0 | AB23: 0 | AC23: 0 | AD23: 0 | AE23: 0 | AF23: 0 | AG23: 0 | AH23: 0 | AI23: 0 | AJ23: 0 | AK23: 0 | AL23: 0 | AM23: 0 | AN23: 0 | AO23: 0 | AP23: 0 | AQ23: 0 | AR23: 0 | AS23: 0 | AT23: 1.3
A24: =IF(D24="","",SUBTOTAL(3,$D$12:D24)) -> 13 | C24: Khoa Khoa học cơ bản | D24: Chiêm Thanh Quốc Anh (TG) | E24: 0 | F24: 0 | G24: 0 | H24: 0 | I24: 0 | J24: 0 | K24: 0 | L24: 0 | M24: 0 | N24: 0 | O24: 0 | P24: 0 | Q24: 0 | R24: 0 | S24: 0 | T24: 0 | U24: 0 | V24: 0 | W24: 0 | X24: 0 | Y24: 0 | Z24: 0 | AA24: 0 | AB24: 0 | AC24: 0 | AD24: 0 | AE24: 0 | AF24: 0 | AG24: 0 | AH24: 0 | AI24: 0 | AJ24: 0 | AK24: 0 | AL24: 0 | AM24: 0 | AN24: 0 | AO24: 0 | AP24: 0 | AQ24: 0 | AR24: 0 | AS24: 0 | AT24: 0
A25: =IF(D25="","",SUBTOTAL(3,$D$12:D25)) -> 14 | C25: Khoa Khoa học cơ bản | D25: Đặng Đoàn Cẩm Tú (TG) | E25: 0 | F25: 0 | G25: 0 | H25: 0 | I25: 0 | J25: 0 | K25: 0 | L25: 0 | M25: 0 | N25: 0 | O25: 0 | P25: 0 | Q25: 0 | R25: 0 | S25: 0 | T25: 0 | U25: 0 | V25: 0 | W25: 0 | X25: 0 | Y25: 0 | Z25: 0 | AA25: 0 | AB25: 0 | AC25: 0 | AD25: 0 | AE25: 0 | AF25: 0 | AG25: 0 | AH25: 0 | AI25: 0 | AJ25: 0 | AK25: 0 | AL25: 0 | AM25: 0 | AN25: 0 | AO25: 0 | AP25: 0 | AQ25: 0 | AR25: 0 | AS25: 0 | AT25: 0
A26: =IF(D26="","",SUBTOTAL(3,$D$12:D26)) -> 15 | B26: 1010072 | C26: Khoa Khoa học cơ bản | D26: Đặng Duy Đồng (TG) | E26: 0 | F26: 0 | G26: 0 | H26: 0 | I26: 0 | J26: 0 | K26: 0 | L26: 0 | M26: 0 | N26: 0 | O26: 0 | P26: 0 | Q26: 0 | R26: 0 | S26: 0 | T26: 0 | U26: 0 | V26: 0 | W26: 0 | X26: 0 | Y26: 0 | Z26: 0 | AA26: 0 | AB26: 0 | AC26: 0 | AD26: 0 | AE26: 0 | AF26: 0 | AG26: 0 | AH26: 0 | AI26: 0 | AJ26: 0 | AK26: 0 | AL26: 0 | AM26: 0 | AN26: 0 | AO26: 0 | AP26: 0 | AQ26: 0 | AR26: 0 | AS26: 0 | AT26: 0
A27: =IF(D27="","",SUBTOTAL(3,$D$12:D27)) -> 16 | C27: Khoa Khoa học cơ bản | D27: Đặng Thị Giàu (TG) | E27: 0 | F27: 0 | G27: 0 | H27: 0 | I27: 0 | J27: 0 | K27: 0 | L27: 0 | M27: 0 | N27: 0 | O27: 0 | P27: 0 | Q27: 0 | R27: 0 | S27: 0 | T27: 0 | U27: 0 | V27: 0 | W27: 0 | X27: 0 | Y27: 0 | Z27: 0 | AA27: 0 | AB27: 0 | AC27: 0 | AD27: 0 | AE27: 0 | AF27: 0 | AG27: 0 | AH27: 0 | AI27: 0 | AJ27: 0 | AK27: 0 | AL27: 0 | AM27: 0 | AN27: 0 | AO27: 0 | AP27: 0 | AQ27: 0 | AR27: 0 | AS27: 0 | AT27: 0
A28: =IF(D28="","",SUBTOTAL(3,$D$12:D28)) -> 17 | C28: Khoa Khoa học cơ bản | D28: Đặng Thị Hiên (TG) | E28: 0 | F28: 0 | G28: 0 | H28: 0 | I28: 0 | J28: 0 | K28: 0 | L28: 0 | M28: 0 | N28: 0 | O28: 0 | P28: 0 | Q28: 0 | R28: 0 | S28: 0 | T28: 0 | U28: 0 | V28: 0 | W28: 0 | X28: 0 | Y28: 0 | Z28: 0 | AA28: 0 | AB28: 0 | AC28: 0 | AD28: 0 | AE28: 0 | AF28: 0 | AG28: 0 | AH28: 0 | AI28: 0 | AJ28: 0 | AK28: 0 | AL28: 0 | AM28: 0 | AN28: 0 | AO28: 0 | AP28: 0 | AQ28: 0 | AR28: 0 | AS28: 0 | AT28: 0
A29: =IF(D29="","",SUBTOTAL(3,$D$12:D29)) -> 18 | B29: 1010024 | C29: Khoa Khoa học cơ bản | D29: Đặng Thị Kiến Trúc | E29: 0 | F29: 0 | G29: 0 | H29: 0 | I29: 0 | J29: 0 | K29: 0 | L29: 0 | M29: 0 | N29: 3.6 | O29: 3.3 | P29: 0 | Q29: 0 | R29: 6.9 | S29: 0 | T29: 0 | U29: 0 | V29: 0 | W29: 0 | X29: 0 | Y29: 0 | Z29: 0 | AA29: 0 | AB29: 0 | AC29: 0 | AD29: 0 | AE29: 0 | AF29: 0 | AG29: 0 | AH29: 0 | AI29: 0 | AJ29: 0 | AK29: 0 | AL29: 0 | AM29: 0 | AN29: 0 | AO29: 0 | AP29: 0 | AQ29: 0 | AR29: 0 | AS29: 0 | AT29: 6.9
A30: =IF(D30="","",SUBTOTAL(3,$D$12:D30)) -> 19 | C30: Khoa Khoa học cơ bản | D30: Đặng Thừa Ân (TG) | E30: 0 | F30: 0 | G30: 0 | H30: 0 | I30: 0 | J30: 0 | K30: 0 | L30: 0 | M30: 0 | N30: 0 | O30: 0 | P30: 0 | Q30: 0 | R30: 0 | S30: 0 | T30: 0 | U30: 0 | V30: 0 | W30: 0 | X30: 0 | Y30: 0 | Z30: 0 | AA30: 0 | AB30: 0 | AC30: 0 | AD30: 0 | AE30: 0 | AF30: 0 | AG30: 0 | AH30: 0 | AI30: 0 | AJ30: 0 | AK30: 0 | AL30: 0 | AM30: 0 | AN30: 0 | AO30: 0 | AP30: 0 | AQ30: 0 | AR30: 0 | AS30: 0 | AT30: 0
A31: =IF(D31="","",SUBTOTAL(3,$D$12:D31)) -> 20 | C31: Khoa Khoa học cơ bản | D31: Đào Thị Kim Hương (TG) | E31: 0 | F31: 0 | G31: 0 | H31: 0 | I31: 0 | J31: 0 | K31: 0 | L31: 0 | M31: 0 | N31: 0 | O31: 0 | P31: 0 | Q31: 0 | R31: 0 | S31: 0 | T31: 0 | U31: 0 | V31: 0 | W31: 0 | X31: 0 | Y31: 0 | Z31: 0 | AA31: 0 | AB31: 0 | AC31: 0 | AD31: 0 | AE31: 0 | AF31: 0 | AG31: 0 | AH31: 0 | AI31: 0 | AJ31: 0 | AK31: 0 | AL31: 0 | AM31: 0 | AN31: 0 | AO31: 0 | AP31: 0 | AQ31: 0 | AR31: 0 | AS31: 0 | AT31: 0
A32: =IF(D32="","",SUBTOTAL(3,$D$12:D32)) -> 21 | C32: Khoa Khoa học cơ bản | D32: Đào Thị Ngọc Yến (TG) | E32: 0 | F32: 0 | G32: 0 | H32: 0 | I32: 0 | J32: 0 | K32: 0 | L32: 0 | M32: 0 | N32: 0 | O32: 0 | P32: 0 | Q32: 0 | R32: 0 | S32: 0 | T32: 0 | U32: 0 | V32: 0 | W32: 0 | X32: 0 | Y32: 0 | Z32: 0 | AA32: 0 | AB32: 0 | AC32: 0 | AD32: 0 | AE32: 0 | AF32: 0 | AG32: 0 | AH32: 0 | AI32: 0 | AJ32: 0 | AK32: 0 | AL32: 0 | AM32: 0 | AN32: 0 | AO32: 0 | AP32: 0 | AQ32: 0 | AR32: 0 | AS32: 0 | AT32: 0
A33: =IF(D33="","",SUBTOTAL(3,$D$12:D33)) -> 22 | B33: 1010056 | C33: Khoa Khoa học cơ bản | D33: Đinh Thị Thắng (TG) | E33: 0 | F33: 0 | G33: 0 | H33: 0 | I33: 0 | J33: 0 | K33: 0 | L33: 0 | M33: 0 | N33: 0 | O33: 0 | P33: 0 | Q33: 0 | R33: 0 | S33: 0 | T33: 0 | U33: 0 | V33: 0 | W33: 0 | X33: 0 | Y33: 0 | Z33: 0 | AA33: 0 | AB33: 0 | AC33: 0 | AD33: 0 | AE33: 0 | AF33: 0 | AG33: 0 | AH33: 0 | AI33: 0 | AJ33: 0 | AK33: 0 | AL33: 0 | AM33: 0 | AN33: 0 | AO33: 0 | AP33: 0 | AQ33: 0 | AR33: 0 | AS33: 0 | AT33: 0
A34: =IF(D34="","",SUBTOTAL(3,$D$12:D34)) -> 23 | B34: 1010076 | C34: Khoa Khoa học cơ bản | D34: Đinh Văn Quyên (TG) | E34: 0 | F34: 0 | G34: 0 | H34: 0 | I34: 0 | J34: 0 | K34: 0 | L34: 0 | M34: 0 | N34: 0 | O34: 0 | P34: 0 | Q34: 0 | R34: 0 | S34: 0 | T34: 0 | U34: 0 | V34: 0 | W34: 0 | X34: 0 | Y34: 0 | Z34: 0 | AA34: 0 | AB34: 0 | AC34: 0 | AD34: 0 | AE34: 0 | AF34: 0 | AG34: 0 | AH34: 0 | AI34: 0 | AJ34: 0 | AK34: 0 | AL34: 0 | AM34: 0 | AN34: 0 | AO34: 0 | AP34: 0 | AQ34: 0 | AR34: 0 | AS34: 0 | AT34: 0
A35: =IF(D35="","",SUBTOTAL(3,$D$12:D35)) -> 24 | B35: 1010049 | C35: Khoa Khoa học cơ bản | D35: Đoàn Thị Điểm (TG) | E35: 0 | F35: 0 | G35: 0 | H35: 0 | I35: 0 | J35: 0 | K35: 0 | L35: 0 | M35: 0 | N35: 0 | O35: 0 | P35: 0 | Q35: 0 | R35: 0 | S35: 0 | T35: 0 | U35: 0 | V35: 0 | W35: 0 | X35: 0 | Y35: 0 | Z35: 0 | AA35: 0 | AB35: 0 | AC35: 0 | AD35: 0 | AE35: 0 | AF35: 0 | AG35: 0 | AH35: 0 | AI35: 0 | AJ35: 0 | AK35: 0 | AL35: 0 | AM35: 0 | AN35: 0 | AO35: 0 | AP35: 0 | AQ35: 0 | AR35: 0 | AS35: 0 | AT35: 0
A36: =IF(D36="","",SUBTOTAL(3,$D$12:D36)) -> 25 | B36: 1010063 | C36: Khoa Khoa học cơ bản | D36: Đồng Văn Đẹp (TG) | E36: 0 | F36: 0 | G36: 0 | H36: 0 | I36: 0 | J36: 0 | K36: 0 | L36: 0 | M36: 0 | N36: 0 | O36: 0 | P36: 0 | Q36: 0 | R36: 0 | S36: 0 | T36: 0 | U36: 0 | V36: 0 | W36: 0 | X36: 0 | Y36: 0 | Z36: 0 | AA36: 0 | AB36: 0 | AC36: 0 | AD36: 0 | AE36: 0 | AF36: 0 | AG36: 0 | AH36: 0 | AI36: 0 | AJ36: 0 | AK36: 0 | AL36: 0 | AM36: 0 | AN36: 0 | AO36: 0 | AP36: 0 | AQ36: 0 | AR36: 0 | AS36: 0 | AT36: 0
A37: =IF(D37="","",SUBTOTAL(3,$D$12:D37)) -> 26 | B37: 1010037 | C37: Khoa Khoa học cơ bản | D37: Dương Đức Kiên | E37: 2 | F37: 0 | G37: 0 | H37: 0 | I37: 0 | J37: 0 | K37: 0 | L37: 0 | M37: 2 | N37: 4.8 | O37: 1.5 | P37: 0 | Q37: 0 | R37: 6.3 | S37: 402 | T37: 380 | U37: 232 | V37: 55 | W37: 0 | X37: 0 | Y37: 0 | Z37: 0 | AA37: 0 | AB37: 0 | AC37: 0 | AD37: 0 | AE37: 0 | AF37: 0 | AG37: 0 | AH37: 0 | AI37: 0 | AJ37: 0 | AK37: 0 | AL37: 0 | AM37: 0 | AN37: 0 | AO37: 0 | AP37: 0 | AQ37: 0 | AR37: 0 | AS37: 4.8 | AT37: 68.1
A38: =IF(D38="","",SUBTOTAL(3,$D$12:D38)) -> 27 | B38: 1010085 | C38: Khoa Khoa học cơ bản | D38: Dương Lê Kỳ Quang (TG) | E38: 0 | F38: 0 | G38: 0 | H38: 0 | I38: 0 | J38: 0 | K38: 0 | L38: 0 | M38: 0 | N38: 0 | O38: 0 | P38: 0 | Q38: 0 | R38: 0 | S38: 0 | T38: 0 | U38: 0 | V38: 0 | W38: 0 | X38: 0 | Y38: 0 | Z38: 0 | AA38: 0 | AB38: 0 | AC38: 0 | AD38: 0 | AE38: 0 | AF38: 0 | AG38: 0 | AH38: 0 | AI38: 0 | AJ38: 0 | AK38: 0 | AL38: 0 | AM38: 0 | AN38: 0 | AO38: 0 | AP38: 0 | AQ38: 0 | AR38: 0 | AS38: 0 | AT38: 0
A39: =IF(D39="","",SUBTOTAL(3,$D$12:D39)) -> 28 | B39: 1010030 | C39: Khoa Khoa học cơ bản | D39: Giang Phi Hùng | E39: 0 | F39: 0 | G39: 0 | H39: 0 | I39: 0 | J39: 0 | K39: 0 | L39: 0 | M39: 0 | N39: 0 | O39: 0 | P39: 0 | Q39: 0 | R39: 0 | S39: 0 | T39: 0 | U39: 0 | V39: 0 | W39: 0 | X39: 0 | Y39: 0 | Z39: 0 | AA39: 2657 | AB39: 0 | AC39: 934 | AD39: 172.3 | AE39: 0 | AF39: 0 | AG39: 0 | AH39: 0 | AI39: 0 | AJ39: 0 | AK39: 0 | AL39: 0 | AM39: 0 | AN39: 0 | AO39: 0 | AP39: 0 | AQ39: 0 | AR39: 0 | AS39: 0 | AT39: 172.3
A40: =IF(D40="","",SUBTOTAL(3,$D$12:D40)) -> 29 | C40: Khoa Khoa học cơ bản | D40: Hà Đông Cảnh (TG) | E40: 0 | F40: 0 | G40: 0 | H40: 0 | I40: 0 | J40: 0 | K40: 0 | L40: 0 | M40: 0 | N40: 0 | O40: 0 | P40: 0 | Q40: 0 | R40: 0 | S40: 0 | T40: 0 | U40: 0 | V40: 0 | W40: 0 | X40: 0 | Y40: 0 | Z40: 0 | AA40: 0 | AB40: 527 | AC40: 745 | AD40: -21.8 | AE40: 0 | AF40: 0 | AG40: 0 | AH40: 0 | AI40: 0 | AJ40: 0 | AK40: 0 | AL40: 0 | AM40: 0 | AN40: 0 | AO40: 0 | AP40: 0 | AQ40: 0 | AR40: 0 | AS40: 0 | AT40: -21.8
A41: =IF(D41="","",SUBTOTAL(3,$D$12:D41)) -> 30 | B41: 1010031 | C41: Khoa Khoa học cơ bản | D41: Hà Như Mai | E41: 0 | F41: 0 | G41: 0 | H41: 0 | I41: 0 | J41: 0 | K41: 0 | L41: 0 | M41: 0 | N41: 6.6 | O41: 1.95 | P41: 0 | Q41: 0 | R41: 8.55 | S41: 333 | T41: 440 | U41: 218 | V41: 55.5 | W41: 0 | X41: 0 | Y41: 0 | Z41: 0 | AA41: 0 | AB41: 0 | AC41: 0 | AD41: 0 | AE41: 0 | AF41: 0 | AG41: 0 | AH41: 0 | AI41: 0 | AJ41: 0 | AK41: 0 | AL41: 0 | AM41: 0 | AN41: 0 | AO41: 0 | AP41: 0 | AQ41: 0 | AR41: 0 | AS41: 1.8 | AT41: 65.9
A42: =IF(D42="","",SUBTOTAL(3,$D$12:D42)) -> 31 | C42: Khoa Khoa học cơ bản | D42: Hà Thị Hường (TG) | E42: 1 | F42: 0 | G42: 0 | H42: 0 | I42: 0 | J42: 0 | K42: 0 | L42: 0 | M42: 1 | N42: 0 | O42: 0 | P42: 0 | Q42: 0 | R42: 0 | S42: 0 | T42: 183 | U42: 100 | V42: 8.3 | W42: 0 | X42: 0 | Y42: 0 | Z42: 0 | AA42: 0 | AB42: 0 | AC42: 0 | AD42: 0 | AE42: 0 | AF42: 0 | AG42: 0 | AH42: 0 | AI42: 0 | AJ42: 0 | AK42: 0 | AL42: 0 | AM42: 0 | AN42: 0 | AO42: 0 | AP42: 0 | AQ42: 0 | AR42: 0 | AS42: 0 | AT42: 9.3
A43: =IF(D43="","",SUBTOTAL(3,$D$12:D43)) -> 32 | C43: Khoa Khoa học cơ bản | D43: Hà Thị Thu Huyền (TG) | E43: 0 | F43: 0 | G43: 0 | H43: 0 | I43: 0 | J43: 0 | K43: 0 | L43: 0 | M43: 0 | N43: 0 | O43: 0 | P43: 0 | Q43: 0 | R43: 0 | S43: 0 | T43: 0 | U43: 0 | V43: 0 | W43: 0 | X43: 0 | Y43: 0 | Z43: 0 | AA43: 0 | AB43: 0 | AC43: 0 | AD43: 0 | AE43: 0 | AF43: 0 | AG43: 0 | AH43: 0 | AI43: 0 | AJ43: 0 | AK43: 0 | AL43: 0 | AM43: 0 | AN43: 0 | AO43: 0 | AP43: 0 | AQ43: 0 | AR43: 0 | AS43: 0 | AT43: 0
...

Sheet CA NAM
A1: UỶ BAN NHÂN DÂN THÀNH PHỐ HỒ CHÍ MINH | AL1: CỘNG HOÀ XÃ HỘI CHỦ NGHĨA VIỆT NAM
A2: TRƯỜNG CAO ĐẲNG LÝ TỰ TRỌNG TP. HỒ CHÍ MINH | AL2: Độc lập - Tự do - Hạnh phúc
A4: KHỐI LƯỢNG CÔNG TÁC COI - CHẤM THI NĂM HỌC 2022 - 2023 - KHOA KHOA HỌC CƠ BẢN
E10: =SUBTOTAL(9,E14:E190) -> 148 | F10: =SUBTOTAL(9,F14:F190) -> 50 | G10: =SUBTOTAL(9,G14:G190) -> 0 | H10: =SUBTOTAL(9,H14:H190) -> 0 | I10: =SUBTOTAL(9,I14:I190) -> 0 | J10: =SUBTOTAL(9,J14:J190) -> 0 | K10: =SUBTOTAL(9,K14:K190) -> 0 | L10: =SUBTOTAL(9,L14:L190) -> 0 | ... AT10: =SUBTOTAL(9,AT14:AT190) -> 2292
A11: STT | B11: Mã nhân sự | C11: Đơn vị | D11: HỌ VÀ TÊN GIẢNG VIÊN | E11: ĐỀ THI | N11: COI THI | S11: CHẤM THI KTHP | AI11: CHẤM THI TỐT NGHIỆP | AR11: DỰ PHÒNG KỲ THI | AS11: GIÁM SÁT | AT11: TỔNG KHỐI LƯỢNG | AU11: =SUBTOTAL(9,AT:AT) -> 2292
S12: LÝ THUYẾT (TV+TN) | W12: VẤN ĐÁP | AA12: TIỂU LUẬN | AE12: THỰC HÀNH | AI12: LÝ THUYẾT (TV+TN) | AL12: VẤN ĐÁP | AO12: THỰC HÀNH
E13: SL ĐỀ LT KTHP | F13: SL ĐỀ TN KTHP | G13: SL ĐỀ VĐ KTHP | H13: SL ĐỀ TH KTHP | I13: SL ĐỀ LT ThiTN | J13: SL ĐỀ TN ThiTN | K13: SL ĐỀ VĐ ThiTN | L13: SL ĐỀ TH ThiTN | M13: KL SOẠN ĐỀ (tiết) | N13: COITHI 2KTHP | O13: COITHI 1 KTHP | P13: COITHI 1 Thi TN | Q13: COITHI 2 Thi TN | R13: KL COITHI (tiết) | S13: SL CHẤM LT 1 | T13: SL CHẤM LT 2 | U13: SL CHẤM NV | V13: KL CHẤM LT (tiết) | W13: SL CHẤM TL 1 | X13: SL CHẤM TL 2 | Y13: SL CHẤM NV | Z13: KL CHẤM TL (tiết) | AA13: SL CHẤM TL 1 | AB13: SL CHẤM TL 2 | AC13: SL CHẤM NV | AD13: KL CHẤM TL (tiết) | AE13: SL CHẤM TL 1 | AF13: SL CHẤM TL 2 | AG13: SL CHẤM NV | AH13: KL CHẤM TL (tiết) | AI13: SL BÀI LT CHẤM 1 | AJ13: SL BÀI LT CHẤM 2 | AK13: KL CHẤM LT (tiết) | AL13: SL BÀI VĐ CHẤM 1 | AM13: SL BÀI VĐ CHẤM 2 | AN13: KL CHẤM VĐ (tiết) | AO13: SL BÀI TL CHẤM 1 | AP13: SL BÀI TL CHẤM 2 | AQ13: KL CHẤM TL (tiết)
A14: =IF(D14="","",SUBTOTAL(3,$D$14:D14)) -> 1 | B14: 1010092 | C14: Khoa Khoa học cơ bản | D14: Bạch Văn Gân (TG) | E14: =IF($D14="","",'HK2 - 22-23 + HKI 23-24(22C2)'!E12+'HKI 22-23'!E12) -> 0 | F14: =IF($D14="","",'HK2 - 22-23 + HKI 23-24(22C2)'!F12+'HKI 22-23'!F12) -> 0 | G14: =IF($D14="","",'HK2 - 22-23 + HKI 23-24(22C2)'!G12+'HKI 22-23'!G12) -> 0 | H14: =IF($D14="","",'HK2 - 22-23 + HKI 23-24(22C2)'!H12+'HKI 22-23'!H12) -> 0 | I14: =IF($D14="","",'HK2 - 22-23 + HKI 23-24(22C2)'!I12+'HKI 22-23'!I12) -> 0 | J14: =IF($D14="","",'HK2 - 22-23 + HKI 23-24(22C2)'!J12+'HKI 22-23'!J12) -> 0 | K14: =IF($D14="","",'HK2 - 22-23 + HKI 23-24(22C2)'!K12+'HKI 22-23'!K12) -> 0 | L14: =IF($D14="","",'HK2 - 22-23 + HKI 23-24(22C2)'!L12+'HKI 22-23'!L12) -> 0 | ... AT14: =IF($D14="","",'HK2 - 22-23 + HKI 23-24(22C2)'!AT12+'HKI 22-23'!AT12) -> 0
A15: =IF(D15="","",SUBTOTAL(3,$D$14:D15)) -> 2 | B15: 1010074 | C15: Khoa Khoa học cơ bản | D15: Bùi Bảo Trung (TG) | E15: =IF($D15="","",'HK2 - 22-23 + HKI 23-24(22C2)'!E13+'HKI 22-23'!E13) -> 0 | F15: =IF($D15="","",'HK2 - 22-23 + HKI 23-24(22C2)'!F13+'HKI 22-23'!F13) -> 0 | G15: =IF($D15="","",'HK2 - 22-23 + HKI 23-24(22C2)'!G13+'HKI 22-23'!G13) -> 0 | H15: =IF($D15="","",'HK2 - 22-23 + HKI 23-24(22C2)'!H13+'HKI 22-23'!H13) -> 0 | I15: =IF($D15="","",'HK2 - 22-23 + HKI 23-24(22C2)'!I13+'HKI 22-23'!I13) -> 0 | J15: =IF($D15="","",'HK2 - 22-23 + HKI 23-24(22C2)'!J13+'HKI 22-23'!J13) -> 0 | K15: =IF($D15="","",'HK2 - 22-23 + HKI 23-24(22C2)'!K13+'HKI 22-23'!K13) -> 0 | L15: =IF($D15="","",'HK2 - 22-23 + HKI 23-24(22C2)'!L13+'HKI 22-23'!L13) -> 0 | ... AT15: =IF($D15="","",'HK2 - 22-23 + HKI 23-24(22C2)'!AT13+'HKI 22-23'!AT13) -> 0
A16: =IF(D16="","",SUBTOTAL(3,$D$14:D16)) -> 3 | B16: 1010132 | C16: Khoa Khoa học cơ bản | D16: Bùi Đình Trường (TG) | E16: =IF($D16="","",'HK2 - 22-23 + HKI 23-24(22C2)'!E14+'HKI 22-23'!E14) -> 8 | F16: =IF($D16="","",'HK2 - 22-23 + HKI 23-24(22C2)'!F14+'HKI 22-23'!F14) -> 0 | G16: =IF($D16="","",'HK2 - 22-23 + HKI 23-24(22C2)'!G14+'HKI 22-23'!G14) -> 0 | H16: =IF($D16="","",'HK2 - 22-23 + HKI 23-24(22C2)'!H14+'HKI 22-23'!H14) -> 0 | I16: =IF($D16="","",'HK2 - 22-23 + HKI 23-24(22C2)'!I14+'HKI 22-23'!I14) -> 0 | J16: =IF($D16="","",'HK2 - 22-23 + HKI 23-24(22C2)'!J14+'HKI 22-23'!J14) -> 0 | K16: =IF($D16="","",'HK2 - 22-23 + HKI 23-24(22C2)'!K14+'HKI 22-23'!K14) -> 0 | L16: =IF($D16="","",'HK2 - 22-23 + HKI 23-24(22C2)'!L14+'HKI 22-23'!L14) -> 0 | ... AT16: =IF($D16="","",'HK2 - 22-23 + HKI 23-24(22C2)'!AT14+'HKI 22-23'!AT14) -> 47.9
A17: =IF(D17="","",SUBTOTAL(3,$D$14:D17)) -> 4 | C17: Khoa Khoa học cơ bản | D17: Bùi Lâm Trúc Quỳnh (TG) | E17: =IF($D17="","",'HK2 - 22-23 + HKI 23-24(22C2)'!E15+'HKI 22-23'!E15) -> 0 | F17: =IF($D17="","",'HK2 - 22-23 + HKI 23-24(22C2)'!F15+'HKI 22-23'!F15) -> 0 | G17: =IF($D17="","",'HK2 - 22-23 + HKI 23-24(22C2)'!G15+'HKI 22-23'!G15) -> 0 | H17: =IF($D17="","",'HK2 - 22-23 + HKI 23-24(22C2)'!H15+'HKI 22-23'!H15) -> 0 | I17: =IF($D17="","",'HK2 - 22-23 + HKI 23-24(22C2)'!I15+'HKI 22-23'!I15) -> 0 | J17: =IF($D17="","",'HK2 - 22-23 + HKI 23-24(22C2)'!J15+'HKI 22-23'!J15) -> 0 | K17: =IF($D17="","",'HK2 - 22-23 + HKI 23-24(22C2)'!K15+'HKI 22-23'!K15) -> 0 | L17: =IF($D17="","",'HK2 - 22-23 + HKI 23-24(22C2)'!L15+'HKI 22-23'!L15) -> 0 | ... AT17: =IF($D17="","",'HK2 - 22-23 + HKI 23-24(22C2)'!AT15+'HKI 22-23'!AT15) -> -11.6
A18: =IF(D18="","",SUBTOTAL(3,$D$14:D18)) -> 5 | B18: 1010121 | C18: Khoa Khoa học cơ bản | D18: Bùi Thị Hợp (TG) | E18: =IF($D18="","",'HK2 - 22-23 + HKI 23-24(22C2)'!E16+'HKI 22-23'!E16) -> 0 | F18: =IF($D18="","",'HK2 - 22-23 + HKI 23-24(22C2)'!F16+'HKI 22-23'!F16) -> 0 | G18: =IF($D18="","",'HK2 - 22-23 + HKI 23-24(22C2)'!G16+'HKI 22-23'!G16) -> 0 | H18: =IF($D18="","",'HK2 - 22-23 + HKI 23-24(22C2)'!H16+'HKI 22-23'!H16) -> 0 | I18: =IF($D18="","",'HK2 - 22-23 + HKI 23-24(22C2)'!I16+'HKI 22-23'!I16) -> 0 | J18: =IF($D18="","",'HK2 - 22-23 + HKI 23-24(22C2)'!J16+'HKI 22-23'!J16) -> 0 | K18: =IF($D18="","",'HK2 - 22-23 + HKI 23-24(22C2)'!K16+'HKI 22-23'!K16) -> 0 | L18: =IF($D18="","",'HK2 - 22-23 + HKI 23-24(22C2)'!L16+'HKI 22-23'!L16) -> 0 | ... AT18: =IF($D18="","",'HK2 - 22-23 + HKI 23-24(22C2)'!AT16+'HKI 22-23'!AT16) -> 48.8
A19: =IF(D19="","",SUBTOTAL(3,$D$14:D19)) -> 6 | B19: 1010083 | C19: Khoa Khoa học cơ bản | D19: Bùi Thị Ngọc Tuyền (TG) | E19: =IF($D19="","",'HK2 - 22-23 + HKI 23-24(22C2)'!E17+'HKI 22-23'!E17) -> 0 | F19: =IF($D19="","",'HK2 - 22-23 + HKI 23-24(22C2)'!F17+'HKI 22-23'!F17) -> 0 | G19: =IF($D19="","",'HK2 - 22-23 + HKI 23-24(22C2)'!G17+'HKI 22-23'!G17) -> 0 | H19: =IF($D19="","",'HK2 - 22-23 + HKI 23-24(22C2)'!H17+'HKI 22-23'!H17) -> 0 | I19: =IF($D19="","",'HK2 - 22-23 + HKI 23-24(22C2)'!I17+'HKI 22-23'!I17) -> 0 | J19: =IF($D19="","",'HK2 - 22-23 + HKI 23-24(22C2)'!J17+'HKI 22-23'!J17) -> 0 | K19: =IF($D19="","",'HK2 - 22-23 + HKI 23-24(22C2)'!K17+'HKI 22-23'!K17) -> 0 | L19: =IF($D19="","",'HK2 - 22-23 + HKI 23-24(22C2)'!L17+'HKI 22-23'!L17) -> 0 | ... AT19: =IF($D19="","",'HK2 - 22-23 + HKI 23-24(22C2)'!AT17+'HKI 22-23'!AT17) -> 0
A20: =IF(D20="","",SUBTOTAL(3,$D$14:D20)) -> 7 | B20: 1010050 | C20: Khoa Khoa học cơ bản | D20: Bùi Thị Tú Uyên | E20: =IF($D20="","",'HK2 - 22-23 + HKI 23-24(22C2)'!E18+'HKI 22-23'!E18) -> 0 | F20: =IF($D20="","",'HK2 - 22-23 + HKI 23-24(22C2)'!F18+'HKI 22-23'!F18) -> 0 | G20: =IF($D20="","",'HK2 - 22-23 + HKI 23-24(22C2)'!G18+'HKI 22-23'!G18) -> 0 | H20: =IF($D20="","",'HK2 - 22-23 + HKI 23-24(22C2)'!H18+'HKI 22-23'!H18) -> 0 | I20: =IF($D20="","",'HK2 - 22-23 + HKI 23-24(22C2)'!I18+'HKI 22-23'!I18) -> 0 | J20: =IF($D20="","",'HK2 - 22-23 + HKI 23-24(22C2)'!J18+'HKI 22-23'!J18) -> 0 | K20: =IF($D20="","",'HK2 - 22-23 + HKI 23-24(22C2)'!K18+'HKI 22-23'!K18) -> 0 | L20: =IF($D20="","",'HK2 - 22-23 + HKI 23-24(22C2)'!L18+'HKI 22-23'!L18) -> 0 | ... AT20: =IF($D20="","",'HK2 - 22-23 + HKI 23-24(22C2)'!AT18+'HKI 22-23'!AT18) -> 0
A21: =IF(D21="","",SUBTOTAL(3,$D$14:D21)) -> 8 | B21: 1010075 | C21: Khoa Khoa học cơ bản | D21: Bùi Văn Mạnh (TG) | E21: =IF($D21="","",'HK2 - 22-23 + HKI 23-24(22C2)'!E19+'HKI 22-23'!E19) -> 0 | F21: =IF($D21="","",'HK2 - 22-23 + HKI 23-24(22C2)'!F19+'HKI 22-23'!F19) -> 0 | G21: =IF($D21="","",'HK2 - 22-23 + HKI 23-24(22C2)'!G19+'HKI 22-23'!G19) -> 0 | H21: =IF($D21="","",'HK2 - 22-23 + HKI 23-24(22C2)'!H19+'HKI 22-23'!H19) -> 0 | I21: =IF($D21="","",'HK2 - 22-23 + HKI 23-24(22C2)'!I19+'HKI 22-23'!I19) -> 0 | J21: =IF($D21="","",'HK2 - 22-23 + HKI 23-24(22C2)'!J19+'HKI 22-23'!J19) -> 0 | K21: =IF($D21="","",'HK2 - 22-23 + HKI 23-24(22C2)'!K19+'HKI 22-23'!K19) -> 0 | L21: =IF($D21="","",'HK2 - 22-23 + HKI 23-24(22C2)'!L19+'HKI 22-23'!L19) -> 0 | ... AT21: =IF($D21="","",'HK2 - 22-23 + HKI 23-24(22C2)'!AT19+'HKI 22-23'!AT19) -> 0
A22: =IF(D22="","",SUBTOTAL(3,$D$14:D22)) -> 9 | B22: 1010071 | C22: Khoa Khoa học cơ bản | D22: Bùi Văn Phương (TG) | E22: =IF($D22="","",'HK2 - 22-23 + HKI 23-24(22C2)'!E20+'HKI 22-23'!E20) -> 0 | F22: =IF($D22="","",'HK2 - 22-23 + HKI 23-24(22C2)'!F20+'HKI 22-23'!F20) -> 0 | G22: =IF($D22="","",'HK2 - 22-23 + HKI 23-24(22C2)'!G20+'HKI 22-23'!G20) -> 0 | H22: =IF($D22="","",'HK2 - 22-23 + HKI 23-24(22C2)'!H20+'HKI 22-23'!H20) -> 0 | I22: =IF($D22="","",'HK2 - 22-23 + HKI 23-24(22C2)'!I20+'HKI 22-23'!I20) -> 0 | J22: =IF($D22="","",'HK2 - 22-23 + HKI 23-24(22C2)'!J20+'HKI 22-23'!J20) -> 0 | K22: =IF($D22="","",'HK2 - 22-23 + HKI 23-24(22C2)'!K20+'HKI 22-23'!K20) -> 0 | L22: =IF($D22="","",'HK2 - 22-23 + HKI 23-24(22C2)'!L20+'HKI 22-23'!L20) -> 0 | ... AT22: =IF($D22="","",'HK2 - 22-23 + HKI 23-24(22C2)'!AT20+'HKI 22-23'!AT20) -> 0
A23: =IF(D23="","",SUBTOTAL(3,$D$14:D23)) -> 10 | B23: 1010036 | C23: Khoa Khoa học cơ bản | D23: Cao Đình Trung Hậu | E23: =IF($D23="","",'HK2 - 22-23 + HKI 23-24(22C2)'!E21+'HKI 22-23'!E21) -> 0 | F23: =IF($D23="","",'HK2 - 22-23 + HKI 23-24(22C2)'!F21+'HKI 22-23'!F21) -> 0 | G23: =IF($D23="","",'HK2 - 22-23 + HKI 23-24(22C2)'!G21+'HKI 22-23'!G21) -> 0 | H23: =IF($D23="","",'HK2 - 22-23 + HKI 23-24(22C2)'!H21+'HKI 22-23'!H21) -> 0 | I23: =IF($D23="","",'HK2 - 22-23 + HKI 23-24(22C2)'!I21+'HKI 22-23'!I21) -> 0 | J23: =IF($D23="","",'HK2 - 22-23 + HKI 23-24(22C2)'!J21+'HKI 22-23'!J21) -> 0 | K23: =IF($D23="","",'HK2 - 22-23 + HKI 23-24(22C2)'!K21+'HKI 22-23'!K21) -> 0 | L23: =IF($D23="","",'HK2 - 22-23 + HKI 23-24(22C2)'!L21+'HKI 22-23'!L21) -> 0 | ... AT23: =IF($D23="","",'HK2 - 22-23 + HKI 23-24(22C2)'!AT21+'HKI 22-23'!AT21) -> 0
A24: =IF(D24="","",SUBTOTAL(3,$D$14:D24)) -> 11 | C24: Khoa Khoa học cơ bản | D24: Cao Thế Nhật (TG) | E24: =IF($D24="","",'HK2 - 22-23 + HKI 23-24(22C2)'!E22+'HKI 22-23'!E22) -> 0 | F24: =IF($D24="","",'HK2 - 22-23 + HKI 23-24(22C2)'!F22+'HKI 22-23'!F22) -> 0 | G24: =IF($D24="","",'HK2 - 22-23 + HKI 23-24(22C2)'!G22+'HKI 22-23'!G22) -> 0 | H24: =IF($D24="","",'HK2 - 22-23 + HKI 23-24(22C2)'!H22+'HKI 22-23'!H22) -> 0 | I24: =IF($D24="","",'HK2 - 22-23 + HKI 23-24(22C2)'!I22+'HKI 22-23'!I22) -> 0 | J24: =IF($D24="","",'HK2 - 22-23 + HKI 23-24(22C2)'!J22+'HKI 22-23'!J22) -> 0 | K24: =IF($D24="","",'HK2 - 22-23 + HKI 23-24(22C2)'!K22+'HKI 22-23'!K22) -> 0 | L24: =IF($D24="","",'HK2 - 22-23 + HKI 23-24(22C2)'!L22+'HKI 22-23'!L22) -> 0 | ... AT24: =IF($D24="","",'HK2 - 22-23 + HKI 23-24(22C2)'!AT22+'HKI 22-23'!AT22) -> 0
A25: =IF(D25="","",SUBTOTAL(3,$D$14:D25)) -> 12 | C25: Khoa Khoa học cơ bản | D25: Châu Quốc Cường (TG) | E25: =IF($D25="","",'HK2 - 22-23 + HKI 23-24(22C2)'!E23+'HKI 22-23'!E23) -> 4 | F25: =IF($D25="","",'HK2 - 22-23 + HKI 23-24(22C2)'!F23+'HKI 22-23'!F23) -> 0 | G25: =IF($D25="","",'HK2 - 22-23 + HKI 23-24(22C2)'!G23+'HKI 22-23'!G23) -> 0 | H25: =IF($D25="","",'HK2 - 22-23 + HKI 23-24(22C2)'!H23+'HKI 22-23'!H23) -> 0 | I25: =IF($D25="","",'HK2 - 22-23 + HKI 23-24(22C2)'!I23+'HKI 22-23'!I23) -> 0 | J25: =IF($D25="","",'HK2 - 22-23 + HKI 23-24(22C2)'!J23+'HKI 22-23'!J23) -> 0 | K25: =IF($D25="","",'HK2 - 22-23 + HKI 23-24(22C2)'!K23+'HKI 22-23'!K23) -> 0 | L25: =IF($D25="","",'HK2 - 22-23 + HKI 23-24(22C2)'!L23+'HKI 22-23'!L23) -> 0 | ... AT25: =IF($D25="","",'HK2 - 22-23 + HKI 23-24(22C2)'!AT23+'HKI 22-23'!AT23) -> 6.5
A26: =IF(D26="","",SUBTOTAL(3,$D$14:D26)) -> 13 | C26: Khoa Khoa học cơ bản | D26: Chiêm Thanh Quốc Anh (TG) | E26: =IF($D26="","",'HK2 - 22-23 + HKI 23-24(22C2)'!E24+'HKI 22-23'!E24) -> 0 | F26: =IF($D26="","",'HK2 - 22-23 + HKI 23-24(22C2)'!F24+'HKI 22-23'!F24) -> 0 | G26: =IF($D26="","",'HK2 - 22-23 + HKI 23-24(22C2)'!G24+'HKI 22-23'!G24) -> 0 | H26: =IF($D26="","",'HK2 - 22-23 + HKI 23-24(22C2)'!H24+'HKI 22-23'!H24) -> 0 | I26: =IF($D26="","",'HK2 - 22-23 + HKI 23-24(22C2)'!I24+'HKI 22-23'!I24) -> 0 | J26: =IF($D26="","",'HK2 - 22-23 + HKI 23-24(22C2)'!J24+'HKI 22-23'!J24) -> 0 | K26: =IF($D26="","",'HK2 - 22-23 + HKI 23-24(22C2)'!K24+'HKI 22-23'!K24) -> 0 | L26: =IF($D26="","",'HK2 - 22-23 + HKI 23-24(22C2)'!L24+'HKI 22-23'!L24) -> 0 | ... AT26: =IF($D26="","",'HK2 - 22-23 + HKI 23-24(22C2)'!AT24+'HKI 22-23'!AT24) -> -19.5
A27: =IF(D27="","",SUBTOTAL(3,$D$14:D27)) -> 14 | C27: Khoa Khoa học cơ bản | D27: Đặng Đoàn Cẩm Tú (TG) | E27: =IF($D27="","",'HK2 - 22-23 + HKI 23-24(22C2)'!E25+'HKI 22-23'!E25) -> 0 | F27: =IF($D27="","",'HK2 - 22-23 + HKI 23-24(22C2)'!F25+'HKI 22-23'!F25) -> 0 | G27: =IF($D27="","",'HK2 - 22-23 + HKI 23-24(22C2)'!G25+'HKI 22-23'!G25) -> 0 | H27: =IF($D27="","",'HK2 - 22-23 + HKI 23-24(22C2)'!H25+'HKI 22-23'!H25) -> 0 | I27: =IF($D27="","",'HK2 - 22-23 + HKI 23-24(22C2)'!I25+'HKI 22-23'!I25) -> 0 | J27: =IF($D27="","",'HK2 - 22-23 + HKI 23-24(22C2)'!J25+'HKI 22-23'!J25) -> 0 | K27: =IF($D27="","",'HK2 - 22-23 + HKI 23-24(22C2)'!K25+'HKI 22-23'!K25) -> 0 | L27: =IF($D27="","",'HK2 - 22-23 + HKI 23-24(22C2)'!L25+'HKI 22-23'!L25) -> 0 | ... AT27: =IF($D27="","",'HK2 - 22-23 + HKI 23-24(22C2)'!AT25+'HKI 22-23'!AT25) -> 0
A28: =IF(D28="","",SUBTOTAL(3,$D$14:D28)) -> 15 | B28: 1010072 | C28: Khoa Khoa học cơ bản | D28: Đặng Duy Đồng (TG) | E28: =IF($D28="","",'HK2 - 22-23 + HKI 23-24(22C2)'!E26+'HKI 22-23'!E26) -> 0 | F28: =IF($D28="","",'HK2 - 22-23 + HKI 23-24(22C2)'!F26+'HKI 22-23'!F26) -> 0 | G28: =IF($D28="","",'HK2 - 22-23 + HKI 23-24(22C2)'!G26+'HKI 22-23'!G26) -> 0 | H28: =IF($D28="","",'HK2 - 22-23 + HKI 23-24(22C2)'!H26+'HKI 22-23'!H26) -> 0 | I28: =IF($D28="","",'HK2 - 22-23 + HKI 23-24(22C2)'!I26+'HKI 22-23'!I26) -> 0 | J28: =IF($D28="","",'HK2 - 22-23 + HKI 23-24(22C2)'!J26+'HKI 22-23'!J26) -> 0 | K28: =IF($D28="","",'HK2 - 22-23 + HKI 23-24(22C2)'!K26+'HKI 22-23'!K26) -> 0 | L28: =IF($D28="","",'HK2 - 22-23 + HKI 23-24(22C2)'!L26+'HKI 22-23'!L26) -> 0 | ... AT28: =IF($D28="","",'HK2 - 22-23 + HKI 23-24(22C2)'!AT26+'HKI 22-23'!AT26) -> 0
A29: =IF(D29="","",SUBTOTAL(3,$D$14:D29)) -> 16 | C29: Khoa Khoa học cơ bản | D29: Đặng Thị Giàu (TG) | E29: =IF($D29="","",'HK2 - 22-23 + HKI 23-24(22C2)'!E27+'HKI 22-23'!E27) -> 0 | F29: =IF($D29="","",'HK2 - 22-23 + HKI 23-24(22C2)'!F27+'HKI 22-23'!F27) -> 0 | G29: =IF($D29="","",'HK2 - 22-23 + HKI 23-24(22C2)'!G27+'HKI 22-23'!G27) -> 0 | H29: =IF($D29="","",'HK2 - 22-23 + HKI 23-24(22C2)'!H27+'HKI 22-23'!H27) -> 0 | I29: =IF($D29="","",'HK2 - 22-23 + HKI 23-24(22C2)'!I27+'HKI 22-23'!I27) -> 0 | J29: =IF($D29="","",'HK2 - 22-23 + HKI 23-24(22C2)'!J27+'HKI 22-23'!J27) -> 0 | K29: =IF($D29="","",'HK2 - 22-23 + HKI 23-24(22C2)'!K27+'HKI 22-23'!K27) -> 0 | L29: =IF($D29="","",'HK2 - 22-23 + HKI 23-24(22C2)'!L27+'HKI 22-23'!L27) -> 0 | ... AT29: =IF($D29="","",'HK2 - 22-23 + HKI 23-24(22C2)'!AT27+'HKI 22-23'!AT27) -> 0
A30: =IF(D30="","",SUBTOTAL(3,$D$14:D30)) -> 17 | C30: Khoa Khoa học cơ bản | D30: Đặng Thị Hiên (TG) | E30: =IF($D30="","",'HK2 - 22-23 + HKI 23-24(22C2)'!E28+'HKI 22-23'!E28) -> 0 | F30: =IF($D30="","",'HK2 - 22-23 + HKI 23-24(22C2)'!F28+'HKI 22-23'!F28) -> 0 | G30: =IF($D30="","",'HK2 - 22-23 + HKI 23-24(22C2)'!G28+'HKI 22-23'!G28) -> 0 | H30: =IF($D30="","",'HK2 - 22-23 + HKI 23-24(22C2)'!H28+'HKI 22-23'!H28) -> 0 | I30: =IF($D30="","",'HK2 - 22-23 + HKI 23-24(22C2)'!I28+'HKI 22-23'!I28) -> 0 | J30: =IF($D30="","",'HK2 - 22-23 + HKI 23-24(22C2)'!J28+'HKI 22-23'!J28) -> 0 | K30: =IF($D30="","",'HK2 - 22-23 + HKI 23-24(22C2)'!K28+'HKI 22-23'!K28) -> 0 | L30: =IF($D30="","",'HK2 - 22-23 + HKI 23-24(22C2)'!L28+'HKI 22-23'!L28) -> 0 | ... AT30: =IF($D30="","",'HK2 - 22-23 + HKI 23-24(22C2)'!AT28+'HKI 22-23'!AT28) -> 0
A31: =IF(D31="","",SUBTOTAL(3,$D$14:D31)) -> 18 | B31: 1010024 | C31: Khoa Khoa học cơ bản | D31: Đặng Thị Kiến Trúc | E31: =IF($D31="","",'HK2 - 22-23 + HKI 23-24(22C2)'!E29+'HKI 22-23'!E29) -> 0 | F31: =IF($D31="","",'HK2 - 22-23 + HKI 23-24(22C2)'!F29+'HKI 22-23'!F29) -> 0 | G31: =IF($D31="","",'HK2 - 22-23 + HKI 23-24(22C2)'!G29+'HKI 22-23'!G29) -> 0 | H31: =IF($D31="","",'HK2 - 22-23 + HKI 23-24(22C2)'!H29+'HKI 22-23'!H29) -> 0 | I31: =IF($D31="","",'HK2 - 22-23 + HKI 23-24(22C2)'!I29+'HKI 22-23'!I29) -> 0 | J31: =IF($D31="","",'HK2 - 22-23 + HKI 23-24(22C2)'!J29+'HKI 22-23'!J29) -> 0 | K31: =IF($D31="","",'HK2 - 22-23 + HKI 23-24(22C2)'!K29+'HKI 22-23'!K29) -> 0 | L31: =IF($D31="","",'HK2 - 22-23 + HKI 23-24(22C2)'!L29+'HKI 22-23'!L29) -> 0 | ... AT31: =IF($D31="","",'HK2 - 22-23 + HKI 23-24(22C2)'!AT29+'HKI 22-23'!AT29) -> 12.2
A32: =IF(D32="","",SUBTOTAL(3,$D$14:D32)) -> 19 | C32: Khoa Khoa học cơ bản | D32: Đặng Thừa Ân (TG) | E32: =IF($D32="","",'HK2 - 22-23 + HKI 23-24(22C2)'!E30+'HKI 22-23'!E30) -> 0 | F32: =IF($D32="","",'HK2 - 22-23 + HKI 23-24(22C2)'!F30+'HKI 22-23'!F30) -> 0 | G32: =IF($D32="","",'HK2 - 22-23 + HKI 23-24(22C2)'!G30+'HKI 22-23'!G30) -> 0 | H32: =IF($D32="","",'HK2 - 22-23 + HKI 23-24(22C2)'!H30+'HKI 22-23'!H30) -> 0 | I32: =IF($D32="","",'HK2 - 22-23 + HKI 23-24(22C2)'!I30+'HKI 22-23'!I30) -> 0 | J32: =IF($D32="","",'HK2 - 22-23 + HKI 23-24(22C2)'!J30+'HKI 22-23'!J30) -> 0 | K32: =IF($D32="","",'HK2 - 22-23 + HKI 23-24(22C2)'!K30+'HKI 22-23'!K30) -> 0 | L32: =IF($D32="","",'HK2 - 22-23 + HKI 23-24(22C2)'!L30+'HKI 22-23'!L30) -> 0 | ... AT32: =IF($D32="","",'HK2 - 22-23 + HKI 23-24(22C2)'!AT30+'HKI 22-23'!AT30) -> 0
A33: =IF(D33="","",SUBTOTAL(3,$D$14:D33)) -> 20 | C33: Khoa Khoa học cơ bản | D33: Đào Thị Kim Hương (TG) | E33: =IF($D33="","",'HK2 - 22-23 + HKI 23-24(22C2)'!E31+'HKI 22-23'!E31) -> 0 | F33: =IF($D33="","",'HK2 - 22-23 + HKI 23-24(22C2)'!F31+'HKI 22-23'!F31) -> 0 | G33: =IF($D33="","",'HK2 - 22-23 + HKI 23-24(22C2)'!G31+'HKI 22-23'!G31) -> 0 | H33: =IF($D33="","",'HK2 - 22-23 + HKI 23-24(22C2)'!H31+'HKI 22-23'!H31) -> 0 | I33: =IF($D33="","",'HK2 - 22-23 + HKI 23-24(22C2)'!I31+'HKI 22-23'!I31) -> 0 | J33: =IF($D33="","",'HK2 - 22-23 + HKI 23-24(22C2)'!J31+'HKI 22-23'!J31) -> 0 | K33: =IF($D33="","",'HK2 - 22-23 + HKI 23-24(22C2)'!K31+'HKI 22-23'!K31) -> 0 | L33: =IF($D33="","",'HK2 - 22-23 + HKI 23-24(22C2)'!L31+'HKI 22-23'!L31) -> 0 | ... AT33: =IF($D33="","",'HK2 - 22-23 + HKI 23-24(22C2)'!AT31+'HKI 22-23'!AT31) -> 0
A34: =IF(D34="","",SUBTOTAL(3,$D$14:D34)) -> 21 | C34: Khoa Khoa học cơ bản | D34: Đào Thị Ngọc Yến (TG) | E34: =IF($D34="","",'HK2 - 22-23 + HKI 23-24(22C2)'!E32+'HKI 22-23'!E32) -> 1 | F34: =IF($D34="","",'HK2 - 22-23 + HKI 23-24(22C2)'!F32+'HKI 22-23'!F32) -> 0 | G34: =IF($D34="","",'HK2 - 22-23 + HKI 23-24(22C2)'!G32+'HKI 22-23'!G32) -> 0 | H34: =IF($D34="","",'HK2 - 22-23 + HKI 23-24(22C2)'!H32+'HKI 22-23'!H32) -> 0 | I34: =IF($D34="","",'HK2 - 22-23 + HKI 23-24(22C2)'!I32+'HKI 22-23'!I32) -> 0 | J34: =IF($D34="","",'HK2 - 22-23 + HKI 23-24(22C2)'!J32+'HKI 22-23'!J32) -> 0 | K34: =IF($D34="","",'HK2 - 22-23 + HKI 23-24(22C2)'!K32+'HKI 22-23'!K32) -> 0 | L34: =IF($D34="","",'HK2 - 22-23 + HKI 23-24(22C2)'!L32+'HKI 22-23'!L32) -> 0 | ... AT34: =IF($D34="","",'HK2 - 22-23 + HKI 23-24(22C2)'!AT32+'HKI 22-23'!AT32) -> 8.1
A35: =IF(D35="","",SUBTOTAL(3,$D$14:D35)) -> 22 | B35: 1010056 | C35: Khoa Khoa học cơ bản | D35: Đinh Thị Thắng (TG) | E35: =IF($D35="","",'HK2 - 22-23 + HKI 23-24(22C2)'!E33+'HKI 22-23'!E33) -> 0 | F35: =IF($D35="","",'HK2 - 22-23 + HKI 23-24(22C2)'!F33+'HKI 22-23'!F33) -> 0 | G35: =IF($D35="","",'HK2 - 22-23 + HKI 23-24(22C2)'!G33+'HKI 22-23'!G33) -> 0 | H35: =IF($D35="","",'HK2 - 22-23 + HKI 23-24(22C2)'!H33+'HKI 22-23'!H33) -> 0 | I35: =IF($D35="","",'HK2 - 22-23 + HKI 23-24(22C2)'!I33+'HKI 22-23'!I33) -> 0 | J35: =IF($D35="","",'HK2 - 22-23 + HKI 23-24(22C2)'!J33+'HKI 22-23'!J33) -> 0 | K35: =IF($D35="","",'HK2 - 22-23 + HKI 23-24(22C2)'!K33+'HKI 22-23'!K33) -> 0 | L35: =IF($D35="","",'HK2 - 22-23 + HKI 23-24(22C2)'!L33+'HKI 22-23'!L33) -> 0 | ... AT35: =IF($D35="","",'HK2 - 22-23 + HKI 23-24(22C2)'!AT33+'HKI 22-23'!AT33) -> 0
A36: =IF(D36="","",SUBTOTAL(3,$D$14:D36)) -> 23 | B36: 1010076 | C36: Khoa Khoa học cơ bản | D36: Đinh Văn Quyên (TG) | E36: =IF($D36="","",'HK2 - 22-23 + HKI 23-24(22C2)'!E34+'HKI 22-23'!E34) -> 0 | F36: =IF($D36="","",'HK2 - 22-23 + HKI 23-24(22C2)'!F34+'HKI 22-23'!F34) -> 0 | G36: =IF($D36="","",'HK2 - 22-23 + HKI 23-24(22C2)'!G34+'HKI 22-23'!G34) -> 0 | H36: =IF($D36="","",'HK2 - 22-23 + HKI 23-24(22C2)'!H34+'HKI 22-23'!H34) -> 0 | I36: =IF($D36="","",'HK2 - 22-23 + HKI 23-24(22C2)'!I34+'HKI 22-23'!I34) -> 0 | J36: =IF($D36="","",'HK2 - 22-23 + HKI 23-24(22C2)'!J34+'HKI 22-23'!J34) -> 0 | K36: =IF($D36="","",'HK2 - 22-23 + HKI 23-24(22C2)'!K34+'HKI 22-23'!K34) -> 0 | L36: =IF($D36="","",'HK2 - 22-23 + HKI 23-24(22C2)'!L34+'HKI 22-23'!L34) -> 0 | ... AT36: =IF($D36="","",'HK2 - 22-23 + HKI 23-24(22C2)'!AT34+'HKI 22-23'!AT34) -> 0
A37: =IF(D37="","",SUBTOTAL(3,$D$14:D37)) -> 24 | B37: 1010049 | C37: Khoa Khoa học cơ bản | D37: Đoàn Thị Điểm (TG) | E37: =IF($D37="","",'HK2 - 22-23 + HKI 23-24(22C2)'!E35+'HKI 22-23'!E35) -> 0 | F37: =IF($D37="","",'HK2 - 22-23 + HKI 23-24(22C2)'!F35+'HKI 22-23'!F35) -> 0 | G37: =IF($D37="","",'HK2 - 22-23 + HKI 23-24(22C2)'!G35+'HKI 22-23'!G35) -> 0 | H37: =IF($D37="","",'HK2 - 22-23 + HKI 23-24(22C2)'!H35+'HKI 22-23'!H35) -> 0 | I37: =IF($D37="","",'HK2 - 22-23 + HKI 23-24(22C2)'!I35+'HKI 22-23'!I35) -> 0 | J37: =IF($D37="","",'HK2 - 22-23 + HKI 23-24(22C2)'!J35+'HKI 22-23'!J35) -> 0 | K37: =IF($D37="","",'HK2 - 22-23 + HKI 23-24(22C2)'!K35+'HKI 22-23'!K35) -> 0 | L37: =IF($D37="","",'HK2 - 22-23 + HKI 23-24(22C2)'!L35+'HKI 22-23'!L35) -> 0 | ... AT37: =IF($D37="","",'HK2 - 22-23 + HKI 23-24(22C2)'!AT35+'HKI 22-23'!AT35) -> 0
