Workbook

Sheet Mau 1
A1: TRƯỜNG CAO ĐẲNG LÝ TỰ TRỌNG | E1: CỘNG HÒA XÃ HỘI CHỦ NGHĨA VIỆT NAM
A2: THÀNH PHỐ HỒ CHÍ MINH | E2: Độc lập - Tự do - Hạnh phúc
A3: PHÒNG KẾ HOẠCH - TÀI CHÍNH
G4: Mẫu 1
A5: Danh sách CB-GV-NV tham gia thực hiện bài viết sáng kiến, bài viết Hội thảo cấp trường, cấp đơn vị, giảng viên dạy giỏi, bài báo được đăng trên các tạp chí theo quy định, tham gia đề tài NCKH đã được nghiệm thu,... (Quy định về tiêu chuẩn thi đua số 738/QyĐ-LTT-TĐ ngày 02/11/2022 của Trường)
A7: TT | B7: Họ tên | C7: Mã E-Office | D7: Điều kiện xếp loại thi đua A1 (Ghi rõ nội dung tiêu chuẩn: số Quyết định, thời gian, cơ quan ban hành,…) | E7: Điều kiện xếp loại thi đua A2 (Ghi rõ nội dung tiêu chuẩn: số Quyết định, thời gian, cơ quan ban hành,…) | F7: Điều kiện xếp loại thi đua A3 (Ghi rõ nội dung tiêu chuẩn: số Quyết định, thời gian, cơ quan ban hành,…) | G7: Ghi chú
A8: I. Viên chức
A9: 01 | B9: Nguyễn Kính | C9: 01002024 | D9: - Có bài sáng kiến kinh nghiệm NH 2021-2022, đạt loại xuất sắc (được công nhận có phạm vi ảnh cấp ngành năm học 2021-2022 theo QĐ số 1969/QĐ/SGDĐT-VP ngày 03/8/2022); - Có bài viết được đăng trên sách Hội thảo Khoa học Quốc tế năm 2022 - ICSS 4,0 (Một tác giả); - Năm 2022 có tham gia nhiều dự án cấp trường và cấp Sở (BTC Dự án ODA; Dự toán tài chính DA lên trường ĐH Lý Tự Trọng...); - Trong năm 2022 thực hiện hoàn thiện bổ sung hồ sơ dự toán tài chính trung hạn của nhà trường (2021-2025); - Tham gia phối hợp hoàn thiện hồ sơ thực hiện dự án "Trung tâm Đào tạo Xuất sắc" dự kiến đưa vào hoạt động năm 2023; - Thực hiện nhiều Báo cáo; giải trình theo yêu cầu trong năm 2022 của Sở Giáo dục, Sở Tài chính và Cục thuế TP;
A10: 03 | B10: Hồng Mộng Tuyết Dung | C10: 01003009 | E10: - Bài viết sáng kiến được công nhận phạm vi ảnh hưởng cấp ngành năm học 2021-2022 (QĐ số 1969/QĐ-SGDĐT ngày 03/8/2022)
A11: 04 | B11: Trần Thị Minh Thoa | C11: 01003005 | E11: - Bài viết sáng kiến được công nhận phạm vi ảnh hưởng cấp ngành năm học 2021-2022 (QĐ số 1969/QĐ-SGDĐT ngày 03/8/2022)
A12: 05 | B12: Võ Thị Lệ Trân | C12: 01023004 | E12: - Bài viết sáng kiến được công nhận phạm vi ảnh hưởng cấp ngành năm học 2021-2022 (QĐ số 1969/QĐ-SGDĐT ngày 03/8/2022)
A13: 06 | B13: Nguyễn Thị Hồng Thắm | C13: 01003007 | E13: '- Bài viết sáng kiến được công nhận phạm vi ảnh hưởng cấp ngành năm học 2021-2022 (QĐ số 1969/QĐ-SGDĐT ngày 03/8/2022)
A14: II. Hợp đồng trường
A15: 01 | B15: Trần Thị Thảo Vân | C15: 01003008 | E15: - Bài viết sáng kiến được công nhận phạm vi ảnh hưởng cấp ngành năm học 2021-2022 (QĐ số 1969/QĐ-SGDĐT ngày 03/8/2022)
A16: 02 | B16: Nguyễn Thị Nghiêm | C16: 01003014 | E16: - Có bài báo được đăng trên tạp chí - Cơ quan thông tin Lý luận của Bộ Công Thương Số 21-tháng 09/2022. '- Bài viết sáng kiến được công nhận phạm vi ảnh hưởng cấp ngành năm học 2021-2022 (QĐ số 1969/QĐ-SGDĐT ngày 03/8/2022)
A17: 03 | B17: Huỳnh Như Ý | C17: 01003015 | E17: - Bài viết sáng kiến được công nhận phạm vi ảnh hưởng cấp ngành năm học 2021-2022 (QĐ số 1969/QĐ-SGDĐT ngày 03/8/2022)
A18: 04 | B18: Nguyễn Chiến Thắng | C18: 01003016 | G18: A4
A19: Ghi chú: Gửi kèm minh chứng về phòng Tổ chức - Hành chính - Tổng hợp.
E20: TPHCM, ngày 11 tháng 01 năm 2023
E21: TRƯỞNG ĐƠN VỊ
E26: Nguyễn Kính

Sheet Mau 2
A1: TRƯỜNG CAO ĐẲNG LÝ TỰ TRỌNG THÀNH PHỐ HỒ CHÍ MINH PHÒNG KẾ HOẠCH - TÀI CHÍNH | D1: CỘNG HÒA XÃ HỘI CHỦ NGHĨA VIỆT NAM Độc lập - Tự do - Hạnh phúc
G2: Mẫu 2
A3: BẢNG TỔNG HỢP CÔNG VIỆC ĐỘT XUẤT ĐÃ THỰC HIỆN THÁNG 08/2023 (Gửi file mềm ngày 25 hàng tháng)
A5: TT | B5: Nội dung công việc | C5: Số lượng người tham gia thực hiện | D5: Tên người tham gia thực hiện | E5: Thời gian thực hiện | F5: Kết quả thực hiện | G5: Ghi chú
A6: I. | B6: Công việc chung của Trường
A7: Nhiệm vụ 1 | B7: Thực hiện công văn số 1452/TCGDNN-PCTT ngày 24/7/2023 về việc chuẩn bị nội dung kiểm tra việc thực hiện hợp đồng đào tạo thí điểm trình độ cao đẳng nghề trọng điểm cấp độ quốc tế chuyển giao từ Cộng hòa Liên bang Đức “Nghề: Công nghệ ô tô” | C7: 05 | D7: Kính, Thoa, Dung, Trân, Thắm. | E7: Tháng 08/2023 | F7: Đang thực hiện
A8: Nhiệm vụ 2 | B8: Thực hiện công văn số 4248/KH-SGDĐT ngày 09/8/2023 Kế hoạch kiểm tra chuyên đề công tác quản lý, sử dụng tài sản công tại đơn vị thuộc phạm vi quản lý của Sở Giáo dục và Đào tạo. | C8: 05 | D8: Kính, Dung, Thoa, Trân, Thắm. | E8: Tháng 08/2023 | F8: Đang thực hiện
A9: Nhiệm vụ 3 | B9: Thực hiện dự án “Kỹ năng thành công với học sinh, sinh viên Trường Cao đẳng Lý Tự Trọng”, dự án viện trợ không hoàn lại của Phi Chính Phủ, dự án được tài trợ bởi tập đoàn Accenture thông qua Save the Children Internationl tại Việt Nam. | C9: 06 | D9: Kính, Thoa, Vân, Nghiêm, Ý, Thắng. | E9: Tháng 08/2023 | F9: Đang thực hiện
A10: Nhiệm vụ 4 | B10: Tiếp tục thực hiện dự án của Trường Cao đẳng Lý Tự Trọng TP. HCM, dự án “Trung tâm đào tạo xuất sắc về đào tạo Kỹ năng xanh và Công nghiệp 4.0” | C10: 05 | D10: Kính, Dung, Thoa, Trân, Thắm. | E10: Tháng 08/2023 | F10: Đang thực hiện | G10: Đã gửi Sở Kế hoạch - Đầu tư TP. HCM
A11: Nhiệm vụ 5 | B11: Thực hiện công văn 4905/STC-HCSN ngày 25/7/2023 về báo cáo số liệu vốn viện trợ từ nước ngoài thuộc nguồn thu ngân sách nhà nước. | C11: 06 | D11: Kính, Thoa, Thắng, Ý, Vân, Nghiêm. | E11: Tháng 08/2023 | F11: Đang thực hiện
A12: II. | B12: Công việc chung của đơn vị
A13: Nhiệm vụ 1 | B13: Thực hiện báo cáo, xác nhận vốn đầu tư thực hiện dự án hoàn thành đưa vào sử dựng dự án “Xây dựng mới Ký túc xá Sinh viên Trường Cao đẳng Lý Tự Trọng”. | C13: 06 | D13: Kính, Dung, Thoa, Thắm, Vân, Nghiêm. | E13: Tháng 08/2023 | F13: Đang thực hiện
A14: Nhiệm vụ 2 | B14: Tiếp tục thực hiện hồ sơ dự toán kinh phí tổ chức Hội thảo Khoa học năm 2023 để xin kinh phí từ sở Khoa học Công nghệ. | C14: 07 | D14: Kính, Thoa, Trân, Thắm, Nghiêm, Ý, Thắng. | E14: Tháng 08/2023 | F14: Đang thực hiện
A15: Nhiệm vụ 3 | B15: Tiếp tục thực hiện thủ tục gửi thư mời và tiếp nhận tài trợ từ các đơn vị, doanh nghiệp. | C15: 08 | D15: Kính, Dung, Thoa, Trân, Thắm, Vân, Thắng, Ý. | E15: Tháng 08/2023 | F15: Đang thực hiện
A16: Nhiệm vụ 4 | B16: Thực hiện công tác thu học phí tuyển sinh khóa học mới (2023-2024) (Biên lai thu học phí và các khoản thu khác, kết nối phần mềm thu học phí, phần mềm xuất hóa đơn điện tử (Viettel) và các ngân hàng. Phân công trực Thứ 7, Chủ nhật, buổi trưa, ngoài giờ trong thời gian tuyển sinh (Theo chỉ đạo Hiệu trưởng) | C16: 09 | D16: Kính, Dung, Thoa, Trân, Thắm, Vân, Nghiêm, Ý, Thắng. | E16: Tháng 08/2023 | F16: Đang thực hiện
A17: Lưu ý: - Nhóm công việc của đơn vị không tính nội dung công việc đã được quy định ở vị trí việc làm (đối với nhân viên); chế độ làm việc của giảng viên/ đã được tính chế độ, thù lao (đối với giảng viên). - Các đơn vị gửi file điện tử về phòng TC-HC-TH (Cô Trần Thị Ánh Phượng) qua hệ thống điện tử E-office nhà trường (không gửi văn bản giấy) ngày 25 hàng tháng./.
C18: Tp.HCM ngày 24 tháng 08 năm 2023
D19: TRƯỞNG ĐƠN VỊ
D24: Nguyễn Kính

Sheet Mau 3
A1: TRƯỜNG CAO ĐẲNG LÝ TỰ TRỌNG | J1: CỘNG HÒA XÃ HỘI CHỦ NGHĨA VIỆT NAM
A2: THÀNH PHỐ HỒ CHÍ MINH | J2: Độc lập - Tự do - Hạnh phúc
A3: PHÒNG KẾ HOẠCH - TÀI CHÍNH
O4: Mẫu 3
A5: THỐNG KÊ CHI TIẾT KHỐI LƯỢNG CÔNG VIỆC THỰC HIỆN THÁNG 08/2023
A7: TT | B7: Tên nội dung công việc | D7: Công việc chung của trường | J7: Công việc chung của đơn vị | O7: Ghi chú
B8: Họ và tên | C8: Mã E-office | D8: Nhiệm vụ 1 | E8: Nhiệm vụ 2 | F8: Nhiệm vụ 3 | G8: Nhiệm vụ 4 | H8: Nhiệm vụ 5 | I8: Tổng cộng | J8: Nhiệm vụ 1 | K8: Nhiệm vụ 2 | L8: Nhiệm vụ 3 | M8: Nhiệm vụ 4 | N8: Tổng cộng
A9: I. Viên chức
A10: 01 | B10: Nguyễn Kính | C10: 01002024 | D10: x | E10: x | F10: x | G10: x | H10: x | I10: =COUNTA(D10:H10) -> 5 | J10: x | K10: x | L10: x | M10: x | N10: =COUNTIF(J10:M10,"X") -> 4
A11: 02 | B11: Hồng Mộng Tuyết Dung | C11: 01003009 | D11: x | E11: x | G11: x | I11: =COUNTA(D11:H11) -> 3 | J11: x | L11: x | M11: x | N11: =COUNTIF(J11:M11,"X") -> 3
A12: 03 | B12: Trần Thị Minh Thoa | C12: 01003005 | D12: x | E12: x | F12: x | G12: x | H12: x | I12: =COUNTA(D12:H12) -> 5 | J12: x | K12: x | L12: x | M12: x | N12: =COUNTIF(J12:M12,"X") -> 4
A13: 04 | B13: Võ Thị Lệ Trân | C13: 01023004 | D13: x | E13: x | G13: x | I13: =COUNTA(D13:H13) -> 3 | K13: x | L13: x | M13: x | N13: =COUNTIF(J13:M13,"X") -> 3
A14: 05 | B14: Nguyễn Thị Hồng Thắm | C14: 01003007 | D14: x | E14: x | G14: x | I14: =COUNTA(D14:H14) -> 3 | J14: x | K14: x | M14: x | N14: =COUNTIF(J14:M14,"X") -> 3
A15: II. Hợp đồng trường
A16: 01 | B16: Trần Thị Thảo Vân | C16: 01003008 | F16: x | H16: x | I16: =COUNTA(D16:H16) -> 2 | J16: x | L16: x | M16: x | N16: =COUNTIF(J16:M16,"X") -> 3
A17: 02 | B17: Nguyễn Thụy Nghiêm | C17: 01003014 | F17: x | H17: x | I17: =COUNTA(D17:H17) -> 2 | J17: x | K17: x | M17: x | N17: =COUNTIF(J17:M17,"X") -> 3
A18: 03 | B18: Huỳnh Như Ý | C18: 01003015 | F18: x | H18: x | I18: =COUNTA(D18:H18) -> 2 | K18: x | L18: x | M18: x | N18: =COUNTIF(J18:M18,"X") -> 3
A19: 04 | B19: Nguyễn Chiến Thắng | C19: 01003016 | F19: x | H19: x | I19: =COUNTA(D19:H19) -> 2 | K19: x | L19: x | M19: x | N19: =COUNTIF(J19:M19,"X") -> 3
A21: Lưu ý: Các đơn vị gửi file điện tử về phòng TC-HC-TH (Cô Trần Thị Ánh Phượng) qua hệ thống điện tử E-office nhà trường (không gửi văn bản giấy).
J22: TP.HCM, ngày 24 tháng 08 năm 2023
J23: TRƯỞNG ĐƠN VỊ
K29: Nguyễn Kính

Sheet Mau 4 
A1: TRƯỜNG CAO ĐẲNG LÝ TỰ TRỌNG | G1: CỘNG HÒA XÃ HỘI CHỦ NGHĨA VIỆT NAM
A2: THÀNH PHỐ HỒ CHÍ MINH | G2: Độc lập - Tự do - Hạnh phúc
A3: PHÒNG KẾ HOẠCH - TÀI CHÍNH
L4: Mẫu 4
A5: DANH SÁCH XẾP LOẠI THI ĐUA THÁNG 08/2023
A7: TT | B7: Họ tên | C7: Mã E-Office | D7: Tiêu chuẩn đạt mức xếp loại thi đua tối đa trong năm 2023 | E7: Xếp loại thi đua tháng theo quy định (Không vượt quá mức thi đua tối đa) | I7: Số ngày/giờ vượt so với ngày công kế hoạch (đối với CB-NV) | J7: Số ngày nghỉ/ tiết nghỉ (đối với GV) | K7: Đơn vị đề nghị mức xếp loại thi đua
E8: Xếp loại | F8: Lý do | G8: Số lượng công việc chung của trường | H8: Số lượng công việc chung của đơn vị | K8: Xếp loại | L8: Lý do đề nghị
A9: I. Viên chức
A10: 01 | B10: Nguyễn Kính | C10: 01002024 | D10: A1 | E10: A1 | G10: ='Mau 3'!I10 -> 5 | H10: ='Mau 3'!N10 -> 4 | I10: 5 | K10: A1
A11: 02 | B11: Hồng Mộng Tuyết Dung | C11: 01003009 | D11: A2 | E11: A2 | G11: ='Mau 3'!I11 -> 3 | H11: ='Mau 3'!N11 -> 3 | I11: 4 | K11: A1 | L11: - Chuẩn A2, tuy nhiên trong tháng qua thường xuyên làm việc ngoài giờ chuẩn bị chứng từ, hồ sơ sổ sách để phục vụ cho công tác thanh tra, thu học phí sinh viên , do có nhiều tích cực trong công việc của phòng và của trường, Phòng KH-TC kính đề nghị hội đồng thi đua xem xét nâng 1 bậc xếp loại : A1
A12: 03 | B12: Trần Thị Minh Thoa | C12: 01003005 | D12: A2 | E12: A2 | G12: ='Mau 3'!I12 -> 5 | H12: ='Mau 3'!N12 -> 4 | I12: 4 | K12: A1 | L12: - Chuẩn A2, tuy nhiên trong tháng qua thường xuyên làm việc ngoài giờ chuẩn bị chứng từ, hồ sơ sổ sách để phục vụ cho công tác thanh tra, thu học phí sinh viên , do có nhiều tích cực trong công việc của phòng và của trường, Phòng KH-TC kính đề nghị hội đồng thi đua xem xét nâng 1 bậc xếp loại : A1
A13: 04 | B13: Võ Thị Lệ Trân | C13: 01023004 | D13: A2 | E13: A2 | G13: ='Mau 3'!I13 -> 3 | H13: ='Mau 3'!N13 -> 3 | I13: 4 | K13: A1 | L13: - Chuẩn A2, tuy nhiên trong tháng qua thường xuyên làm việc ngoài giờ chuẩn bị chứng từ, hồ sơ sổ sách để phục vụ cho công tác thanh tra, thu học phí sinh viên , do có nhiều tích cực trong công việc của phòng và của trường, Phòng KH-TC kính đề nghị hội đồng thi đua xem xét nâng 1 bậc xếp loại : A1
A14: 05 | B14: Nguyễn Thị Hồng Thắm | C14: 01003007 | D14: A2 | E14: A2 | G14: ='Mau 3'!I14 -> 3 | H14: ='Mau 3'!N14 -> 3 | I14: 2 | K14: A1 | L14: - Chuẩn A2, tuy nhiên trong tháng qua thường xuyên làm việc ngoài giờ chuẩn bị chứng từ, hồ sơ sổ sách để phục vụ cho công tác thanh tra, thu học phí sinh viên , do có nhiều tích cực trong công việc của phòng và của trường, Phòng KH-TC kính đề nghị hội đồng thi đua xem xét nâng 1 bậc xếp loại : A1
A15: II. Hợp đồng trường
A16: 01 | B16: Trần Thị Thảo Vân | C16: 01003008 | D16: A2 | E16: A2 | G16: ='Mau 3'!I16 -> 2 | H16: ='Mau 3'!N16 -> 3 | K16: A2 | L16: Trong tháng qua thường xuyên làm việc ngoài giờ chuẩn bị chứng từ, hồ sơ sổ sách để phục vụ cho công tác thanh tra, thu học phí sinh viên , do có nhiều tích cực trong công việc của phòng và của trường, Phòng KH-TC kính đề nghị hội đồng thi đua xem xét A2
A17: 02 | B17: Nguyễn Thụy Nghiêm | C17: 01003014 | D17: A2 | E17: A2 | G17: ='Mau 3'!I17 -> 2 | H17: ='Mau 3'!N17 -> 3 | K17: A2 | L17: Trong tháng qua thường xuyên làm việc ngoài giờ chuẩn bị chứng từ, hồ sơ sổ sách để phục vụ cho công tác thanh tra, thu học phí sinh viên , do có nhiều tích cực trong công việc của phòng và của trường, Phòng KH-TC kính đề nghị hội đồng thi đua xem xét A2
A18: 03 | B18: Huỳnh Như Ý | C18: 01003015 | D18: A2 | E18: A2 | G18: ='Mau 3'!I18 -> 2 | H18: ='Mau 3'!N18 -> 3 | K18: A2 | L18: Trong tháng qua thường xuyên làm việc ngoài giờ chuẩn bị chứng từ, hồ sơ sổ sách để phục vụ cho công tác thanh tra, thu học phí sinh viên , do có nhiều tích cực trong công việc của phòng và của trường, Phòng KH-TC kính đề nghị hội đồng thi đua xem xét A2
A19: 04 | B19: Nguyễn Chiến Thắng | C19: 01003016 | D19: A4 | E19: A4 | G19: ='Mau 3'!I19 -> 2 | H19: ='Mau 3'!N19 -> 3 | K19: A3 | L19: - Chuẩn A4, tuy nhiên trong tháng qua thường xuyên làm việc ngoài giờ chuẩn bị chứng từ, hồ sơ sổ sách để phục vụ cho công tác thanh tra, thu học phí sinh viên , do có nhiều tích cực trong công việc của phòng và của trường, Phòng KH-TC kính đề nghị hội đồng thi đua xem xét nâng 1 bậc xếp loại : A3
B21: Kết quả xếp loại | G21: Viên chức | I21: Hợp đồng trường
B22: A1 | G22: =COUNTIF($E$10:$E$14,"A1") -> 1 | I22: =COUNTIF($E$16:$E$19,"A1") -> 0
B23: A2 | G23: =COUNTIF($E$10:$E$14,"A2") -> 4 | I23: =COUNTIF($E$16:$E$19,"A2") -> 3
B24: A3 | G24: =COUNTIF($E$10:$E$14,"A3") -> 0 | I24: =COUNTIF($E$16:$E$19,"A3") -> 0
B25: A4 | G25: =COUNTIF($E$10:$E$14,"A4") -> 0 | I25: =COUNTIF($E$16:$E$19,"A4") -> 1
B26: A DN | G26: =COUNTIF($E$10:$E$14,"A DN") -> 0 | I26: =COUNTIF($E$16:$E$19,"A DN") -> 0
B27: B1 | G27: =COUNTIF($E$10:$E$14,"B1") -> 0 | I27: =COUNTIF($E$16:$E$19,"B1") -> 0
B28: B2 | G28: =COUNTIF($E$10:$E$14,"B2") -> 0 | I28: =COUNTIF($E$16:$E$19,"B2") -> 0
B29: C1 | G29: =COUNTIF($E$10:$E$14,"C1") -> 0 | I29: =COUNTIF($E$16:$E$19,"C1") -> 0
B30: C2 | G30: =COUNTIF($E$10:$E$14,"C2") -> 0 | I30: =COUNTIF($E$16:$E$19,"C2") -> 0
B31: D | G31: =COUNTIF($E$10:$E$14,"D") -> 0 | I31: =COUNTIF($E$16:$E$19,"D") -> 0
B32: E | G32: =COUNTIF($E$10:$E$14,"E") -> 0 | I32: =COUNTIF($E$16:$E$19,"E") -> 0
B33: Tổng số nhân sự: | G33: =SUM(G22:G32) -> 5 | I33: =SUM(I22:I32) -> 4
A35: Lưu ý: Các đơn vị gửi file mềm qua hệ thống điện tử E-office nhà trường và văn bản giấy về phòng TC-HC-TH (Cô Trần Thị Ánh Phượng).
G36: Tp.HCM, ngày 24 Tháng 08 năm 2023
G37: TRƯỞNG ĐƠN VỊ
H42: Nguyễn Kính
