Workbook

Sheet Mau 1
A1: TRƯỜNG CAO ĐẲNG LÝ TỰ TRỌNG | E1: CỘNG HÒA XÃ HỘI CHỦ NGHĨA VIỆT NAM
A2: THÀNH PHỐ HỒ CHÍ MINH | E2: Độc lập - Tự do - Hạnh phúc
A3: ĐƠN VỊ: Khoa Nhiệt-Lạnh
G4: Mẫu 1
A5: Danh sách CB-GV-NV tham gia thực hiện bài viết sáng kiến, bài viết Hội thảo cấp trường, cấp đơn vị, giảng viên dạy giỏi, bài báo được đăng trên các tạp chí theo quy định, tham gia đề tài NCKH đã được nghiệm thu,... (Quy định số 1375/QyĐ-LTT-TĐ ngày 29/11/2021 của Trường)
A7: TT | B7: Họ tên | C7: Mã E-Office | D7: Điều kiện xếp loại thi đua A1 (Ghi rõ nội dung tiêu chuẩn: số Quyết định, thời gian, cơ quan ban hành,…) | E7: Điều kiện xếp loại thi đua A2 (Ghi rõ nội dung tiêu chuẩn: số Quyết định, thời gian, cơ quan ban hành,…) | F7: Điều kiện xếp loại thi đua A3 (Ghi rõ nội dung tiêu chuẩn: số Quyết định, thời gian, cơ quan ban hành,…) | G7: Ghi chú
A8: I. Viên chức
A9: 01 | B9: Đinh Đồng Hiệp | C9: 01013020 | D9: Giải nhì - Hội thi TBTL toàn quốc năm 2022 (QĐ số 963/QĐ-LĐTBXH ngày 14/10/2022). | E9: 01 bài viết đăng Kỷ yếu hội thảo cấp trường COSS 2022
A10: 02 | B10: Hoàng Văn Viết | C10: 01029001 | E10: - 01 bài báo đăng trên tạp chí trong nước/quốc tế được tính điểm theo quy định: Energies (Thuộc tạp chí ISI, ISSN: 1996-1073), ngày đăng 19/12/2022 ( đồng tác giả là 3 người) 01 bài viết đăng Kỷ yếu hội thảo cấp trường COSS 2022
A11: 03 | B11: Võ Anh Hào | C11: 01010013 | E11: - Bài viết được đăng trong Kỷ yếu 50 năm hình thành và phát triển trường
A12: 04 | B12: Đặng Thế Huân | C12: 01013009 | D12: Giải nhì - Hội thi TBTL toàn quốc năm 2022 (QĐ số 963/QĐ-LĐTBXH ngày 14/10/2022). | E12: 01 bài viết đăng Kỷ yếu hội thảo cấp trường COSS 2022 - Hướng dẫn SV thi Startup Kite 2022 vòng bán kết.
A13: 05 | B13: Nguyễn Vũ Xuân Thì | C13: 01013008 | D13: Giải nhì - Hội thi TBTL toàn quốc năm 2022 (QĐ số 963/QĐ-LĐTBXH ngày 14/10/2022). | E13: Bài viết sáng kiến được công nhận phạm vi ảnh hưởng cấp ngành năm học 2021-2022 (QĐ số 1969/QĐ-SGDĐT ngày 03/8/2022)
A14: 06 | B14: Đỗ Trọng Quý | C14: 01013011
A15: 07 | B15: Trần Đình Khoa | C15: 01013023
A16: 08 | B16: Phan Văn Hòa | C16: 01013015 | D16: Giải nhì - Hội thi TBTL toàn quốc năm 2022 (QĐ số 963/QĐ-LĐTBXH ngày 14/10/2022).
A17: 09 | B17: Nguyễn Thanh Dũng | C17: 01029016 | E17: - 01 bài viết đăng Kỷ yếu hội thảo cấp trường COSS 2022 - Bài viết sáng kiến được công nhận phạm vi ảnh hưởng cấp ngành năm học 2021-2022 (QĐ số 1969/QĐ-SGDĐT ngày 03/8/2022)
A18: II. Hợp đồng trường
A19: 01
A20: 02
A21: 03
A22: 04
A23: 05
A25: Ghi chú: Gửi kèm minh chứng về phòng Tổ chức - Hành chính - Tổng hợp.
E26: TPHCM, ngày 16 tháng 01 năm 2023
E27: TRƯỞNG ĐƠN VỊ

Sheet Mau 2
A1: TRƯỜNG CAO ĐẲNG LÝ TỰ TRỌNG THÀNH PHỐ HỒ CHÍ MINH ĐƠN VỊ: Khoa Nhiệt-Lạnh | F1: CỘNG HÒA XÃ HỘI CHỦ NGHĨA VIỆT NAM Độc lập - Tự do - Hạnh phúc
G2: Mẫu 2
A3: BẢNG TỔNG HỢP CÔNG VIỆC ĐỘT XUẤT ĐÃ THỰC HIỆN THÁNG 11/2023 (Gửi file mềm ngày 25 hàng tháng)
A6: TT | B6: Nội dung công việc | C6: Số lượng người tham gia thực hiện | D6: Tên người tham gia thực hiện | E6: Thời gian thực hiện | F6: Kết quả thực hiện | G6: Ghi chú
A7: I. | B7: Công việc chung của Trường
A8: Nhiệm vụ 1 | B8: Vận động tài trợ Lễ khai giảng và Kỷ niệm 52 năm hình thành và phát triển trường | C8: 1 | D8: Dũng | E8: tháng 11/2023 | F8: Đã thực hiện | G8: Doanh nghiệp tài trợ 10 triệu đồng cho thàng 11 và 12/2023
A9: Nhiệm vụ 2 | B9: Tham gia trực gian hàng triển lãm, tập dợt và quản lý nhóm SV diễu hành, tổ chức hoạt động đá banh trong Lễ khai giảng và Kỷ niệm 52 năm hình thành và phát triển trường. | C9: 8 | D9: Hiệp, Viết, Huân, Hào, Quí, Thì, Hòa, Khoa. | E9: tháng 10/2023 | F9: Đã và đang thực hiện
A10: Nhiệm vụ 3 | B10: Hướng dẫn nhóm sv thi Startup KITE | C10: 3 | D10: Hiệp, Huân | E10: tháng 10/2024 | F10: Đã và đang thực hiện
A11: Nhiệm vụ 4 | B11: Hướng dẫn sinh viên khóa 21C1 thực tập doanh nghiệp | C11: 1 | D11: Khoa | E11: tháng 11/2023 | F11: Đã thực hiện ( 10sv/gv)
A12: Nhiệm vụ
A13: II. | B13: Công việc chung của đơn vị
A14: Nhiệm vụ 1 | B14: Tham gia diễu hành nhóm 52 GV . | C14: 2 | D14: Thì, Dũng. | E14: 16/11/2023 | F14: Đã thực hiện
A15: Nhiệm vụ 2
A16: Nhiệm vụ 3
A17: Nhiệm vụ 4
A18: Nhiệm vụ 5
A19: Nhiệm vụ 6
A21: Lưu ý: - Nhóm công việc của đơn vị không tính nội dung công việc đã được quy định ở vị trí việc làm (đối với nhân viên); chế độ làm việc của giảng viên/ đã được tính chế độ, thù lao (đối với giảng viên). - Các đơn vị gửi file điện tử về phòng TC-HC-TH (Cô Trần Thị Ánh Phượng) qua hệ thống điện tử E-office nhà trường (không gửi văn bản giấy) ngày 25 hàng tháng./.
E22: Thành phố Hồ Chí Minh, ngày 20 tháng 11 năm 2023.
E23: TRƯỞNG ĐƠN VỊ

Sheet Mau 3
A1: TRƯỜNG CAO ĐẲNG LÝ TỰ TRỌNG | K1: CỘNG HÒA XÃ HỘI CHỦ NGHĨA VIỆT NAM
A2: THÀNH PHỐ HỒ CHÍ MINH | K2: Độc lập - Tự do - Hạnh phúc
A3: ĐƠN VỊ: Khoa Nhiệt-Lạnh
R4: Mẫu 3
A5: THỐNG KÊ CHI TIẾT KHỐI LƯỢNG CÔNG VIỆC THỰC HIỆN THÁNG 11/2023
A7: TT | B7: Tên nội dung công việc | D7: Công việc chung của trường | K7: Công việc chung của đơn vị | R7: Ghi chú
B8: Họ và tên | C8: Mã E-office | D8: Nhiệm vụ 1 | E8: Nhiệm vụ 2 | F8: Nhiệm vụ 3 | G8: Nhiệm vụ 4 | H8: Nhiệm vụ 5 | I8: Nhiệm vụ 6 | J8: Tổng cộng | K8: Nhiệm vụ 1 | L8: Nhiệm vụ 2 | M8: Nhiệm vụ 3 | N8: Nhiệm vụ 4 | O8: Nhiệm vụ 5 | P8: Nhiệm vụ 6 | Q8: Tổng cộng
A9: I. Viên chức
A10: 01 | B10: Đinh Đồng Hiệp | C10: 01013020 | E10: x | F10: x | J10: =COUNTIF(D10:I10,"X") -> 2 | Q10: =COUNTIF(K10:N10,"X") -> 0
A11: 02 | B11: Hoàng Văn Viết | C11: 01029001 | E11: x | J11: =COUNTIF(D11:I11,"X") -> 1 | Q11: =COUNTIF(K11:N11,"X") -> 0
A12: 03 | B12: Võ Anh Hào | C12: 01010013 | E12: x | J12: =COUNTIF(D12:I12,"X") -> 1 | Q12: =COUNTIF(K12:N12,"X") -> 0
A13: 04 | B13: Đặng Thế Huân | C13: 01013009 | E13: x | F13: x | J13: =COUNTIF(D13:I13,"X") -> 2 | Q13: =COUNTIF(K13:N13,"X") -> 0
A14: 05 | B14: Nguyễn Vũ Xuân Thì | C14: 01013008 | E14: x | J14: =COUNTIF(D14:I14,"X") -> 1 | K14: x | Q14: =COUNTIF(K14:N14,"X") -> 1
A15: 06 | B15: Đỗ Trọng Quý | C15: 01013011 | E15: x | J15: =COUNTIF(D15:I15,"X") -> 1 | Q15: =COUNTIF(K15:N15,"X") -> 0
A16: 07 | B16: Trần Đình Khoa | C16: 01013023 | E16: x | G16: x | J16: =COUNTIF(D16:I16,"X") -> 2 | Q16: =COUNTIF(K16:N16,"X") -> 0
A17: 08 | B17: Phan Văn Hòa | C17: 01013015 | E17: x | J17: =COUNTIF(D17:I17,"X") -> 1 | Q17: =COUNTIF(K17:N17,"X") -> 0
A18: 09 | B18: Nguyễn Thanh Dũng | C18: 01029016 | D18: x | J18: =COUNTIF(D18:I18,"X") -> 1 | K18: x | Q18: =COUNTIF(K18:N18,"X") -> 1
A19: II. Hợp đồng trường
A22: Lưu ý: Các đơn vị gửi file điện tử về phòng TC-HC-TH (Cô Trần Thị Ánh Phượng) qua hệ thống điện tử E-office nhà trường (không gửi văn bản giấy).
K23: TPHCM, ngày 20 tháng 11 năm 2023
K24: TRƯỞNG ĐƠN VỊ

Sheet Mau 4 
A1: TRƯỜNG CAO ĐẲNG LÝ TỰ TRỌNG | G1: CỘNG HÒA XÃ HỘI CHỦ NGHĨA VIỆT NAM
A2: THÀNH PHỐ HỒ CHÍ MINH | G2: Độc lập - Tự do - Hạnh phúc
A3: ĐƠN VỊ: Khoa Nhiệt -Lạnh
L4: Mẫu 4
A5: DANH SÁCH XẾP LOẠI THI ĐUA THÁNG 11/2023
A7: TT | B7: Họ tên | C7: Mã E-Office | D7: Tiêu chuẩn đạt mức xếp loại thi đua tối đa trong năm (Ẩn khi in) | E7: Xếp loại thi đua tháng theo quy định (Không vượt quá mức thi đua tối đa) | I7: Số ngày/giờ vượt so với ngày công kế hoạch (đối với CB-NV) | J7: Số ngày nghỉ/ tiết nghỉ (đối với GV) | K7: Đơn vị đề nghị mức xếp loại thi đua
E8: Xếp loại | F8: Lý do | G8: Số lượng công việc chung của trường | H8: Số lượng công việc chung của đơn vị | K8: Xếp loại | L8: Lý do đề nghị
A9: I. Viên chức
A10: 01 | B10: Đinh Đồng Hiệp | C10: 01013020 | E10: A3 | G10: ='Mau 3'!J10 -> 2 | H10: ='Mau 3'!Q10 -> 0
A11: 02 | B11: Hoàng Văn Viết | C11: 01029001 | E11: A3 | G11: ='Mau 3'!J11 -> 1 | H11: ='Mau 3'!Q11 -> 0
A12: 03 | B12: Võ Anh Hào | C12: 01010013 | E12: A3 | G12: ='Mau 3'!J12 -> 1 | H12: ='Mau 3'!Q12 -> 0
A13: 04 | B13: Đặng Thế Huân | C13: 01013009 | E13: A3 | G13: ='Mau 3'!J13 -> 2 | H13: ='Mau 3'!Q13 -> 0
A14: 05 | B14: Nguyễn Vũ Xuân Thì | C14: 01013008 | E14: A3 | G14: ='Mau 3'!J14 -> 1 | H14: ='Mau 3'!Q14 -> 1
A15: 06 | B15: Đỗ Trọng Quý | C15: 01013011 | E15: A4 | G15: ='Mau 3'!J15 -> 1 | H15: ='Mau 3'!Q15 -> 0
A16: 07 | B16: Trần Đình Khoa | C16: 01013023 | E16: A4 | G16: ='Mau 3'!J16 -> 2 | H16: ='Mau 3'!Q16 -> 0 | K16: A3 | L16: Hướng dẫn sinh viên 21C1 Thực tập doanh nghiệp
A17: 08 | B17: Phan Văn Hòa | C17: 01013015 | E17: A3 | G17: ='Mau 3'!J17 -> 1 | H17: ='Mau 3'!Q17 -> 0
A18: 09 | B18: Nguyễn Thanh Dũng | C18: 01029016 | E18: A3 | G18: ='Mau 3'!J18 -> 1 | H18: ='Mau 3'!Q18 -> 1 | K18: A1 | L18: Vận động tài trợ 10 triệu đồng.
A19: II. Hợp đồng trường
B23: Kết quả xếp loại | G23: Viên chức | I23: Hợp đồng trường
B24: A1 | G24: 1 | I24: =COUNTIF($E$20:$E$20,"A1") -> 0
B25: A2 | G25: 0 | I25: =COUNTIF($E$20:$E$20,"A3") -> 0
B26: A3 | G26: 7 | I26: =COUNTIF($E$20:$E$20,"A3") -> 0
B27: A4 | G27: 1 | I27: =COUNTIF($E$20:$E$20,"A4") -> 0
B28: A DN | G28: 0 | I28: =COUNTIF($E$20:$E$20,"A DN") -> 0
B29: B1 | G29: 0 | I29: =COUNTIF($E$20:$E$20,"B1") -> 0
B30: B2 | G30: 0 | I30: =COUNTIF($E$20:$E$20,"B2") -> 0
B31: C1 | G31: =COUNTIF($E$10:$E$18,"C1") -> 0 | I31: =COUNTIF($E$20:$E$20,"C1") -> 0
B32: C2 | G32: 0 | I32: =COUNTIF($E$20:$E$20,"C2") -> 0
B33: D | G33: =COUNTIF($E$10:$E$18,"D") -> 0 | I33: =COUNTIF($E$20:$E$20,"D") -> 0
B34: E | G34: =COUNTIF($E$10:$E$18,"E") -> 0 | I34: =COUNTIF($E$20:$E$20,"E") -> 0
B35: Tổng số nhân sự: | G35: =SUM(G24:G34) -> 9 | I35: =SUM(I24:I34) -> 0
A37: Lưu ý: Các đơn vị gửi file mềm qua hệ thống điện tử E-office nhà trường và văn bản giấy về phòng TC-HC-TH (Cô Trần Thị Ánh Phượng).
G38: TPHCM, ngày 20 tháng 11 năm 2023
G39: TRƯỞNG ĐƠN VỊ
