Workbook

Sheet Kangatang

Sheet Don vi
E1: Không quá 20% | G1: Không quá 30% | R1: Không quá 20% | T1: Không quá 30% | AE1: Không quá 20% | AG1: Không quá 30%
A3: TT | B3: Tên đơn vị | C3: Mã đơn vị | D3: Số lượng nhân sự | E3: Đơn vị xếp loại | R3: Nhóm TT đề nghị | AE3: Kết quả của HĐ
E4: Xếp loại A1 | G4: Xếp loại A2 | I4: Xếp loại A3 | K4: Xếp loại A4 | M4: Xếp loại B1 | N4: Xếp loại B2 | O4: Xếp loại C1 | P4: Xếp loại C2 | Q4: Xếp loại D | R4: Xếp loại A1 | T4: Xếp loại A2 | V4: Xếp loại A3 | X4: Xếp loại A4 | Z4: Xếp loại B1 | AA4: Xếp loại B2 | AB4: Xếp loại C1 | AC4: Xếp loại C2 | AD4: Xếp loại D | AE4: Xếp loại A1 | AG4: Xếp loại A2 | AI4: Xếp loại A3 | AK4: Xếp loại A4 | AM4: Xếp loại B1 | AN4: Xếp loại B2 | AO4: Xếp loại C1 | AP4: Xếp loại C2 | AQ4: Xếp loại D
E5: SL | F5: Tỷ lệ | G5: SL | H5: Tỷ lệ | I5: SL | J5: Tỷ lệ | K5: SL | L5: Tỷ lệ | M5: SL | N5: SL | O5: SL | P5: SL | Q5: SL | R5: SL | S5: Tỷ lệ | T5: SL | U5: Tỷ lệ | V5: SL | W5: Tỷ lệ | X5: SL | Y5: Tỷ lệ | Z5: SL | AA5: SL | AB5: SL | AC5: SL | AD5: SL | AE5: SL | AF5: Tỷ lệ | AG5: SL | AH5: Tỷ lệ | AI5: SL | AJ5: Tỷ lệ | AK5: SL | AL5: Tỷ lệ | AM5: SL | AN5: SL | AO5: SL | AP5: SL | AQ5: SL
A6: 1 | B6: Ban Giám hiệu | C6: BGH | D6: ='Chi tiet'!$L$7 -> 4 | E6: 4 | R6: 4 | AE6: 4
A7: 2 | B7: Phòng Kế hoạch - TC | C7: KHTC | D7: ='Chi tiet'!$L$12 -> 9 | E7: =E8+E9 -> 3 | G7: =G8+G9 -> 5 | I7: =I8+I9 -> 0 | J7: =J8+J9 -> 0 | K7: =K8+K9 -> 1 | L7: =ROUND($D7*$L$1,0) -> 0 | Y7: =ROUND($D7*$L$1,0) -> 0 | AL7: =ROUND($D7*$L$1,0) -> 0
B8: CBQL | D8: ='Chi tiet'!AL14 -> 1 | E8: =COUNTIF('Chi tiet'!$L14,"A1") -> 1 | F8: =E8/$D7 -> 0.11111111 | G8: =COUNTIF('Chi tiet'!$L14,"A2") -> 0 | H8: =G8/$D7 -> 0 | I8: =COUNTIF('Chi tiet'!$L14,"A3") -> 0 | K8: =COUNTIF('Chi tiet'!$L14,"A4") -> 0 | AE8: =COUNTIF('Chi tiet'!$L14,"A1") -> 1
B9: GV/NV | D9: ='Chi tiet'!AL15 -> 8 | E9: =COUNTIF('Chi tiet'!$L15:$L23,"A1") -> 2 | F9: =E9/$D7 -> 0.22222222 | G9: =COUNTIF('Chi tiet'!$L15:$L23,"A2") -> 5 | H9: =G9/$D7 -> 0.55555556 | I9: =COUNTIF('Chi tiet'!$L15:$L23,"A3") -> 0 | K9: =COUNTIF('Chi tiet'!$L15:$L23,"A4") -> 1 | R9: 2 | S9: =R9/$D7 -> 0.22222222 | T9: 2 | U9: =T9/$D7 -> 0.22222222 | AE9: =COUNTIF('Chi tiet'!$L15:$L23,"A1") -> 2 | AF9: =AE9/$D7 -> 0.22222222 | AG9: 2 | AH9: =AG9/$D7 -> 0.22222222
A10: 3 | B10: Phòng Tuyển sinh - ĐT | C10: TSDT | D10: ='Chi tiet'!$L$24 -> 16 | E10: =E11+E12 -> 2 | G10: =G11+G12 -> 9 | I10: =I11+I12 -> 4 | J10: =J11+J12 -> 0 | K10: =K11+K12 -> 1 | L10: =ROUND($D10*$L$1,0) -> 0 | Y10: =ROUND($D10*$L$1,0) -> 0 | AL10: =ROUND($D10*$L$1,0) -> 0
B11: CBQL | D11: ='Chi tiet'!AL27 -> 2 | E11: =COUNTIF('Chi tiet'!$L26:$L27,"A1") -> 2 | F11: =E11/$D10 -> 0.125 | G11: =COUNTIF('Chi tiet'!$L26:$L27,"A2") -> 0 | H11: =G11/$D10 -> 0 | I11: =COUNTIF('Chi tiet'!$L26:$L27,"A3") -> 0 | K11: =COUNTIF('Chi tiet'!$L26:$L27,"A4") -> 0
B12: GV/NV | D12: ='Chi tiet'!#REF! -> #REF! | E12: =COUNTIF('Chi tiet'!$L28:$L42,"A1") -> 0 | F12: =E12/$D10 -> 0 | G12: =COUNTIF('Chi tiet'!$L28:$L42,"A2") -> 9 | H12: =G12/$D10 -> 0.5625 | I12: =COUNTIF('Chi tiet'!$L28:$L42,"A3") -> 4 | K12: =COUNTIF('Chi tiet'!$L28:$L42,"A4") -> 1 | R12: 4 | S12: =R12/$D10 -> 0.25 | T12: 4 | U12: =T12/$D10 -> 0.25 | AE12: 4 | AF12: =AE12/$D10 -> 0.25 | AG12: 4 | AH12: =AG12/$D10 -> 0.25
A13: 4 | B13: Phòng Tổ chức - HC -TH | C13: TCHC | D13: ='Chi tiet'!$L$43 -> 27 | E13: =E14+E15 -> 4 | G13: =G14+G15 -> 5 | I13: =I14+I15 -> 5 | J13: =J14+J15 -> 0 | K13: =K14+K15 -> 12 | L13: =ROUND($D13*$L$1,0) -> 0 | Y13: =ROUND($D13*$L$1,0) -> 0 | AL13: =ROUND($D13*$L$1,0) -> 0
B14: CBQL | D14: ='Chi tiet'!AL46 -> 3 | E14: =COUNTIF('Chi tiet'!$L45:$L47,"A1") -> 3 | F14: =E14/$D13 -> 0.11111111 | G14: =COUNTIF('Chi tiet'!$L45:$L47,"A2") -> 0 | H14: =G14/$D13 -> 0 | I14: =COUNTIF('Chi tiet'!$L45:$L47,"A3") -> 0 | K14: =COUNTIF('Chi tiet'!$L45:$L47,"A4") -> 0
B15: GV/NV | D15: ='Chi tiet'!AL47 -> 24 | E15: =COUNTIF('Chi tiet'!$L48:$L72,"A1") -> 1 | F15: =E15/$D13 -> 0.037037037 | G15: =COUNTIF('Chi tiet'!$L48:$L72,"A2") -> 5 | H15: =G15/$D13 -> 0.18518519 | I15: =COUNTIF('Chi tiet'!$L48:$L72,"A3") -> 5 | K15: =COUNTIF('Chi tiet'!$L48:$L72,"A4") -> 12 | R15: 6 | S15: =R15/$D13 -> 0.22222222 | T15: 6 | U15: =T15/$D13 -> 0.22222222 | AE15: 6 | AF15: =AE15/$D13 -> 0.22222222 | AG15: 6 | AH15: =AG15/$D13 -> 0.22222222
A16: 5 | B16: Phòng TTGD - CTSV | C16: TTGD | D16: ='Chi tiet'!$L$73 -> 15 | E16: =E17+E18 -> 1 | G16: =G17+G18 -> 3 | I16: =I17+I18 -> 7 | J16: =J17+J18 -> 0 | K16: =K17+K18 -> 4 | L16: =ROUND($D16*$L$1,0) -> 0 | Y16: =ROUND($D16*$L$1,0) -> 0 | AL16: =ROUND($D16*$L$1,0) -> 0
B17: CBQL | D17: ='Chi tiet'!AL76 -> 2 | E17: =COUNTIF('Chi tiet'!$L75:$L76,"A1") -> 1 | F17: =E17/$D16 -> 0.066666667 | G17: =COUNTIF('Chi tiet'!$L75:$L76,"A2") -> 0 | H17: =G17/$D16 -> 0 | I17: =COUNTIF('Chi tiet'!$L75:$L76,"A3") -> 0 | K17: =COUNTIF('Chi tiet'!$L75:$L76,"A4") -> 1
B18: GV/NV | D18: ='Chi tiet'!AL77 -> 13 | E18: =COUNTIF('Chi tiet'!$L77:$L90,"A1") -> 0 | F18: =E18/$D16 -> 0 | G18: =COUNTIF('Chi tiet'!$L77:$L90,"A2") -> 3 | H18: =G18/$D16 -> 0.2 | I18: =COUNTIF('Chi tiet'!$L77:$L90,"A3") -> 7 | K18: =COUNTIF('Chi tiet'!$L77:$L90,"A4") -> 3 | R18: 4 | S18: =R18/$D16 -> 0.26666667 | T18: 4 | U18: =T18/$D16 -> 0.26666667 | AE18: 4 | AF18: =AE18/$D16 -> 0.26666667 | AG18: 4 | AH18: =AG18/$D16 -> 0.26666667
A19: 6 | B19: Phòng Khảo thí và ĐBCL | C19: ĐBCL | D19: ='Chi tiet'!$L$91 -> 7 | E19: =E20+E21 -> 0 | G19: =G20+G21 -> 2 | I19: =I20+I21 -> 3 | J19: =J20+J21 -> 0 | K19: =K20+K21 -> 2 | L19: =ROUND($D19*$L$1,0) -> 0 | Y19: =ROUND($D19*$L$1,0) -> 0 | AL19: =ROUND($D19*$L$1,0) -> 0
B20: CBQL | D20: ='Chi tiet'!AL93 -> 7 | E20: =COUNTIF('Chi tiet'!$L93:$L94,"A1") -> 0 | F20: =E20/$D19 -> 0 | G20: =COUNTIF('Chi tiet'!$L93:$L94,"A2") -> 0 | H20: =G20/$D19 -> 0 | I20: =COUNTIF('Chi tiet'!$L93:$L94,"A3") -> 0 | K20: =COUNTIF('Chi tiet'!$L93:$L94,"A4") -> 2
B21: GV/NV | D21: ='Chi tiet'!AL94 -> 2 | E21: =COUNTIF('Chi tiet'!$L95:$L100,"A1") -> 0 | F21: =E21/$D19 -> 0 | G21: =COUNTIF('Chi tiet'!$L95:$L100,"A2") -> 2 | H21: =G21/$D19 -> 0.28571429 | I21: =COUNTIF('Chi tiet'!$L95:$L100,"A3") -> 3 | K21: =COUNTIF('Chi tiet'!$L95:$L100,"A4") -> 0 | R21: 2 | S21: =R21/$D19 -> 0.28571429 | T21: 2 | U21: =T21/$D19 -> 0.28571429 | AE21: 2 | AF21: =AE21/$D19 -> 0.28571429 | AG21: 2 | AH21: =AG21/$D19 -> 0.28571429
A22: 7 | B22: Phòng QLKH và HTQT | C22: QHQT | D22: ='Chi tiet'!$L$101 -> 3 | E22: =E23+E24 -> 1 | G22: =G23+G24 -> 1 | I22: =I23+I24 -> 0 | J22: =J23+J24 -> 0 | K22: =K23+K24 -> 1 | L22: =ROUND($D22*$L$1,0) -> 0 | Y22: =ROUND($D22*$L$1,0) -> 0 | AL22: =ROUND($D22*$L$1,0) -> 0
B23: CBQL | D23: ='Chi tiet'!AL104 -> 1 | E23: =COUNTIF('Chi tiet'!$L103:$L103,"A1") -> 0 | F23: =E23/$D22 -> 0 | G23: =COUNTIF('Chi tiet'!$L103:$L103,"A2") -> 1 | I23: =COUNTIF('Chi tiet'!$L103:$L103,"A3") -> 0 | K23: =COUNTIF('Chi tiet'!$L103:$L103,"A4") -> 0
B24: GV/NV | D24: ='Chi tiet'!AL105 -> 2 | E24: =COUNTIF('Chi tiet'!$L105:$L106,"A1") -> 1 | F24: =E24/$D22 -> 0.33333333 | G24: =COUNTIF('Chi tiet'!$L105:$L106,"A2") -> 0 | H24: =G24/$D22 -> 0 | I24: =COUNTIF('Chi tiet'!$L105:$L106,"A3") -> 0 | K24: =COUNTIF('Chi tiet'!$L105:$L106,"A4") -> 1 | R24: 1 | S24: =R24/$D22 -> 0.33333333 | T24: 1 | U24: =T24/$D22 -> 0.33333333 | AE24: 1 | AF24: =AE24/$D22 -> 0.33333333 | AG24: 1 | AH24: =AG24/$D22 -> 0.33333333
A25: 8 | B25: Phòng Quản trị - DV | C25: QTDV | D25: ='Chi tiet'!$L$107 -> 27 | L25: =ROUND($D25*$L$1,0) -> 0 | Y25: =ROUND($D25*$L$1,0) -> 0 | AL25: =ROUND($D25*$L$1,0) -> 0
B26: CBQL | D26: ='Chi tiet'!AL110 -> 3 | E26: =COUNTIF('Chi tiet'!$L109:$L110,"A1") -> 2 | F26: =E26/$D25 -> 0.074074074 | G26: =COUNTIF('Chi tiet'!$L109:$L110,"A2") -> 0 | I26: =COUNTIF('Chi tiet'!$L109:$L110,"A3") -> 0 | K26: =COUNTIF('Chi tiet'!$L109:$L110,"A4") -> 0 | M26: =COUNTIF('Chi tiet'!$L109:$L110,"B1") -> 0 | N26: =COUNTIF('Chi tiet'!$L109:$L110,"B2") -> 0 | O26: =COUNTIF('Chi tiet'!$L109:$L110,"C1") -> 0 | P26: =COUNTIF('Chi tiet'!$L109:$L110,"C2") -> 0 | Q26: =COUNTIF('Chi tiet'!$L109:$L110,"D") -> 0
B27: GV/NV | D27: ='Chi tiet'!AL112 -> 0 | E27: =COUNTIF('Chi tiet'!$L112:$L136,"A1") -> 0 | F27: =E27/$D25 -> 0 | G27: =COUNTIF('Chi tiet'!$L112:$L136,"A2") -> 5 | H27: =G27/$D25 -> 0.18518519 | I27: =COUNTIF('Chi tiet'!$L112:$L136,"A3") -> 5 | K27: =COUNTIF('Chi tiet'!$L112:$L136,"A4") -> 13 | M27: =COUNTIF('Chi tiet'!$L112:$L136,"B1") -> 0 | N27: =COUNTIF('Chi tiet'!$L112:$L136,"B2") -> 0 | O27: =COUNTIF('Chi tiet'!$L112:$L136,"C1") -> 0 | P27: =COUNTIF('Chi tiet'!$L112:$L136,"C2") -> 0 | Q27: =COUNTIF('Chi tiet'!$L112:$L136,"D") -> 0 | R27: 7 | S27: =R27/$D25 -> 0.25925926 | T27: 7 | U27: =T27/$D25 -> 0.25925926 | AE27: 7 | AF27: =AE27/$D25 -> 0.25925926 | AG27: 7 | AH27: =AG27/$D25 -> 0.25925926
A28: 9 | B28: Khoa Khoa học cơ bản | C28: KHCB | D28: ='Chi tiet'!$L$137 -> 21 | L28: =ROUND($D28*$L$1,0) -> 0 | Y28: =ROUND($D28*$L$1,0) -> 0 | AL28: =ROUND($D28*$L$1,0) -> 0
B29: CBQL | D29: ='Chi tiet'!AL140 -> 2 | E29: =COUNTIF('Chi tiet'!$L139:$L140,"A1") -> 1 | F29: =E29/$D28 -> 0.047619048 | G29: =COUNTIF('Chi tiet'!$L139:$L140,"A2") -> 0 | I29: =COUNTIF('Chi tiet'!$L139:$L140,"A3") -> 0 | K29: =COUNTIF('Chi tiet'!$L139:$L140,"A4") -> 1
B30: GV/NV | D30: ='Chi tiet'!AL141 -> 19 | E30: =COUNTIF('Chi tiet'!$L141:$L174,"A1") -> 2 | F30: =E30/$D28 -> 0.095238095 | G30: =COUNTIF('Chi tiet'!$L141:$L174,"A2") -> 3 | H30: =G30/$D28 -> 0.14285714 | I30: =COUNTIF('Chi tiet'!$L141:$L174,"A3") -> 7 | K30: =COUNTIF('Chi tiet'!$L141:$L174,"A4") -> 19 | R30: 8 | S30: =R30/$D28 -> 0.38095238 | T30: 8 | U30: =T30/$D28 -> 0.38095238 | AE30: 8 | AF30: =AE30/$D28 -> 0.38095238 | AG30: 8 | AH30: =AG30/$D28 -> 0.38095238
A31: 10 | B31: Khoa Lý luận chính trị | C31: LLCT | D31: ='Chi tiet'!$L$175 -> 15 | L31: =ROUND($D31*$L$1,0) -> 0 | Y31: =ROUND($D31*$L$1,0) -> 0 | AL31: =ROUND($D31*$L$1,0) -> 0
B32: CBQL | D32: ='Chi tiet'!AL178 -> 2
B33: GV/NV | D33: ='Chi tiet'!AL179 -> 13 | R33: 4 | S33: =R33/$D31 -> 0.26666667 | T33: 4 | U33: =T33/$D31 -> 0.26666667 | AE33: 4 | AF33: =AE33/$D31 -> 0.26666667 | AG33: 4 | AH33: =AG33/$D31 -> 0.26666667
A34: 11 | B34: Khoa Cơ khí | C34: CK | D34: ='Chi tiet'!$L$192 -> 28 | L34: =ROUND($D34*$L$1,0) -> 0 | Y34: =ROUND($D34*$L$1,0) -> 0 | AL34: =ROUND($D34*$L$1,0) -> 0
B35: CBQL | D35: ='Chi tiet'!AL195 -> 2
B36: GV/NV | D36: ='Chi tiet'!AL196 -> 26 | R36: 7 | S36: =R36/$D34 -> 0.25 | T36: 7 | U36: =T36/$D34 -> 0.25 | AE36: 7 | AF36: =AE36/$D34 -> 0.25 | AG36: 7 | AH36: =AG36/$D34 -> 0.25
A37: 12 | B37: Khoa Công nghệ thông tin | C37: CNTT | D37: ='Chi tiet'!$L$222 -> 21 | L37: =ROUND($D37*$L$1,0) -> 0 | Y37: =ROUND($D37*$L$1,0) -> 0 | AL37: =ROUND($D37*$L$1,0) -> 0
B38: CBQL | D38: ='Chi tiet'!AL225 -> 2
B39: GV/NV | D39: ='Chi tiet'!AL226 -> 19 | R39: 5 | S39: =R39/$D37 -> 0.23809524 | T39: 5 | U39: =T39/$D37 -> 0.23809524 | AE39: 5 | AF39: =AE39/$D37 -> 0.23809524 | AG39: 5 | AH39: =AG39/$D37 -> 0.23809524
A40: 13 | B40: Khoa Động lực | C40: DL | D40: ='Chi tiet'!$L$245 -> 27 | L40: =ROUND($D40*$L$1,0) -> 0 | Y40: =ROUND($D40*$L$1,0) -> 0 | AL40: =ROUND($D40*$L$1,0) -> 0
B41: CBQL | D41: ='Chi tiet'!AL248 -> 2
...

Sheet Thong ke
D1: 0.2 | E1: 0.3 | G1: =8*20/100 -> 1.6
A3: TT | B3: Tên đơn vị | C3: Số lượng nhân sự | D3: Xếp loại A1 (tỷ lệ 20%) | E3: Xếp loại A2 (tỷ lệ 30%) | F3: Đơn vị đề nghị xếp loại thi đua | J3: Kết luận của HĐ | N3: Tổng tỷ lệ
F4: A1 | G4: Tỷ lệ | H4: A2 | I4: Tỷ lệ | J4: A1 | K4: Tỷ lệ | L4: A2 | M4: Tỷ lệ
A5: 1 | B5: Ban Giám hiệu | C5: ='Chi tiet'!$L$7 -> 4
A6: 2 | B6: Phòng Kế hoạch - TC | C6: ='Chi tiet'!$L$12 -> 9 | D6: =ROUND(($C6-1)*$D$1,1) -> 1.6 | E6: =ROUND(($C6-1)*$E$1,1) -> 2.4 | F6: ='Chi tiet'!$E$13 -> 2 | G6: ='Chi tiet'!$E$14 -> 0.25 | H6: ='Chi tiet'!$F$13 -> 5 | I6: ='Chi tiet'!$F$14 -> 0.625 | J6: ='Chi tiet'!$S$13 -> 6 | K6: ='Chi tiet'!$S$14 -> 0.75 | L6: ='Chi tiet'!$T$13 -> 1 | M6: ='Chi tiet'!$T$14 -> 0.125 | N6: =G6+I6 -> 0.875 | O6: =IF($N6<=#REF!,TRUE,FALSE) -> #REF!
A7: 3 | B7: Phòng Tuyển sinh - ĐT | C7: ='Chi tiet'!$L$24 -> 16 | D7: =ROUND(($C7-3)*$D$1,1) -> 2.6 | E7: =ROUND(($C7-3)*$E$1,1) -> 3.9 | F7: ='Chi tiet'!$E$26 -> 0 | G7: ='Chi tiet'!$E$27 -> 0 | H7: ='Chi tiet'!$F$26 -> 9 | I7: ='Chi tiet'!$F$27 -> 0.64285714 | J7: ='Chi tiet'!$S$26 -> 4 | K7: ='Chi tiet'!$S$27 -> 0.28571429 | L7: ='Chi tiet'!$T$26 -> 5 | M7: ='Chi tiet'!$T$27 -> 0.35714286 | N7: =G7+I7 -> 0.64285714 | O7: =IF($N7<=#REF!,TRUE,FALSE) -> #REF!
A8: 4 | B8: Phòng Tổ chức - HC -TH | C8: ='Chi tiet'!$L$43 -> 27 | D8: =ROUND(($C8-3)*$D$1,1) -> 4.8 | E8: =ROUND(($C8-3)*$E$1,1) -> 7.2 | F8: ='Chi tiet'!$E$44 -> 1 | G8: ='Chi tiet'!$E$45 -> 0.041666667 | H8: ='Chi tiet'!$F$44 -> 5 | I8: ='Chi tiet'!$F$45 -> 0.20833333 | J8: ='Chi tiet'!$S$44 -> 2 | K8: ='Chi tiet'!$S$45 -> 0.083333333 | L8: ='Chi tiet'!$T$44 -> 8 | M8: ='Chi tiet'!$T$45 -> 0.33333333 | N8: =G8+I8 -> 0.25 | O8: =IF($N8<=#REF!,TRUE,FALSE) -> #REF!
A9: 5 | B9: Phòng TTGD - CTSV | C9: ='Chi tiet'!$L$73 -> 15 | D9: =ROUND(($C9-2)*$D$1,1) -> 2.6 | E9: =ROUND(($C9-2)*$E$1,1) -> 3.9 | F9: ='Chi tiet'!$E$75 -> 0 | G9: ='Chi tiet'!$E$76 -> 0 | H9: ='Chi tiet'!$F$75 -> 3 | I9: ='Chi tiet'!$F$76 -> 0.23076923 | J9: ='Chi tiet'!$S$75 -> 0 | K9: ='Chi tiet'!$S$76 -> 0 | L9: ='Chi tiet'!$T$75 -> 3 | M9: ='Chi tiet'!$T$76 -> 0.23076923 | N9: =G9+I9 -> 0.23076923 | O9: =IF($N9<=#REF!,TRUE,FALSE) -> #REF!
A10: 6 | B10: Phòng Khảo thí và ĐBCL | C10: ='Chi tiet'!$L$91 -> 7 | D10: =ROUND(($C10-3)*$D$1,1) -> 0.8 | E10: =ROUND(($C10-3)*$E$1,1) -> 1.2 | F10: ='Chi tiet'!$E$93 -> 0 | G10: ='Chi tiet'!$E$94 -> 0 | H10: ='Chi tiet'!$F$93 -> 2 | I10: ='Chi tiet'!$F$94 -> 0.4 | J10: ='Chi tiet'!$S$93 -> 1 | K10: ='Chi tiet'!$S$94 -> 0.2 | L10: ='Chi tiet'!$T$93 -> 1 | M10: ='Chi tiet'!$T$94 -> 0.2 | N10: =G10+I10 -> 0.4 | O10: =IF($N10<=#REF!,TRUE,FALSE) -> #REF!
A11: 7 | B11: Phòng QLKH và HTQT | C11: ='Chi tiet'!$L$101 -> 3 | D11: =ROUND(($C11-1)*$D$1,1) -> 0.4 | E11: =ROUND(($C11-1)*$E$1,1) -> 0.6 | F11: ='Chi tiet'!$E$102 -> 1 | G11: ='Chi tiet'!$E$103 -> 0.5 | H11: ='Chi tiet'!$F$102 -> 0 | I11: ='Chi tiet'!$F$103 -> 0 | J11: ='Chi tiet'!$S$102 -> 2 | K11: ='Chi tiet'!$S$103 -> 1 | L11: ='Chi tiet'!$T$102 -> 0 | M11: ='Chi tiet'!$T$103 -> 0 | N11: =G11+I11 -> 0.5 | O11: =IF($N11<=#REF!,TRUE,FALSE) -> #REF!
A12: 8 | B12: Phòng Quản trị - DV | C12: ='Chi tiet'!$L$107 -> 27 | D12: =ROUND(($C12-2)*$D$1,1) -> 5 | E12: =ROUND(($C12-2)*$E$1,1) -> 7.5 | F12: ='Chi tiet'!$E$109 -> 0 | G12: ='Chi tiet'!$E$110 -> 0 | H12: ='Chi tiet'!$F$109 -> 5 | I12: ='Chi tiet'!$F$110 -> 0.20833333 | J12: ='Chi tiet'!$S$109 -> 5 | K12: ='Chi tiet'!$S$110 -> 0.20833333 | L12: ='Chi tiet'!$T$109 -> 3 | M12: ='Chi tiet'!$T$110 -> 0.125 | N12: =G12+I12 -> 0.20833333 | O12: =IF($N12<=#REF!,TRUE,FALSE) -> #REF!
A13: 9 | B13: Khoa Khoa học cơ bản | C13: ='Chi tiet'!$L$137 -> 21 | D13: =ROUND(($C13-2)*$D$1,1) -> 3.8 | E13: =ROUND(($C13-2)*$E$1,1) -> 5.7 | F13: ='Chi tiet'!$E$140 -> 2 | G13: ='Chi tiet'!$E$141 -> 0.10526316 | H13: ='Chi tiet'!$F$140 -> 3 | I13: ='Chi tiet'!$F$141 -> 0.15789474 | J13: ='Chi tiet'!$S$140 -> 3 | K13: ='Chi tiet'!$S$141 -> 0.15789474 | L13: ='Chi tiet'!$T$140 -> 6 | M13: ='Chi tiet'!$T$141 -> 0.31578947 | N13: =G13+I13 -> 0.26315789 | O13: =IF($N13<=#REF!,TRUE,FALSE) -> #REF!
A14: 10 | B14: Khoa Ngoại ngữ | C14: ='Chi tiet'!$G$160 -> 13 | D14: =ROUND(($C14-1)*$D$1,1) -> 2.4 | E14: =ROUND(($C14-1)*$E$1,1) -> 3.6 | F14: ='Chi tiet'!$E$161 -> 0 | G14: ='Chi tiet'!$E$162 -> 0 | H14: ='Chi tiet'!$F$161 -> 0 | I14: ='Chi tiet'!$F$162 -> 0 | J14: ='Chi tiet'!$S$161 -> 0 | K14: ='Chi tiet'!$S$162 -> 0 | L14: ='Chi tiet'!$T$161 -> 2 | M14: ='Chi tiet'!$T$162 -> 0.16666667 | N14: =G14+I14 -> 0 | O14: =IF($N14<=#REF!,TRUE,FALSE) -> #REF!
A15: 11 | B15: Khoa Lý luận chính trị | C15: ='Chi tiet'!$L$175 -> 15 | D15: =ROUND(($C15-2)*$D$1,1) -> 2.6 | E15: =ROUND(($C15-2)*$E$1,1) -> 3.9 | F15: ='Chi tiet'!$E$177 -> 1 | G15: ='Chi tiet'!$E$178 -> 0.076923077 | H15: ='Chi tiet'!$F$177 -> 0 | I15: ='Chi tiet'!$F$178 -> 0 | J15: ='Chi tiet'!$S$177 -> 1 | K15: ='Chi tiet'!$S$178 -> 0.076923077 | L15: ='Chi tiet'!$T$177 -> 0 | M15: ='Chi tiet'!$T$178 -> 0 | N15: =G15+I15 -> 0.076923077 | O15: =IF($N15<=#REF!,TRUE,FALSE) -> #REF!
A16: 12 | B16: Khoa Cơ khí | C16: ='Chi tiet'!$L$192 -> 28 | D16: =ROUND(($C16-2)*$D$1,1) -> 5.2 | E16: =ROUND(($C16-2)*$E$1,1) -> 7.8 | F16: ='Chi tiet'!$E$194 -> 2 | G16: ='Chi tiet'!$E$195 -> 0.076923077 | H16: ='Chi tiet'!$F$194 -> 4 | I16: ='Chi tiet'!$F$195 -> 0.15384615 | J16: ='Chi tiet'!$S$194 -> 2 | K16: ='Chi tiet'!$S$195 -> 0.076923077 | L16: ='Chi tiet'!$T$194 -> 4 | M16: ='Chi tiet'!$T$195 -> 0.15384615 | N16: =G16+I16 -> 0.23076923 | O16: =IF($N16<=#REF!,TRUE,FALSE) -> #REF!
A17: 13 | B17: Khoa Công nghệ thông tin | C17: ='Chi tiet'!$L$222 -> 21 | D17: =ROUND(($C17-2)*$D$1,1) -> 3.8 | E17: =ROUND(($C17-2)*$E$1,1) -> 5.7 | F17: ='Chi tiet'!$E$224 -> 0 | G17: ='Chi tiet'!$E$225 -> 0 | H17: ='Chi tiet'!$F$224 -> 0 | I17: ='Chi tiet'!$F$225 -> 0 | J17: ='Chi tiet'!$S$224 -> 0 | K17: ='Chi tiet'!$S$225 -> 0 | L17: ='Chi tiet'!$T$224 -> 1 | M17: ='Chi tiet'!$T$225 -> 0.052631579 | N17: =G17+I17 -> 0 | O17: =IF($N17<=#REF!,TRUE,FALSE) -> #REF!
A18: 14 | B18: Khoa Động lực | C18: ='Chi tiet'!$L$245 -> 27 | D18: =ROUND(($C18-2)*$D$1,1) -> 5 | E18: =ROUND(($C18-2)*$E$1,1) -> 7.5 | F18: ='Chi tiet'!$E$248 -> 1 | G18: ='Chi tiet'!$E$249 -> 0.04 | H18: ='Chi tiet'!$F$248 -> 0 | I18: ='Chi tiet'!$F$249 -> 0 | J18: ='Chi tiet'!$S$248 -> 1 | K18: ='Chi tiet'!$S$249 -> 0.04 | L18: ='Chi tiet'!$T$248 -> 0 | M18: ='Chi tiet'!$T$249 -> 0 | N18: =G18+I18 -> 0.04 | O18: =IF($N18<=#REF!,TRUE,FALSE) -> #REF!
A19: 15 | B19: Khoa Điện - Điện tử | C19: ='Chi tiet'!$L$275 -> 30 | D19: =ROUND(($C19-3)*$D$1,1) -> 5.4 | E19: =ROUND(($C19-3)*$E$1,1) -> 8.1 | F19: ='Chi tiet'!$E$277 -> 5 | G19: ='Chi tiet'!$E$278 -> 0.18518519 | H19: ='Chi tiet'!$F$277 -> 2 | I19: ='Chi tiet'!$F$278 -> 0.074074074 | J19: ='Chi tiet'!$S$277 -> 5 | K19: ='Chi tiet'!$S$278 -> 0.18518519 | L19: ='Chi tiet'!$T$277 -> 2 | M19: ='Chi tiet'!$T$278 -> 0.074074074 | N19: =G19+I19 -> 0.25925926 | O19: =IF($N19<=#REF!,TRUE,FALSE) -> #REF!
A20: 16 | B20: Khoa May - Thời trang | C20: ='Chi tiet'!$L$307 -> 9 | D20: =ROUND(($C20-1)*$D$1,1) -> 1.6 | E20: =ROUND(($C20-1)*$E$1,1) -> 2.4 | F20: ='Chi tiet'!$E$309 -> 0 | G20: ='Chi tiet'!$E$310 -> 0 | H20: ='Chi tiet'!$F$309 -> 0 | I20: ='Chi tiet'!$F$310 -> 0 | J20: ='Chi tiet'!$S$309 -> 0 | K20: ='Chi tiet'!$S$310 -> 0 | L20: ='Chi tiet'!$T$309 -> 0 | M20: ='Chi tiet'!$T$310 -> 0 | N20: =G20+I20 -> 0 | O20: =IF($N20<=#REF!,TRUE,FALSE) -> #REF!
A21: 17 | B21: Khoa Nhiệt - Lạnh | C21: ='Chi tiet'!$L$318 -> 9 | D21: =ROUND(($C21-2)*$D$1,1) -> 1.4 | E21: =ROUND(($C21-2)*$E$1,1) -> 2.1 | F21: ='Chi tiet'!$E$320 -> 0 | G21: ='Chi tiet'!$E$321 -> 0 | H21: ='Chi tiet'!$F$320 -> 0 | I21: ='Chi tiet'!$F$321 -> 0 | J21: ='Chi tiet'!$S$320 -> 0 | K21: ='Chi tiet'!$S$321 -> 0 | L21: ='Chi tiet'!$T$320 -> 0 | M21: ='Chi tiet'!$T$321 -> 0 | N21: =G21+I21 -> 0 | O21: =IF($N21<=#REF!,TRUE,FALSE) -> #REF!
A22: 18 | B22: Khoa Kinh tế | C22: ='Chi tiet'!$L$329 -> 18 | D22: =ROUND(($C22-2)*$D$1,1) -> 3.2 | E22: =ROUND(($C22-2)*$E$1,1) -> 4.8 | F22: ='Chi tiet'!$E$332 -> 0 | G22: ='Chi tiet'!$E$333 -> 0 | H22: ='Chi tiet'!$F$332 -> 4 | I22: ='Chi tiet'!$F$333 -> 0.25 | J22: ='Chi tiet'!$S$332 -> 1 | K22: ='Chi tiet'!$S$333 -> 0.0625 | L22: ='Chi tiet'!$T$332 -> 1 | M22: ='Chi tiet'!$T$333 -> 0.0625 | N22: =G22+I22 -> 0.25 | O22: =IF($N22<=#REF!,TRUE,FALSE) -> #REF!
A23: 19 | B23: Khoa Xây dựng | C23: ='Chi tiet'!$L$349 -> 3 | D23: =ROUND(($C23-1)*$D$1,1) -> 0.4 | E23: =ROUND(($C23-1)*$E$1,1) -> 0.6 | F23: ='Chi tiet'!$E$351 -> 0 | G23: ='Chi tiet'!$E$352 -> 0 | H23: ='Chi tiet'!$F$351 -> 0 | I23: ='Chi tiet'!$F$352 -> 0 | J23: ='Chi tiet'!$S$351 -> 0 | K23: ='Chi tiet'!$S$352 -> 0 | L23: ='Chi tiet'!$T$351 -> 0 | M23: ='Chi tiet'!$T$352 -> 0 | N23: =G23+I23 -> 0 | O23: =IF($N23<=#REF!,TRUE,FALSE) -> #REF!
A24: 20 | B24: Trung tâm Thư viện | C24: ='Chi tiet'!$L$354 -> 7 | D24: =ROUND(($C24-1)*$D$1,1) -> 1.2 | E24: =ROUND(($C24-1)*$E$1,1) -> 1.8 | F24: ='Chi tiet'!$E$356 -> 0 | G24: ='Chi tiet'!$E$357 -> 0 | H24: ='Chi tiet'!$F$356 -> 0 | I24: ='Chi tiet'!$F$357 -> 0 | J24: ='Chi tiet'!$S$356 -> 0 | K24: ='Chi tiet'!$S$357 -> 0 | L24: ='Chi tiet'!$T$356 -> 0 | M24: ='Chi tiet'!$T$357 -> 0 | N24: =G24+I24 -> 0 | O24: =IF($N24<=#REF!,TRUE,FALSE) -> #REF!
A25: 21 | B25: Trung tâm Đào tạo LTT | C25: ='Chi tiet'!$L$364 -> 10 | D25: =ROUND(($C25-1)*$D$1,1) -> 1.8 | E25: =ROUND(($C25-1)*$E$1,1) -> 2.7 | F25: ='Chi tiet'!$E$368 -> 0 | G25: ='Chi tiet'!$E$372 -> 0 | H25: ='Chi tiet'!$F$368 -> 0.25 | I25: ='Chi tiet'!$F$372 -> 0 | J25: ='Chi tiet'!$S$368 -> 0.25 | K25: ='Chi tiet'!$S$372 -> 0 | L25: ='Chi tiet'!$T$368 -> 0.375 | M25: ='Chi tiet'!$T$372 -> 0 | N25: =G25+I25 -> 0 | O25: =IF($N25<=#REF!,TRUE,FALSE) -> #REF!
A26: 22 | B26: Trung tâm Y tế | C26: ='Chi tiet'!$L$377 -> 3 | D26: =ROUND(($C26-1)*$D$1,1) -> 0.4 | E26: =ROUND(($C26-1)*$E$1,1) -> 0.6 | F26: ='Chi tiet'!$E$379 -> 0 | G26: ='Chi tiet'!$E$380 -> 0 | H26: ='Chi tiet'!$F$379 -> 2 | I26: ='Chi tiet'!$F$380 -> 1 | J26: ='Chi tiet'!$S$379 -> 0 | K26: ='Chi tiet'!$S$380 -> 0 | L26: ='Chi tiet'!$T$379 -> 2 | M26: ='Chi tiet'!$T$380 -> 1 | N26: =G26+I26 -> 1 | O26: =IF($N26<=#REF!,TRUE,FALSE) -> #REF!
A27: 23 | B27: Trung tâm QHDN | C27: ='Chi tiet'!$L$383 -> 2 | D27: =ROUND(($C27-1)*$D$1,1) -> 0.2 | E27: =ROUND(($C27-1)*$E$1,1) -> 0.3 | F27: ='Chi tiet'!$E$385 -> 0 | G27: ='Chi tiet'!$E$386 -> 0 | H27: ='Chi tiet'!$F$385 -> 0 | I27: ='Chi tiet'!$F$386 -> 0 | J27: ='Chi tiet'!$S$385 -> 0 | K27: ='Chi tiet'!$S$386 -> 0 | L27: ='Chi tiet'!$T$385 -> 0 | M27: ='Chi tiet'!$T$386 -> 0 | N27: =G27+I27 -> 0 | O27: =IF($N27<=#REF!,TRUE,FALSE) -> #REF!
A28: 24 | B28: Trung tâm ĐH và QLDL | C28: ='Chi tiet'!$L$387 -> 7 | D28: =ROUND(($C28-1)*$D$1,1) -> 1.2 | E28: =ROUND(($C28-1)*$E$1,1) -> 1.8 | F28: ='Chi tiet'!$E$391 -> 0 | G28: ='Chi tiet'!$E$392 -> 0 | H28: ='Chi tiet'!$F$391 -> 0.4 | I28: ='Chi tiet'!$F$392 -> 0 | J28: ='Chi tiet'!$S$391 -> 0.2 | K28: ='Chi tiet'!$S$392 -> 0 | L28: ='Chi tiet'!$T$391 -> 0.2 | M28: ='Chi tiet'!$T$392 -> 0 | N28: =G28+I28 -> 0 | O28: =IF($N28<=#REF!,TRUE,FALSE) -> #REF!
B29: Tổng nhân sự toàn trường | C29: =SUM(C5:C28) -> 331

Sheet CBQL
A1: TRÍCH DANH SÁCH VIÊN CHỨC QUẢN LÝ XẾP LOẠI THI ĐUA THÁNG 7/2023
A3: TT | B3: Tên đơn vị | C3: Mã E-office | D3: Mức xếp loại tối đa trong năm | E3: Đơn vị đề nghị xếp loại thi đua | F3: Nhóm TT đề nghị | G3: Kết luận của HĐ | H3: Ghi chú
A4: I | B4: Ban Giám hiệu
A5: 1 | B5: Phạm Hữu Lộc | C5: 01001001 | G5: =VLOOKUP($C5,'Chi tiet'!$D$8:$AC$396,18,0) -> A1
A6: =A5+1 -> 2 | B6: Đinh Hồng Minh | C6: 01002001 | G6: =VLOOKUP($C6,'Chi tiet'!$D$8:$AC$396,18,0) -> A1
A7: =A6+1 -> 3 | B7: Đinh Văn Đệ | C7: 01001006 | G7: =VLOOKUP($C7,'Chi tiet'!$D$8:$AC$396,18,0) -> A1
A8: =A7+1 -> 4 | B8: Châu Văn Bảo | C8: 01014037 | G8: =VLOOKUP($C8,'Chi tiet'!$D$8:$AC$396,18,0) -> A1
A9: II | B9: Phòng Kế hoạch - TC
A10: =A8+1 -> 5 | B10: Nguyễn Kính | C10: 01002024 | D10: =VLOOKUP($C10,'Chi tiet'!$D$8:$AC$396,4,0) -> A1 | E10: =VLOOKUP($C10,'Chi tiet'!$D$8:$AC$396,9,0) -> A1 | F10: =VLOOKUP($C10,'Chi tiet'!$D$8:$AC$396,14,0) -> A1 | G10: =VLOOKUP($C10,'Chi tiet'!$D$8:$AC$396,18,0) -> A1
A11: III | B11: Phòng Tuyển sinh - ĐT
A12: =A10+1 -> 6 | B12: Nguyễn Thành Nam | C12: 01005007 | D12: =VLOOKUP($C12,'Chi tiet'!$D$8:$AC$396,4,0) -> A1 | E12: =VLOOKUP($C12,'Chi tiet'!$D$8:$AC$396,9,0) -> A1 | F12: =VLOOKUP($C12,'Chi tiet'!$D$8:$AC$396,14,0) -> A2 | G12: =VLOOKUP($C12,'Chi tiet'!$D$8:$AC$396,18,0) -> A2
A13: =A12+1 -> 7 | B13: Quách Minh Thử | C13: 01014007 | D13: =VLOOKUP($C13,'Chi tiet'!$D$8:$AC$396,4,0) -> A1 | E13: =VLOOKUP($C13,'Chi tiet'!$D$8:$AC$396,9,0) -> A1 | F13: =VLOOKUP($C13,'Chi tiet'!$D$8:$AC$396,14,0) -> A2 | G13: =VLOOKUP($C13,'Chi tiet'!$D$8:$AC$396,18,0) -> A2
A14: =A13+1 -> 8 | B14: Huỳnh Thị Mai | C14: 01004004 | D14: =VLOOKUP($C14,'Chi tiet'!$D$8:$AC$396,4,0) -> #N/A | E14: =VLOOKUP($C14,'Chi tiet'!$D$8:$AC$396,9,0) -> #N/A | F14: =VLOOKUP($C14,'Chi tiet'!$D$8:$AC$396,14,0) -> #N/A | G14: =VLOOKUP($C14,'Chi tiet'!$D$8:$AC$396,18,0) -> #N/A
A15: IV | B15: Phòng Tổ chức - HC -TH
A16: =A14+1 -> 9 | B16: Lâm Viết Dũng | C16: 01007009 | D16: =VLOOKUP($C16,'Chi tiet'!$D$8:$AC$396,4,0) -> A1 | E16: =VLOOKUP($C16,'Chi tiet'!$D$8:$AC$396,9,0) -> A1 | F16: =VLOOKUP($C16,'Chi tiet'!$D$8:$AC$396,14,0) -> A1 | G16: =VLOOKUP($C16,'Chi tiet'!$D$8:$AC$396,18,0) -> A1
A17: =A16+1 -> 10 | B17: Lưu Hoàng Hải Yến | C17: 01002019 | D17: =VLOOKUP($C17,'Chi tiet'!$D$8:$AC$396,4,0) -> A1 | E17: =VLOOKUP($C17,'Chi tiet'!$D$8:$AC$396,9,0) -> A1 | F17: =VLOOKUP($C17,'Chi tiet'!$D$8:$AC$396,14,0) -> A1 | G17: =VLOOKUP($C17,'Chi tiet'!$D$8:$AC$396,18,0) -> A1
A18: =A17+1 -> 11 | B18: Huỳnh Thị Minh Ly | C18: 01004007 | D18: =VLOOKUP($C18,'Chi tiet'!$D$8:$AC$396,4,0) -> A1 | E18: =VLOOKUP($C18,'Chi tiet'!$D$8:$AC$396,9,0) -> A1 | F18: =VLOOKUP($C18,'Chi tiet'!$D$8:$AC$396,14,0) -> A1 | G18: =VLOOKUP($C18,'Chi tiet'!$D$8:$AC$396,18,0) -> A1
A19: V | B19: Phòng TTGD - CTSV
A20: =A18+1 -> 12 | B20: Lê Xuân Thiện | C20: 01002002 | D20: =VLOOKUP($C20,'Chi tiet'!$D$8:$AC$396,4,0) -> A2 | E20: =VLOOKUP($C20,'Chi tiet'!$D$8:$AC$396,9,0) -> A4 | F20: =VLOOKUP($C20,'Chi tiet'!$D$8:$AC$396,14,0) -> A3 | G20: =VLOOKUP($C20,'Chi tiet'!$D$8:$AC$396,18,0) -> A3
A21: =A20+1 -> 13 | B21: Nguyễn Ngọc Hiệp | C21: 01009006 | D21: =VLOOKUP($C21,'Chi tiet'!$D$8:$AC$396,4,0) -> A2 | E21: =VLOOKUP($C21,'Chi tiet'!$D$8:$AC$396,9,0) -> A1 | F21: =VLOOKUP($C21,'Chi tiet'!$D$8:$AC$396,14,0) -> A1 | G21: =VLOOKUP($C21,'Chi tiet'!$D$8:$AC$396,18,0) -> A1
A22: VI | B22: Phòng Khảo thí và ĐBCL
A23: =A21+1 -> 14 | B23: Nguyễn Chí Nhân | C23: 01009009 | D23: =VLOOKUP($C23,'Chi tiet'!$D$8:$AC$396,4,0) -> A2 | E23: =VLOOKUP($C23,'Chi tiet'!$D$8:$AC$396,9,0) -> A4 | F23: =VLOOKUP($C23,'Chi tiet'!$D$8:$AC$396,14,0) -> A3 | G23: =VLOOKUP($C23,'Chi tiet'!$D$8:$AC$396,18,0) -> A3
A24: =A23+1 -> 15 | B24: Nguyễn Thị Kim Dung | C24: 01003002 | D24: =VLOOKUP($C24,'Chi tiet'!$D$8:$AC$396,4,0) -> A2 | E24: =VLOOKUP($C24,'Chi tiet'!$D$8:$AC$396,9,0) -> A4 | F24: =VLOOKUP($C24,'Chi tiet'!$D$8:$AC$396,14,0) -> A3 | G24: =VLOOKUP($C24,'Chi tiet'!$D$8:$AC$396,18,0) -> A3
A25: VII | B25: Phòng QLKH và HTQT
A26: =A24+1 -> 16 | B26: Nguyễn Trọng Nghĩa | C26: 01025001 | D26: =VLOOKUP($C26,'Chi tiet'!$D$8:$AC$396,4,0) -> A2 | E26: =VLOOKUP($C26,'Chi tiet'!$D$8:$AC$396,9,0) -> A2 | F26: =VLOOKUP($C26,'Chi tiet'!$D$8:$AC$396,14,0) -> A1 | G26: =VLOOKUP($C26,'Chi tiet'!$D$8:$AC$396,18,0) -> A1
A27: VIII | B27: Phòng Quản trị - DV
A28: =A26+1 -> 17 | B28: Lê Quang Liêm | C28: 01008028 | D28: =VLOOKUP($C28,'Chi tiet'!$D$8:$AC$396,4,0) -> A1 | E28: =VLOOKUP($C28,'Chi tiet'!$D$8:$AC$396,9,0) -> A1 | F28: =VLOOKUP($C28,'Chi tiet'!$D$8:$AC$396,14,0) -> A1 | G28: =VLOOKUP($C28,'Chi tiet'!$D$8:$AC$396,18,0) -> A1
A29: =A28+1 -> 18 | B29: Nguyễn Văn Thành | C29: 01008002 | D29: =VLOOKUP($C29,'Chi tiet'!$D$8:$AC$396,4,0) -> A1 | E29: =VLOOKUP($C29,'Chi tiet'!$D$8:$AC$396,9,0) -> A1 | F29: =VLOOKUP($C29,'Chi tiet'!$D$8:$AC$396,14,0) -> A2 | G29: =VLOOKUP($C29,'Chi tiet'!$D$8:$AC$396,18,0) -> A2
A30: IX | B30: Khoa Khoa học cơ bản
A31: =A29+1 -> 19 | B31: Nguyễn Thị Nhuận | C31: 01022003 | D31: =VLOOKUP($C31,'Chi tiet'!$D$8:$AC$396,4,0) -> A2 | E31: =VLOOKUP($C31,'Chi tiet'!$D$8:$AC$396,9,0) -> A4 | F31: =VLOOKUP($C31,'Chi tiet'!$D$8:$AC$396,14,0) -> A4 | G31: =VLOOKUP($C31,'Chi tiet'!$D$8:$AC$396,18,0) -> A4
A32: =A31+1 -> 20 | B32: Phạm Thị Thu Nga | C32: 01010007 | D32: =VLOOKUP($C32,'Chi tiet'!$D$8:$AC$396,4,0) -> A2 | E32: =VLOOKUP($C32,'Chi tiet'!$D$8:$AC$396,9,0) -> A1 | F32: =VLOOKUP($C32,'Chi tiet'!$D$8:$AC$396,14,0) -> A1 | G32: =VLOOKUP($C32,'Chi tiet'!$D$8:$AC$396,18,0) -> A1
A33: X | B33: Khoa Ngoại ngữ
A34: =A32+1 -> 21 | B34: Nguyễn Thị Thu Hà | C34: 01010039 | D34: =VLOOKUP($C34,'Chi tiet'!$D$8:$AC$396,4,0) -> A2 | E34: =VLOOKUP($C34,'Chi tiet'!$D$8:$AC$396,9,0) -> A3 | F34: =VLOOKUP($C34,'Chi tiet'!$D$8:$AC$396,14,0) -> A1 | G34: =VLOOKUP($C34,'Chi tiet'!$D$8:$AC$396,18,0) -> A1
A35: XI | B35: Khoa Lý luận chính trị
A36: =A34+1 -> 22 | B36: Lê Thị Hồng Vân | C36: 01011002 | D36: =VLOOKUP($C36,'Chi tiet'!$D$8:$AC$396,4,0) -> A1 | E36: =VLOOKUP($C36,'Chi tiet'!$D$8:$AC$396,9,0) -> A1 | F36: =VLOOKUP($C36,'Chi tiet'!$D$8:$AC$396,14,0) -> A1 | G36: =VLOOKUP($C36,'Chi tiet'!$D$8:$AC$396,18,0) -> A1
A37: =A36+1 -> 23 | B37: Nguyễn Ngọc Quỳnh | C37: 01011012 | D37: =VLOOKUP($C37,'Chi tiet'!$D$8:$AC$396,4,0) -> A2 | E37: =VLOOKUP($C37,'Chi tiet'!$D$8:$AC$396,9,0) -> A4 | F37: =VLOOKUP($C37,'Chi tiet'!$D$8:$AC$396,14,0) -> A4 | G37: =VLOOKUP($C37,'Chi tiet'!$D$8:$AC$396,18,0) -> A4
A38: XII | B38: Khoa Cơ khí
A39: =A37+1 -> 24 | B39: Chung Trần Thế Vinh | C39: 01012003 | D39: =VLOOKUP($C39,'Chi tiet'!$D$8:$AC$396,4,0) -> A2 | E39: =VLOOKUP($C39,'Chi tiet'!$D$8:$AC$396,9,0) -> A1 | F39: =VLOOKUP($C39,'Chi tiet'!$D$8:$AC$396,14,0) -> A1 | G39: =VLOOKUP($C39,'Chi tiet'!$D$8:$AC$396,18,0) -> A1
A40: =A39+1 -> 25 | B40: Trần Đình Khải | C40: 01012008 | D40: =VLOOKUP($C40,'Chi tiet'!$D$8:$AC$396,4,0) -> A2 | E40: =VLOOKUP($C40,'Chi tiet'!$D$8:$AC$396,9,0) -> A3 | F40: =VLOOKUP($C40,'Chi tiet'!$D$8:$AC$396,14,0) -> A4 | G40: =VLOOKUP($C40,'Chi tiet'!$D$8:$AC$396,18,0) -> A4
A41: XIII | B41: Khoa Công nghệ thông tin
...

Sheet Chi tiet
A1: TRƯỜNG CAO ĐẲNG LÝ TỰ TRỌNG THÀNH PHỐ HỒ CHÍ MINH PHÒNG TỔ CHỨC - HÀNH CHÍNH - TỔNG HỢP | Z1: CỘNG HÒA XÃ HỘI CHỦ NGHĨA VIỆT NAM Độc lập - Tự do - Hạnh phúc
A2: BÁO CÁO TỔNG HỢP THI ĐUA THÁNG 10/2023
D3: 1 | E3: 2 | F3: 3 | G3: 4 | H3: 5 | I3: 6 | J3: 7 | K3: 8 | L3: 9 | M3: 10 | N3: 11 | O3: 12 | P3: 13 | Q3: 14 | R3: 15 | S3: 16 | T3: 17 | U3: 18 | V3: 19 | W3: 20 | X3: 21 | Y3: 22
A4: Stt | B4: Stt | C4: Họ và tên | D4: Mã E-office | E4: Tỷ lệ xếp loại A1, A2 của đơn vị | G4: Mức xếp loại tối đa trong năm | H4: Tiêu chuẩn đạt mức xếp loại thi đua tối đa trong năm (Các đề tài/dự án/bài báo/sáng kiến được xem xét xếp loại thi đua A1, A2, A3 theo quy định) | K4: Ghi chú Bộ phận tổng hợp | L4: Đơn vị xếp loại thi đua tháng theo quy định (Không vượt quá mức thi đua tối đa) | P4: Ý kiến của nhóm Thường trực | S4: Ý kiến của nhóm Thường trực | U4: Thường trực Hội đồng xếp loại | W4: Số lượng công việc tham gia (đã được HĐ duyệt) | Y4: Số ngày/giờ vượt so với ngày công kế hoạch (đối với CB-NV) | Z4: Ghi nhận từ các phòng chức năng | AA4: GV giải trình và ý kiến của đơn vị | AB4: Đơn vị đề nghị mức xếp loại thi đua | AD4: Ghi chú Bộ phận tổng hợp | AE4: Kiểm tra công thức (Ẩn)
L5: Xếp loại | M5: Lý do | N5: Số lượng công việc tham gia | P5: Đạt mức xếp loại | Q5: Thống nhất xếp loại | R5: Lý do | U5: Xếp loại | V5: Lý do | AB5: Xếp loại | AC5: Lý do đề nghị
H6: A1 | I6: A2 | J6: A3 | N6: Công việc chung của trường | O6: Công việc riêng của đơn vị | W6: Công việc chung của trường | X6: Công việc riêng của đơn vị | BF6: CBQL | BG6: GV
A7: I | B7: I | C7: BAN GIÁM HIỆU | G7: =COUNTA($L$8:$L$11) -> 4 | L7: =COUNTA($L$8:$L$11) -> 4 | M7: =(COUNTIF($L$8:$L$11, "A1") & "A1") -> 4A1 | P7: =COUNTA($Q$8:$Q$11) -> 4 | Q7: =COUNTA($Q$8:$Q$11) -> 4 | R7: =(COUNTIF($Q$8:$Q$11, "A1") & "A1") -> 4A1 | U7: =COUNTA($U$8:$U$11) -> 4 | V7: =(COUNTIF($U$8:$U$11, "A1") & "A1") -> 4A1 | BF7: =COUNTIF($BE$8:$BE$11,"CBQL") -> 4 | BG7: =COUNTIF($BE$8:$BE$11,"GV") + COUNTIF($BE$8:$BE$11,"NV") -> 0
A8: =IF(D8="","",SUBTOTAL(3,$D$8:D8)) -> 1 | B8: 01 | C8: Phạm Hữu Lộc | D8: 01001001 | G8: A1 | L8: A1 | P8: A1 | Q8: A1 | U8: =Q8 -> A1 | BD8: BGH | BE8: CBQL | BG8: =COUNTIF($BE$8:$BE$11,"GV") -> 0
A9: =IF(D9="","",SUBTOTAL(3,$D$8:D9)) -> 2 | B9: 02 | C9: Đinh Hồng Minh | D9: 01002001 | G9: A1 | L9: A1 | P9: A1 | Q9: A1 | U9: =Q9 -> A1 | AG9: 27 | AH9: 23 | BD9: BGH | BE9: CBQL
A10: =IF(D10="","",SUBTOTAL(3,$D$8:D10)) -> 3 | B10: 03 | C10: Đinh Văn Đệ | D10: 01001006 | G10: A1 | L10: A1 | P10: A1 | Q10: A1 | U10: =Q10 -> A1 | BD10: BGH | BE10: CBQL
A11: =IF(D11="","",SUBTOTAL(3,$D$8:D11)) -> 4 | B11: 04 | C11: Châu Văn Bảo | D11: 01014037 | G11: A1 | L11: A1 | P11: A1 | Q11: A1 | U11: =Q11 -> A1 | AK11: KẾT QUẢ XẾP LOẠI CỦA HỘI ĐỒNG | BD11: BGH | BE11: CBQL
A12: II | B12: II | C12: PHÒNG KẾ HOẠCH - TC | E12: Tỷ lệ A1 | F12: Tỷ lệ A2 | G12: =$L$13+$L$19 -> 9 | L12: =$L$13+$L$19 -> 9 | M12: =(COUNTIF($L14:$L23, "A1") & "A1")&" + "& (COUNTIF($L14:$L23, "A2") & "A2")&" + "& (COUNTIF($L14:$L23, "A3") & "A3")&" + "& (COUNTIF($L14:$L23, "A4") & "A4") -> 3A1 + 5A2 + 0A3 + 1A4 | P12: =$Q$13+$Q$19 -> 9 | Q12: =$Q$13+$Q$19 -> 9 | R12: =(COUNTIF($Q14:$Q23, "A1") & "A1")&" + "& (COUNTIF($Q14:$Q23, "A2") & "A2")&" + "& (COUNTIF($Q14:$Q23, "A3") & "A3")&" + "& (COUNTIF($Q14:$Q23, "A4") & "A4") -> 7A1 + 1A2 + 1A3 + 0A4 | S12: Tỷ lệ A1 | T12: Tỷ lệ A2 | U12: =$U$13+$U$19 -> 9 | V12: =(COUNTIF($U14:$U23, "A1") & "A1")&" + "& (COUNTIF($U14:$U23, "A2") & "A2")&" + "& (COUNTIF($U14:$U23, "A3") & "A3")&" + "& (COUNTIF($U14:$U23, "A4") & "A4") -> 7A1 + 1A2 + 1A3 + 0A4 | AG12: Đơn vị đề nghị nâng | AK12: P. KHTC | AL12: Tổng nhân sự | AM12: Xếp loại A1 | AO12: Xếp loại A2 | AQ12: Xếp loại A3 | AS12: Xếp loại A4 | AU12: Xếp loại B1 | AW12: Xếp loại B2 | AY12: Xếp loại C1 | BA12: Xếp loại C2 | BF12: =COUNTIF($BE$14:$BE$23,"CBQL") -> 1 | BG12: =COUNTIF($BE$14:$BE$23,"GV") + COUNTIF($BE$14:$BE$23,"NV") -> 8
A13: a | B13: a | C13: Viên chức | E13: =COUNTIF($L15:$L23,"A1") -> 2 | F13: =COUNTIF($L13:$L23,"A2") -> 5 | G13: =COUNTA($L14:$L18) -> 5 | L13: =COUNTA($L14:$L18) -> 5 | M13: =(COUNTIF($L14:$L18, "A1") & "A1")&" + "& (COUNTIF($L14:$L18, "A2") & "A2")&" + "& (COUNTIF($L14:$L18, "A3") & "A3")&" + "& (COUNTIF($L14:$L18, "A4") & "A4") -> 1A1 + 4A2 + 0A3 + 0A4 | P13: =COUNTA($Q14:$Q18) -> 5 | Q13: =COUNTA($Q14:$Q18) -> 5 | R13: =(COUNTIF($Q14:$Q18, "A1") & "A1")&" + "& (COUNTIF($Q14:$Q18, "A2") & "A2")&" + "& (COUNTIF($Q14:$Q18, "A3") & "A3")&" + "& (COUNTIF($Q14:$Q18,"A4") & "A4") -> 5A1 + 0A2 + 0A3 + 0A4 | S13: =COUNTIF($U15:$U23,"A1") -> 6 | T13: =COUNTIF($U15:$U23,"A2") -> 1 | U13: =COUNTA($U14:$U18) -> 5 | V13: =(COUNTIF($U14:$U18, "A1") & "A1")&" + "& (COUNTIF($U14:$U18, "A2") & "A2")&" + "& (COUNTIF($U14:$U18, "A3") & "A3")&" + "& (COUNTIF($U14:$U18, "A4") & "A4") -> 5A1 + 0A2 + 0A3 + 0A4 | AG13: 1 bậc | AI13: =AH13/$L$12 -> 0 | AL13: =AL14+AL15 -> 9 | AM13: SL | AN13: Tỷ lệ | AO13: SL | AP13: Tỷ lệ | AQ13: SL | AR13: Tỷ lệ | AS13: SL | AT13: Tỷ lệ | AU13: SL | AV13: Tỷ lệ | AW13: SL | AX13: Tỷ lệ | AY13: SL | AZ13: Tỷ lệ | BA13: SL | BB13: Tỷ lệ
A14: =IF(D14="","",SUBTOTAL(3,$D$8:D14)) -> 5 | B14: 01 | C14: Nguyễn Kính | D14: 01002024 | E14: =E13/$AL$15 -> 0.25 | F14: =F13/AL15 -> 0.625 | G14: =IF($H14<>0,"A1",IF($I14<>0,"A2",IF($J14<>0,"A3","A4"))) -> A1 | H14: - Năm 2022 có tham gia nhiều dự án cấp trường và cấp Sở (BTC Dự án ODA; Dự toán tài chính DA lên trường ĐH Lý Tự Trọng...); - Trong năm 2022 thực hiện hoàn thiện bổ sung hồ sơ dự toán tài chính trung hạn của nhà trường (2021-2025); - Tham gia phối hợp hoàn thiện hồ sơ thực hiện dự án "Trung tâm Đào tạo Xuất sắc" dự kiến đưa vào hoạt động năm 2023; - Thực hiện nhiều Báo cáo; giải trình theo yêu cầu trong năm 2022 của Sở Giáo dục, Sở Tài chính và Cục thuế TP; | I14: - Bài viết sáng kiến được công nhận phạm vi ảnh hưởng cấp ngành năm học 2021-2022 (QĐ số 1969/QĐ-SGDĐT ngày 03/8/2022) - Bài viết đăng Kỷ yếu hội thảo cấp trường (ICSS 2022) | J14: - Bài viết sáng kiến được công nhận phạm vi ảnh hưởng cấp trường năm học 2021-2022 (QĐ số 189/QĐ-LTT-HĐSK ngày 15/4/2022) | L14: A1 | M14: Đã vận động tài trợ lễ khai giảng, Tính đến ngày 25/10/2023 số tiền là : 100.000.000 đồng. | N14: =IFERROR(VLOOKUP($D14,'P.KH-TC'!$C$10:$AA$19,12,0),0) -> 5 | O14: =IFERROR(VLOOKUP($D14,'P.KH-TC'!$C$10:$AA$19,24,0),0) -> 6 | P14: =IF(AND($W14>=2,$X14>=3,$Y14>=1,H14<>0),"A1",IF(AND($W14>=3,$X14>=1,$Y14>=1,H14<>0),"A1",IF(AND($W14>=4,$X14>=0,$Y14>=1,H14<>0),"A1",IF(AND($W14>=2,$X14>=2,$Y14>=1,I14<>0),"A2",IF(AND($W14>=3,$X14>=0,$Y14>=1,I14<>0),"A2",IF(AND(OR($W14>=1,$X14>=2),J14<>0,$Y14>=-2),"A3","A4")))))) -> A1 | Q14: =P14 -> A1 | S14: =S13/$AL$15 -> 0.75 | T14: =T13/$AL$15 -> 0.125 | U14: =$Q14 -> A1 | W14: =IFERROR(VLOOKUP($D14,'P.KH-TC'!$C$10:$AA$19,13,0),0) -> 5 | X14: =IFERROR(VLOOKUP($D14,'P.KH-TC'!$C$10:$AA$19,25,0),0) -> 6 | Y14: 4 | AE14: =IF($L14=$P14,$L14,FALSE) -> A1 | AF14: 27 | AG14: 2 bậc | AI14: =AH14/$L$12 -> 0 | AK14: Trưởng, Phó đơn vị | AL14: =COUNTIF($BE$14:$BE$23,"CBQL") -> 1 | AM14: =COUNTIF($U$14,"A1") -> 1 | AN14: =AM14/$AL$14 -> 1 | AO14: =COUNTIF($U$14,"A2") -> 0 | AP14: =AO14/$AL$13 -> 0 | AQ14: =COUNTIF($U$14,"A3") -> 0 | AR14: =AQ14/$AL$13 -> 0 | AS14: =COUNTIF($U$14,"A4") -> 0 | AT14: =AS14/$AL$13 -> 0 | BD14: KHTC | BE14: CBQL
A15: =IF(D15="","",SUBTOTAL(3,$D$8:D15)) -> 6 | B15: 03 | C15: Hồng Mộng Tuyết Dung | D15: 01003009 | F15: =E15/$G$12 -> 0 | G15: =IF($H15<>0,"A1",IF($I15<>0,"A2",IF($J15<>0,"A3","A4"))) -> A2 | I15: - Bài viết sáng kiến được công nhận phạm vi ảnh hưởng cấp ngành năm học 2021-2022 (QĐ số 1969/QĐ-SGDĐT ngày 03/8/2022) | J15: - Bài viết sáng kiến được công nhận phạm vi ảnh hưởng cấp trường năm học 2021-2022 (QĐ số 189/QĐ-LTT-HĐSK ngày 15/4/2022) | L15: A2 | N15: =IFERROR(VLOOKUP($D15,'P.KH-TC'!$C$10:$AA$19,12,0),0) -> 4 | O15: =IFERROR(VLOOKUP($D15,'P.KH-TC'!$C$10:$AA$19,24,0),0) -> 4 | P15: =IF(AND($W15>=2,$X15>=3,$Y15>=1,H15<>0),"A1",IF(AND($W15>=3,$X15>=1,$Y15>=1,H15<>0),"A1",IF(AND($W15>=4,$X15>=0,$Y15>=1,H15<>0),"A1",IF(AND($W15>=2,$X15>=2,$Y15>=1,I15<>0),"A2",IF(AND($W15>=3,$X15>=0,$Y15>=1,I15<>0),"A2",IF(AND(OR($W15>=1,$X15>=2),J15<>0,$Y15>=-2),"A3","A4")))))) -> A2 | Q15: A1 | U15: =$Q15 -> A1 | W15: =IFERROR(VLOOKUP($D15,'P.KH-TC'!$C$10:$AA$19,13,0),0) -> 4 | X15: =IFERROR(VLOOKUP($D15,'P.KH-TC'!$C$10:$AA$19,25,0),0) -> 4 | Y15: 4 | AB15: A1 | AC15: Mức chuẩn A2. Đề nghị xếp loại A1. Cá nhân thường xuyên làm việc ngoài giờ, thu học phí sinh viên , có nhiều tích cực trong công việc của phòng và của trường | AE15: =IF($L15=$P15,$L15,FALSE) -> A2 | AF15: 27 | AH15: =AH13+AH14 -> 0 | AI15: =AI13+AI14 -> 0 | AK15: GV/NV | AL15: =COUNTIF($BE$14:$BE$23,"GV") + COUNTIF($BE$14:$BE$23,"NV") -> 8 | AM15: =COUNTIF($U15:$U23,"A1") -> 6 | AN15: =AM15/$AL$15 -> 0.75 | AO15: =COUNTIF($U15:$U23,"A2") -> 1 | AP15: =AO15/$AL$15 -> 0.125 | AQ15: =COUNTIF($U15:$U23,"A3") -> 1 | AR15: =AQ15/$AL$15 -> 0.125 | AS15: =COUNTIF($U15:$U23,"A4") -> 0 | AT15: =AS15/$AL$13 -> 0 | BD15: KHTC | BE15: NV
A16: =IF(D16="","",SUBTOTAL(3,$D$8:D16)) -> 7 | B16: 04 | C16: Trần Thị Minh Thoa | D16: 01003005 | G16: =IF($H16<>0,"A1",IF($I16<>0,"A2",IF($J16<>0,"A3","A4"))) -> A2 | I16: - Bài viết sáng kiến được công nhận phạm vi ảnh hưởng cấp ngành năm học 2021-2022 (QĐ số 1969/QĐ-SGDĐT ngày 03/8/2022) | J16: - Bài viết sáng kiến được công nhận phạm vi ảnh hưởng cấp trường năm học 2021-2022 (QĐ số 189/QĐ-LTT-HĐSK ngày 15/4/2022) | L16: A2 | N16: =IFERROR(VLOOKUP($D16,'P.KH-TC'!$C$10:$AA$19,12,0),0) -> 5 | O16: =IFERROR(VLOOKUP($D16,'P.KH-TC'!$C$10:$AA$19,24,0),0) -> 6 | P16: =IF(AND($W16>=2,$X16>=3,$Y16>=1,H16<>0),"A1",IF(AND($W16>=3,$X16>=1,$Y16>=1,H16<>0),"A1",IF(AND($W16>=4,$X16>=0,$Y16>=1,H16<>0),"A1",IF(AND($W16>=2,$X16>=2,$Y16>=1,I16<>0),"A2",IF(AND($W16>=3,$X16>=0,$Y16>=1,I16<>0),"A2",IF(AND(OR($W16>=1,$X16>=2),J16<>0,$Y16>=-2),"A3","A4")))))) -> A2 | Q16: A1 | U16: =$Q16 -> A1 | W16: =IFERROR(VLOOKUP($D16,'P.KH-TC'!$C$10:$AA$19,13,0),0) -> 5 | X16: =IFERROR(VLOOKUP($D16,'P.KH-TC'!$C$10:$AA$19,25,0),0) -> 6 | Y16: 4 | AB16: A1 | AE16: =IF($L16=$P16,$L16,FALSE) -> A2 | AF16: 24 | BD16: KHTC | BE16: NV
A17: =IF(D17="","",SUBTOTAL(3,$D$8:D17)) -> 8 | B17: 05 | C17: Võ Thị Lệ Trân | D17: 01023004 | G17: =IF($H17<>0,"A1",IF($I17<>0,"A2",IF($J17<>0,"A3","A4"))) -> A2 | I17: - Bài viết sáng kiến được công nhận phạm vi ảnh hưởng cấp ngành năm học 2021-2022 (QĐ số 1969/QĐ-SGDĐT ngày 03/8/2022) | J17: - Bài viết sáng kiến được công nhận phạm vi ảnh hưởng cấp trường năm học 2021-2022 (QĐ số 189/QĐ-LTT-HĐSK ngày 15/4/2022) | L17: A2 | N17: =IFERROR(VLOOKUP($D17,'P.KH-TC'!$C$10:$AA$19,12,0),0) -> 4 | O17: =IFERROR(VLOOKUP($D17,'P.KH-TC'!$C$10:$AA$19,24,0),0) -> 4 | P17: =IF(AND($W17>=2,$X17>=3,$Y17>=1,H17<>0),"A1",IF(AND($W17>=3,$X17>=1,$Y17>=1,H17<>0),"A1",IF(AND($W17>=4,$X17>=0,$Y17>=1,H17<>0),"A1",IF(AND($W17>=2,$X17>=2,$Y17>=1,I17<>0),"A2",IF(AND($W17>=3,$X17>=0,$Y17>=1,I17<>0),"A2",IF(AND(OR($W17>=1,$X17>=2),J17<>0,$Y17>=-2),"A3","A4")))))) -> A2 | Q17: A1 | U17: =$Q17 -> A1 | W17: =IFERROR(VLOOKUP($D17,'P.KH-TC'!$C$10:$AA$19,13,0),0) -> 4 | X17: =IFERROR(VLOOKUP($D17,'P.KH-TC'!$C$10:$AA$19,25,0),0) -> 4 | Y17: 4 | AB17: A1 | AE17: =IF($L17=$P17,$L17,FALSE) -> A2 | AF17: 26 | BD17: KHTC | BE17: NV
A18: =IF(D18="","",SUBTOTAL(3,$D$8:D18)) -> 9 | B18: 06 | C18: Nguyễn Thị Hồng Thắm | D18: 01003007 | G18: =IF($H18<>0,"A1",IF($I18<>0,"A2",IF($J18<>0,"A3","A4"))) -> A2 | I18: - Bài viết sáng kiến được công nhận phạm vi ảnh hưởng cấp ngành năm học 2021-2022 (QĐ số 1969/QĐ-SGDĐT ngày 03/8/2022) | J18: - Bài viết sáng kiến được công nhận phạm vi ảnh hưởng cấp trường năm học 2021-2022 (QĐ số 189/QĐ-LTT-HĐSK ngày 15/4/2022) | L18: A2 | N18: =IFERROR(VLOOKUP($D18,'P.KH-TC'!$C$10:$AA$19,12,0),0) -> 4 | O18: =IFERROR(VLOOKUP($D18,'P.KH-TC'!$C$10:$AA$19,24,0),0) -> 4 | P18: =IF(AND($W18>=2,$X18>=3,$Y18>=1,H18<>0),"A1",IF(AND($W18>=3,$X18>=1,$Y18>=1,H18<>0),"A1",IF(AND($W18>=4,$X18>=0,$Y18>=1,H18<>0),"A1",IF(AND($W18>=2,$X18>=2,$Y18>=1,I18<>0),"A2",IF(AND($W18>=3,$X18>=0,$Y18>=1,I18<>0),"A2",IF(AND(OR($W18>=1,$X18>=2),J18<>0,$Y18>=-2),"A3","A4")))))) -> A2 | Q18: A1 | U18: =$Q18 -> A1 | W18: =IFERROR(VLOOKUP($D18,'P.KH-TC'!$C$10:$AA$19,13,0),0) -> 4 | X18: =IFERROR(VLOOKUP($D18,'P.KH-TC'!$C$10:$AA$19,25,0),0) -> 4 | Y18: 3 | AB18: A1 | AE18: =IF($L18=$P18,$L18,FALSE) -> A2 | AF18: 26 | BD18: KHTC | BE18: NV
A19: b | B19: b | C19: Hợp đồng trường | G19: =COUNTA($L20:$L23) -> 4 | L19: =COUNTA($L20:$L23) -> 4 | M19: =(COUNTIF($L20:$L23, "A1") & "A1")&" + "& (COUNTIF($L20:$L23, "A2") & "A2")&" + "& (COUNTIF($L20:$L23, "A3") & "A3")&" + "& (COUNTIF($L20:$L23, "A4") & "A4") -> 2A1 + 1A2 + 0A3 + 1A4 | P19: =COUNTA($Q20:$Q23) -> 4 | Q19: =P19 -> 4 | R19: =(COUNTIF($Q20:$Q23, "A1") & "A1")&" + "& (COUNTIF($Q20:$Q23, "A2") & "A2")&" + "& (COUNTIF($Q20:$Q23, "A3") & "A3")&" + "& (COUNTIF($Q20:$Q23, "A4") & "A4") -> 2A1 + 1A2 + 1A3 + 0A4 | U19: =COUNTA($U20:$U23) -> 4 | V19: =(COUNTIF($U20:$U23, "A1") & "A1")&" + "& (COUNTIF($U20:$U23, "A2") & "A2")&" + "& (COUNTIF($U20:$U23, "A3") & "A3")&" + "& (COUNTIF($U20:$U23, "A4") & "A4") -> 2A1 + 1A2 + 1A3 + 0A4
A20: =IF(D20="","",SUBTOTAL(3,$D$8:D20)) -> 10 | B20: 07 | C20: Trần Thị Thảo Vân | D20: 01003008 | G20: =IF($H20<>0,"A1",IF($I20<>0,"A2",IF($J20<>0,"A3","A4"))) -> A2 | I20: - Bài viết sáng kiến được công nhận phạm vi ảnh hưởng cấp ngành năm học 2021-2022 (QĐ số 1969/QĐ-SGDĐT ngày 03/8/2022) | J20: - Bài viết sáng kiến được công nhận phạm vi ảnh hưởng cấp trường năm học 2021-2022 (QĐ số 189/QĐ-LTT-HĐSK ngày 15/4/2022) | L20: A1 | M20: Đã vận động tài trợ lễ khai giảng đến ngày 06/11/2023 số tiền là : 10.000.000 đồng. | N20: =IFERROR(VLOOKUP($D20,'P.KH-TC'!$C$10:$AA$19,12,0),0) -> 3 | O20: =IFERROR(VLOOKUP($D20,'P.KH-TC'!$C$10:$AA$19,24,0),0) -> 3 | P20: A1 | Q20: =P20 -> A1 | U20: =$Q20 -> A1 | W20: =IFERROR(VLOOKUP($D20,'P.KH-TC'!$C$10:$AA$19,13,0),0) -> 3 | X20: =IFERROR(VLOOKUP($D20,'P.KH-TC'!$C$10:$AA$19,25,0),0) -> 3 | Y20: 1 | AE20: =IF($L20=$P20,$L20,FALSE) -> A1 | AF20: 24 | BD20: KHTC | BE20: NV
A21: =IF(D21="","",SUBTOTAL(3,$D$8:D21)) -> 11 | B21: 08 | C21: Nguyễn Thụy Nghiêm | D21: 01003014 | G21: =IF($H21<>0,"A1",IF($I21<>0,"A2",IF($J21<>0,"A3","A4"))) -> A2 | I21: - Bài viết sáng kiến được công nhận phạm vi ảnh hưởng cấp ngành năm học 2021-2022 (QĐ số 1969/QĐ-SGDĐT ngày 03/8/2022) - Có bài báo được đăng trên tạp chí - Cơ quan thông tin Lý luận của Bộ Công Thương Số 21-tháng 09/2022 (nhóm 2 tác giả). | J21: - Bài viết sáng kiến được công nhận phạm vi ảnh hưởng cấp trường năm học 2021-2022 (QĐ số 189/QĐ-LTT-HĐSK ngày 15/4/2022) | K21: Có bài báo nhóm 02 tác giả | L21: A2 | N21: =IFERROR(VLOOKUP($D21,'P.KH-TC'!$C$10:$AA$19,12,0),0) -> 4 | O21: =IFERROR(VLOOKUP($D21,'P.KH-TC'!$C$10:$AA$19,24,0),0) -> 3 | P21: =IF(AND($W21>=2,$X21>=3,$Y21>=1,H21<>0),"A1",IF(AND($W21>=3,$X21>=1,$Y21>=1,H21<>0),"A1",IF(AND($W21>=4,$X21>=0,$Y21>=1,H21<>0),"A1",IF(AND($W21>=2,$X21>=2,$Y21>=1,I21<>0),"A2",IF(AND($W21>=3,$X21>=0,$Y21>=1,I21<>0),"A2",IF(AND(OR($W21>=1,$X21>=2),J21<>0,$Y21>=-2),"A3","A4")))))) -> A2 | Q21: =P21 -> A2 | U21: =$Q21 -> A2 | W21: =IFERROR(VLOOKUP($D21,'P.KH-TC'!$C$10:$AA$19,13,0),0) -> 4 | X21: =IFERROR(VLOOKUP($D21,'P.KH-TC'!$C$10:$AA$19,25,0),0) -> 3 | Y21: 1 | AE21: =IF($L21=$P21,$L21,FALSE) -> A2 | AF21: 25 | BD21: KHTC | BE21: NV
A22: =IF(D22="","",SUBTOTAL(3,$D$8:D22)) -> 12 | C22: Huỳnh Như Ý | D22: 01003015 | G22: =IF($H22<>0,"A1",IF($I22<>0,"A2",IF($J22<>0,"A3","A4"))) -> A2 | H22: =VLOOKUP($D22,'[1]Mau 1 (2)'!$C$12:$K$398,4,0) -> 0 | I22: - Bài viết sáng kiến được công nhận phạm vi ảnh hưởng cấp ngành năm học 2021-2022 (QĐ số 1969/QĐ-SGDĐT ngày 03/8/2022) | J22: - Bài viết sáng kiến được công nhận phạm vi ảnh hưởng cấp trường năm học 2021-2022 (QĐ số 189/QĐ-LTT-HĐSK ngày 15/4/2022) | L22: A1 | M22: Đã vận động tài trợ lễ khai giảng đến ngày 06/11/2023 số tiền là : 17.000.000 đồng. | N22: =IFERROR(VLOOKUP($D22,'P.KH-TC'!$C$10:$AA$19,12,0),0) -> 4 | O22: =IFERROR(VLOOKUP($D22,'P.KH-TC'!$C$10:$AA$19,24,0),0) -> 3 | P22: A1 | Q22: =P22 -> A1 | U22: =$Q22 -> A1 | W22: =IFERROR(VLOOKUP($D22,'P.KH-TC'!$C$10:$AA$19,13,0),0) -> 4 | X22: =IFERROR(VLOOKUP($D22,'P.KH-TC'!$C$10:$AA$19,25,0),0) -> 3 | Y22: 1 | AE22: =IF($L22=$P22,$L22,FALSE) -> A1 | AF22: 24 | BD22: KHTC | BE22: NV
A23: =IF(D23="","",SUBTOTAL(3,$D$8:D23)) -> 13 | C23: Nguyễn Chiến Thắng | D23: 01003016 | G23: =IF($H23<>0,"A1",IF($I23<>0,"A2",IF($J23<>0,"A3","A4"))) -> A4 | L23: A4 | N23: =IFERROR(VLOOKUP($D23,'P.KH-TC'!$C$10:$AA$19,12,0),0) -> 3 | O23: =IFERROR(VLOOKUP($D23,'P.KH-TC'!$C$10:$AA$19,24,0),0) -> 3 | P23: =IF(AND($W23>=2,$X23>=3,$Y23>=1,H23<>0),"A1",IF(AND($W23>=3,$X23>=1,$Y23>=1,H23<>0),"A1",IF(AND($W23>=4,$X23>=0,$Y23>=1,H23<>0),"A1",IF(AND($W23>=2,$X23>=2,$Y23>=1,I23<>0),"A2",IF(AND($W23>=3,$X23>=0,$Y23>=1,I23<>0),"A2",IF(AND(OR($W23>=1,$X23>=2),J23<>0,$Y23>=-2),"A3","A4")))))) -> A4 | Q23: A3 | U23: =$Q23 -> A3 | W23: =IFERROR(VLOOKUP($D23,'P.KH-TC'!$C$10:$AA$19,13,0),0) -> 3 | X23: =IFERROR(VLOOKUP($D23,'P.KH-TC'!$C$10:$AA$19,25,0),0) -> 3 | AB23: A3 | AC23: Mức chuẩn A4. Đề nghị xếp loại A3. Cá nhân thường xuyên làm việc ngoài giờ chuẩn bị chứng từ, hồ sơ sổ sách để phục vụ cho công tác thanh tra, thu học phí sinh viên , có nhiều tích cực trong công việc của phòng và của trường | AE23: =IF($L23=$P23,$L23,FALSE) -> A4 | AF23: 26 | BD23: KHTC | BE23: NV
A24: III | B24: III | C24: PHÒNG TUYỂN SINH - ĐÀO TẠO | G24: =$L$25+$L$37 -> 16 | L24: =$L$25+$L$37 -> 16 | M24: =(COUNTIF($L26:$L42, "A1") & "A1")&" + "& (COUNTIF($L26:$L42, "A2") & "A2")&" + "& (COUNTIF($L26:$L42, "A3") & "A3")&" + "& (COUNTIF($L26:$L42, "A4") & "A4") -> 2A1 + 9A2 + 4A3 + 1A4 | P24: =$Q$25+$Q$37 -> 16 | Q24: =$Q$25+$Q$37 -> 16 | R24: =(COUNTIF($Q26:$Q42, "A1") & "A1")&" + "& (COUNTIF($Q26:$Q42, "A2") & "A2")&" + "& (COUNTIF($Q26:$Q42, "A3") & "A3")&" + "& (COUNTIF($Q26:$Q42, "A4") & "A4") -> 4A1 + 7A2 + 4A3 + 1A4 | U24: =$U$25+$U$37 -> 16 | V24: =(COUNTIF($U26:$U42, "A1") & "A1")&" + "& (COUNTIF($U26:$U42, "A2") & "A2")&" + "& (COUNTIF($U26:$U42, "A3") & "A3")&" + "& (COUNTIF($U26:$U42, "A4") & "A4") -> 4A1 + 7A2 + 4A3 + 1A4 | AK24: KẾT QUẢ XẾP LOẠI CỦA HỘI ĐỒNG | BF24: =COUNTIF($BE$26:$BE$42,"CBQL") -> 2 | BG24: =COUNTIF($BE$26:$BE$42,"GV") + COUNTIF($BE$26:$BE$42,"NV") -> 14
A25: a | B25: a | C25: Viên chức | E25: Tỷ lệ A1 | F25: Tỷ lệ A2 | G25: =COUNTA($L26:$L36) -> 11 | L25: =COUNTA($L26:$L36) -> 11 | M25: =(COUNTIF($L26:$L36, "A1") & "A1")&" + "& (COUNTIF($L26:$L36, "A2") & "A2")&" + "& (COUNTIF($L26:$L36, "A3") & "A3")&" + "& (COUNTIF($L26:$L36, "A4") & "A4") -> 2A1 + 6A2 + 3A3 + 0A4 | P25: =COUNTA($Q26:$Q36) -> 11 | Q25: =COUNTA($Q26:$Q36) -> 11 | R25: =(COUNTIF($Q26:$Q36, "A1") & "A1")&" + "& (COUNTIF($Q26:$Q36, "A2") & "A2")&" + "& (COUNTIF($Q26:$Q36, "A3") & "A3")&" + "& (COUNTIF($Q26:$Q36, "A4") & "A4") -> 2A1 + 6A2 + 3A3 + 0A4 | S25: Tỷ lệ A1 | T25: Tỷ lệ A2 | U25: =COUNTA($U26:$U36) -> 11 | V25: =(COUNTIF($U26:$U36, "A1") & "A1")&" + "& (COUNTIF($U26:$U36, "A2") & "A2")&" + "& (COUNTIF($U26:$U36, "A3") & "A3")&" + "& (COUNTIF($U26:$U36, "A4") & "A4") -> 2A1 + 6A2 + 3A3 + 0A4 | AG25: Đơn vị đề nghị nâng | AK25: P. TSĐT | AL25: Tổng nhân sự | AM25: Xếp loại A1 | AO25: Xếp loại A2 | AQ25: Xếp loại A3 | AS25: Xếp loại A4 | AU25: Xếp loại B1 | AW25: Xếp loại B2 | AY25: Xếp loại C1 | BA25: Xếp loại C2
A26: =IF(D26="","",SUBTOTAL(3,$D$8:D26)) -> 14 | B26: 24 | C26: Nguyễn Thành Nam | D26: 01005007 | E26: =COUNTIF($L28:$L42,"A1") -> 0 | F26: =COUNTIF($L28:$L42,"A2") -> 9 | G26: =IF($H26<>0,"A1",IF($I26<>0,"A2",IF($J26<>0,"A3","A4"))) -> A1 | H26: - Bài viết đăng Tạp chí Khoa học quản lý Giáo dục ISSN 2354-0788, số 04 (36) tháng 12/2022 - GV đạt giải II trong Hội thi TBTL toàn quốc năm 2022 (QĐ số 963/QĐ-LĐTBXH ngày 14/10/2022). - Chủ nhiệm đề tài NCKH cấp trường: Nghiên cứu và chế tạo mô hình mạng truyền thông trên ô tô. Mã số đề tài: T2021-TN05 (Theo Biên bản họp HĐ nghiệm thu đề tài ngày 26/9/2022) | I26: - Bài viết sáng kiến được công nhận phạm vi ảnh hưởng cấp ngành năm học 2021-2022 (QĐ số 1969/QĐ-SGDĐT ngày 03/8/2022) - Bài viết đăng Kỷ yếu hội thảo cấp trường (ICSS 2022) - GV đạt giải KK trong Hội thi TBTL cấp thành phố năm 2022 (QĐ số 22258/QĐ-SLĐTBXH ngày 30/6/2022) | J26: - Bài viết sáng kiến được công nhận phạm vi ảnh hưởng cấp trường năm học 2021-2022 (QĐ số 189/QĐ-LTT-HĐSK ngày 15/4/2022) | K26: Có bài báo 01 tác giả | L26: A1 | M26: Chưa vận động doanh nghiệp tài trợ cho Nhà trường | N26: =IFERROR(VLOOKUP($D26,'P.TTGD-CTSV'!$C$10:$AE$24,14,0),0) -> 0 | O26: =IFERROR(VLOOKUP($D26,'P.TTGD-CTSV'!$C$10:$AE$24,28,0),0) -> 0 | P26: =IF(AND($W26>=2,$X26>=3,$Y26>=1,H26<>0),"A1",IF(AND($W26>=3,$X26>=1,$Y26>=1,H26<>0),"A1",IF(AND($W26>=4,$X26>=0,$Y26>=1,H26<>0),"A1",IF(AND($W26>=2,$X26>=2,$Y26>=1,I26<>0),"A2",IF(AND($W26>=3,$X26>=0,$Y26>=1,I26<>0),"A2",IF(AND(OR($W26>=1,$X26>=2),J26<>0,$Y26>=-2),"A3","A4")))))) -> A1 | Q26: A2 | S26: =COUNTIF($U28:$U42,"A1") -> 4 | T26: =COUNTIF($U28:$U42,"A2") -> 5 | U26: =$Q26 -> A2 | V26: =R26 -> 0 | W26: =IFERROR(VLOOKUP($D26,'P.TS-ĐT'!$C$10:$AM$26,23,0),0) -> 8 | X26: =IFERROR(VLOOKUP($D26,'P.TS-ĐT'!$C$10:$AM$26,37,0),0) -> 1 | Y26: 1 | AD26: Chưa ghi nhận vận động DN tài trợ Lễ khai giảng | AE26: =IF($L26=$P26,$L26,FALSE) -> A1 | AF26: 26 | AG26: 1 bậc | AI26: =AH26/$L24 -> 0 | AL26: =AL27+AL28 -> 16 | AM26: SL | AN26: Tỷ lệ | AO26: SL | AP26: Tỷ lệ | AQ26: SL | AR26: Tỷ lệ | AS26: SL | AT26: Tỷ lệ | AU26: SL | AV26: Tỷ lệ | AW26: SL | AX26: Tỷ lệ | AY26: SL | AZ26: Tỷ lệ | BA26: SL | BB26: Tỷ lệ | BD26: TSDT | BE26: CBQL
A27: =IF(D27="","",SUBTOTAL(3,$D$8:D27)) -> 15 | B27: 05 | C27: Quách Minh Thử | D27: 01014007 | E27: =E26/$AL$28 -> 0 | F27: =F26/$AL$28 -> 0.64285714 | G27: =IF($H27<>0,"A1",IF($I27<>0,"A2",IF($J27<>0,"A3","A4"))) -> A1 | H27: - GV đạt giải I trong Hội thi TBTL toàn quốc năm 2022 (QĐ số 963/QĐ-LĐTBXH ngày 14/10/2022). | I27: - Bài viết sáng kiến được công nhận phạm vi ảnh hưởng cấp ngành năm học 2021-2022 (QĐ số 1969/QĐ-SGDĐT ngày 03/8/2022) - Bài viết đăng Kỷ yếu hội thảo cấp trường (ICSS 2022) - GV đạt giải III trong Hội thi TBTL cấp thành phố năm 2022 (QĐ số 22258/QĐ-SLĐTBXH ngày 30/6/2022) | J27: - Bài viết sáng kiến được công nhận phạm vi ảnh hưởng cấp trường năm học 2021-2022 (QĐ số 189/QĐ-LTT-HĐSK ngày 15/4/2022) | L27: A1 | M27: Chưa vận động doanh nghiệp tài trợ cho Nhà trường | N27: =IFERROR(VLOOKUP($D27,'P.TTGD-CTSV'!$C$10:$AE$24,14,0),0) -> 0 | O27: =IFERROR(VLOOKUP($D27,'P.TTGD-CTSV'!$C$10:$AE$24,28,0),0) -> 0 | P27: =IF(AND($W27>=2,$X27>=3,$Y27>=1,H27<>0),"A1",IF(AND($W27>=3,$X27>=1,$Y27>=1,H27<>0),"A1",IF(AND($W27>=4,$X27>=0,$Y27>=1,H27<>0),"A1",IF(AND($W27>=2,$X27>=2,$Y27>=1,I27<>0),"A2",IF(AND($W27>=3,$X27>=0,$Y27>=1,I27<>0),"A2",IF(AND(OR($W27>=1,$X27>=2),J27<>0,$Y27>=-2),"A3","A4")))))) -> A1 | Q27: A2 | S27: =S26/$AL$28 -> 0.28571429 | T27: =T26/$AL$28 -> 0.35714286 | U27: =$Q27 -> A2 | W27: =IFERROR(VLOOKUP($D27,'P.TS-ĐT'!$C$10:$AM$26,23,0),0) -> 7 | X27: =IFERROR(VLOOKUP($D27,'P.TS-ĐT'!$C$10:$AM$26,37,0),0) -> 2 | Y27: 1 | AD27: Chưa ghi nhận vận động DN tài trợ Lễ khai giảng | AE27: =IF($L27=$P27,$L27,FALSE) -> A1 | AF27: 24 | AG27: 2 bậc | AH27: 0 | AI27: =AH27/$L24 -> 0 | AK27: Trưởng, Phó đơn vị | AL27: =COUNTIF($BE$26:$BE$42,"CBQL") -> 2 | AM27: =COUNTIF($U26:$U27,"A1") -> 0 | AN27: =AM27/$AL$27 -> 0 | AO27: =COUNTIF($U26:$U27,"A2") -> 2 | AP27: =AO27/$AL$26 -> 0.125 | AQ27: =COUNTIF($U26:$U27,"A3") -> 0 | AR27: =AQ27/$AL$26 -> 0 | AS27: =COUNTIF($U26:$U27,"A4") -> 0 | AT27: =AS27/$AL$26 -> 0 | BD27: TSDT | BE27: CBQL
A28: =IF(D28="","",SUBTOTAL(3,$D$8:D28)) -> 16 | B28: 05 | C28: Nguyễn Thị Thùy | D28: 01022013 | G28: =IF($H28<>0,"A1",IF($I28<>0,"A2",IF($J28<>0,"A3","A4"))) -> A2 | I28: - Bài viết sáng kiến được công nhận phạm vi ảnh hưởng cấp ngành năm học 2021-2022 (QĐ số 1969/QĐ-SGDĐT ngày 03/8/2022) | J28: - Bài viết sáng kiến được công nhận phạm vi ảnh hưởng cấp trường năm học 2021-2022 (QĐ số 189/QĐ-LTT-HĐSK ngày 15/4/2022) | L28: A2 | N28: =IFERROR(VLOOKUP($D28,'P.TS-ĐT'!$C$10:$AM$26,22,0),0) -> 8 | O28: =IFERROR(VLOOKUP($D28,'P.TS-ĐT'!$C$10:$AM$26,36,0),0) -> 3 | P28: =IF(AND($W28>=2,$X28>=3,$Y28>=1,H28<>0),"A1",IF(AND($W28>=3,$X28>=1,$Y28>=1,H28<>0),"A1",IF(AND($W28>=4,$X28>=0,$Y28>=1,H28<>0),"A1",IF(AND($W28>=2,$X28>=2,$Y28>=1,I28<>0),"A2",IF(AND($W28>=3,$X28>=0,$Y28>=1,I28<>0),"A2",IF(AND(OR($W28>=1,$X28>=2),J28<>0,$Y28>=-2),"A3","A4")))))) -> A2 | Q28: A1 | U28: =$Q28 -> A1 | W28: =IFERROR(VLOOKUP($D28,'P.TS-ĐT'!$C$10:$AM$26,23,0),0) -> 8 | X28: =IFERROR(VLOOKUP($D28,'P.TS-ĐT'!$C$10:$AM$26,37,0),0) -> 3 | Y28: 1 | AB28: A1 | AC28: Đề xuất A1 do việc trường, việc đơn vị nhiều, vượt ngày công | AE28: =IF($L28=$P28,$L28,FALSE) -> A2 | AF28: 25 | AK28: GV/NV | AL28: =COUNTIF($BE$28:$BE$42,"GV") + COUNTIF($BE$28:$BE$42,"NV") -> 14 | AM28: =COUNTIF($U28:$U42,"A1") -> 4 | AN28: =AM28/$AL$28 -> 0.28571429 | AO28: =COUNTIF($U28:$U42,"A2") -> 5 | AP28: =AO28/$AL$28 -> 0.35714286 | AQ28: =COUNTIF($U28:$U42,"A3") -> 4 | AR28: =AQ28/$AL$26 -> 0.25 | AS28: =COUNTIF($U28:$U42,"A4") -> 1 | AT28: =AS28/$AL$26 -> 0.0625 | BD28: TSDT | BE28: NV
A29: =IF(D29="","",SUBTOTAL(3,$D$8:D29)) -> 17 | B29: 06 | C29: Võ Thị Xuân Thơ | D29: 01004003 | G29: =IF($H29<>0,"A1",IF($I29<>0,"A2",IF($J29<>0,"A3","A4"))) -> A2 | I29: - Bài viết đăng Kỷ yếu hội thảo cấp trường (ICSS 2022) | J29: - Bài viết sáng kiến được công nhận phạm vi ảnh hưởng cấp trường năm học 2021-2022 (QĐ số 189/QĐ-LTT-HĐSK ngày 15/4/2022) | L29: A2 | N29: =IFERROR(VLOOKUP($D29,'P.TS-ĐT'!$C$10:$AM$26,22,0),0) -> 6 | O29: =IFERROR(VLOOKUP($D29,'P.TS-ĐT'!$C$10:$AM$26,36,0),0) -> 2 | P29: =IF(AND($W29>=2,$X29>=3,$Y29>=1,H29<>0),"A1",IF(AND($W29>=3,$X29>=1,$Y29>=1,H29<>0),"A1",IF(AND($W29>=4,$X29>=0,$Y29>=1,H29<>0),"A1",IF(AND($W29>=2,$X29>=2,$Y29>=1,I29<>0),"A2",IF(AND($W29>=3,$X29>=0,$Y29>=1,I29<>0),"A2",IF(AND(OR($W29>=1,$X29>=2),J29<>0,$Y29>=-2),"A3","A4")))))) -> A2 | Q29: =P29 -> A2 | U29: =$Q29 -> A2 | W29: =IFERROR(VLOOKUP($D29,'P.TS-ĐT'!$C$10:$AM$26,23,0),0) -> 6 | X29: =IFERROR(VLOOKUP($D29,'P.TS-ĐT'!$C$10:$AM$26,37,0),0) -> 2 | Y29: 1 | AE29: =IF($L29=$P29,$L29,FALSE) -> A2 | AF29: 22 | BD29: TSDT | BE29: NV | BH29: Đơn vị xét | BJ29: Nhóm đề nghị | BL29: Kết quả HĐ | BN29: Kết quả HĐ (Trưởng/Phó đơn vị)
A30: =IF(D30="","",SUBTOTAL(3,$D$8:D30)) -> 18 | B30: 07 | C30: Nguyễn Thị Thanh Thảo | D30: 01004008 | G30: =IF($H30<>0,"A1",IF($I30<>0,"A2",IF($J30<>0,"A3","A4"))) -> A3 | J30: - Bài viết sáng kiến được công nhận phạm vi ảnh hưởng cấp trường năm học 2021-2022 (QĐ số 189/QĐ-LTT-HĐSK ngày 15/4/2022) | L30: A3 | N30: =IFERROR(VLOOKUP($D30,'P.TS-ĐT'!$C$10:$AM$26,22,0),0) -> 6 | O30: =IFERROR(VLOOKUP($D30,'P.TS-ĐT'!$C$10:$AM$26,36,0),0) -> 1 | P30: =IF(AND($W30>=2,$X30>=3,$Y30>=1,H30<>0),"A1",IF(AND($W30>=3,$X30>=1,$Y30>=1,H30<>0),"A1",IF(AND($W30>=4,$X30>=0,$Y30>=1,H30<>0),"A1",IF(AND($W30>=2,$X30>=2,$Y30>=1,I30<>0),"A2",IF(AND($W30>=3,$X30>=0,$Y30>=1,I30<>0),"A2",IF(AND(OR($W30>=1,$X30>=2),J30<>0,$Y30>=-2),"A3","A4")))))) -> A3 | Q30: =P30 -> A3 | U30: =$Q30 -> A3 | W30: =IFERROR(VLOOKUP($D30,'P.TS-ĐT'!$C$10:$AM$26,23,0),0) -> 6 | X30: =IFERROR(VLOOKUP($D30,'P.TS-ĐT'!$C$10:$AM$26,37,0),0) -> 1 | Y30: 1 | AE30: =IF($L30=$P30,$L30,FALSE) -> A3 | AF30: 25 | BD30: TSDT | BE30: NV | BH30: SL | BI30: TL | BJ30: SL | BK30: TL | BL30: SL | BM30: TL | BN30: SL | BO30: TL
A31: =IF(D31="","",SUBTOTAL(3,$D$8:D31)) -> 19 | B31: 08 | C31: Huỳnh Thị Cẩm Hoa | D31: 01005009 | G31: =IF($H31<>0,"A1",IF($I31<>0,"A2",IF($J31<>0,"A3","A4"))) -> A3 | J31: - Bài viết sáng kiến được công nhận phạm vi ảnh hưởng cấp trường năm học 2021-2022 (QĐ số 189/QĐ-LTT-HĐSK ngày 15/4/2022) | L31: A3 | M31: Nghỉ 2 ngày | N31: =IFERROR(VLOOKUP($D31,'P.TS-ĐT'!$C$10:$AM$26,22,0),0) -> 4 | O31: =IFERROR(VLOOKUP($D31,'P.TS-ĐT'!$C$10:$AM$26,36,0),0) -> 1 | P31: =IF(AND($W31>=2,$X31>=3,$Y31>=1,H31<>0),"A1",IF(AND($W31>=3,$X31>=1,$Y31>=1,H31<>0),"A1",IF(AND($W31>=4,$X31>=0,$Y31>=1,H31<>0),"A1",IF(AND($W31>=2,$X31>=2,$Y31>=1,I31<>0),"A2",IF(AND($W31>=3,$X31>=0,$Y31>=1,I31<>0),"A2",IF(AND(OR($W31>=1,$X31>=2),J31<>0,$Y31>=-2),"A3","A4")))))) -> A3 | Q31: =P31 -> A3 | U31: =$Q31 -> A3 | V31: =R31 -> 0 | W31: =IFERROR(VLOOKUP($D31,'P.TS-ĐT'!$C$10:$AM$26,23,0),0) -> 4 | X31: =IFERROR(VLOOKUP($D31,'P.TS-ĐT'!$C$10:$AM$26,37,0),0) -> 1 | Y31: 1 | AE31: =IF($L31=$P31,$L31,FALSE) -> A3 | AF31: 22 | BD31: TSDT | BE31: NV | BG31: Xếp loại A1
A32: =IF(D32="","",SUBTOTAL(3,$D$8:D32)) -> 20 | B32: 09 | C32: Giáp Thị Vượng | D32: 01004009 | G32: =IF($H32<>0,"A1",IF($I32<>0,"A2",IF($J32<>0,"A3","A4"))) -> A2 | I32: - Bài viết đăng Kỷ yếu hội thảo cấp trường (ICSS 2022) | J32: - Bài viết sáng kiến được công nhận phạm vi ảnh hưởng cấp trường năm học 2021-2022 (QĐ số 189/QĐ-LTT-HĐSK ngày 15/4/2022) | L32: A2 | N32: =IFERROR(VLOOKUP($D32,'P.TS-ĐT'!$C$10:$AM$26,22,0),0) -> 3 | O32: =IFERROR(VLOOKUP($D32,'P.TS-ĐT'!$C$10:$AM$26,36,0),0) -> 2 | P32: =IF(AND($W32>=2,$X32>=3,$Y32>=1,H32<>0),"A1",IF(AND($W32>=3,$X32>=1,$Y32>=1,H32<>0),"A1",IF(AND($W32>=4,$X32>=0,$Y32>=1,H32<>0),"A1",IF(AND($W32>=2,$X32>=2,$Y32>=1,I32<>0),"A2",IF(AND($W32>=3,$X32>=0,$Y32>=1,I32<>0),"A2",IF(AND(OR($W32>=1,$X32>=2),J32<>0,$Y32>=-2),"A3","A4")))))) -> A2 | Q32: =P32 -> A2 | U32: =$Q32 -> A2 | V32: =R32 -> 0 | W32: =IFERROR(VLOOKUP($D32,'P.TS-ĐT'!$C$10:$AM$26,23,0),0) -> 3 | X32: =IFERROR(VLOOKUP($D32,'P.TS-ĐT'!$C$10:$AM$26,37,0),0) -> 2 | Y32: 1 | AE32: =IF($L32=$P32,$L32,FALSE) -> A2 | AF32: 25 | BD32: TSDT | BE32: NV | BG32: Xếp loại A2
A33: =IF(D33="","",SUBTOTAL(3,$D$8:D33)) -> 21 | B33: 10 | C33: Thái Thị My Sa | D33: 01002020 | G33: =IF($H33<>0,"A1",IF($I33<>0,"A2",IF($J33<>0,"A3","A4"))) -> A2 | I33: - Bài viết đăng Kỷ yếu hội thảo cấp trường (ICSS 2022) | J33: - Bài viết sáng kiến được công nhận phạm vi ảnh hưởng cấp trường năm học 2021-2022 (QĐ số 189/QĐ-LTT-HĐSK ngày 15/4/2022) | L33: A2 | N33: =IFERROR(VLOOKUP($D33,'P.TS-ĐT'!$C$10:$AM$26,22,0),0) -> 6 | O33: =IFERROR(VLOOKUP($D33,'P.TS-ĐT'!$C$10:$AM$26,36,0),0) -> 2 | P33: =IF(AND($W33>=2,$X33>=3,$Y33>=1,H33<>0),"A1",IF(AND($W33>=3,$X33>=1,$Y33>=1,H33<>0),"A1",IF(AND($W33>=4,$X33>=0,$Y33>=1,H33<>0),"A1",IF(AND($W33>=2,$X33>=2,$Y33>=1,I33<>0),"A2",IF(AND($W33>=3,$X33>=0,$Y33>=1,I33<>0),"A2",IF(AND(OR($W33>=1,$X33>=2),J33<>0,$Y33>=-2),"A3","A4")))))) -> A2 | Q33: =P33 -> A2 | R33: Nhóm TT đề nghị xếp A1 | U33: =$Q33 -> A2 | W33: =IFERROR(VLOOKUP($D33,'P.TS-ĐT'!$C$10:$AM$26,23,0),0) -> 6 | X33: =IFERROR(VLOOKUP($D33,'P.TS-ĐT'!$C$10:$AM$26,37,0),0) -> 2 | Y33: 1 | AE33: =IF($L33=$P33,$L33,FALSE) -> A2 | AF33: 22 | BD33: TSDT | BE33: NV | BG33: Xếp loại A3
