Workbook

Sheet Kangatang

Sheet Don vi
E1: Không quá 20% | G1: Không quá 30% | R1: Không quá 20% | T1: Không quá 30% | AE1: Không quá 20% | AG1: Không quá 30%
A3: TT | B3: Tên đơn vị | C3: Mã đơn vị | D3: Số lượng nhân sự | E3: Đơn vị xếp loại | R3: Nhóm TT đề nghị | AE3: Kết quả của HĐ
E4: Xếp loại A1 | G4: Xếp loại A2 | I4: Xếp loại A3 | K4: Xếp loại A4 | M4: Xếp loại B1 | N4: Xếp loại B2 | O4: Xếp loại C1 | P4: Xếp loại C2 | Q4: Xếp loại D | R4: Xếp loại A1 | T4: Xếp loại A2 | V4: Xếp loại A3 | X4: Xếp loại A4 | Z4: Xếp loại B1 | AA4: Xếp loại B2 | AB4: Xếp loại C1 | AC4: Xếp loại C2 | AD4: Xếp loại D | AE4: Xếp loại A1 | AG4: Xếp loại A2 | AI4: Xếp loại A3 | AK4: Xếp loại A4 | AM4: Xếp loại B1 | AN4: Xếp loại B2 | AO4: Xếp loại C1 | AP4: Xếp loại C2 | AQ4: Xếp loại D
E5: SL | F5: Tỷ lệ | G5: SL | H5: Tỷ lệ | I5: SL | J5: Tỷ lệ | K5: SL | L5: Tỷ lệ | M5: SL | N5: SL | O5: SL | P5: SL | Q5: SL | R5: SL | S5: Tỷ lệ | T5: SL | U5: Tỷ lệ | V5: SL | W5: Tỷ lệ | X5: SL | Y5: Tỷ lệ | Z5: SL | AA5: SL | AB5: SL | AC5: SL | AD5: SL | AE5: SL | AF5: Tỷ lệ | AG5: SL | AH5: Tỷ lệ | AI5: SL | AJ5: Tỷ lệ | AK5: SL | AL5: Tỷ lệ | AM5: SL | AN5: SL | AO5: SL | AP5: SL | AQ5: SL
A6: 1 | B6: Ban Giám hiệu | C6: BGH | D6: ='Chi tiet'!$L$7 -> 4 | E6: 4 | R6: 4 | AE6: 4
A7: 2 | B7: Phòng Kế hoạch - TC | C7: KHTC | D7: ='Chi tiet'!$L$12 -> 9 | E7: =E8+E9 -> 3 | G7: =G8+G9 -> 5 | I7: =I8+I9 -> 0 | J7: =J8+J9 -> 0 | K7: =K8+K9 -> 1 | L7: =ROUND($D7*$L$1,0) -> 0 | Y7: =ROUND($D7*$L$1,0) -> 0 | AL7: =ROUND($D7*$L$1,0) -> 0
B8: CBQL | D8: ='Chi tiet'!AL14 -> 1 | E8: =COUNTIF('Chi tiet'!$L14,"A1") -> 1 | F8: =E8/$D7 -> 0.11111111 | G8: =COUNTIF('Chi tiet'!$L14,"A2") -> 0 | H8: =G8/$D7 -> 0 | I8: =COUNTIF('Chi tiet'!$L14,"A3") -> 0 | K8: =COUNTIF('Chi tiet'!$L14,"A4") -> 0 | AE8: =COUNTIF('Chi tiet'!$L14,"A1") -> 1
B9: GV/NV | D9: ='Chi tiet'!AL15 -> 8 | E9: =COUNTIF('Chi tiet'!$L15:$L23,"A1") -> 2 | F9: =E9/$D7 -> 0.22222222 | G9: =COUNTIF('Chi tiet'!$L15:$L23,"A2") -> 5 | H9: =G9/$D7 -> 0.55555556 | I9: =COUNTIF('Chi tiet'!$L15:$L23,"A3") -> 0 | K9: =COUNTIF('Chi tiet'!$L15:$L23,"A4") -> 1 | R9: 2 | S9: =R9/$D7 -> 0.22222222 | T9: 2 | U9: =T9/$D7 -> 0.22222222 | AE9: =COUNTIF('Chi tiet'!$L15:$L23,"A1") -> 2 | AF9: =AE9/$D7 -> 0.22222222 | AG9: 2 | AH9: =AG9/$D7 -> 0.22222222
A10: 3 | B10: Phòng Tuyển sinh - ĐT | C10: TSDT | D10: ='Chi tiet'!$L$24 -> 16 | E10: =E11+E12 -> 2 | G10: =G11+G12 -> 9 | I10: =I11+I12 -> 4 | J10: =J11+J12 -> 0 | K10: =K11+K12 -> 1 | L10: =ROUND($D10*$L$1,0) -> 0 | Y10: =ROUND($D10*$L$1,0) -> 0 | AL10: =ROUND($D10*$L$1,0) -> 0
B11: CBQL | D11: ='Chi tiet'!AL27 -> 2 | E11: =COUNTIF('Chi tiet'!$L26:$L27,"A1") -> 2 | F11: =E11/$D10 -> 0.125 | G11: =COUNTIF('Chi tiet'!$L26:$L27,"A2") -> 0 | H11: =G11/$D10 -> 0 | I11: =COUNTIF('Chi tiet'!$L26:$L27,"A3") -> 0 | K11: =COUNTIF('Chi tiet'!$L26:$L27,"A4") -> 0
B12: GV/NV | D12: ='Chi tiet'!#REF! -> #REF! | E12: =COUNTIF('Chi tiet'!$L28:$L42,"A1") -> 0 | F12: =E12/$D10 -> 0 | G12: =COUNTIF('Chi tiet'!$L28:$L42,"A2") -> 9 | H12: =G12/$D10 -> 0.5625 | I12: =COUNTIF('Chi tiet'!$L28:$L42,"A3") -> 4 | K12: =COUNTIF('Chi tiet'!$L28:$L42,"A4") -> 1 | R12: 4 | S12: =R12/$D10 -> 0.25 | T12: 4 | U12: =T12/$D10 -> 0.25 | AE12: 4 | AF12: =AE12/$D10 -> 0.25 | AG12: 4 | AH12: =AG12/$D10 -> 0.25
A13: 4 | B13: Phòng Tổ chức - HC -TH | C13: TCHC | D13: ='Chi tiet'!$L$43 -> 27 | E13: =E14+E15 -> 4 | G13: =G14+G15 -> 5 | I13: =I14+I15 -> 5 | J13: =J14+J15 -> 0 | K13: =K14+K15 -> 12 | L13: =ROUND($D13*$L$1,0) -> 0 | Y13: =ROUND($D13*$L$1,0) -> 0 | AL13: =ROUND($D13*$L$1,0) -> 0
B14: CBQL | D14: ='Chi tiet'!AL46 -> 3 | E14: =COUNTIF('Chi tiet'!$L45:$L47,"A1") -> 3 | F14: =E14/$D13 -> 0.11111111 | G14: =COUNTIF('Chi tiet'!$L45:$L47,"A2") -> 0 | H14: =G14/$D13 -> 0 | I14: =COUNTIF('Chi tiet'!$L45:$L47,"A3") -> 0 | K14: =COUNTIF('Chi tiet'!$L45:$L47,"A4") -> 0
B15: GV/NV | D15: ='Chi tiet'!AL47 -> 24 | E15: =COUNTIF('Chi tiet'!$L48:$L72,"A1") -> 1 | F15: =E15/$D13 -> 0.037037037 | G15: =COUNTIF('Chi tiet'!$L48:$L72,"A2") -> 5 | H15: =G15/$D13 -> 0.18518519 | I15: =COUNTIF('Chi tiet'!$L48:$L72,"A3") -> 5 | K15: =COUNTIF('Chi tiet'!$L48:$L72,"A4") -> 12 | R15: 6 | S15: =R15/$D13 -> 0.22222222 | T15: 6 | U15: =T15/$D13 -> 0.22222222 | AE15: 6 | AF15: =AE15/$D13 -> 0.22222222 | AG15: 6 | AH15: =AG15/$D13 -> 0.22222222
A16: 5 | B16: Phòng TTGD - CTSV | C16: TTGD | D16: ='Chi tiet'!$L$73 -> 15 | E16: =E17+E18 -> 1 | G16: =G17+G18 -> 3 | I16: =I17+I18 -> 7 | J16: =J17+J18 -> 0 | K16: =K17+K18 -> 4 | L16: =ROUND($D16*$L$1,0) -> 0 | Y16: =ROUND($D16*$L$1,0) -> 0 | AL16: =ROUND($D16*$L$1,0) -> 0
B17: CBQL | D17: ='Chi tiet'!AL76 -> 2 | E17: =COUNTIF('Chi tiet'!$L75:$L76,"A1") -> 1 | F17: =E17/$D16 -> 0.066666667 | G17: =COUNTIF('Chi tiet'!$L75:$L76,"A2") -> 0 | H17: =G17/$D16 -> 0 | I17: =COUNTIF('Chi tiet'!$L75:$L76,"A3") -> 0 | K17: =COUNTIF('Chi tiet'!$L75:$L76,"A4") -> 1
B18: GV/NV | D18: ='Chi tiet'!AL77 -> 13 | E18: =COUNTIF('Chi tiet'!$L77:$L90,"A1") -> 0 | F18: =E18/$D16 -> 0 | G18: =COUNTIF('Chi tiet'!$L77:$L90,"A2") -> 3 | H18: =G18/$D16 -> 0.2 | I18: =COUNTIF('Chi tiet'!$L77:$L90,"A3") -> 7 | K18: =COUNTIF('Chi tiet'!$L77:$L90,"A4") -> 3 | R18: 4 | S18: =R18/$D16 -> 0.26666667 | T18: 4 | U18: =T18/$D16 -> 0.26666667 | AE18: 4 | AF18: =AE18/$D16 -> 0.26666667 | AG18: 4 | AH18: =AG18/$D16 -> 0.26666667
A19: 6 | B19: Phòng Khảo thí và ĐBCL | C19: ĐBCL | D19: ='Chi tiet'!$L$91 -> 7 | E19: =E20+E21 -> 0 | G19: =G20+G21 -> 2 | I19: =I20+I21 -> 3 | J19: =J20+J21 -> 0 | K19: =K20+K21 -> 2 | L19: =ROUND($D19*$L$1,0) -> 0 | Y19: =ROUND($D19*$L$1,0) -> 0 | AL19: =ROUND($D19*$L$1,0) -> 0
B20: CBQL | D20: ='Chi tiet'!AL93 -> 7 | E20: =COUNTIF('Chi tiet'!$L93:$L94,"A1") -> 0 | F20: =E20/$D19 -> 0 | G20: =COUNTIF('Chi tiet'!$L93:$L94,"A2") -> 0 | H20: =G20/$D19 -> 0 | I20: =COUNTIF('Chi tiet'!$L93:$L94,"A3") -> 0 | K20: =COUNTIF('Chi tiet'!$L93:$L94,"A4") -> 2
B21: GV/NV | D21: ='Chi tiet'!AL94 -> 2 | E21: =COUNTIF('Chi tiet'!$L95:$L100,"A1") -> 0 | F21: =E21/$D19 -> 0 | G21: =COUNTIF('Chi tiet'!$L95:$L100,"A2") -> 2 | H21: =G21/$D19 -> 0.28571429 | I21: =COUNTIF('Chi tiet'!$L95:$L100,"A3") -> 3 | K21: =COUNTIF('Chi tiet'!$L95:$L100,"A4") -> 0 | R21: 2 | S21: =R21/$D19 -> 0.28571429 | T21: 2 | U21: =T21/$D19 -> 0.28571429 | AE21: 2 | AF21: =AE21/$D19 -> 0.28571429 | AG21: 2 | AH21: =AG21/$D19 -> 0.28571429
A22: 7 | B22: Phòng QLKH và HTQT | C22: QHQT | D22: ='Chi tiet'!$L$101 -> 3 | E22: =E23+E24 -> 1 | G22: =G23+G24 -> 1 | I22: =I23+I24 -> 0 | J22: =J23+J24 -> 0 | K22: =K23+K24 -> 1 | L22: =ROUND($D22*$L$1,0) -> 0 | Y22: =ROUND($D22*$L$1,0) -> 0 | AL22: =ROUND($D22*$L$1,0) -> 0
B23: CBQL | D23: ='Chi tiet'!AL104 -> 1 | E23: =COUNTIF('Chi tiet'!$L103:$L103,"A1") -> 0 | F23: =E23/$D22 -> 0 | G23: =COUNTIF('Chi tiet'!$L103:$L103,"A2") -> 1 | I23: =COUNTIF('Chi tiet'!$L103:$L103,"A3") -> 0 | K23: =COUNTIF('Chi tiet'!$L103:$L103,"A4") -> 0
B24: GV/NV | D24: ='Chi tiet'!AL105 -> 2 | E24: =COUNTIF('Chi tiet'!$L105:$L106,"A1") -> 1 | F24: =E24/$D22 -> 0.33333333 | G24: =COUNTIF('Chi tiet'!$L105:$L106,"A2") -> 0 | H24: =G24/$D22 -> 0 | I24: =COUNTIF('Chi tiet'!$L105:$L106,"A3") -> 0 | K24: =COUNTIF('Chi tiet'!$L105:$L106,"A4") -> 1 | R24: 1 | S24: =R24/$D22 -> 0.33333333 | T24: 1 | U24: =T24/$D22 -> 0.33333333 | AE24: 1 | AF24: =AE24/$D22 -> 0.33333333 | AG24: 1 | AH24: =AG24/$D22 -> 0.33333333
A25: 8 | B25: Phòng Quản trị - DV | C25: QTDV | D25: ='Chi tiet'!$L$107 -> 27 | L25: =ROUND($D25*$L$1,0) -> 0 | Y25: =ROUND($D25*$L$1,0) -> 0 | AL25: =ROUND($D25*$L$1,0) -> 0
B26: CBQL | D26: ='Chi tiet'!AL110 -> 3 | E26: =COUNTIF('Chi tiet'!$L109:$L110,"A1") -> 2 | F26: =E26/$D25 -> 0.074074074 | G26: =COUNTIF('Chi tiet'!$L109:$L110,"A2") -> 0 | I26: =COUNTIF('Chi tiet'!$L109:$L110,"A3") -> 0 | K26: =COUNTIF('Chi tiet'!$L109:$L110,"A4") -> 0 | M26: =COUNTIF('Chi tiet'!$L109:$L110,"B1") -> 0 | N26: =COUNTIF('Chi tiet'!$L109:$L110,"B2") -> 0 | O26: =COUNTIF('Chi tiet'!$L109:$L110,"C1") -> 0 | P26: =COUNTIF('Chi tiet'!$L109:$L110,"C2") -> 0 | Q26: =COUNTIF('Chi tiet'!$L109:$L110,"D") -> 0
B27: GV/NV | D27: ='Chi tiet'!AL112 -> 0 | E27: =COUNTIF('Chi tiet'!$L112:$L136,"A1") -> 0 | F27: =E27/$D25 -> 0 | G27: =COUNTIF('Chi tiet'!$L112:$L136,"A2") -> 5 | H27: =G27/$D25 -> 0.18518519 | I27: =COUNTIF('Chi tiet'!$L112:$L136,"A3") -> 5 | K27: =COUNTIF('Chi tiet'!$L112:$L136,"A4") -> 13 | M27: =COUNTIF('Chi tiet'!$L112:$L136,"B1") -> 0 | N27: =COUNTIF('Chi tiet'!$L112:$L136,"B2") -> 0 | O27: =COUNTIF('Chi tiet'!$L112:$L136,"C1") -> 0 | P27: =COUNTIF('Chi tiet'!$L112:$L136,"C2") -> 0 | Q27: =COUNTIF('Chi tiet'!$L112:$L136,"D") -> 0 | R27: 7 | S27: =R27/$D25 -> 0.25925926 | T27: 7 | U27: =T27/$D25 -> 0.25925926 | AE27: 7 | AF27: =AE27/$D25 -> 0.25925926 | AG27: 7 | AH27: =AG27/$D25 -> 0.25925926
A28: 9 | B28: Khoa Khoa học cơ bản | C28: KHCB | D28: ='Chi tiet'!$L$137 -> 21 | L28: =ROUND($D28*$L$1,0) -> 0 | Y28: =ROUND($D28*$L$1,0) -> 0 | AL28: =ROUND($D28*$L$1,0) -> 0
B29: CBQL | D29: ='Chi tiet'!AL140 -> 2 | E29: =COUNTIF('Chi tiet'!$L139:$L140,"A1") -> 1 | F29: =E29/$D28 -> 0.047619048 | G29: =COUNTIF('Chi tiet'!$L139:$L140,"A2") -> 0 | I29: =COUNTIF('Chi tiet'!$L139:$L140,"A3") -> 0 | K29: =COUNTIF('Chi tiet'!$L139:$L140,"A4") -> 1
B30: GV/NV | D30: ='Chi tiet'!AL141 -> 19 | E30: =COUNTIF('Chi tiet'!$L141:$L174,"A1") -> 2 | F30: =E30/$D28 -> 0.095238095 | G30: =COUNTIF('Chi tiet'!$L141:$L174,"A2") -> 3 | H30: =G30/$D28 -> 0.14285714 | I30: =COUNTIF('Chi tiet'!$L141:$L174,"A3") -> 7 | K30: =COUNTIF('Chi tiet'!$L141:$L174,"A4") -> 19 | R30: 8 | S30: =R30/$D28 -> 0.38095238 | T30: 8 | U30: =T30/$D28 -> 0.38095238 | AE30: 8 | AF30: =AE30/$D28 -> 0.38095238 | AG30: 8 | AH30: =AG30/$D28 -> 0.38095238
A31: 10 | B31: Khoa Lý luận chính trị | C31: LLCT | D31: ='Chi tiet'!$L$175 -> 15 | L31: =ROUND($D31*$L$1,0) -> 0 | Y31: =ROUND($D31*$L$1,0) -> 0 | AL31: =ROUND($D31*$L$1,0) -> 0
B32: CBQL | D32: ='Chi tiet'!AL178 -> 2
B33: GV/NV | D33: ='Chi tiet'!AL179 -> 13 | R33: 4 | S33: =R33/$D31 -> 0.26666667 | T33: 4 | U33: =T33/$D31 -> 0.26666667 | AE33: 4 | AF33: =AE33/$D31 -> 0.26666667 | AG33: 4 | AH33: =AG33/$D31 -> 0.26666667
A34: 11 | B34: Khoa Cơ khí | C34: CK | D34: ='Chi tiet'!$L$192 -> 28 | L34: =ROUND($D34*$L$1,0) -> 0 | Y34: =ROUND($D34*$L$1,0) -> 0 | AL34: =ROUND($D34*$L$1,0) -> 0
B35: CBQL | D35: ='Chi tiet'!AL195 -> 2
B36: GV/NV | D36: ='Chi tiet'!AL196 -> 26 | R36: 7 | S36: =R36/$D34 -> 0.25 | T36: 7 | U36: =T36/$D34 -> 0.25 | AE36: 7 | AF36: =AE36/$D34 -> 0.25 | AG36: 7 | AH36: =AG36/$D34 -> 0.25
A37: 12 | B37: Khoa Công nghệ thông tin | C37: CNTT | D37: ='Chi tiet'!$L$222 -> 21 | L37: =ROUND($D37*$L$1,0) -> 0 | Y37: =ROUND($D37*$L$1,0) -> 0 | AL37: =ROUND($D37*$L$1,0) -> 0
B38: CBQL | D38: ='Chi tiet'!AL225 -> 2
B39: GV/NV | D39: ='Chi tiet'!AL226 -> 19 | R39: 5 | S39: =R39/$D37 -> 0.23809524 | T39: 5 | U39: =T39/$D37 -> 0.23809524 | AE39: 5 | AF39: =AE39/$D37 -> 0.23809524 | AG39: 5 | AH39: =AG39/$D37 -> 0.23809524
A40: 13 | B40: Khoa Động lực | C40: DL | D40: ='Chi tiet'!$L$245 -> 27 | L40: =ROUND($D40*$L$1,0) -> 0 | Y40: =ROUND($D40*$L$1,0) -> 0 | AL40: =ROUND($D40*$L$1,0) -> 0
B41: CBQL | D41: ='Chi tiet'!AL248 -> 2
B42: GV/NV | D42: ='Chi tiet'!AL249 -> 25 | R42: 6 | S42: =R42/$D40 -> 0.22222222 | T42: 6 | U42: =T42/$D40 -> 0.22222222 | AE42: 6 | AF42: =AE42/$D40 -> 0.22222222 | AG42: 6 | AH42: =AG42/$D40 -> 0.22222222
A43: 14 | B43: Khoa Điện - Điện tử | C43: DDT | D43: ='Chi tiet'!$L$275 -> 30 | L43: =ROUND($D43*$L$1,0) -> 0 | Y43: =ROUND($D43*$L$1,0) -> 0 | AL43: =ROUND($D43*$L$1,0) -> 0
B44: CBQL | D44: ='Chi tiet'!AL278 -> 3
B45: GV/NV | D45: ='Chi tiet'!AL279 -> 27 | R45: 7 | S45: =R45/$D43 -> 0.23333333 | T45: 7 | U45: =T45/$D43 -> 0.23333333 | AE45: 7 | AF45: =AE45/$D43 -> 0.23333333 | AG45: 7 | AH45: =AG45/$D43 -> 0.23333333
A46: 15 | B46: Khoa May - Thời trang | C46: MTT | D46: ='Chi tiet'!$L$307 -> 9 | L46: =ROUND($D46*$L$1,0) -> 0 | Y46: =ROUND($D46*$L$1,0) -> 0 | AL46: =ROUND($D46*$L$1,0) -> 0
B47: CBQL | D47: ='Chi tiet'!AL310 -> 1
B48: GV/NV | D48: ='Chi tiet'!AL311 -> 8 | R48: 2 | S48: =R48/$D46 -> 0.22222222 | T48: 2 | U48: =T48/$D46 -> 0.22222222 | AE48: 2 | AF48: =AE48/$D46 -> 0.22222222 | AG48: 2 | AH48: =AG48/$D46 -> 0.22222222
A49: 16 | B49: Khoa Nhiệt - Lạnh | C49: NL | D49: ='Chi tiet'!$L$318 -> 9 | L49: =ROUND($D49*$L$1,0) -> 0 | Y49: =ROUND($D49*$L$1,0) -> 0 | AL49: =ROUND($D49*$L$1,0) -> 0
B50: CBQL | D50: ='Chi tiet'!AL321 -> 2
B51: GV/NV | D51: ='Chi tiet'!AL322 -> 7 | R51: 2 | S51: =R51/$D49 -> 0.22222222 | T51: 2 | U51: =T51/$D49 -> 0.22222222 | AE51: 2 | AF51: =AE51/$D49 -> 0.22222222 | AG51: 2 | AH51: =AG51/$D49 -> 0.22222222
A52: 17 | B52: Khoa Kinh tế | C52: KTE | D52: ='Chi tiet'!$L$329 -> 18 | L52: =ROUND($D52*$L$1,0) -> 0 | Y52: =ROUND($D52*$L$1,0) -> 0 | AL52: =ROUND($D52*$L$1,0) -> 0
B53: CBQL | D53: ='Chi tiet'!AL332 -> 2
B54: GV/NV | D54: ='Chi tiet'!AL333 -> 16 | R54: 4 | S54: =R54/$D52 -> 0.22222222 | T54: 4 | U54: =T54/$D52 -> 0.22222222 | AE54: 4 | AF54: =AE54/$D52 -> 0.22222222 | AG54: 4 | AH54: =AG54/$D52 -> 0.22222222
A55: 18 | B55: Khoa Xây dựng | C55: XD | D55: ='Chi tiet'!$L$349 -> 3 | L55: =ROUND($D55*$L$1,0) -> 0 | Y55: =ROUND($D55*$L$1,0) -> 0 | AL55: =ROUND($D55*$L$1,0) -> 0
B56: CBQL | D56: ='Chi tiet'!AL353 -> 2
B57: GV/NV | D57: ='Chi tiet'!AL352 -> 1 | R57: 1 | S57: =R57/$D55 -> 0.33333333 | T57: 1 | U57: =T57/$D55 -> 0.33333333 | AE57: 1 | AF57: =AE57/$D55 -> 0.33333333 | AG57: 1 | AH57: =AG57/$D55 -> 0.33333333
A58: 19 | B58: Trung tâm Thư viện | C58: THUVIEN | D58: ='Chi tiet'!$L$354 -> 7 | L58: =ROUND($D58*$L$1,0) -> 0 | Y58: =ROUND($D58*$L$1,0) -> 0 | AL58: =ROUND($D58*$L$1,0) -> 0
B59: CBQL | D59: ='Chi tiet'!AL358 -> 1
B60: GV/NV | D60: ='Chi tiet'!AL359 -> 6 | R60: 1 | S60: =R60/$D58 -> 0.14285714 | T60: 1 | U60: =T60/$D58 -> 0.14285714 | AE60: 1 | AF60: =AE60/$D58 -> 0.14285714 | AG60: 1 | AH60: =AG60/$D58 -> 0.14285714
A61: 20 | B61: Trung tâm Đào tạo LTT | C61: TTĐT | D61: ='Chi tiet'!$L$364 -> 10 | L61: =ROUND($D61*$L$1,0) -> 0 | Y61: =ROUND($D61*$L$1,0) -> 0 | AL61: =ROUND($D61*$L$1,0) -> 0
B62: CBQL | D62: ='Chi tiet'!AL368 -> 8
B63: GV/NV | D63: ='Chi tiet'!#REF! -> #REF! | R63: 1 | S63: =R63/$D61 -> 0.1 | T63: 1 | U63: =T63/$D61 -> 0.1 | AE63: 1 | AF63: =AE63/$D61 -> 0.1 | AG63: 1 | AH63: =AG63/$D61 -> 0.1
A64: 21 | B64: Trung tâm Y tế | C64: YT | D64: ='Chi tiet'!$L$377 -> 3 | L64: =ROUND($D64*$L$1,0) -> 0 | Y64: =ROUND($D64*$L$1,0) -> 0 | AL64: =ROUND($D64*$L$1,0) -> 0
B65: CBQL | D65: ='Chi tiet'!AL380 -> 1
B66: GV/NV | D66: ='Chi tiet'!AL381 -> 2 | R66: 1 | S66: =R66/$D64 -> 0.33333333 | T66: 1 | U66: =T66/$D64 -> 0.33333333 | AE66: 1 | AF66: =AE66/$D64 -> 0.33333333 | AG66: 1 | AH66: =AG66/$D64 -> 0.33333333
A67: 22 | B67: Trung tâm QHDN | C67: QHDN | D67: ='Chi tiet'!$L$383 -> 2 | L67: =ROUND($D67*$L$1,0) -> 0 | Y67: =ROUND($D67*$L$1,0) -> 0 | AL67: =ROUND($D67*$L$1,0) -> 0
B68: CBQL | D68: ='Chi tiet'!AL386 -> 1
B69: GV/NV | D69: ='Chi tiet'!AL387 -> 1 | F69: =E69/$D67 -> 0 | S69: =R69/$D67 -> 0 | T69: 1 | U69: =T69/$D67 -> 0.5 | AF69: =AE69/$D67 -> 0 | AG69: 1 | AH69: =AG69/$D67 -> 0.5
A70: 23 | B70: Trung tâm ĐH và QLDL | C70: TTĐH | D70: ='Chi tiet'!$L$387 -> 7 | L70: =ROUND($D70*$L$1,0) -> 0 | Y70: =ROUND($D70*$L$1,0) -> 0 | AL70: =ROUND($D70*$L$1,0) -> 0
B71: CBQL | D71: ='Chi tiet'!AL393 -> 2
B72: GV/NV | D72: ='Chi tiet'!AL394 -> 5 | J72: =I72/$D70 -> 0 | R72: 1 | S72: =R72/$D70 -> 0.14285714 | T72: 1 | U72: =T72/$D70 -> 0.14285714 | W72: =V72/$D70 -> 0 | AE72: 1 | AF72: =AE72/$D70 -> 0.14285714 | AG72: 1 | AH72: =AG72/$D70 -> 0.14285714 | AJ72: =AI72/$D70 -> 0
B73: Tổng cộng | D73: =D6+D7+D10+D13+D16+D19+D22+D25+D28+D31+D34+D37+D40+D43+D46+D49+D52+D55+D58+D61+D64+D67+D70 -> 318 | E73: =SUM(E6:E70) -> 31 | G73: =SUM(G6:G70) -> 58 | I73: =SUM(I6:I70) -> 50 | K73: =SUM(K6:K70) -> 75 | L73: =SUM(L7:L70) -> 0 | R73: =SUM(R6:R70) -> 79 | T73: =SUM(T6:T70) -> 76 | V73: =SUM(V6:V70) -> 0 | X73: =SUM(X6:X70) -> 0 | Y73: =SUM(Y7:Y70) -> 0 | AE73: =SUM(AE6:AE70) -> 80 | AG73: =SUM(AG6:AG70) -> 76 | AI73: =SUM(AI6:AI70) -> 0 | AK73: =SUM(AK6:AK70) -> 0 | AL73: =SUM(AL7:AL70) -> 0
B76: Kết quả xếp loại | E76: Đơn vị xếp loại | G76: Nhóm TT đề nghị | I76: Kết quả của HĐ | R76: Trưởng, Phó đơn vị | S76: Tỷ lệ | T76: GV/NV | U76: Tỷ lệ | AE76: Trưởng, Phó đơn vị | AF76: Tỷ lệ | AG76: GV/NV | AH76: Tỷ lệ
E77: SL | F77: Tỷ lệ | G77: SL | H77: Tỷ lệ | I77: SL | J77: Tỷ lệ | K77: Tỷ lệ
B78: Xếp loại A1 | E78: =$E73 -> 31 | F78: =E78/$D$73 -> 0.097484277 | G78: =R73 -> 79 | H78: =G78/$D$73 -> 0.24842767 | R78: =R6+R8+R11+R14+R17+R20+R23+R26+R29+R32+R35+R38+R41+R44+R47+R50+R53+R56+R59+R62+R65+R68+R71 -> 4 | S78: =R78/$D$73 -> 0.012578616 | T78: =R9+R12+R15+R18+R21+R24+R27+R30+R33+R36+R39+R42+R45+R48+R51+R54+R57+R60+R63+R66+R69+R72 -> 76 | U78: =T78/Q73 -> #DIV/0! | AE78: =AE6+AE8+AE11+AE14+AE17+AE20+AE23+AE26+AE29+AE32+AE35+AE38+AE41+AE44+AE47+AE50+AE53+AE56+AE59+AE62+AE65+AE68+AE71 -> 5 | AF78: =AE78/$D$73 -> 0.01572327 | AG78: =AE9+AE12+AE15+AE18+AE21+AE24+AE27+AE30+AE33+AE36+AE39+AE42+AE45+AE48+AE51+AE54+AE57+AE60+AE63+AE66+AE69+AE72 -> 76 | AH78: =AG78/AD73 -> #DIV/0!
B79: Xếp loại A2 | E79: =G73 -> 58 | F79: =E79/$D$73 -> 0.18238994 | G79: =T73 -> 76 | H79: =G79/$D$73 -> 0.23899371
B80: Xếp loại A3 | E80: =I73 -> 50 | F80: =E80/$D$73 -> 0.1572327 | G80: =V73 -> 0 | H80: =G80/$D$73 -> 0
B81: Xếp loại A4 | E81: =K73 -> 75 | F81: =E81/$D$73 -> 0.23584906 | G81: =X73 -> 0 | H81: =G81/$D$73 -> 0
B82: Xếp loại B1 | E82: =M73 -> 0 | F82: =E82/$D$73 -> 0 | G82: =Z73 -> 0 | H82: =G82/$D$73 -> 0 | R82: =R10+R12+R15+R18+R21+R24+R27+R30+R33+R36+R39+R42+R45+R48+R51+R54+R57+R60+R63+R66+R69+R72+R75 -> 74 | S82: =R82/$D$73 -> 0.2327044 | T82: =R13+R16+R19+R22+R25+R28+R31+R34+R37+R40+R43+R46+R49+R52+R55+R58+R61+R64+R67+R70+R73+R76 -> #VALUE! | U82: =T82/Q78 -> #VALUE! | AE82: =AE10+AE12+AE15+AE18+AE21+AE24+AE27+AE30+AE33+AE36+AE39+AE42+AE45+AE48+AE51+AE54+AE57+AE60+AE63+AE66+AE69+AE72+AE75 -> 74 | AF82: =AE82/$D$73 -> 0.2327044 | AG82: =AE13+AE16+AE19+AE22+AE25+AE28+AE31+AE34+AE37+AE40+AE43+AE46+AE49+AE52+AE55+AE58+AE61+AE64+AE67+AE70+AE73+AE76 -> #VALUE! | AH82: =AG82/AD78 -> #VALUE!
B83: Xếp loại B2 | E83: =N73 -> 0 | F83: =E83/$D$73 -> 0 | G83: =AA73 -> 0 | H83: =G83/$D$73 -> 0
B84: Xếp loại C1 | E84: =O73 -> 0 | F84: =E84/$D$73 -> 0 | G84: =AB73 -> 0 | H84: =G84/$D$73 -> 0
B85: Xếp loại C2 | E85: =P73 -> 0 | F85: =E85/$D$73 -> 0 | G85: =AC73 -> 0 | H85: =G85/$D$73 -> 0
B86: Xếp loại D | E86: =Q73 -> 0 | F86: =E86/$D$73 -> 0 | G86: =AD73 -> 0 | H86: =G86/$D$73 -> 0
B87: Xếp loại E | F87: =E87/$D$73 -> 0 | H87: =G87/$D$73 -> 0

Sheet Thong ke
D1: 0.2 | E1: 0.3 | G1: =8*20/100 -> 1.6
A3: TT | B3: Tên đơn vị | C3: Số lượng nhân sự | D3: Xếp loại A1 (tỷ lệ 20%) | E3: Xếp loại A2 (tỷ lệ 30%) | F3: Đơn vị đề nghị xếp loại thi đua | J3: Kết luận của HĐ | N3: Tổng tỷ lệ
F4: A1 | G4: Tỷ lệ | H4: A2 | I4: Tỷ lệ | J4: A1 | K4: Tỷ lệ | L4: A2 | M4: Tỷ lệ
A5: 1 | B5: Ban Giám hiệu | C5: ='Chi tiet'!$L$7 -> 4
A6: 2 | B6: Phòng Kế hoạch - TC | C6: ='Chi tiet'!$L$12 -> 9 | D6: =ROUND(($C6-1)*$D$1,1) -> 1.6 | E6: =ROUND(($C6-1)*$E$1,1) -> 2.4 | F6: ='Chi tiet'!$E$13 -> 2 | G6: ='Chi tiet'!$E$14 -> 0.25 | H6: ='Chi tiet'!$F$13 -> 5 | I6: ='Chi tiet'!$F$14 -> 0.625 | J6: ='Chi tiet'!$S$13 -> 6 | K6: ='Chi tiet'!$S$14 -> 0.75 | L6: ='Chi tiet'!$T$13 -> 1 | M6: ='Chi tiet'!$T$14 -> 0.125 | N6: =G6+I6 -> 0.875 | O6: =IF($N6<=#REF!,TRUE,FALSE) -> #REF!
A7: 3 | B7: Phòng Tuyển sinh - ĐT | C7: ='Chi tiet'!$L$24 -> 16 | D7: =ROUND(($C7-3)*$D$1,1) -> 2.6 | E7: =ROUND(($C7-3)*$E$1,1) -> 3.9 | F7: ='Chi tiet'!$E$26 -> 0 | G7: ='Chi tiet'!$E$27 -> 0 | H7: ='Chi tiet'!$F$26 -> 9 | I7: ='Chi tiet'!$F$27 -> 0.64285714 | J7: ='Chi tiet'!$S$26 -> 4 | K7: ='Chi tiet'!$S$27 -> 0.28571429 | L7: ='Chi tiet'!$T$26 -> 5 | M7: ='Chi tiet'!$T$27 -> 0.35714286 | N7: =G7+I7 -> 0.64285714 | O7: =IF($N7<=#REF!,TRUE,FALSE) -> #REF!
A8: 4 | B8: Phòng Tổ chức - HC -TH | C8: ='Chi tiet'!$L$43 -> 27 | D8: =ROUND(($C8-3)*$D$1,1) -> 4.8 | E8: =ROUND(($C8-3)*$E$1,1) -> 7.2 | F8: ='Chi tiet'!$E$44 -> 1 | G8: ='Chi tiet'!$E$45 -> 0.041666667 | H8: ='Chi tiet'!$F$44 -> 5 | I8: ='Chi tiet'!$F$45 -> 0.20833333 | J8: ='Chi tiet'!$S$44 -> 2 | K8: ='Chi tiet'!$S$45 -> 0.083333333 | L8: ='Chi tiet'!$T$44 -> 8 | M8: ='Chi tiet'!$T$45 -> 0.33333333 | N8: =G8+I8 -> 0.25 | O8: =IF($N8<=#REF!,TRUE,FALSE) -> #REF!
A9: 5 | B9: Phòng TTGD - CTSV | C9: ='Chi tiet'!$L$73 -> 15 | D9: =ROUND(($C9-2)*$D$1,1) -> 2.6 | E9: =ROUND(($C9-2)*$E$1,1) -> 3.9 | F9: ='Chi tiet'!$E$75 -> 0 | G9: ='Chi tiet'!$E$76 -> 0 | H9: ='Chi tiet'!$F$75 -> 3 | I9: ='Chi tiet'!$F$76 -> 0.23076923 | J9: ='Chi tiet'!$S$75 -> 0 | K9: ='Chi tiet'!$S$76 -> 0 | L9: ='Chi tiet'!$T$75 -> 3 | M9: ='Chi tiet'!$T$76 -> 0.23076923 | N9: =G9+I9 -> 0.23076923 | O9: =IF($N9<=#REF!,TRUE,FALSE) -> #REF!
A10: 6 | B10: Phòng Khảo thí và ĐBCL | C10: ='Chi tiet'!$L$91 -> 7 | D10: =ROUND(($C10-3)*$D$1,1) -> 0.8 | E10: =ROUND(($C10-3)*$E$1,1) -> 1.2 | F10: ='Chi tiet'!$E$93 -> 0 | G10: ='Chi tiet'!$E$94 -> 0 | H10: ='Chi tiet'!$F$93 -> 2 | I10: ='Chi tiet'!$F$94 -> 0.4 | J10: ='Chi tiet'!$S$93 -> 1 | K10: ='Chi tiet'!$S$94 -> 0.2 | L10: ='Chi tiet'!$T$93 -> 1 | M10: ='Chi tiet'!$T$94 -> 0.2 | N10: =G10+I10 -> 0.4 | O10: =IF($N10<=#REF!,TRUE,FALSE) -> #REF!
A11: 7 | B11: Phòng QLKH và HTQT | C11: ='Chi tiet'!$L$101 -> 3 | D11: =ROUND(($C11-1)*$D$1,1) -> 0.4 | E11: =ROUND(($C11-1)*$E$1,1) -> 0.6 | F11: ='Chi tiet'!$E$102 -> 1 | G11: ='Chi tiet'!$E$103 -> 0.5 | H11: ='Chi tiet'!$F$102 -> 0 | I11: ='Chi tiet'!$F$103 -> 0 | J11: ='Chi tiet'!$S$102 -> 2 | K11: ='Chi tiet'!$S$103 -> 1 | L11: ='Chi tiet'!$T$102 -> 0 | M11: ='Chi tiet'!$T$103 -> 0 | N11: =G11+I11 -> 0.5 | O11: =IF($N11<=#REF!,TRUE,FALSE) -> #REF!
A12: 8 | B12: Phòng Quản trị - DV | C12: ='Chi tiet'!$L$107 -> 27 | D12: =ROUND(($C12-2)*$D$1,1) -> 5 | E12: =ROUND(($C12-2)*$E$1,1) -> 7.5 | F12: ='Chi tiet'!$E$109 -> 0 | G12: ='Chi tiet'!$E$110 -> 0 | H12: ='Chi tiet'!$F$109 -> 5 | I12: ='Chi tiet'!$F$110 -> 0.20833333 | J12: ='Chi tiet'!$S$109 -> 5 | K12: ='Chi tiet'!$S$110 -> 0.20833333 | L12: ='Chi tiet'!$T$109 -> 3 | M12: ='Chi tiet'!$T$110 -> 0.125 | N12: =G12+I12 -> 0.20833333 | O12: =IF($N12<=#REF!,TRUE,FALSE) -> #REF!
A13: 9 | B13: Khoa Khoa học cơ bản | C13: ='Chi tiet'!$L$137 -> 21 | D13: =ROUND(($C13-2)*$D$1,1) -> 3.8 | E13: =ROUND(($C13-2)*$E$1,1) -> 5.7 | F13: ='Chi tiet'!$E$140 -> 2 | G13: ='Chi tiet'!$E$141 -> 0.10526316 | H13: ='Chi tiet'!$F$140 -> 3 | I13: ='Chi tiet'!$F$141 -> 0.15789474 | J13: ='Chi tiet'!$S$140 -> 3 | K13: ='Chi tiet'!$S$141 -> 0.15789474 | L13: ='Chi tiet'!$T$140 -> 6 | M13: ='Chi tiet'!$T$141 -> 0.31578947 | N13: =G13+I13 -> 0.26315789 | O13: =IF($N13<=#REF!,TRUE,FALSE) -> #REF!
A14: 10 | B14: Khoa Ngoại ngữ | C14: ='Chi tiet'!$G$160 -> 13 | D14: =ROUND(($C14-1)*$D$1,1) -> 2.4 | E14: =ROUND(($C14-1)*$E$1,1) -> 3.6 | F14: ='Chi tiet'!$E$161 -> 0 | G14: ='Chi tiet'!$E$162 -> 0 | H14: ='Chi tiet'!$F$161 -> 0 | I14: ='Chi tiet'!$F$162 -> 0 | J14: ='Chi tiet'!$S$161 -> 0 | K14: ='Chi tiet'!$S$162 -> 0 | L14: ='Chi tiet'!$T$161 -> 2 | M14: ='Chi tiet'!$T$162 -> 0.16666667 | N14: =G14+I14 -> 0 | O14: =IF($N14<=#REF!,TRUE,FALSE) -> #REF!
A15: 11 | B15: Khoa Lý luận chính trị | C15: ='Chi tiet'!$L$175 -> 15 | D15: =ROUND(($C15-2)*$D$1,1) -> 2.6 | E15: =ROUND(($C15-2)*$E$1,1) -> 3.9 | F15: ='Chi tiet'!$E$177 -> 1 | G15: ='Chi tiet'!$E$178 -> 0.076923077 | H15: ='Chi tiet'!$F$177 -> 0 | I15: ='Chi tiet'!$F$178 -> 0 | J15: ='Chi tiet'!$S$177 -> 1 | K15: ='Chi tiet'!$S$178 -> 0.076923077 | L15: ='Chi tiet'!$T$177 -> 0 | M15: ='Chi tiet'!$T$178 -> 0 | N15: =G15+I15 -> 0.076923077 | O15: =IF($N15<=#REF!,TRUE,FALSE) -> #REF!
A16: 12 | B16: Khoa Cơ khí | C16: ='Chi tiet'!$L$192 -> 28 | D16: =ROUND(($C16-2)*$D$1,1) -> 5.2 | E16: =ROUND(($C16-2)*$E$1,1) -> 7.8 | F16: ='Chi tiet'!$E$194 -> 2 | G16: ='Chi tiet'!$E$195 -> 0.076923077 | H16: ='Chi tiet'!$F$194 -> 4 | I16: ='Chi tiet'!$F$195 -> 0.15384615 | J16: ='Chi tiet'!$S$194 -> 2 | K16: ='Chi tiet'!$S$195 -> 0.076923077 | L16: ='Chi tiet'!$T$194 -> 4 | M16: ='Chi tiet'!$T$195 -> 0.15384615 | N16: =G16+I16 -> 0.23076923 | O16: =IF($N16<=#REF!,TRUE,FALSE) -> #REF!
A17: 13 | B17: Khoa Công nghệ thông tin | C17: ='Chi tiet'!$L$222 -> 21 | D17: =ROUND(($C17-2)*$D$1,1) -> 3.8 | E17: =ROUND(($C17-2)*$E$1,1) -> 5.7 | F17: ='Chi tiet'!$E$224 -> 0 | G17: ='Chi tiet'!$E$225 -> 0 | H17: ='Chi tiet'!$F$224 -> 0 | I17: ='Chi tiet'!$F$225 -> 0 | J17: ='Chi tiet'!$S$224 -> 0 | K17: ='Chi tiet'!$S$225 -> 0 | L17: ='Chi tiet'!$T$224 -> 1 | M17: ='Chi tiet'!$T$225 -> 0.052631579 | N17: =G17+I17 -> 0 | O17: =IF($N17<=#REF!,TRUE,FALSE) -> #REF!
A18: 14 | B18: Khoa Động lực | C18: ='Chi tiet'!$L$245 -> 27 | D18: =ROUND(($C18-2)*$D$1,1) -> 5 | E18: =ROUND(($C18-2)*$E$1,1) -> 7.5 | F18: ='Chi tiet'!$E$248 -> 1 | G18: ='Chi tiet'!$E$249 -> 0.04 | H18: ='Chi tiet'!$F$248 -> 0 | I18: ='Chi tiet'!$F$249 -> 0 | J18: ='Chi tiet'!$S$248 -> 1 | K18: ='Chi tiet'!$S$249 -> 0.04 | L18: ='Chi tiet'!$T$248 -> 0 | M18: ='Chi tiet'!$T$249 -> 0 | N18: =G18+I18 -> 0.04 | O18: =IF($N18<=#REF!,TRUE,FALSE) -> #REF!
A19: 15 | B19: Khoa Điện - Điện tử | C19: ='Chi tiet'!$L$275 -> 30 | D19: =ROUND(($C19-3)*$D$1,1) -> 5.4 | E19: =ROUND(($C19-3)*$E$1,1) -> 8.1 | F19: ='Chi tiet'!$E$277 -> 5 | G19: ='Chi tiet'!$E$278 -> 0.18518519 | H19: ='Chi tiet'!$F$277 -> 2 | I19: ='Chi tiet'!$F$278 -> 0.074074074 | J19: ='Chi tiet'!$S$277 -> 5 | K19: ='Chi tiet'!$S$278 -> 0.18518519 | L19: ='Chi tiet'!$T$277 -> 2 | M19: ='Chi tiet'!$T$278 -> 0.074074074 | N19: =G19+I19 -> 0.25925926 | O19: =IF($N19<=#REF!,TRUE,FALSE) -> #REF!
A20: 16 | B20: Khoa May - Thời trang | C20: ='Chi tiet'!$L$307 -> 9 | D20: =ROUND(($C20-1)*$D$1,1) -> 1.6 | E20: =ROUND(($C20-1)*$E$1,1) -> 2.4 | F20: ='Chi tiet'!$E$309 -> 0 | G20: ='Chi tiet'!$E$310 -> 0 | H20: ='Chi tiet'!$F$309 -> 0 | I20: ='Chi tiet'!$F$310 -> 0 | J20: ='Chi tiet'!$S$309 -> 0 | K20: ='Chi tiet'!$S$310 -> 0 | L20: ='Chi tiet'!$T$309 -> 0 | M20: ='Chi tiet'!$T$310 -> 0 | N20: =G20+I20 -> 0 | O20: =IF($N20<=#REF!,TRUE,FALSE) -> #REF!
A21: 17 | B21: Khoa Nhiệt - Lạnh | C21: ='Chi tiet'!$L$318 -> 9 | D21: =ROUND(($C21-2)*$D$1,1) -> 1.4 | E21: =ROUND(($C21-2)*$E$1,1) -> 2.1 | F21: ='Chi tiet'!$E$320 -> 0 | G21: ='Chi tiet'!$E$321 -> 0 | H21: ='Chi tiet'!$F$320 -> 0 | I21: ='Chi tiet'!$F$321 -> 0 | J21: ='Chi tiet'!$S$320 -> 0 | K21: ='Chi tiet'!$S$321 -> 0 | L21: ='Chi tiet'!$T$320 -> 0 | M21: ='Chi tiet'!$T$321 -> 0 | N21: =G21+I21 -> 0 | O21: =IF($N21<=#REF!,TRUE,FALSE) -> #REF!
A22: 18 | B22: Khoa Kinh tế | C22: ='Chi tiet'!$L$329 -> 18 | D22: =ROUND(($C22-2)*$D$1,1) -> 3.2 | E22: =ROUND(($C22-2)*$E$1,1) -> 4.8 | F22: ='Chi tiet'!$E$332 -> 0 | G22: ='Chi tiet'!$E$333 -> 0 | H22: ='Chi tiet'!$F$332 -> 4 | I22: ='Chi tiet'!$F$333 -> 0.25 | J22: ='Chi tiet'!$S$332 -> 1 | K22: ='Chi tiet'!$S$333 -> 0.0625 | L22: ='Chi tiet'!$T$332 -> 1 | M22: ='Chi tiet'!$T$333 -> 0.0625 | N22: =G22+I22 -> 0.25 | O22: =IF($N22<=#REF!,TRUE,FALSE) -> #REF!
A23: 19 | B23: Khoa Xây dựng | C23: ='Chi tiet'!$L$349 -> 3 | D23: =ROUND(($C23-1)*$D$1,1) -> 0.4 | E23: =ROUND(($C23-1)*$E$1,1) -> 0.6 | F23: ='Chi tiet'!$E$351 -> 0 | G23: ='Chi tiet'!$E$352 -> 0 | H23: ='Chi tiet'!$F$351 -> 0 | I23: ='Chi tiet'!$F$352 -> 0 | J23: ='Chi tiet'!$S$351 -> 0 | K23: ='Chi tiet'!$S$352 -> 0 | L23: ='Chi tiet'!$T$351 -> 0 | M23: ='Chi tiet'!$T$352 -> 0 | N23: =G23+I23 -> 0 | O23: =IF($N23<=#REF!,TRUE,FALSE) -> #REF!
A24: 20 | B24: Trung tâm Thư viện | C24: ='Chi tiet'!$L$354 -> 7 | D24: =ROUND(($C24-1)*$D$1,1) -> 1.2 | E24: =ROUND(($C24-1)*$E$1,1) -> 1.8 | F24: ='Chi tiet'!$E$356 -> 0 | G24: ='Chi tiet'!$E$357 -> 0 | H24: ='Chi tiet'!$F$356 -> 0 | I24: ='Chi tiet'!$F$357 -> 0 | J24: ='Chi tiet'!$S$356 -> 0 | K24: ='Chi tiet'!$S$357 -> 0 | L24: ='Chi tiet'!$T$356 -> 0 | M24: ='Chi tiet'!$T$357 -> 0 | N24: =G24+I24 -> 0 | O24: =IF($N24<=#REF!,TRUE,FALSE) -> #REF!
A25: 21 | B25: Trung tâm Đào tạo LTT | C25: ='Chi tiet'!$L$364 -> 10 | D25: =ROUND(($C25-1)*$D$1,1) -> 1.8 | E25: =ROUND(($C25-1)*$E$1,1) -> 2.7 | F25: ='Chi tiet'!$E$368 -> 0 | G25: ='Chi tiet'!$E$372 -> 0 | H25: ='Chi tiet'!$F$368 -> 0.25 | I25: ='Chi tiet'!$F$372 -> 0 | J25: ='Chi tiet'!$S$368 -> 0.25 | K25: ='Chi tiet'!$S$372 -> 0 | L25: ='Chi tiet'!$T$368 -> 0.375 | M25: ='Chi tiet'!$T$372 -> 0 | N25: =G25+I25 -> 0 | O25: =IF($N25<=#REF!,TRUE,FALSE) -> #REF!
A26: 22 | B26: Trung tâm Y tế | C26: ='Chi tiet'!$L$377 -> 3 | D26: =ROUND(($C26-1)*$D$1,1) -> 0.4 | E26: =ROUND(($C26-1)*$E$1,1) -> 0.6 | F26: ='Chi tiet'!$E$379 -> 0 | G26: ='Chi tiet'!$E$380 -> 0 | H26: ='Chi tiet'!$F$379 -> 2 | I26: ='Chi tiet'!$F$380 -> 1 | J26: ='Chi tiet'!$S$379 -> 0 | K26: ='Chi tiet'!$S$380 -> 0 | L26: ='Chi tiet'!$T$379 -> 2 | M26: ='Chi tiet'!$T$380 -> 1 | N26: =G26+I26 -> 1 | O26: =IF($N26<=#REF!,TRUE,FALSE) -> #REF!
A27: 23 | B27: Trung tâm QHDN | C27: ='Chi tiet'!$L$383 -> 2 | D27: =ROUND(($C27-1)*$D$1,1) -> 0.2 | E27: =ROUND(($C27-1)*$E$1,1) -> 0.3 | F27: ='Chi tiet'!$E$385 -> 0 | G27: ='Chi tiet'!$E$386 -> 0 | H27: ='Chi tiet'!$F$385 -> 0 | I27: ='Chi tiet'!$F$386 -> 0 | J27: ='Chi tiet'!$S$385 -> 0 | K27: ='Chi tiet'!$S$386 -> 0 | L27: ='Chi tiet'!$T$385 -> 0 | M27: ='Chi tiet'!$T$386 -> 0 | N27: =G27+I27 -> 0 | O27: =IF($N27<=#REF!,TRUE,FALSE) -> #REF!
A28: 24 | B28: Trung tâm ĐH và QLDL | C28: ='Chi tiet'!$L$387 -> 7 | D28: =ROUND(($C28-1)*$D$1,1) -> 1.2 | E28: =ROUND(($C28-1)*$E$1,1) -> 1.8 | F28: ='Chi tiet'!$E$391 -> 0 | G28: ='Chi tiet'!$E$392 -> 0 | H28: ='Chi tiet'!$F$391 -> 0.4 | I28: ='Chi tiet'!$F$392 -> 0 | J28: ='Chi tiet'!$S$391 -> 0.2 | K28: ='Chi tiet'!$S$392 -> 0 | L28: ='Chi tiet'!$T$391 -> 0.2 | M28: ='Chi tiet'!$T$392 -> 0 | N28: =G28+I28 -> 0 | O28: =IF($N28<=#REF!,TRUE,FALSE) -> #REF!
B29: Tổng nhân sự toàn trường | C29: =SUM(C5:C28) -> 331

Sheet CBQL
A1: TRÍCH DANH SÁCH VIÊN CHỨC QUẢN LÝ XẾP LOẠI THI ĐUA THÁNG 7/2023
A3: TT | B3: Tên đơn vị | C3: Mã E-office | D3: Mức xếp loại tối đa trong năm | E3: Đơn vị đề nghị xếp loại thi đua | F3: Nhóm TT đề nghị | G3: Kết luận của HĐ | H3: Ghi chú
A4: I | B4: Ban Giám hiệu
A5: 1 | B5: Phạm Hữu Lộc | C5: 01001001 | G5: =VLOOKUP($C5,'Chi tiet'!$D$8:$AC$396,18,0) -> A1
A6: =A5+1 -> 2 | B6: Đinh Hồng Minh | C6: 01002001 | G6: =VLOOKUP($C6,'Chi tiet'!$D$8:$AC$396,18,0) -> A1
A7: =A6+1 -> 3 | B7: Đinh Văn Đệ | C7: 01001006 | G7: =VLOOKUP($C7,'Chi tiet'!$D$8:$AC$396,18,0) -> A1
A8: =A7+1 -> 4 | B8: Châu Văn Bảo | C8: 01014037 | G8: =VLOOKUP($C8,'Chi tiet'!$D$8:$AC$396,18,0) -> A1
A9: II | B9: Phòng Kế hoạch - TC
A10: =A8+1 -> 5 | B10: Nguyễn Kính | C10: 01002024 | D10: =VLOOKUP($C10,'Chi tiet'!$D$8:$AC$396,4,0) -> A1 | E10: =VLOOKUP($C10,'Chi tiet'!$D$8:$AC$396,9,0) -> A1 | F10: =VLOOKUP($C10,'Chi tiet'!$D$8:$AC$396,14,0) -> A1 | G10: =VLOOKUP($C10,'Chi tiet'!$D$8:$AC$396,18,0) -> A1
A11: III | B11: Phòng Tuyển sinh - ĐT
A12: =A10+1 -> 6 | B12: Nguyễn Thành Nam | C12: 01005007 | D12: =VLOOKUP($C12,'Chi tiet'!$D$8:$AC$396,4,0) -> A1 | E12: =VLOOKUP($C12,'Chi tiet'!$D$8:$AC$396,9,0) -> A1 | F12: =VLOOKUP($C12,'Chi tiet'!$D$8:$AC$396,14,0) -> A2 | G12: =VLOOKUP($C12,'Chi tiet'!$D$8:$AC$396,18,0) -> A2
A13: =A12+1 -> 7 | B13: Quách Minh Thử | C13: 01014007 | D13: =VLOOKUP($C13,'Chi tiet'!$D$8:$AC$396,4,0) -> A1 | E13: =VLOOKUP($C13,'Chi tiet'!$D$8:$AC$396,9,0) -> A1 | F13: =VLOOKUP($C13,'Chi tiet'!$D$8:$AC$396,14,0) -> A2 | G13: =VLOOKUP($C13,'Chi tiet'!$D$8:$AC$396,18,0) -> A2
A14: =A13+1 -> 8 | B14: Huỳnh Thị Mai | C14: 01004004 | D14: =VLOOKUP($C14,'Chi tiet'!$D$8:$AC$396,4,0) -> #N/A | E14: =VLOOKUP($C14,'Chi tiet'!$D$8:$AC$396,9,0) -> #N/A | F14: =VLOOKUP($C14,'Chi tiet'!$D$8:$AC$396,14,0) -> #N/A | G14: =VLOOKUP($C14,'Chi tiet'!$D$8:$AC$396,18,0) -> #N/A
A15: IV | B15: Phòng Tổ chức - HC -TH
A16: =A14+1 -> 9 | B16: Lâm Viết Dũng | C16: 01007009 | D16: =VLOOKUP($C16,'Chi tiet'!$D$8:$AC$396,4,0) -> A1 | E16: =VLOOKUP($C16,'Chi tiet'!$D$8:$AC$396,9,0) -> A1 | F16: =VLOOKUP($C16,'Chi tiet'!$D$8:$AC$396,14,0) -> A1 | G16: =VLOOKUP($C16,'Chi tiet'!$D$8:$AC$396,18,0) -> A1
A17: =A16+1 -> 10 | B17: Lưu Hoàng Hải Yến | C17: 01002019 | D17: =VLOOKUP($C17,'Chi tiet'!$D$8:$AC$396,4,0) -> A1 | E17: =VLOOKUP($C17,'Chi tiet'!$D$8:$AC$396,9,0) -> A1 | F17: =VLOOKUP($C17,'Chi tiet'!$D$8:$AC$396,14,0) -> A1 | G17: =VLOOKUP($C17,'Chi tiet'!$D$8:$AC$396,18,0) -> A1
A18: =A17+1 -> 11 | B18: Huỳnh Thị Minh Ly | C18: 01004007 | D18: =VLOOKUP($C18,'Chi tiet'!$D$8:$AC$396,4,0) -> A1 | E18: =VLOOKUP($C18,'Chi tiet'!$D$8:$AC$396,9,0) -> A1 | F18: =VLOOKUP($C18,'Chi tiet'!$D$8:$AC$396,14,0) -> A1 | G18: =VLOOKUP($C18,'Chi tiet'!$D$8:$AC$396,18,0) -> A1
A19: V | B19: Phòng TTGD - CTSV
A20: =A18+1 -> 12 | B20: Lê Xuân Thiện | C20: 01002002 | D20: =VLOOKUP($C20,'Chi tiet'!$D$8:$AC$396,4,0) -> A2 | E20: =VLOOKUP($C20,'Chi tiet'!$D$8:$AC$396,9,0) -> A4 | F20: =VLOOKUP($C20,'Chi tiet'!$D$8:$AC$396,14,0) -> A3 | G20: =VLOOKUP($C20,'Chi tiet'!$D$8:$AC$396,18,0) -> A3
A21: =A20+1 -> 13 | B21: Nguyễn Ngọc Hiệp | C21: 01009006 | D21: =VLOOKUP($C21,'Chi tiet'!$D$8:$AC$396,4,0) -> A2 | E21: =VLOOKUP($C21,'Chi tiet'!$D$8:$AC$396,9,0) -> A1 | F21: =VLOOKUP($C21,'Chi tiet'!$D$8:$AC$396,14,0) -> A1 | G21: =VLOOKUP($C21,'Chi tiet'!$D$8:$AC$396,18,0) -> A1
A22: VI | B22: Phòng Khảo thí và ĐBCL
A23: =A21+1 -> 14 | B23: Nguyễn Chí Nhân | C23: 01009009 | D23: =VLOOKUP($C23,'Chi tiet'!$D$8:$AC$396,4,0) -> A2 | E23: =VLOOKUP($C23,'Chi tiet'!$D$8:$AC$396,9,0) -> A4 | F23: =VLOOKUP($C23,'Chi tiet'!$D$8:$AC$396,14,0) -> A3 | G23: =VLOOKUP($C23,'Chi tiet'!$D$8:$AC$396,18,0) -> A3
A24: =A23+1 -> 15 | B24: Nguyễn Thị Kim Dung | C24: 01003002 | D24: =VLOOKUP($C24,'Chi tiet'!$D$8:$AC$396,4,0) -> A2 | E24: =VLOOKUP($C24,'Chi tiet'!$D$8:$AC$396,9,0) -> A4 | F24: =VLOOKUP($C24,'Chi tiet'!$D$8:$AC$396,14,0) -> A3 | G24: =VLOOKUP($C24,'Chi tiet'!$D$8:$AC$396,18,0) -> A3
A25: VII | B25: Phòng QLKH và HTQT
A26: =A24+1 -> 16 | B26: Nguyễn Trọng Nghĩa | C26: 01025001 | D26: =VLOOKUP($C26,'Chi tiet'!$D$8:$AC$396,4,0) -> A2 | E26: =VLOOKUP($C26,'Chi tiet'!$D$8:$AC$396,9,0) -> A2 | F26: =VLOOKUP($C26,'Chi tiet'!$D$8:$AC$396,14,0) -> A1 | G26: =VLOOKUP($C26,'Chi tiet'!$D$8:$AC$396,18,0) -> A1
A27: VIII | B27: Phòng Quản trị - DV
A28: =A26+1 -> 17 | B28: Lê Quang Liêm | C28: 01008028 | D28: =VLOOKUP($C28,'Chi tiet'!$D$8:$AC$396,4,0) -> A1 | E28: =VLOOKUP($C28,'Chi tiet'!$D$8:$AC$396,9,0) -> A1 | F28: =VLOOKUP($C28,'Chi tiet'!$D$8:$AC$396,14,0) -> A1 | G28: =VLOOKUP($C28,'Chi tiet'!$D$8:$AC$396,18,0) -> A1
A29: =A28+1 -> 18 | B29: Nguyễn Văn Thành | C29: 01008002 | D29: =VLOOKUP($C29,'Chi tiet'!$D$8:$AC$396,4,0) -> A1 | E29: =VLOOKUP($C29,'Chi tiet'!$D$8:$AC$396,9,0) -> A1 | F29: =VLOOKUP($C29,'Chi tiet'!$D$8:$AC$396,14,0) -> A2 | G29: =VLOOKUP($C29,'Chi tiet'!$D$8:$AC$396,18,0) -> A2
A30: IX | B30: Khoa Khoa học cơ bản
A31: =A29+1 -> 19 | B31: Nguyễn Thị Nhuận | C31: 01022003 | D31: =VLOOKUP($C31,'Chi tiet'!$D$8:$AC$396,4,0) -> A2 | E31: =VLOOKUP($C31,'Chi tiet'!$D$8:$AC$396,9,0) -> A4 | F31: =VLOOKUP($C31,'Chi tiet'!$D$8:$AC$396,14,0) -> A4 | G31: =VLOOKUP($C31,'Chi tiet'!$D$8:$AC$396,18,0) -> A4
A32: =A31+1 -> 20 | B32: Phạm Thị Thu Nga | C32: 01010007 | D32: =VLOOKUP($C32,'Chi tiet'!$D$8:$AC$396,4,0) -> A2 | E32: =VLOOKUP($C32,'Chi tiet'!$D$8:$AC$396,9,0) -> A1 | F32: =VLOOKUP($C32,'Chi tiet'!$D$8:$AC$396,14,0) -> A1 | G32: =VLOOKUP($C32,'Chi tiet'!$D$8:$AC$396,18,0) -> A1
A33: X | B33: Khoa Ngoại ngữ
A34: =A32+1 -> 21 | B34: Nguyễn Thị Thu Hà | C34: 01010039 | D34: =VLOOKUP($C34,'Chi tiet'!$D$8:$AC$396,4,0) -> A2 | E34: =VLOOKUP($C34,'Chi tiet'!$D$8:$AC$396,9,0) -> A3 | F34: =VLOOKUP($C34,'Chi tiet'!$D$8:$AC$396,14,0) -> A1 | G34: =VLOOKUP($C34,'Chi tiet'!$D$8:$AC$396,18,0) -> A1
A35: XI | B35: Khoa Lý luận chính trị
A36: =A34+1 -> 22 | B36: Lê Thị Hồng Vân | C36: 01011002 | D36: =VLOOKUP($C36,'Chi tiet'!$D$8:$AC$396,4,0) -> A1 | E36: =VLOOKUP($C36,'Chi tiet'!$D$8:$AC$396,9,0) -> A1 | F36: =VLOOKUP($C36,'Chi tiet'!$D$8:$AC$396,14,0) -> A1 | G36: =VLOOKUP($C36,'Chi tiet'!$D$8:$AC$396,18,0) -> A1
A37: =A36+1 -> 23 | B37: Nguyễn Ngọc Quỳnh | C37: 01011012 | D37: =VLOOKUP($C37,'Chi tiet'!$D$8:$AC$396,4,0) -> A2 | E37: =VLOOKUP($C37,'Chi tiet'!$D$8:$AC$396,9,0) -> A4 | F37: =VLOOKUP($C37,'Chi tiet'!$D$8:$AC$396,14,0) -> A4 | G37: =VLOOKUP($C37,'Chi tiet'!$D$8:$AC$396,18,0) -> A4
A38: XII | B38: Khoa Cơ khí
A39: =A37+1 -> 24 | B39: Chung Trần Thế Vinh | C39: 01012003 | D39: =VLOOKUP($C39,'Chi tiet'!$D$8:$AC$396,4,0) -> A2 | E39: =VLOOKUP($C39,'Chi tiet'!$D$8:$AC$396,9,0) -> A1 | F39: =VLOOKUP($C39,'Chi tiet'!$D$8:$AC$396,14,0) -> A1 | G39: =VLOOKUP($C39,'Chi tiet'!$D$8:$AC$396,18,0) -> A1
A40: =A39+1 -> 25 | B40: Trần Đình Khải | C40: 01012008 | D40: =VLOOKUP($C40,'Chi tiet'!$D$8:$AC$396,4,0) -> A2 | E40: =VLOOKUP($C40,'Chi tiet'!$D$8:$AC$396,9,0) -> A3 | F40: =VLOOKUP($C40,'Chi tiet'!$D$8:$AC$396,14,0) -> A4 | G40: =VLOOKUP($C40,'Chi tiet'!$D$8:$AC$396,18,0) -> A4
A41: XIII | B41: Khoa Công nghệ thông tin
A42: =A40+1 -> 26 | B42: Trần Việt Khánh | C42: 01015019 | D42: =VLOOKUP($C42,'Chi tiet'!$D$8:$AC$396,4,0) -> A2 | E42: =VLOOKUP($C42,'Chi tiet'!$D$8:$AC$396,9,0) -> A4 | F42: =VLOOKUP($C42,'Chi tiet'!$D$8:$AC$396,14,0) -> A3 | G42: =VLOOKUP($C42,'Chi tiet'!$D$8:$AC$396,18,0) -> A3
A43: =A42+1 -> 27 | B43: Nguyễn Văn Đôn | C43: 01015023 | D43: =VLOOKUP($C43,'Chi tiet'!$D$8:$AC$396,4,0) -> A3 | E43: =VLOOKUP($C43,'Chi tiet'!$D$8:$AC$396,9,0) -> A1 | F43: =VLOOKUP($C43,'Chi tiet'!$D$8:$AC$396,14,0) -> A1 | G43: =VLOOKUP($C43,'Chi tiet'!$D$8:$AC$396,18,0) -> A1
A44: XIV | B44: Khoa Động lực
A45: =A43+1 -> 28 | B45: Nguyễn Anh Tuấn | C45: 01013003 | D45: =VLOOKUP($C45,'Chi tiet'!$D$8:$AC$396,4,0) -> A1 | E45: =VLOOKUP($C45,'Chi tiet'!$D$8:$AC$396,9,0) -> A1 | F45: =VLOOKUP($C45,'Chi tiet'!$D$8:$AC$396,14,0) -> A1 | G45: =VLOOKUP($C45,'Chi tiet'!$D$8:$AC$396,18,0) -> A1
A46: =A45+1 -> 29 | B46: Võ Đắc Thịnh | C46: 01013002 | D46: =VLOOKUP($C46,'Chi tiet'!$D$8:$AC$396,4,0) -> A1 | E46: =VLOOKUP($C46,'Chi tiet'!$D$8:$AC$396,9,0) -> A3 | F46: =VLOOKUP($C46,'Chi tiet'!$D$8:$AC$396,14,0) -> A4 | G46: =VLOOKUP($C46,'Chi tiet'!$D$8:$AC$396,18,0) -> A4
A47: XV | B47: Khoa Điện - Điện tử
A48: =A46+1 -> 30 | B48: Tạ Minh Cường | C48: 01014002 | D48: =VLOOKUP($C48,'Chi tiet'!$D$8:$AC$396,4,0) -> A1 | E48: =VLOOKUP($C48,'Chi tiet'!$D$8:$AC$396,9,0) -> A1 | F48: =VLOOKUP($C48,'Chi tiet'!$D$8:$AC$396,14,0) -> A1 | G48: =VLOOKUP($C48,'Chi tiet'!$D$8:$AC$396,18,0) -> A1
A49: =A48+1 -> 31 | B49: Huỳnh Ngọc Mai | C49: 01014004 | D49: =VLOOKUP($C49,'Chi tiet'!$D$8:$AC$396,4,0) -> A1 | E49: =VLOOKUP($C49,'Chi tiet'!$D$8:$AC$396,9,0) -> A1 | F49: =VLOOKUP($C49,'Chi tiet'!$D$8:$AC$396,14,0) -> A2 | G49: =VLOOKUP($C49,'Chi tiet'!$D$8:$AC$396,18,0) -> A2
A50: =A49+1 -> 32 | B50: Phạm Minh Nghĩa | C50: 01023003 | D50: =VLOOKUP($C50,'Chi tiet'!$D$8:$AC$396,4,0) -> A2 | E50: =VLOOKUP($C50,'Chi tiet'!$D$8:$AC$396,9,0) -> A2 | F50: =VLOOKUP($C50,'Chi tiet'!$D$8:$AC$396,14,0) -> A3 | G50: =VLOOKUP($C50,'Chi tiet'!$D$8:$AC$396,18,0) -> A3
A51: XVI | B51: Khoa May - Thời trang
A52: =A50+1 -> 33 | B52: Nguyễn Ngọc Thọ | C52: 01016008 | D52: =VLOOKUP($C52,'Chi tiet'!$D$8:$AC$396,4,0) -> A2 | E52: =VLOOKUP($C52,'Chi tiet'!$D$8:$AC$396,9,0) -> A1 | F52: =VLOOKUP($C52,'Chi tiet'!$D$8:$AC$396,14,0) -> A1 | G52: =VLOOKUP($C52,'Chi tiet'!$D$8:$AC$396,18,0) -> A1
A53: XVII | B53: Khoa Nhiệt - Lạnh
A54: =A52+1 -> 34 | B54: Đinh Đồng Hiệp | C54: 01013020 | D54: =VLOOKUP($C54,'Chi tiet'!$D$8:$AC$396,4,0) -> A1 | E54: =VLOOKUP($C54,'Chi tiet'!$D$8:$AC$396,9,0) -> A1 | F54: =VLOOKUP($C54,'Chi tiet'!$D$8:$AC$396,14,0) -> A1 | G54: =VLOOKUP($C54,'Chi tiet'!$D$8:$AC$396,18,0) -> A1
A55: =A54+1 -> 35 | B55: Hoàng Văn Viết | C55: 01029001 | D55: =VLOOKUP($C55,'Chi tiet'!$D$8:$AC$396,4,0) -> A2 | E55: =VLOOKUP($C55,'Chi tiet'!$D$8:$AC$396,9,0) -> A3 | F55: =VLOOKUP($C55,'Chi tiet'!$D$8:$AC$396,14,0) -> A4 | G55: =VLOOKUP($C55,'Chi tiet'!$D$8:$AC$396,18,0) -> A4
A56: XVIII | B56: Khoa Kinh tế
A57: =A55+1 -> 36 | B57: Trịnh Hoàng Hiệp | C57: 01025007 | D57: =VLOOKUP($C57,'Chi tiet'!$D$8:$AC$396,4,0) -> A2 | E57: =VLOOKUP($C57,'Chi tiet'!$D$8:$AC$396,9,0) -> A2 | F57: =VLOOKUP($C57,'Chi tiet'!$D$8:$AC$396,14,0) -> A1 | G57: =VLOOKUP($C57,'Chi tiet'!$D$8:$AC$396,18,0) -> A1
A58: =A57+1 -> 37 | B58: Phạm Quỳnh Như | C58: 01025004 | D58: =VLOOKUP($C58,'Chi tiet'!$D$8:$AC$396,4,0) -> A2 | E58: =VLOOKUP($C58,'Chi tiet'!$D$8:$AC$396,9,0) -> A2 | F58: =VLOOKUP($C58,'Chi tiet'!$D$8:$AC$396,14,0) -> A1 | G58: =VLOOKUP($C58,'Chi tiet'!$D$8:$AC$396,18,0) -> A1
A59: XIX | B59: Khoa Xây dựng
A60: =A58+1 -> 38 | B60: Phạm Quang Vũ | C60: 01004014 | D60: =VLOOKUP($C60,'Chi tiet'!$D$8:$AC$396,4,0) -> A2 | E60: =VLOOKUP($C60,'Chi tiet'!$D$8:$AC$396,9,0) -> A2 | F60: =VLOOKUP($C60,'Chi tiet'!$D$8:$AC$396,14,0) -> A3 | G60: =VLOOKUP($C60,'Chi tiet'!$D$8:$AC$396,18,0) -> A3
A61: XX | B61: Trung tâm Thư viện
A62: =A60+1 -> 39 | B62: Hồ Ngọc Chi | C62: 01015042 | D62: =VLOOKUP($C62,'Chi tiet'!$D$8:$AC$396,4,0) -> A2 | E62: =VLOOKUP($C62,'Chi tiet'!$D$8:$AC$396,9,0) -> A2 | F62: =VLOOKUP($C62,'Chi tiet'!$D$8:$AC$396,14,0) -> A3 | G62: =VLOOKUP($C62,'Chi tiet'!$D$8:$AC$396,18,0) -> A3
A63: XXI | B63: Trung tâm Đào tạo LTT
A64: =A62+1 -> 40 | B64: Lương Xuân Thịnh | C64: 01004005 | D64: =VLOOKUP($C64,'Chi tiet'!$D$8:$AC$396,4,0) -> A1 | E64: =VLOOKUP($C64,'Chi tiet'!$D$8:$AC$396,9,0) -> A1 | F64: =VLOOKUP($C64,'Chi tiet'!$D$8:$AC$396,14,0) -> A1 | G64: =VLOOKUP($C64,'Chi tiet'!$D$8:$AC$396,18,0) -> A1
A65: XXII | B65: Trung tâm Y tế
A66: =A64+1 -> 41 | B66: Trang Thị Xuân Uyên | C66: 01021001 | D66: =VLOOKUP($C66,'Chi tiet'!$D$8:$AC$396,4,0) -> A2 | E66: =VLOOKUP($C66,'Chi tiet'!$D$8:$AC$396,9,0) -> A2 | F66: =VLOOKUP($C66,'Chi tiet'!$D$8:$AC$396,14,0) -> A1 | G66: =VLOOKUP($C66,'Chi tiet'!$D$8:$AC$396,18,0) -> A1
A67: XXIII | B67: Trung tâm QHDN
A68: =A66+1 -> 42 | B68: Nguyễn Văn Chiến | C68: 01007008 | D68: =VLOOKUP($C68,'Chi tiet'!$D$8:$AC$396,4,0) -> A2 | E68: =VLOOKUP($C68,'Chi tiet'!$D$8:$AC$396,9,0) -> A4 | F68: =VLOOKUP($C68,'Chi tiet'!$D$8:$AC$396,14,0) -> A3 | G68: =VLOOKUP($C68,'Chi tiet'!$D$8:$AC$396,18,0) -> A3
A69: XXIV | B69: Trung tâm ĐH và QLDL
A70: =A68+1 -> 43 | B70: Nguyễn Hữu Thiện | C70: 01017003 | D70: =VLOOKUP($C70,'Chi tiet'!$D$8:$AC$396,4,0) -> A2 | E70: =VLOOKUP($C70,'Chi tiet'!$D$8:$AC$396,9,0) -> A4 | F70: =VLOOKUP($C70,'Chi tiet'!$D$8:$AC$396,14,0) -> A3 | G70: =VLOOKUP($C70,'Chi tiet'!$D$8:$AC$396,18,0) -> A2

Sheet Chi tiet
A1: TRƯỜNG CAO ĐẲNG LÝ TỰ TRỌNG THÀNH PHỐ HỒ CHÍ MINH PHÒNG TỔ CHỨC - HÀNH CHÍNH - TỔNG HỢP | Z1: CỘNG HÒA XÃ HỘI CHỦ NGHĨA VIỆT NAM Độc lập - Tự do - Hạnh phúc
A2: BÁO CÁO TỔNG HỢP THI ĐUA THÁNG 10/2023
D3: 1 | E3: 2 | F3: 3 | G3: 4 | H3: 5 | I3: 6 | J3: 7 | K3: 8 | L3: 9 | M3: 10 | N3: 11 | O3: 12 | P3: 13 | Q3: 14 | R3: 15 | S3: 16 | T3: 17 | U3: 18 | V3: 19 | W3: 20 | X3: 21 | Y3: 22
A4: Stt | B4: Stt | C4: Họ và tên | D4: Mã E-office | E4: Tỷ lệ xếp loại A1, A2 của đơn vị | G4: Mức xếp loại tối đa trong năm | H4: Tiêu chuẩn đạt mức xếp loại thi đua tối đa trong năm (Các đề tài/dự án/bài báo/sáng kiến được xem xét xếp loại thi đua A1, A2, A3 theo quy định) | K4: Ghi chú Bộ phận tổng hợp | L4: Đơn vị xếp loại thi đua tháng theo quy định (Không vượt quá mức thi đua tối đa) | P4: Ý kiến của nhóm Thường trực | S4: Ý kiến của nhóm Thường trực | U4: Thường trực Hội đồng xếp loại | W4: Số lượng công việc tham gia (đã được HĐ duyệt) | Y4: Số ngày/giờ vượt so với ngày công kế hoạch (đối với CB-NV) | Z4: Ghi nhận từ các phòng chức năng | AA4: GV giải trình và ý kiến của đơn vị | AB4: Đơn vị đề nghị mức xếp loại thi đua | AD4: Ghi chú Bộ phận tổng hợp | AE4: Kiểm tra công thức (Ẩn)
L5: Xếp loại | M5: Lý do | N5: Số lượng công việc tham gia | P5: Đạt mức xếp loại | Q5: Thống nhất xếp loại | R5: Lý do | U5: Xếp loại | V5: Lý do | AB5: Xếp loại | AC5: Lý do đề nghị
H6: A1 | I6: A2 | J6: A3 | N6: Công việc chung của trường | O6: Công việc riêng của đơn vị | W6: Công việc chung của trường | X6: Công việc riêng của đơn vị | BF6: CBQL | BG6: GV
A7: I | B7: I | C7: BAN GIÁM HIỆU | G7: =COUNTA($L$8:$L$11) -> 4 | L7: =COUNTA($L$8:$L$11) -> 4 | M7: =(COUNTIF($L$8:$L$11, "A1") & "A1") -> 4A1 | P7: =COUNTA($Q$8:$Q$11) -> 4 | Q7: =COUNTA($Q$8:$Q$11) -> 4 | R7: =(COUNTIF($Q$8:$Q$11, "A1") & "A1") -> 4A1 | U7: =COUNTA($U$8:$U$11) -> 4 | V7: =(COUNTIF($U$8:$U$11, "A1") & "A1") -> 4A1 | BF7: =COUNTIF($BE$8:$BE$11,"CBQL") -> 4 | BG7: =COUNTIF($BE$8:$BE$11,"GV") + COUNTIF($BE$8:$BE$11,"NV") -> 0
A8: =IF(D8="","",SUBTOTAL(3,$D$8:D8)) -> 1 | B8: 01 | C8: Phạm Hữu Lộc | D8: 01001001 | G8: A1 | L8: A1 | P8: A1 | Q8: A1 | U8: =Q8 -> A1 | BD8: BGH | BE8: CBQL | BG8: =COUNTIF($BE$8:$BE$11,"GV") -> 0
A9: =IF(D9="","",SUBTOTAL(3,$D$8:D9)) -> 2 | B9: 02 | C9: Đinh Hồng Minh | D9: 01002001 | G9: A1 | L9: A1 | P9: A1 | Q9: A1 | U9: =Q9 -> A1 | AG9: 27 | AH9: 23 | BD9: BGH | BE9: CBQL
A10: =IF(D10="","",SUBTOTAL(3,$D$8:D10)) -> 3 | B10: 03 | C10: Đinh Văn Đệ | D10: 01001006 | G10: A1 | L10: A1 | P10: A1 | Q10: A1 | U10: =Q10 -> A1 | BD10: BGH | BE10: CBQL
A11: =IF(D11="","",SUBTOTAL(3,$D$8:D11)) -> 4 | B11: 04 | C11: Châu Văn Bảo | D11: 01014037 | G11: A1 | L11: A1 | P11: A1 | Q11: A1 | U11: =Q11 -> A1 | AK11: KẾT QUẢ XẾP LOẠI CỦA HỘI ĐỒNG | BD11: BGH | BE11: CBQL
A12: II | B12: II | C12: PHÒNG KẾ HOẠCH - TC | E12: Tỷ lệ A1 | F12: Tỷ lệ A2 | G12: =$L$13+$L$19 -> 9 | L12: =$L$13+$L$19 -> 9 | M12: =(COUNTIF($L14:$L23, "A1") & "A1")&" + "& (COUNTIF($L14:$L23, "A2") & "A2")&" + "& (COUNTIF($L14:$L23, "A3") & "A3")&" + "& (COUNTIF($L14:$L23, "A4") & "A4") -> 3A1 + 5A2 + 0A3 + 1A4 | P12: =$Q$13+$Q$19 -> 9 | Q12: =$Q$13+$Q$19 -> 9 | R12: =(COUNTIF($Q14:$Q23, "A1") & "A1")&" + "& (COUNTIF($Q14:$Q23, "A2") & "A2")&" + "& (COUNTIF($Q14:$Q23, "A3") & "A3")&" + "& (COUNTIF($Q14:$Q23, "A4") & "A4") -> 7A1 + 1A2 + 1A3 + 0A4 | S12: Tỷ lệ A1 | T12: Tỷ lệ A2 | U12: =$U$13+$U$19 -> 9 | V12: =(COUNTIF($U14:$U23, "A1") & "A1")&" + "& (COUNTIF($U14:$U23, "A2") & "A2")&" + "& (COUNTIF($U14:$U23, "A3") & "A3")&" + "& (COUNTIF($U14:$U23, "A4") & "A4") -> 7A1 + 1A2 + 1A3 + 0A4 | AG12: Đơn vị đề nghị nâng | AK12: P. KHTC | AL12: Tổng nhân sự | AM12: Xếp loại A1 | AO12: Xếp loại A2 | AQ12: Xếp loại A3 | AS12: Xếp loại A4 | AU12: Xếp loại B1 | AW12: Xếp loại B2 | AY12: Xếp loại C1 | BA12: Xếp loại C2 | BF12: =COUNTIF($BE$14:$BE$23,"CBQL") -> 1 | BG12: =COUNTIF($BE$14:$BE$23,"GV") + COUNTIF($BE$14:$BE$23,"NV") -> 8
A13: a | B13: a | C13: Viên chức | E13: =COUNTIF($L15:$L23,"A1") -> 2 | F13: =COUNTIF($L13:$L23,"A2") -> 5 | G13: =COUNTA($L14:$L18) -> 5 | L13: =COUNTA($L14:$L18) -> 5 | M13: =(COUNTIF($L14:$L18, "A1") & "A1")&" + "& (COUNTIF($L14:$L18, "A2") & "A2")&" + "& (COUNTIF($L14:$L18, "A3") & "A3")&" + "& (COUNTIF($L14:$L18, "A4") & "A4") -> 1A1 + 4A2 + 0A3 + 0A4 | P13: =COUNTA($Q14:$Q18) -> 5 | Q13: =COUNTA($Q14:$Q18) -> 5 | R13: =(COUNTIF($Q14:$Q18, "A1") & "A1")&" + "& (COUNTIF($Q14:$Q18, "A2") & "A2")&" + "& (COUNTIF($Q14:$Q18, "A3") & "A3")&" + "& (COUNTIF($Q14:$Q18,"A4") & "A4") -> 5A1 + 0A2 + 0A3 + 0A4 | S13: =COUNTIF($U15:$U23,"A1") -> 6 | T13: =COUNTIF($U15:$U23,"A2") -> 1 | U13: =COUNTA($U14:$U18) -> 5 | V13: =(COUNTIF($U14:$U18, "A1") & "A1")&" + "& (COUNTIF($U14:$U18, "A2") & "A2")&" + "& (COUNTIF($U14:$U18, "A3") & "A3")&" + "& (COUNTIF($U14:$U18, "A4") & "A4") -> 5A1 + 0A2 + 0A3 + 0A4 | AG13: 1 bậc | AI13: =AH13/$L$12 -> 0 | AL13: =AL14+AL15 -> 9 | AM13: SL | AN13: Tỷ lệ | AO13: SL | AP13: Tỷ lệ | AQ13: SL | AR13: Tỷ lệ | AS13: SL | AT13: Tỷ lệ | AU13: SL | AV13: Tỷ lệ | AW13: SL | AX13: Tỷ lệ | AY13: SL | AZ13: Tỷ lệ | BA13: SL | BB13: Tỷ lệ
A14: =IF(D14="","",SUBTOTAL(3,$D$8:D14)) -> 5 | B14: 01 | C14: Nguyễn Kính | D14: 01002024 | E14: =E13/$AL$15 -> 0.25 | F14: =F13/AL15 -> 0.625 | G14: =IF($H14<>0,"A1",IF($I14<>0,"A2",IF($J14<>0,"A3","A4"))) -> A1 | H14: - Năm 2022 có tham gia nhiều dự án cấp trường và cấp Sở (BTC Dự án ODA; Dự toán tài chính DA lên trường ĐH Lý Tự Trọng...); - Trong năm 2022 thực hiện hoàn thiện bổ sung hồ sơ dự toán tài chính trung hạn của nhà trường (2021-2025); - Tham gia phối hợp hoàn thiện hồ sơ thực hiện dự án "Trung tâm Đào tạo Xuất sắc" dự kiến đưa vào hoạt động năm 2023; - Thực hiện nhiều Báo cáo; giải trình theo yêu cầu trong năm 2022 của Sở Giáo dục, Sở Tài chính và Cục thuế TP; | I14: - Bài viết sáng kiến được công nhận phạm vi ảnh hưởng cấp ngành năm học 2021-2022 (QĐ số 1969/QĐ-SGDĐT ngày 03/8/2022) - Bài viết đăng Kỷ yếu hội thảo cấp trường (ICSS 2022) | J14: - Bài viết sáng kiến được công nhận phạm vi ảnh hưởng cấp trường năm học 2021-2022 (QĐ số 189/QĐ-LTT-HĐSK ngày 15/4/2022) | L14: A1 | M14: Đã vận động tài trợ lễ khai giảng, Tính đến ngày 25/10/2023 số tiền là : 100.000.000 đồng. | N14: =IFERROR(VLOOKUP($D14,'P.KH-TC'!$C$10:$AA$19,12,0),0) -> 5 | O14: =IFERROR(VLOOKUP($D14,'P.KH-TC'!$C$10:$AA$19,24,0),0) -> 6 | P14: =IF(AND($W14>=2,$X14>=3,$Y14>=1,H14<>0),"A1",IF(AND($W14>=3,$X14>=1,$Y14>=1,H14<>0),"A1",IF(AND($W14>=4,$X14>=0,$Y14>=1,H14<>0),"A1",IF(AND($W14>=2,$X14>=2,$Y14>=1,I14<>0),"A2",IF(AND($W14>=3,$X14>=0,$Y14>=1,I14<>0),"A2",IF(AND(OR($W14>=1,$X14>=2),J14<>0,$Y14>=-2),"A3","A4")))))) -> A1 | Q14: =P14 -> A1 | S14: =S13/$AL$15 -> 0.75 | T14: =T13/$AL$15 -> 0.125 | U14: =$Q14 -> A1 | W14: =IFERROR(VLOOKUP($D14,'P.KH-TC'!$C$10:$AA$19,13,0),0) -> 5 | X14: =IFERROR(VLOOKUP($D14,'P.KH-TC'!$C$10:$AA$19,25,0),0) -> 6 | Y14: 4 | AE14: =IF($L14=$P14,$L14,FALSE) -> A1 | AF14: 27 | AG14: 2 bậc | AI14: =AH14/$L$12 -> 0 | AK14: Trưởng, Phó đơn vị | AL14: =COUNTIF($BE$14:$BE$23,"CBQL") -> 1 | AM14: =COUNTIF($U$14,"A1") -> 1 | AN14: =AM14/$AL$14 -> 1 | AO14: =COUNTIF($U$14,"A2") -> 0 | AP14: =AO14/$AL$13 -> 0 | AQ14: =COUNTIF($U$14,"A3") -> 0 | AR14: =AQ14/$AL$13 -> 0 | AS14: =COUNTIF($U$14,"A4") -> 0 | AT14: =AS14/$AL$13 -> 0 | BD14: KHTC | BE14: CBQL
A15: =IF(D15="","",SUBTOTAL(3,$D$8:D15)) -> 6 | B15: 03 | C15: Hồng Mộng Tuyết Dung | D15: 01003009 | F15: =E15/$G$12 -> 0 | G15: =IF($H15<>0,"A1",IF($I15<>0,"A2",IF($J15<>0,"A3","A4"))) -> A2 | I15: - Bài viết sáng kiến được công nhận phạm vi ảnh hưởng cấp ngành năm học 2021-2022 (QĐ số 1969/QĐ-SGDĐT ngày 03/8/2022) | J15: - Bài viết sáng kiến được công nhận phạm vi ảnh hưởng cấp trường năm học 2021-2022 (QĐ số 189/QĐ-LTT-HĐSK ngày 15/4/2022) | L15: A2 | N15: =IFERROR(VLOOKUP($D15,'P.KH-TC'!$C$10:$AA$19,12,0),0) -> 4 | O15: =IFERROR(VLOOKUP($D15,'P.KH-TC'!$C$10:$AA$19,24,0),0) -> 4 | P15: =IF(AND($W15>=2,$X15>=3,$Y15>=1,H15<>0),"A1",IF(AND($W15>=3,$X15>=1,$Y15>=1,H15<>0),"A1",IF(AND($W15>=4,$X15>=0,$Y15>=1,H15<>0),"A1",IF(AND($W15>=2,$X15>=2,$Y15>=1,I15<>0),"A2",IF(AND($W15>=3,$X15>=0,$Y15>=1,I15<>0),"A2",IF(AND(OR($W15>=1,$X15>=2),J15<>0,$Y15>=-2),"A3","A4")))))) -> A2 | Q15: A1 | U15: =$Q15 -> A1 | W15: =IFERROR(VLOOKUP($D15,'P.KH-TC'!$C$10:$AA$19,13,0),0) -> 4 | X15: =IFERROR(VLOOKUP($D15,'P.KH-TC'!$C$10:$AA$19,25,0),0) -> 4 | Y15: 4 | AB15: A1 | AC15: Mức chuẩn A2. Đề nghị xếp loại A1. Cá nhân thường xuyên làm việc ngoài giờ, thu học phí sinh viên , có nhiều tích cực trong công việc của phòng và của trường | AE15: =IF($L15=$P15,$L15,FALSE) -> A2 | AF15: 27 | AH15: =AH13+AH14 -> 0 | AI15: =AI13+AI14 -> 0 | AK15: GV/NV | AL15: =COUNTIF($BE$14:$BE$23,"GV") + COUNTIF($BE$14:$BE$23,"NV") -> 8 | AM15: =COUNTIF($U15:$U23,"A1") -> 6 | AN15: =AM15/$AL$15 -> 0.75 | AO15: =COUNTIF($U15:$U23,"A2") -> 1 | AP15: =AO15/$AL$15 -> 0.125 | AQ15: =COUNTIF($U15:$U23,"A3") -> 1 | AR15: =AQ15/$AL$15 -> 0.125 | AS15: =COUNTIF($U15:$U23,"A4") -> 0 | AT15: =AS15/$AL$13 -> 0 | BD15: KHTC | BE15: NV
A16: =IF(D16="","",SUBTOTAL(3,$D$8:D16)) -> 7 | B16: 04 | C16: Trần Thị Minh Thoa | D16: 01003005 | G16: =IF($H16<>0,"A1",IF($I16<>0,"A2",IF($J16<>0,"A3","A4"))) -> A2 | I16: - Bài viết sáng kiến được công nhận phạm vi ảnh hưởng cấp ngành năm học 2021-2022 (QĐ số 1969/QĐ-SGDĐT ngày 03/8/2022) | J16: - Bài viết sáng kiến được công nhận phạm vi ảnh hưởng cấp trường năm học 2021-2022 (QĐ số 189/QĐ-LTT-HĐSK ngày 15/4/2022) | L16: A2 | N16: =IFERROR(VLOOKUP($D16,'P.KH-TC'!$C$10:$AA$19,12,0),0) -> 5 | O16: =IFERROR(VLOOKUP($D16,'P.KH-TC'!$C$10:$AA$19,24,0),0) -> 6 | P16: =IF(AND($W16>=2,$X16>=3,$Y16>=1,H16<>0),"A1",IF(AND($W16>=3,$X16>=1,$Y16>=1,H16<>0),"A1",IF(AND($W16>=4,$X16>=0,$Y16>=1,H16<>0),"A1",IF(AND($W16>=2,$X16>=2,$Y16>=1,I16<>0),"A2",IF(AND($W16>=3,$X16>=0,$Y16>=1,I16<>0),"A2",IF(AND(OR($W16>=1,$X16>=2),J16<>0,$Y16>=-2),"A3","A4")))))) -> A2 | Q16: A1 | U16: =$Q16 -> A1 | W16: =IFERROR(VLOOKUP($D16,'P.KH-TC'!$C$10:$AA$19,13,0),0) -> 5 | X16: =IFERROR(VLOOKUP($D16,'P.KH-TC'!$C$10:$AA$19,25,0),0) -> 6 | Y16: 4 | AB16: A1 | AE16: =IF($L16=$P16,$L16,FALSE) -> A2 | AF16: 24 | BD16: KHTC | BE16: NV
A17: =IF(D17="","",SUBTOTAL(3,$D$8:D17)) -> 8 | B17: 05 | C17: Võ Thị Lệ Trân | D17: 01023004 | G17: =IF($H17<>0,"A1",IF($I17<>0,"A2",IF($J17<>0,"A3","A4"))) -> A2 | I17: - Bài viết sáng kiến được công nhận phạm vi ảnh hưởng cấp ngành năm học 2021-2022 (QĐ số 1969/QĐ-SGDĐT ngày 03/8/2022) | J17: - Bài viết sáng kiến được công nhận phạm vi ảnh hưởng cấp trường năm học 2021-2022 (QĐ số 189/QĐ-LTT-HĐSK ngày 15/4/2022) | L17: A2 | N17: =IFERROR(VLOOKUP($D17,'P.KH-TC'!$C$10:$AA$19,12,0),0) -> 4 | O17: =IFERROR(VLOOKUP($D17,'P.KH-TC'!$C$10:$AA$19,24,0),0) -> 4 | P17: =IF(AND($W17>=2,$X17>=3,$Y17>=1,H17<>0),"A1",IF(AND($W17>=3,$X17>=1,$Y17>=1,H17<>0),"A1",IF(AND($W17>=4,$X17>=0,$Y17>=1,H17<>0),"A1",IF(AND($W17>=2,$X17>=2,$Y17>=1,I17<>0),"A2",IF(AND($W17>=3,$X17>=0,$Y17>=1,I17<>0),"A2",IF(AND(OR($W17>=1,$X17>=2),J17<>0,$Y17>=-2),"A3","A4")))))) -> A2 | Q17: A1 | U17: =$Q17 -> A1 | W17: =IFERROR(VLOOKUP($D17,'P.KH-TC'!$C$10:$AA$19,13,0),0) -> 4 | X17: =IFERROR(VLOOKUP($D17,'P.KH-TC'!$C$10:$AA$19,25,0),0) -> 4 | Y17: 4 | AB17: A1 | AE17: =IF($L17=$P17,$L17,FALSE) -> A2 | AF17: 26 | BD17: KHTC | BE17: NV
A18: =IF(D18="","",SUBTOTAL(3,$D$8:D18)) -> 9 | B18: 06 | C18: Nguyễn Thị Hồng Thắm | D18: 01003007 | G18: =IF($H18<>0,"A1",IF($I18<>0,"A2",IF($J18<>0,"A3","A4"))) -> A2 | I18: - Bài viết sáng kiến được công nhận phạm vi ảnh hưởng cấp ngành năm học 2021-2022 (QĐ số 1969/QĐ-SGDĐT ngày 03/8/2022) | J18: - Bài viết sáng kiến được công nhận phạm vi ảnh hưởng cấp trường năm học 2021-2022 (QĐ số 189/QĐ-LTT-HĐSK ngày 15/4/2022) | L18: A2 | N18: =IFERROR(VLOOKUP($D18,'P.KH-TC'!$C$10:$AA$19,12,0),0) -> 4 | O18: =IFERROR(VLOOKUP($D18,'P.KH-TC'!$C$10:$AA$19,24,0),0) -> 4 | P18: =IF(AND($W18>=2,$X18>=3,$Y18>=1,H18<>0),"A1",IF(AND($W18>=3,$X18>=1,$Y18>=1,H18<>0),"A1",IF(AND($W18>=4,$X18>=0,$Y18>=1,H18<>0),"A1",IF(AND($W18>=2,$X18>=2,$Y18>=1,I18<>0),"A2",IF(AND($W18>=3,$X18>=0,$Y18>=1,I18<>0),"A2",IF(AND(OR($W18>=1,$X18>=2),J18<>0,$Y18>=-2),"A3","A4")))))) -> A2 | Q18: A1 | U18: =$Q18 -> A1 | W18: =IFERROR(VLOOKUP($D18,'P.KH-TC'!$C$10:$AA$19,13,0),0) -> 4 | X18: =IFERROR(VLOOKUP($D18,'P.KH-TC'!$C$10:$AA$19,25,0),0) -> 4 | Y18: 3 | AB18: A1 | AE18: =IF($L18=$P18,$L18,FALSE) -> A2 | AF18: 26 | BD18: KHTC | BE18: NV
A19: b | B19: b | C19: Hợp đồng trường | G19: =COUNTA($L20:$L23) -> 4 | L19: =COUNTA($L20:$L23) -> 4 | M19: =(COUNTIF($L20:$L23, "A1") & "A1")&" + "& (COUNTIF($L20:$L23, "A2") & "A2")&" + "& (COUNTIF($L20:$L23, "A3") & "A3")&" + "& (COUNTIF($L20:$L23, "A4") & "A4") -> 2A1 + 1A2 + 0A3 + 1A4 | P19: =COUNTA($Q20:$Q23) -> 4 | Q19: =P19 -> 4 | R19: =(COUNTIF($Q20:$Q23, "A1") & "A1")&" + "& (COUNTIF($Q20:$Q23, "A2") & "A2")&" + "& (COUNTIF($Q20:$Q23, "A3") & "A3")&" + "& (COUNTIF($Q20:$Q23, "A4") & "A4") -> 2A1 + 1A2 + 1A3 + 0A4 | U19: =COUNTA($U20:$U23) -> 4 | V19: =(COUNTIF($U20:$U23, "A1") & "A1")&" + "& (COUNTIF($U20:$U23, "A2") & "A2")&" + "& (COUNTIF($U20:$U23, "A3") & "A3")&" + "& (COUNTIF($U20:$U23, "A4") & "A4") -> 2A1 + 1A2 + 1A3 + 0A4
A20: =IF(D20="","",SUBTOTAL(3,$D$8:D20)) -> 10 | B20: 07 | C20: Trần Thị Thảo Vân | D20: 01003008 | G20: =IF($H20<>0,"A1",IF($I20<>0,"A2",IF($J20<>0,"A3","A4"))) -> A2 | I20: - Bài viết sáng kiến được công nhận phạm vi ảnh hưởng cấp ngành năm học 2021-2022 (QĐ số 1969/QĐ-SGDĐT ngày 03/8/2022) | J20: - Bài viết sáng kiến được công nhận phạm vi ảnh hưởng cấp trường năm học 2021-2022 (QĐ số 189/QĐ-LTT-HĐSK ngày 15/4/2022) | L20: A1 | M20: Đã vận động tài trợ lễ khai giảng đến ngày 06/11/2023 số tiền là : 10.000.000 đồng. | N20: =IFERROR(VLOOKUP($D20,'P.KH-TC'!$C$10:$AA$19,12,0),0) -> 3 | O20: =IFERROR(VLOOKUP($D20,'P.KH-TC'!$C$10:$AA$19,24,0),0) -> 3 | P20: A1 | Q20: =P20 -> A1 | U20: =$Q20 -> A1 | W20: =IFERROR(VLOOKUP($D20,'P.KH-TC'!$C$10:$AA$19,13,0),0) -> 3 | X20: =IFERROR(VLOOKUP($D20,'P.KH-TC'!$C$10:$AA$19,25,0),0) -> 3 | Y20: 1 | AE20: =IF($L20=$P20,$L20,FALSE) -> A1 | AF20: 24 | BD20: KHTC | BE20: NV
A21: =IF(D21="","",SUBTOTAL(3,$D$8:D21)) -> 11 | B21: 08 | C21: Nguyễn Thụy Nghiêm | D21: 01003014 | G21: =IF($H21<>0,"A1",IF($I21<>0,"A2",IF($J21<>0,"A3","A4"))) -> A2 | I21: - Bài viết sáng kiến được công nhận phạm vi ảnh hưởng cấp ngành năm học 2021-2022 (QĐ số 1969/QĐ-SGDĐT ngày 03/8/2022) - Có bài báo được đăng trên tạp chí - Cơ quan thông tin Lý luận của Bộ Công Thương Số 21-tháng 09/2022 (nhóm 2 tác giả). | J21: - Bài viết sáng kiến được công nhận phạm vi ảnh hưởng cấp trường năm học 2021-2022 (QĐ số 189/QĐ-LTT-HĐSK ngày 15/4/2022) | K21: Có bài báo nhóm 02 tác giả | L21: A2 | N21: =IFERROR(VLOOKUP($D21,'P.KH-TC'!$C$10:$AA$19,12,0),0) -> 4 | O21: =IFERROR(VLOOKUP($D21,'P.KH-TC'!$C$10:$AA$19,24,0),0) -> 3 | P21: =IF(AND($W21>=2,$X21>=3,$Y21>=1,H21<>0),"A1",IF(AND($W21>=3,$X21>=1,$Y21>=1,H21<>0),"A1",IF(AND($W21>=4,$X21>=0,$Y21>=1,H21<>0),"A1",IF(AND($W21>=2,$X21>=2,$Y21>=1,I21<>0),"A2",IF(AND($W21>=3,$X21>=0,$Y21>=1,I21<>0),"A2",IF(AND(OR($W21>=1,$X21>=2),J21<>0,$Y21>=-2),"A3","A4")))))) -> A2 | Q21: =P21 -> A2 | U21: =$Q21 -> A2 | W21: =IFERROR(VLOOKUP($D21,'P.KH-TC'!$C$10:$AA$19,13,0),0) -> 4 | X21: =IFERROR(VLOOKUP($D21,'P.KH-TC'!$C$10:$AA$19,25,0),0) -> 3 | Y21: 1 | AE21: =IF($L21=$P21,$L21,FALSE) -> A2 | AF21: 25 | BD21: KHTC | BE21: NV
A22: =IF(D22="","",SUBTOTAL(3,$D$8:D22)) -> 12 | C22: Huỳnh Như Ý | D22: 01003015 | G22: =IF($H22<>0,"A1",IF($I22<>0,"A2",IF($J22<>0,"A3","A4"))) -> A2 | H22: =VLOOKUP($D22,'[1]Mau 1 (2)'!$C$12:$K$398,4,0) -> 0 | I22: - Bài viết sáng kiến được công nhận phạm vi ảnh hưởng cấp ngành năm học 2021-2022 (QĐ số 1969/QĐ-SGDĐT ngày 03/8/2022) | J22: - Bài viết sáng kiến được công nhận phạm vi ảnh hưởng cấp trường năm học 2021-2022 (QĐ số 189/QĐ-LTT-HĐSK ngày 15/4/2022) | L22: A1 | M22: Đã vận động tài trợ lễ khai giảng đến ngày 06/11/2023 số tiền là : 17.000.000 đồng. | N22: =IFERROR(VLOOKUP($D22,'P.KH-TC'!$C$10:$AA$19,12,0),0) -> 4 | O22: =IFERROR(VLOOKUP($D22,'P.KH-TC'!$C$10:$AA$19,24,0),0) -> 3 | P22: A1 | Q22: =P22 -> A1 | U22: =$Q22 -> A1 | W22: =IFERROR(VLOOKUP($D22,'P.KH-TC'!$C$10:$AA$19,13,0),0) -> 4 | X22: =IFERROR(VLOOKUP($D22,'P.KH-TC'!$C$10:$AA$19,25,0),0) -> 3 | Y22: 1 | AE22: =IF($L22=$P22,$L22,FALSE) -> A1 | AF22: 24 | BD22: KHTC | BE22: NV
A23: =IF(D23="","",SUBTOTAL(3,$D$8:D23)) -> 13 | C23: Nguyễn Chiến Thắng | D23: 01003016 | G23: =IF($H23<>0,"A1",IF($I23<>0,"A2",IF($J23<>0,"A3","A4"))) -> A4 | L23: A4 | N23: =IFERROR(VLOOKUP($D23,'P.KH-TC'!$C$10:$AA$19,12,0),0) -> 3 | O23: =IFERROR(VLOOKUP($D23,'P.KH-TC'!$C$10:$AA$19,24,0),0) -> 3 | P23: =IF(AND($W23>=2,$X23>=3,$Y23>=1,H23<>0),"A1",IF(AND($W23>=3,$X23>=1,$Y23>=1,H23<>0),"A1",IF(AND($W23>=4,$X23>=0,$Y23>=1,H23<>0),"A1",IF(AND($W23>=2,$X23>=2,$Y23>=1,I23<>0),"A2",IF(AND($W23>=3,$X23>=0,$Y23>=1,I23<>0),"A2",IF(AND(OR($W23>=1,$X23>=2),J23<>0,$Y23>=-2),"A3","A4")))))) -> A4 | Q23: A3 | U23: =$Q23 -> A3 | W23: =IFERROR(VLOOKUP($D23,'P.KH-TC'!$C$10:$AA$19,13,0),0) -> 3 | X23: =IFERROR(VLOOKUP($D23,'P.KH-TC'!$C$10:$AA$19,25,0),0) -> 3 | AB23: A3 | AC23: Mức chuẩn A4. Đề nghị xếp loại A3. Cá nhân thường xuyên làm việc ngoài giờ chuẩn bị chứng từ, hồ sơ sổ sách để phục vụ cho công tác thanh tra, thu học phí sinh viên , có nhiều tích cực trong công việc của phòng và của trường | AE23: =IF($L23=$P23,$L23,FALSE) -> A4 | AF23: 26 | BD23: KHTC | BE23: NV
A24: III | B24: III | C24: PHÒNG TUYỂN SINH - ĐÀO TẠO | G24: =$L$25+$L$37 -> 16 | L24: =$L$25+$L$37 -> 16 | M24: =(COUNTIF($L26:$L42, "A1") & "A1")&" + "& (COUNTIF($L26:$L42, "A2") & "A2")&" + "& (COUNTIF($L26:$L42, "A3") & "A3")&" + "& (COUNTIF($L26:$L42, "A4") & "A4") -> 2A1 + 9A2 + 4A3 + 1A4 | P24: =$Q$25+$Q$37 -> 16 | Q24: =$Q$25+$Q$37 -> 16 | R24: =(COUNTIF($Q26:$Q42, "A1") & "A1")&" + "& (COUNTIF($Q26:$Q42, "A2") & "A2")&" + "& (COUNTIF($Q26:$Q42, "A3") & "A3")&" + "& (COUNTIF($Q26:$Q42, "A4") & "A4") -> 4A1 + 7A2 + 4A3 + 1A4 | U24: =$U$25+$U$37 -> 16 | V24: =(COUNTIF($U26:$U42, "A1") & "A1")&" + "& (COUNTIF($U26:$U42, "A2") & "A2")&" + "& (COUNTIF($U26:$U42, "A3") & "A3")&" + "& (COUNTIF($U26:$U42, "A4") & "A4") -> 4A1 + 7A2 + 4A3 + 1A4 | AK24: KẾT QUẢ XẾP LOẠI CỦA HỘI ĐỒNG | BF24: =COUNTIF($BE$26:$BE$42,"CBQL") -> 2 | BG24: =COUNTIF($BE$26:$BE$42,"GV") + COUNTIF($BE$26:$BE$42,"NV") -> 14
A25: a | B25: a | C25: Viên chức | E25: Tỷ lệ A1 | F25: Tỷ lệ A2 | G25: =COUNTA($L26:$L36) -> 11 | L25: =COUNTA($L26:$L36) -> 11 | M25: =(COUNTIF($L26:$L36, "A1") & "A1")&" + "& (COUNTIF($L26:$L36, "A2") & "A2")&" + "& (COUNTIF($L26:$L36, "A3") & "A3")&" + "& (COUNTIF($L26:$L36, "A4") & "A4") -> 2A1 + 6A2 + 3A3 + 0A4 | P25: =COUNTA($Q26:$Q36) -> 11 | Q25: =COUNTA($Q26:$Q36) -> 11 | R25: =(COUNTIF($Q26:$Q36, "A1") & "A1")&" + "& (COUNTIF($Q26:$Q36, "A2") & "A2")&" + "& (COUNTIF($Q26:$Q36, "A3") & "A3")&" + "& (COUNTIF($Q26:$Q36, "A4") & "A4") -> 2A1 + 6A2 + 3A3 + 0A4 | S25: Tỷ lệ A1 | T25: Tỷ lệ A2 | U25: =COUNTA($U26:$U36) -> 11 | V25: =(COUNTIF($U26:$U36, "A1") & "A1")&" + "& (COUNTIF($U26:$U36, "A2") & "A2")&" + "& (COUNTIF($U26:$U36, "A3") & "A3")&" + "& (COUNTIF($U26:$U36, "A4") & "A4") -> 2A1 + 6A2 + 3A3 + 0A4 | AG25: Đơn vị đề nghị nâng | AK25: P. TSĐT | AL25: Tổng nhân sự | AM25: Xếp loại A1 | AO25: Xếp loại A2 | AQ25: Xếp loại A3 | AS25: Xếp loại A4 | AU25: Xếp loại B1 | AW25: Xếp loại B2 | AY25: Xếp loại C1 | BA25: Xếp loại C2
A26: =IF(D26="","",SUBTOTAL(3,$D$8:D26)) -> 14 | B26: 24 | C26: Nguyễn Thành Nam | D26: 01005007 | E26: =COUNTIF($L28:$L42,"A1") -> 0 | F26: =COUNTIF($L28:$L42,"A2") -> 9 | G26: =IF($H26<>0,"A1",IF($I26<>0,"A2",IF($J26<>0,"A3","A4"))) -> A1 | H26: - Bài viết đăng Tạp chí Khoa học quản lý Giáo dục ISSN 2354-0788, số 04 (36) tháng 12/2022 - GV đạt giải II trong Hội thi TBTL toàn quốc năm 2022 (QĐ số 963/QĐ-LĐTBXH ngày 14/10/2022). - Chủ nhiệm đề tài NCKH cấp trường: Nghiên cứu và chế tạo mô hình mạng truyền thông trên ô tô. Mã số đề tài: T2021-TN05 (Theo Biên bản họp HĐ nghiệm thu đề tài ngày 26/9/2022) | I26: - Bài viết sáng kiến được công nhận phạm vi ảnh hưởng cấp ngành năm học 2021-2022 (QĐ số 1969/QĐ-SGDĐT ngày 03/8/2022) - Bài viết đăng Kỷ yếu hội thảo cấp trường (ICSS 2022) - GV đạt giải KK trong Hội thi TBTL cấp thành phố năm 2022 (QĐ số 22258/QĐ-SLĐTBXH ngày 30/6/2022) | J26: - Bài viết sáng kiến được công nhận phạm vi ảnh hưởng cấp trường năm học 2021-2022 (QĐ số 189/QĐ-LTT-HĐSK ngày 15/4/2022) | K26: Có bài báo 01 tác giả | L26: A1 | M26: Chưa vận động doanh nghiệp tài trợ cho Nhà trường | N26: =IFERROR(VLOOKUP($D26,'P.TTGD-CTSV'!$C$10:$AE$24,14,0),0) -> 0 | O26: =IFERROR(VLOOKUP($D26,'P.TTGD-CTSV'!$C$10:$AE$24,28,0),0) -> 0 | P26: =IF(AND($W26>=2,$X26>=3,$Y26>=1,H26<>0),"A1",IF(AND($W26>=3,$X26>=1,$Y26>=1,H26<>0),"A1",IF(AND($W26>=4,$X26>=0,$Y26>=1,H26<>0),"A1",IF(AND($W26>=2,$X26>=2,$Y26>=1,I26<>0),"A2",IF(AND($W26>=3,$X26>=0,$Y26>=1,I26<>0),"A2",IF(AND(OR($W26>=1,$X26>=2),J26<>0,$Y26>=-2),"A3","A4")))))) -> A1 | Q26: A2 | S26: =COUNTIF($U28:$U42,"A1") -> 4 | T26: =COUNTIF($U28:$U42,"A2") -> 5 | U26: =$Q26 -> A2 | V26: =R26 -> 0 | W26: =IFERROR(VLOOKUP($D26,'P.TS-ĐT'!$C$10:$AM$26,23,0),0) -> 8 | X26: =IFERROR(VLOOKUP($D26,'P.TS-ĐT'!$C$10:$AM$26,37,0),0) -> 1 | Y26: 1 | AD26: Chưa ghi nhận vận động DN tài trợ Lễ khai giảng | AE26: =IF($L26=$P26,$L26,FALSE) -> A1 | AF26: 26 | AG26: 1 bậc | AI26: =AH26/$L24 -> 0 | AL26: =AL27+AL28 -> 16 | AM26: SL | AN26: Tỷ lệ | AO26: SL | AP26: Tỷ lệ | AQ26: SL | AR26: Tỷ lệ | AS26: SL | AT26: Tỷ lệ | AU26: SL | AV26: Tỷ lệ | AW26: SL | AX26: Tỷ lệ | AY26: SL | AZ26: Tỷ lệ | BA26: SL | BB26: Tỷ lệ | BD26: TSDT | BE26: CBQL
A27: =IF(D27="","",SUBTOTAL(3,$D$8:D27)) -> 15 | B27: 05 | C27: Quách Minh Thử | D27: 01014007 | E27: =E26/$AL$28 -> 0 | F27: =F26/$AL$28 -> 0.64285714 | G27: =IF($H27<>0,"A1",IF($I27<>0,"A2",IF($J27<>0,"A3","A4"))) -> A1 | H27: - GV đạt giải I trong Hội thi TBTL toàn quốc năm 2022 (QĐ số 963/QĐ-LĐTBXH ngày 14/10/2022). | I27: - Bài viết sáng kiến được công nhận phạm vi ảnh hưởng cấp ngành năm học 2021-2022 (QĐ số 1969/QĐ-SGDĐT ngày 03/8/2022) - Bài viết đăng Kỷ yếu hội thảo cấp trường (ICSS 2022) - GV đạt giải III trong Hội thi TBTL cấp thành phố năm 2022 (QĐ số 22258/QĐ-SLĐTBXH ngày 30/6/2022) | J27: - Bài viết sáng kiến được công nhận phạm vi ảnh hưởng cấp trường năm học 2021-2022 (QĐ số 189/QĐ-LTT-HĐSK ngày 15/4/2022) | L27: A1 | M27: Chưa vận động doanh nghiệp tài trợ cho Nhà trường | N27: =IFERROR(VLOOKUP($D27,'P.TTGD-CTSV'!$C$10:$AE$24,14,0),0) -> 0 | O27: =IFERROR(VLOOKUP($D27,'P.TTGD-CTSV'!$C$10:$AE$24,28,0),0) -> 0 | P27: =IF(AND($W27>=2,$X27>=3,$Y27>=1,H27<>0),"A1",IF(AND($W27>=3,$X27>=1,$Y27>=1,H27<>0),"A1",IF(AND($W27>=4,$X27>=0,$Y27>=1,H27<>0),"A1",IF(AND($W27>=2,$X27>=2,$Y27>=1,I27<>0),"A2",IF(AND($W27>=3,$X27>=0,$Y27>=1,I27<>0),"A2",IF(AND(OR($W27>=1,$X27>=2),J27<>0,$Y27>=-2),"A3","A4")))))) -> A1 | Q27: A2 | S27: =S26/$AL$28 -> 0.28571429 | T27: =T26/$AL$28 -> 0.35714286 | U27: =$Q27 -> A2 | W27: =IFERROR(VLOOKUP($D27,'P.TS-ĐT'!$C$10:$AM$26,23,0),0) -> 7 | X27: =IFERROR(VLOOKUP($D27,'P.TS-ĐT'!$C$10:$AM$26,37,0),0) -> 2 | Y27: 1 | AD27: Chưa ghi nhận vận động DN tài trợ Lễ khai giảng | AE27: =IF($L27=$P27,$L27,FALSE) -> A1 | AF27: 24 | AG27: 2 bậc | AH27: 0 | AI27: =AH27/$L24 -> 0 | AK27: Trưởng, Phó đơn vị | AL27: =COUNTIF($BE$26:$BE$42,"CBQL") -> 2 | AM27: =COUNTIF($U26:$U27,"A1") -> 0 | AN27: =AM27/$AL$27 -> 0 | AO27: =COUNTIF($U26:$U27,"A2") -> 2 | AP27: =AO27/$AL$26 -> 0.125 | AQ27: =COUNTIF($U26:$U27,"A3") -> 0 | AR27: =AQ27/$AL$26 -> 0 | AS27: =COUNTIF($U26:$U27,"A4") -> 0 | AT27: =AS27/$AL$26 -> 0 | BD27: TSDT | BE27: CBQL
A28: =IF(D28="","",SUBTOTAL(3,$D$8:D28)) -> 16 | B28: 05 | C28: Nguyễn Thị Thùy | D28: 01022013 | G28: =IF($H28<>0,"A1",IF($I28<>0,"A2",IF($J28<>0,"A3","A4"))) -> A2 | I28: - Bài viết sáng kiến được công nhận phạm vi ảnh hưởng cấp ngành năm học 2021-2022 (QĐ số 1969/QĐ-SGDĐT ngày 03/8/2022) | J28: - Bài viết sáng kiến được công nhận phạm vi ảnh hưởng cấp trường năm học 2021-2022 (QĐ số 189/QĐ-LTT-HĐSK ngày 15/4/2022) | L28: A2 | N28: =IFERROR(VLOOKUP($D28,'P.TS-ĐT'!$C$10:$AM$26,22,0),0) -> 8 | O28: =IFERROR(VLOOKUP($D28,'P.TS-ĐT'!$C$10:$AM$26,36,0),0) -> 3 | P28: =IF(AND($W28>=2,$X28>=3,$Y28>=1,H28<>0),"A1",IF(AND($W28>=3,$X28>=1,$Y28>=1,H28<>0),"A1",IF(AND($W28>=4,$X28>=0,$Y28>=1,H28<>0),"A1",IF(AND($W28>=2,$X28>=2,$Y28>=1,I28<>0),"A2",IF(AND($W28>=3,$X28>=0,$Y28>=1,I28<>0),"A2",IF(AND(OR($W28>=1,$X28>=2),J28<>0,$Y28>=-2),"A3","A4")))))) -> A2 | Q28: A1 | U28: =$Q28 -> A1 | W28: =IFERROR(VLOOKUP($D28,'P.TS-ĐT'!$C$10:$AM$26,23,0),0) -> 8 | X28: =IFERROR(VLOOKUP($D28,'P.TS-ĐT'!$C$10:$AM$26,37,0),0) -> 3 | Y28: 1 | AB28: A1 | AC28: Đề xuất A1 do việc trường, việc đơn vị nhiều, vượt ngày công | AE28: =IF($L28=$P28,$L28,FALSE) -> A2 | AF28: 25 | AK28: GV/NV | AL28: =COUNTIF($BE$28:$BE$42,"GV") + COUNTIF($BE$28:$BE$42,"NV") -> 14 | AM28: =COUNTIF($U28:$U42,"A1") -> 4 | AN28: =AM28/$AL$28 -> 0.28571429 | AO28: =COUNTIF($U28:$U42,"A2") -> 5 | AP28: =AO28/$AL$28 -> 0.35714286 | AQ28: =COUNTIF($U28:$U42,"A3") -> 4 | AR28: =AQ28/$AL$26 -> 0.25 | AS28: =COUNTIF($U28:$U42,"A4") -> 1 | AT28: =AS28/$AL$26 -> 0.0625 | BD28: TSDT | BE28: NV
A29: =IF(D29="","",SUBTOTAL(3,$D$8:D29)) -> 17 | B29: 06 | C29: Võ Thị Xuân Thơ | D29: 01004003 | G29: =IF($H29<>0,"A1",IF($I29<>0,"A2",IF($J29<>0,"A3","A4"))) -> A2 | I29: - Bài viết đăng Kỷ yếu hội thảo cấp trường (ICSS 2022) | J29: - Bài viết sáng kiến được công nhận phạm vi ảnh hưởng cấp trường năm học 2021-2022 (QĐ số 189/QĐ-LTT-HĐSK ngày 15/4/2022) | L29: A2 | N29: =IFERROR(VLOOKUP($D29,'P.TS-ĐT'!$C$10:$AM$26,22,0),0) -> 6 | O29: =IFERROR(VLOOKUP($D29,'P.TS-ĐT'!$C$10:$AM$26,36,0),0) -> 2 | P29: =IF(AND($W29>=2,$X29>=3,$Y29>=1,H29<>0),"A1",IF(AND($W29>=3,$X29>=1,$Y29>=1,H29<>0),"A1",IF(AND($W29>=4,$X29>=0,$Y29>=1,H29<>0),"A1",IF(AND($W29>=2,$X29>=2,$Y29>=1,I29<>0),"A2",IF(AND($W29>=3,$X29>=0,$Y29>=1,I29<>0),"A2",IF(AND(OR($W29>=1,$X29>=2),J29<>0,$Y29>=-2),"A3","A4")))))) -> A2 | Q29: =P29 -> A2 | U29: =$Q29 -> A2 | W29: =IFERROR(VLOOKUP($D29,'P.TS-ĐT'!$C$10:$AM$26,23,0),0) -> 6 | X29: =IFERROR(VLOOKUP($D29,'P.TS-ĐT'!$C$10:$AM$26,37,0),0) -> 2 | Y29: 1 | AE29: =IF($L29=$P29,$L29,FALSE) -> A2 | AF29: 22 | BD29: TSDT | BE29: NV | BH29: Đơn vị xét | BJ29: Nhóm đề nghị | BL29: Kết quả HĐ | BN29: Kết quả HĐ (Trưởng/Phó đơn vị)
A30: =IF(D30="","",SUBTOTAL(3,$D$8:D30)) -> 18 | B30: 07 | C30: Nguyễn Thị Thanh Thảo | D30: 01004008 | G30: =IF($H30<>0,"A1",IF($I30<>0,"A2",IF($J30<>0,"A3","A4"))) -> A3 | J30: - Bài viết sáng kiến được công nhận phạm vi ảnh hưởng cấp trường năm học 2021-2022 (QĐ số 189/QĐ-LTT-HĐSK ngày 15/4/2022) | L30: A3 | N30: =IFERROR(VLOOKUP($D30,'P.TS-ĐT'!$C$10:$AM$26,22,0),0) -> 6 | O30: =IFERROR(VLOOKUP($D30,'P.TS-ĐT'!$C$10:$AM$26,36,0),0) -> 1 | P30: =IF(AND($W30>=2,$X30>=3,$Y30>=1,H30<>0),"A1",IF(AND($W30>=3,$X30>=1,$Y30>=1,H30<>0),"A1",IF(AND($W30>=4,$X30>=0,$Y30>=1,H30<>0),"A1",IF(AND($W30>=2,$X30>=2,$Y30>=1,I30<>0),"A2",IF(AND($W30>=3,$X30>=0,$Y30>=1,I30<>0),"A2",IF(AND(OR($W30>=1,$X30>=2),J30<>0,$Y30>=-2),"A3","A4")))))) -> A3 | Q30: =P30 -> A3 | U30: =$Q30 -> A3 | W30: =IFERROR(VLOOKUP($D30,'P.TS-ĐT'!$C$10:$AM$26,23,0),0) -> 6 | X30: =IFERROR(VLOOKUP($D30,'P.TS-ĐT'!$C$10:$AM$26,37,0),0) -> 1 | Y30: 1 | AE30: =IF($L30=$P30,$L30,FALSE) -> A3 | AF30: 25 | BD30: TSDT | BE30: NV | BH30: SL | BI30: TL | BJ30: SL | BK30: TL | BL30: SL | BM30: TL | BN30: SL | BO30: TL
A31: =IF(D31="","",SUBTOTAL(3,$D$8:D31)) -> 19 | B31: 08 | C31: Huỳnh Thị Cẩm Hoa | D31: 01005009 | G31: =IF($H31<>0,"A1",IF($I31<>0,"A2",IF($J31<>0,"A3","A4"))) -> A3 | J31: - Bài viết sáng kiến được công nhận phạm vi ảnh hưởng cấp trường năm học 2021-2022 (QĐ số 189/QĐ-LTT-HĐSK ngày 15/4/2022) | L31: A3 | M31: Nghỉ 2 ngày | N31: =IFERROR(VLOOKUP($D31,'P.TS-ĐT'!$C$10:$AM$26,22,0),0) -> 4 | O31: =IFERROR(VLOOKUP($D31,'P.TS-ĐT'!$C$10:$AM$26,36,0),0) -> 1 | P31: =IF(AND($W31>=2,$X31>=3,$Y31>=1,H31<>0),"A1",IF(AND($W31>=3,$X31>=1,$Y31>=1,H31<>0),"A1",IF(AND($W31>=4,$X31>=0,$Y31>=1,H31<>0),"A1",IF(AND($W31>=2,$X31>=2,$Y31>=1,I31<>0),"A2",IF(AND($W31>=3,$X31>=0,$Y31>=1,I31<>0),"A2",IF(AND(OR($W31>=1,$X31>=2),J31<>0,$Y31>=-2),"A3","A4")))))) -> A3 | Q31: =P31 -> A3 | U31: =$Q31 -> A3 | V31: =R31 -> 0 | W31: =IFERROR(VLOOKUP($D31,'P.TS-ĐT'!$C$10:$AM$26,23,0),0) -> 4 | X31: =IFERROR(VLOOKUP($D31,'P.TS-ĐT'!$C$10:$AM$26,37,0),0) -> 1 | Y31: 1 | AE31: =IF($L31=$P31,$L31,FALSE) -> A3 | AF31: 22 | BD31: TSDT | BE31: NV | BG31: Xếp loại A1
A32: =IF(D32="","",SUBTOTAL(3,$D$8:D32)) -> 20 | B32: 09 | C32: Giáp Thị Vượng | D32: 01004009 | G32: =IF($H32<>0,"A1",IF($I32<>0,"A2",IF($J32<>0,"A3","A4"))) -> A2 | I32: - Bài viết đăng Kỷ yếu hội thảo cấp trường (ICSS 2022) | J32: - Bài viết sáng kiến được công nhận phạm vi ảnh hưởng cấp trường năm học 2021-2022 (QĐ số 189/QĐ-LTT-HĐSK ngày 15/4/2022) | L32: A2 | N32: =IFERROR(VLOOKUP($D32,'P.TS-ĐT'!$C$10:$AM$26,22,0),0) -> 3 | O32: =IFERROR(VLOOKUP($D32,'P.TS-ĐT'!$C$10:$AM$26,36,0),0) -> 2 | P32: =IF(AND($W32>=2,$X32>=3,$Y32>=1,H32<>0),"A1",IF(AND($W32>=3,$X32>=1,$Y32>=1,H32<>0),"A1",IF(AND($W32>=4,$X32>=0,$Y32>=1,H32<>0),"A1",IF(AND($W32>=2,$X32>=2,$Y32>=1,I32<>0),"A2",IF(AND($W32>=3,$X32>=0,$Y32>=1,I32<>0),"A2",IF(AND(OR($W32>=1,$X32>=2),J32<>0,$Y32>=-2),"A3","A4")))))) -> A2 | Q32: =P32 -> A2 | U32: =$Q32 -> A2 | V32: =R32 -> 0 | W32: =IFERROR(VLOOKUP($D32,'P.TS-ĐT'!$C$10:$AM$26,23,0),0) -> 3 | X32: =IFERROR(VLOOKUP($D32,'P.TS-ĐT'!$C$10:$AM$26,37,0),0) -> 2 | Y32: 1 | AE32: =IF($L32=$P32,$L32,FALSE) -> A2 | AF32: 25 | BD32: TSDT | BE32: NV | BG32: Xếp loại A2
A33: =IF(D33="","",SUBTOTAL(3,$D$8:D33)) -> 21 | B33: 10 | C33: Thái Thị My Sa | D33: 01002020 | G33: =IF($H33<>0,"A1",IF($I33<>0,"A2",IF($J33<>0,"A3","A4"))) -> A2 | I33: - Bài viết đăng Kỷ yếu hội thảo cấp trường (ICSS 2022) | J33: - Bài viết sáng kiến được công nhận phạm vi ảnh hưởng cấp trường năm học 2021-2022 (QĐ số 189/QĐ-LTT-HĐSK ngày 15/4/2022) | L33: A2 | N33: =IFERROR(VLOOKUP($D33,'P.TS-ĐT'!$C$10:$AM$26,22,0),0) -> 6 | O33: =IFERROR(VLOOKUP($D33,'P.TS-ĐT'!$C$10:$AM$26,36,0),0) -> 2 | P33: =IF(AND($W33>=2,$X33>=3,$Y33>=1,H33<>0),"A1",IF(AND($W33>=3,$X33>=1,$Y33>=1,H33<>0),"A1",IF(AND($W33>=4,$X33>=0,$Y33>=1,H33<>0),"A1",IF(AND($W33>=2,$X33>=2,$Y33>=1,I33<>0),"A2",IF(AND($W33>=3,$X33>=0,$Y33>=1,I33<>0),"A2",IF(AND(OR($W33>=1,$X33>=2),J33<>0,$Y33>=-2),"A3","A4")))))) -> A2 | Q33: =P33 -> A2 | R33: Nhóm TT đề nghị xếp A1 | U33: =$Q33 -> A2 | W33: =IFERROR(VLOOKUP($D33,'P.TS-ĐT'!$C$10:$AM$26,23,0),0) -> 6 | X33: =IFERROR(VLOOKUP($D33,'P.TS-ĐT'!$C$10:$AM$26,37,0),0) -> 2 | Y33: 1 | AE33: =IF($L33=$P33,$L33,FALSE) -> A2 | AF33: 22 | BD33: TSDT | BE33: NV | BG33: Xếp loại A3
A34: =IF(D34="","",SUBTOTAL(3,$D$8:D34)) -> 22 | B34: 11 | C34: Mai Nguyễn Hoàng Yến | D34: 01010038 | G34: =IF($H34<>0,"A1",IF($I34<>0,"A2",IF($J34<>0,"A3","A4"))) -> A2 | I34: - Bài viết đăng Kỷ yếu hội thảo cấp trường (ICSS 2022) | J34: - Bài viết sáng kiến được công nhận phạm vi ảnh hưởng cấp trường năm học 2021-2022 (QĐ số 189/QĐ-LTT-HĐSK ngày 15/4/2022) | L34: A2 | N34: =IFERROR(VLOOKUP($D34,'P.TS-ĐT'!$C$10:$AM$26,22,0),0) -> 4 | O34: =IFERROR(VLOOKUP($D34,'P.TS-ĐT'!$C$10:$AM$26,36,0),0) -> 1 | P34: =IF(AND($W34>=2,$X34>=3,$Y34>=1,H34<>0),"A1",IF(AND($W34>=3,$X34>=1,$Y34>=1,H34<>0),"A1",IF(AND($W34>=4,$X34>=0,$Y34>=1,H34<>0),"A1",IF(AND($W34>=2,$X34>=2,$Y34>=1,I34<>0),"A2",IF(AND($W34>=3,$X34>=0,$Y34>=1,I34<>0),"A2",IF(AND(OR($W34>=1,$X34>=2),J34<>0,$Y34>=-2),"A3","A4")))))) -> A2 | Q34: =P34 -> A2 | U34: =$Q34 -> A2 | W34: =IFERROR(VLOOKUP($D34,'P.TS-ĐT'!$C$10:$AM$26,23,0),0) -> 4 | X34: =IFERROR(VLOOKUP($D34,'P.TS-ĐT'!$C$10:$AM$26,37,0),0) -> 1 | Y34: 1 | AE34: =IF($L34=$P34,$L34,FALSE) -> A2 | AF34: 24 | BD34: TSDT | BE34: NV | BG34: Xếp loại A4
A35: =IF(D35="","",SUBTOTAL(3,$D$8:D35)) -> 23 | B35: 12 | C35: Nguyễn Thị Hải Hà | D35: 01012026 | G35: =IF($H35<>0,"A1",IF($I35<>0,"A2",IF($J35<>0,"A3","A4"))) -> A2 | I35: - Bài viết đăng Kỷ yếu hội thảo cấp trường (ICSS 2022) | J35: - Bài viết sáng kiến được công nhận phạm vi ảnh hưởng cấp trường năm học 2021-2022 (QĐ số 189/QĐ-LTT-HĐSK ngày 15/4/2022) | L35: A2 | N35: =IFERROR(VLOOKUP($D35,'P.TS-ĐT'!$C$10:$AM$26,22,0),0) -> 5 | O35: =IFERROR(VLOOKUP($D35,'P.TS-ĐT'!$C$10:$AM$26,36,0),0) -> 0 | P35: =IF(AND($W35>=2,$X35>=3,$Y35>=1,H35<>0),"A1",IF(AND($W35>=3,$X35>=1,$Y35>=1,H35<>0),"A1",IF(AND($W35>=4,$X35>=0,$Y35>=1,H35<>0),"A1",IF(AND($W35>=2,$X35>=2,$Y35>=1,I35<>0),"A2",IF(AND($W35>=3,$X35>=0,$Y35>=1,I35<>0),"A2",IF(AND(OR($W35>=1,$X35>=2),J35<>0,$Y35>=-2),"A3","A4")))))) -> A2 | Q35: A1 | U35: =$Q35 -> A1 | W35: =IFERROR(VLOOKUP($D35,'P.TS-ĐT'!$C$10:$AM$26,23,0),0) -> 5 | X35: =IFERROR(VLOOKUP($D35,'P.TS-ĐT'!$C$10:$AM$26,37,0),0) -> 0 | Y35: 1 | AB35: A1 | AC35: Đề xuất A1 do việc trường nhiều, Thư ký HĐ KĐ ngành QTM | AE35: =IF($L35=$P35,$L35,FALSE) -> A2 | AF35: 22 | BD35: TSDT | BE35: NV
A36: =IF(D36="","",SUBTOTAL(3,$D$8:D36)) -> 24 | B36: 08 | C36: Nguyễn Thị Ngọc Anh | D36: 01022058 | G36: =IF($H36<>0,"A1",IF($I36<>0,"A2",IF($J36<>0,"A3","A4"))) -> A2 | I36: - Bài viết sáng kiến được công nhận phạm vi ảnh hưởng cấp ngành năm học 2021-2022 (QĐ số 1969/QĐ-SGDĐT ngày 03/8/2022) | J36: - Bài viết sáng kiến được công nhận phạm vi ảnh hưởng cấp trường năm học 2021-2022 (QĐ số 189/QĐ-LTT-HĐSK ngày 15/4/2022) | L36: A3 | M36: Nghỉ 2 ngày | N36: =IFERROR(VLOOKUP($D36,'P.TS-ĐT'!$C$10:$AM$26,22,0),0) -> 3 | O36: =IFERROR(VLOOKUP($D36,'P.TS-ĐT'!$C$10:$AM$26,36,0),0) -> 1 | P36: =IF(AND($W36>=2,$X36>=3,$Y36>=1,H36<>0),"A1",IF(AND($W36>=3,$X36>=1,$Y36>=1,H36<>0),"A1",IF(AND($W36>=4,$X36>=0,$Y36>=1,H36<>0),"A1",IF(AND($W36>=2,$X36>=2,$Y36>=1,I36<>0),"A2",IF(AND($W36>=3,$X36>=0,$Y36>=1,I36<>0),"A2",IF(AND(OR($W36>=1,$X36>=2),J36<>0,$Y36>=-2),"A3","A4")))))) -> A3 | Q36: =P36 -> A3 | U36: =$Q36 -> A3 | W36: =IFERROR(VLOOKUP($D36,'P.TS-ĐT'!$C$10:$AM$26,23,0),0) -> 3 | X36: =IFERROR(VLOOKUP($D36,'P.TS-ĐT'!$C$10:$AM$26,37,0),0) -> 1 | AE36: =IF($L36=$P36,$L36,FALSE) -> A3 | AF36: 22 | BD36: TSDT | BE36: NV
A37: b | B37: b | C37: Hợp đồng trường | G37: =COUNTA($L38:$L42) -> 5 | L37: =COUNTA($L38:$L42) -> 5 | M37: =(COUNTIF($L38:$L42, "A1") & "A1")&" + "& (COUNTIF($L38:$L42, "A2") & "A2")&" + "& (COUNTIF($L38:$L42, "A3") & "A3")&" + "& (COUNTIF($L38:$L42, "A4") & "A4") -> 0A1 + 3A2 + 1A3 + 1A4 | P37: =COUNTA($Q38:$Q42) -> 5 | Q37: =COUNTA($Q38:$Q42) -> 5 | R37: =(COUNTIF($Q38:$Q42, "A1") & "A1")&" + "& (COUNTIF($Q38:$Q42, "A2") & "A2")&" + "& (COUNTIF($Q38:$Q42, "A3") & "A3")&" + "& (COUNTIF($Q38:$Q42, "A4") & "A4") -> 2A1 + 1A2 + 1A3 + 1A4 | U37: =COUNTA($U38:$U42) -> 5 | V37: =(COUNTIF($U38:$U42, "A1") & "A1")&" + "& (COUNTIF($U38:$U42, "A2") & "A2")&" + "& (COUNTIF($U38:$U42, "A3") & "A3")&" + "& (COUNTIF($U38:$U42, "A4") & "A4") -> 2A1 + 1A2 + 1A3 + 1A4 | BD37: TSDT
A38: =IF(D38="","",SUBTOTAL(3,$D$8:D38)) -> 25 | B38: 15 | C38: Trần Nhật Thịnh | D38: 01004020 | G38: =IF($H38<>0,"A1",IF($I38<>0,"A2",IF($J38<>0,"A3","A4"))) -> A4 | L38: A4 | M38: Thử việc 01/10/2023 | N38: =IFERROR(VLOOKUP($D38,'P.TS-ĐT'!$C$10:$AM$26,22,0),0) -> 1 | O38: =IFERROR(VLOOKUP($D38,'P.TS-ĐT'!$C$10:$AM$26,36,0),0) -> 1 | P38: =IF(AND($W38>=2,$X38>=3,$Y38>=1,H38<>0),"A1",IF(AND($W38>=3,$X38>=1,$Y38>=1,H38<>0),"A1",IF(AND($W38>=4,$X38>=0,$Y38>=1,H38<>0),"A1",IF(AND($W38>=2,$X38>=2,$Y38>=1,I38<>0),"A2",IF(AND($W38>=3,$X38>=0,$Y38>=1,I38<>0),"A2",IF(AND(OR($W38>=1,$X38>=2),J38<>0,$Y38>=-2),"A3","A4")))))) -> A4 | Q38: =P38 -> A4 | U38: =$Q38 -> A4 | W38: =IFERROR(VLOOKUP($D38,'P.TS-ĐT'!$C$10:$AM$26,23,0),0) -> 1 | X38: =IFERROR(VLOOKUP($D38,'P.TS-ĐT'!$C$10:$AM$26,37,0),0) -> 1 | Y38: 1 | AE38: =IF($L38=$P38,$L38,FALSE) -> A4 | AF38: 25 | BD38: TSDT | BE38: NV
A39: =IF(D39="","",SUBTOTAL(3,$D$8:D39)) -> 26 | B39: 13 | C39: Sỹ Thị Chung | D39: 01011017 | G39: =IF($H39<>0,"A1",IF($I39<>0,"A2",IF($J39<>0,"A3","A4"))) -> A2 | I39: - Bài viết sáng kiến được công nhận phạm vi ảnh hưởng cấp ngành năm học 2021-2022 (QĐ số 1969/QĐ-SGDĐT ngày 03/8/2022) | J39: - Bài viết sáng kiến được công nhận phạm vi ảnh hưởng cấp trường năm học 2021-2022 (QĐ số 189/QĐ-LTT-HĐSK ngày 15/4/2022) | L39: A2 | N39: =IFERROR(VLOOKUP($D39,'P.TS-ĐT'!$C$10:$AM$26,22,0),0) -> 4 | O39: =IFERROR(VLOOKUP($D39,'P.TS-ĐT'!$C$10:$AM$26,36,0),0) -> 0 | P39: =IF(AND($W39>=2,$X39>=3,$Y39>=1,H39<>0),"A1",IF(AND($W39>=3,$X39>=1,$Y39>=1,H39<>0),"A1",IF(AND($W39>=4,$X39>=0,$Y39>=1,H39<>0),"A1",IF(AND($W39>=2,$X39>=2,$Y39>=1,I39<>0),"A2",IF(AND($W39>=3,$X39>=0,$Y39>=1,I39<>0),"A2",IF(AND(OR($W39>=1,$X39>=2),J39<>0,$Y39>=-2),"A3","A4")))))) -> A2 | Q39: =P39 -> A2 | U39: =$Q39 -> A2 | W39: =IFERROR(VLOOKUP($D39,'P.TS-ĐT'!$C$10:$AM$26,23,0),0) -> 4 | X39: =IFERROR(VLOOKUP($D39,'P.TS-ĐT'!$C$10:$AM$26,37,0),0) -> 0 | Y39: 1 | AE39: =IF($L39=$P39,$L39,FALSE) -> A2 | AF39: 24 | BD39: TSDT | BE39: NV
A40: =IF(D40="","",SUBTOTAL(3,$D$8:D40)) -> 27 | B40: 14 | C40: Nguyễn Thị Tất | D40: 01022059 | G40: =IF($H40<>0,"A1",IF($I40<>0,"A2",IF($J40<>0,"A3","A4"))) -> A2 | I40: - Bài viết đăng Kỷ yếu hội thảo cấp trường (ICSS 2022) | J40: - Bài viết sáng kiến được công nhận phạm vi ảnh hưởng cấp trường năm học 2021-2022 (QĐ số 189/QĐ-LTT-HĐSK ngày 15/4/2022) | L40: A2 | N40: =IFERROR(VLOOKUP($D40,'P.TS-ĐT'!$C$10:$AM$26,22,0),0) -> 6 | O40: =IFERROR(VLOOKUP($D40,'P.TS-ĐT'!$C$10:$AM$26,36,0),0) -> 3 | P40: =IF(AND($W40>=2,$X40>=3,$Y40>=1,H40<>0),"A1",IF(AND($W40>=3,$X40>=1,$Y40>=1,H40<>0),"A1",IF(AND($W40>=4,$X40>=0,$Y40>=1,H40<>0),"A1",IF(AND($W40>=2,$X40>=2,$Y40>=1,I40<>0),"A2",IF(AND($W40>=3,$X40>=0,$Y40>=1,I40<>0),"A2",IF(AND(OR($W40>=1,$X40>=2),J40<>0,$Y40>=-2),"A3","A4")))))) -> A2 | Q40: A1 | U40: =$Q40 -> A1 | W40: =IFERROR(VLOOKUP($D40,'P.TS-ĐT'!$C$10:$AM$26,23,0),0) -> 6 | X40: =IFERROR(VLOOKUP($D40,'P.TS-ĐT'!$C$10:$AM$26,37,0),0) -> 3 | Y40: 1 | AB40: A1 | AC40: Đề xuất A1 do việc trường, việc đơn vị nhiều, Thư ký HĐ KĐ ngành CĐT | AE40: =IF($L40=$P40,$L40,FALSE) -> A2 | AF40: 28 | BD40: TSDT | BE40: NV
A41: =IF(D41="","",SUBTOTAL(3,$D$8:D41)) -> 28 | B41: 15 | C41: Nguyễn Thị Nhung | D41: 01018006 | G41: =IF($H41<>0,"A1",IF($I41<>0,"A2",IF($J41<>0,"A3","A4"))) -> A3 | J41: - Bài viết sáng kiến được công nhận phạm vi ảnh hưởng cấp trường năm học 2021-2022 (QĐ số 189/QĐ-LTT-HĐSK ngày 15/4/2022) | L41: A3 | N41: =IFERROR(VLOOKUP($D41,'P.TS-ĐT'!$C$10:$AM$26,22,0),0) -> 5 | O41: =IFERROR(VLOOKUP($D41,'P.TS-ĐT'!$C$10:$AM$26,36,0),0) -> 4 | P41: =IF(AND($W41>=2,$X41>=3,$Y41>=1,H41<>0),"A1",IF(AND($W41>=3,$X41>=1,$Y41>=1,H41<>0),"A1",IF(AND($W41>=4,$X41>=0,$Y41>=1,H41<>0),"A1",IF(AND($W41>=2,$X41>=2,$Y41>=1,I41<>0),"A2",IF(AND($W41>=3,$X41>=0,$Y41>=1,I41<>0),"A2",IF(AND(OR($W41>=1,$X41>=2),J41<>0,$Y41>=-2),"A3","A4")))))) -> A3 | Q41: =P41 -> A3 | U41: =$Q41 -> A3 | W41: =IFERROR(VLOOKUP($D41,'P.TS-ĐT'!$C$10:$AM$26,23,0),0) -> 5 | X41: =IFERROR(VLOOKUP($D41,'P.TS-ĐT'!$C$10:$AM$26,37,0),0) -> 4 | Y41: 1 | AE41: =IF($L41=$P41,$L41,FALSE) -> A3 | AF41: 25 | BD41: TSDT | BE41: NV
A42: =IF(D42="","",SUBTOTAL(3,$D$8:D42)) -> 29 | B42: 16 | C42: Nguyễn Việt Tiến | D42: 01004013 | G42: =IF($H42<>0,"A1",IF($I42<>0,"A2",IF($J42<>0,"A3","A4"))) -> A2 | I42: Cá nhân tham gia viết bài kỷ yếu 50 năm của trường (Đoàn Thanh niên) | J42: - Bài viết sáng kiến được công nhận phạm vi ảnh hưởng cấp trường năm học 2021-2022 (QĐ số 189/QĐ-LTT-HĐSK ngày 15/4/2022) | K42: Bổ sung trong kỳ xét thi đua tháng 2/2023 | L42: A2 | N42: =IFERROR(VLOOKUP($D42,'P.TS-ĐT'!$C$10:$AM$26,22,0),0) -> 7 | O42: =IFERROR(VLOOKUP($D42,'P.TS-ĐT'!$C$10:$AM$26,36,0),0) -> 1 | P42: =IF(AND($W42>=2,$X42>=3,$Y42>=1,H42<>0),"A1",IF(AND($W42>=3,$X42>=1,$Y42>=1,H42<>0),"A1",IF(AND($W42>=4,$X42>=0,$Y42>=1,H42<>0),"A1",IF(AND($W42>=2,$X42>=2,$Y42>=1,I42<>0),"A2",IF(AND($W42>=3,$X42>=0,$Y42>=1,I42<>0),"A2",IF(AND(OR($W42>=1,$X42>=2),J42<>0,$Y42>=-2),"A3","A4")))))) -> A2 | Q42: A1 | U42: =$Q42 -> A1 | W42: =IFERROR(VLOOKUP($D42,'P.TS-ĐT'!$C$10:$AM$26,23,0),0) -> 7 | X42: =IFERROR(VLOOKUP($D42,'P.TS-ĐT'!$C$10:$AM$26,37,0),0) -> 1 | Y42: 1 | AB42: A1 | AC42: Đề xuất A1 do việc trường, việc đơn vị nhiều, vượt ngày công | AE42: =IF($L42=$P42,$L42,FALSE) -> A2 | AF42: 25 | BD42: TSDT | BE42: NV
A43: IV | B43: IV | C43: P. TỔ CHỨC - HÀNH CHÍNH - TỔNG HỢP | E43: Tỷ lệ A1 | F43: Tỷ lệ A2 | G43: =$L$44+$L$57 -> 27 | L43: =$L$44+$L$57 -> 27 | M43: =(COUNTIF($L$45:$L$72, "A1") & "A1")&" + "& (COUNTIF($L$45:$L$72, "A2") & "A2")&" + "& (COUNTIF($L$45:$L$72, "A3") & "A3")&" + "& (COUNTIF($L$45:$L$72, "A4") & "A4")&" + "& (COUNTIF($L$45:$L$72, "A DN") & "A DN") -> 4A1 + 5A2 + 5A3 + 12A4 + 1A DN | P43: =$Q$44+$Q$57 -> 27 | Q43: =$Q$44+$Q$57 -> 27 | R43: =(COUNTIF($Q$45:$Q$72, "A1") & "A1")&" + "& (COUNTIF($Q$45:$Q$72, "A2") & "A2")&" + "& (COUNTIF($Q$45:$Q$72, "A3") & "A3")&" + "& (COUNTIF($Q$45:$Q$72, "A4") & "A4")&" + "& (COUNTIF($Q$45:$Q$72, "A DN") & "A DN") -> 5A1 + 7A2 + 10A3 + 4A4 + 1A DN | S43: Tỷ lệ A1 | T43: Tỷ lệ A2 | U43: =$U$44+$U$57 -> 27 | V43: =(COUNTIF($U$45:$U$72, "A1") & "A1")&" + "& (COUNTIF($U$45:$U$72, "A2") & "A2")&" + "& (COUNTIF($U$45:$U$72, "A3") & "A3")&" + "& (COUNTIF($U$45:$U$72, "A4") & "A4")&" + "& (COUNTIF($U$45:$U$72, "A DN") & "A DN") -> 5A1 + 8A2 + 9A3 + 4A4 + 1A DN | AK43: KẾT QUẢ XẾP LOẠI CỦA HỘI ĐỒNG | BF43: =COUNTIF($BE$45:$BE$72,"CBQL") -> 3 | BG43: =COUNTIF($BE$45:$BE$72,"GV") + COUNTIF($BE$45:$BE$72,"NV") -> 24
A44: a | B44: a | C44: Viên chức | E44: =COUNTIF($L48:$L72,"A1") -> 1 | F44: =COUNTIF($L48:$L72,"A2") -> 5 | G44: =COUNTA($L$45:$L$56) -> 12 | L44: =COUNTA($L$45:$L$56) -> 12 | M44: =(COUNTIF($L$45:$L$56, "A1") & "A1")&" + "& (COUNTIF($L$45:$L$56, "A2") & "A2")&" + "& (COUNTIF($L$45:$L$56, "A3") & "A3")&" + "& (COUNTIF($L$45:$L$56, "A4") & "A4")&" + "& (COUNTIF($L$45:$L$56, "A DN") & "A DN") -> 4A1 + 5A2 + 2A3 + 1A4 + 0A DN | P44: =COUNTA($Q$45:$Q$56) -> 12 | Q44: =COUNTA($Q$45:$Q$56) -> 12 | R44: =(COUNTIF($Q$45:$Q$56, "A1") & "A1")&" + "& (COUNTIF($Q$45:$Q$56, "A2") & "A2")&" + "& (COUNTIF($Q$45:$Q$56, "A3") & "A3")&" + "& (COUNTIF($Q$45:$Q$56, "A4") & "A4")&" + "& (COUNTIF($Q$45:$Q$56, "A DN") & "A DN") -> 5A1 + 4A2 + 3A3 + 0A4 + 0A DN | S44: =COUNTIF($U48:$U72,"A1") -> 2 | T44: =COUNTIF($U48:$U72,"A2") -> 8 | U44: =COUNTA($U$45:$U$56) -> 12 | V44: =(COUNTIF($U$45:$U$56, "A1") & "A1")&" + "& (COUNTIF($U$45:$U$56, "A2") & "A2")&" + "& (COUNTIF($U$45:$U$56, "A3") & "A3")&" + "& (COUNTIF($U$45:$U$56, "A4") & "A4")&" + "& (COUNTIF($U$45:$U$56, "A DN") & "A DN") -> 5A1 + 5A2 + 2A3 + 0A4 + 0A DN | AG44: Đơn vị đề nghị nâng | AK44: P. TCHCTH | AL44: Tổng nhân sự | AM44: Xếp loại A1 | AO44: Xếp loại A2 | AQ44: Xếp loại A3 | AS44: Xếp loại A4 | AU44: Xếp loại B1 | AW44: Xếp loại B2 | AY44: Xếp loại C1 | BA44: Xếp loại C2
A45: =IF(D45="","",SUBTOTAL(3,$D$8:D45)) -> 30 | B45: 01 | C45: Lâm Viết Dũng | D45: 01007009 | E45: =E44/$AL$47 -> 0.041666667 | F45: =F44/$AL$47 -> 0.20833333 | G45: =IF($H45<>0,"A1",IF($I45<>0,"A2",IF($J45<>0,"A3","A4"))) -> A1 | H45: - Tham gia đề tài NCKH cấp trường: Nghiên cứu và chế tạo mô hình mạng truyền thông trên ô tô. Mã số đề tài: T2021-TN05 (Theo Biên bản họp HĐ nghiệm thu đề tài ngày 26/9/2022) - GV đạt giải II trong Hội thi TBTL toàn quốc năm 2022 (QĐ số 963/QĐ-LĐTBXH ngày 14/10/2022). | I45: - Bài viết sáng kiến được công nhận phạm vi ảnh hưởng cấp ngành năm học 2021-2022 (QĐ số 1969/QĐ-SGDĐT ngày 03/8/2022) - Bài viết đăng Kỷ yếu hội thảo cấp trường (ICSS 2022) | J45: - Bài viết sáng kiến được công nhận phạm vi ảnh hưởng cấp trường năm học 2021-2022 (QĐ số 189/QĐ-LTT-HĐSK ngày 15/4/2022) | L45: A1 | M45: Vận động DN tài trợ lễ khai giảng - 30,5 triệu đồng | N45: =IFERROR(VLOOKUP($D45,TCHC!$C$10:$AE$37,14,0),0) -> 3 | O45: =IFERROR(VLOOKUP($D45,TCHC!$C$10:$AE$37,28,0),0) -> 2 | P45: =IF(AND($W45>=2,$X45>=3,$Y45>=1,H45<>0),"A1",IF(AND($W45>=3,$X45>=1,$Y45>=1,H45<>0),"A1",IF(AND($W45>=4,$X45>=0,$Y45>=1,H45<>0),"A1",IF(AND($W45>=2,$X45>=2,$Y45>=1,I45<>0),"A2",IF(AND($W45>=3,$X45>=0,$Y45>=1,I45<>0),"A2",IF(AND(OR($W45>=1,$X45>=2),J45<>0,$Y45>=-2),"A3","A4")))))) -> A1 | Q45: =P45 -> A1 | S45: =S44/$AL$47 -> 0.083333333 | T45: =T44/$AL$47 -> 0.33333333 | U45: =$Q45 -> A1 | W45: =IFERROR(VLOOKUP($D45,TCHC!$C$10:$AE$37,15,0),0) -> 3 | X45: =IFERROR(VLOOKUP($D45,TCHC!$C$10:$AE$37,29,0),0) -> 2 | Y45: 1 | AE45: =IF($L45=$P45,$L45,FALSE) -> A1 | AG45: 1 bậc | AI45: =AH45/$L43 -> 0 | AL45: =AL46+AL47 -> 27 | AM45: SL | AN45: Tỷ lệ | AO45: SL | AP45: Tỷ lệ | AQ45: SL | AR45: Tỷ lệ | AS45: SL | AT45: Tỷ lệ | AU45: SL | AV45: Tỷ lệ | AW45: SL | AX45: Tỷ lệ | AY45: SL | AZ45: Tỷ lệ | BA45: SL | BB45: Tỷ lệ | BD45: TCHC | BE45: CBQL
A46: =IF(D46="","",SUBTOTAL(3,$D$8:D46)) -> 31 | B46: 08 | C46: Lưu Hoàng Hải Yến | D46: 01002019 | G46: =IF($H46<>0,"A1",IF($I46<>0,"A2",IF($J46<>0,"A3","A4"))) -> A1 | H46: Đề án Trường ĐH LTT | I46: - Bài viết sáng kiến được công nhận phạm vi ảnh hưởng cấp ngành năm học 2021-2022 (QĐ số 1969/QĐ-SGDĐT ngày 03/8/2022) - Bài viết đăng Kỷ yếu hội thảo cấp trường (ICSS 2022) | J46: - Bài viết sáng kiến được công nhận phạm vi ảnh hưởng cấp trường năm học 2021-2022 (QĐ số 189/QĐ-LTT-HĐSK ngày 15/4/2022) | L46: A1 | M46: Vận động DN tài trợ lễ khai giảng - 15 triệu đồng (đã tính tháng 9/2023) | N46: =IFERROR(VLOOKUP($D46,TCHC!$C$10:$AE$37,14,0),0) -> 3 | O46: =IFERROR(VLOOKUP($D46,TCHC!$C$10:$AE$37,28,0),0) -> 2 | P46: =IF(AND($W46>=2,$X46>=3,$Y46>=1,H46<>0),"A1",IF(AND($W46>=3,$X46>=1,$Y46>=1,H46<>0),"A1",IF(AND($W46>=4,$X46>=0,$Y46>=1,H46<>0),"A1",IF(AND($W46>=2,$X46>=2,$Y46>=1,I46<>0),"A2",IF(AND($W46>=3,$X46>=0,$Y46>=1,I46<>0),"A2",IF(AND(OR($W46>=1,$X46>=2),J46<>0,$Y46>=-2),"A3","A4")))))) -> A1 | Q46: =P46 -> A1 | U46: =$Q46 -> A1 | W46: =IFERROR(VLOOKUP($D46,TCHC!$C$10:$AE$37,15,0),0) -> 3 | X46: =IFERROR(VLOOKUP($D46,TCHC!$C$10:$AE$37,29,0),0) -> 2 | Y46: 1 | AE46: =IF($L46=$P46,$L46,FALSE) -> A1 | AG46: 2 bậc | AI46: =AH46/$L43 -> 0 | AK46: Trưởng, Phó đơn vị | AL46: =COUNTIF($BE$45:$BE$72,"CBQL") -> 3 | AM46: =COUNTIF($U45:$U47,"A1") -> 3 | AN46: =AM46/$AL$46 -> 1 | AO46: =COUNTIF($U45:$U47,"A2") -> 0 | AP46: =AO46/$AL$45 -> 0 | AQ46: =COUNTIF($U45:$U47,"A3") -> 0 | AR46: =AQ46/$AL$45 -> 0 | AS46: =COUNTIF($U45:$U47,"A4") -> 0 | AT46: =AS46/$AL$45 -> 0 | BD46: TCHC | BE46: CBQL
A47: =IF(D47="","",SUBTOTAL(3,$D$8:D47)) -> 32 | B47: 02 | C47: Huỳnh Thị Minh Ly | D47: 01004007 | G47: =IF($H47<>0,"A1",IF($I47<>0,"A2",IF($J47<>0,"A3","A4"))) -> A1 | H47: Đề án Trường ĐH LTT | I47: - Bài viết sáng kiến được công nhận phạm vi ảnh hưởng cấp ngành năm học 2021-2022 (QĐ số 1969/QĐ-SGDĐT ngày 03/8/2022) - Bài viết đăng Kỷ yếu hội thảo cấp trường (ICSS 2022) | J47: - Bài viết sáng kiến được công nhận phạm vi ảnh hưởng cấp trường năm học 2021-2022 (QĐ số 189/QĐ-LTT-HĐSK ngày 15/4/2022) | L47: A1 | M47: Vận động DN tài trợ lễ khai giảng - 8 triệu đồng | N47: =IFERROR(VLOOKUP($D47,TCHC!$C$10:$AE$37,14,0),0) -> 3 | O47: =IFERROR(VLOOKUP($D47,TCHC!$C$10:$AE$37,28,0),0) -> 2 | P47: =IF(AND($W47>=2,$X47>=3,$Y47>=1,H47<>0),"A1",IF(AND($W47>=3,$X47>=1,$Y47>=1,H47<>0),"A1",IF(AND($W47>=4,$X47>=0,$Y47>=1,H47<>0),"A1",IF(AND($W47>=2,$X47>=2,$Y47>=1,I47<>0),"A2",IF(AND($W47>=3,$X47>=0,$Y47>=1,I47<>0),"A2",IF(AND(OR($W47>=1,$X47>=2),J47<>0,$Y47>=-2),"A3","A4")))))) -> A1 | Q47: =P47 -> A1 | U47: =$Q47 -> A1 | V47: =R47 -> 0 | W47: =IFERROR(VLOOKUP($D47,TCHC!$C$10:$AE$37,15,0),0) -> 3 | X47: =IFERROR(VLOOKUP($D47,TCHC!$C$10:$AE$37,29,0),0) -> 2 | Y47: 1 | AE47: =IF($L47=$P47,$L47,FALSE) -> A1 | AH47: =AH45+AH46 -> 0 | AI47: =AI45+AI46 -> 0 | AK47: GV/NV | AL47: =COUNTIF($BE$45:$BE$72,"GV") + COUNTIF($BE$45:$BE$72,"NV") -> 24 | AM47: =COUNTIF($U48:$U72,"A1") -> 2 | AN47: =AM47/$AL$47 -> 0.083333333 | AO47: =COUNTIF($U48:$U72,"A2") -> 8 | AP47: =AO47/$AL$47 -> 0.33333333 | AQ47: =COUNTIF($U48:$U72,"A3") -> 9 | AR47: =AQ47/$AL$47 -> 0.375 | AS47: =COUNTIF($U48:$U72,"A4") -> 4 | AT47: =AS47/$AL$47 -> 0.16666667 | BD47: TCHC | BE47: CBQL
A48: =IF(D48="","",SUBTOTAL(3,$D$8:D48)) -> 33 | B48: 03 | C48: Vũ Như Quỳnh | D48: 01002017 | G48: =IF($H48<>0,"A1",IF($I48<>0,"A2",IF($J48<>0,"A3","A4"))) -> A2 | I48: - Bài viết sáng kiến được công nhận phạm vi ảnh hưởng cấp ngành năm học 2021-2022 (QĐ số 1969/QĐ-SGDĐT ngày 03/8/2022) - Bài viết đăng Kỷ yếu hội thảo cấp trường (ICSS 2022) | J48: - Bài viết sáng kiến được công nhận phạm vi ảnh hưởng cấp trường năm học 2021-2022 (QĐ số 189/QĐ-LTT-HĐSK ngày 15/4/2022) | L48: A2 | N48: =IFERROR(VLOOKUP($D48,TCHC!$C$10:$AE$37,14,0),0) -> 3 | O48: =IFERROR(VLOOKUP($D48,TCHC!$C$10:$AE$37,28,0),0) -> 1 | P48: =IF(AND($W48>=2,$X48>=3,$Y48>=1,H48<>0),"A1",IF(AND($W48>=3,$X48>=1,$Y48>=1,H48<>0),"A1",IF(AND($W48>=4,$X48>=0,$Y48>=1,H48<>0),"A1",IF(AND($W48>=2,$X48>=2,$Y48>=1,I48<>0),"A2",IF(AND($W48>=3,$X48>=0,$Y48>=1,I48<>0),"A2",IF(AND(OR($W48>=1,$X48>=2),J48<>0,$Y48>=-2),"A3","A4")))))) -> A2 | Q48: =P48 -> A2 | U48: =$Q48 -> A2 | W48: =IFERROR(VLOOKUP($D48,TCHC!$C$10:$AE$37,15,0),0) -> 3 | X48: =IFERROR(VLOOKUP($D48,TCHC!$C$10:$AE$37,29,0),0) -> 1 | Y48: 2 | AE48: =IF($L48=$P48,$L48,FALSE) -> A2 | BD48: TCHC | BE48: NV
A49: =IF(D49="","",SUBTOTAL(3,$D$8:D49)) -> 34 | B49: 04 | C49: Phan Thị Ngọc Phượng | D49: 01002018 | G49: =IF($H49<>0,"A1",IF($I49<>0,"A2",IF($J49<>0,"A3","A4"))) -> A2 | I49: - Bài viết sáng kiến được công nhận phạm vi ảnh hưởng cấp ngành năm học 2021-2022 (QĐ số 1969/QĐ-SGDĐT ngày 03/8/2022) - Bài viết đăng Kỷ yếu hội thảo cấp trường (ICSS 2022) | J49: - Bài viết sáng kiến được công nhận phạm vi ảnh hưởng cấp trường năm học 2021-2022 (QĐ số 189/QĐ-LTT-HĐSK ngày 15/4/2022) | L49: A2 | N49: =IFERROR(VLOOKUP($D49,TCHC!$C$10:$AE$37,14,0),0) -> 3 | O49: =IFERROR(VLOOKUP($D49,TCHC!$C$10:$AE$37,28,0),0) -> 1 | P49: =IF(AND($W49>=2,$X49>=3,$Y49>=1,H49<>0),"A1",IF(AND($W49>=3,$X49>=1,$Y49>=1,H49<>0),"A1",IF(AND($W49>=4,$X49>=0,$Y49>=1,H49<>0),"A1",IF(AND($W49>=2,$X49>=2,$Y49>=1,I49<>0),"A2",IF(AND($W49>=3,$X49>=0,$Y49>=1,I49<>0),"A2",IF(AND(OR($W49>=1,$X49>=2),J49<>0,$Y49>=-2),"A3","A4")))))) -> A2 | Q49: A1 | U49: =$Q49 -> A1 | W49: =IFERROR(VLOOKUP($D49,TCHC!$C$10:$AE$37,15,0),0) -> 3 | X49: =IFERROR(VLOOKUP($D49,TCHC!$C$10:$AE$37,29,0),0) -> 1 | Y49: 1 | AB49: A1 | AC49: Tích cực tham gia các hoạt động của Trường, đơn vị | AE49: =IF($L49=$P49,$L49,FALSE) -> A2 | BD49: TCHC | BE49: NV
A50: =IF(D50="","",SUBTOTAL(3,$D$8:D50)) -> 35 | B50: 05 | C50: Nguyễn Thị Bích Liễu | D50: 01002005 | G50: =IF($H50<>0,"A1",IF($I50<>0,"A2",IF($J50<>0,"A3","A4"))) -> A2 | I50: - Bài viết sáng kiến được công nhận phạm vi ảnh hưởng cấp ngành năm học 2021-2022 (QĐ số 1969/QĐ-SGDĐT ngày 03/8/2022) - Bài viết đăng Kỷ yếu hội thảo cấp trường (ICSS 2022) | J50: - Bài viết sáng kiến được công nhận phạm vi ảnh hưởng cấp trường năm học 2021-2022 (QĐ số 189/QĐ-LTT-HĐSK ngày 15/4/2022) | L50: A2 | N50: =IFERROR(VLOOKUP($D50,TCHC!$C$10:$AE$37,14,0),0) -> 3 | O50: =IFERROR(VLOOKUP($D50,TCHC!$C$10:$AE$37,28,0),0) -> 1 | P50: =IF(AND($W50>=2,$X50>=3,$Y50>=1,H50<>0),"A1",IF(AND($W50>=3,$X50>=1,$Y50>=1,H50<>0),"A1",IF(AND($W50>=4,$X50>=0,$Y50>=1,H50<>0),"A1",IF(AND($W50>=2,$X50>=2,$Y50>=1,I50<>0),"A2",IF(AND($W50>=3,$X50>=0,$Y50>=1,I50<>0),"A2",IF(AND(OR($W50>=1,$X50>=2),J50<>0,$Y50>=-2),"A3","A4")))))) -> A2 | Q50: =P50 -> A2 | U50: =$Q50 -> A2 | W50: =IFERROR(VLOOKUP($D50,TCHC!$C$10:$AE$37,15,0),0) -> 3 | X50: =IFERROR(VLOOKUP($D50,TCHC!$C$10:$AE$37,29,0),0) -> 1 | Y50: 1 | AE50: =IF($L50=$P50,$L50,FALSE) -> A2 | BD50: TCHC | BE50: NV
A51: =IF(D51="","",SUBTOTAL(3,$D$8:D51)) -> 36 | B51: 06 | C51: Nguyễn Văn Chì | D51: 01023001 | G51: =IF($H51<>0,"A1",IF($I51<>0,"A2",IF($J51<>0,"A3","A4"))) -> A2 | I51: Tham gia viết bài giới thiệu đơn vị đăng Kỷ yếu Hội thảo 50 năm thành lập trường | J51: - Bài viết sáng kiến được công nhận phạm vi ảnh hưởng cấp trường năm học 2021-2022 (QĐ số 189/QĐ-LTT-HĐSK ngày 15/4/2022) | L51: A3 | N51: =IFERROR(VLOOKUP($D51,TCHC!$C$10:$AE$37,14,0),0) -> 2 | O51: =IFERROR(VLOOKUP($D51,TCHC!$C$10:$AE$37,28,0),0) -> 1 | P51: =IF(AND($W51>=2,$X51>=3,$Y51>=1,H51<>0),"A1",IF(AND($W51>=3,$X51>=1,$Y51>=1,H51<>0),"A1",IF(AND($W51>=4,$X51>=0,$Y51>=1,H51<>0),"A1",IF(AND($W51>=2,$X51>=2,$Y51>=1,I51<>0),"A2",IF(AND($W51>=3,$X51>=0,$Y51>=1,I51<>0),"A2",IF(AND(OR($W51>=1,$X51>=2),J51<>0,$Y51>=-2),"A3","A4")))))) -> A3 | Q51: =P51 -> A3 | U51: =$Q51 -> A3 | V51: =R51 -> 0 | W51: =IFERROR(VLOOKUP($D51,TCHC!$C$10:$AE$37,15,0),0) -> 2 | X51: =IFERROR(VLOOKUP($D51,TCHC!$C$10:$AE$37,29,0),0) -> 1 | Y51: 1 | AE51: =IF($L51=$P51,$L51,FALSE) -> A3 | BD51: TCHC | BE51: NV
A52: =IF(D52="","",SUBTOTAL(3,$D$8:D52)) -> 37 | B52: 07 | C52: Trần Thị Ánh Phượng | D52: 01017006 | G52: =IF($H52<>0,"A1",IF($I52<>0,"A2",IF($J52<>0,"A3","A4"))) -> A1 | H52: Đề án Trường ĐH LTT | I52: - Bài viết sáng kiến được công nhận phạm vi ảnh hưởng cấp ngành năm học 2021-2022 (QĐ số 1969/QĐ-SGDĐT ngày 03/8/2022) - Bài viết đăng Kỷ yếu hội thảo cấp trường (ICSS 2022) | J52: - Bài viết sáng kiến được công nhận phạm vi ảnh hưởng cấp trường năm học 2021-2022 (QĐ số 189/QĐ-LTT-HĐSK ngày 15/4/2022) | L52: A1 | N52: =IFERROR(VLOOKUP($D52,TCHC!$C$10:$AE$37,14,0),0) -> 3 | O52: =IFERROR(VLOOKUP($D52,TCHC!$C$10:$AE$37,28,0),0) -> 1 | P52: =IF(AND($W52>=2,$X52>=3,$Y52>=1,H52<>0),"A1",IF(AND($W52>=3,$X52>=1,$Y52>=1,H52<>0),"A1",IF(AND($W52>=4,$X52>=0,$Y52>=1,H52<>0),"A1",IF(AND($W52>=2,$X52>=2,$Y52>=1,I52<>0),"A2",IF(AND($W52>=3,$X52>=0,$Y52>=1,I52<>0),"A2",IF(AND(OR($W52>=1,$X52>=2),J52<>0,$Y52>=-2),"A3","A4")))))) -> A1 | Q52: =P52 -> A1 | U52: =$Q52 -> A1 | W52: =IFERROR(VLOOKUP($D52,TCHC!$C$10:$AE$37,15,0),0) -> 3 | X52: =IFERROR(VLOOKUP($D52,TCHC!$C$10:$AE$37,29,0),0) -> 1 | Y52: 1 | AE52: =IF($L52=$P52,$L52,FALSE) -> A1 | BD52: TCHC | BE52: NV
A53: =IF(D53="","",SUBTOTAL(3,$D$8:D53)) -> 38 | B53: 09 | C53: Nguyễn Thị Vân | D53: 01002032 | G53: =IF($H53<>0,"A1",IF($I53<>0,"A2",IF($J53<>0,"A3","A4"))) -> A2 | I53: - Bài viết đăng Kỷ yếu hội thảo cấp trường (ICSS 2022) | J53: - Bài viết sáng kiến được công nhận phạm vi ảnh hưởng cấp trường năm học 2021-2022 (QĐ số 189/QĐ-LTT-HĐSK ngày 15/4/2022) | L53: A2 | N53: =IFERROR(VLOOKUP($D53,TCHC!$C$10:$AE$37,14,0),0) -> 3 | O53: =IFERROR(VLOOKUP($D53,TCHC!$C$10:$AE$37,28,0),0) -> 1 | P53: =IF(AND($W53>=2,$X53>=3,$Y53>=1,H53<>0),"A1",IF(AND($W53>=3,$X53>=1,$Y53>=1,H53<>0),"A1",IF(AND($W53>=4,$X53>=0,$Y53>=1,H53<>0),"A1",IF(AND($W53>=2,$X53>=2,$Y53>=1,I53<>0),"A2",IF(AND($W53>=3,$X53>=0,$Y53>=1,I53<>0),"A2",IF(AND(OR($W53>=1,$X53>=2),J53<>0,$Y53>=-2),"A3","A4")))))) -> A2 | Q53: =P53 -> A2 | U53: =$Q53 -> A2 | W53: =IFERROR(VLOOKUP($D53,TCHC!$C$10:$AE$37,15,0),0) -> 3 | X53: =IFERROR(VLOOKUP($D53,TCHC!$C$10:$AE$37,29,0),0) -> 1 | Y53: 1 | AE53: =IF($L53=$P53,$L53,FALSE) -> A2 | BD53: TCHC | BE53: NV
A54: =IF(D54="","",SUBTOTAL(3,$D$8:D54)) -> 39 | B54: 10 | C54: Trần Thị Phương Oanh | D54: 01007007 | G54: =IF($H54<>0,"A1",IF($I54<>0,"A2",IF($J54<>0,"A3","A4"))) -> A2 | I54: - Bài viết sáng kiến được công nhận phạm vi ảnh hưởng cấp ngành năm học 2021-2022 (QĐ số 1969/QĐ-SGDĐT ngày 03/8/2022) - Bài viết đăng Kỷ yếu hội thảo cấp trường (ICSS 2022) | J54: - Bài viết sáng kiến được công nhận phạm vi ảnh hưởng cấp trường năm học 2021-2022 (QĐ số 189/QĐ-LTT-HĐSK ngày 15/4/2022) | L54: A3 | N54: =IFERROR(VLOOKUP($D54,TCHC!$C$10:$AE$37,14,0),0) -> 2 | O54: =IFERROR(VLOOKUP($D54,TCHC!$C$10:$AE$37,28,0),0) -> 1 | P54: =IF(AND($W54>=2,$X54>=3,$Y54>=1,H54<>0),"A1",IF(AND($W54>=3,$X54>=1,$Y54>=1,H54<>0),"A1",IF(AND($W54>=4,$X54>=0,$Y54>=1,H54<>0),"A1",IF(AND($W54>=2,$X54>=2,$Y54>=1,I54<>0),"A2",IF(AND($W54>=3,$X54>=0,$Y54>=1,I54<>0),"A2",IF(AND(OR($W54>=1,$X54>=2),J54<>0,$Y54>=-2),"A3","A4")))))) -> A3 | Q54: =P54 -> A3 | U54: =$Q54 -> A3 | W54: =IFERROR(VLOOKUP($D54,TCHC!$C$10:$AE$37,15,0),0) -> 2 | X54: =IFERROR(VLOOKUP($D54,TCHC!$C$10:$AE$37,29,0),0) -> 1 | Y54: 1 | AE54: =IF($L54=$P54,$L54,FALSE) -> A3 | BD54: TCHC | BE54: NV
A55: =IF(D55="","",SUBTOTAL(3,$D$8:D55)) -> 40 | B55: 11 | C55: Thân Thị Nhung | D55: 01007005 | G55: =IF($H55<>0,"A1",IF($I55<>0,"A2",IF($J55<>0,"A3","A4"))) -> A2 | I55: Tham gia viết bài giới thiệu đơn vị đăng Kỷ yếu Hội thảo 50 năm thành lập trường | J55: - Bài viết sáng kiến được công nhận phạm vi ảnh hưởng cấp trường năm học 2021-2022 (QĐ số 189/QĐ-LTT-HĐSK ngày 15/4/2022) | L55: A2 | N55: =IFERROR(VLOOKUP($D55,TCHC!$C$10:$AE$37,14,0),0) -> 3 | O55: =IFERROR(VLOOKUP($D55,TCHC!$C$10:$AE$37,28,0),0) -> 1 | P55: =IF(AND($W55>=2,$X55>=3,$Y55>=1,H55<>0),"A1",IF(AND($W55>=3,$X55>=1,$Y55>=1,H55<>0),"A1",IF(AND($W55>=4,$X55>=0,$Y55>=1,H55<>0),"A1",IF(AND($W55>=2,$X55>=2,$Y55>=1,I55<>0),"A2",IF(AND($W55>=3,$X55>=0,$Y55>=1,I55<>0),"A2",IF(AND(OR($W55>=1,$X55>=2),J55<>0,$Y55>=-2),"A3","A4")))))) -> A2 | Q55: =P55 -> A2 | U55: =$Q55 -> A2 | W55: =IFERROR(VLOOKUP($D55,TCHC!$C$10:$AE$37,15,0),0) -> 3 | X55: =IFERROR(VLOOKUP($D55,TCHC!$C$10:$AE$37,29,0),0) -> 1 | Y55: 1 | AE55: =IF($L55=$P55,$L55,FALSE) -> A2 | BD55: TCHC | BE55: NV
A56: =IF(D56="","",SUBTOTAL(3,$D$8:D56)) -> 41 | C56: Lê Thị Hải Đăng | D56: 01002039 | G56: A4 | L56: A4 | N56: =IFERROR(VLOOKUP($D56,TCHC!$C$10:$AE$37,14,0),0) -> 2 | O56: =IFERROR(VLOOKUP($D56,TCHC!$C$10:$AE$37,28,0),0) -> 1 | P56: =IF(AND($W56>=2,$X56>=3,$Y56>=1,H56<>0),"A1",IF(AND($W56>=3,$X56>=1,$Y56>=1,H56<>0),"A1",IF(AND($W56>=4,$X56>=0,$Y56>=1,H56<>0),"A1",IF(AND($W56>=2,$X56>=2,$Y56>=1,I56<>0),"A2",IF(AND($W56>=3,$X56>=0,$Y56>=1,I56<>0),"A2",IF(AND(OR($W56>=1,$X56>=2),J56<>0,$Y56>=-2),"A3","A4")))))) -> A4 | Q56: A3 | U56: A2 | W56: =IFERROR(VLOOKUP($D56,TCHC!$C$10:$AE$37,15,0),0) -> 2 | X56: =IFERROR(VLOOKUP($D56,TCHC!$C$10:$AE$37,29,0),0) -> 1 | Y56: 1 | AB56: A3 | AC56: Tích cực tham gia các hoạt động của Trường, đơn vị | AE56: =IF($L56=$P56,$L56,FALSE) -> A4 | BD56: TCHC | BE56: NV
A57: b | B57: b | C57: Hợp đồng trường | G57: =COUNTA($L$58:$L$72) -> 15 | L57: =COUNTA($L$58:$L$72) -> 15 | M57: =(COUNTIF($L$58:$L$72, "A1") & "A1")&" + "& (COUNTIF($L$58:$L$72, "A2") & "A2")&" + "& (COUNTIF($L$58:$L$72, "A3") & "A3")&" + "& (COUNTIF($L$58:$L$72, "A4") & "A4") -> 0A1 + 0A2 + 3A3 + 11A4 | O57: =[2]TCHC!P21 -> 0 | P57: =COUNTA($Q$58:$Q$72) -> 15 | Q57: =COUNTA($Q$58:$Q$72) -> 15 | R57: =(COUNTIF($Q$58:$Q$72, "A1") & "A1")&" + "& (COUNTIF($Q$58:$Q$72, "A2") & "A2")&" + "& (COUNTIF($Q$58:$Q$72, "A3") & "A3")&" + "& (COUNTIF($Q$58:$Q$72, "A4") & "A4") -> 0A1 + 3A2 + 7A3 + 4A4 | U57: =COUNTA($U$58:$U$72) -> 15 | V57: =(COUNTIF($U$58:$U$72, "A1") & "A1")&" + "& (COUNTIF($U$58:$U$72, "A2") & "A2")&" + "& (COUNTIF($U$58:$U$72, "A3") & "A3")&" + "& (COUNTIF($U$58:$U$72, "A4") & "A4") -> 0A1 + 3A2 + 7A3 + 4A4
A58: =IF(D58="","",SUBTOTAL(3,$D$8:D58)) -> 42 | B58: 12 | C58: Huỳnh Thị Xuân Mai | D58: 01007006 | G58: =IF($H58<>0,"A1",IF($I58<>0,"A2",IF($J58<>0,"A3","A4"))) -> A2 | I58: - Bài viết đăng Kỷ yếu 50 năm hình thành và phát triển trường | J58: - | L58: A3 | N58: =IFERROR(VLOOKUP($D58,TCHC!$C$10:$AE$37,14,0),0) -> 2 | O58: =IFERROR(VLOOKUP($D58,TCHC!$C$10:$AE$37,28,0),0) -> 1 | P58: =IF(AND($W58>=2,$X58>=3,$Y58>=1,H58<>0),"A1",IF(AND($W58>=3,$X58>=1,$Y58>=1,H58<>0),"A1",IF(AND($W58>=4,$X58>=0,$Y58>=1,H58<>0),"A1",IF(AND($W58>=2,$X58>=2,$Y58>=1,I58<>0),"A2",IF(AND($W58>=3,$X58>=0,$Y58>=1,I58<>0),"A2",IF(AND(OR($W58>=1,$X58>=2),J58<>0,$Y58>=-2),"A3","A4")))))) -> A3 | Q58: =P58 -> A3 | U58: =$Q58 -> A3 | W58: =IFERROR(VLOOKUP($D58,TCHC!$C$10:$AE$37,15,0),0) -> 2 | X58: =IFERROR(VLOOKUP($D58,TCHC!$C$10:$AE$37,29,0),0) -> 1 | Y58: 1 | AE58: =IF($L58=$P58,$L58,FALSE) -> A3 | BD58: TCHC | BE58: NV
A59: =IF(D59="","",SUBTOTAL(3,$D$8:D59)) -> 43 | B59: 14 | C59: Phạm Hữu Tấn | D59: 01002023 | G59: =IF($H59<>0,"A1",IF($I59<>0,"A2",IF($J59<>0,"A3","A4"))) -> A4 | L59: A4 | N59: =IFERROR(VLOOKUP($D59,TCHC!$C$10:$AE$37,14,0),0) -> 0 | O59: =IFERROR(VLOOKUP($D59,TCHC!$C$10:$AE$37,28,0),0) -> 2 | P59: =IF(AND($W59>=2,$X59>=3,$Y59>=1,H59<>0),"A1",IF(AND($W59>=3,$X59>=1,$Y59>=1,H59<>0),"A1",IF(AND($W59>=4,$X59>=0,$Y59>=1,H59<>0),"A1",IF(AND($W59>=2,$X59>=2,$Y59>=1,I59<>0),"A2",IF(AND($W59>=3,$X59>=0,$Y59>=1,I59<>0),"A2",IF(AND(OR($W59>=1,$X59>=2),J59<>0,$Y59>=-2),"A3","A4")))))) -> A4 | Q59: A3 | U59: =$Q59 -> A3 | W59: =IFERROR(VLOOKUP($D59,TCHC!$C$10:$AE$37,15,0),0) -> 0 | X59: =IFERROR(VLOOKUP($D59,TCHC!$C$10:$AE$37,29,0),0) -> 2 | AB59: A3 | AC59: Tích cực tham gia các hoạt động của Trường, đơn vị | AE59: =IF($L59=$P59,$L59,FALSE) -> A4 | BD59: TCHC | BE59: NV
A60: =IF(D60="","",SUBTOTAL(3,$D$8:D60)) -> 44 | B60: 15 | C60: Trần Văn Cu Anh | D60: 01002007 | G60: =IF($H60<>0,"A1",IF($I60<>0,"A2",IF($J60<>0,"A3","A4"))) -> A4 | L60: A4 | N60: =IFERROR(VLOOKUP($D60,TCHC!$C$10:$AE$37,14,0),0) -> 0 | O60: =IFERROR(VLOOKUP($D60,TCHC!$C$10:$AE$37,28,0),0) -> 2 | P60: =IF(AND($W60>=2,$X60>=3,$Y60>=1,H60<>0),"A1",IF(AND($W60>=3,$X60>=1,$Y60>=1,H60<>0),"A1",IF(AND($W60>=4,$X60>=0,$Y60>=1,H60<>0),"A1",IF(AND($W60>=2,$X60>=2,$Y60>=1,I60<>0),"A2",IF(AND($W60>=3,$X60>=0,$Y60>=1,I60<>0),"A2",IF(AND(OR($W60>=1,$X60>=2),J60<>0,$Y60>=-2),"A3","A4")))))) -> A4 | Q60: =P60 -> A4 | U60: =$Q60 -> A4 | W60: =IFERROR(VLOOKUP($D60,TCHC!$C$10:$AE$37,15,0),0) -> 0 | X60: =IFERROR(VLOOKUP($D60,TCHC!$C$10:$AE$37,29,0),0) -> 2 | AE60: =IF($L60=$P60,$L60,FALSE) -> A4 | BD60: TCHC | BE60: NV
A61: =IF(D61="","",SUBTOTAL(3,$D$8:D61)) -> 45 | B61: 16 | C61: Nguyễn Hữu Xuân Vũ | D61: 01002010 | G61: =IF($H61<>0,"A1",IF($I61<>0,"A2",IF($J61<>0,"A3","A4"))) -> A4 | L61: A4 | N61: =IFERROR(VLOOKUP($D61,TCHC!$C$10:$AE$37,14,0),0) -> 0 | O61: =IFERROR(VLOOKUP($D61,TCHC!$C$10:$AE$37,28,0),0) -> 3 | P61: =IF(AND($W61>=2,$X61>=3,$Y61>=1,H61<>0),"A1",IF(AND($W61>=3,$X61>=1,$Y61>=1,H61<>0),"A1",IF(AND($W61>=4,$X61>=0,$Y61>=1,H61<>0),"A1",IF(AND($W61>=2,$X61>=2,$Y61>=1,I61<>0),"A2",IF(AND($W61>=3,$X61>=0,$Y61>=1,I61<>0),"A2",IF(AND(OR($W61>=1,$X61>=2),J61<>0,$Y61>=-2),"A3","A4")))))) -> A4 | Q61: A3 | U61: =$Q61 -> A3 | W61: =IFERROR(VLOOKUP($D61,TCHC!$C$10:$AE$37,15,0),0) -> 0 | X61: =IFERROR(VLOOKUP($D61,TCHC!$C$10:$AE$37,29,0),0) -> 3 | AB61: A3 | AC61: Huy động hỗ trợ ngày họp PH, hỗ trợ đơn vị xếp lịch trực khi tổ trưởng nghỉ ốm | AE61: =IF($L61=$P61,$L61,FALSE) -> A4 | BD61: TCHC | BE61: NV
A62: =IF(D62="","",SUBTOTAL(3,$D$8:D62)) -> 46 | B62: 17 | C62: Lê Hồng Phúc | D62: 01002012 | G62: =IF($H62<>0,"A1",IF($I62<>0,"A2",IF($J62<>0,"A3","A4"))) -> A4 | L62: A4 | N62: =IFERROR(VLOOKUP($D62,TCHC!$C$10:$AE$37,14,0),0) -> 0 | O62: =IFERROR(VLOOKUP($D62,TCHC!$C$10:$AE$37,28,0),0) -> 2 | P62: =IF(AND($W62>=2,$X62>=3,$Y62>=1,H62<>0),"A1",IF(AND($W62>=3,$X62>=1,$Y62>=1,H62<>0),"A1",IF(AND($W62>=4,$X62>=0,$Y62>=1,H62<>0),"A1",IF(AND($W62>=2,$X62>=2,$Y62>=1,I62<>0),"A2",IF(AND($W62>=3,$X62>=0,$Y62>=1,I62<>0),"A2",IF(AND(OR($W62>=1,$X62>=2),J62<>0,$Y62>=-2),"A3","A4")))))) -> A4 | Q62: =P62 -> A4 | U62: =$Q62 -> A4 | W62: =IFERROR(VLOOKUP($D62,TCHC!$C$10:$AE$37,15,0),0) -> 0 | X62: =IFERROR(VLOOKUP($D62,TCHC!$C$10:$AE$37,29,0),0) -> 2 | AE62: =IF($L62=$P62,$L62,FALSE) -> A4 | BD62: TCHC | BE62: NV
A63: =IF(D63="","",SUBTOTAL(3,$D$8:D63)) -> 47 | B63: 18 | C63: Phạm Hữu Thành Phú | D63: 01002028 | G63: =IF($H63<>0,"A1",IF($I63<>0,"A2",IF($J63<>0,"A3","A4"))) -> A2 | I63: - Bài viết sáng kiến được công nhận phạm vi ảnh hưởng cấp ngành năm học 2021-2022 (QĐ số 1969/QĐ-SGDĐT ngày 03/8/2022) | J63: - Bài viết sáng kiến được công nhận phạm vi ảnh hưởng cấp trường năm học 2021-2022 (QĐ số 189/QĐ-LTT-HĐSK ngày 15/4/2022) | L63: A3 | N63: =IFERROR(VLOOKUP($D63,TCHC!$C$10:$AE$37,14,0),0) -> 0 | O63: =IFERROR(VLOOKUP($D63,TCHC!$C$10:$AE$37,28,0),0) -> 2 | P63: =IF(AND($W63>=2,$X63>=3,$Y63>=1,H63<>0),"A1",IF(AND($W63>=3,$X63>=1,$Y63>=1,H63<>0),"A1",IF(AND($W63>=4,$X63>=0,$Y63>=1,H63<>0),"A1",IF(AND($W63>=2,$X63>=2,$Y63>=1,I63<>0),"A2",IF(AND($W63>=3,$X63>=0,$Y63>=1,I63<>0),"A2",IF(AND(OR($W63>=1,$X63>=2),J63<>0,$Y63>=-2),"A3","A4")))))) -> A3 | Q63: =P63 -> A3 | U63: =$Q63 -> A3 | V63: =R63 -> 0 | W63: =IFERROR(VLOOKUP($D63,TCHC!$C$10:$AE$37,15,0),0) -> 0 | X63: =IFERROR(VLOOKUP($D63,TCHC!$C$10:$AE$37,29,0),0) -> 2 | AE63: =IF($L63=$P63,$L63,FALSE) -> A3 | BD63: TCHC | BE63: NV
A64: =IF(D64="","",SUBTOTAL(3,$D$8:D64)) -> 48 | B64: 19 | C64: Huỳnh Thanh Nhàn | D64: 01002027 | G64: =IF($H64<>0,"A1",IF($I64<>0,"A2",IF($J64<>0,"A3","A4"))) -> A3 | J64: - Bài viết sáng kiến được công nhận phạm vi ảnh hưởng cấp trường năm học 2021-2022 (QĐ số 189/QĐ-LTT-HĐSK ngày 15/4/2022) | L64: A3 | N64: =IFERROR(VLOOKUP($D64,TCHC!$C$10:$AE$37,14,0),0) -> 1 | O64: =IFERROR(VLOOKUP($D64,TCHC!$C$10:$AE$37,28,0),0) -> 3 | P64: =IF(AND($W64>=2,$X64>=3,$Y64>=1,H64<>0),"A1",IF(AND($W64>=3,$X64>=1,$Y64>=1,H64<>0),"A1",IF(AND($W64>=4,$X64>=0,$Y64>=1,H64<>0),"A1",IF(AND($W64>=2,$X64>=2,$Y64>=1,I64<>0),"A2",IF(AND($W64>=3,$X64>=0,$Y64>=1,I64<>0),"A2",IF(AND(OR($W64>=1,$X64>=2),J64<>0,$Y64>=-2),"A3","A4")))))) -> A3 | Q64: A2 | U64: =$Q64 -> A2 | W64: =IFERROR(VLOOKUP($D64,TCHC!$C$10:$AE$37,15,0),0) -> 1 | X64: =IFERROR(VLOOKUP($D64,TCHC!$C$10:$AE$37,29,0),0) -> 3 | Y64: 1 | AB64: A2 | AC64: Tích cực tham gia các hoạt động của Trường, đơn vị | AE64: =IF($L64=$P64,$L64,FALSE) -> A3 | BD64: TCHC | BE64: NV
A65: =IF(D65="","",SUBTOTAL(3,$D$8:D65)) -> 49 | B65: 20 | C65: Đồng Anh Tuấn | D65: 01002013 | G65: =IF($H65<>0,"A1",IF($I65<>0,"A2",IF($J65<>0,"A3","A4"))) -> A4 | L65: A DN | M65: Nghỉ ốm hưởng BHXH từ 12/9/2023 | N65: =IFERROR(VLOOKUP($D65,TCHC!$C$10:$AE$37,14,0),0) -> 0 | O65: =IFERROR(VLOOKUP($D65,TCHC!$C$10:$AE$37,28,0),0) -> 0 | P65: A DN | Q65: =P65 -> A DN | R65: Nghỉ ốm hưởng BHXH từ 12/9/2023 | U65: =$Q65 -> A DN | V65: Nghỉ ốm hưởng BHXH từ 12/9/2023 | W65: =IFERROR(VLOOKUP($D65,TCHC!$C$10:$AE$37,15,0),0) -> 0 | X65: =IFERROR(VLOOKUP($D65,TCHC!$C$10:$AE$37,29,0),0) -> 0 | AE65: =IF($L65=$P65,$L65,FALSE) -> A DN | BD65: TCHC | BE65: NV
A66: =IF(D66="","",SUBTOTAL(3,$D$8:D66)) -> 50 | B66: 21 | C66: Lê Hồng Sơn | D66: 01002031 | G66: =IF($H66<>0,"A1",IF($I66<>0,"A2",IF($J66<>0,"A3","A4"))) -> A4 | L66: A4 | N66: =IFERROR(VLOOKUP($D66,TCHC!$C$10:$AE$37,14,0),0) -> 0 | O66: =IFERROR(VLOOKUP($D66,TCHC!$C$10:$AE$37,28,0),0) -> 2 | P66: =IF(AND($W66>=2,$X66>=3,$Y66>=1,H66<>0),"A1",IF(AND($W66>=3,$X66>=1,$Y66>=1,H66<>0),"A1",IF(AND($W66>=4,$X66>=0,$Y66>=1,H66<>0),"A1",IF(AND($W66>=2,$X66>=2,$Y66>=1,I66<>0),"A2",IF(AND($W66>=3,$X66>=0,$Y66>=1,I66<>0),"A2",IF(AND(OR($W66>=1,$X66>=2),J66<>0,$Y66>=-2),"A3","A4")))))) -> A4 | Q66: A3 | U66: =$Q66 -> A3 | W66: =IFERROR(VLOOKUP($D66,TCHC!$C$10:$AE$37,15,0),0) -> 0 | X66: =IFERROR(VLOOKUP($D66,TCHC!$C$10:$AE$37,29,0),0) -> 2 | AB66: A3 | AC66: Huy động hỗ trợ ngày họp PH, lễ hội Halloween | AE66: =IF($L66=$P66,$L66,FALSE) -> A4 | BD66: TCHC | BE66: NV
A67: =IF(D67="","",SUBTOTAL(3,$D$8:D67)) -> 51 | B67: 23 | C67: Nguyễn Thanh Hiền | D67: 01002033 | G67: =IF($H67<>0,"A1",IF($I67<>0,"A2",IF($J67<>0,"A3","A4"))) -> A4 | L67: A4 | N67: =IFERROR(VLOOKUP($D67,TCHC!$C$10:$AE$37,14,0),0) -> 2 | O67: =IFERROR(VLOOKUP($D67,TCHC!$C$10:$AE$37,28,0),0) -> 3 | P67: =IF(AND($W67>=2,$X67>=3,$Y67>=1,H67<>0),"A1",IF(AND($W67>=3,$X67>=1,$Y67>=1,H67<>0),"A1",IF(AND($W67>=2,$X67>=2,$Y67>=1,I67<>0),"A2",IF(AND($W67>=3,$X67>=0,$Y67>=1,I67<>0),"A2",IF(AND(OR($W67>=1,$X67>=2),J67<>0,$Y67>=0),"A3","A4"))))) -> A4 | Q67: A3 | U67: =$Q67 -> A3 | W67: =IFERROR(VLOOKUP($D67,TCHC!$C$10:$AE$37,15,0),0) -> 2 | X67: =IFERROR(VLOOKUP($D67,TCHC!$C$10:$AE$37,29,0),0) -> 3 | AB67: A3 | AC67: Tích cực tham gia các hoạt động của Trường, đơn vị | AE67: =IF($L67=$P67,$L67,FALSE) -> A4 | BD67: TCHC | BE67: NV
A68: =IF(D68="","",SUBTOTAL(3,$D$8:D68)) -> 52 | B68: 24 | C68: Phạm Quang Tùng | D68: 01010068 | G68: =IF($H68<>0,"A1",IF($I68<>0,"A2",IF($J68<>0,"A3","A4"))) -> A4 | L68: A4 | N68: =IFERROR(VLOOKUP($D68,TCHC!$C$10:$AE$37,14,0),0) -> 0 | O68: =IFERROR(VLOOKUP($D68,TCHC!$C$10:$AE$37,28,0),0) -> 2 | P68: =IF(AND($W68>=2,$X68>=3,$Y68>=1,H68<>0),"A1",IF(AND($W68>=3,$X68>=1,$Y68>=1,H68<>0),"A1",IF(AND($W68>=4,$X68>=0,$Y68>=1,H68<>0),"A1",IF(AND($W68>=2,$X68>=2,$Y68>=1,I68<>0),"A2",IF(AND($W68>=3,$X68>=0,$Y68>=1,I68<>0),"A2",IF(AND(OR($W68>=1,$X68>=2),J68<>0,$Y68>=-2),"A3","A4")))))) -> A4 | Q68: =P68 -> A4 | U68: =$Q68 -> A4 | W68: =IFERROR(VLOOKUP($D68,TCHC!$C$10:$AE$37,15,0),0) -> 0 | X68: =IFERROR(VLOOKUP($D68,TCHC!$C$10:$AE$37,29,0),0) -> 2 | AE68: =IF($L68=$P68,$L68,FALSE) -> A4 | BD68: TCHC | BE68: NV
A69: =IF(D69="","",SUBTOTAL(3,$D$8:D69)) -> 53 | B69: 24 | C69: Trần Thanh Cường | D69: 01002040 | G69: =IF($H69<>0,"A1",IF($I69<>0,"A2",IF($J69<>0,"A3","A4"))) -> A4 | L69: A4 | N69: =IFERROR(VLOOKUP($D69,TCHC!$C$10:$AE$37,14,0),0) -> 0 | O69: =IFERROR(VLOOKUP($D69,TCHC!$C$10:$AE$37,28,0),0) -> 2 | P69: =IF(AND($W69>=2,$X69>=3,$Y69>=1,H69<>0),"A1",IF(AND($W69>=3,$X69>=1,$Y69>=1,H69<>0),"A1",IF(AND($W69>=4,$X69>=0,$Y69>=1,H69<>0),"A1",IF(AND($W69>=2,$X69>=2,$Y69>=1,I69<>0),"A2",IF(AND($W69>=3,$X69>=0,$Y69>=1,I69<>0),"A2",IF(AND(OR($W69>=1,$X69>=2),J69<>0,$Y69>=-2),"A3","A4")))))) -> A4 | Q69: =P69 -> A4 | U69: =$Q69 -> A4 | W69: =IFERROR(VLOOKUP($D69,TCHC!$C$10:$AE$37,15,0),0) -> 0 | X69: =IFERROR(VLOOKUP($D69,TCHC!$C$10:$AE$37,29,0),0) -> 2 | AE69: =IF($L69=$P69,$L69,FALSE) -> A4 | BD69: TCHC | BE69: NV
A70: =IF(D70="","",SUBTOTAL(3,$D$8:D70)) -> 54 | B70: 24 | C70: Vũ Anh Hiếu | D70: 01002041 | G70: =IF($H70<>0,"A1",IF($I70<>0,"A2",IF($J70<>0,"A3","A4"))) -> A4 | L70: A4 | N70: =IFERROR(VLOOKUP($D70,TCHC!$C$10:$AE$37,14,0),0) -> 1 | O70: =IFERROR(VLOOKUP($D70,TCHC!$C$10:$AE$37,28,0),0) -> 2 | P70: =IF(AND($W70>=2,$X70>=3,$Y70>=1,H70<>0),"A1",IF(AND($W70>=3,$X70>=1,$Y70>=1,H70<>0),"A1",IF(AND($W70>=4,$X70>=0,$Y70>=1,H70<>0),"A1",IF(AND($W70>=2,$X70>=2,$Y70>=1,I70<>0),"A2",IF(AND($W70>=3,$X70>=0,$Y70>=1,I70<>0),"A2",IF(AND(OR($W70>=1,$X70>=2),J70<>0,$Y70>=-2),"A3","A4")))))) -> A4 | Q70: A3 | U70: =$Q70 -> A3 | W70: =IFERROR(VLOOKUP($D70,TCHC!$C$10:$AE$37,15,0),0) -> 1 | X70: =IFERROR(VLOOKUP($D70,TCHC!$C$10:$AE$37,29,0),0) -> 2 | AB70: A3 | AC70: Tích cực tham gia các hoạt động của Trường, đơn vị | AE70: =IF($L70=$P70,$L70,FALSE) -> A4 | BD70: TCHC | BE70: NV
A71: =IF(D71="","",SUBTOTAL(3,$D$8:D71)) -> 55 | B71: 25 | C71: Dương Văn Tâm | D71: 01002035 | G71: =IF($H71<>0,"A1",IF($I71<>0,"A2",IF($J71<>0,"A3","A4"))) -> A4 | L71: A4 | N71: =IFERROR(VLOOKUP($D71,TCHC!$C$10:$AE$37,14,0),0) -> 2 | O71: =IFERROR(VLOOKUP($D71,TCHC!$C$10:$AE$37,28,0),0) -> 1 | P71: =IF(AND($W71>=2,$X71>=3,$Y71>=1,H71<>0),"A1",IF(AND($W71>=3,$X71>=1,$Y71>=1,H71<>0),"A1",IF(AND($W71>=4,$X71>=0,$Y71>=1,H71<>0),"A1",IF(AND($W71>=2,$X71>=2,$Y71>=1,I71<>0),"A2",IF(AND($W71>=3,$X71>=0,$Y71>=1,I71<>0),"A2",IF(AND(OR($W71>=1,$X71>=2),J71<>0,$Y71>=-2),"A3","A4")))))) -> A4 | Q71: A2 | U71: =$Q71 -> A2 | W71: =IFERROR(VLOOKUP($D71,TCHC!$C$10:$AE$37,15,0),0) -> 2 | X71: =IFERROR(VLOOKUP($D71,TCHC!$C$10:$AE$37,29,0),0) -> 1 | AB71: A2 | AC71: Tích cực tham gia các hoạt động của Trường, đơn vị | AE71: =IF($L71=$P71,$L71,FALSE) -> A4 | BD71: TCHC | BE71: NV
A72: =IF(D72="","",SUBTOTAL(3,$D$8:D72)) -> 56 | B72: 26 | C72: Huỳnh Ngọc Liên | D72: 01002036 | G72: =IF($H72<>0,"A1",IF($I72<>0,"A2",IF($J72<>0,"A3","A4"))) -> A4 | L72: A4 | N72: =IFERROR(VLOOKUP($D72,TCHC!$C$10:$AE$37,14,0),0) -> 2 | O72: =IFERROR(VLOOKUP($D72,TCHC!$C$10:$AE$37,28,0),0) -> 1 | P72: =IF(AND($W72>=2,$X72>=3,$Y72>=1,H72<>0),"A1",IF(AND($W72>=3,$X72>=1,$Y72>=1,H72<>0),"A1",IF(AND($W72>=4,$X72>=0,$Y72>=1,H72<>0),"A1",IF(AND($W72>=2,$X72>=2,$Y72>=1,I72<>0),"A2",IF(AND($W72>=3,$X72>=0,$Y72>=1,I72<>0),"A2",IF(AND(OR($W72>=1,$X72>=2),J72<>0,$Y72>=-2),"A3","A4")))))) -> A4 | Q72: A2 | U72: =$Q72 -> A2 | W72: =IFERROR(VLOOKUP($D72,TCHC!$C$10:$AE$37,15,0),0) -> 2 | X72: =IFERROR(VLOOKUP($D72,TCHC!$C$10:$AE$37,29,0),0) -> 1 | AB72: A2 | AC72: Tích cực tham gia các hoạt động của Trường, đơn vị | AE72: =IF($L72=$P72,$L72,FALSE) -> A4 | BD72: TCHC | BE72: NV
A73: V | B73: V | C73: PHÒNG TTGD-CTSV | G73: =$L$74+$L$82 -> 15 | L73: =$L$74+$L$82 -> 15 | M73: =(COUNTIF($L75:$L90, "A1") & "A1")&" + "& (COUNTIF($L75:$L90, "A2") & "A2")&" + "& (COUNTIF($L75:$L90, "A3") & "A3")&" + "& (COUNTIF($L75:$L90, "A4") & "A4")&" + "& (COUNTIF($L75:$L90, "B1") & "B1")&" + "& (COUNTIF($L75:$L90, "C1") & "C1") -> 1A1 + 3A2 + 7A3 + 4A4 + 0B1 + 0C1 | P73: =$Q$74+$Q$82 -> 15 | Q73: =$Q$74+$Q$82 -> 15 | R73: =(COUNTIF($Q75:$Q90, "A1") & "A1")&" + "& (COUNTIF($Q75:$Q90, "A2") & "A2")&" + "& (COUNTIF($Q75:$Q90, "A3") & "A3")&" + "& (COUNTIF($Q75:$Q90, "A4") & "A4")&" + "& (COUNTIF($Q75:$Q90, "B1") & "B1")&" + "& (COUNTIF($Q75:$Q90, "B2") & "B2") -> 1A1 + 3A2 + 8A3 + 3A4 + 0B1 + 0B2 | U73: =$U$74+$U$82 -> 15 | V73: =(COUNTIF($U75:$U90, "A1") & "A1")&" + "& (COUNTIF($U75:$U90, "A2") & "A2")&" + "& (COUNTIF($U75:$U90, "A3") & "A3")&" + "& (COUNTIF($U75:$U90, "A4") & "A4")&" + "& (COUNTIF($U75:$U90, "B1") & "B1")&" + "& (COUNTIF($U75:$U90, "B2") & "B2") -> 1A1 + 3A2 + 8A3 + 3A4 + 0B1 + 0B2 | AK73: KẾT QUẢ XẾP LOẠI CỦA HỘI ĐỒNG | BF73: =COUNTIF($BE$75:$BE$90,"CBQL") -> 2 | BG73: =COUNTIF($BE$75:$BE$90,"GV") + COUNTIF($BE$75:$BE$90,"NV") -> 13
A74: a | B74: a | C74: Viên chức | E74: Tỷ lệ A1 | F74: Tỷ lệ A2 | G74: =COUNTA($L75:$L81) -> 7 | L74: =COUNTA($L75:$L81) -> 7 | M74: =(COUNTIF($L75:$L81, "A1") & "A1")&" + "& (COUNTIF($L75:$L81, "A2") & "A2")&" + "& (COUNTIF($L75:$L81, "A3") & "A3")&" + "& (COUNTIF($L75:$L81, "A4") & "A4")&" + "& (COUNTIF($L75:$L81, "B1") & "B1") -> 1A1 + 1A2 + 4A3 + 1A4 + 0B1 | P74: =COUNTA($Q75:$Q81) -> 7 | Q74: =COUNTA($Q75:$Q81) -> 7 | R74: =(COUNTIF($Q75:$Q81, "A1") & "A1")&" + "& (COUNTIF($Q75:$Q81, "A2") & "A2")&" + "& (COUNTIF($Q75:$Q81, "A3") & "A3")&" + "& (COUNTIF($Q75:$Q81, "A4") & "A4")&" + "& (COUNTIF($Q75:$Q81, "B1") & "B1") -> 1A1 + 1A2 + 5A3 + 0A4 + 0B1 | S74: Tỷ lệ A1 | T74: Tỷ lệ A2 | U74: =COUNTA($U75:$U81) -> 7 | V74: =(COUNTIF($U75:$U81, "A1") & "A1")&" + "& (COUNTIF($U75:$U81, "A2") & "A2")&" + "& (COUNTIF($U75:$U81, "A3") & "A3")&" + "& (COUNTIF($U75:$U81, "A4") & "A4")&" + "& (COUNTIF($U75:$U81, "B1") & "B1") -> 1A1 + 1A2 + 5A3 + 0A4 + 0B1 | AG74: Đơn vị đề nghị nâng | AK74: P. TTGD | AL74: Tổng nhân sự | AM74: Xếp loại A1 | AO74: Xếp loại A2 | AQ74: Xếp loại A3 | AS74: Xếp loại A4 | AU74: Xếp loại A DN | AW74: Xếp loại B2 | AY74: Xếp loại C1 | BA74: Xếp loại C2
A75: =IF(D75="","",SUBTOTAL(3,$D$8:D75)) -> 57 | B75: 01 | C75: Lê Xuân Thiện | D75: 01002002 | E75: =COUNTIF($L77:$L90,"A1") -> 0 | F75: =COUNTIF($L77:$L90,"A2") -> 3 | G75: =IF($H75<>0,"A1",IF($I75<>0,"A2",IF($J75<>0,"A3","A4"))) -> A2 | I75: - Bài viết đăng Kỷ yếu hội thảo cấp trường (ICSS 2022) | J75: - Bài viết đăng Kỷ yếu hội thảo cấp đơn vị | L75: A4 | M75: Chưa vận động doanh nghiệp tài trợ cho Nhà trường | N75: =IFERROR(VLOOKUP($D75,'P.TTGD-CTSV'!$C$10:$AE$24,14,0),0) -> 2 | O75: =IFERROR(VLOOKUP($D75,'P.TTGD-CTSV'!$C$10:$AE$24,28,0),0) -> 2 | P75: =IF(AND($W75>=2,$X75>=3,$Y75>=1,H75<>0),"A1",IF(AND($W75>=3,$X75>=1,$Y75>=1,H75<>0),"A1",IF(AND($W75>=4,$X75>=0,$Y75>=1,H75<>0),"A1",IF(AND($W75>=2,$X75>=2,$Y75>=1,I75<>0),"A2",IF(AND($W75>=3,$X75>=0,$Y75>=1,I75<>0),"A2",IF(AND(OR($W75>=1,$X75>=2),J75<>0,$Y75>=-2),"A3","A4")))))) -> A2 | Q75: A3 | S75: =COUNTIF($U77:$U90,"A1") -> 0 | T75: =COUNTIF($U77:$U90,"A2") -> 3 | U75: =$Q75 -> A3 | V75: =R75 -> 0 | W75: =IFERROR(VLOOKUP($D75,'P.TTGD-CTSV'!$C$10:$AE$24,15,0),0) -> 2 | X75: =IFERROR(VLOOKUP($D75,'P.TTGD-CTSV'!$C$10:$AE$24,29,0),0) -> 2 | Y75: 4 | AE75: =IF($L75=$P75,$L75,FALSE) -> FALSE | AF75: 26 | AG75: 1 bậc | AI75: =AH75/$L73 -> 0 | AL75: =AL76+AL77 -> 15 | AM75: SL | AN75: Tỷ lệ | AO75: SL | AP75: Tỷ lệ | AQ75: SL | AR75: Tỷ lệ | AS75: SL | AT75: Tỷ lệ | AU75: SL | AV75: Tỷ lệ | AW75: SL | AX75: Tỷ lệ | AY75: SL | AZ75: Tỷ lệ | BA75: SL | BB75: Tỷ lệ | BD75: TTGD | BE75: CBQL
A76: =IF(D76="","",SUBTOTAL(3,$D$8:D76)) -> 58 | B76: 03 | C76: Nguyễn Ngọc Hiệp | D76: 01009006 | E76: =E75/$AL$77 -> 0 | F76: =F75/$AL$77 -> 0.23076923 | G76: =IF($H76<>0,"A1",IF($I76<>0,"A2",IF($J76<>0,"A3","A4"))) -> A2 | I76: - Bài viết sáng kiến được công nhận phạm vi ảnh hưởng cấp ngành năm học 2021-2022 (QĐ số 1969/QĐ-SGDĐT ngày 03/8/2022) - Bài viết đăng Kỷ yếu hội thảo cấp trường (ICSS 2022) | J76: - Bài viết sáng kiến được công nhận phạm vi ảnh hưởng cấp trường năm học 2021-2022 (QĐ số 189/QĐ-LTT-HĐSK ngày 15/4/2022) | L76: A1 | M76: Vận động doanh nghiệp tài trợ cho Nhà trường 16 triệu đồng | N76: =IFERROR(VLOOKUP($D76,'P.TTGD-CTSV'!$C$10:$AE$24,14,0),0) -> 0 | O76: =IFERROR(VLOOKUP($D76,'P.TTGD-CTSV'!$C$10:$AE$24,28,0),0) -> 2 | P76: A1 | Q76: =P76 -> A1 | S76: =S75/$AL$77 -> 0 | T76: =T75/$AL$77 -> 0.23076923 | U76: =$Q76 -> A1 | V76: =R76 -> 0 | W76: =IFERROR(VLOOKUP($D76,'P.TTGD-CTSV'!$C$10:$AE$24,15,0),0) -> 0 | X76: =IFERROR(VLOOKUP($D76,'P.TTGD-CTSV'!$C$10:$AE$24,29,0),0) -> 2 | Y76: 4 | AE76: =IF($L76=$P76,$L76,FALSE) -> A1 | AF76: 24 | AG76: 2 bậc | AI76: =AH76/$L73 -> 0 | AK76: Trưởng, Phó đơn vị | AL76: =COUNTIF($BE$75:$BE$90,"CBQL") -> 2 | AM76: =COUNTIF($U75:$U76,"A1") -> 1 | AN76: =AM76/$AL$76 -> 0.5 | AO76: =COUNTIF($U75:$U76,"A2") -> 0 | AP76: =AO76/$AL$76 -> 0 | AQ76: =COUNTIF($U75:$U76,"A3") -> 1 | AR76: =AQ76/$AL$75 -> 0.066666667 | AS76: =COUNTIF($U75:$U76,"A4") -> 0 | AT76: =AS76/$AL$75 -> 0 | BD76: TTGD | BE76: CBQL
A77: =IF(D77="","",SUBTOTAL(3,$D$8:D77)) -> 59 | B77: 04 | C77: Nguyễn Thị Kim Anh | D77: 01009018 | G77: =IF($H77<>0,"A1",IF($I77<>0,"A2",IF($J77<>0,"A3","A4"))) -> A2 | I77: - Bài viết sáng kiến được công nhận phạm vi ảnh hưởng cấp ngành năm học 2021-2022 (QĐ số 1969/QĐ-SGDĐT ngày 03/8/2022) - Bài viết đăng Kỷ yếu hội thảo cấp trường (ICSS 2022) | J77: - Bài viết sáng kiến được công nhận phạm vi ảnh hưởng cấp trường năm học 2021-2022 (QĐ số 189/QĐ-LTT-HĐSK ngày 15/4/2022) | L77: A3 | N77: =IFERROR(VLOOKUP($D77,'P.TTGD-CTSV'!$C$10:$AE$24,14,0),0) -> 0 | O77: =IFERROR(VLOOKUP($D77,'P.TTGD-CTSV'!$C$10:$AE$24,28,0),0) -> 3 | P77: =IF(AND($W77>=2,$X77>=3,$Y77>=1,H77<>0),"A1",IF(AND($W77>=3,$X77>=1,$Y77>=1,H77<>0),"A1",IF(AND($W77>=4,$X77>=0,$Y77>=1,H77<>0),"A1",IF(AND($W77>=2,$X77>=2,$Y77>=1,I77<>0),"A2",IF(AND($W77>=3,$X77>=0,$Y77>=1,I77<>0),"A2",IF(AND(OR($W77>=1,$X77>=2),J77<>0,$Y77>=-2),"A3","A4")))))) -> A3 | Q77: =P77 -> A3 | U77: =$Q77 -> A3 | W77: =IFERROR(VLOOKUP($D77,'P.TTGD-CTSV'!$C$10:$AE$24,15,0),0) -> 0 | X77: =IFERROR(VLOOKUP($D77,'P.TTGD-CTSV'!$C$10:$AE$24,29,0),0) -> 3 | Y77: 2 | AE77: =IF($L77=$P77,$L77,FALSE) -> A3 | AF77: 21 | AH77: =AH75+AH76 -> 0 | AI77: =AI75+AI76 -> 0 | AK77: GV/NV | AL77: =COUNTIF($BE$75:$BE$90,"GV") + COUNTIF($BE$75:$BE$90,"NV") -> 13 | AM77: =COUNTIF($U77:$U90,"A1") -> 0 | AN77: =AM77/$AL$77 -> 0 | AO77: =COUNTIF($U77:$U90,"A2") -> 3 | AP77: =AO77/$AL$77 -> 0.23076923 | AQ77: =COUNTIF($U77:$U90,"A3") -> 7 | AR77: =AQ77/$AL$77 -> 0.53846154 | AS77: =COUNTIF($U77:$U90,"A4") -> 3 | AT77: =AS77/$AL$77 -> 0.23076923 | AU77: =COUNTIF($U77:$U90,"A DN") -> 0 | AV77: =AU77/$AL$75 -> 0 | BD77: TTGD | BE77: NV
A78: =IF(D78="","",SUBTOTAL(3,$D$8:D78)) -> 60 | B78: 05 | C78: Phạm Thị Lê Chi | D78: 01009010 | G78: =IF($H78<>0,"A1",IF($I78<>0,"A2",IF($J78<>0,"A3","A4"))) -> A3 | J78: - Bài viết sáng kiến được công nhận phạm vi ảnh hưởng cấp trường năm học 2021-2022 (QĐ số 189/QĐ-LTT-HĐSK ngày 15/4/2022) | L78: A3 | N78: =IFERROR(VLOOKUP($D78,'P.TTGD-CTSV'!$C$10:$AE$24,14,0),0) -> 0 | O78: =IFERROR(VLOOKUP($D78,'P.TTGD-CTSV'!$C$10:$AE$24,28,0),0) -> 3 | P78: =IF(AND($W78>=2,$X78>=3,$Y78>=1,H78<>0),"A1",IF(AND($W78>=3,$X78>=1,$Y78>=1,H78<>0),"A1",IF(AND($W78>=4,$X78>=0,$Y78>=1,H78<>0),"A1",IF(AND($W78>=2,$X78>=2,$Y78>=1,I78<>0),"A2",IF(AND($W78>=3,$X78>=0,$Y78>=1,I78<>0),"A2",IF(AND(OR($W78>=1,$X78>=2),J78<>0,$Y78>=-2),"A3","A4")))))) -> A3 | Q78: =P78 -> A3 | U78: =$Q78 -> A3 | W78: =IFERROR(VLOOKUP($D78,'P.TTGD-CTSV'!$C$10:$AE$24,15,0),0) -> 0 | X78: =IFERROR(VLOOKUP($D78,'P.TTGD-CTSV'!$C$10:$AE$24,29,0),0) -> 3 | Y78: 2 | AE78: =IF($L78=$P78,$L78,FALSE) -> A3 | AF78: 25 | BD78: TTGD | BE78: NV
A79: =IF(D79="","",SUBTOTAL(3,$D$8:D79)) -> 61 | B79: 06 | C79: Trần Thị Thu Hà | D79: 01002004 | G79: =IF($H79<>0,"A1",IF($I79<>0,"A2",IF($J79<>0,"A3","A4"))) -> A2 | I79: - Bài viết sáng kiến được công nhận phạm vi ảnh hưởng cấp ngành năm học 2021-2022 (QĐ số 1969/QĐ-SGDĐT ngày 03/8/2022) - Có 02 Bài viết đăng Kỷ yếu hội thảo cấp trường (ICSS 2022) | J79: - Bài viết sáng kiến được công nhận phạm vi ảnh hưởng cấp trường năm học 2021-2022 (QĐ số 189/QĐ-LTT-HĐSK ngày 15/4/2022) | L79: A2 | N79: =IFERROR(VLOOKUP($D79,'P.TTGD-CTSV'!$C$10:$AE$24,14,0),0) -> 2 | O79: =IFERROR(VLOOKUP($D79,'P.TTGD-CTSV'!$C$10:$AE$24,28,0),0) -> 2 | P79: =IF(AND($W79>=2,$X79>=3,$Y79>=1,H79<>0),"A1",IF(AND($W79>=3,$X79>=1,$Y79>=1,H79<>0),"A1",IF(AND($W79>=4,$X79>=0,$Y79>=1,H79<>0),"A1",IF(AND($W79>=2,$X79>=2,$Y79>=1,I79<>0),"A2",IF(AND($W79>=3,$X79>=0,$Y79>=1,I79<>0),"A2",IF(AND(OR($W79>=1,$X79>=2),J79<>0,$Y79>=-2),"A3","A4")))))) -> A2 | Q79: =P79 -> A2 | U79: =$Q79 -> A2 | W79: =IFERROR(VLOOKUP($D79,'P.TTGD-CTSV'!$C$10:$AE$24,15,0),0) -> 2 | X79: =IFERROR(VLOOKUP($D79,'P.TTGD-CTSV'!$C$10:$AE$24,29,0),0) -> 2 | Y79: 4 | AE79: =IF($L79=$P79,$L79,FALSE) -> A2 | AF79: 25 | BD79: TTGD | BE79: NV
A80: =IF(D80="","",SUBTOTAL(3,$D$8:D80)) -> 62 | B80: 07 | C80: Nguyễn Tất Thắng | D80: 01009008 | G80: =IF($H80<>0,"A1",IF($I80<>0,"A2",IF($J80<>0,"A3","A4"))) -> A2 | I80: - Bài viết đăng Kỷ yếu hội thảo cấp trường (ICSS 2022) | J80: - Bài viết sáng kiến được công nhận phạm vi ảnh hưởng cấp trường năm học 2021-2022 (QĐ số 189/QĐ-LTT-HĐSK ngày 15/4/2022) | L80: A3 | M80: Nghỉ 02 ngày phép: 12, 13/10/2023. | N80: =IFERROR(VLOOKUP($D80,'P.TTGD-CTSV'!$C$10:$AE$24,14,0),0) -> 0 | O80: =IFERROR(VLOOKUP($D80,'P.TTGD-CTSV'!$C$10:$AE$24,28,0),0) -> 2 | P80: =IF(AND($W80>=2,$X80>=3,$Y80>=1,H80<>0),"A1",IF(AND($W80>=3,$X80>=1,$Y80>=1,H80<>0),"A1",IF(AND($W80>=4,$X80>=0,$Y80>=1,H80<>0),"A1",IF(AND($W80>=2,$X80>=2,$Y80>=1,I80<>0),"A2",IF(AND($W80>=3,$X80>=0,$Y80>=1,I80<>0),"A2",IF(AND(OR($W80>=1,$X80>=2),J80<>0,$Y80>=-2),"A3","A4")))))) -> A3 | Q80: =P80 -> A3 | U80: =$Q80 -> A3 | V80: =R80 -> 0 | W80: =IFERROR(VLOOKUP($D80,'P.TTGD-CTSV'!$C$10:$AE$24,15,0),0) -> 0 | X80: =IFERROR(VLOOKUP($D80,'P.TTGD-CTSV'!$C$10:$AE$24,29,0),0) -> 2 | AE80: =IF($L80=$P80,$L80,FALSE) -> A3 | AF80: 24 | BD80: TTGD | BE80: NV
A81: =IF(D81="","",SUBTOTAL(3,$D$8:D81)) -> 63 | B81: 09 | C81: Mai Thu Hương | D81: 01007004 | G81: =IF($H81<>0,"A1",IF($I81<>0,"A2",IF($J81<>0,"A3","A4"))) -> A3 | J81: - Bài viết sáng kiến được công nhận phạm vi ảnh hưởng cấp trường năm học 2021-2022 (QĐ số 189/QĐ-LTT-HĐSK ngày 15/4/2022) | L81: A3 | N81: =IFERROR(VLOOKUP($D81,'P.TTGD-CTSV'!$C$10:$AE$24,14,0),0) -> 0 | O81: =IFERROR(VLOOKUP($D81,'P.TTGD-CTSV'!$C$10:$AE$24,28,0),0) -> 2 | P81: =IF(AND($W81>=2,$X81>=3,$Y81>=1,H81<>0),"A1",IF(AND($W81>=3,$X81>=1,$Y81>=1,H81<>0),"A1",IF(AND($W81>=4,$X81>=0,$Y81>=1,H81<>0),"A1",IF(AND($W81>=2,$X81>=2,$Y81>=1,I81<>0),"A2",IF(AND($W81>=3,$X81>=0,$Y81>=1,I81<>0),"A2",IF(AND(OR($W81>=1,$X81>=2),J81<>0,$Y81>=-2),"A3","A4")))))) -> A3 | Q81: =P81 -> A3 | U81: =$Q81 -> A3 | W81: =IFERROR(VLOOKUP($D81,'P.TTGD-CTSV'!$C$10:$AE$24,15,0),0) -> 0 | X81: =IFERROR(VLOOKUP($D81,'P.TTGD-CTSV'!$C$10:$AE$24,29,0),0) -> 2 | Y81: 2 | AE81: =IF($L81=$P81,$L81,FALSE) -> A3 | AF81: 21 | BD81: TTGD | BE81: NV
A82: b | B82: b | C82: Hợp đồng trường | G82: =COUNTA($L83:$L90) -> 8 | L82: =COUNTA($L83:$L90) -> 8 | M82: =(COUNTIF($L83:$L90, "A1") & "A1")&" + "& (COUNTIF($L83:$L90, "A2") & "A2")&" + "& (COUNTIF($L83:$L90, "A3") & "A3")&" + "& (COUNTIF($L83:$L90, "A4") & "A4")&" + "& (COUNTIF($L83:$L90, "C1") & "C1") -> 0A1 + 2A2 + 3A3 + 3A4 + 0C1 | P82: =COUNTA($Q83:$Q90) -> 8 | Q82: =COUNTA($Q83:$Q90) -> 8 | R82: =(COUNTIF($Q83:$Q90, "A1") & "A1")&" + "& (COUNTIF($Q83:$Q90, "A2") & "A2")&" + "& (COUNTIF($Q83:$Q90, "A3") & "A3")&" + "& (COUNTIF($Q83:$Q90, "A4") & "A4")&" + "& (COUNTIF($Q83:$Q90, "B2") & "B2") -> 0A1 + 2A2 + 3A3 + 3A4 + 0B2 | U82: =COUNTA($U83:$U90) -> 8 | V82: =(COUNTIF($U83:$U90, "A1") & "A1")&" + "& (COUNTIF($U83:$U90, "A2") & "A2")&" + "& (COUNTIF($U83:$U90, "A3") & "A3")&" + "& (COUNTIF($U83:$U90, "A4") & "A4")&" + "& (COUNTIF($U83:$U90, "B2") & "B2") -> 0A1 + 2A2 + 3A3 + 3A4 + 0B2 | BD82: TTGD
A83: =IF(D83="","",SUBTOTAL(3,$D$8:D83)) -> 64 | B83: 11 | C83: Nguyễn Trung Dũng | D83: 01002008 | G83: =IF($H83<>0,"A1",IF($I83<>0,"A2",IF($J83<>0,"A3","A4"))) -> A2 | I83: - Bài viết đăng Kỷ yếu hội thảo cấp trường (ICSS 2022) | J83: - Bài viết sáng kiến được công nhận phạm vi ảnh hưởng cấp trường năm học 2021-2022 (QĐ số 189/QĐ-LTT-HĐSK ngày 15/4/2022) | L83: A3 | N83: =IFERROR(VLOOKUP($D83,'P.TTGD-CTSV'!$C$10:$AE$24,14,0),0) -> 0 | O83: =IFERROR(VLOOKUP($D83,'P.TTGD-CTSV'!$C$10:$AE$24,28,0),0) -> 3 | P83: =IF(AND($W83>=2,$X83>=3,$Y83>=1,H83<>0),"A1",IF(AND($W83>=3,$X83>=1,$Y83>=1,H83<>0),"A1",IF(AND($W83>=4,$X83>=0,$Y83>=1,H83<>0),"A1",IF(AND($W83>=2,$X83>=2,$Y83>=1,I83<>0),"A2",IF(AND($W83>=3,$X83>=0,$Y83>=1,I83<>0),"A2",IF(AND(OR($W83>=1,$X83>=2),J83<>0,$Y83>=-2),"A3","A4")))))) -> A3 | Q83: =P83 -> A3 | U83: =$Q83 -> A3 | V83: =R83 -> 0 | W83: =IFERROR(VLOOKUP($D83,'P.TTGD-CTSV'!$C$10:$AE$24,15,0),0) -> 0 | X83: =IFERROR(VLOOKUP($D83,'P.TTGD-CTSV'!$C$10:$AE$24,29,0),0) -> 3 | Y83: 1 | AE83: =IF($L83=$P83,$L83,FALSE) -> A3 | AF83: 27 | BD83: TTGD | BE83: NV
A84: =IF(D84="","",SUBTOTAL(3,$D$8:D84)) -> 65 | B84: 12 | C84: Phạm Huy Hoàng | D84: 01009011 | G84: =IF($H84<>0,"A1",IF($I84<>0,"A2",IF($J84<>0,"A3","A4"))) -> A3 | J84: - Bài viết sáng kiến được công nhận phạm vi ảnh hưởng cấp trường năm học 2021-2022 (QĐ số 189/QĐ-LTT-HĐSK ngày 15/4/2022) | L84: A3 | N84: =IFERROR(VLOOKUP($D84,'P.TTGD-CTSV'!$C$10:$AE$24,14,0),0) -> 1 | O84: =IFERROR(VLOOKUP($D84,'P.TTGD-CTSV'!$C$10:$AE$24,28,0),0) -> 3 | P84: =IF(AND($W84>=2,$X84>=3,$Y84>=1,H84<>0),"A1",IF(AND($W84>=3,$X84>=1,$Y84>=1,H84<>0),"A1",IF(AND($W84>=4,$X84>=0,$Y84>=1,H84<>0),"A1",IF(AND($W84>=2,$X84>=2,$Y84>=1,I84<>0),"A2",IF(AND($W84>=3,$X84>=0,$Y84>=1,I84<>0),"A2",IF(AND(OR($W84>=1,$X84>=2),J84<>0,$Y84>=-2),"A3","A4")))))) -> A3 | Q84: =P84 -> A3 | U84: =$Q84 -> A3 | W84: =IFERROR(VLOOKUP($D84,'P.TTGD-CTSV'!$C$10:$AE$24,15,0),0) -> 1 | X84: =IFERROR(VLOOKUP($D84,'P.TTGD-CTSV'!$C$10:$AE$24,29,0),0) -> 3 | Y84: 1 | AE84: =IF($L84=$P84,$L84,FALSE) -> A3 | AF84: 27 | BD84: TTGD | BE84: NV
A85: =IF(D85="","",SUBTOTAL(3,$D$8:D85)) -> 66 | B85: 13 | C85: Huỳnh Văn Hiếu | D85: 01009019 | G85: =IF($H85<>0,"A1",IF($I85<>0,"A2",IF($J85<>0,"A3","A4"))) -> A2 | I85: - Bài viết sáng kiến được công nhận phạm vi ảnh hưởng cấp ngành năm học 2021-2022 (QĐ số 1969/QĐ-SGDĐT ngày 03/8/2022) | J85: - Bài viết sáng kiến được công nhận phạm vi ảnh hưởng cấp trường năm học 2021-2022 (QĐ số 189/QĐ-LTT-HĐSK ngày 15/4/2022) | L85: A2 | N85: =IFERROR(VLOOKUP($D85,'P.TTGD-CTSV'!$C$10:$AE$24,14,0),0) -> 2 | O85: =IFERROR(VLOOKUP($D85,'P.TTGD-CTSV'!$C$10:$AE$24,28,0),0) -> 2 | P85: =IF(AND($W85>=2,$X85>=3,$Y85>=1,H85<>0),"A1",IF(AND($W85>=3,$X85>=1,$Y85>=1,H85<>0),"A1",IF(AND($W85>=4,$X85>=0,$Y85>=1,H85<>0),"A1",IF(AND($W85>=2,$X85>=2,$Y85>=1,I85<>0),"A2",IF(AND($W85>=3,$X85>=0,$Y85>=1,I85<>0),"A2",IF(AND(OR($W85>=1,$X85>=2),J85<>0,$Y85>=-2),"A3","A4")))))) -> A2 | Q85: =P85 -> A2 | U85: =$Q85 -> A2 | W85: =IFERROR(VLOOKUP($D85,'P.TTGD-CTSV'!$C$10:$AE$24,15,0),0) -> 2 | X85: =IFERROR(VLOOKUP($D85,'P.TTGD-CTSV'!$C$10:$AE$24,29,0),0) -> 2 | Y85: 1 | AE85: =IF($L85=$P85,$L85,FALSE) -> A2 | AF85: 24 | BD85: TTGD | BE85: NV
A86: =IF(D86="","",SUBTOTAL(3,$D$8:D86)) -> 67 | B86: 14 | C86: Trần Anh Mỹ | D86: 01009028 | G86: =IF($H86<>0,"A1",IF($I86<>0,"A2",IF($J86<>0,"A3","A4"))) -> A3 | J86: - Bài viết sáng kiến được công nhận phạm vi ảnh hưởng cấp trường năm học 2021-2022 (QĐ số 189/QĐ-LTT-HĐSK ngày 15/4/2022) | L86: A3 | M86: Nghỉ 01 ngày phép: 24/10/2023. | N86: =IFERROR(VLOOKUP($D86,'P.TTGD-CTSV'!$C$10:$AE$24,14,0),0) -> 0 | O86: =IFERROR(VLOOKUP($D86,'P.TTGD-CTSV'!$C$10:$AE$24,28,0),0) -> 3 | P86: =IF(AND($W86>=2,$X86>=3,$Y86>=1,H86<>0),"A1",IF(AND($W86>=3,$X86>=1,$Y86>=1,H86<>0),"A1",IF(AND($W86>=4,$X86>=0,$Y86>=1,H86<>0),"A1",IF(AND($W86>=2,$X86>=2,$Y86>=1,I86<>0),"A2",IF(AND($W86>=3,$X86>=0,$Y86>=1,I86<>0),"A2",IF(AND(OR($W86>=1,$X86>=2),J86<>0,$Y86>=-2),"A3","A4")))))) -> A3 | Q86: =P86 -> A3 | U86: =$Q86 -> A3 | W86: =IFERROR(VLOOKUP($D86,'P.TTGD-CTSV'!$C$10:$AE$24,15,0),0) -> 0 | X86: =IFERROR(VLOOKUP($D86,'P.TTGD-CTSV'!$C$10:$AE$24,29,0),0) -> 3 | AE86: =IF($L86=$P86,$L86,FALSE) -> A3 | AF86: 23 | BD86: TTGD | BE86: NV
A87: =IF(D87="","",SUBTOTAL(3,$D$8:D87)) -> 68 | B87: 15 | C87: Bùi Đức Phước | D87: 01009026 | G87: =IF($H87<>0,"A1",IF($I87<>0,"A2",IF($J87<>0,"A3","A4"))) -> A2 | I87: - Bài viết sáng kiến được công nhận phạm vi ảnh hưởng cấp ngành năm học 2021-2022 (QĐ số 1969/QĐ-SGDĐT ngày 03/8/2022) | J87: - Bài viết sáng kiến được công nhận phạm vi ảnh hưởng cấp trường năm học 2021-2022 (QĐ số 189/QĐ-LTT-HĐSK ngày 15/4/2022) | L87: A2 | N87: =IFERROR(VLOOKUP($D87,'P.TTGD-CTSV'!$C$10:$AE$24,14,0),0) -> 2 | O87: =IFERROR(VLOOKUP($D87,'P.TTGD-CTSV'!$C$10:$AE$24,28,0),0) -> 3 | P87: =IF(AND($W87>=2,$X87>=3,$Y87>=1,H87<>0),"A1",IF(AND($W87>=3,$X87>=1,$Y87>=1,H87<>0),"A1",IF(AND($W87>=4,$X87>=0,$Y87>=1,H87<>0),"A1",IF(AND($W87>=2,$X87>=2,$Y87>=1,I87<>0),"A2",IF(AND($W87>=3,$X87>=0,$Y87>=1,I87<>0),"A2",IF(AND(OR($W87>=1,$X87>=2),J87<>0,$Y87>=-2),"A3","A4")))))) -> A2 | Q87: =P87 -> A2 | U87: =$Q87 -> A2 | W87: =IFERROR(VLOOKUP($D87,'P.TTGD-CTSV'!$C$10:$AE$24,15,0),0) -> 2 | X87: =IFERROR(VLOOKUP($D87,'P.TTGD-CTSV'!$C$10:$AE$24,29,0),0) -> 3 | Y87: 1 | AE87: =IF($L87=$P87,$L87,FALSE) -> A2 | AF87: 25 | BD87: TTGD | BE87: NV
A88: =IF(D88="","",SUBTOTAL(3,$D$8:D88)) -> 69 | B88: 19 | C88: Nguyễn Thị Thảo | D88: 01007003 | G88: =IF($H88<>0,"A1",IF($I88<>0,"A2",IF($J88<>0,"A3","A4"))) -> A4 | L88: A4 | M88: Nghỉ 02 ngày phép: 17, 18/10/2023. | N88: =IFERROR(VLOOKUP($D88,'P.TTGD-CTSV'!$C$10:$AE$24,14,0),0) -> 0 | O88: =IFERROR(VLOOKUP($D88,'P.TTGD-CTSV'!$C$10:$AE$24,28,0),0) -> 2 | P88: =IF(AND($W88>=2,$X88>=3,$Y88>=1,H88<>0),"A1",IF(AND($W88>=3,$X88>=1,$Y88>=1,H88<>0),"A1",IF(AND($W88>=4,$X88>=0,$Y88>=1,H88<>0),"A1",IF(AND($W88>=2,$X88>=2,$Y88>=1,I88<>0),"A2",IF(AND($W88>=3,$X88>=0,$Y88>=1,I88<>0),"A2",IF(AND(OR($W88>=1,$X88>=2),J88<>0,$Y88>=-2),"A3","A4")))))) -> A4 | Q88: =P88 -> A4 | U88: =$Q88 -> A4 | W88: =IFERROR(VLOOKUP($D88,'P.TTGD-CTSV'!$C$10:$AE$24,15,0),0) -> 0 | X88: =IFERROR(VLOOKUP($D88,'P.TTGD-CTSV'!$C$10:$AE$24,29,0),0) -> 2 | AE88: =IF($L88=$P88,$L88,FALSE) -> A4 | AF88: 24 | BD88: TTGD | BE88: NV
A89: =IF(D89="","",SUBTOTAL(3,$D$8:D89)) -> 70 | C89: Lưu Hoàng Bảo Châu | D89: 01009029 | G89: =IF($H89<>0,"A1",IF($I89<>0,"A2",IF($J89<>0,"A3","A4"))) -> A4 | L89: A4 | N89: =IFERROR(VLOOKUP($D89,'P.TTGD-CTSV'!$C$10:$AE$24,14,0),0) -> 1 | O89: =IFERROR(VLOOKUP($D89,'P.TTGD-CTSV'!$C$10:$AE$24,28,0),0) -> 2 | P89: =IF(AND($W89>=2,$X89>=3,$Y89>=1,H89<>0),"A1",IF(AND($W89>=3,$X89>=1,$Y89>=1,H89<>0),"A1",IF(AND($W89>=4,$X89>=0,$Y89>=1,H89<>0),"A1",IF(AND($W89>=2,$X89>=2,$Y89>=1,I89<>0),"A2",IF(AND($W89>=3,$X89>=0,$Y89>=1,I89<>0),"A2",IF(AND(OR($W89>=1,$X89>=2),J89<>0,$Y89>=-2),"A3","A4")))))) -> A4 | Q89: =P89 -> A4 | U89: =$Q89 -> A4 | W89: =IFERROR(VLOOKUP($D89,'P.TTGD-CTSV'!$C$10:$AE$24,15,0),0) -> 1 | X89: =IFERROR(VLOOKUP($D89,'P.TTGD-CTSV'!$C$10:$AE$24,29,0),0) -> 2 | AE89: =IF($L89=$P89,$L89,FALSE) -> A4 | AF89: 26 | BD89: TTGD | BE89: NV
A90: =IF(D90="","",SUBTOTAL(3,$D$8:D90)) -> 71 | B90: 13 | C90: Trần Việt Anh | D90: 01002038 | G90: =IF($H90<>0,"A1",IF($I90<>0,"A2",IF($J90<>0,"A3","A4"))) -> A4 | L90: A4 | M90: Nghỉ 01 ngày phép: 13/10/2023. | N90: =IFERROR(VLOOKUP($D90,'P.TTGD-CTSV'!$C$10:$AE$25,14,0),0) -> 0 | O90: =IFERROR(VLOOKUP($D90,'P.TTGD-CTSV'!$C$10:$AE$25,28,0),0) -> 1 | P90: =IF(AND($W90>=2,$X90>=3,$Y90>=1,H90<>0),"A1",IF(AND($W90>=3,$X90>=1,$Y90>=1,H90<>0),"A1",IF(AND($W90>=4,$X90>=0,$Y90>=1,H90<>0),"A1",IF(AND($W90>=2,$X90>=2,$Y90>=1,I90<>0),"A2",IF(AND($W90>=3,$X90>=0,$Y90>=1,I90<>0),"A2",IF(AND(OR($W90>=1,$X90>=2),J90<>0,$Y90>=-2),"A3","A4")))))) -> A4 | Q90: =P90 -> A4 | U90: =$Q90 -> A4 | V90: =R90 -> 0 | W90: =IFERROR(VLOOKUP($D90,'P.TTGD-CTSV'!$C$10:$AE$25,15,0),0) -> 0 | X90: =IFERROR(VLOOKUP($D90,'P.TTGD-CTSV'!$C$10:$AE$25,29,0),0) -> 1 | AC90: Không đăng ký định danh mức 2 đúng thời hạn (đăng ký ngày 16/8/2023) | AE90: =IF($L90=$P90,$L90,FALSE) -> A4 | AF90: 27 | BD90: TCHC | BE90: NV
A91: VI | B91: VI | C91: PHÒNG KHẢO THÍ VÀ ĐBCL | G91: =$L$92+$L$99 -> 7 | L91: =$L$92+$L$99 -> 7 | M91: =(COUNTIF($L93:$L100, "A1") & "A1")&" + "& (COUNTIF($L93:$L100, "A2") & "A2")&" + "& (COUNTIF($L93:$L100, "A3") & "A3")&" + "& (COUNTIF($L93:$L100, "A4") & "A4") -> 0A1 + 2A2 + 3A3 + 2A4 | P91: =$Q$92+$Q$99 -> 7 | Q91: =$Q$92+$Q$99 -> 7 | R91: =(COUNTIF($Q93:$Q100, "A1") & "A1")&" + "& (COUNTIF($Q93:$Q100, "A2") & "A2")&" + "& (COUNTIF($Q93:$Q100, "A3") & "A3")&" + "& (COUNTIF($Q93:$Q100, "A4") & "A4") -> 1A1 + 1A2 + 5A3 + 0A4 | U91: =$U$92+$U$99 -> 7 | V91: =(COUNTIF($U93:$U100, "A1") & "A1")&" + "& (COUNTIF($U93:$U100, "A2") & "A2")&" + "& (COUNTIF($U93:$U100, "A3") & "A3")&" + "& (COUNTIF($U93:$U100, "A4") & "A4") -> 1A1 + 1A2 + 5A3 + 0A4 | AK91: KẾT QUẢ XẾP LOẠI CỦA HỘI ĐỒNG | BF91: =COUNTIF($BE$93:$BE$100,"CBQL") -> 2 | BG91: =COUNTIF($BE$93:$BE$100,"GV") + COUNTIF($BE$93:$BE$100,"NV") -> 5
A92: a | B92: a | C92: Viên chức | E92: Tỷ lệ A1 | F92: Tỷ lệ A2 | G92: =COUNTA($L93:$L98) -> 6 | L92: =COUNTA($L93:$L98) -> 6 | M92: =(COUNTIF($L93:$L98, "A1") & "A1")&" + "& (COUNTIF($L93:$L98, "A2") & "A2")&" + "& (COUNTIF($L93:$L98, "A3") & "A3")&" + "& (COUNTIF($L93:$L98, "A4") & "A4") -> 0A1 + 2A2 + 2A3 + 2A4 | P92: =COUNTA($Q93:$Q98) -> 6 | Q92: =COUNTA($Q93:$Q98) -> 6 | R92: =(COUNTIF($Q93:$Q98, "A1") & "A1")&" + "& (COUNTIF($Q93:$Q98, "A2") & "A2")&" + "& (COUNTIF($Q93:$Q98, "A3") & "A3")&" + "& (COUNTIF($Q93:$Q98, "A4") & "A4") -> 1A1 + 1A2 + 4A3 + 0A4 | S92: Tỷ lệ A1 | T92: Tỷ lệ A2 | U92: =COUNTA($U93:$U98) -> 6 | V92: =(COUNTIF($U93:$U98, "A1") & "A1")&" + "& (COUNTIF($U93:$U98, "A2") & "A2")&" + "& (COUNTIF($U93:$U98, "A3") & "A3")&" + "& (COUNTIF($U93:$U98, "A4") & "A4") -> 1A1 + 1A2 + 4A3 + 0A4 | AG92: Đơn vị đề nghị nâng | AK92: P. Khảo thí | AL92: Tổng nhân sự | AM92: Xếp loại A1 | AO92: Xếp loại A2 | AQ92: Xếp loại A3 | AS92: Xếp loại A4 | AU92: Xếp loại B1 | AW92: Xếp loại B2 | AY92: Xếp loại C1 | BA92: Xếp loại C2
A93: =IF(D93="","",SUBTOTAL(3,$D$8:D93)) -> 72 | B93: 01 | C93: Nguyễn Chí Nhân | D93: 01009009 | E93: =COUNTIF($L95:$L100,"A1") -> 0 | F93: =COUNTIF($L95:$L100,"A2") -> 2 | G93: =IF($H93<>0,"A1",IF($I93<>0,"A2",IF($J93<>0,"A3","A4"))) -> A2 | I93: - Bài viết đăng Kỷ yếu hội thảo cấp trường (ICSS 2022) | J93: - Bài viết đăng Kỷ yếu hội thảo cấp đơn vị | L93: A4 | M93: Vận động DN tài trợ lễ khai giảng 5 triệu đồng | N93: =IFERROR(VLOOKUP($D93,'P.TTGD-CTSV'!$C$10:$AE$24,14,0),0) -> 0 | O93: =IFERROR(VLOOKUP($D93,'P.TTGD-CTSV'!$C$10:$AE$24,28,0),0) -> 0 | P93: =IF(AND($W93>=2,$X93>=3,$Y93>=1,H93<>0),"A1",IF(AND($W93>=3,$X93>=1,$Y93>=1,H93<>0),"A1",IF(AND($W93>=4,$X93>=0,$Y93>=1,H93<>0),"A1",IF(AND($W93>=2,$X93>=2,$Y93>=1,I93<>0),"A2",IF(AND($W93>=3,$X93>=0,$Y93>=1,I93<>0),"A2",IF(AND(OR($W93>=1,$X93>=2),J93<>0,$Y93>=-2),"A3","A4")))))) -> A2 | Q93: A3 | S93: =SUM(COUNTIF($U95:$U98,"A1"),COUNTIF($U100:$U100,"A1")) -> 1 | T93: =SUM(COUNTIF($U95:$U98,"A2"),COUNTIF($U100:$U100,"A2")) -> 1 | U93: =$Q93 -> A3 | V93: =R93 -> 0 | W93: =IFERROR(VLOOKUP($D93,'P.KT&ĐBCL'!$C$10:$AA$17,13,0),0) -> 3 | X93: =IFERROR(VLOOKUP($D93,'P.KT&ĐBCL'!$C$10:$AA$17,25,0),0) -> 0 | Y93: 2 | AE93: =IF($L93=$P93,$L93,FALSE) -> FALSE | AF93: 27 | AG93: 1 bậc | AI93: =AH93/$L91 -> 0 | AL93: =AL94+AL95 -> 7 | AM93: SL | AN93: Tỷ lệ | AO93: SL | AP93: Tỷ lệ | AQ93: SL | AR93: Tỷ lệ | AS93: SL | AT93: Tỷ lệ | AU93: SL | AV93: Tỷ lệ | AW93: SL | AX93: Tỷ lệ | AY93: SL | AZ93: Tỷ lệ | BA93: SL | BB93: Tỷ lệ | BD93: ĐBCL | BE93: CBQL
A94: =IF(D94="","",SUBTOTAL(3,$D$8:D94)) -> 73 | B94: 02 | C94: Nguyễn Thị Kim Dung | D94: 01003002 | E94: =E93/5 -> 0 | F94: =F93/5 -> 0.4 | G94: =IF($H94<>0,"A1",IF($I94<>0,"A2",IF($J94<>0,"A3","A4"))) -> A2 | I94: - Bài viết sáng kiến được công nhận phạm vi ảnh hưởng cấp ngành năm học 2021-2022 (QĐ số 1969/QĐ-SGDĐT ngày 03/8/2022) | J94: - Bài viết sáng kiến được công nhận phạm vi ảnh hưởng cấp trường năm học 2021-2022 (QĐ số 189/QĐ-LTT-HĐSK ngày 15/4/2022) | L94: A4 | M94: Chưa vận động doanh nghiệp tài trợ cho Nhà trường | N94: =IFERROR(VLOOKUP($D94,'P.TTGD-CTSV'!$C$10:$AE$24,14,0),0) -> 0 | O94: =IFERROR(VLOOKUP($D94,'P.TTGD-CTSV'!$C$10:$AE$24,28,0),0) -> 0 | P94: =IF(AND($W94>=2,$X94>=3,$Y94>=1,H94<>0),"A1",IF(AND($W94>=3,$X94>=1,$Y94>=1,H94<>0),"A1",IF(AND($W94>=4,$X94>=0,$Y94>=1,H94<>0),"A1",IF(AND($W94>=2,$X94>=2,$Y94>=1,I94<>0),"A2",IF(AND($W94>=3,$X94>=0,$Y94>=1,I94<>0),"A2",IF(AND(OR($W94>=1,$X94>=2),J94<>0,$Y94>=-2),"A3","A4")))))) -> A2 | Q94: A3 | S94: =S93/5 -> 0.2 | T94: =T93/5 -> 0.2 | U94: =$Q94 -> A3 | W94: =IFERROR(VLOOKUP($D94,'P.KT&ĐBCL'!$C$10:$AA$17,13,0),0) -> 3 | X94: =IFERROR(VLOOKUP($D94,'P.KT&ĐBCL'!$C$10:$AA$17,25,0),0) -> 2 | Y94: 1 | AE94: =IF($L94=$P94,$L94,FALSE) -> FALSE | AF94: 21 | AG94: 2 bậc | AI94: =AH94/$L91 -> 0 | AK94: Trưởng, Phó đơn vị | AL94: =COUNTIF($BE$93:$BE$100,"CBQL") -> 2 | AM94: =COUNTIF($U93:$U94,"A1") -> 0 | AN94: =AM94/$AL$93 -> 0 | AO94: =COUNTIF($U93:$U94,"A2") -> 0 | AP94: =AO94/$AL$93 -> 0 | AQ94: =COUNTIF($U93:$U94,"A3") -> 2 | AR94: =AQ94/$AL$93 -> 0.28571429 | AS94: =COUNTIF($U93:$U94,"A4") -> 0 | AT94: =AS94/$AL$93 -> 0 | BD94: ĐBCL | BE94: CBQL
A95: =IF(D95="","",SUBTOTAL(3,$D$8:D95)) -> 74 | B95: 03 | C95: Nguyễn Thanh Sơn | D95: 01006003 | G95: =IF($H95<>0,"A1",IF($I95<>0,"A2",IF($J95<>0,"A3","A4"))) -> A2 | I95: - Bài viết đăng Kỷ yếu 50 năm hình thành và phát triển trường | J95: - Bài viết sáng kiến được công nhận phạm vi ảnh hưởng cấp trường năm học 2021-2022 (QĐ số 189/QĐ-LTT-HĐSK ngày 15/4/2022) | L95: A3 | N95: =IFERROR(VLOOKUP($D95,'P.KT&ĐBCL'!$C$10:$AA$17,12,0),0) -> 1 | O95: =IFERROR(VLOOKUP($D95,'P.KT&ĐBCL'!$C$10:$AA$17,24,0),0) -> 0 | P95: =IF(AND($W95>=2,$X95>=3,$Y95>=1,H95<>0),"A1",IF(AND($W95>=3,$X95>=1,$Y95>=1,H95<>0),"A1",IF(AND($W95>=2,$X95>=2,$Y95>=1,I95<>0),"A2",IF(AND($W95>=3,$X95>=0,$Y95>=1,I95<>0),"A2",IF(AND(OR($W95>=1,$X95>=2),J95<>0,$Y95>=-2),"A3","A4"))))) -> A3 | Q95: =P95 -> A3 | U95: =$Q95 -> A3 | W95: =IFERROR(VLOOKUP($D95,'P.KT&ĐBCL'!$C$10:$AA$17,13,0),0) -> 1 | X95: =IFERROR(VLOOKUP($D95,'P.KT&ĐBCL'!$C$10:$AA$17,25,0),0) -> 0 | Y95: 0 | AE95: =IF($L95=$P95,$L95,FALSE) -> A3 | AF95: 19 | AH95: =AH93+AH94 -> 0 | AI95: =AI93+AI94 -> 0 | AK95: GV/NV | AL95: =COUNTIF($BE$93:$BE$100,"GV") + COUNTIF($BE$93:$BE$100,"NV") -> 5 | AM95: =COUNTIF($U95:$U100,"A1") -> 1 | AN95: =AM95/$AL$95 -> 0.2 | AO95: =COUNTIF($U95:$U100,"A2") -> 1 | AP95: =AO95/$AL$95 -> 0.2 | AQ95: =COUNTIF($U95:$U100,"A3") -> 3 | AR95: =AQ95/$AL$95 -> 0.6 | AS95: =COUNTIF($U95:$U100,"A4") -> 0 | AT95: =AS95/$AL$93 -> 0 | BD95: ĐBCL | BE95: NV
A96: =IF(D96="","",SUBTOTAL(3,$D$8:D96)) -> 75 | B96: 05 | C96: Nguyễn Thị Tuyết | D96: 01022061 | G96: =IF($H96<>0,"A1",IF($I96<>0,"A2",IF($J96<>0,"A3","A4"))) -> A2 | I96: - Bài viết đăng Kỷ yếu hội thảo cấp trường (ICSS 2022) | J96: - Bài viết sáng kiến được công nhận phạm vi ảnh hưởng cấp trường năm học 2021-2022 (QĐ số 189/QĐ-LTT-HĐSK ngày 15/4/2022) | L96: A2 | N96: =IFERROR(VLOOKUP($D96,'P.KT&ĐBCL'!$C$10:$AA$17,12,0),0) -> 3 | O96: =IFERROR(VLOOKUP($D96,'P.KT&ĐBCL'!$C$10:$AA$17,24,0),0) -> 2 | P96: =IF(AND($W96>=2,$X96>=3,$Y96>=1,H96<>0),"A1",IF(AND($W96>=3,$X96>=1,$Y96>=1,H96<>0),"A1",IF(AND($W96>=2,$X96>=2,$Y96>=1,I96<>0),"A2",IF(AND($W96>=3,$X96>=0,$Y96>=1,I96<>0),"A2",IF(AND(OR($W96>=1,$X96>=2),J96<>0,$Y96>=-2),"A3","A4"))))) -> A2 | Q96: =P96 -> A2 | U96: =$Q96 -> A2 | V96: =R96 -> 0 | W96: =IFERROR(VLOOKUP($D96,'P.KT&ĐBCL'!$C$10:$AA$17,13,0),0) -> 3 | X96: =IFERROR(VLOOKUP($D96,'P.KT&ĐBCL'!$C$10:$AA$17,25,0),0) -> 2 | Y96: 1 | AE96: =IF($L96=$P96,$L96,FALSE) -> A2 | AF96: 24 | BD96: ĐBCL | BE96: NV
A97: =IF(D97="","",SUBTOTAL(3,$D$8:D97)) -> 76 | B97: 04 | C97: Vũ Thị Thu Thủy | D97: 01013032 | G97: =IF($H97<>0,"A1",IF($I97<>0,"A2",IF($J97<>0,"A3","A4"))) -> A2 | I97: - Bài viết đăng Kỷ yếu hội thảo cấp trường (ICSS 2022) | J97: - Bài viết sáng kiến được công nhận phạm vi ảnh hưởng cấp trường năm học 2021-2022 (QĐ số 189/QĐ-LTT-HĐSK ngày 15/4/2022) | L97: A3 | N97: =IFERROR(VLOOKUP($D97,'P.KT&ĐBCL'!$C$10:$AA$17,12,0),0) -> 1 | O97: =IFERROR(VLOOKUP($D97,'P.KT&ĐBCL'!$C$10:$AA$17,24,0),0) -> 0 | P97: =IF(AND($W97>=2,$X97>=3,$Y97>=1,H97<>0),"A1",IF(AND($W97>=3,$X97>=1,$Y97>=1,H97<>0),"A1",IF(AND($W97>=2,$X97>=2,$Y97>=1,I97<>0),"A2",IF(AND($W97>=3,$X97>=0,$Y97>=1,I97<>0),"A2",IF(AND(OR($W97>=1,$X97>=2),J97<>0,$Y97>=-2),"A3","A4"))))) -> A3 | Q97: =P97 -> A3 | U97: =$Q97 -> A3 | W97: =IFERROR(VLOOKUP($D97,'P.KT&ĐBCL'!$C$10:$AA$17,13,0),0) -> 1 | X97: =IFERROR(VLOOKUP($D97,'P.KT&ĐBCL'!$C$10:$AA$17,25,0),0) -> 0 | Y97: 0 | AE97: =IF($L97=$P97,$L97,FALSE) -> A3 | AF97: 24 | BD97: ĐBCL | BE97: NV
A98: =IF(D98="","",SUBTOTAL(3,$D$8:D98)) -> 77 | B98: 06 | C98: Lương Minh Dũng | D98: 01015027 | G98: =IF($H98<>0,"A1",IF($I98<>0,"A2",IF($J98<>0,"A3","A4"))) -> A2 | I98: - Bài viết sáng kiến được công nhận phạm vi ảnh hưởng cấp ngành năm học 2021-2022 (QĐ số 1969/QĐ-SGDĐT ngày 03/8/2022) - - Bài viết đăng Kỷ yếu 50 năm hình thành và phát triển trường | J98: - Bài viết sáng kiến được công nhận phạm vi ảnh hưởng cấp trường năm học 2021-2022 (QĐ số 189/QĐ-LTT-HĐSK ngày 15/4/2022) | L98: A2 | N98: =IFERROR(VLOOKUP($D98,'P.KT&ĐBCL'!$C$10:$AA$17,12,0),0) -> 3 | O98: =IFERROR(VLOOKUP($D98,'P.KT&ĐBCL'!$C$10:$AA$17,24,0),0) -> 2 | P98: =IF(AND($W98>=2,$X98>=3,$Y98>=1,H98<>0),"A1",IF(AND($W98>=3,$X98>=1,$Y98>=1,H98<>0),"A1",IF(AND($W98>=2,$X98>=2,$Y98>=1,I98<>0),"A2",IF(AND($W98>=3,$X98>=0,$Y98>=1,I98<>0),"A2",IF(AND(OR($W98>=1,$X98>=2),J98<>0,$Y98>=-2),"A3","A4"))))) -> A2 | Q98: A1 | U98: =$Q98 -> A1 | W98: =IFERROR(VLOOKUP($D98,'P.KT&ĐBCL'!$C$10:$AA$17,13,0),0) -> 3 | X98: =IFERROR(VLOOKUP($D98,'P.KT&ĐBCL'!$C$10:$AA$17,25,0),0) -> 2 | Y98: 1 | AB98: A1 | AC98: Cá nhân tích cực hỗ trợ đơn vị trong công tác | AE98: =IF($L98=$P98,$L98,FALSE) -> A2 | AF98: 24 | BD98: ĐBCL | BE98: NV
A99: b | B99: b | C99: Hợp đồng trường | G99: =COUNTA($L100:$L100) -> 1 | L99: =COUNTA($L100:$L100) -> 1 | M99: =(COUNTIF($L100:$L100, "A1") & "A1")&" + "& (COUNTIF($L100:$L100, "A2") & "A2")&" + "& (COUNTIF($L100:$L100, "A3") & "A3")&" + "& (COUNTIF($L100:$L100, "A4") & "A4") -> 0A1 + 0A2 + 1A3 + 0A4 | N99: =IFERROR(VLOOKUP($D99,'[2]P.KT&ĐBCL'!$C$10:$T$17,11,0),0) -> 0 | O99: =IFERROR(VLOOKUP($D99,'[2]P.KT&ĐBCL'!$C$10:$T$17,17,0),0) -> 0 | P99: =COUNTA($Q100:$Q100) -> 1 | Q99: =COUNTA($Q100:$Q100) -> 1 | R99: =(COUNTIF($Q100:$Q100, "A1") & "A1")&" + "& (COUNTIF($Q100:$Q100, "A2") & "A2")&" + "& (COUNTIF($Q100:$Q100, "A3") & "A3")&" + "& (COUNTIF($Q100:$Q100, "A4") & "A4") -> 0A1 + 0A2 + 1A3 + 0A4 | U99: =COUNTA($U100:$U100) -> 1 | V99: =(COUNTIF($U100:$U100, "A1") & "A1")&" + "& (COUNTIF($U100:$U100, "A2") & "A2")&" + "& (COUNTIF($U100:$U100, "A3") & "A3")&" + "& (COUNTIF($U100:$U100, "A4") & "A4") -> 0A1 + 0A2 + 1A3 + 0A4
A100: =IF(D100="","",SUBTOTAL(3,$D$8:D100)) -> 78 | B100: 07 | C100: Nguyễn Yến Nhi | D100: 01006006 | G100: =IF($H100<>0,"A1",IF($I100<>0,"A2",IF($J100<>0,"A3","A4"))) -> A2 | I100: Tham gia viết bài giới thiệu đơn vị đăng Kỷ yếu Hội thảo 50 năm thành lập trường | J100: - Bài viết sáng kiến được công nhận phạm vi ảnh hưởng cấp trường năm học 2021-2022 (QĐ số 189/QĐ-LTT-HĐSK ngày 15/4/2022) | L100: A3 | N100: =IFERROR(VLOOKUP($D100,'P.KT&ĐBCL'!$C$10:$AA$17,12,0),0) -> 2 | O100: =IFERROR(VLOOKUP($D100,'P.KT&ĐBCL'!$C$10:$AA$17,24,0),0) -> 0 | P100: =IF(AND($W100>=2,$X100>=3,$Y100>=1,H100<>0),"A1",IF(AND($W100>=3,$X100>=1,$Y100>=1,H100<>0),"A1",IF(AND($W100>=2,$X100>=2,$Y100>=1,I100<>0),"A2",IF(AND($W100>=3,$X100>=0,$Y100>=1,I100<>0),"A2",IF(AND(OR($W100>=1,$X100>=2),J100<>0,$Y100>=-2),"A3","A4"))))) -> A3 | Q100: =P100 -> A3 | U100: =$Q100 -> A3 | W100: =IFERROR(VLOOKUP($D100,'P.KT&ĐBCL'!$C$10:$AA$17,13,0),0) -> 2 | X100: =IFERROR(VLOOKUP($D100,'P.KT&ĐBCL'!$C$10:$AA$17,25,0),0) -> 0 | AE100: =IF($L100=$P100,$L100,FALSE) -> A3 | AF100: 23 | BD100: ĐBCL | BE100: NV
...

Sheet P.KH-TC
A1: TRƯỜNG CAO ĐẲNG LÝ TỰ TRỌNG | P1: CỘNG HÒA XÃ HỘI CHỦ NGHĨA VIỆT NAM
A2: THÀNH PHỐ HỒ CHÍ MINH | P2: Độc lập - Tự do - Hạnh phúc
A3: PHÒNG KẾ HOẠCH - TÀI CHÍNH
AB4: Mẫu 3
A5: THỐNG KÊ CHI TIẾT KHỐI LƯỢNG CÔNG VIỆC THỰC HIỆN THÁNG 10/2023
A7: TT | B7: Tên nội dung công việc | D7: Công việc chung của trường | P7: Công việc riêng của đơn vị | AB7: Ghi chú
B8: Họ và tên | C8: Mã E-ofice | D8: Nhiệm vụ 1 | E8: Nhiệm vụ 2 | F8: Nhiệm vụ 3 | G8: Nhiệm vụ 4 | H8: Nhiệm vụ 5 | I8: Nhiệm vụ 6 | J8: Nhiệm vụ 7 | K8: Nhiệm vụ 8 | L8: Nhiệm vụ 9 | M8: Nhiệm vụ 10 | N8: Tổng | O8: TT HĐ xét | P8: Nhiệm vụ 1 | Q8: Nhiệm vụ 2 | R8: Nhiệm vụ 3 | S8: Nhiệm vụ 4 | T8: Nhiệm vụ 5 | U8: Nhiệm vụ 6 | V8: Nhiệm vụ 7 | W8: Nhiệm vụ 8 | X8: Nhiệm vụ 9 | Y8: Nhiệm vụ 10 | Z8: Tổng | AA8: TT HĐ xét
A9: I. Viên chức | C9: -1 | D9: -2 | E9: -3 | F9: -4 | G9: -5 | H9: -6 | I9: -7 | J9: -8 | K9: -9 | L9: -10 | M9: -11 | N9: -12 | O9: -13 | P9: -14 | Q9: -15 | R9: -16 | S9: -17 | T9: -18 | U9: -19 | V9: -20 | W9: -21 | X9: -22 | Y9: -23 | Z9: -24 | AA9: -25 | AB9: -26
A10: 01 | B10: Nguyễn Kính | C10: 01002024 | D10: x | E10: x | F10: x | G10: x | H10: x | N10: =SUM(COUNTIF(D10:M10,"x"),COUNTIF(D10:M10,"A")) -> 5 | O10: =SUM(COUNTIF(D10:M10,"x"),COUNTIF(D10:M10,"B")) -> 5 | P10: x | Q10: x | R10: x | S10: x | T10: x | U10: x | Z10: =SUM(COUNTIF(P10:Y10,"x"),COUNTIF(P10:Y10,"A")) -> 6 | AA10: =SUM(COUNTIF(P10:Y10,"x"),COUNTIF(P10:Y10,"B")) -> 6
A11: 02 | B11: Hồng Mộng Tuyết Dung | C11: 01003009 | D11: x | E11: x | G11: x | H11: x | N11: =SUM(COUNTIF(D11:M11,"x"),COUNTIF(D11:M11,"A")) -> 4 | O11: =SUM(COUNTIF(D11:M11,"x"),COUNTIF(D11:M11,"B")) -> 4 | P11: x | R11: x | S11: x | T11: x | Z11: =SUM(COUNTIF(P11:Y11,"x"),COUNTIF(P11:Y11,"A")) -> 4 | AA11: =SUM(COUNTIF(P11:Y11,"x"),COUNTIF(P11:Y11,"B")) -> 4
A12: 03 | B12: Trần Thị Minh Thoa | C12: 01003005 | D12: x | E12: x | F12: x | G12: x | H12: x | N12: =SUM(COUNTIF(D12:M12,"x"),COUNTIF(D12:M12,"A")) -> 5 | O12: =SUM(COUNTIF(D12:M12,"x"),COUNTIF(D12:M12,"B")) -> 5 | P12: x | Q12: x | R12: x | S12: x | T12: x | U12: x | Z12: =SUM(COUNTIF(P12:Y12,"x"),COUNTIF(P12:Y12,"A")) -> 6 | AA12: =SUM(COUNTIF(P12:Y12,"x"),COUNTIF(P12:Y12,"B")) -> 6
A13: 04 | B13: Võ Thị Lệ Trân | C13: 01023004 | D13: x | E13: x | F13: x | H13: x | N13: =SUM(COUNTIF(D13:M13,"x"),COUNTIF(D13:M13,"A")) -> 4 | O13: =SUM(COUNTIF(D13:M13,"x"),COUNTIF(D13:M13,"B")) -> 4 | Q13: x | S13: x | T13: x | U13: x | Z13: =SUM(COUNTIF(P13:Y13,"x"),COUNTIF(P13:Y13,"A")) -> 4 | AA13: =SUM(COUNTIF(P13:Y13,"x"),COUNTIF(P13:Y13,"B")) -> 4
A14: 05 | B14: Nguyễn Thị Hồng Thắm | C14: 01003007 | D14: x | E14: x | G14: x | H14: x | N14: =SUM(COUNTIF(D14:M14,"x"),COUNTIF(D14:M14,"A")) -> 4 | O14: =SUM(COUNTIF(D14:M14,"x"),COUNTIF(D14:M14,"B")) -> 4 | P14: x | Q14: x | R14: x | T14: x | Z14: =SUM(COUNTIF(P14:Y14,"x"),COUNTIF(P14:Y14,"A")) -> 4 | AA14: =SUM(COUNTIF(P14:Y14,"x"),COUNTIF(P14:Y14,"B")) -> 4
A15: II. Hợp đồng trường | N15: =SUM(COUNTIF(D15:M15,"x"),COUNTIF(D15:M15,"A")) -> 0 | O15: =SUM(COUNTIF(D15:M15,"x"),COUNTIF(D15:M15,"B")) -> 0 | Z15: =SUM(COUNTIF(P15:Y15,"x"),COUNTIF(P15:Y15,"A")) -> 0 | AA15: =SUM(COUNTIF(P15:Y15,"x"),COUNTIF(P15:Y15,"B")) -> 0
A16: 06 | B16: Trần Thị Thảo Vân | C16: 01003008 | E16: x | F16: x | G16: x | N16: =SUM(COUNTIF(D16:M16,"x"),COUNTIF(D16:M16,"A")) -> 3 | O16: =SUM(COUNTIF(D16:M16,"x"),COUNTIF(D16:M16,"B")) -> 3 | P16: x | T16: x | U16: x | Z16: =SUM(COUNTIF(P16:Y16,"x"),COUNTIF(P16:Y16,"A")) -> 3 | AA16: =SUM(COUNTIF(P16:Y16,"x"),COUNTIF(P16:Y16,"B")) -> 3
A17: 07 | B17: Nguyễn Thụy Nghiêm | C17: 01003014 | D17: x | E17: x | F17: x | H17: x | N17: =SUM(COUNTIF(D17:M17,"x"),COUNTIF(D17:M17,"A")) -> 4 | O17: =SUM(COUNTIF(D17:M17,"x"),COUNTIF(D17:M17,"B")) -> 4 | P17: x | S17: x | T17: x | Z17: =SUM(COUNTIF(P17:Y17,"x"),COUNTIF(P17:Y17,"A")) -> 3 | AA17: =SUM(COUNTIF(P17:Y17,"x"),COUNTIF(P17:Y17,"B")) -> 3
A18: 08 | B18: Huỳnh Như Ý | C18: 01003015 | D18: x | E18: x | F18: x | H18: x | N18: =SUM(COUNTIF(D18:M18,"x"),COUNTIF(D18:M18,"A")) -> 4 | O18: =SUM(COUNTIF(D18:M18,"x"),COUNTIF(D18:M18,"B")) -> 4 | Q18: x | S18: x | T18: x | Z18: =SUM(COUNTIF(P18:Y18,"x"),COUNTIF(P18:Y18,"A")) -> 3 | AA18: =SUM(COUNTIF(P18:Y18,"x"),COUNTIF(P18:Y18,"B")) -> 3
A19: 09 | B19: Nguyễn Chiến Thắng | C19: 01003016 | E19: x | F19: x | G19: x | N19: =SUM(COUNTIF(D19:M19,"x"),COUNTIF(D19:M19,"A")) -> 3 | O19: =SUM(COUNTIF(D19:M19,"x"),COUNTIF(D19:M19,"B")) -> 3 | Q19: x | R19: x | T19: x | Z19: =SUM(COUNTIF(P19:Y19,"x"),COUNTIF(P19:Y19,"A")) -> 3 | AA19: =SUM(COUNTIF(P19:Y19,"x"),COUNTIF(P19:Y19,"B")) -> 3
D20: =COUNTIF(D10:D19,"x") -> 7 | E20: =COUNTIF(E10:E19,"x") -> 9 | F20: =COUNTIF(F10:F19,"x") -> 7 | G20: =COUNTIF(G10:G19,"x") -> 6 | H20: =COUNTIF(H10:H19,"x") -> 7 | I20: =COUNTIF(I10:I19,"x") -> 0 | J20: =COUNTIF(J10:J19,"x") -> 0 | K20: =COUNTIF(K10:K19,"x") -> 0 | ... M20: =COUNTIF(M10:M19,"x") -> 0 | P20: =COUNTIF(P10:P19,"x") -> 6 | Q20: =COUNTIF(Q10:Q19,"x") -> 6 | R20: =COUNTIF(R10:R19,"x") -> 5 | S20: =COUNTIF(S10:S19,"x") -> 6 | T20: =COUNTIF(T10:T19,"x") -> 9 | U20: =COUNTIF(U10:U19,"x") -> 4 | V20: =COUNTIF(V10:V19,"x") -> 0 | W20: =COUNTIF(W10:W19,"x") -> 0 | ... Y20: =COUNTIF(Y10:Y19,"x") -> 0
A21: Lưu ý: Các đơn vị gửi file mềm qua hệ thống điện tử E-office nhà trường và văn bản giấy về phòng TC-HC-TH (Cô Trần Thị Ánh Phượng).
P22: TP. HCM, ngày 2 tháng 11 năm 2023
B23: Không duyệt nhiệm vụ | C23: Ký tự a | P23: TRƯỞNG ĐƠN VỊ
B24: Bổ sung nhiệm vụ | C24: Ký tự b
P27: Nguyễn Kính

Sheet P.TS-ĐT
A1: TRƯỜNG CAO ĐẲNG LÝ TỰ TRỌNG | Z1: CỘNG HÒA XÃ HỘI CHỦ NGHĨA VIỆT NAM
A2: THÀNH PHỐ HỒ CHÍ MINH | Z2: Độc lập - Tự do - Hạnh phúc
A3: PHÒNG TUYỂN SINH - ĐÀO TẠO
AN4: Mẫu 3
A5: ='P.KH-TC'!A5:AB5 -> THỐNG KÊ CHI TIẾT KHỐI LƯỢNG CÔNG VIỆC THỰC HIỆN THÁNG 10/2023
A7: TT | B7: Tên nội dung công việc | D7: Công việc chung của trường | Z7: Công việc riêng của đơn vị | AN7: Ghi chú
B8: Họ và tên | C8: Mã E-ofice | D8: Nhiệm vụ 1 | E8: Nhiệm vụ 2 | F8: Nhiệm vụ 3 | G8: Nhiệm vụ 4 | H8: Nhiệm vụ 5 | I8: Nhiệm vụ 6 | J8: Nhiệm vụ 7 | K8: Nhiệm vụ 8 | L8: Nhiệm vụ 9 | M8: Nhiệm vụ 10 | N8: Nhiệm vụ 11 | O8: Nhiệm vụ 12 | P8: Nhiệm vụ 13 | Q8: Nhiệm vụ 14 | R8: Nhiệm vụ 15 | S8: Nhiệm vụ 16 | T8: Nhiệm vụ 17 | U8: Nhiệm vụ 18 | V8: Nhiệm vụ 19 | W8: Nhiệm vụ 20 | X8: Tổng | Y8: TT HĐ xét | Z8: Nhiệm vụ 1 | AA8: Nhiệm vụ 2 | AB8: Nhiệm vụ 3 | AC8: Nhiệm vụ 4 | AD8: Nhiệm vụ 5 | AE8: Nhiệm vụ 6 | AF8: Nhiệm vụ 7 | AG8: Nhiệm vụ 8 | AH8: Nhiệm vụ 9 | AI8: Nhiệm vụ 10 | AJ8: Nhiệm vụ 11 | AK8: Nhiệm vụ 12 | AL8: Tổng | AM8: TT HĐ xét
A9: I. Viên chức | C9: -1 | D9: -2 | E9: -3 | F9: -4 | G9: -5 | H9: -6 | I9: -7 | J9: -8 | K9: -9 | L9: -10 | M9: -11 | N9: -12 | O9: -13 | P9: -14 | Q9: -15 | R9: -16 | S9: -17 | T9: -18 | U9: -19 | V9: -20 | W9: -21 | X9: -22 | Y9: -23 | Z9: -24 | AA9: -25 | AB9: -26 | AC9: -27 | AD9: -28 | AE9: -29 | AF9: -30 | AG9: -31 | AH9: -32 | AI9: -33 | AJ9: -34 | AK9: -35 | AL9: -36 | AM9: -37
A10: 01 | B10: Nguyễn Thành Nam | C10: 01005007 | D10: X | F10: X | G10: X | H10: X | I10: X | K10: X | L10: X | M10: X | X10: =SUM(COUNTIF(D10:W10,"x"),COUNTIF(D10:W10,"A")) -> 8 | Y10: =SUM(COUNTIF(D10:W10,"x"),COUNTIF(D10:W10,"B")) -> 8 | Z10: X | AL10: =SUM(COUNTIF(Z10:AK10,"x"),COUNTIF(Z10:AK10,"A")) -> 1 | AM10: =SUM(COUNTIF(Z10:AK10,"x"),COUNTIF(Z10:AK10,"B")) -> 1
A11: 02 | B11: Quách Minh Thử | C11: 01014007 | D11: X | F11: X | G11: X | I11: X | K11: X | L11: X | M11: X | X11: =SUM(COUNTIF(D11:W11,"x"),COUNTIF(D11:W11,"A")) -> 7 | Y11: =SUM(COUNTIF(D11:W11,"x"),COUNTIF(D11:W11,"B")) -> 7 | Z11: X | AA11: X | AL11: =SUM(COUNTIF(Z11:AK11,"x"),COUNTIF(Z11:AK11,"A")) -> 2 | AM11: =SUM(COUNTIF(Z11:AK11,"x"),COUNTIF(Z11:AK11,"B")) -> 2
A12: 03 | B12: Nguyễn Thị Thùy | C12: 01022013 | D12: X | F12: X | G12: X | H12: X | I12: X | K12: X | L12: X | M12: X | X12: =SUM(COUNTIF(D12:W12,"x"),COUNTIF(D12:W12,"A")) -> 8 | Y12: =SUM(COUNTIF(D12:W12,"x"),COUNTIF(D12:W12,"B")) -> 8 | Z12: X | AA12: X | AB12: X | AL12: =SUM(COUNTIF(Z12:AK12,"x"),COUNTIF(Z12:AK12,"A")) -> 3 | AM12: =SUM(COUNTIF(Z12:AK12,"x"),COUNTIF(Z12:AK12,"B")) -> 3
A13: 04 | B13: Võ Thị Xuân Thơ | C13: 01004003 | D13: X | F13: X | G13: X | K13: X | L13: X | M13: X | X13: =SUM(COUNTIF(D13:W13,"x"),COUNTIF(D13:W13,"A")) -> 6 | Y13: =SUM(COUNTIF(D13:W13,"x"),COUNTIF(D13:W13,"B")) -> 6 | Z13: X | AF13: X | AL13: =SUM(COUNTIF(Z13:AK13,"x"),COUNTIF(Z13:AK13,"A")) -> 2 | AM13: =SUM(COUNTIF(Z13:AK13,"x"),COUNTIF(Z13:AK13,"B")) -> 2
A14: 05 | B14: Nguyễn Thị Thanh Thảo | C14: 01004008 | D14: X | F14: X | G14: X | K14: X | L14: X | M14: X | X14: =SUM(COUNTIF(D14:W14,"x"),COUNTIF(D14:W14,"A")) -> 6 | Y14: =SUM(COUNTIF(D14:W14,"x"),COUNTIF(D14:W14,"B")) -> 6 | Z14: X | AL14: =SUM(COUNTIF(Z14:AK14,"x"),COUNTIF(Z14:AK14,"A")) -> 1 | AM14: =SUM(COUNTIF(Z14:AK14,"x"),COUNTIF(Z14:AK14,"B")) -> 1
A15: 06 | B15: Huỳnh Thị Cẩm Hoa | C15: 01005009 | D15: X | G15: X | L15: X | Q15: X | X15: =SUM(COUNTIF(D15:W15,"x"),COUNTIF(D15:W15,"A")) -> 4 | Y15: =SUM(COUNTIF(D15:W15,"x"),COUNTIF(D15:W15,"B")) -> 4 | AF15: X | AL15: =SUM(COUNTIF(Z15:AK15,"x"),COUNTIF(Z15:AK15,"A")) -> 1 | AM15: =SUM(COUNTIF(Z15:AK15,"x"),COUNTIF(Z15:AK15,"B")) -> 1
A16: 07 | B16: Giáp Thị Vượng | C16: 01004009 | D16: X | G16: X | K16: X | X16: =SUM(COUNTIF(D16:W16,"x"),COUNTIF(D16:W16,"A")) -> 3 | Y16: =SUM(COUNTIF(D16:W16,"x"),COUNTIF(D16:W16,"B")) -> 3 | Z16: X | AA16: X | AL16: =SUM(COUNTIF(Z16:AK16,"x"),COUNTIF(Z16:AK16,"A")) -> 2 | AM16: =SUM(COUNTIF(Z16:AK16,"x"),COUNTIF(Z16:AK16,"B")) -> 2
A17: 08 | B17: Thái Thị My Sa | C17: 01002020 | D17: X | E17: X | G17: X | K17: X | L17: X | M17: X | X17: =SUM(COUNTIF(D17:W17,"x"),COUNTIF(D17:W17,"A")) -> 6 | Y17: =SUM(COUNTIF(D17:W17,"x"),COUNTIF(D17:W17,"B")) -> 6 | Z17: X | AF17: X | AL17: =SUM(COUNTIF(Z17:AK17,"x"),COUNTIF(Z17:AK17,"A")) -> 2 | AM17: =SUM(COUNTIF(Z17:AK17,"x"),COUNTIF(Z17:AK17,"B")) -> 2
A18: 09 | B18: Mai Nguyễn Hoàng Yến | C18: 01010038 | D18: X | G18: X | L18: X | Q18: X | X18: =SUM(COUNTIF(D18:W18,"x"),COUNTIF(D18:W18,"A")) -> 4 | Y18: =SUM(COUNTIF(D18:W18,"x"),COUNTIF(D18:W18,"B")) -> 4 | AA18: X | AL18: =SUM(COUNTIF(Z18:AK18,"x"),COUNTIF(Z18:AK18,"A")) -> 1 | AM18: =SUM(COUNTIF(Z18:AK18,"x"),COUNTIF(Z18:AK18,"B")) -> 1
A19: 10 | B19: Nguyễn Thị Hải Hà | C19: 01012026 | D19: X | G19: X | J19: X | K19: X | L19: X | X19: =SUM(COUNTIF(D19:W19,"x"),COUNTIF(D19:W19,"A")) -> 5 | Y19: =SUM(COUNTIF(D19:W19,"x"),COUNTIF(D19:W19,"B")) -> 5 | AL19: =SUM(COUNTIF(Z19:AK19,"x"),COUNTIF(Z19:AK19,"A")) -> 0 | AM19: =SUM(COUNTIF(Z19:AK19,"x"),COUNTIF(Z19:AK19,"B")) -> 0
A20: 11 | B20: Nguyễn Thị Ngọc Anh | C20: 01022058 | G20: X | K20: X | L20: X | X20: =SUM(COUNTIF(D20:W20,"x"),COUNTIF(D20:W20,"A")) -> 3 | Y20: =SUM(COUNTIF(D20:W20,"x"),COUNTIF(D20:W20,"B")) -> 3 | AF20: X | AL20: =SUM(COUNTIF(Z20:AK20,"x"),COUNTIF(Z20:AK20,"A")) -> 1 | AM20: =SUM(COUNTIF(Z20:AK20,"x"),COUNTIF(Z20:AK20,"B")) -> 1
A21: II. Hợp đồng trường | X21: =SUM(COUNTIF(D21:W21,"x"),COUNTIF(D21:W21,"A")) -> 0 | Y21: =SUM(COUNTIF(D21:W21,"x"),COUNTIF(D21:W21,"B")) -> 0 | AL21: =SUM(COUNTIF(Z21:AK21,"x"),COUNTIF(Z21:AK21,"A")) -> 0 | AM21: =SUM(COUNTIF(Z21:AK21,"x"),COUNTIF(Z21:AK21,"B")) -> 0
A22: 05 | B22: Trần Nhật Thịnh | C22: 01004020 | L22: X | X22: =SUM(COUNTIF(D22:W22,"x"),COUNTIF(D22:W22,"A")) -> 1 | Y22: =SUM(COUNTIF(D22:W22,"x"),COUNTIF(D22:W22,"B")) -> 1 | AF22: X | AL22: =SUM(COUNTIF(Z22:AK22,"x"),COUNTIF(Z22:AK22,"A")) -> 1 | AM22: =SUM(COUNTIF(Z22:AK22,"x"),COUNTIF(Z22:AK22,"B")) -> 1
A23: 01 | B23: Sỹ Thị Chung | C23: 01011017 | D23: X | G23: X | K23: X | M23: X | X23: =SUM(COUNTIF(D23:W23,"x"),COUNTIF(D23:W23,"A")) -> 4 | Y23: =SUM(COUNTIF(D23:W23,"x"),COUNTIF(D23:W23,"B")) -> 4 | AL23: =SUM(COUNTIF(Z23:AK23,"x"),COUNTIF(Z23:AK23,"A")) -> 0 | AM23: =SUM(COUNTIF(Z23:AK23,"x"),COUNTIF(Z23:AK23,"B")) -> 0
A24: 02 | B24: Nguyễn Thị Tất | C24: 01022059 | D24: X | E24: X | G24: X | J24: X | K24: X | M24: X | X24: =SUM(COUNTIF(D24:W24,"x"),COUNTIF(D24:W24,"A")) -> 6 | Y24: =SUM(COUNTIF(D24:W24,"x"),COUNTIF(D24:W24,"B")) -> 6 | AA24: X | AB24: X | AE24: X | AL24: =SUM(COUNTIF(Z24:AK24,"x"),COUNTIF(Z24:AK24,"A")) -> 3 | AM24: =SUM(COUNTIF(Z24:AK24,"x"),COUNTIF(Z24:AK24,"B")) -> 3
A25: 03 | B25: Nguyễn Thị Nhung | C25: 01018006 | D25: X | E25: X | G25: X | K25: X | L25: X | X25: =SUM(COUNTIF(D25:W25,"x"),COUNTIF(D25:W25,"A")) -> 5 | Y25: =SUM(COUNTIF(D25:W25,"x"),COUNTIF(D25:W25,"B")) -> 5 | AA25: X | AC25: X | AD25: X | AF25: X | AL25: =SUM(COUNTIF(Z25:AK25,"x"),COUNTIF(Z25:AK25,"A")) -> 4 | AM25: =SUM(COUNTIF(Z25:AK25,"x"),COUNTIF(Z25:AK25,"B")) -> 4
A26: 04 | B26: Nguyễn Việt Tiến | C26: 01004013 | D26: X | K26: X | L26: X | M26: X | N26: X | O26: X | P26: X | X26: =SUM(COUNTIF(D26:W26,"x"),COUNTIF(D26:W26,"A")) -> 7 | Y26: =SUM(COUNTIF(D26:W26,"x"),COUNTIF(D26:W26,"B")) -> 7 | AF26: X | AL26: =SUM(COUNTIF(Z26:AK26,"x"),COUNTIF(Z26:AK26,"A")) -> 1 | AM26: =SUM(COUNTIF(Z26:AK26,"x"),COUNTIF(Z26:AK26,"B")) -> 1
D27: =COUNTIF(D10:D26,"x") -> 14 | E27: =COUNTIF(E10:E26,"x") -> 3 | F27: =COUNTIF(F10:F26,"x") -> 5 | G27: =COUNTIF(G10:G26,"x") -> 14 | H27: =COUNTIF(H10:H26,"x") -> 2 | I27: =COUNTIF(I10:I26,"x") -> 3 | J27: =COUNTIF(J10:J26,"x") -> 2 | K27: =COUNTIF(K10:K26,"x") -> 13 | ... W27: =COUNTIF(W10:W26,"x") -> 0 | Z27: =COUNTIF(Z10:Z26,"x") -> 7 | AA27: =COUNTIF(AA10:AA26,"x") -> 6 | AB27: =COUNTIF(AB10:AB26,"x") -> 2 | AC27: =COUNTIF(AC10:AC26,"x") -> 1 | AD27: =COUNTIF(AD10:AD26,"x") -> 1 | AE27: =COUNTIF(AE10:AE26,"x") -> 1 | AF27: =COUNTIF(AF10:AF26,"x") -> 7 | AG27: =COUNTIF(AG10:AG26,"x") -> 0 | ... AK27: =COUNTIF(AK10:AK26,"x") -> 0
A28: Lưu ý: Các đơn vị gửi file mềm qua hệ thống điện tử E-office nhà trường và văn bản giấy về phòng TC-HC-TH (Cô Trần Thị Ánh Phượng).
AB29: ='P.KH-TC'!P22 -> TP. HCM, ngày 2 tháng 11 năm 2023
AB30: TRƯỞNG ĐƠN VỊ
B31: Không duyệt nhiệm vụ | C31: Ký tự a
B32: Bổ sung nhiệm vụ | C32: Ký tự b
AB36: Hồ Văn Sĩ

Sheet TCHC
A1: TRƯỜNG CAO ĐẲNG LÝ TỰ TRỌNG | R1: CỘNG HÒA XÃ HỘI CHỦ NGHĨA VIỆT NAM
A2: THÀNH PHỐ HỒ CHÍ MINH | R2: Độc lập - Tự do - Hạnh phúc
A3: PHÒNG TC-HC-TH
AF4: Mẫu 3
A5: ='P.KH-TC'!A5:AB5 -> THỐNG KÊ CHI TIẾT KHỐI LƯỢNG CÔNG VIỆC THỰC HIỆN THÁNG 10/2023
A7: TT | B7: Tên nội dung công việc | D7: Công việc chung của trường | R7: Công việc riêng của đơn vị | AF7: Ghi chú
B8: Họ và tên | C8: Mã E-ofice | D8: Nhiệm vụ 1 | E8: Nhiệm vụ 2 | F8: Nhiệm vụ 3 | G8: Nhiệm vụ 4 | H8: Nhiệm vụ 5 | I8: Nhiệm vụ 6 | J8: Nhiệm vụ 7 | K8: Nhiệm vụ 8 | L8: Nhiệm vụ 9 | M8: Nhiệm vụ 10 | N8: Nhiệm vụ 11 | O8: Nhiệm vụ 12 | P8: Tổng | Q8: TT HĐ xét | R8: Nhiệm vụ 1 | S8: Nhiệm vụ 2 | T8: Nhiệm vụ 3 | U8: Nhiệm vụ 4 | V8: Nhiệm vụ 5 | W8: Nhiệm vụ 6 | X8: Nhiệm vụ 7 | Y8: Nhiệm vụ 8 | Z8: Nhiệm vụ 9 | AA8: Nhiệm vụ 10 | AB8: Nhiệm vụ 11 | AC8: Nhiệm vụ 12 | AD8: Tổng | AE8: TT HĐ xét
A9: I. Viên chức | C9: -1 | D9: -2 | E9: -3 | F9: -4 | G9: -5 | H9: -6 | I9: -7 | J9: -8 | K9: -9 | L9: -10 | M9: -11 | N9: -12 | O9: -13 | P9: -14 | Q9: -15 | R9: -16 | S9: -17 | T9: -18 | U9: -19 | V9: -20 | W9: -21 | X9: -22 | Y9: -23 | Z9: -24 | AA9: -25 | AB9: -26 | AC9: -27 | AD9: -28 | AE9: -29
A10: 1 | B10: Lâm Viết Dũng | C10: 01007009 | D10: x | E10: x | F10: 0 | G10: 0 | H10: x | I10: 0 | J10: 0 | P10: =SUM(COUNTIF(D10:O10,"x"),COUNTIF(D10:O10,"A")) -> 3 | Q10: =SUM(COUNTIF(D10:O10,"x"),COUNTIF(D10:O10,"b")) -> 3 | R10: x | S10: x | T10: 0 | U10: 0 | AD10: =SUM(COUNTIF(R10:AC10,"x"),COUNTIF(R10:AC10,"A")) -> 2 | AE10: =SUM(COUNTIF(R10:AC10,"x"),COUNTIF(R10:AC10,"b")) -> 2
A11: =A10+1 -> 2 | B11: Lưu Hoàng Hải Yến | C11: 01002019 | D11: x | E11: x | F11: 0 | G11: x | H11: 0 | I11: 0 | J11: 0 | P11: =SUM(COUNTIF(D11:O11,"x"),COUNTIF(D11:O11,"A")) -> 3 | Q11: =SUM(COUNTIF(D11:O11,"x"),COUNTIF(D11:O11,"b")) -> 3 | R11: x | S11: x | T11: 0 | U11: 0 | AD11: =SUM(COUNTIF(R11:AC11,"x"),COUNTIF(R11:AC11,"A")) -> 2 | AE11: =SUM(COUNTIF(R11:AC11,"x"),COUNTIF(R11:AC11,"b")) -> 2
A12: =A11+1 -> 3 | B12: Huỳnh Thị Minh Ly | C12: 01004007 | D12: x | E12: 0 | F12: 0 | G12: x | H12: 0 | I12: x | J12: 0 | P12: =SUM(COUNTIF(D12:O12,"x"),COUNTIF(D12:O12,"A")) -> 3 | Q12: =SUM(COUNTIF(D12:O12,"x"),COUNTIF(D12:O12,"b")) -> 3 | R12: x | S12: x | T12: 0 | U12: 0 | AD12: =SUM(COUNTIF(R12:AC12,"x"),COUNTIF(R12:AC12,"A")) -> 2 | AE12: =SUM(COUNTIF(R12:AC12,"x"),COUNTIF(R12:AC12,"b")) -> 2
A13: =A12+1 -> 4 | B13: Vũ Như Quỳnh | C13: 01002017 | D13: x | E13: x | F13: 0 | G13: x | H13: 0 | I13: 0 | J13: 0 | P13: =SUM(COUNTIF(D13:O13,"x"),COUNTIF(D13:O13,"A")) -> 3 | Q13: =SUM(COUNTIF(D13:O13,"x"),COUNTIF(D13:O13,"b")) -> 3 | R13: 0 | S13: x | T13: 0 | U13: 0 | AD13: =SUM(COUNTIF(R13:AC13,"x"),COUNTIF(R13:AC13,"A")) -> 1 | AE13: =SUM(COUNTIF(R13:AC13,"x"),COUNTIF(R13:AC13,"b")) -> 1
A14: =A13+1 -> 5 | B14: Phan Thị Ngọc Phượng | C14: 01002018 | D14: x | E14: x | F14: 0 | G14: x | H14: 0 | I14: 0 | J14: 0 | P14: =SUM(COUNTIF(D14:O14,"x"),COUNTIF(D14:O14,"A")) -> 3 | Q14: =SUM(COUNTIF(D14:O14,"x"),COUNTIF(D14:O14,"b")) -> 3 | R14: 0 | S14: x | T14: 0 | U14: 0 | AD14: =SUM(COUNTIF(R14:AC14,"x"),COUNTIF(R14:AC14,"A")) -> 1 | AE14: =SUM(COUNTIF(R14:AC14,"x"),COUNTIF(R14:AC14,"b")) -> 1
A15: =A14+1 -> 6 | B15: Nguyễn Thị Bích Liễu | C15: 01002005 | D15: x | E15: x | F15: 0 | G15: x | H15: 0 | I15: 0 | J15: 0 | P15: =SUM(COUNTIF(D15:O15,"x"),COUNTIF(D15:O15,"A")) -> 3 | Q15: =SUM(COUNTIF(D15:O15,"x"),COUNTIF(D15:O15,"b")) -> 3 | R15: 0 | S15: x | T15: 0 | U15: 0 | AD15: =SUM(COUNTIF(R15:AC15,"x"),COUNTIF(R15:AC15,"A")) -> 1 | AE15: =SUM(COUNTIF(R15:AC15,"x"),COUNTIF(R15:AC15,"b")) -> 1
A16: =A15+1 -> 7 | B16: Nguyễn Văn Chì | C16: 01023001 | D16: 0 | E16: x | F16: 0 | G16: x | H16: 0 | I16: 0 | J16: 0 | P16: =SUM(COUNTIF(D16:O16,"x"),COUNTIF(D16:O16,"A")) -> 2 | Q16: =SUM(COUNTIF(D16:O16,"x"),COUNTIF(D16:O16,"b")) -> 2 | R16: 0 | S16: x | T16: 0 | U16: 0 | AD16: =SUM(COUNTIF(R16:AC16,"x"),COUNTIF(R16:AC16,"A")) -> 1 | AE16: =SUM(COUNTIF(R16:AC16,"x"),COUNTIF(R16:AC16,"b")) -> 1
A17: =A16+1 -> 8 | B17: Trần Thị Ánh Phượng | C17: 01017006 | D17: x | E17: x | F17: 0 | G17: x | H17: 0 | I17: 0 | J17: 0 | P17: =SUM(COUNTIF(D17:O17,"x"),COUNTIF(D17:O17,"A")) -> 3 | Q17: =SUM(COUNTIF(D17:O17,"x"),COUNTIF(D17:O17,"b")) -> 3 | R17: 0 | S17: x | T17: 0 | U17: 0 | AD17: =SUM(COUNTIF(R17:AC17,"x"),COUNTIF(R17:AC17,"A")) -> 1 | AE17: =SUM(COUNTIF(R17:AC17,"x"),COUNTIF(R17:AC17,"b")) -> 1
A18: =A17+1 -> 9 | B18: Nguyễn Thị Vân | C18: 01002032 | D18: x | E18: x | F18: 0 | G18: x | H18: 0 | I18: 0 | J18: 0 | P18: =SUM(COUNTIF(D18:O18,"x"),COUNTIF(D18:O18,"A")) -> 3 | Q18: =SUM(COUNTIF(D18:O18,"x"),COUNTIF(D18:O18,"b")) -> 3 | R18: 0 | S18: x | T18: 0 | U18: 0 | AD18: =SUM(COUNTIF(R18:AC18,"x"),COUNTIF(R18:AC18,"A")) -> 1 | AE18: =SUM(COUNTIF(R18:AC18,"x"),COUNTIF(R18:AC18,"b")) -> 1
A19: =A18+1 -> 10 | B19: Trần Thị Phương Oanh | C19: 01007007 | D19: 0 | E19: x | F19: 0 | G19: x | H19: 0 | I19: 0 | J19: 0 | P19: =SUM(COUNTIF(D19:O19,"x"),COUNTIF(D19:O19,"A")) -> 2 | Q19: =SUM(COUNTIF(D19:O19,"x"),COUNTIF(D19:O19,"b")) -> 2 | R19: 0 | S19: x | T19: 0 | U19: 0 | AD19: =SUM(COUNTIF(R19:AC19,"x"),COUNTIF(R19:AC19,"A")) -> 1 | AE19: =SUM(COUNTIF(R19:AC19,"x"),COUNTIF(R19:AC19,"b")) -> 1
A20: =A19+1 -> 11 | B20: Thân Thị Nhung | C20: 01007005 | D20: x | E20: x | F20: 0 | G20: x | H20: 0 | I20: 0 | J20: 0 | P20: =SUM(COUNTIF(D20:O20,"x"),COUNTIF(D20:O20,"A")) -> 3 | Q20: =SUM(COUNTIF(D20:O20,"x"),COUNTIF(D20:O20,"b")) -> 3 | R20: 0 | S20: x | T20: 0 | U20: 0 | AD20: =SUM(COUNTIF(R20:AC20,"x"),COUNTIF(R20:AC20,"A")) -> 1 | AE20: =SUM(COUNTIF(R20:AC20,"x"),COUNTIF(R20:AC20,"b")) -> 1
A21: =A20+1 -> 12 | B21: Lê Thị Hải Đăng | C21: 01002039 | D21: 0 | E21: 0 | F21: x | G21: x | H21: 0 | I21: 0 | J21: 0 | P21: =SUM(COUNTIF(D21:O21,"x"),COUNTIF(D21:O21,"A")) -> 2 | Q21: =SUM(COUNTIF(D21:O21,"x"),COUNTIF(D21:O21,"b")) -> 2 | R21: 0 | S21: x | T21: 0 | U21: 0 | AD21: =SUM(COUNTIF(R21:AC21,"x"),COUNTIF(R21:AC21,"A")) -> 1 | AE21: =SUM(COUNTIF(R21:AC21,"x"),COUNTIF(R21:AC21,"b")) -> 1
A22: II. Hợp đồng trường | P22: =SUM(COUNTIF(D22:O22,"x"),COUNTIF(D22:O22,"A")) -> 0 | Q22: =SUM(COUNTIF(D22:O22,"x"),COUNTIF(D22:O22,"b")) -> 0 | AD22: =SUM(COUNTIF(R22:AC22,"x"),COUNTIF(R22:AC22,"A")) -> 0 | AE22: =SUM(COUNTIF(R22:AC22,"x"),COUNTIF(R22:AC22,"b")) -> 0
A23: =A21+1 -> 13 | B23: Huỳnh Thị Xuân Mai | C23: 01007006 | D23: 0 | E23: x | F23: 0 | G23: x | H23: 0 | I23: 0 | J23: 0 | P23: =SUM(COUNTIF(D23:O23,"x"),COUNTIF(D23:O23,"A")) -> 2 | Q23: =SUM(COUNTIF(D23:O23,"x"),COUNTIF(D23:O23,"b")) -> 2 | R23: 0 | S23: x | T23: 0 | U23: 0 | AD23: =SUM(COUNTIF(R23:AC23,"x"),COUNTIF(R23:AC23,"A")) -> 1 | AE23: =SUM(COUNTIF(R23:AC23,"x"),COUNTIF(R23:AC23,"b")) -> 1
A24: =A23+1 -> 14 | B24: Phạm Hữu Tấn | C24: 01002023 | D24: 0 | E24: 0 | F24: 0 | G24: 0 | H24: 0 | I24: 0 | J24: 0 | P24: =SUM(COUNTIF(D24:O24,"x"),COUNTIF(D24:O24,"A")) -> 0 | Q24: =SUM(COUNTIF(D24:O24,"x"),COUNTIF(D24:O24,"b")) -> 0 | R24: x | S24: 0 | T24: 0 | U24: x | AD24: =SUM(COUNTIF(R24:AC24,"x"),COUNTIF(R24:AC24,"A")) -> 2 | AE24: =SUM(COUNTIF(R24:AC24,"x"),COUNTIF(R24:AC24,"b")) -> 2
A25: =A24+1 -> 15 | B25: Trần Văn Cu Anh | C25: 01002007 | D25: 0 | E25: 0 | F25: 0 | G25: 0 | H25: 0 | I25: 0 | J25: 0 | P25: =SUM(COUNTIF(D25:O25,"x"),COUNTIF(D25:O25,"A")) -> 0 | Q25: =SUM(COUNTIF(D25:O25,"x"),COUNTIF(D25:O25,"b")) -> 0 | R25: x | S25: 0 | T25: 0 | U25: x | AD25: =SUM(COUNTIF(R25:AC25,"x"),COUNTIF(R25:AC25,"A")) -> 2 | AE25: =SUM(COUNTIF(R25:AC25,"x"),COUNTIF(R25:AC25,"b")) -> 2
A26: =A25+1 -> 16 | B26: Nguyễn Hữu Xuân Vũ | C26: 01002010 | D26: 0 | E26: 0 | F26: 0 | G26: 0 | H26: 0 | I26: 0 | J26: 0 | P26: =SUM(COUNTIF(D26:O26,"x"),COUNTIF(D26:O26,"A")) -> 0 | Q26: =SUM(COUNTIF(D26:O26,"x"),COUNTIF(D26:O26,"b")) -> 0 | R26: x | S26: 0 | T26: x | U26: x | AD26: =SUM(COUNTIF(R26:AC26,"x"),COUNTIF(R26:AC26,"A")) -> 3 | AE26: =SUM(COUNTIF(R26:AC26,"x"),COUNTIF(R26:AC26,"b")) -> 3
A27: =A26+1 -> 17 | B27: Lê Hồng Phúc | C27: 01002012 | D27: 0 | E27: 0 | F27: 0 | G27: 0 | H27: 0 | I27: 0 | J27: 0 | P27: =SUM(COUNTIF(D27:O27,"x"),COUNTIF(D27:O27,"A")) -> 0 | Q27: =SUM(COUNTIF(D27:O27,"x"),COUNTIF(D27:O27,"b")) -> 0 | R27: x | S27: 0 | T27: 0 | U27: x | AD27: =SUM(COUNTIF(R27:AC27,"x"),COUNTIF(R27:AC27,"A")) -> 2 | AE27: =SUM(COUNTIF(R27:AC27,"x"),COUNTIF(R27:AC27,"b")) -> 2
A28: =A27+1 -> 18 | B28: Phạm Hữu Thành Phú | C28: 01002028 | D28: 0 | E28: 0 | F28: 0 | G28: 0 | H28: 0 | I28: 0 | J28: 0 | P28: =SUM(COUNTIF(D28:O28,"x"),COUNTIF(D28:O28,"A")) -> 0 | Q28: =SUM(COUNTIF(D28:O28,"x"),COUNTIF(D28:O28,"b")) -> 0 | R28: x | S28: 0 | T28: 0 | U28: x | AD28: =SUM(COUNTIF(R28:AC28,"x"),COUNTIF(R28:AC28,"A")) -> 2 | AE28: =SUM(COUNTIF(R28:AC28,"x"),COUNTIF(R28:AC28,"b")) -> 2
A29: =A28+1 -> 19 | B29: Huỳnh Thanh Nhàn | C29: 01002027 | D29: 0 | E29: 0 | F29: 0 | G29: 0 | H29: 0 | I29: 0 | J29: x | P29: =SUM(COUNTIF(D29:O29,"x"),COUNTIF(D29:O29,"A")) -> 1 | Q29: =SUM(COUNTIF(D29:O29,"x"),COUNTIF(D29:O29,"b")) -> 1 | R29: x | S29: 0 | T29: x | U29: x | AD29: =SUM(COUNTIF(R29:AC29,"x"),COUNTIF(R29:AC29,"A")) -> 3 | AE29: =SUM(COUNTIF(R29:AC29,"x"),COUNTIF(R29:AC29,"b")) -> 3
A30: =A29+1 -> 20 | B30: Đồng Anh Tuấn | C30: 01002013 | D30: 0 | E30: 0 | F30: 0 | G30: 0 | H30: 0 | I30: 0 | J30: 0 | P30: =SUM(COUNTIF(D30:O30,"x"),COUNTIF(D30:O30,"A")) -> 0 | Q30: =SUM(COUNTIF(D30:O30,"x"),COUNTIF(D30:O30,"b")) -> 0 | R30: 0 | S30: 0 | T30: 0 | U30: 0 | AD30: =SUM(COUNTIF(R30:AC30,"x"),COUNTIF(R30:AC30,"A")) -> 0 | AE30: =SUM(COUNTIF(R30:AC30,"x"),COUNTIF(R30:AC30,"b")) -> 0
A31: =A30+1 -> 21 | B31: Lê Hồng Sơn | C31: 01002031 | D31: 0 | E31: 0 | F31: 0 | G31: 0 | H31: 0 | I31: 0 | J31: 0 | P31: =SUM(COUNTIF(D31:O31,"x"),COUNTIF(D31:O31,"A")) -> 0 | Q31: =SUM(COUNTIF(D31:O31,"x"),COUNTIF(D31:O31,"b")) -> 0 | R31: x | S31: 0 | T31: 0 | U31: x | AD31: =SUM(COUNTIF(R31:AC31,"x"),COUNTIF(R31:AC31,"A")) -> 2 | AE31: =SUM(COUNTIF(R31:AC31,"x"),COUNTIF(R31:AC31,"b")) -> 2
A32: =A31+1 -> 22 | B32: Nguyễn Thanh Hiền | C32: 01002033 | D32: 0 | E32: 0 | F32: 0 | G32: 0 | H32: x | I32: 0 | J32: x | P32: =SUM(COUNTIF(D32:O32,"x"),COUNTIF(D32:O32,"A")) -> 2 | Q32: =SUM(COUNTIF(D32:O32,"x"),COUNTIF(D32:O32,"b")) -> 2 | R32: x | S32: 0 | T32: x | U32: x | AD32: =SUM(COUNTIF(R32:AC32,"x"),COUNTIF(R32:AC32,"A")) -> 3 | AE32: =SUM(COUNTIF(R32:AC32,"x"),COUNTIF(R32:AC32,"b")) -> 3
A33: =A32+1 -> 23 | B33: Phạm Quang Tùng | C33: 01010068 | D33: 0 | E33: 0 | F33: 0 | G33: 0 | H33: 0 | I33: 0 | J33: 0 | P33: =SUM(COUNTIF(D33:O33,"x"),COUNTIF(D33:O33,"A")) -> 0 | Q33: =SUM(COUNTIF(D33:O33,"x"),COUNTIF(D33:O33,"b")) -> 0 | R33: x | S33: 0 | T33: 0 | U33: x | AD33: =SUM(COUNTIF(R33:AC33,"x"),COUNTIF(R33:AC33,"A")) -> 2 | AE33: =SUM(COUNTIF(R33:AC33,"x"),COUNTIF(R33:AC33,"b")) -> 2
A34: =A33+1 -> 24 | B34: Trần Thanh Cường | C34: 01002040 | D34: 0 | E34: 0 | F34: 0 | G34: 0 | H34: 0 | I34: 0 | J34: 0 | P34: =SUM(COUNTIF(D34:O34,"x"),COUNTIF(D34:O34,"A")) -> 0 | Q34: =SUM(COUNTIF(D34:O34,"x"),COUNTIF(D34:O34,"b")) -> 0 | R34: x | S34: 0 | T34: 0 | U34: x | AD34: =SUM(COUNTIF(R34:AC34,"x"),COUNTIF(R34:AC34,"A")) -> 2 | AE34: =SUM(COUNTIF(R34:AC34,"x"),COUNTIF(R34:AC34,"b")) -> 2
A35: =A34+1 -> 25 | B35: Vũ Anh Hiếu | C35: 01002041 | D35: 0 | E35: 0 | F35: 0 | G35: 0 | H35: 0 | I35: 0 | J35: x | P35: =SUM(COUNTIF(D35:O35,"x"),COUNTIF(D35:O35,"A")) -> 1 | Q35: =SUM(COUNTIF(D35:O35,"x"),COUNTIF(D35:O35,"b")) -> 1 | R35: x | S35: 0 | T35: 0 | U35: x | AD35: =SUM(COUNTIF(R35:AC35,"x"),COUNTIF(R35:AC35,"A")) -> 2 | AE35: =SUM(COUNTIF(R35:AC35,"x"),COUNTIF(R35:AC35,"b")) -> 2
A36: =A35+1 -> 26 | B36: Dương Văn Tâm | C36: 01002035 | D36: 0 | E36: 0 | F36: 0 | G36: 0 | H36: 0 | I36: x | J36: x | P36: =SUM(COUNTIF(D36:O36,"x"),COUNTIF(D36:O36,"A")) -> 2 | Q36: =SUM(COUNTIF(D36:O36,"x"),COUNTIF(D36:O36,"b")) -> 2 | R36: 0 | S36: x | T36: 0 | U36: 0 | AD36: =SUM(COUNTIF(R36:AC36,"x"),COUNTIF(R36:AC36,"A")) -> 1 | AE36: =SUM(COUNTIF(R36:AC36,"x"),COUNTIF(R36:AC36,"b")) -> 1
A37: =A36+1 -> 27 | B37: Huỳnh Ngọc Liên | C37: 01002036 | D37: 0 | E37: 0 | F37: 0 | G37: x | H37: 0 | I37: x | J37: 0 | P37: =SUM(COUNTIF(D37:O37,"x"),COUNTIF(D37:O37,"A")) -> 2 | Q37: =SUM(COUNTIF(D37:O37,"x"),COUNTIF(D37:O37,"b")) -> 2 | R37: 0 | S37: x | T37: 0 | U37: 0 | AD37: =SUM(COUNTIF(R37:AC37,"x"),COUNTIF(R37:AC37,"A")) -> 1 | AE37: =SUM(COUNTIF(R37:AC37,"x"),COUNTIF(R37:AC37,"b")) -> 1
D38: =COUNTIF(D9:D37,"x") -> 9 | E38: =COUNTIF(E9:E37,"x") -> 11 | F38: =COUNTIF(F9:F37,"x") -> 1 | G38: =COUNTIF(G9:G37,"x") -> 13 | H38: =COUNTIF(H9:H37,"x") -> 2 | I38: =COUNTIF(I9:I37,"x") -> 3 | J38: =COUNTIF(J9:J37,"x") -> 4 | K38: =COUNTIF(K9:K37,"x") -> 0 | ... O38: =COUNTIF(O9:O37,"x") -> 0 | R38: =COUNTIF(R9:R37,"x") -> 14 | S38: =COUNTIF(S9:S37,"x") -> 15 | T38: =COUNTIF(T9:T37,"x") -> 3 | U38: =COUNTIF(U9:U37,"x") -> 11 | V38: =COUNTIF(V9:V37,"x") -> 0 | W38: =COUNTIF(W9:W37,"x") -> 0 | X38: =COUNTIF(X9:X37,"x") -> 0 | Y38: =COUNTIF(Y9:Y37,"x") -> 0 | ... AA38: =COUNTIF(AA9:AA37,"x") -> 0
A40: Lưu ý: Các đơn vị gửi file mềm qua hệ thống điện tử E-office nhà trường và văn bản giấy về phòng TC-HC-TH (Cô Trần Thị Ánh Phượng).
T41: ='P.TS-ĐT'!AB29 -> TP. HCM, ngày 2 tháng 11 năm 2023
R42: TRƯỞNG ĐƠN VỊ
B44: Không duyệt nhiệm vụ | C44: Ký tự a
B45: Bổ sung nhiệm vụ | C45: Ký tự b

Sheet P.TTGD-CTSV
A1: TRƯỜNG CAO ĐẲNG LÝ TỰ TRỌNG | R1: CỘNG HÒA XÃ HỘI CHỦ NGHĨA VIỆT NAM
A2: THÀNH PHỐ HỒ CHÍ MINH | R2: Độc lập - Tự do - Hạnh phúc
A3: PHÒNG THANH TRA GIÁO DỤC - CÔNG TÁC SINH VIÊN
AF4: Mẫu 3
A5: =TCHC!A5 -> THỐNG KÊ CHI TIẾT KHỐI LƯỢNG CÔNG VIỆC THỰC HIỆN THÁNG 10/2023
A7: TT | B7: Tên nội dung công việc | D7: Công việc chung của trường | R7: Công việc riêng của đơn vị | AF7: Ghi chú
B8: Họ và tên | C8: Mã E-office | D8: Nhiệm vụ 1 | E8: Nhiệm vụ 2 | F8: Nhiệm vụ 3 | G8: Nhiệm vụ 4 | H8: Nhiệm vụ 5 | I8: Nhiệm vụ 6 | J8: Nhiệm vụ 7 | K8: Nhiệm vụ 8 | L8: Nhiệm vụ 9 | M8: Nhiệm vụ 10 | N8: Nhiệm vụ 11 | O8: Nhiệm vụ 12 | P8: Tổng | Q8: TT HĐ xét | R8: Nhiệm vụ 1 | S8: Nhiệm vụ 2 | T8: Nhiệm vụ 3 | U8: Nhiệm vụ 4 | V8: Nhiệm vụ 5 | W8: Nhiệm vụ 6 | X8: Nhiệm vụ 7 | Y8: Nhiệm vụ 8 | Z8: Nhiệm vụ 9 | AA8: Nhiệm vụ 10 | AB8: Nhiệm vụ 11 | AC8: Nhiệm vụ 12 | AD8: Tổng | AE8: TT HĐ xét
A9: I. Viên chức | C9: -1 | D9: -2 | E9: -3 | F9: -4 | G9: -5 | H9: -6 | I9: -7 | J9: -8 | K9: -9 | L9: -10 | M9: -11 | N9: -12 | O9: -13 | P9: -14 | Q9: -15 | R9: -16 | S9: -17 | T9: -18 | U9: -19 | V9: -20 | W9: -21 | X9: -22 | Y9: -23 | Z9: -24 | AA9: -25 | AB9: -26 | AC9: -27 | AD9: -28 | AE9: -29
A10: 01 | B10: Lê Xuân Thiện | C10: 01002002 | E10: X | I10: X | P10: =SUM(COUNTIF(D10:O10,"X"),COUNTIF(D10:O10,"A")) -> 2 | Q10: =SUM(COUNTIF(D10:O10,"X"),COUNTIF(D10:O10,"B")) -> 2 | R10: X | T10: X | AD10: =SUM(COUNTIF(R10:AC10,"X"),COUNTIF(R10:AC10,"A")) -> 2 | AE10: =SUM(COUNTIF(R10:AC10,"X"),COUNTIF(R10:AC10,"B")) -> 2
A11: 02 | B11: Nguyễn Ngọc Hiệp | C11: 01009006 | P11: =SUM(COUNTIF(D11:O11,"X"),COUNTIF(D11:O11,"A")) -> 0 | Q11: =SUM(COUNTIF(D11:O11,"X"),COUNTIF(D11:O11,"B")) -> 0 | R11: X | T11: X | AD11: =SUM(COUNTIF(R11:AC11,"X"),COUNTIF(R11:AC11,"A")) -> 2 | AE11: =SUM(COUNTIF(R11:AC11,"X"),COUNTIF(R11:AC11,"B")) -> 2
A12: 03 | B12: Nguyễn Thị Kim Anh | C12: 01009018 | P12: =SUM(COUNTIF(D12:O12,"X"),COUNTIF(D12:O12,"A")) -> 0 | Q12: =SUM(COUNTIF(D12:O12,"X"),COUNTIF(D12:O12,"B")) -> 0 | S12: X | T12: X | U12: X | AD12: =SUM(COUNTIF(R12:AC12,"X"),COUNTIF(R12:AC12,"A")) -> 3 | AE12: =SUM(COUNTIF(R12:AC12,"X"),COUNTIF(R12:AC12,"B")) -> 3
A13: 04 | B13: Phạm Thị Lê Chi | C13: 01009010 | P13: =SUM(COUNTIF(D13:O13,"X"),COUNTIF(D13:O13,"A")) -> 0 | Q13: =SUM(COUNTIF(D13:O13,"X"),COUNTIF(D13:O13,"B")) -> 0 | S13: X | T13: X | U13: X | AD13: =SUM(COUNTIF(R13:AC13,"X"),COUNTIF(R13:AC13,"A")) -> 3 | AE13: =SUM(COUNTIF(R13:AC13,"X"),COUNTIF(R13:AC13,"B")) -> 3
A14: 05 | B14: Trần Thị Thu Hà | C14: 01002004 | E14: X | I14: X | P14: =SUM(COUNTIF(D14:O14,"X"),COUNTIF(D14:O14,"A")) -> 2 | Q14: =SUM(COUNTIF(D14:O14,"X"),COUNTIF(D14:O14,"B")) -> 2 | S14: X | T14: X | AD14: =SUM(COUNTIF(R14:AC14,"X"),COUNTIF(R14:AC14,"A")) -> 2 | AE14: =SUM(COUNTIF(R14:AC14,"X"),COUNTIF(R14:AC14,"B")) -> 2
A15: 06 | B15: Nguyễn Tất Thắng | C15: 01009008 | P15: =SUM(COUNTIF(D15:O15,"X"),COUNTIF(D15:O15,"A")) -> 0 | Q15: =SUM(COUNTIF(D15:O15,"X"),COUNTIF(D15:O15,"B")) -> 0 | R15: X | U15: X | AD15: =SUM(COUNTIF(R15:AC15,"X"),COUNTIF(R15:AC15,"A")) -> 2 | AE15: =SUM(COUNTIF(R15:AC15,"X"),COUNTIF(R15:AC15,"B")) -> 2
A16: 07 | B16: Mai Thu Hương | C16: 01007004 | P16: =SUM(COUNTIF(D16:O16,"X"),COUNTIF(D16:O16,"A")) -> 0 | Q16: =SUM(COUNTIF(D16:O16,"X"),COUNTIF(D16:O16,"B")) -> 0 | T16: X | U16: X | AD16: =SUM(COUNTIF(R16:AC16,"X"),COUNTIF(R16:AC16,"A")) -> 2 | AE16: =SUM(COUNTIF(R16:AC16,"X"),COUNTIF(R16:AC16,"B")) -> 2
A17: II. Hợp đồng trường | P17: =SUM(COUNTIF(D17:O17,"X"),COUNTIF(D17:O17,"A")) -> 0 | Q17: =SUM(COUNTIF(D17:O17,"X"),COUNTIF(D17:O17,"B")) -> 0 | AD17: =SUM(COUNTIF(R17:AC17,"X"),COUNTIF(R17:AC17,"A")) -> 0 | AE17: =SUM(COUNTIF(R17:AC17,"X"),COUNTIF(R17:AC17,"B")) -> 0
A18: 08 | B18: Nguyễn Trung Dũng | C18: 01002008 | P18: =SUM(COUNTIF(D18:O18,"X"),COUNTIF(D18:O18,"A")) -> 0 | Q18: =SUM(COUNTIF(D18:O18,"X"),COUNTIF(D18:O18,"B")) -> 0 | S18: X | T18: X | U18: X | AD18: =SUM(COUNTIF(R18:AC18,"X"),COUNTIF(R18:AC18,"A")) -> 3 | AE18: =SUM(COUNTIF(R18:AC18,"X"),COUNTIF(R18:AC18,"B")) -> 3
A19: 09 | B19: Phạm Huy Hoàng | C19: 01009011 | D19: X | P19: =SUM(COUNTIF(D19:O19,"X"),COUNTIF(D19:O19,"A")) -> 1 | Q19: =SUM(COUNTIF(D19:O19,"X"),COUNTIF(D19:O19,"B")) -> 1 | S19: X | T19: X | U19: X | AD19: =SUM(COUNTIF(R19:AC19,"X"),COUNTIF(R19:AC19,"A")) -> 3 | AE19: =SUM(COUNTIF(R19:AC19,"X"),COUNTIF(R19:AC19,"B")) -> 3
A20: 10 | B20: Huỳnh Văn Hiếu | C20: 01009019 | D20: X | E20: X | P20: =SUM(COUNTIF(D20:O20,"X"),COUNTIF(D20:O20,"A")) -> 2 | Q20: =SUM(COUNTIF(D20:O20,"X"),COUNTIF(D20:O20,"B")) -> 2 | S20: X | T20: X | AD20: =SUM(COUNTIF(R20:AC20,"X"),COUNTIF(R20:AC20,"A")) -> 2 | AE20: =SUM(COUNTIF(R20:AC20,"X"),COUNTIF(R20:AC20,"B")) -> 2
A21: 11 | B21: Trần Anh Mỹ | C21: 01009028 | P21: =SUM(COUNTIF(D21:O21,"X"),COUNTIF(D21:O21,"A")) -> 0 | Q21: =SUM(COUNTIF(D21:O21,"X"),COUNTIF(D21:O21,"B")) -> 0 | S21: X | T21: X | U21: X | AD21: =SUM(COUNTIF(R21:AC21,"X"),COUNTIF(R21:AC21,"A")) -> 3 | AE21: =SUM(COUNTIF(R21:AC21,"X"),COUNTIF(R21:AC21,"B")) -> 3
A22: 12 | B22: Bùi Đức Phước | C22: 01009026 | G22: X | H22: X | P22: =SUM(COUNTIF(D22:O22,"X"),COUNTIF(D22:O22,"A")) -> 2 | Q22: =SUM(COUNTIF(D22:O22,"X"),COUNTIF(D22:O22,"B")) -> 2 | S22: X | T22: X | U22: X | AD22: =SUM(COUNTIF(R22:AC22,"X"),COUNTIF(R22:AC22,"A")) -> 3 | AE22: =SUM(COUNTIF(R22:AC22,"X"),COUNTIF(R22:AC22,"B")) -> 3
A23: 13 | B23: Nguyễn Thị Thảo | C23: 01007003 | P23: =SUM(COUNTIF(D23:O23,"X"),COUNTIF(D23:O23,"A")) -> 0 | Q23: =SUM(COUNTIF(D23:O23,"X"),COUNTIF(D23:O23,"B")) -> 0 | T23: X | U23: X | AD23: =SUM(COUNTIF(R23:AC23,"X"),COUNTIF(R23:AC23,"A")) -> 2 | AE23: =SUM(COUNTIF(R23:AC23,"X"),COUNTIF(R23:AC23,"B")) -> 2
A24: 14 | B24: Lưu Hoàng Bảo Châu | C24: 01009029 | F24: X | P24: =SUM(COUNTIF(D24:O24,"X"),COUNTIF(D24:O24,"A")) -> 1 | Q24: =SUM(COUNTIF(D24:O24,"X"),COUNTIF(D24:O24,"B")) -> 1 | S24: X | T24: X | AD24: =SUM(COUNTIF(R24:AC24,"X"),COUNTIF(R24:AC24,"A")) -> 2 | AE24: =SUM(COUNTIF(R24:AC24,"X"),COUNTIF(R24:AC24,"B")) -> 2
A25: 15 | B25: Trần Việt Anh | C25: 01002038 | P25: =SUM(COUNTIF(D25:O25,"X"),COUNTIF(D25:O25,"A")) -> 0 | Q25: =SUM(COUNTIF(D25:O25,"X"),COUNTIF(D25:O25,"B")) -> 0 | T25: X | AD25: =SUM(COUNTIF(R25:AC25,"X"),COUNTIF(R25:AC25,"A")) -> 1 | AE25: =SUM(COUNTIF(R25:AC25,"X"),COUNTIF(R25:AC25,"B")) -> 1
D26: =COUNTIF(D10:D24,"X") -> 2 | E26: =COUNTIF(E10:E24,"X") -> 3 | F26: =COUNTIF(F10:F24,"X") -> 1 | G26: =COUNTIF(G10:G24,"X") -> 1 | H26: =COUNTIF(H10:H24,"X") -> 1 | I26: =COUNTIF(I10:I24,"X") -> 2 | J26: =COUNTIF(J10:J24,"X") -> 0 | K26: =COUNTIF(K10:K24,"X") -> 0 | ... O26: =COUNTIF(O10:O24,"X") -> 0 | R26: =COUNTIF(R10:R24,"X") -> 3 | S26: =COUNTIF(S10:S24,"X") -> 9 | T26: =COUNTIF(T10:T24,"X") -> 13 | U26: =COUNTIF(U10:U24,"X") -> 9 | V26: =COUNTIF(V10:V24,"X") -> 0 | W26: =COUNTIF(W10:W24,"X") -> 0 | X26: =COUNTIF(X10:X24,"X") -> 0 | Y26: =COUNTIF(Y10:Y24,"X") -> 0 | ... AA26: =COUNTIF(AA10:AA24,"X") -> 0
A27: Lưu ý: Các đơn vị gửi file mềm qua hệ thống điện tử E-office nhà trường và văn bản giấy về phòng TC-HC-TH (Cô Trần Thị Ánh Phượng).
T28: =TCHC!T41 -> TP. HCM, ngày 2 tháng 11 năm 2023
B29: Không duyệt nhiệm vụ | C29: Ký tự a | R29: TRƯỞNG ĐƠN VỊ
B30: Bổ sung nhiệm vụ | C30: Ký tự b
R34: Lê Xuân Thiện

Sheet P.KT&ĐBCL
A1: TRƯỜNG CAO ĐẲNG LÝ TỰ TRỌNG | P1: CỘNG HÒA XÃ HỘI CHỦ NGHĨA VIỆT NAM
A2: THÀNH PHỐ HỒ CHÍ MINH | P2: Độc lập - Tự do - Hạnh phúc
A3: ĐƠN VỊ: KHẢO THÍ & ĐBCL
A5: ='P.KH-TC'!A5:AB5 -> THỐNG KÊ CHI TIẾT KHỐI LƯỢNG CÔNG VIỆC THỰC HIỆN THÁNG 10/2023
A7: TT | B7: Tên nội dung công việc | D7: Công việc chung của trường | P7: Công việc riêng của đơn vị | AB7: Ghi chú
B8: Họ và tên | C8: Mã E-ofice | D8: Nhiệm vụ 1 | E8: Nhiệm vụ 2 | F8: Nhiệm vụ 3 | G8: Nhiệm vụ 4 | H8: Nhiệm vụ 5 | I8: Nhiệm vụ 6 | J8: Nhiệm vụ 7 | K8: Nhiệm vụ 8 | L8: Nhiệm vụ 9 | M8: Nhiệm vụ 10 | N8: Tổng | O8: TT HĐ xét | P8: Nhiệm vụ 1 | Q8: Nhiệm vụ 2 | R8: Nhiệm vụ 3 | S8: Nhiệm vụ 4 | T8: Nhiệm vụ 5 | U8: Nhiệm vụ 6 | V8: Nhiệm vụ 7 | W8: Nhiệm vụ 8 | X8: Nhiệm vụ 9 | Y8: Nhiệm vụ 10 | Z8: Tổng | AA8: TT HĐ xét
A9: I. Viên chức | C9: -1 | D9: -2 | E9: -3 | F9: -4 | G9: -5 | H9: -6 | I9: -7 | J9: -8 | K9: -9 | L9: -10 | M9: -11 | N9: -12 | O9: -13 | P9: -14 | Q9: -15 | R9: -16 | S9: -17 | T9: -18 | U9: -19 | V9: -20 | W9: -21 | X9: -22 | Y9: -23 | Z9: -24 | AA9: -25
A10: 01 | B10: Nguyễn Chí Nhân | C10: 01009009 | D10: X | E10: X | F10: X | N10: =SUM(COUNTIF(D10:M10,"X"),COUNTIF(D10:M10,"A")) -> 3 | O10: =SUM(COUNTIF(D10:M10,"X"),COUNTIF(D10:M10,"B")) -> 3 | Z10: =SUM(COUNTIF(P10:Y10,"X"),COUNTIF(P10:Y10,"A")) -> 0 | AA10: =SUM(COUNTIF(P10:Y10,"X"),COUNTIF(P10:Y10,"B")) -> 0
A11: 02 | B11: Nguyễn Thị Kim Dung | C11: 01003002 | D11: X | E11: X | F11: X | N11: =SUM(COUNTIF(D11:M11,"X"),COUNTIF(D11:M11,"A")) -> 3 | O11: =SUM(COUNTIF(D11:M11,"X"),COUNTIF(D11:M11,"B")) -> 3 | P11: X | Q11: X | Z11: =SUM(COUNTIF(P11:Y11,"X"),COUNTIF(P11:Y11,"A")) -> 2 | AA11: =SUM(COUNTIF(P11:Y11,"X"),COUNTIF(P11:Y11,"B")) -> 2
A12: 03 | B12: Nguyễn Thanh Sơn | C12: 01006003 | D12: X | N12: =SUM(COUNTIF(D12:M12,"X"),COUNTIF(D12:M12,"A")) -> 1 | O12: =SUM(COUNTIF(D12:M12,"X"),COUNTIF(D12:M12,"B")) -> 1 | Z12: =SUM(COUNTIF(P12:Y12,"X"),COUNTIF(P12:Y12,"A")) -> 0 | AA12: =SUM(COUNTIF(P12:Y12,"X"),COUNTIF(P12:Y12,"B")) -> 0
A13: 04 | B13: Nguyễn Thị Tuyết | C13: 01022061 | D13: X | E13: X | F13: X | N13: =SUM(COUNTIF(D13:M13,"X"),COUNTIF(D13:M13,"A")) -> 3 | O13: =SUM(COUNTIF(D13:M13,"X"),COUNTIF(D13:M13,"B")) -> 3 | P13: X | Q13: X | Z13: =SUM(COUNTIF(P13:Y13,"X"),COUNTIF(P13:Y13,"A")) -> 2 | AA13: =SUM(COUNTIF(P13:Y13,"X"),COUNTIF(P13:Y13,"B")) -> 2
A14: 05 | B14: Vũ Thị Thu Thủy | C14: 01013032 | D14: X | N14: =SUM(COUNTIF(D14:M14,"X"),COUNTIF(D14:M14,"A")) -> 1 | O14: =SUM(COUNTIF(D14:M14,"X"),COUNTIF(D14:M14,"B")) -> 1 | Z14: =SUM(COUNTIF(P14:Y14,"X"),COUNTIF(P14:Y14,"A")) -> 0 | AA14: =SUM(COUNTIF(P14:Y14,"X"),COUNTIF(P14:Y14,"B")) -> 0
A15: 06 | B15: Lương Minh Dũng | C15: 01015027 | D15: X | E15: X | F15: X | N15: =SUM(COUNTIF(D15:M15,"X"),COUNTIF(D15:M15,"A")) -> 3 | O15: =SUM(COUNTIF(D15:M15,"X"),COUNTIF(D15:M15,"B")) -> 3 | P15: X | Q15: X | Z15: =SUM(COUNTIF(P15:Y15,"X"),COUNTIF(P15:Y15,"A")) -> 2 | AA15: =SUM(COUNTIF(P15:Y15,"X"),COUNTIF(P15:Y15,"B")) -> 2
A16: II. Hợp đồng trường | N16: =SUM(COUNTIF(D16:M16,"X"),COUNTIF(D16:M16,"A")) -> 0 | O16: =SUM(COUNTIF(D16:M16,"X"),COUNTIF(D16:M16,"B")) -> 0 | Z16: =SUM(COUNTIF(P16:Y16,"X"),COUNTIF(P16:Y16,"A")) -> 0 | AA16: =SUM(COUNTIF(P16:Y16,"X"),COUNTIF(P16:Y16,"B")) -> 0
A17: 01 | B17: Nguyễn Yến Nhi | C17: 01006006 | D17: X | F17: X | N17: =SUM(COUNTIF(D17:M17,"X"),COUNTIF(D17:M17,"A")) -> 2 | O17: =SUM(COUNTIF(D17:M17,"X"),COUNTIF(D17:M17,"B")) -> 2 | Z17: =SUM(COUNTIF(P17:Y17,"X"),COUNTIF(P17:Y17,"A")) -> 0 | AA17: =SUM(COUNTIF(P17:Y17,"X"),COUNTIF(P17:Y17,"B")) -> 0
D18: =COUNTIF(D2:D17,"X") -> 7 | E18: =COUNTIF(E2:E17,"X") -> 4 | F18: =COUNTIF(F2:F17,"X") -> 5 | G18: =COUNTIF(G2:G17,"X") -> 0 | H18: =COUNTIF(H2:H17,"X") -> 0 | I18: =COUNTIF(I2:I17,"X") -> 0 | J18: =COUNTIF(J2:J17,"X") -> 0 | P18: =COUNTIF(P2:P17,"X") -> 3 | Q18: =COUNTIF(Q2:Q17,"X") -> 3 | R18: =COUNTIF(R2:R17,"X") -> 0 | S18: =COUNTIF(S2:S17,"X") -> 0
A19: Lưu ý: Các đơn vị gửi file mềm qua hệ thống điện tử E-office nhà trường và văn bản giấy về phòng TC-HC-TH (Cô Trần Thị Ánh Phượng).
P20: ='P.KH-TC'!P22 -> TP. HCM, ngày 2 tháng 11 năm 2023
P21: TRƯỞNG ĐƠN VỊ
B23: Không duyệt nhiệm vụ | C23: Ký tự a
B24: Bổ sung nhiệm vụ | C24: Ký tự b

Sheet P.QLKH-HTQT
A1: TRƯỜNG CAO ĐẲNG LÝ TỰ TRỌNG | N1: CỘNG HÒA XÃ HỘI CHỦ NGHĨA VIỆT NAM
A2: THÀNH PHỐ HỒ CHÍ MINH | N2: Độc lập - Tự do - Hạnh phúc
A3: PHÒNG QUẢN LÝ KHOA HỌC - HỢP TÁC QUỐC TẾ
X4: Mẫu 3
A5: ='P.KH-TC'!A5:AB5 -> THỐNG KÊ CHI TIẾT KHỐI LƯỢNG CÔNG VIỆC THỰC HIỆN THÁNG 10/2023
A7: TT | B7: Tên nội dung công việc | D7: Công việc chung của trường | N7: Công việc riêng của đơn vị | X7: Ghi chú
B8: Họ và tên | C8: Mã E-ofice | D8: Nhiệm vụ 1 | E8: Nhiệm vụ 2 | F8: Nhiệm vụ 3 | G8: Nhiệm vụ 4 | H8: Nhiệm vụ 5 | I8: Nhiệm vụ 6 | J8: Nhiệm vụ 7 | K8: Nhiệm vụ 8 | L8: Tổng | M8: TT HĐ xét | N8: Nhiệm vụ 1 | O8: Nhiệm vụ 2 | P8: Nhiệm vụ 3 | Q8: Nhiệm vụ 4 | R8: Nhiệm vụ 5 | S8: Nhiệm vụ 6 | T8: Nhiệm vụ 7 | U8: Nhiệm vụ 8 | V8: Tổng | W8: TT HĐ xét
A9: I. Viên chức | C9: -1 | D9: -2 | E9: -3 | F9: -4 | G9: -5 | H9: -6 | I9: -7 | J9: -8 | K9: -9 | L9: -10 | M9: -11 | N9: -12 | O9: -13 | P9: -14 | Q9: -15 | R9: -16 | S9: -17 | T9: -18 | U9: -19 | V9: -20 | W9: -21
A10: 01 | B10: Nguyễn Trọng Nghĩa | C10: 01025001 | D10: X | E10: X | F10: X | G10: X | L10: =SUM(COUNTIF(D10:K10,"X"),COUNTIF(D10:K10,"A")) -> 4 | M10: =SUM(COUNTIF(D10:K10,"X"),COUNTIF(D10:K10,"B")) -> 4 | N10: X | O10: X | P10: X | Q10: X | R10: X | V10: =SUM(COUNTIF(N10:U10,"X"),COUNTIF(N10:U10,"A")) -> 5 | W10: =SUM(COUNTIF(N10:U10,"X"),COUNTIF(N10:U10,"B")) -> 5
A11: II. Hợp đồng trường | L11: =SUM(COUNTIF(D11:K11,"X"),COUNTIF(D11:K11,"A")) -> 0 | M11: =SUM(COUNTIF(D11:K11,"X"),COUNTIF(D11:K11,"B")) -> 0 | V11: =SUM(COUNTIF(N11:U11,"X"),COUNTIF(N11:U11,"A")) -> 0 | W11: =SUM(COUNTIF(N11:U11,"X"),COUNTIF(N11:U11,"B")) -> 0
A12: 01 | B12: Lê Tiến Dũng | C12: 01005003 | E12: X | F12: X | G12: X | L12: =SUM(COUNTIF(D12:K12,"X"),COUNTIF(D12:K12,"A")) -> 3 | M12: =SUM(COUNTIF(D12:K12,"X"),COUNTIF(D12:K12,"B")) -> 3 | N12: X | O12: X | R12: X | V12: =SUM(COUNTIF(N12:U12,"X"),COUNTIF(N12:U12,"A")) -> 3 | W12: =SUM(COUNTIF(N12:U12,"X"),COUNTIF(N12:U12,"B")) -> 3
A13: 02 | B13: Lê Trần Thanh Nga | C13: 01005011 | D13: X | F13: X | L13: =SUM(COUNTIF(D13:K13,"X"),COUNTIF(D13:K13,"A")) -> 2 | M13: =SUM(COUNTIF(D13:K13,"X"),COUNTIF(D13:K13,"B")) -> 2 | N13: X | P13: X | Q13: X | V13: =SUM(COUNTIF(N13:U13,"X"),COUNTIF(N13:U13,"A")) -> 3 | W13: =SUM(COUNTIF(N13:U13,"X"),COUNTIF(N13:U13,"B")) -> 3
A15: Lưu ý: Các đơn vị gửi file mềm qua hệ thống điện tử E-office nhà trường và văn bản giấy về phòng TC-HC-TH (Cô Trần Thị Ánh Phượng).
N16: ='P.KH-TC'!P22 -> TP. HCM, ngày 2 tháng 11 năm 2023
N17: TRƯỞNG ĐƠN VỊ
B18: Không duyệt nhiệm vụ | C18: Ký tự a
B19: Bổ sung nhiệm vụ | C19: Ký tự b
N22: Nguyễn Thành Nam

Sheet P.QT-DV
A1: TRƯỜNG CAO ĐẲNG LÝ TỰ TRỌNG | R1: CỘNG HÒA XÃ HỘI CHỦ NGHĨA VIỆT NAM
A2: THÀNH PHỐ HỒ CHÍ MINH | R2: Độc lập - Tự do - Hạnh phúc
A3: ĐƠN VỊ :Phòng QT-DV
AI4: Mẫu 3
A5: ='P.KH-TC'!A5:AB5 -> THỐNG KÊ CHI TIẾT KHỐI LƯỢNG CÔNG VIỆC THỰC HIỆN THÁNG 10/2023
A7: TT | B7: Tên nội dung công việc | D7: Công việc chung của trường | R7: Công việc riêng của đơn vị | AI7: Ghi chú
B8: Họ và tên | C8: Mã E-ofice | D8: Nhiệm vụ 1 | E8: Nhiệm vụ 2 | F8: Nhiệm vụ 3 | G8: Nhiệm vụ 4 | H8: Nhiệm vụ 5 | I8: Nhiệm vụ 6 | J8: Nhiệm vụ 7 | K8: Nhiệm vụ 8 | L8: Nhiệm vụ 9 | M8: Nhiệm vụ 10 | N8: Nhiệm vụ 11 | O8: Nhiệm vụ 12 | P8: Tổng | Q8: TT HĐ xét | R8: Nhiệm vụ 1 | S8: Nhiệm vụ 2 | T8: Nhiệm vụ 3 | U8: Nhiệm vụ 4 | V8: Nhiệm vụ 5 | W8: Nhiệm vụ 6 | X8: Nhiệm vụ 7 | Y8: Nhiệm vụ 8 | Z8: Nhiệm vụ 9 | AA8: Nhiệm vụ 10 | AB8: Nhiệm vụ 11 | AC8: Nhiệm vụ 12 | AD8: Nhiệm vụ 13 | AE8: Nhiệm vụ 14 | AF8: Nhiệm vụ 15 | AG8: Tổng | AH8: TT HĐ xét
A9: I. Viên chức | C9: -1 | D9: -2 | E9: -3 | F9: -4 | G9: -5 | H9: -6 | I9: -7 | J9: -8 | K9: -9 | L9: -10 | M9: -11 | N9: -12 | O9: -13 | P9: -14 | Q9: -15 | R9: -16 | S9: -17 | T9: -18 | U9: -19 | V9: -20 | W9: -21 | X9: -22 | Y9: -23 | Z9: -24 | AA9: -25 | AB9: -26 | AC9: -27 | AD9: -28 | AE9: -29 | AF9: -30 | AG9: -31 | AH9: -32
A10: 1 | B10: Lê Quang Liêm | C10: 01008028 | D10: X | E10: X | F10: X | G10: X | H10: X | I10: X | J10: X | K10: X | L10: X | M10: X | P10: =SUM(COUNTIF(D10:O10,"X"),COUNTIF(D10:O10,"A")) -> 10 | Q10: =SUM(COUNTIF(D10:O10,"X"),COUNTIF(D10:O10,"B")) -> 10 | R10: X | S10: X | T10: X | U10: X | V10: X | W10: X | X10: X | AG10: =SUM(COUNTIF(R10:AF10,"X"),COUNTIF(R10:AF10,"A")) -> 7 | AH10: =SUM(COUNTIF(R10:AF10,"X"),COUNTIF(R10:AF10,"B")) -> 7 | AK10: =COUNTIF(D10:O10,"x") -> 10 | AL10: =COUNTIF(R10:AF10,"x") -> 7
A11: =A12+1 -> 3 | B11: Nguyễn Văn Thành | C11: 01008002 | D11: X | F11: X | G11: X | H11: X | I11: X | J11: X | K11: X | L11: X | M11: X | P11: =SUM(COUNTIF(D11:O11,"X"),COUNTIF(D11:O11,"A")) -> 9 | Q11: =SUM(COUNTIF(D11:O11,"X"),COUNTIF(D11:O11,"B")) -> 9 | R11: X | S11: X | T11: X | U11: X | X11: X | AG11: =SUM(COUNTIF(R11:AF11,"X"),COUNTIF(R11:AF11,"A")) -> 5 | AH11: =SUM(COUNTIF(R11:AF11,"X"),COUNTIF(R11:AF11,"B")) -> 5 | AK11: =COUNTIF(D11:O11,"x") -> 9 | AL11: =COUNTIF(R11:AF11,"x") -> 5
A12: =A10+1 -> 2 | B12: Phan Hữu Tước | C12: 01008049 | D12: X | F12: X | G12: X | H12: X | I12: X | J12: X | K12: X | L12: X | M12: X | P12: =SUM(COUNTIF(D12:O12,"X"),COUNTIF(D12:O12,"A")) -> 9 | Q12: =SUM(COUNTIF(D12:O12,"X"),COUNTIF(D12:O12,"B")) -> 9 | U12: X | V12: X | W12: X | X12: X | AG12: =SUM(COUNTIF(R12:AF12,"X"),COUNTIF(R12:AF12,"A")) -> 4 | AH12: =SUM(COUNTIF(R12:AF12,"X"),COUNTIF(R12:AF12,"B")) -> 4
A13: =A11+1 -> 4 | B13: Nguyễn Trọng Phú | C13: 01008004 | D13: X | F13: X | G13: X | I13: X | P13: =SUM(COUNTIF(D13:O13,"X"),COUNTIF(D13:O13,"A")) -> 4 | Q13: =SUM(COUNTIF(D13:O13,"X"),COUNTIF(D13:O13,"B")) -> 4 | X13: X | AG13: =SUM(COUNTIF(R13:AF13,"X"),COUNTIF(R13:AF13,"A")) -> 1 | AH13: =SUM(COUNTIF(R13:AF13,"X"),COUNTIF(R13:AF13,"B")) -> 1 | AK13: =COUNTIF(D13:O13,"x") -> 4 | AL13: =COUNTIF(R13:AF13,"x") -> 1
A14: =A13+1 -> 5 | B14: Phan Đức Long | C14: 01009007 | E14: X | K14: X | P14: =SUM(COUNTIF(D14:O14,"X"),COUNTIF(D14:O14,"A")) -> 2 | Q14: =SUM(COUNTIF(D14:O14,"X"),COUNTIF(D14:O14,"B")) -> 2 | V14: X | W14: X | AG14: =SUM(COUNTIF(R14:AF14,"X"),COUNTIF(R14:AF14,"A")) -> 2 | AH14: =SUM(COUNTIF(R14:AF14,"X"),COUNTIF(R14:AF14,"B")) -> 2 | AK14: =COUNTIF(D14:O14,"x") -> 2 | AL14: =COUNTIF(R14:AF14,"x") -> 2
A15: =A14+1 -> 6 | B15: Giáp Văn Thịnh | C15: 01008008 | D15: X | F15: X | G15: X | I15: X | P15: =SUM(COUNTIF(D15:O15,"X"),COUNTIF(D15:O15,"A")) -> 4 | Q15: =SUM(COUNTIF(D15:O15,"X"),COUNTIF(D15:O15,"B")) -> 4 | X15: X | AG15: =SUM(COUNTIF(R15:AF15,"X"),COUNTIF(R15:AF15,"A")) -> 1 | AH15: =SUM(COUNTIF(R15:AF15,"X"),COUNTIF(R15:AF15,"B")) -> 1 | AK15: =COUNTIF(D15:O15,"x") -> 4 | AL15: =COUNTIF(R15:AF15,"x") -> 1
A16: =A15+1 -> 7 | B16: Vũ Ngọc Quang | C16: 01008006 | D16: X | F16: X | G16: X | P16: =SUM(COUNTIF(D16:O16,"X"),COUNTIF(D16:O16,"A")) -> 3 | Q16: =SUM(COUNTIF(D16:O16,"X"),COUNTIF(D16:O16,"B")) -> 3 | X16: X | AG16: =SUM(COUNTIF(R16:AF16,"X"),COUNTIF(R16:AF16,"A")) -> 1 | AH16: =SUM(COUNTIF(R16:AF16,"X"),COUNTIF(R16:AF16,"B")) -> 1 | AK16: =COUNTIF(D16:O16,"x") -> 3 | AL16: =COUNTIF(R16:AF16,"x") -> 1
A17: =A16+1 -> 8 | B17: Ninh Đỗ Hiệp | C17: 01017009 | D17: X | F17: X | I17: X | P17: =SUM(COUNTIF(D17:O17,"X"),COUNTIF(D17:O17,"A")) -> 3 | Q17: =SUM(COUNTIF(D17:O17,"X"),COUNTIF(D17:O17,"B")) -> 3 | X17: X | AG17: =SUM(COUNTIF(R17:AF17,"X"),COUNTIF(R17:AF17,"A")) -> 1 | AH17: =SUM(COUNTIF(R17:AF17,"X"),COUNTIF(R17:AF17,"B")) -> 1 | AK17: =COUNTIF(D17:O17,"x") -> 3 | AL17: =COUNTIF(R17:AF17,"x") -> 1
A18: =A17+1 -> 9 | B18: Lê Hồng Anh Tuấn | C18: 01008005 | D18: X | F18: X | G18: X | P18: =SUM(COUNTIF(D18:O18,"X"),COUNTIF(D18:O18,"A")) -> 3 | Q18: =SUM(COUNTIF(D18:O18,"X"),COUNTIF(D18:O18,"B")) -> 3 | X18: X | AG18: =SUM(COUNTIF(R18:AF18,"X"),COUNTIF(R18:AF18,"A")) -> 1 | AH18: =SUM(COUNTIF(R18:AF18,"X"),COUNTIF(R18:AF18,"B")) -> 1 | AK18: =COUNTIF(D18:O18,"x") -> 3 | AL18: =COUNTIF(R18:AF18,"x") -> 1
A19: =A18+1 -> 10 | B19: Bùi Thị Dương | C19: 01009014 | P19: =SUM(COUNTIF(D19:O19,"X"),COUNTIF(D19:O19,"A")) -> 0 | Q19: =SUM(COUNTIF(D19:O19,"X"),COUNTIF(D19:O19,"B")) -> 0 | W19: X | AG19: =SUM(COUNTIF(R19:AF19,"X"),COUNTIF(R19:AF19,"A")) -> 1 | AH19: =SUM(COUNTIF(R19:AF19,"X"),COUNTIF(R19:AF19,"B")) -> 1 | AK19: =COUNTIF(D19:O19,"x") -> 0 | AL19: =COUNTIF(R19:AF19,"x") -> 1
A20: II. Hợp đồng trường | P20: =SUM(COUNTIF(D20:O20,"X"),COUNTIF(D20:O20,"A")) -> 0 | Q20: =SUM(COUNTIF(D20:O20,"X"),COUNTIF(D20:O20,"B")) -> 0 | AG20: =SUM(COUNTIF(R20:AF20,"X"),COUNTIF(R20:AF20,"A")) -> 0 | AH20: =SUM(COUNTIF(R20:AF20,"X"),COUNTIF(R20:AF20,"B")) -> 0
A21: 11 | B21: Trần Thị Thu | C21: 01008021 | F21: X | J21: X | L21: X | M21: X | P21: =SUM(COUNTIF(D21:O21,"X"),COUNTIF(D21:O21,"A")) -> 4 | Q21: =SUM(COUNTIF(D21:O21,"X"),COUNTIF(D21:O21,"B")) -> 4 | R21: X | S21: X | T21: X | U21: X | AG21: =SUM(COUNTIF(R21:AF21,"X"),COUNTIF(R21:AF21,"A")) -> 4 | AH21: =SUM(COUNTIF(R21:AF21,"X"),COUNTIF(R21:AF21,"B")) -> 4 | AK21: =COUNTIF(D21:O21,"x") -> 4 | AL21: =COUNTIF(R21:AF21,"x") -> 4
A22: =A21+1 -> 12 | B22: Dương Thị Thủy | C22: 01008009 | E22: X | F22: X | J22: X | K22: X | P22: =SUM(COUNTIF(D22:O22,"X"),COUNTIF(D22:O22,"A")) -> 4 | Q22: =SUM(COUNTIF(D22:O22,"X"),COUNTIF(D22:O22,"B")) -> 4 | T22: X | AG22: =SUM(COUNTIF(R22:AF22,"X"),COUNTIF(R22:AF22,"A")) -> 1 | AH22: =SUM(COUNTIF(R22:AF22,"X"),COUNTIF(R22:AF22,"B")) -> 1 | AK22: =COUNTIF(D22:O22,"x") -> 4 | AL22: =COUNTIF(R22:AF22,"x") -> 1
A23: =A22+1 -> 13 | B23: Đỗ Thị Bích Thủy | C23: 01008031 | F23: X | J23: X | L23: X | M23: X | P23: =SUM(COUNTIF(D23:O23,"X"),COUNTIF(D23:O23,"A")) -> 4 | Q23: =SUM(COUNTIF(D23:O23,"X"),COUNTIF(D23:O23,"B")) -> 4 | R23: X | S23: X | T23: X | U23: X | AG23: =SUM(COUNTIF(R23:AF23,"X"),COUNTIF(R23:AF23,"A")) -> 4 | AH23: =SUM(COUNTIF(R23:AF23,"X"),COUNTIF(R23:AF23,"B")) -> 4 | AK23: =COUNTIF(D23:O23,"x") -> 4 | AL23: =COUNTIF(R23:AF23,"x") -> 4
A24: =A23+1 -> 14 | B24: Trần Kim Tươi | C24: 01008039 | F24: X | J24: X | L24: X | M24: X | P24: =SUM(COUNTIF(D24:O24,"X"),COUNTIF(D24:O24,"A")) -> 4 | Q24: =SUM(COUNTIF(D24:O24,"X"),COUNTIF(D24:O24,"B")) -> 4 | R24: X | S24: X | T24: X | U24: X | AG24: =SUM(COUNTIF(R24:AF24,"X"),COUNTIF(R24:AF24,"A")) -> 4 | AH24: =SUM(COUNTIF(R24:AF24,"X"),COUNTIF(R24:AF24,"B")) -> 4 | AK24: =COUNTIF(D24:O24,"x") -> 4 | AL24: =COUNTIF(R24:AF24,"x") -> 4
A25: =A24+1 -> 15 | B25: Trương Thị Bắc | C25: 01008040 | F25: X | J25: X | L25: X | M25: X | P25: =SUM(COUNTIF(D25:O25,"X"),COUNTIF(D25:O25,"A")) -> 4 | Q25: =SUM(COUNTIF(D25:O25,"X"),COUNTIF(D25:O25,"B")) -> 4 | R25: X | S25: X | T25: X | U25: X | AG25: =SUM(COUNTIF(R25:AF25,"X"),COUNTIF(R25:AF25,"A")) -> 4 | AH25: =SUM(COUNTIF(R25:AF25,"X"),COUNTIF(R25:AF25,"B")) -> 4 | AK25: =COUNTIF(D25:O25,"x") -> 4 | AL25: =COUNTIF(R25:AF25,"x") -> 4
A26: =A25+1 -> 16 | B26: Trương Thị Định | C26: 01008041 | F26: X | J26: X | L26: X | M26: X | P26: =SUM(COUNTIF(D26:O26,"X"),COUNTIF(D26:O26,"A")) -> 4 | Q26: =SUM(COUNTIF(D26:O26,"X"),COUNTIF(D26:O26,"B")) -> 4 | R26: X | S26: X | T26: X | U26: X | AG26: =SUM(COUNTIF(R26:AF26,"X"),COUNTIF(R26:AF26,"A")) -> 4 | AH26: =SUM(COUNTIF(R26:AF26,"X"),COUNTIF(R26:AF26,"B")) -> 4 | AK26: =COUNTIF(D26:O26,"x") -> 4 | AL26: =COUNTIF(R26:AF26,"x") -> 4
A27: =A26+1 -> 17 | B27: Giáp Đức Nhận | C27: 01012027 | D27: X | F27: X | G27: X | J27: X | P27: =SUM(COUNTIF(D27:O27,"X"),COUNTIF(D27:O27,"A")) -> 4 | Q27: =SUM(COUNTIF(D27:O27,"X"),COUNTIF(D27:O27,"B")) -> 4 | AG27: =SUM(COUNTIF(R27:AF27,"X"),COUNTIF(R27:AF27,"A")) -> 0 | AH27: =SUM(COUNTIF(R27:AF27,"X"),COUNTIF(R27:AF27,"B")) -> 0 | AK27: =COUNTIF(D27:O27,"x") -> 4 | AL27: =COUNTIF(R27:AF27,"x") -> 0
A28: =A27+1 -> 18 | B28: Tạ Quốc Tấn | C28: 01008012 | D28: X | I28: X | P28: =SUM(COUNTIF(D28:O28,"X"),COUNTIF(D28:O28,"A")) -> 2 | Q28: =SUM(COUNTIF(D28:O28,"X"),COUNTIF(D28:O28,"B")) -> 2 | AG28: =SUM(COUNTIF(R28:AF28,"X"),COUNTIF(R28:AF28,"A")) -> 0 | AH28: =SUM(COUNTIF(R28:AF28,"X"),COUNTIF(R28:AF28,"B")) -> 0 | AK28: =COUNTIF(D28:O28,"x") -> 2 | AL28: =COUNTIF(R28:AF28,"x") -> 0
A29: =A28+1 -> 19 | B29: Huỳnh Bá Triết | C29: 01008033 | D29: X | F29: X | G29: X | P29: =SUM(COUNTIF(D29:O29,"X"),COUNTIF(D29:O29,"A")) -> 3 | Q29: =SUM(COUNTIF(D29:O29,"X"),COUNTIF(D29:O29,"B")) -> 3 | X29: X | AG29: =SUM(COUNTIF(R29:AF29,"X"),COUNTIF(R29:AF29,"A")) -> 1 | AH29: =SUM(COUNTIF(R29:AF29,"X"),COUNTIF(R29:AF29,"B")) -> 1 | AK29: =COUNTIF(D29:O29,"x") -> 3 | AL29: =COUNTIF(R29:AF29,"x") -> 1
A30: =A29+1 -> 20 | B30: Võ Thị Tuyết | C30: 01013033 | P30: =SUM(COUNTIF(D30:O30,"X"),COUNTIF(D30:O30,"A")) -> 0 | Q30: =SUM(COUNTIF(D30:O30,"X"),COUNTIF(D30:O30,"B")) -> 0 | W30: X | AG30: =SUM(COUNTIF(R30:AF30,"X"),COUNTIF(R30:AF30,"A")) -> 1 | AH30: =SUM(COUNTIF(R30:AF30,"X"),COUNTIF(R30:AF30,"B")) -> 1 | AK30: =COUNTIF(D30:O30,"x") -> 0 | AL30: =COUNTIF(R30:AF30,"x") -> 1
A31: =A30+1 -> 21 | B31: Trịnh Tuấn Vũ | C31: 01009015 | P31: =SUM(COUNTIF(D31:O31,"X"),COUNTIF(D31:O31,"A")) -> 0 | Q31: =SUM(COUNTIF(D31:O31,"X"),COUNTIF(D31:O31,"B")) -> 0 | V31: X | W31: X | X31: X | AG31: =SUM(COUNTIF(R31:AF31,"X"),COUNTIF(R31:AF31,"A")) -> 3 | AH31: =SUM(COUNTIF(R31:AF31,"X"),COUNTIF(R31:AF31,"B")) -> 3
A32: =A31+1 -> 22 | B32: Trần Văn Lý | C32: 01002003 | P32: =SUM(COUNTIF(D32:O32,"X"),COUNTIF(D32:O32,"A")) -> 0 | Q32: =SUM(COUNTIF(D32:O32,"X"),COUNTIF(D32:O32,"B")) -> 0 | AG32: =SUM(COUNTIF(R32:AF32,"X"),COUNTIF(R32:AF32,"A")) -> 0 | AH32: =SUM(COUNTIF(R32:AF32,"X"),COUNTIF(R32:AF32,"B")) -> 0 | AK32: =COUNTIF(D32:O32,"x") -> 0 | AL32: =COUNTIF(R32:AF32,"x") -> 0
A33: =A32+1 -> 23 | B33: Võ Tấn Đức | C33: 01008042 | I33: X | P33: =SUM(COUNTIF(D33:O33,"X"),COUNTIF(D33:O33,"A")) -> 1 | Q33: =SUM(COUNTIF(D33:O33,"X"),COUNTIF(D33:O33,"B")) -> 1 | AG33: =SUM(COUNTIF(R33:AF33,"X"),COUNTIF(R33:AF33,"A")) -> 0 | AH33: =SUM(COUNTIF(R33:AF33,"X"),COUNTIF(R33:AF33,"B")) -> 0 | AK33: =COUNTIF(D33:O33,"x") -> 1 | AL33: =COUNTIF(R33:AF33,"x") -> 0
A34: =A33+1 -> 24 | B34: Ngô Ngọc Của | C34: 01008044 | P34: =SUM(COUNTIF(D34:O34,"X"),COUNTIF(D34:O34,"A")) -> 0 | Q34: =SUM(COUNTIF(D34:O34,"X"),COUNTIF(D34:O34,"B")) -> 0 | V34: X | W34: X | AG34: =SUM(COUNTIF(R34:AF34,"X"),COUNTIF(R34:AF34,"A")) -> 2 | AH34: =SUM(COUNTIF(R34:AF34,"X"),COUNTIF(R34:AF34,"B")) -> 2
A35: =A34+1 -> 25 | B35: Phạm Thị Hoàng Diễm | C35: 01008045 | P35: =SUM(COUNTIF(D35:O35,"X"),COUNTIF(D35:O35,"A")) -> 0 | Q35: =SUM(COUNTIF(D35:O35,"X"),COUNTIF(D35:O35,"B")) -> 0 | W35: X | AG35: =SUM(COUNTIF(R35:AF35,"X"),COUNTIF(R35:AF35,"A")) -> 1 | AH35: =SUM(COUNTIF(R35:AF35,"X"),COUNTIF(R35:AF35,"B")) -> 1 | AK35: =COUNTIF(D35:O35,"x") -> 0 | AL35: =COUNTIF(R35:AF35,"x") -> 1
A36: =A35+1 -> 26 | B36: Nguyễn Văn Hiển | C36: 01008048 | D36: X | F36: X | G36: X | I36: X | P36: =SUM(COUNTIF(D36:O36,"X"),COUNTIF(D36:O36,"A")) -> 4 | Q36: =SUM(COUNTIF(D36:O36,"X"),COUNTIF(D36:O36,"B")) -> 4 | AG36: =SUM(COUNTIF(R36:AF36,"X"),COUNTIF(R36:AF36,"A")) -> 0 | AH36: =SUM(COUNTIF(R36:AF36,"X"),COUNTIF(R36:AF36,"B")) -> 0
A37: =A36+1 -> 27 | B37: Trần Thanh Phương | C37: 01002034 | D37: X | F37: X | G37: X | I37: X | P37: =SUM(COUNTIF(D37:O37,"X"),COUNTIF(D37:O37,"A")) -> 4 | Q37: =SUM(COUNTIF(D37:O37,"X"),COUNTIF(D37:O37,"B")) -> 4 | X37: X | AD37: =SUM(COUNTIF(R37:AC37,"x"),COUNTIF(R37:AC37,"A")) -> 1 | AE37: =SUM(COUNTIF(R37:AC37,"x"),COUNTIF(R37:AC37,"b")) -> 1 | AG37: =SUM(COUNTIF(R37:AF37,"X"),COUNTIF(R37:AF37,"A")) -> 1 | AH37: =SUM(COUNTIF(R37:AF37,"X"),COUNTIF(R37:AF37,"B")) -> 1
D38: =COUNTIF(D9:D37,"x") -> 13 | E38: =COUNTIF(E9:E37,"x") -> 3 | F38: =COUNTIF(F9:F37,"x") -> 18 | G38: =COUNTIF(G9:G37,"x") -> 11 | H38: =COUNTIF(H9:H37,"x") -> 3 | I38: =COUNTIF(I9:I37,"x") -> 10 | J38: =COUNTIF(J9:J37,"x") -> 10 | K38: =COUNTIF(K9:K37,"x") -> 5 | ... O38: =COUNTIF(O9:O37,"x") -> 0 | R38: =COUNTIF(R9:R37,"x") -> 7 | S38: =COUNTIF(S9:S37,"x") -> 7 | T38: =COUNTIF(T9:T37,"x") -> 8 | U38: =COUNTIF(U9:U37,"x") -> 8 | V38: =COUNTIF(V9:V37,"x") -> 5 | W38: =COUNTIF(W9:W37,"x") -> 8 | X38: =COUNTIF(X9:X37,"x") -> 11 | Y38: =COUNTIF(Y9:Y37,"x") -> 0 | ... AF38: =COUNTIF(AF9:AF37,"x") -> 0
A39: Lưu ý: Các đơn vị gửi file mềm qua hệ thống điện tử E-office nhà trường và văn bản giấy về phòng TC-HC-TH (Cô Trần Thị Ánh Phượng).
T40: =TCHC!T41 -> TP. HCM, ngày 2 tháng 11 năm 2023
R41: TRƯỞNG ĐƠN VỊ
B42: Không duyệt nhiệm vụ | C42: Ký tự a
B43: Bổ sung nhiệm vụ | C43: Ký tự b
R47: Lê Quang Liêm

Sheet K.KHCB
