Workbook

Sheet In QD HKII
A1: UBND THÀNH PHỐ HỒ CHÍ MINH
A2: TRƯỜNG CAO ĐẲNG LÝ TỰ TRỌNG
A3: THÀNH PHỐ HỒ CHÍ MINH
A4: TỔNG HỢP THI ĐUA HKII NĂM HỌC 2020 - 2021
A6: TT | C6: Họ và tên | D6: Mã số E-office | E6: Đơn vị | F6: Tháng 02/2021 | H6: Tháng 03/2021 | J6: Tháng 04/2021 | L6: Tháng 05/2021 | N6: Tháng 06/2021
F7: Xếp loại | G7: Điểm | H7: Xếp loại | I7: Điểm | J7: Xếp loại | K7: Điểm | L7: Xếp loại | M7: Điểm | N7: Xếp loại | O7: Điểm | P7: Điểm TB | Q7: Hệ số trừ bậc (C, D, E) | R7: Kết quả xếp loại thi đua | T7: Ghi chú | U7: Ghi chú HKII
D8: 1 | E8: 2 | F8: 17 | G8: 18 | H8: 19 | I8: 20 | J8: 21 | K8: 22 | L8: 23 | M8: 24 | N8: 25 | O8: 26 | P8: 27 | Q8: 28 | R8: 29
A9: 1 | B9: 01 | C9: Phạm Hữu Lộc | D9: 01001001 | E9: Ban Giám hiệu | F9: A1 | G9: =VLOOKUP(F9,Sheet1!$B$2:$C$12,2,TRUE) -> 10 | H9: =IFERROR(VLOOKUP($D9,'[1]Chi tiet'!$D$7:$L$389,8,0),0) -> A1 | I9: =VLOOKUP(H9,Sheet1!$B$2:$C$12,2,TRUE) -> 10 | J9: =IFERROR(VLOOKUP($D9,'[2]Gui chi Quynh'!D$7:K$393,7,0),0) -> A1 | K9: =VLOOKUP(J9,Sheet1!$B$2:$C$12,2,TRUE) -> 10 | L9: =IFERROR(VLOOKUP($D9,'[3]Chi tiet'!$D$7:$L$397,8,0),0) -> A1 | M9: =VLOOKUP(L9,Sheet1!$B$2:$C$12,2,TRUE) -> 10 | N9: =IFERROR(VLOOKUP($D9,#REF!,3,0),0) -> 0 | O9: =VLOOKUP(N9,Sheet1!$B$2:$C$12,2,TRUE) -> #N/A | P9: =ROUND(AVERAGE(G9,I9,K9,M9,O9),2) -> #N/A | Q9: =COUNTIF(F9:O9,"C*")*1+COUNTIF(F9:O9,"D")*2+COUNTIF(F9:O9,"E")*3 -> 0 | R9: =IF(Q9>=3,"Không hoàn thành",IF(AND($P9>=8,$P9<=10,Q9=0),"Hoàn thành xuất sắc nhiệm vụ",IF(AND($P9>=8,$P9<=10,Q9=1),"Hoàn thành tốt nhiệm vụ",IF(AND($P9>=8,$P9<=10,Q9=2),"Hoàn thành nhiệm vụ",IF(AND($P9>6,$P9<8,Q9<=1),"Hoàn thành tốt nhiệm vụ",IF(AND($P9>6,$P9<8,Q9=2),"Hoàn thành nhiệm vụ",IF(AND($P9>=5,$P9<=6,Q9<=2),"Hoàn thành nhiệm vụ",IF(AND($P9<5,Q9>3),"Không hoàn thành","")))))))) -> #N/A
A10: =A9+1 -> 2 | B10: 02 | C10: Đinh Văn Đệ | D10: 01001006 | E10: Ban Giám hiệu | F10: A1 | G10: =VLOOKUP(F10,Sheet1!$B$2:$C$12,2,TRUE) -> 10 | H10: =IFERROR(VLOOKUP($D10,'[1]Chi tiet'!$D$7:$L$389,8,0),0) -> A1 | I10: =VLOOKUP(H10,Sheet1!$B$2:$C$12,2,TRUE) -> 10 | J10: =IFERROR(VLOOKUP($D10,'[2]Gui chi Quynh'!D$7:K$393,7,0),0) -> A1 | K10: =VLOOKUP(J10,Sheet1!$B$2:$C$12,2,TRUE) -> 10 | L10: =IFERROR(VLOOKUP($D10,'[3]Chi tiet'!$D$7:$L$397,8,0),0) -> A1 | M10: =VLOOKUP(L10,Sheet1!$B$2:$C$12,2,TRUE) -> 10 | N10: =IFERROR(VLOOKUP($D10,#REF!,3,0),0) -> 0 | O10: =VLOOKUP(N10,Sheet1!$B$2:$C$12,2,TRUE) -> #N/A | P10: =ROUND(AVERAGE(G10,I10,K10,M10,O10),2) -> #N/A | Q10: =COUNTIF(F10:O10,"C*")*1+COUNTIF(F10:O10,"D")*2+COUNTIF(F10:O10,"E")*3 -> 0 | R10: =IF(Q10>=3,"Không hoàn thành",IF(AND($P10>=8,$P10<=10,Q10=0),"Hoàn thành xuất sắc nhiệm vụ",IF(AND($P10>=8,$P10<=10,Q10=1),"Hoàn thành tốt nhiệm vụ",IF(AND($P10>=8,$P10<=10,Q10=2),"Hoàn thành nhiệm vụ",IF(AND($P10>6,$P10<8,Q10<=1),"Hoàn thành tốt nhiệm vụ",IF(AND($P10>6,$P10<8,Q10=2),"Hoàn thành nhiệm vụ",IF(AND($P10>=5,$P10<=6,Q10<=2),"Hoàn thành nhiệm vụ",IF(AND($P10<5,Q10>3),"Không hoàn thành","")))))))) -> #N/A
A11: =A10+1 -> 3 | B11: 03 | C11: Đinh Hồng Minh | D11: 01002001 | E11: Ban Giám hiệu | F11: A1 | G11: =VLOOKUP(F11,Sheet1!$B$2:$C$12,2,TRUE) -> 10 | H11: =IFERROR(VLOOKUP($D11,'[1]Chi tiet'!$D$7:$L$389,8,0),0) -> A1 | I11: =VLOOKUP(H11,Sheet1!$B$2:$C$12,2,TRUE) -> 10 | J11: =IFERROR(VLOOKUP($D11,'[2]Gui chi Quynh'!D$7:K$393,7,0),0) -> A1 | K11: =VLOOKUP(J11,Sheet1!$B$2:$C$12,2,TRUE) -> 10 | L11: =IFERROR(VLOOKUP($D11,'[3]Chi tiet'!$D$7:$L$397,8,0),0) -> A1 | M11: =VLOOKUP(L11,Sheet1!$B$2:$C$12,2,TRUE) -> 10 | N11: =IFERROR(VLOOKUP($D11,#REF!,3,0),0) -> 0 | O11: =VLOOKUP(N11,Sheet1!$B$2:$C$12,2,TRUE) -> #N/A | P11: =ROUND(AVERAGE(G11,I11,K11,M11,O11),2) -> #N/A | Q11: =COUNTIF(F11:O11,"C*")*1+COUNTIF(F11:O11,"D")*2+COUNTIF(F11:O11,"E")*3 -> 0 | R11: =IF(Q11>=3,"Không hoàn thành",IF(AND($P11>=8,$P11<=10,Q11=0),"Hoàn thành xuất sắc nhiệm vụ",IF(AND($P11>=8,$P11<=10,Q11=1),"Hoàn thành tốt nhiệm vụ",IF(AND($P11>=8,$P11<=10,Q11=2),"Hoàn thành nhiệm vụ",IF(AND($P11>6,$P11<8,Q11<=1),"Hoàn thành tốt nhiệm vụ",IF(AND($P11>6,$P11<8,Q11=2),"Hoàn thành nhiệm vụ",IF(AND($P11>=5,$P11<=6,Q11<=2),"Hoàn thành nhiệm vụ",IF(AND($P11<5,Q11>3),"Không hoàn thành","")))))))) -> #N/A
A12: =A11+1 -> 4 | B12: 04 | C12: Châu Văn Bảo | D12: 01014037 | E12: Ban Giám hiệu | F12: A1 | G12: =VLOOKUP(F12,Sheet1!$B$2:$C$12,2,TRUE) -> 10 | H12: =IFERROR(VLOOKUP($D12,'[1]Chi tiet'!$D$7:$L$389,8,0),0) -> A1 | I12: =VLOOKUP(H12,Sheet1!$B$2:$C$12,2,TRUE) -> 10 | J12: =IFERROR(VLOOKUP($D12,'[2]Gui chi Quynh'!D$7:K$393,7,0),0) -> A1 | K12: =VLOOKUP(J12,Sheet1!$B$2:$C$12,2,TRUE) -> 10 | L12: =IFERROR(VLOOKUP($D12,'[3]Chi tiet'!$D$7:$L$397,8,0),0) -> A1 | M12: =VLOOKUP(L12,Sheet1!$B$2:$C$12,2,TRUE) -> 10 | N12: =IFERROR(VLOOKUP($D12,#REF!,3,0),0) -> 0 | O12: =VLOOKUP(N12,Sheet1!$B$2:$C$12,2,TRUE) -> #N/A | P12: =ROUND(AVERAGE(G12,I12,K12,M12,O12),2) -> #N/A | Q12: =COUNTIF(F12:O12,"C*")*1+COUNTIF(F12:O12,"D")*2+COUNTIF(F12:O12,"E")*3 -> 0 | R12: =IF(Q12>=3,"Không hoàn thành",IF(AND($P12>=8,$P12<=10,Q12=0),"Hoàn thành xuất sắc nhiệm vụ",IF(AND($P12>=8,$P12<=10,Q12=1),"Hoàn thành tốt nhiệm vụ",IF(AND($P12>=8,$P12<=10,Q12=2),"Hoàn thành nhiệm vụ",IF(AND($P12>6,$P12<8,Q12<=1),"Hoàn thành tốt nhiệm vụ",IF(AND($P12>6,$P12<8,Q12=2),"Hoàn thành nhiệm vụ",IF(AND($P12>=5,$P12<=6,Q12<=2),"Hoàn thành nhiệm vụ",IF(AND($P12<5,Q12>3),"Không hoàn thành","")))))))) -> #N/A
A13: =A12+1 -> 5 | B13: 01 | C13: Lâm Viết Dũng | D13: 01007009 | E13: Phòng Tổ chức - Hành chính - Tổng hợp | F13: A1 | G13: =VLOOKUP(F13,Sheet1!$B$2:$C$12,2,TRUE) -> 10 | H13: =IFERROR(VLOOKUP($D13,'[1]Chi tiet'!$D$7:$L$389,8,0),0) -> A1 | I13: =VLOOKUP(H13,Sheet1!$B$2:$C$12,2,TRUE) -> 10 | J13: =IFERROR(VLOOKUP($D13,'[2]Gui chi Quynh'!D$7:K$393,7,0),0) -> A1 | K13: =VLOOKUP(J13,Sheet1!$B$2:$C$12,2,TRUE) -> 10 | L13: =IFERROR(VLOOKUP($D13,'[3]Chi tiet'!$D$7:$L$397,8,0),0) -> A1 | M13: =VLOOKUP(L13,Sheet1!$B$2:$C$12,2,TRUE) -> 10 | N13: =IFERROR(VLOOKUP($D13,#REF!,3,0),0) -> 0 | O13: =VLOOKUP(N13,Sheet1!$B$2:$C$12,2,TRUE) -> #N/A | P13: =ROUND(AVERAGE(G13,I13,K13,M13,O13),2) -> #N/A | Q13: =COUNTIF(F13:O13,"C*")*1+COUNTIF(F13:O13,"D")*2+COUNTIF(F13:O13,"E")*3 -> 0 | R13: =IF(Q13>=3,"Không hoàn thành",IF(AND($P13>=8,$P13<=10,Q13=0),"Hoàn thành xuất sắc nhiệm vụ",IF(AND($P13>=8,$P13<=10,Q13=1),"Hoàn thành tốt nhiệm vụ",IF(AND($P13>=8,$P13<=10,Q13=2),"Hoàn thành nhiệm vụ",IF(AND($P13>6,$P13<8,Q13<=1),"Hoàn thành tốt nhiệm vụ",IF(AND($P13>6,$P13<8,Q13=2),"Hoàn thành nhiệm vụ",IF(AND($P13>=5,$P13<=6,Q13<=2),"Hoàn thành nhiệm vụ",IF(AND($P13<5,Q13>3),"Không hoàn thành","")))))))) -> #N/A
A14: =A13+1 -> 6 | B14: 25 | C14: Huỳnh Thị Minh Ly | D14: 01004007 | E14: Phòng Tổ chức - Hành chính - Tổng hợp | F14: A2 | G14: =VLOOKUP(F14,Sheet1!$B$2:$C$12,2,TRUE) -> 9 | H14: =IFERROR(VLOOKUP($D14,'[1]Chi tiet'!$D$7:$L$389,8,0),0) -> A2 | I14: =VLOOKUP(H14,Sheet1!$B$2:$C$12,2,TRUE) -> 9 | J14: =IFERROR(VLOOKUP($D14,'[2]Gui chi Quynh'!D$7:K$393,7,0),0) -> A2 | K14: =VLOOKUP(J14,Sheet1!$B$2:$C$12,2,TRUE) -> 9 | L14: =IFERROR(VLOOKUP($D14,'[3]Chi tiet'!$D$7:$L$397,8,0),0) -> A1 | M14: =VLOOKUP(L14,Sheet1!$B$2:$C$12,2,TRUE) -> 10 | N14: =IFERROR(VLOOKUP($D14,#REF!,3,0),0) -> 0 | O14: =VLOOKUP(N14,Sheet1!$B$2:$C$12,2,TRUE) -> #N/A | P14: =ROUND(AVERAGE(G14,I14,K14,M14,O14),2) -> #N/A | Q14: =COUNTIF(F14:O14,"C*")*1+COUNTIF(F14:O14,"D")*2+COUNTIF(F14:O14,"E")*3 -> 0 | R14: =IF(Q14>=3,"Không hoàn thành",IF(AND($P14>=8,$P14<=10,Q14=0),"Hoàn thành xuất sắc nhiệm vụ",IF(AND($P14>=8,$P14<=10,Q14=1),"Hoàn thành tốt nhiệm vụ",IF(AND($P14>=8,$P14<=10,Q14=2),"Hoàn thành nhiệm vụ",IF(AND($P14>6,$P14<8,Q14<=1),"Hoàn thành tốt nhiệm vụ",IF(AND($P14>6,$P14<8,Q14=2),"Hoàn thành nhiệm vụ",IF(AND($P14>=5,$P14<=6,Q14<=2),"Hoàn thành nhiệm vụ",IF(AND($P14<5,Q14>3),"Không hoàn thành","")))))))) -> #N/A
A15: =A14+1 -> 7 | B15: 02 | C15: Vũ Như Quỳnh | D15: 01002017 | E15: Phòng Tổ chức - Hành chính - Tổng hợp | F15: A2 | G15: =VLOOKUP(F15,Sheet1!$B$2:$C$12,2,TRUE) -> 9 | H15: =IFERROR(VLOOKUP($D15,'[1]Chi tiet'!$D$7:$L$389,8,0),0) -> A2 | I15: =VLOOKUP(H15,Sheet1!$B$2:$C$12,2,TRUE) -> 9 | J15: =IFERROR(VLOOKUP($D15,'[2]Gui chi Quynh'!D$7:K$393,7,0),0) -> A2 | K15: =VLOOKUP(J15,Sheet1!$B$2:$C$12,2,TRUE) -> 9 | L15: =IFERROR(VLOOKUP($D15,'[3]Chi tiet'!$D$7:$L$397,8,0),0) -> A3 | M15: =VLOOKUP(L15,Sheet1!$B$2:$C$12,2,TRUE) -> 8 | N15: =IFERROR(VLOOKUP($D15,#REF!,3,0),0) -> 0 | O15: =VLOOKUP(N15,Sheet1!$B$2:$C$12,2,TRUE) -> #N/A | P15: =ROUND(AVERAGE(G15,I15,K15,M15,O15),2) -> #N/A | Q15: =COUNTIF(F15:O15,"C*")*1+COUNTIF(F15:O15,"D")*2+COUNTIF(F15:O15,"E")*3 -> 0 | R15: =IF(Q15>=3,"Không hoàn thành",IF(AND($P15>=8,$P15<=10,Q15=0),"Hoàn thành xuất sắc nhiệm vụ",IF(AND($P15>=8,$P15<=10,Q15=1),"Hoàn thành tốt nhiệm vụ",IF(AND($P15>=8,$P15<=10,Q15=2),"Hoàn thành nhiệm vụ",IF(AND($P15>6,$P15<8,Q15<=1),"Hoàn thành tốt nhiệm vụ",IF(AND($P15>6,$P15<8,Q15=2),"Hoàn thành nhiệm vụ",IF(AND($P15>=5,$P15<=6,Q15<=2),"Hoàn thành nhiệm vụ",IF(AND($P15<5,Q15>3),"Không hoàn thành","")))))))) -> #N/A
A16: =A15+1 -> 8 | B16: 03 | C16: Phan Thị Ngọc Phượng | D16: 01002018 | E16: Phòng Tổ chức - Hành chính - Tổng hợp | F16: A3 | G16: =VLOOKUP(F16,Sheet1!$B$2:$C$12,2,TRUE) -> 8 | H16: =IFERROR(VLOOKUP($D16,'[1]Chi tiet'!$D$7:$L$389,8,0),0) -> A2 | I16: =VLOOKUP(H16,Sheet1!$B$2:$C$12,2,TRUE) -> 9 | J16: =IFERROR(VLOOKUP($D16,'[2]Gui chi Quynh'!D$7:K$393,7,0),0) -> A3 | K16: =VLOOKUP(J16,Sheet1!$B$2:$C$12,2,TRUE) -> 8 | L16: =IFERROR(VLOOKUP($D16,'[3]Chi tiet'!$D$7:$L$397,8,0),0) -> A2 | M16: =VLOOKUP(L16,Sheet1!$B$2:$C$12,2,TRUE) -> 9 | N16: =IFERROR(VLOOKUP($D16,#REF!,3,0),0) -> 0 | O16: =VLOOKUP(N16,Sheet1!$B$2:$C$12,2,TRUE) -> #N/A | P16: =ROUND(AVERAGE(G16,I16,K16,M16,O16),2) -> #N/A | Q16: =COUNTIF(F16:O16,"C*")*1+COUNTIF(F16:O16,"D")*2+COUNTIF(F16:O16,"E")*3 -> 0 | R16: =IF(Q16>=3,"Không hoàn thành",IF(AND($P16>=8,$P16<=10,Q16=0),"Hoàn thành xuất sắc nhiệm vụ",IF(AND($P16>=8,$P16<=10,Q16=1),"Hoàn thành tốt nhiệm vụ",IF(AND($P16>=8,$P16<=10,Q16=2),"Hoàn thành nhiệm vụ",IF(AND($P16>6,$P16<8,Q16<=1),"Hoàn thành tốt nhiệm vụ",IF(AND($P16>6,$P16<8,Q16=2),"Hoàn thành nhiệm vụ",IF(AND($P16>=5,$P16<=6,Q16<=2),"Hoàn thành nhiệm vụ",IF(AND($P16<5,Q16>3),"Không hoàn thành","")))))))) -> #N/A
A17: =A16+1 -> 9 | B17: 04 | C17: Nguyễn Thị Bích Liễu | D17: 01002005 | E17: Phòng Tổ chức - Hành chính - Tổng hợp | F17: A3 | G17: =VLOOKUP(F17,Sheet1!$B$2:$C$12,2,TRUE) -> 8 | H17: =IFERROR(VLOOKUP($D17,'[1]Chi tiet'!$D$7:$L$389,8,0),0) -> A2 | I17: =VLOOKUP(H17,Sheet1!$B$2:$C$12,2,TRUE) -> 9 | J17: =IFERROR(VLOOKUP($D17,'[2]Gui chi Quynh'!D$7:K$393,7,0),0) -> A3 | K17: =VLOOKUP(J17,Sheet1!$B$2:$C$12,2,TRUE) -> 8 | L17: =IFERROR(VLOOKUP($D17,'[3]Chi tiet'!$D$7:$L$397,8,0),0) -> A3 | M17: =VLOOKUP(L17,Sheet1!$B$2:$C$12,2,TRUE) -> 8 | N17: =IFERROR(VLOOKUP($D17,#REF!,3,0),0) -> 0 | O17: =VLOOKUP(N17,Sheet1!$B$2:$C$12,2,TRUE) -> #N/A | P17: =ROUND(AVERAGE(G17,I17,K17,M17,O17),2) -> #N/A | Q17: =COUNTIF(F17:O17,"C*")*1+COUNTIF(F17:O17,"D")*2+COUNTIF(F17:O17,"E")*3 -> 0 | R17: =IF(Q17>=3,"Không hoàn thành",IF(AND($P17>=8,$P17<=10,Q17=0),"Hoàn thành xuất sắc nhiệm vụ",IF(AND($P17>=8,$P17<=10,Q17=1),"Hoàn thành tốt nhiệm vụ",IF(AND($P17>=8,$P17<=10,Q17=2),"Hoàn thành nhiệm vụ",IF(AND($P17>6,$P17<8,Q17<=1),"Hoàn thành tốt nhiệm vụ",IF(AND($P17>6,$P17<8,Q17=2),"Hoàn thành nhiệm vụ",IF(AND($P17>=5,$P17<=6,Q17<=2),"Hoàn thành nhiệm vụ",IF(AND($P17<5,Q17>3),"Không hoàn thành","")))))))) -> #N/A
A18: =A17+1 -> 10 | B18: 05 | C18: Nguyễn Văn Chì | D18: 01023001 | E18: Phòng Tổ chức - Hành chính - Tổng hợp | F18: A4 | G18: =VLOOKUP(F18,Sheet1!$B$2:$C$12,2,TRUE) -> 7 | H18: =IFERROR(VLOOKUP($D18,'[1]Chi tiet'!$D$7:$L$389,8,0),0) -> A2 | I18: =VLOOKUP(H18,Sheet1!$B$2:$C$12,2,TRUE) -> 9 | J18: =IFERROR(VLOOKUP($D18,'[2]Gui chi Quynh'!D$7:K$393,7,0),0) -> A3 | K18: =VLOOKUP(J18,Sheet1!$B$2:$C$12,2,TRUE) -> 8 | L18: =IFERROR(VLOOKUP($D18,'[3]Chi tiet'!$D$7:$L$397,8,0),0) -> A3 | M18: =VLOOKUP(L18,Sheet1!$B$2:$C$12,2,TRUE) -> 8 | N18: =IFERROR(VLOOKUP($D18,#REF!,3,0),0) -> 0 | O18: =VLOOKUP(N18,Sheet1!$B$2:$C$12,2,TRUE) -> #N/A | P18: =ROUND(AVERAGE(G18,I18,K18,M18,O18),2) -> #N/A | Q18: =COUNTIF(F18:O18,"C*")*1+COUNTIF(F18:O18,"D")*2+COUNTIF(F18:O18,"E")*3 -> 0 | R18: =IF(Q18>=3,"Không hoàn thành",IF(AND($P18>=8,$P18<=10,Q18=0),"Hoàn thành xuất sắc nhiệm vụ",IF(AND($P18>=8,$P18<=10,Q18=1),"Hoàn thành tốt nhiệm vụ",IF(AND($P18>=8,$P18<=10,Q18=2),"Hoàn thành nhiệm vụ",IF(AND($P18>6,$P18<8,Q18<=1),"Hoàn thành tốt nhiệm vụ",IF(AND($P18>6,$P18<8,Q18=2),"Hoàn thành nhiệm vụ",IF(AND($P18>=5,$P18<=6,Q18<=2),"Hoàn thành nhiệm vụ",IF(AND($P18<5,Q18>3),"Không hoàn thành","")))))))) -> #N/A
A19: =A18+1 -> 11 | B19: 06 | C19: Trần Thị Ánh Phượng | D19: 01017006 | E19: Phòng Tổ chức - Hành chính - Tổng hợp | F19: A3 | G19: =VLOOKUP(F19,Sheet1!$B$2:$C$12,2,TRUE) -> 8 | H19: =IFERROR(VLOOKUP($D19,'[1]Chi tiet'!$D$7:$L$389,8,0),0) -> A2 | I19: =VLOOKUP(H19,Sheet1!$B$2:$C$12,2,TRUE) -> 9 | J19: =IFERROR(VLOOKUP($D19,'[2]Gui chi Quynh'!D$7:K$393,7,0),0) -> A3 | K19: =VLOOKUP(J19,Sheet1!$B$2:$C$12,2,TRUE) -> 8 | L19: =IFERROR(VLOOKUP($D19,'[3]Chi tiet'!$D$7:$L$397,8,0),0) -> A2 | M19: =VLOOKUP(L19,Sheet1!$B$2:$C$12,2,TRUE) -> 9 | N19: =IFERROR(VLOOKUP($D19,#REF!,3,0),0) -> 0 | O19: =VLOOKUP(N19,Sheet1!$B$2:$C$12,2,TRUE) -> #N/A | P19: =ROUND(AVERAGE(G19,I19,K19,M19,O19),2) -> #N/A | Q19: =COUNTIF(F19:O19,"C*")*1+COUNTIF(F19:O19,"D")*2+COUNTIF(F19:O19,"E")*3 -> 0 | R19: =IF(Q19>=3,"Không hoàn thành",IF(AND($P19>=8,$P19<=10,Q19=0),"Hoàn thành xuất sắc nhiệm vụ",IF(AND($P19>=8,$P19<=10,Q19=1),"Hoàn thành tốt nhiệm vụ",IF(AND($P19>=8,$P19<=10,Q19=2),"Hoàn thành nhiệm vụ",IF(AND($P19>6,$P19<8,Q19<=1),"Hoàn thành tốt nhiệm vụ",IF(AND($P19>6,$P19<8,Q19=2),"Hoàn thành nhiệm vụ",IF(AND($P19>=5,$P19<=6,Q19<=2),"Hoàn thành nhiệm vụ",IF(AND($P19<5,Q19>3),"Không hoàn thành","")))))))) -> #N/A
A20: =A19+1 -> 12 | B20: 07 | C20: Trần Văn Cu Anh | D20: 01002007 | E20: Phòng Tổ chức - Hành chính - Tổng hợp | F20: A4 | G20: =VLOOKUP(F20,Sheet1!$B$2:$C$12,2,TRUE) -> 7 | H20: =IFERROR(VLOOKUP($D20,'[1]Chi tiet'!$D$7:$L$389,8,0),0) -> A3 | I20: =VLOOKUP(H20,Sheet1!$B$2:$C$12,2,TRUE) -> 8 | J20: =IFERROR(VLOOKUP($D20,'[2]Gui chi Quynh'!D$7:K$393,7,0),0) -> A3 | K20: =VLOOKUP(J20,Sheet1!$B$2:$C$12,2,TRUE) -> 8 | L20: =IFERROR(VLOOKUP($D20,'[3]Chi tiet'!$D$7:$L$397,8,0),0) -> A3 | M20: =VLOOKUP(L20,Sheet1!$B$2:$C$12,2,TRUE) -> 8 | N20: =IFERROR(VLOOKUP($D20,#REF!,3,0),0) -> 0 | O20: =VLOOKUP(N20,Sheet1!$B$2:$C$12,2,TRUE) -> #N/A | P20: =ROUND(AVERAGE(G20,I20,K20,M20,O20),2) -> #N/A | Q20: =COUNTIF(F20:O20,"C*")*1+COUNTIF(F20:O20,"D")*2+COUNTIF(F20:O20,"E")*3 -> 0 | R20: =IF(Q20>=3,"Không hoàn thành",IF(AND($P20>=8,$P20<=10,Q20=0),"Hoàn thành xuất sắc nhiệm vụ",IF(AND($P20>=8,$P20<=10,Q20=1),"Hoàn thành tốt nhiệm vụ",IF(AND($P20>=8,$P20<=10,Q20=2),"Hoàn thành nhiệm vụ",IF(AND($P20>6,$P20<8,Q20<=1),"Hoàn thành tốt nhiệm vụ",IF(AND($P20>6,$P20<8,Q20=2),"Hoàn thành nhiệm vụ",IF(AND($P20>=5,$P20<=6,Q20<=2),"Hoàn thành nhiệm vụ",IF(AND($P20<5,Q20>3),"Không hoàn thành","")))))))) -> #N/A
A21: =A20+1 -> 13 | B21: 08 | C21: Lưu Hoàng Hải Yến | D21: 01002019 | E21: Phòng Tổ chức - Hành chính - Tổng hợp | F21: A2 | G21: =VLOOKUP(F21,Sheet1!$B$2:$C$12,2,TRUE) -> 9 | H21: =IFERROR(VLOOKUP($D21,'[1]Chi tiet'!$D$7:$L$389,8,0),0) -> A2 | I21: =VLOOKUP(H21,Sheet1!$B$2:$C$12,2,TRUE) -> 9 | J21: =IFERROR(VLOOKUP($D21,'[2]Gui chi Quynh'!D$7:K$393,7,0),0) -> A2 | K21: =VLOOKUP(J21,Sheet1!$B$2:$C$12,2,TRUE) -> 9 | L21: =IFERROR(VLOOKUP($D21,'[3]Chi tiet'!$D$7:$L$397,8,0),0) -> A1 | M21: =VLOOKUP(L21,Sheet1!$B$2:$C$12,2,TRUE) -> 10 | N21: =IFERROR(VLOOKUP($D21,#REF!,3,0),0) -> 0 | O21: =VLOOKUP(N21,Sheet1!$B$2:$C$12,2,TRUE) -> #N/A | P21: =ROUND(AVERAGE(G21,I21,K21,M21,O21),2) -> #N/A | Q21: =COUNTIF(F21:O21,"C*")*1+COUNTIF(F21:O21,"D")*2+COUNTIF(F21:O21,"E")*3 -> 0 | R21: =IF(Q21>=3,"Không hoàn thành",IF(AND($P21>=8,$P21<=10,Q21=0),"Hoàn thành xuất sắc nhiệm vụ",IF(AND($P21>=8,$P21<=10,Q21=1),"Hoàn thành tốt nhiệm vụ",IF(AND($P21>=8,$P21<=10,Q21=2),"Hoàn thành nhiệm vụ",IF(AND($P21>6,$P21<8,Q21<=1),"Hoàn thành tốt nhiệm vụ",IF(AND($P21>6,$P21<8,Q21=2),"Hoàn thành nhiệm vụ",IF(AND($P21>=5,$P21<=6,Q21<=2),"Hoàn thành nhiệm vụ",IF(AND($P21<5,Q21>3),"Không hoàn thành","")))))))) -> #N/A
... A36: =A35+1 -> 28 | B36: 23 | C36: Huỳnh Ngọc Liên | D36: 01002036 | E36: Phòng Tổ chức - Hành chính - Tổng hợp | F36: A3 | G36: =VLOOKUP(F36,Sheet1!$B$2:$C$12,2,TRUE) -> 8 | H36: =IFERROR(VLOOKUP($D36,'[1]Chi tiet'!$D$7:$L$389,8,0),0) -> A3 | I36: =VLOOKUP(H36,Sheet1!$B$2:$C$12,2,TRUE) -> 8 | J36: =IFERROR(VLOOKUP($D36,'[2]Gui chi Quynh'!D$7:K$393,7,0),0) -> A2 | K36: =VLOOKUP(J36,Sheet1!$B$2:$C$12,2,TRUE) -> 9 | L36: =IFERROR(VLOOKUP($D36,'[3]Chi tiet'!$D$7:$L$397,8,0),0) -> A3 | M36: =VLOOKUP(L36,Sheet1!$B$2:$C$12,2,TRUE) -> 8 | N36: =IFERROR(VLOOKUP($D36,#REF!,3,0),0) -> 0 | O36: =VLOOKUP(N36,Sheet1!$B$2:$C$12,2,TRUE) -> #N/A | P36: =ROUND(AVERAGE(G36,I36,K36,M36,O36),2) -> #N/A | Q36: =COUNTIF(F36:O36,"C*")*1+COUNTIF(F36:O36,"D")*2+COUNTIF(F36:O36,"E")*3 -> 0 | R36: =IF(Q36>=3,"Không hoàn thành",IF(AND($P36>=8,$P36<=10,Q36=0),"Hoàn thành xuất sắc nhiệm vụ",IF(AND($P36>=8,$P36<=10,Q36=1),"Hoàn thành tốt nhiệm vụ",IF(AND($P36>=8,$P36<=10,Q36=2),"Hoàn thành nhiệm vụ",IF(AND($P36>6,$P36<8,Q36<=1),"Hoàn thành tốt nhiệm vụ",IF(AND($P36>6,$P36<8,Q36=2),"Hoàn thành nhiệm vụ",IF(AND($P36>=5,$P36<=6,Q36<=2),"Hoàn thành nhiệm vụ",IF(AND($P36<5,Q36>3),"Không hoàn thành","")))))))) -> #N/A
A37: =A36+1 -> 29 | B37: 24 | C37: Phạm Quang Tùng | D37: 01010068 | E37: Phòng Tổ chức - Hành chính - Tổng hợp | F37: B1 | G37: =VLOOKUP(F37,Sheet1!$B$2:$C$12,2,TRUE) -> 6 | H37: =IFERROR(VLOOKUP($D37,'[1]Chi tiet'!$D$7:$L$389,8,0),0) -> A4 | I37: =VLOOKUP(H37,Sheet1!$B$2:$C$12,2,TRUE) -> 7 | J37: =IFERROR(VLOOKUP($D37,'[2]Gui chi Quynh'!D$7:K$393,7,0),0) -> A3 | K37: =VLOOKUP(J37,Sheet1!$B$2:$C$12,2,TRUE) -> 8 | L37: =IFERROR(VLOOKUP($D37,'[3]Chi tiet'!$D$7:$L$397,8,0),0) -> A3 | M37: =VLOOKUP(L37,Sheet1!$B$2:$C$12,2,TRUE) -> 8 | N37: =IFERROR(VLOOKUP($D37,#REF!,3,0),0) -> 0 | O37: =VLOOKUP(N37,Sheet1!$B$2:$C$12,2,TRUE) -> #N/A | P37: =ROUND(AVERAGE(G37,I37,K37,M37,O37),2) -> #N/A | Q37: =COUNTIF(F37:O37,"C*")*1+COUNTIF(F37:O37,"D")*2+COUNTIF(F37:O37,"E")*3 -> 0 | R37: =IF(Q37>=3,"Không hoàn thành",IF(AND($P37>=8,$P37<=10,Q37=0),"Hoàn thành xuất sắc nhiệm vụ",IF(AND($P37>=8,$P37<=10,Q37=1),"Hoàn thành tốt nhiệm vụ",IF(AND($P37>=8,$P37<=10,Q37=2),"Hoàn thành nhiệm vụ",IF(AND($P37>6,$P37<8,Q37<=1),"Hoàn thành tốt nhiệm vụ",IF(AND($P37>6,$P37<8,Q37=2),"Hoàn thành nhiệm vụ",IF(AND($P37>=5,$P37<=6,Q37<=2),"Hoàn thành nhiệm vụ",IF(AND($P37<5,Q37>3),"Không hoàn thành","")))))))) -> #N/A | T37: Thử việc T11/2020 HĐ T12/2020
A38: =A37+1 -> 30 | B38: 01 | C38: Nguyễn Kính | D38: 01002024 | E38: Phòng Kế hoạch - Tài chính | F38: A1 | G38: =VLOOKUP(F38,Sheet1!$B$2:$C$12,2,TRUE) -> 10 | H38: =IFERROR(VLOOKUP($D38,'[1]Chi tiet'!$D$7:$L$389,8,0),0) -> A1 | I38: =VLOOKUP(H38,Sheet1!$B$2:$C$12,2,TRUE) -> 10 | J38: =IFERROR(VLOOKUP($D38,'[2]Gui chi Quynh'!D$7:K$393,7,0),0) -> A1 | K38: =VLOOKUP(J38,Sheet1!$B$2:$C$12,2,TRUE) -> 10 | L38: =IFERROR(VLOOKUP($D38,'[3]Chi tiet'!$D$7:$L$397,8,0),0) -> A1 | M38: =VLOOKUP(L38,Sheet1!$B$2:$C$12,2,TRUE) -> 10 | N38: =IFERROR(VLOOKUP($D38,#REF!,3,0),0) -> 0 | O38: =VLOOKUP(N38,Sheet1!$B$2:$C$12,2,TRUE) -> #N/A | P38: =ROUND(AVERAGE(G38,I38,K38,M38,O38),2) -> #N/A | Q38: =COUNTIF(F38:O38,"C*")*1+COUNTIF(F38:O38,"D")*2+COUNTIF(F38:O38,"E")*3 -> 0 | R38: =IF(Q38>=3,"Không hoàn thành",IF(AND($P38>=8,$P38<=10,Q38=0),"Hoàn thành xuất sắc nhiệm vụ",IF(AND($P38>=8,$P38<=10,Q38=1),"Hoàn thành tốt nhiệm vụ",IF(AND($P38>=8,$P38<=10,Q38=2),"Hoàn thành nhiệm vụ",IF(AND($P38>6,$P38<8,Q38<=1),"Hoàn thành tốt nhiệm vụ",IF(AND($P38>6,$P38<8,Q38=2),"Hoàn thành nhiệm vụ",IF(AND($P38>=5,$P38<=6,Q38<=2),"Hoàn thành nhiệm vụ",IF(AND($P38<5,Q38>3),"Không hoàn thành","")))))))) -> #N/A
A39: =A38+1 -> 31 | B39: 02 | C39: Nguyễn Thị Kim Dung | D39: 01003002 | E39: Phòng Kế hoạch - Tài chính | F39: A2 | G39: =VLOOKUP(F39,Sheet1!$B$2:$C$12,2,TRUE) -> 9 | H39: =IFERROR(VLOOKUP($D39,'[1]Chi tiet'!$D$7:$L$389,8,0),0) -> A2 | I39: =VLOOKUP(H39,Sheet1!$B$2:$C$12,2,TRUE) -> 9 | J39: =IFERROR(VLOOKUP($D39,'[2]Gui chi Quynh'!D$7:K$393,7,0),0) -> A2 | K39: =VLOOKUP(J39,Sheet1!$B$2:$C$12,2,TRUE) -> 9 | L39: =IFERROR(VLOOKUP($D39,'[3]Chi tiet'!$D$7:$L$397,8,0),0) -> A2 | M39: =VLOOKUP(L39,Sheet1!$B$2:$C$12,2,TRUE) -> 9 | N39: =IFERROR(VLOOKUP($D39,#REF!,3,0),0) -> 0 | O39: =VLOOKUP(N39,Sheet1!$B$2:$C$12,2,TRUE) -> #N/A | P39: =ROUND(AVERAGE(G39,I39,K39,M39,O39),2) -> #N/A | Q39: =COUNTIF(F39:O39,"C*")*1+COUNTIF(F39:O39,"D")*2+COUNTIF(F39:O39,"E")*3 -> 0 | R39: =IF(Q39>=3,"Không hoàn thành",IF(AND($P39>=8,$P39<=10,Q39=0),"Hoàn thành xuất sắc nhiệm vụ",IF(AND($P39>=8,$P39<=10,Q39=1),"Hoàn thành tốt nhiệm vụ",IF(AND($P39>=8,$P39<=10,Q39=2),"Hoàn thành nhiệm vụ",IF(AND($P39>6,$P39<8,Q39<=1),"Hoàn thành tốt nhiệm vụ",IF(AND($P39>6,$P39<8,Q39=2),"Hoàn thành nhiệm vụ",IF(AND($P39>=5,$P39<=6,Q39<=2),"Hoàn thành nhiệm vụ",IF(AND($P39<5,Q39>3),"Không hoàn thành","")))))))) -> #N/A
A40: =A39+1 -> 32 | B40: 03 | C40: Hồng Mộng Tuyết Dung | D40: 01003009 | E40: Phòng Kế hoạch - Tài chính | F40: A2 | G40: =VLOOKUP(F40,Sheet1!$B$2:$C$12,2,TRUE) -> 9 | H40: =IFERROR(VLOOKUP($D40,'[1]Chi tiet'!$D$7:$L$389,8,0),0) -> A2 | I40: =VLOOKUP(H40,Sheet1!$B$2:$C$12,2,TRUE) -> 9 | J40: =IFERROR(VLOOKUP($D40,'[2]Gui chi Quynh'!D$7:K$393,7,0),0) -> A2 | K40: =VLOOKUP(J40,Sheet1!$B$2:$C$12,2,TRUE) -> 9 | L40: =IFERROR(VLOOKUP($D40,'[3]Chi tiet'!$D$7:$L$397,8,0),0) -> A2 | M40: =VLOOKUP(L40,Sheet1!$B$2:$C$12,2,TRUE) -> 9 | N40: =IFERROR(VLOOKUP($D40,#REF!,3,0),0) -> 0 | O40: =VLOOKUP(N40,Sheet1!$B$2:$C$12,2,TRUE) -> #N/A | P40: =ROUND(AVERAGE(G40,I40,K40,M40,O40),2) -> #N/A | Q40: =COUNTIF(F40:O40,"C*")*1+COUNTIF(F40:O40,"D")*2+COUNTIF(F40:O40,"E")*3 -> 0 | R40: =IF(Q40>=3,"Không hoàn thành",IF(AND($P40>=8,$P40<=10,Q40=0),"Hoàn thành xuất sắc nhiệm vụ",IF(AND($P40>=8,$P40<=10,Q40=1),"Hoàn thành tốt nhiệm vụ",IF(AND($P40>=8,$P40<=10,Q40=2),"Hoàn thành nhiệm vụ",IF(AND($P40>6,$P40<8,Q40<=1),"Hoàn thành tốt nhiệm vụ",IF(AND($P40>6,$P40<8,Q40=2),"Hoàn thành nhiệm vụ",IF(AND($P40>=5,$P40<=6,Q40<=2),"Hoàn thành nhiệm vụ",IF(AND($P40<5,Q40>3),"Không hoàn thành","")))))))) -> #N/A
A41: =A40+1 -> 33 | B41: 04 | C41: Trần Thị Minh Thoa | D41: 01003005 | E41: Phòng Kế hoạch - Tài chính | F41: A2 | G41: =VLOOKUP(F41,Sheet1!$B$2:$C$12,2,TRUE) -> 9 | H41: =IFERROR(VLOOKUP($D41,'[1]Chi tiet'!$D$7:$L$389,8,0),0) -> A2 | I41: =VLOOKUP(H41,Sheet1!$B$2:$C$12,2,TRUE) -> 9 | J41: =IFERROR(VLOOKUP($D41,'[2]Gui chi Quynh'!D$7:K$393,7,0),0) -> A2 | K41: =VLOOKUP(J41,Sheet1!$B$2:$C$12,2,TRUE) -> 9 | L41: =IFERROR(VLOOKUP($D41,'[3]Chi tiet'!$D$7:$L$397,8,0),0) -> A2 | M41: =VLOOKUP(L41,Sheet1!$B$2:$C$12,2,TRUE) -> 9 | N41: =IFERROR(VLOOKUP($D41,#REF!,3,0),0) -> 0 | O41: =VLOOKUP(N41,Sheet1!$B$2:$C$12,2,TRUE) -> #N/A | P41: =ROUND(AVERAGE(G41,I41,K41,M41,O41),2) -> #N/A | Q41: =COUNTIF(F41:O41,"C*")*1+COUNTIF(F41:O41,"D")*2+COUNTIF(F41:O41,"E")*3 -> 0 | R41: =IF(Q41>=3,"Không hoàn thành",IF(AND($P41>=8,$P41<=10,Q41=0),"Hoàn thành xuất sắc nhiệm vụ",IF(AND($P41>=8,$P41<=10,Q41=1),"Hoàn thành tốt nhiệm vụ",IF(AND($P41>=8,$P41<=10,Q41=2),"Hoàn thành nhiệm vụ",IF(AND($P41>6,$P41<8,Q41<=1),"Hoàn thành tốt nhiệm vụ",IF(AND($P41>6,$P41<8,Q41=2),"Hoàn thành nhiệm vụ",IF(AND($P41>=5,$P41<=6,Q41<=2),"Hoàn thành nhiệm vụ",IF(AND($P41<5,Q41>3),"Không hoàn thành","")))))))) -> #N/A
A42: =A41+1 -> 34 | B42: 05 | C42: Nguyễn Thị Hồng Thắm | D42: 01003007 | E42: Phòng Kế hoạch - Tài chính | F42: A DN | G42: 7 | H42: =IFERROR(VLOOKUP($D42,'[1]Chi tiet'!$D$7:$L$389,8,0),0) -> A DN | I42: 7 | J42: =IFERROR(VLOOKUP($D42,'[2]Gui chi Quynh'!D$7:K$393,7,0),0) -> A DN | K42: 7 | L42: =IFERROR(VLOOKUP($D42,'[3]Chi tiet'!$D$7:$L$397,8,0),0) -> A2 | M42: =VLOOKUP(L42,Sheet1!$B$2:$C$12,2,TRUE) -> 9 | N42: =IFERROR(VLOOKUP($D42,#REF!,3,0),0) -> 0 | O42: =VLOOKUP(N42,Sheet1!$B$2:$C$12,2,TRUE) -> #N/A | P42: =ROUND(AVERAGE(G42,I42,K42,M42,O42),2) -> #N/A | Q42: =COUNTIF(F42:O42,"C*")*1+COUNTIF(F42:O42,"D")*2+COUNTIF(F42:O42,"E")*3 -> 0 | R42: =IF(Q42>=3,"Không hoàn thành",IF(AND($P42>=8,$P42<=10,Q42=0),"Hoàn thành xuất sắc nhiệm vụ",IF(AND($P42>=8,$P42<=10,Q42=1),"Hoàn thành tốt nhiệm vụ",IF(AND($P42>=8,$P42<=10,Q42=2),"Hoàn thành nhiệm vụ",IF(AND($P42>6,$P42<8,Q42<=1),"Hoàn thành tốt nhiệm vụ",IF(AND($P42>6,$P42<8,Q42=2),"Hoàn thành nhiệm vụ",IF(AND($P42>=5,$P42<=6,Q42<=2),"Hoàn thành nhiệm vụ",IF(AND($P42<5,Q42>3),"Không hoàn thành","")))))))) -> #N/A | S42: Đi làm lại từ tháng 5, thưởng thi đua 2 tháng | T42: Nghỉ hộ sản từ 01/12/20
A43: =A42+1 -> 35 | B43: 06 | C43: Võ Thị Lệ Trân | D43: 01023004 | E43: Phòng Kế hoạch - Tài chính | F43: A2 | G43: =VLOOKUP(F43,Sheet1!$B$2:$C$12,2,TRUE) -> 9 | H43: =IFERROR(VLOOKUP($D43,'[1]Chi tiet'!$D$7:$L$389,8,0),0) -> A2 | I43: =VLOOKUP(H43,Sheet1!$B$2:$C$12,2,TRUE) -> 9 | J43: =IFERROR(VLOOKUP($D43,'[2]Gui chi Quynh'!D$7:K$393,7,0),0) -> A2 | K43: =VLOOKUP(J43,Sheet1!$B$2:$C$12,2,TRUE) -> 9 | L43: =IFERROR(VLOOKUP($D43,'[3]Chi tiet'!$D$7:$L$397,8,0),0) -> A2 | M43: =VLOOKUP(L43,Sheet1!$B$2:$C$12,2,TRUE) -> 9 | N43: =IFERROR(VLOOKUP($D43,#REF!,3,0),0) -> 0 | O43: =VLOOKUP(N43,Sheet1!$B$2:$C$12,2,TRUE) -> #N/A | P43: =ROUND(AVERAGE(G43,I43,K43,M43,O43),2) -> #N/A | Q43: =COUNTIF(F43:O43,"C*")*1+COUNTIF(F43:O43,"D")*2+COUNTIF(F43:O43,"E")*3 -> 0 | R43: =IF(Q43>=3,"Không hoàn thành",IF(AND($P43>=8,$P43<=10,Q43=0),"Hoàn thành xuất sắc nhiệm vụ",IF(AND($P43>=8,$P43<=10,Q43=1),"Hoàn thành tốt nhiệm vụ",IF(AND($P43>=8,$P43<=10,Q43=2),"Hoàn thành nhiệm vụ",IF(AND($P43>6,$P43<8,Q43<=1),"Hoàn thành tốt nhiệm vụ",IF(AND($P43>6,$P43<8,Q43=2),"Hoàn thành nhiệm vụ",IF(AND($P43>=5,$P43<=6,Q43<=2),"Hoàn thành nhiệm vụ",IF(AND($P43<5,Q43>3),"Không hoàn thành","")))))))) -> #N/A
A44: =A43+1 -> 36 | B44: 07 | C44: Trần Thị Thảo Vân | D44: 01003008 | E44: Phòng Kế hoạch - Tài chính | F44: A2 | G44: =VLOOKUP(F44,Sheet1!$B$2:$C$12,2,TRUE) -> 9 | H44: =IFERROR(VLOOKUP($D44,'[1]Chi tiet'!$D$7:$L$389,8,0),0) -> A2 | I44: =VLOOKUP(H44,Sheet1!$B$2:$C$12,2,TRUE) -> 9 | J44: =IFERROR(VLOOKUP($D44,'[2]Gui chi Quynh'!D$7:K$393,7,0),0) -> A2 | K44: =VLOOKUP(J44,Sheet1!$B$2:$C$12,2,TRUE) -> 9 | L44: =IFERROR(VLOOKUP($D44,'[3]Chi tiet'!$D$7:$L$397,8,0),0) -> A2 | M44: =VLOOKUP(L44,Sheet1!$B$2:$C$12,2,TRUE) -> 9 | N44: =IFERROR(VLOOKUP($D44,#REF!,3,0),0) -> 0 | O44: =VLOOKUP(N44,Sheet1!$B$2:$C$12,2,TRUE) -> #N/A | P44: =ROUND(AVERAGE(G44,I44,K44,M44,O44),2) -> #N/A | Q44: =COUNTIF(F44:O44,"C*")*1+COUNTIF(F44:O44,"D")*2+COUNTIF(F44:O44,"E")*3 -> 0 | R44: =IF(Q44>=3,"Không hoàn thành",IF(AND($P44>=8,$P44<=10,Q44=0),"Hoàn thành xuất sắc nhiệm vụ",IF(AND($P44>=8,$P44<=10,Q44=1),"Hoàn thành tốt nhiệm vụ",IF(AND($P44>=8,$P44<=10,Q44=2),"Hoàn thành nhiệm vụ",IF(AND($P44>6,$P44<8,Q44<=1),"Hoàn thành tốt nhiệm vụ",IF(AND($P44>6,$P44<8,Q44=2),"Hoàn thành nhiệm vụ",IF(AND($P44>=5,$P44<=6,Q44<=2),"Hoàn thành nhiệm vụ",IF(AND($P44<5,Q44>3),"Không hoàn thành","")))))))) -> #N/A
A45: =A44+1 -> 37 | B45: 08 | C45: Nguyễn Thụy Nghiêm | D45: 01003014 | E45: Phòng Kế hoạch - Tài chính | F45: A2 | G45: =VLOOKUP(F45,Sheet1!$B$2:$C$12,2,TRUE) -> 9 | H45: =IFERROR(VLOOKUP($D45,'[1]Chi tiet'!$D$7:$L$389,8,0),0) -> A2 | I45: =VLOOKUP(H45,Sheet1!$B$2:$C$12,2,TRUE) -> 9 | J45: =IFERROR(VLOOKUP($D45,'[2]Gui chi Quynh'!D$7:K$393,7,0),0) -> A2 | K45: =VLOOKUP(J45,Sheet1!$B$2:$C$12,2,TRUE) -> 9 | L45: =IFERROR(VLOOKUP($D45,'[3]Chi tiet'!$D$7:$L$397,8,0),0) -> A2 | M45: =VLOOKUP(L45,Sheet1!$B$2:$C$12,2,TRUE) -> 9 | N45: =IFERROR(VLOOKUP($D45,#REF!,3,0),0) -> 0 | O45: =VLOOKUP(N45,Sheet1!$B$2:$C$12,2,TRUE) -> #N/A | P45: =ROUND(AVERAGE(G45,I45,K45,M45,O45),2) -> #N/A | Q45: =COUNTIF(F45:O45,"C*")*1+COUNTIF(F45:O45,"D")*2+COUNTIF(F45:O45,"E")*3 -> 0 | R45: =IF(Q45>=3,"Không hoàn thành",IF(AND($P45>=8,$P45<=10,Q45=0),"Hoàn thành xuất sắc nhiệm vụ",IF(AND($P45>=8,$P45<=10,Q45=1),"Hoàn thành tốt nhiệm vụ",IF(AND($P45>=8,$P45<=10,Q45=2),"Hoàn thành nhiệm vụ",IF(AND($P45>6,$P45<8,Q45<=1),"Hoàn thành tốt nhiệm vụ",IF(AND($P45>6,$P45<8,Q45=2),"Hoàn thành nhiệm vụ",IF(AND($P45>=5,$P45<=6,Q45<=2),"Hoàn thành nhiệm vụ",IF(AND($P45<5,Q45>3),"Không hoàn thành","")))))))) -> #N/A
A46: =A45+1 -> 38 | B46: 01 | C46: Hồ Văn Sĩ | D46: 01004002 | E46: Phòng Tuyển sinh - Đào tạo | F46: A1 | G46: =VLOOKUP(F46,Sheet1!$B$2:$C$12,2,TRUE) -> 10 | H46: =IFERROR(VLOOKUP($D46,'[1]Chi tiet'!$D$7:$L$389,8,0),0) -> A1 | I46: =VLOOKUP(H46,Sheet1!$B$2:$C$12,2,TRUE) -> 10 | J46: =IFERROR(VLOOKUP($D46,'[2]Gui chi Quynh'!D$7:K$393,7,0),0) -> A1 | K46: =VLOOKUP(J46,Sheet1!$B$2:$C$12,2,TRUE) -> 10 | L46: =IFERROR(VLOOKUP($D46,'[3]Chi tiet'!$D$7:$L$397,8,0),0) -> A1 | M46: =VLOOKUP(L46,Sheet1!$B$2:$C$12,2,TRUE) -> 10 | N46: =IFERROR(VLOOKUP($D46,#REF!,3,0),0) -> 0 | O46: =VLOOKUP(N46,Sheet1!$B$2:$C$12,2,TRUE) -> #N/A | P46: =ROUND(AVERAGE(G46,I46,K46,M46,O46),2) -> #N/A | Q46: =COUNTIF(F46:O46,"C*")*1+COUNTIF(F46:O46,"D")*2+COUNTIF(F46:O46,"E")*3 -> 0 | R46: =IF(Q46>=3,"Không hoàn thành",IF(AND($P46>=8,$P46<=10,Q46=0),"Hoàn thành xuất sắc nhiệm vụ",IF(AND($P46>=8,$P46<=10,Q46=1),"Hoàn thành tốt nhiệm vụ",IF(AND($P46>=8,$P46<=10,Q46=2),"Hoàn thành nhiệm vụ",IF(AND($P46>6,$P46<8,Q46<=1),"Hoàn thành tốt nhiệm vụ",IF(AND($P46>6,$P46<8,Q46=2),"Hoàn thành nhiệm vụ",IF(AND($P46>=5,$P46<=6,Q46<=2),"Hoàn thành nhiệm vụ",IF(AND($P46<5,Q46>3),"Không hoàn thành","")))))))) -> #N/A
A47: =A46+1 -> 39 | B47: 02 | C47: Lương Xuân Thịnh | D47: 01004005 | E47: Phòng Tuyển sinh - Đào tạo | F47: A1 | G47: =VLOOKUP(F47,Sheet1!$B$2:$C$12,2,TRUE) -> 10 | H47: =IFERROR(VLOOKUP($D47,'[1]Chi tiet'!$D$7:$L$389,8,0),0) -> A1 | I47: =VLOOKUP(H47,Sheet1!$B$2:$C$12,2,TRUE) -> 10 | J47: =IFERROR(VLOOKUP($D47,'[2]Gui chi Quynh'!D$7:K$393,7,0),0) -> A1 | K47: =VLOOKUP(J47,Sheet1!$B$2:$C$12,2,TRUE) -> 10 | L47: =IFERROR(VLOOKUP($D47,'[3]Chi tiet'!$D$7:$L$397,8,0),0) -> A1 | M47: =VLOOKUP(L47,Sheet1!$B$2:$C$12,2,TRUE) -> 10 | N47: =IFERROR(VLOOKUP($D47,#REF!,3,0),0) -> 0 | O47: =VLOOKUP(N47,Sheet1!$B$2:$C$12,2,TRUE) -> #N/A | P47: =ROUND(AVERAGE(G47,I47,K47,M47,O47),2) -> #N/A | Q47: =COUNTIF(F47:O47,"C*")*1+COUNTIF(F47:O47,"D")*2+COUNTIF(F47:O47,"E")*3 -> 0 | R47: =IF(Q47>=3,"Không hoàn thành",IF(AND($P47>=8,$P47<=10,Q47=0),"Hoàn thành xuất sắc nhiệm vụ",IF(AND($P47>=8,$P47<=10,Q47=1),"Hoàn thành tốt nhiệm vụ",IF(AND($P47>=8,$P47<=10,Q47=2),"Hoàn thành nhiệm vụ",IF(AND($P47>6,$P47<8,Q47<=1),"Hoàn thành tốt nhiệm vụ",IF(AND($P47>6,$P47<8,Q47=2),"Hoàn thành nhiệm vụ",IF(AND($P47>=5,$P47<=6,Q47<=2),"Hoàn thành nhiệm vụ",IF(AND($P47<5,Q47>3),"Không hoàn thành","")))))))) -> #N/A
A48: =A47+1 -> 40 | B48: 03 | C48: Nguyễn Văn Tấn | D48: 01004001 | E48: Phòng Tuyển sinh - Đào tạo | F48: A1 | G48: =VLOOKUP(F48,Sheet1!$B$2:$C$12,2,TRUE) -> 10 | H48: =IFERROR(VLOOKUP($D48,'[1]Chi tiet'!$D$7:$L$389,8,0),0) -> A1 | I48: =VLOOKUP(H48,Sheet1!$B$2:$C$12,2,TRUE) -> 10 | J48: =IFERROR(VLOOKUP($D48,'[2]Gui chi Quynh'!D$7:K$393,7,0),0) -> A1 | K48: =VLOOKUP(J48,Sheet1!$B$2:$C$12,2,TRUE) -> 10 | L48: =IFERROR(VLOOKUP($D48,'[3]Chi tiet'!$D$7:$L$397,8,0),0) -> A1 | M48: =VLOOKUP(L48,Sheet1!$B$2:$C$12,2,TRUE) -> 10 | N48: =IFERROR(VLOOKUP($D48,#REF!,3,0),0) -> 0 | O48: =VLOOKUP(N48,Sheet1!$B$2:$C$12,2,TRUE) -> #N/A | P48: =ROUND(AVERAGE(G48,I48,K48,M48,O48),2) -> #N/A | Q48: =COUNTIF(F48:O48,"C*")*1+COUNTIF(F48:O48,"D")*2+COUNTIF(F48:O48,"E")*3 -> 0 | R48: =IF(Q48>=3,"Không hoàn thành",IF(AND($P48>=8,$P48<=10,Q48=0),"Hoàn thành xuất sắc nhiệm vụ",IF(AND($P48>=8,$P48<=10,Q48=1),"Hoàn thành tốt nhiệm vụ",IF(AND($P48>=8,$P48<=10,Q48=2),"Hoàn thành nhiệm vụ",IF(AND($P48>6,$P48<8,Q48<=1),"Hoàn thành tốt nhiệm vụ",IF(AND($P48>6,$P48<8,Q48=2),"Hoàn thành nhiệm vụ",IF(AND($P48>=5,$P48<=6,Q48<=2),"Hoàn thành nhiệm vụ",IF(AND($P48<5,Q48>3),"Không hoàn thành","")))))))) -> #N/A
A49: =A48+1 -> 41 | B49: 02 | C49: Huỳnh Thị Mai | D49: 01004004 | E49: Phòng Tuyển sinh - Đào tạo | F49: A1 | G49: =VLOOKUP(F49,Sheet1!$B$2:$C$12,2,TRUE) -> 10 | H49: =IFERROR(VLOOKUP($D49,'[1]Chi tiet'!$D$7:$L$389,8,0),0) -> A1 | I49: =VLOOKUP(H49,Sheet1!$B$2:$C$12,2,TRUE) -> 10 | J49: =IFERROR(VLOOKUP($D49,'[2]Gui chi Quynh'!D$7:K$393,7,0),0) -> A1 | K49: =VLOOKUP(J49,Sheet1!$B$2:$C$12,2,TRUE) -> 10 | L49: =IFERROR(VLOOKUP($D49,'[3]Chi tiet'!$D$7:$L$397,8,0),0) -> A1 | M49: =VLOOKUP(L49,Sheet1!$B$2:$C$12,2,TRUE) -> 10 | N49: =IFERROR(VLOOKUP($D49,#REF!,3,0),0) -> 0 | O49: =VLOOKUP(N49,Sheet1!$B$2:$C$12,2,TRUE) -> #N/A | P49: =ROUND(AVERAGE(G49,I49,K49,M49,O49),2) -> #N/A | Q49: =COUNTIF(F49:O49,"C*")*1+COUNTIF(F49:O49,"D")*2+COUNTIF(F49:O49,"E")*3 -> 0 | R49: =IF(Q49>=3,"Không hoàn thành",IF(AND($P49>=8,$P49<=10,Q49=0),"Hoàn thành xuất sắc nhiệm vụ",IF(AND($P49>=8,$P49<=10,Q49=1),"Hoàn thành tốt nhiệm vụ",IF(AND($P49>=8,$P49<=10,Q49=2),"Hoàn thành nhiệm vụ",IF(AND($P49>6,$P49<8,Q49<=1),"Hoàn thành tốt nhiệm vụ",IF(AND($P49>6,$P49<8,Q49=2),"Hoàn thành nhiệm vụ",IF(AND($P49>=5,$P49<=6,Q49<=2),"Hoàn thành nhiệm vụ",IF(AND($P49<5,Q49>3),"Không hoàn thành","")))))))) -> #N/A
A50: =A49+1 -> 42 | B50: 04 | C50: Võ Thị Xuân Thơ | D50: 01004003 | E50: Phòng Tuyển sinh - Đào tạo | F50: A2 | G50: =VLOOKUP(F50,Sheet1!$B$2:$C$12,2,TRUE) -> 9 | H50: =IFERROR(VLOOKUP($D50,'[1]Chi tiet'!$D$7:$L$389,8,0),0) -> A1 | I50: =VLOOKUP(H50,Sheet1!$B$2:$C$12,2,TRUE) -> 10 | J50: =IFERROR(VLOOKUP($D50,'[2]Gui chi Quynh'!D$7:K$393,7,0),0) -> A2 | K50: =VLOOKUP(J50,Sheet1!$B$2:$C$12,2,TRUE) -> 9 | L50: =IFERROR(VLOOKUP($D50,'[3]Chi tiet'!$D$7:$L$397,8,0),0) -> A1 | M50: =VLOOKUP(L50,Sheet1!$B$2:$C$12,2,TRUE) -> 10 | N50: =IFERROR(VLOOKUP($D50,#REF!,3,0),0) -> 0 | O50: =VLOOKUP(N50,Sheet1!$B$2:$C$12,2,TRUE) -> #N/A | P50: =ROUND(AVERAGE(G50,I50,K50,M50,O50),2) -> #N/A | Q50: =COUNTIF(F50:O50,"C*")*1+COUNTIF(F50:O50,"D")*2+COUNTIF(F50:O50,"E")*3 -> 0 | R50: =IF(Q50>=3,"Không hoàn thành",IF(AND($P50>=8,$P50<=10,Q50=0),"Hoàn thành xuất sắc nhiệm vụ",IF(AND($P50>=8,$P50<=10,Q50=1),"Hoàn thành tốt nhiệm vụ",IF(AND($P50>=8,$P50<=10,Q50=2),"Hoàn thành nhiệm vụ",IF(AND($P50>6,$P50<8,Q50<=1),"Hoàn thành tốt nhiệm vụ",IF(AND($P50>6,$P50<8,Q50=2),"Hoàn thành nhiệm vụ",IF(AND($P50>=5,$P50<=6,Q50<=2),"Hoàn thành nhiệm vụ",IF(AND($P50<5,Q50>3),"Không hoàn thành","")))))))) -> #N/A
A51: =A50+1 -> 43 | B51: 05 | C51: Nguyễn Thị Thanh Thảo | D51: 01004008 | E51: Phòng Tuyển sinh - Đào tạo | F51: A2 | G51: =VLOOKUP(F51,Sheet1!$B$2:$C$12,2,TRUE) -> 9 | H51: =IFERROR(VLOOKUP($D51,'[1]Chi tiet'!$D$7:$L$389,8,0),0) -> A1 | I51: =VLOOKUP(H51,Sheet1!$B$2:$C$12,2,TRUE) -> 10 | J51: =IFERROR(VLOOKUP($D51,'[2]Gui chi Quynh'!D$7:K$393,7,0),0) -> A1 | K51: =VLOOKUP(J51,Sheet1!$B$2:$C$12,2,TRUE) -> 10 | L51: =IFERROR(VLOOKUP($D51,'[3]Chi tiet'!$D$7:$L$397,8,0),0) -> A1 | M51: =VLOOKUP(L51,Sheet1!$B$2:$C$12,2,TRUE) -> 10 | N51: =IFERROR(VLOOKUP($D51,#REF!,3,0),0) -> 0 | O51: =VLOOKUP(N51,Sheet1!$B$2:$C$12,2,TRUE) -> #N/A | P51: =ROUND(AVERAGE(G51,I51,K51,M51,O51),2) -> #N/A | Q51: =COUNTIF(F51:O51,"C*")*1+COUNTIF(F51:O51,"D")*2+COUNTIF(F51:O51,"E")*3 -> 0 | R51: =IF(Q51>=3,"Không hoàn thành",IF(AND($P51>=8,$P51<=10,Q51=0),"Hoàn thành xuất sắc nhiệm vụ",IF(AND($P51>=8,$P51<=10,Q51=1),"Hoàn thành tốt nhiệm vụ",IF(AND($P51>=8,$P51<=10,Q51=2),"Hoàn thành nhiệm vụ",IF(AND($P51>6,$P51<8,Q51<=1),"Hoàn thành tốt nhiệm vụ",IF(AND($P51>6,$P51<8,Q51=2),"Hoàn thành nhiệm vụ",IF(AND($P51>=5,$P51<=6,Q51<=2),"Hoàn thành nhiệm vụ",IF(AND($P51<5,Q51>3),"Không hoàn thành","")))))))) -> #N/A
A52: =A51+1 -> 44 | B52: 06 | C52: Giáp Thị Vượng | D52: 01004009 | E52: Phòng Tuyển sinh - Đào tạo | F52: A3 | G52: =VLOOKUP(F52,Sheet1!$B$2:$C$12,2,TRUE) -> 8 | H52: =IFERROR(VLOOKUP($D52,'[1]Chi tiet'!$D$7:$L$389,8,0),0) -> A2 | I52: =VLOOKUP(H52,Sheet1!$B$2:$C$12,2,TRUE) -> 9 | J52: =IFERROR(VLOOKUP($D52,'[2]Gui chi Quynh'!D$7:K$393,7,0),0) -> A3 | K52: =VLOOKUP(J52,Sheet1!$B$2:$C$12,2,TRUE) -> 8 | L52: =IFERROR(VLOOKUP($D52,'[3]Chi tiet'!$D$7:$L$397,8,0),0) -> A2 | M52: =VLOOKUP(L52,Sheet1!$B$2:$C$12,2,TRUE) -> 9 | N52: =IFERROR(VLOOKUP($D52,#REF!,3,0),0) -> 0 | O52: =VLOOKUP(N52,Sheet1!$B$2:$C$12,2,TRUE) -> #N/A | P52: =ROUND(AVERAGE(G52,I52,K52,M52,O52),2) -> #N/A | Q52: =COUNTIF(F52:O52,"C*")*1+COUNTIF(F52:O52,"D")*2+COUNTIF(F52:O52,"E")*3 -> 0 | R52: =IF(Q52>=3,"Không hoàn thành",IF(AND($P52>=8,$P52<=10,Q52=0),"Hoàn thành xuất sắc nhiệm vụ",IF(AND($P52>=8,$P52<=10,Q52=1),"Hoàn thành tốt nhiệm vụ",IF(AND($P52>=8,$P52<=10,Q52=2),"Hoàn thành nhiệm vụ",IF(AND($P52>6,$P52<8,Q52<=1),"Hoàn thành tốt nhiệm vụ",IF(AND($P52>6,$P52<8,Q52=2),"Hoàn thành nhiệm vụ",IF(AND($P52>=5,$P52<=6,Q52<=2),"Hoàn thành nhiệm vụ",IF(AND($P52<5,Q52>3),"Không hoàn thành","")))))))) -> #N/A
A53: =A52+1 -> 45 | B53: 07 | C53: Nguyễn Thị Thùy | D53: 01022013 | E53: Phòng Tuyển sinh - Đào tạo | F53: A1 | G53: =VLOOKUP(F53,Sheet1!$B$2:$C$12,2,TRUE) -> 10 | H53: =IFERROR(VLOOKUP($D53,'[1]Chi tiet'!$D$7:$L$389,8,0),0) -> A2 | I53: =VLOOKUP(H53,Sheet1!$B$2:$C$12,2,TRUE) -> 9 | J53: =IFERROR(VLOOKUP($D53,'[2]Gui chi Quynh'!D$7:K$393,7,0),0) -> A1 | K53: =VLOOKUP(J53,Sheet1!$B$2:$C$12,2,TRUE) -> 10 | L53: =IFERROR(VLOOKUP($D53,'[3]Chi tiet'!$D$7:$L$397,8,0),0) -> A1 | M53: =VLOOKUP(L53,Sheet1!$B$2:$C$12,2,TRUE) -> 10 | N53: =IFERROR(VLOOKUP($D53,#REF!,3,0),0) -> 0 | O53: =VLOOKUP(N53,Sheet1!$B$2:$C$12,2,TRUE) -> #N/A | P53: =ROUND(AVERAGE(G53,I53,K53,M53,O53),2) -> #N/A | Q53: =COUNTIF(F53:O53,"C*")*1+COUNTIF(F53:O53,"D")*2+COUNTIF(F53:O53,"E")*3 -> 0 | R53: =IF(Q53>=3,"Không hoàn thành",IF(AND($P53>=8,$P53<=10,Q53=0),"Hoàn thành xuất sắc nhiệm vụ",IF(AND($P53>=8,$P53<=10,Q53=1),"Hoàn thành tốt nhiệm vụ",IF(AND($P53>=8,$P53<=10,Q53=2),"Hoàn thành nhiệm vụ",IF(AND($P53>6,$P53<8,Q53<=1),"Hoàn thành tốt nhiệm vụ",IF(AND($P53>6,$P53<8,Q53=2),"Hoàn thành nhiệm vụ",IF(AND($P53>=5,$P53<=6,Q53<=2),"Hoàn thành nhiệm vụ",IF(AND($P53<5,Q53>3),"Không hoàn thành","")))))))) -> #N/A
A54: =A53+1 -> 46 | B54: 08 | C54: Mai Nguyễn Hoàng Yến | D54: 01010038 | E54: Phòng Tuyển sinh - Đào tạo | F54: A3 | G54: =VLOOKUP(F54,Sheet1!$B$2:$C$12,2,TRUE) -> 8 | H54: =IFERROR(VLOOKUP($D54,'[1]Chi tiet'!$D$7:$L$389,8,0),0) -> A3 | I54: =VLOOKUP(H54,Sheet1!$B$2:$C$12,2,TRUE) -> 8 | J54: =IFERROR(VLOOKUP($D54,'[2]Gui chi Quynh'!D$7:K$393,7,0),0) -> A4 | K54: =VLOOKUP(J54,Sheet1!$B$2:$C$12,2,TRUE) -> 7 | L54: =IFERROR(VLOOKUP($D54,'[3]Chi tiet'!$D$7:$L$397,8,0),0) -> A3 | M54: =VLOOKUP(L54,Sheet1!$B$2:$C$12,2,TRUE) -> 8 | N54: =IFERROR(VLOOKUP($D54,#REF!,3,0),0) -> 0 | O54: =VLOOKUP(N54,Sheet1!$B$2:$C$12,2,TRUE) -> #N/A | P54: =ROUND(AVERAGE(G54,I54,K54,M54,O54),2) -> #N/A | Q54: =COUNTIF(F54:O54,"C*")*1+COUNTIF(F54:O54,"D")*2+COUNTIF(F54:O54,"E")*3 -> 0 | R54: =IF(Q54>=3,"Không hoàn thành",IF(AND($P54>=8,$P54<=10,Q54=0),"Hoàn thành xuất sắc nhiệm vụ",IF(AND($P54>=8,$P54<=10,Q54=1),"Hoàn thành tốt nhiệm vụ",IF(AND($P54>=8,$P54<=10,Q54=2),"Hoàn thành nhiệm vụ",IF(AND($P54>6,$P54<8,Q54<=1),"Hoàn thành tốt nhiệm vụ",IF(AND($P54>6,$P54<8,Q54=2),"Hoàn thành nhiệm vụ",IF(AND($P54>=5,$P54<=6,Q54<=2),"Hoàn thành nhiệm vụ",IF(AND($P54<5,Q54>3),"Không hoàn thành","")))))))) -> #N/A
... A75: =A74+1 -> 67 | B75: 15 | C75: Trần Anh Mỹ | D75: 01009028 | E75: Phòng Thanh tra Giáo dục - Công tác Sinh viên | F75: A4 | G75: =VLOOKUP(F75,Sheet1!$B$2:$C$12,2,TRUE) -> 7 | H75: =IFERROR(VLOOKUP($D75,'[1]Chi tiet'!$D$7:$L$389,8,0),0) -> A4 | I75: =VLOOKUP(H75,Sheet1!$B$2:$C$12,2,TRUE) -> 7 | J75: =IFERROR(VLOOKUP($D75,'[2]Gui chi Quynh'!D$7:K$393,7,0),0) -> A4 | K75: =VLOOKUP(J75,Sheet1!$B$2:$C$12,2,TRUE) -> 7 | L75: =IFERROR(VLOOKUP($D75,'[3]Chi tiet'!$D$7:$L$397,8,0),0) -> A4 | M75: =VLOOKUP(L75,Sheet1!$B$2:$C$12,2,TRUE) -> 7 | N75: =IFERROR(VLOOKUP($D75,#REF!,3,0),0) -> 0 | O75: =VLOOKUP(N75,Sheet1!$B$2:$C$12,2,TRUE) -> #N/A | P75: =ROUND(AVERAGE(G75,I75,K75,M75,O75),2) -> #N/A | Q75: =COUNTIF(F75:O75,"C*")*1+COUNTIF(F75:O75,"D")*2+COUNTIF(F75:O75,"E")*3 -> 0 | R75: =IF(Q75>=3,"Không hoàn thành",IF(AND($P75>=8,$P75<=10,Q75=0),"Hoàn thành xuất sắc nhiệm vụ",IF(AND($P75>=8,$P75<=10,Q75=1),"Hoàn thành tốt nhiệm vụ",IF(AND($P75>=8,$P75<=10,Q75=2),"Hoàn thành nhiệm vụ",IF(AND($P75>6,$P75<8,Q75<=1),"Hoàn thành tốt nhiệm vụ",IF(AND($P75>6,$P75<8,Q75=2),"Hoàn thành nhiệm vụ",IF(AND($P75>=5,$P75<=6,Q75<=2),"Hoàn thành nhiệm vụ",IF(AND($P75<5,Q75>3),"Không hoàn thành","")))))))) -> #N/A
...

Sheet In QD HK2 theo XL
A5: Stt | B5: Họ và tên | C5: Đơn vị | D5: Tháng 02/2021 | F5: Tháng 03/2021 | H5: Tháng 04/2021 | J5: Tháng 05/2021 | L5: Tháng 06/2021 | N5: Kết quả xếp loại thi đua | Q5: Ghi chú | R5: Ghi chú
A6: 1 | B6: Phạm Hữu Lộc | C6: Ban Giám hiệu | D6: A1 | E6: 10 | F6: A1 | G6: 10 | H6: A1 | I6: 10 | J6: A1 | K6: 10 | L6: A1 | M6: 10 | N6: 10 | O6: 0 | P6: Hoàn thành xuất sắc nhiệm vụ
A7: =A6+1 -> 2 | B7: Đinh Văn Đệ | C7: " | D7: A1 | E7: 10 | F7: A1 | G7: 10 | H7: A1 | I7: 10 | J7: A1 | K7: 10 | L7: A1 | M7: 10 | N7: 10 | O7: 0 | P7: Hoàn thành xuất sắc nhiệm vụ
A8: =A7+1 -> 3 | B8: Đinh Hồng Minh | C8: " | D8: A1 | E8: 10 | F8: A1 | G8: 10 | H8: A1 | I8: 10 | J8: A1 | K8: 10 | L8: A1 | M8: 10 | N8: 10 | O8: 0 | P8: Hoàn thành xuất sắc nhiệm vụ
A9: =A8+1 -> 4 | B9: Châu Văn Bảo | C9: " | D9: A1 | E9: 10 | F9: A1 | G9: 10 | H9: A1 | I9: 10 | J9: A1 | K9: 10 | L9: A1 | M9: 10 | N9: 10 | O9: 0 | P9: Hoàn thành xuất sắc nhiệm vụ
A10: =A9+1 -> 5 | B10: Lâm Viết Dũng | C10: Phòng Tổ chức - Hành chính - Tổng hợp | D10: A1 | E10: 10 | F10: A1 | G10: 10 | H10: A1 | I10: 10 | J10: A1 | K10: 10 | L10: A1 | M10: 10 | N10: 10 | O10: 0 | P10: Hoàn thành xuất sắc nhiệm vụ
A11: =A10+1 -> 6 | B11: Huỳnh Thị Minh Ly | C11: " | D11: A2 | E11: 9 | F11: A2 | G11: 9 | H11: A2 | I11: 9 | J11: A1 | K11: 10 | L11: A2 | M11: 9 | N11: 9.2 | O11: 0 | P11: Hoàn thành xuất sắc nhiệm vụ
A12: =A11+1 -> 7 | B12: Vũ Như Quỳnh | C12: " | D12: A2 | E12: 9 | F12: A2 | G12: 9 | H12: A2 | I12: 9 | J12: A3 | K12: 8 | L12: A3 | M12: 8 | N12: 8.6 | O12: 0 | P12: Hoàn thành xuất sắc nhiệm vụ
A13: =A12+1 -> 8 | B13: Phan Thị Ngọc Phượng | C13: " | D13: A3 | E13: 8 | F13: A2 | G13: 9 | H13: A3 | I13: 8 | J13: A2 | K13: 9 | L13: A3 | M13: 8 | N13: 8.4 | O13: 0 | P13: Hoàn thành xuất sắc nhiệm vụ
A14: =A13+1 -> 9 | B14: Nguyễn Thị Bích Liễu | C14: " | D14: A3 | E14: 8 | F14: A2 | G14: 9 | H14: A3 | I14: 8 | J14: A3 | K14: 8 | L14: A3 | M14: 8 | N14: 8.2 | O14: 0 | P14: Hoàn thành xuất sắc nhiệm vụ
A15: =A14+1 -> 10 | B15: Trần Thị Ánh Phượng | C15: " | D15: A3 | E15: 8 | F15: A2 | G15: 9 | H15: A3 | I15: 8 | J15: A2 | K15: 9 | L15: A3 | M15: 8 | N15: 8.4 | O15: 0 | P15: Hoàn thành xuất sắc nhiệm vụ
A16: =A15+1 -> 11 | B16: Lưu Hoàng Hải Yến | C16: " | D16: A2 | E16: 9 | F16: A2 | G16: 9 | H16: A2 | I16: 9 | J16: A1 | K16: 10 | L16: A2 | M16: 9 | N16: 9.2 | O16: 0 | P16: Hoàn thành xuất sắc nhiệm vụ
A17: =A16+1 -> 12 | B17: Nguyễn Thị Vân | C17: " | D17: A3 | E17: 8 | F17: A2 | G17: 9 | H17: A3 | I17: 8 | J17: A2 | K17: 9 | L17: A4 | M17: 7 | N17: 8.2 | O17: 0 | P17: Hoàn thành xuất sắc nhiệm vụ
A18: =A17+1 -> 13 | B18: Huỳnh Thị Xuân Mai | C18: " | D18: A3 | E18: 8 | F18: A3 | G18: 8 | H18: A3 | I18: 8 | J18: A2 | K18: 9 | L18: A4 | M18: 7 | N18: 8 | O18: 0 | P18: Hoàn thành xuất sắc nhiệm vụ
... A62: =A61+1 -> 57 | B62: Nguyễn Trọng Phú | C62: " | D62: A2 | E62: 9 | F62: A2 | G62: 9 | H62: A2 | I62: 9 | J62: A2 | K62: 9 | L62: A3 | M62: 8 | N62: 8.8 | O62: 0 | P62: Hoàn thành xuất sắc nhiệm vụ
A63: =A62+1 -> 58 | B63: Giáp Văn Thịnh | C63: " | D63: A3 | E63: 8 | F63: A2 | G63: 9 | H63: A2 | I63: 9 | J63: A DN | K63: 7 | L63: A3 | M63: 8 | N63: 8.2 | O63: 0 | P63: Hoàn thành xuất sắc nhiệm vụ | Q63: Nghỉ cách ly tháng 5/2021
A64: =A63+1 -> 59 | B64: Phan Đức Long | C64: " | D64: A2 | E64: 9 | F64: A2 | G64: 9 | H64: A2 | I64: 9 | J64: A2 | K64: 9 | L64: A3 | M64: 8 | N64: 8.8 | O64: 0 | P64: Hoàn thành xuất sắc nhiệm vụ
A65: =A64+1 -> 60 | B65: Ninh Đỗ Hiệp | C65: " | D65: A2 | E65: 9 | F65: A3 | G65: 8 | H65: A2 | I65: 9 | J65: A2 | K65: 9 | L65: A3 | M65: 8 | N65: 8.6 | O65: 0 | P65: Hoàn thành xuất sắc nhiệm vụ
A66: =A65+1 -> 61 | B66: Lê Hồng Anh Tuấn | C66: " | D66: A3 | E66: 8 | F66: A2 | G66: 9 | H66: A2 | I66: 9 | J66: A2 | K66: 9 | L66: A4 | M66: 7 | N66: 8.4 | O66: 0 | P66: Hoàn thành xuất sắc nhiệm vụ
A67: =A66+1 -> 62 | B67: Nguyễn Cao Thắng | C67: " | D67: A2 | E67: 9 | F67: A2 | G67: 9 | H67: A2 | I67: 9 | J67: A2 | K67: 9 | L67: A2 | M67: 9 | N67: 9 | O67: 0 | P67: Hoàn thành xuất sắc nhiệm vụ
A68: =A67+1 -> 63 | B68: Võ Tấn Kiệt | C68: " | D68: A3 | E68: 8 | F68: A3 | G68: 8 | H68: A2 | I68: 9 | J68: A2 | K68: 9 | L68: A3 | M68: 8 | N68: 8.4 | O68: 0 | P68: Hoàn thành xuất sắc nhiệm vụ
A69: =A68+1 -> 64 | B69: Nguyễn Thành Nam | C69: Khoa Khoa học cơ bản | D69: A2 | E69: 9 | F69: A1 | G69: 10 | H69: A1 | I69: 10 | J69: A1 | K69: 10 | L69: A1 | M69: 10 | N69: 9.8 | O69: 0 | P69: Hoàn thành xuất sắc nhiệm vụ
A70: =A69+1 -> 65 | B70: Phạm Thị Thu Nga | C70: " | D70: A3 | E70: 8 | F70: A3 | G70: 8 | H70: A3 | I70: 8 | J70: A3 | K70: 8 | L70: A3 | M70: 8 | N70: 8 | O70: 0 | P70: Hoàn thành xuất sắc nhiệm vụ
A71: =A70+1 -> 66 | B71: Nguyễn Thị Thủy | C71: " | D71: A4 | E71: 7 | F71: A3 | G71: 8 | H71: A2 | I71: 9 | J71: A3 | K71: 8 | L71: A3 | M71: 8 | N71: 8 | O71: 0 | P71: Hoàn thành xuất sắc nhiệm vụ
A72: =A71+1 -> 67 | B72: Nguyễn Thị Thu Hà | C72: " | D72: A3 | E72: 8 | F72: A2 | G72: 9 | H72: A2 | I72: 9 | J72: A3 | K72: 8 | L72: A2 | M72: 9 | N72: 8.6 | O72: 0 | P72: Hoàn thành xuất sắc nhiệm vụ
A73: =A72+1 -> 68 | B73: Lê Thị Hồng Vân | C73: Khoa Lý luận Chính trị | D73: A3 | E73: 8 | F73: A3 | G73: 8 | H73: A2 | I73: 9 | J73: A4 | K73: 7 | L73: A2 | M73: 9 | N73: 8.2 | O73: 0 | P73: Hoàn thành xuất sắc nhiệm vụ
A74: =A73+1 -> 69 | B74: Đinh Thị Huyên | C74: " | D74: A3 | E74: 8 | F74: A3 | G74: 8 | H74: A2 | I74: 9 | J74: A4 | K74: 7 | L74: A3 | M74: 8 | N74: 8 | O74: 0 | P74: Hoàn thành xuất sắc nhiệm vụ
A75: =A74+1 -> 70 | B75: Phan Thị Thùy Trang | C75: " | D75: A3 | E75: 8 | F75: A3 | G75: 8 | H75: A3 | I75: 8 | J75: A3 | K75: 8 | L75: A3 | M75: 8 | N75: 8 | O75: 0 | P75: Hoàn thành xuất sắc nhiệm vụ
... A141: =A140+1 -> 136 | B141: Phạm Quang Tùng | C141: " | D141: B1 | E141: 6 | F141: A4 | G141: 7 | H141: A3 | I141: 8 | J141: A3 | K141: 8 | L141: A3 | M141: 8 | N141: 7.4 | O141: 0 | P141: Hoàn thành tốt nhiệm vụ
A142: =A141+1 -> 137 | B142: Nguyễn Thị Hồng Thắm | C142: Phòng Kế hoạch - Tài chính | D142: A DN | E142: 7 | F142: A DN | G142: 7 | H142: A DN | I142: 7 | J142: A2 | K142: 9 | L142: A4 | M142: 7 | N142: 7.4 | O142: 0 | P142: Hoàn thành tốt nhiệm vụ | Q142: Đi làm lại từ tháng 01/5/2021
A143: =A142+1 -> 138 | B143: Mai Nguyễn Hoàng Yến | C143: Phòng Tuyển sinh - Đào tạo | D143: A3 | E143: 8 | F143: A3 | G143: 8 | H143: A4 | I143: 7 | J143: A3 | K143: 8 | L143: A4 | M143: 7 | N143: 7.6 | O143: 0 | P143: Hoàn thành tốt nhiệm vụ
A144: =A143+1 -> 139 | B144: Huỳnh Thị Cẩm Hoa | C144: " | D144: A4 | E144: 7 | F144: A4 | G144: 7 | H144: A4 | I144: 7 | J144: A4 | K144: 7 | L144: A4 | M144: 7 | N144: 7 | O144: 0 | P144: Hoàn thành tốt nhiệm vụ
A145: =A144+1 -> 140 | B145: Nguyễn Thị Kim Anh | C145: Phòng Thanh tra Giáo dục - Công tác Sinh viên | D145: A4 | E145: 7 | F145: A3 | G145: 8 | H145: A4 | I145: 7 | J145: A4 | K145: 7 | L145: A4 | M145: 7 | N145: 7.2 | O145: 0 | P145: Hoàn thành tốt nhiệm vụ
A146: =A145+1 -> 141 | B146: Nguyễn Tất Thắng | C146: " | D146: A4 | E146: 7 | F146: A3 | G146: 8 | H146: A3 | I146: 8 | J146: A2 | K146: 9 | L146: A4 | M146: 7 | N146: 7.8 | O146: 0 | P146: Hoàn thành tốt nhiệm vụ
A147: =A146+1 -> 142 | B147: Phạm Thị Lê Chi | C147: " | D147: A4 | E147: 7 | F147: A4 | G147: 7 | H147: A4 | I147: 7 | J147: A3 | K147: 8 | L147: A4 | M147: 7 | N147: 7.2 | O147: 0 | P147: Hoàn thành tốt nhiệm vụ
A148: =A147+1 -> 143 | B148: Nguyễn Thị Ngọc Anh | C148: " | D148: A4 | E148: 7 | F148: A3 | G148: 8 | H148: A3 | I148: 8 | J148: A3 | K148: 8 | L148: A4 | M148: 7 | N148: 7.6 | O148: 0 | P148: Hoàn thành tốt nhiệm vụ
A149: =A148+1 -> 144 | B149: Mai Thu Hương | C149: " | D149: A4 | E149: 7 | F149: A3 | G149: 8 | H149: A3 | I149: 8 | J149: A3 | K149: 8 | L149: A4 | M149: 7 | N149: 7.6 | O149: 0 | P149: Hoàn thành tốt nhiệm vụ
A150: =A149+1 -> 145 | B150: Huỳnh Văn Hiếu | C150: " | D150: A4 | E150: 7 | F150: A3 | G150: 8 | H150: A3 | I150: 8 | J150: A3 | K150: 8 | L150: A3 | M150: 8 | N150: 7.8 | O150: 0 | P150: Hoàn thành tốt nhiệm vụ
A151: =A150+1 -> 146 | B151: Phạm Huy Hoàng | C151: " | D151: A4 | E151: 7 | F151: A3 | G151: 8 | H151: A3 | I151: 8 | J151: A3 | K151: 8 | L151: A3 | M151: 8 | N151: 7.8 | O151: 0 | P151: Hoàn thành tốt nhiệm vụ
A152: =A151+1 -> 147 | B152: Trần Anh Mỹ | C152: " | D152: A4 | E152: 7 | F152: A4 | G152: 7 | H152: A4 | I152: 7 | J152: A4 | K152: 7 | L152: A4 | M152: 7 | N152: 7 | O152: 0 | P152: Hoàn thành tốt nhiệm vụ
...

Sheet Kangatang_88

Sheet Kangatang_89

Sheet Kangatang_90

Sheet Kangatang_91

Sheet Kangatang_92

Sheet Kangatang_93

Sheet Kangatang_94

Sheet Kangatang_95

Sheet Kangatang_96

Sheet Kangatang_97

Sheet Kangatang_98

Sheet Kangatang_99

Sheet Kangatang_100

Sheet Kangatang_101

Sheet Kangatang_102

Sheet Kangatang_103

Sheet Kangatang_104

Sheet Kangatang_105

Sheet Kangatang_106

Sheet Kangatang_107

Sheet Kangatang_108

Sheet Kangatang_109

Sheet Kangatang_110

Sheet Kangatang_111

Sheet Kangatang_112

Sheet Kangatang_113

Sheet Kangatang_114

Sheet Kangatang_115

Sheet Kangatang_116

Sheet Kangatang_117

Sheet Kangatang_118

Sheet Kangatang_119

Sheet Kangatang_120

Sheet Kangatang_121

Sheet Kangatang_122

Sheet Kangatang_123

Sheet Kangatang_124

Sheet Kangatang_125

Sheet Kangatang_126

Sheet Kangatang_127

Sheet Kangatang_128

Sheet Kangatang_129

Sheet Kangatang_130

Sheet Kangatang_131

Sheet Kangatang_132

Sheet Kangatang_133

Sheet Kangatang_134

Sheet Kangatang_135

Sheet Kangatang_136

Sheet Kangatang_137

Sheet Kangatang_138

Sheet Kangatang_139

Sheet Kangatang_140

Sheet Kangatang_141

Sheet Kangatang_142

Sheet Kangatang_143

Sheet Kangatang_144

Sheet Kangatang_145

Sheet Kangatang_146

Sheet Kangatang_147

Sheet Kangatang_148

Sheet Kangatang_149

Sheet Kangatang_150

Sheet Kangatang_151

Sheet Kangatang_152

Sheet Kangatang_153

Sheet Kangatang_207

Sheet Kangatang_208

Sheet Kangatang_209

Sheet Kangatang_210

Sheet Kangatang_211

Sheet Kangatang_212

Sheet Kangatang_213

Sheet Kangatang_214

Sheet Kangatang_215

Sheet Kangatang_216

Sheet Kangatang_217

Sheet Kangatang_218

Sheet Kangatang_219

Sheet Kangatang_220

Sheet Kangatang_221

Sheet Kangatang_222

Sheet Kangatang_223

Sheet Kangatang_224

Sheet Kangatang_225

Sheet Kangatang_226

Sheet Kangatang_227

Sheet Kangatang_228

Sheet Kangatang_229

Sheet Kangatang_230

Sheet Kangatang_231

Sheet Kangatang_232

Sheet Kangatang_233

Sheet Kangatang_234

Sheet Kangatang_235

Sheet Kangatang_236

Sheet Kangatang_237

Sheet Kangatang_238

Sheet Kangatang_239

Sheet Kangatang_240

Sheet Kangatang_241

Sheet Kangatang_242

Sheet Kangatang_243

Sheet Kangatang_244

Sheet Kangatang_245

Sheet Kangatang_246

Sheet Kangatang_247

Sheet Kangatang_248

Sheet Kangatang_249

Sheet Kangatang_250

Sheet Kangatang_251

Sheet Kangatang_252

Sheet Kangatang_253

Sheet Kangatang_254

Sheet Kangatang_255

Sheet Kangatang_256

Sheet Kangatang_257

Sheet Kangatang_258

Sheet Kangatang_259

Sheet Kangatang_260

Sheet Kangatang_261

Sheet Kangatang_262

Sheet Kangatang_263

Sheet Kangatang_264

Sheet Kangatang_265

Sheet Kangatang_266

Sheet Kangatang_267

Sheet Kangatang_268

Sheet Kangatang_269

Sheet Kangatang_270

Sheet Kangatang_271

Sheet Kangatang_272

Sheet Kangatang_273

Sheet Kangatang_274

Sheet Kangatang_275

Sheet Kangatang_276

Sheet Kangatang_277

Sheet Kangatang_278

Sheet Kangatang_279

Sheet Kangatang_280

Sheet Kangatang_281

Sheet Kangatang_282

Sheet Kangatang_283

Sheet Kangatang_284

Sheet Kangatang_285

Sheet Kangatang_286

Sheet Kangatang_287

Sheet Kangatang_288

Sheet Kangatang_289

Sheet Kangatang_290

Sheet Kangatang_291

Sheet Kangatang_292

Sheet Kangatang_293

Sheet Kangatang_294

Sheet Kangatang_295

Sheet Kangatang_296

Sheet Kangatang_297

Sheet Kangatang_298

Sheet Kangatang_299

Sheet Kangatang_300

Sheet Kangatang_301

Sheet Kangatang_302

Sheet Kangatang_303

Sheet Kangatang_304

Sheet Kangatang_305

Sheet Kangatang_306

Sheet Kangatang_307

Sheet Kangatang_308

Sheet Kangatang_309

Sheet Kangatang_310

Sheet Kangatang_311

Sheet Kangatang_312

Sheet Kangatang_313

Sheet Rut gon HKI
A1: TRƯỜNG CAO ĐẲNG LÝ TỰ TRỌNG | O1: CỘNG HÒA XÃ HỘI CHỦ NGHĨA VIỆT NAM
A2: THÀNH PHỐ HỒ CHÍ MINH | O2: Độc lập - Tự do - Hạnh phúc
A3: PHÒNG TỔ CHỨC - HC -TH
A4: BÁO CÁO KẾT QUẢ TỔNG HỢP THI ĐUA HỌC KỲ I NĂM HỌC 2021 - 2022 (Quy đổi điểm trung bình các mức xếp loại thi đua từ tháng 09/2021 đến tháng 01/2022 theo mục 2, Quy định Tiêu chuẩn thi đua số 1375/QyĐ-LTT-TĐ ngày 29/11/2021)
A6: TT | B6: Họ và tên | C6: Mã số E-office | D6: Đơn vị | E6: Tháng 09/2021 | G6: Tháng 10/2021 | I6: Tháng 11/2021 | K6: Tháng 12/2021 | M6: Tháng 01/2022 | O6: Điểm K | P6: Hệ số trừ bậc (C, D, E) | Q6: Xếp loại | R6: Ghi chú | S6: Tháng 02/2022 | U6: Tháng 03/2022 | W6: Tháng 04/2022 | Y6: Tháng 05/2022 | AA6: Tháng 06/2022 | AC6: Tạm xét HK2 | AF6: Xét thi đua HK2
A7: I | B7: BAN GIÁM HIỆU | Q7: =COUNTA($Q$8:$Q$11) -> 4 | R7: =(COUNTIF($Q$8:$Q$11, "Xuất sắc") & " Xuất sắc") -> 4 Xuất sắc
A8: 1 | B8: Phạm Hữu Lộc | C8: 01001001 | E8: =VLOOKUP($C8,'[4]Gui chi Quynh'!$D$7:$F$393,3,0) -> A1 | F8: =VLOOKUP(E8,Sheet1!$B$2:$C$12,2,TRUE) -> 10 | G8: =VLOOKUP($C8,'[5]Gui chi Quynh'!$C$7:$E$391,3,0) -> A1 | H8: =VLOOKUP(G8,Sheet1!$B$2:$C$12,2,TRUE) -> 10 | I8: =VLOOKUP($C8,'[6]Gui chi Quynh'!$C$7:$E$389,3,0) -> A1 | J8: =VLOOKUP(I8,Sheet1!$B$2:$C$12,2,TRUE) -> 10 | K8: =VLOOKUP($C8,'[7]Gui chi Quynh'!$C$7:$E$389,3,0) -> A1 | L8: =VLOOKUP(K8,Sheet1!$B$2:$C$12,2,TRUE) -> 10 | M8: =VLOOKUP($C8,'[8]Gui chi Quynh'!$C$7:$E$388,3,0) -> A1 | N8: =VLOOKUP(M8,Sheet1!$B$2:$C$12,2,TRUE) -> 10 | O8: =ROUND(AVERAGE(F8,H8,J8,L8,N8),2) -> 10 | P8: =COUNTIF(D8:M8,"C*")*1+COUNTIF(D8:M8,"D")*2+COUNTIF(D8:M8,"E")*3 -> 0 | Q8: =IF(P8>=3,"Không hoàn thành",IF(AND($O8>=8,$O8<=10,P8=0),"Xuất sắc",IF(AND($O8>=8,$O8<=10,P8=1),"Tốt",IF(AND($O8>=8,$O8<=10,P8=2),"Hoàn thành",IF(AND($O8>6,$O8<8,P8<=1),"Tốt",IF(AND($O8>6,$O8<8,P8=2),"Hoàn thành",IF(AND($O8>=5,$O8<=6,P8<=2),"Hoàn thành",IF(AND($O8<5,P8>3),"Không hoàn thành","")))))))) -> Xuất sắc | T8: =VLOOKUP(S8,Sheet1!$B$2:$C$12,2,TRUE) -> #N/A | V8: =VLOOKUP(U8,Sheet1!$B$2:$C$12,2,TRUE) -> #N/A | X8: =VLOOKUP(W8,Sheet1!$B$2:$C$12,2,TRUE) -> #N/A | Z8: =VLOOKUP(Y8,Sheet1!$B$2:$C$12,2,TRUE) -> #N/A | AB8: =VLOOKUP(AA8,Sheet1!$B$2:$C$12,2,TRUE) -> #N/A | AC8: =ROUND(AVERAGE(T8,V8,X8,Z8),2) -> #N/A | AD8: =COUNTIF(S8:AA8,"C*")*1+COUNTIF(S8:AA8,"D")*2+COUNTIF(S8:AA8,"E")*3 -> 0 | AE8: =IF(AD8>=3,"Không hoàn thành",IF(AND($AC8>=8,$AC8<=10,AD8=0),"Xuất sắc",IF(AND($AC8>=8,$AC8<=10,AD8=1),"Tốt",IF(AND($AC8>=8,$AC8<=10,AD8=2),"Hoàn thành",IF(AND($AC8>6,$AC8<8,AD8<=1),"Tốt",IF(AND($AC8>6,$AC8<8,AD8=2),"Hoàn thành",IF(AND($AC8>=5,$AC8<=6,AD8<=2),"Hoàn thành",IF(AND($AC8<5,AD8>3),"Không hoàn thành","")))))))) -> #N/A | AF8: =ROUND(AVERAGE(T8,V8,X8,Z8,AB8),2) -> #N/A | AG8: =COUNTIF(S8:AB8,"C*")*1+COUNTIF(S8:AB8,"D")*2+COUNTIF(S8:AB8,"E")*3 -> 0 | AH8: =IF(AG8>=3,"Không hoàn thành",IF(AND($AF8>=8,$AF8<=10,AG8=0),"Xuất sắc",IF(AND($AF8>=8,$AF8<=10,AG8=1),"Tốt",IF(AND($AF8>=8,$AF8<=10,AG8=2),"Hoàn thành",IF(AND($AF8>6,$AF8<8,AG8<=1),"Tốt",IF(AND($AF8>6,$AF8<8,AG8=2),"Hoàn thành",IF(AND($AF8>=5,$AF8<=6,AG8<=2),"Hoàn thành",IF(AND($AF8<5,AG8>3),"Không hoàn thành","")))))))) -> #N/A | AJ8: =ROUND(AVERAGE(O8,AC8),2) -> #N/A | AK8: =COUNTIF(E8:Z8,"D")*1 -> 0 | AL8: =IF($AJ8>=8,"Xuất sắc",IF($AJ8>6,"Tốt",IF($AJ8>=5,"Hoàn thành","Không hoàn thành"))) -> #N/A | AM8: =IF($AK8=1,"Không đạt LĐTT",IF(OR($AL8= "Xuất sắc", $AL8="Tốt"),"Đạt LĐTT","Không đạt LĐTT")) -> #N/A
A9: =A8+1 -> 2 | B9: Đinh Hồng Minh | C9: 01002001 | E9: =VLOOKUP($C9,'[4]Gui chi Quynh'!$D$7:$F$393,3,0) -> A1 | F9: =VLOOKUP(E9,Sheet1!$B$2:$C$12,2,TRUE) -> 10 | G9: =VLOOKUP($C9,'[5]Gui chi Quynh'!$C$7:$E$391,3,0) -> A1 | H9: =VLOOKUP(G9,Sheet1!$B$2:$C$12,2,TRUE) -> 10 | I9: =VLOOKUP($C9,'[6]Gui chi Quynh'!$C$7:$E$389,3,0) -> A1 | J9: =VLOOKUP(I9,Sheet1!$B$2:$C$12,2,TRUE) -> 10 | K9: =VLOOKUP($C9,'[7]Gui chi Quynh'!$C$7:$E$389,3,0) -> A1 | L9: =VLOOKUP(K9,Sheet1!$B$2:$C$12,2,TRUE) -> 10 | M9: =VLOOKUP($C9,'[8]Gui chi Quynh'!$C$7:$E$388,3,0) -> A1 | N9: =VLOOKUP(M9,Sheet1!$B$2:$C$12,2,TRUE) -> 10 | O9: =ROUND(AVERAGE(F9,H9,J9,L9,N9),2) -> 10 | P9: =COUNTIF(D9:M9,"C*")*1+COUNTIF(D9:M9,"D")*2+COUNTIF(D9:M9,"E")*3 -> 0 | Q9: =IF(P9>=3,"Không hoàn thành",IF(AND($O9>=8,$O9<=10,P9=0),"Xuất sắc",IF(AND($O9>=8,$O9<=10,P9=1),"Tốt",IF(AND($O9>=8,$O9<=10,P9=2),"Hoàn thành",IF(AND($O9>6,$O9<8,P9<=1),"Tốt",IF(AND($O9>6,$O9<8,P9=2),"Hoàn thành",IF(AND($O9>=5,$O9<=6,P9<=2),"Hoàn thành",IF(AND($O9<5,P9>3),"Không hoàn thành","")))))))) -> Xuất sắc | T9: =VLOOKUP(S9,Sheet1!$B$2:$C$12,2,TRUE) -> #N/A | V9: =VLOOKUP(U9,Sheet1!$B$2:$C$12,2,TRUE) -> #N/A | X9: =VLOOKUP(W9,Sheet1!$B$2:$C$12,2,TRUE) -> #N/A | Z9: =VLOOKUP(Y9,Sheet1!$B$2:$C$12,2,TRUE) -> #N/A | AB9: =VLOOKUP(AA9,Sheet1!$B$2:$C$12,2,TRUE) -> #N/A | AC9: =ROUND(AVERAGE(T9,V9,X9,Z9),2) -> #N/A | AD9: =COUNTIF(S9:AA9,"C*")*1+COUNTIF(S9:AA9,"D")*2+COUNTIF(S9:AA9,"E")*3 -> 0 | AE9: =IF(AD9>=3,"Không hoàn thành",IF(AND($AC9>=8,$AC9<=10,AD9=0),"Xuất sắc",IF(AND($AC9>=8,$AC9<=10,AD9=1),"Tốt",IF(AND($AC9>=8,$AC9<=10,AD9=2),"Hoàn thành",IF(AND($AC9>6,$AC9<8,AD9<=1),"Tốt",IF(AND($AC9>6,$AC9<8,AD9=2),"Hoàn thành",IF(AND($AC9>=5,$AC9<=6,AD9<=2),"Hoàn thành",IF(AND($AC9<5,AD9>3),"Không hoàn thành","")))))))) -> #N/A | AF9: =ROUND(AVERAGE(T9,V9,X9,Z9,AB9),2) -> #N/A | AG9: =COUNTIF(S9:AB9,"C*")*1+COUNTIF(S9:AB9,"D")*2+COUNTIF(S9:AB9,"E")*3 -> 0 | AH9: =IF(AG9>=3,"Không hoàn thành",IF(AND($AF9>=8,$AF9<=10,AG9=0),"Xuất sắc",IF(AND($AF9>=8,$AF9<=10,AG9=1),"Tốt",IF(AND($AF9>=8,$AF9<=10,AG9=2),"Hoàn thành",IF(AND($AF9>6,$AF9<8,AG9<=1),"Tốt",IF(AND($AF9>6,$AF9<8,AG9=2),"Hoàn thành",IF(AND($AF9>=5,$AF9<=6,AG9<=2),"Hoàn thành",IF(AND($AF9<5,AG9>3),"Không hoàn thành","")))))))) -> #N/A | AJ9: =ROUND(AVERAGE(O9,AC9),2) -> #N/A | AK9: =COUNTIF(E9:Z9,"D")*1 -> 0 | AL9: =IF($AJ9>=8,"Xuất sắc",IF($AJ9>6,"Tốt",IF($AJ9>=5,"Hoàn thành","Không hoàn thành"))) -> #N/A | AM9: =IF($AK9=1,"Không đạt LĐTT",IF(OR($AL9= "Xuất sắc", $AL9="Tốt"),"Đạt LĐTT","Không đạt LĐTT")) -> #N/A
