Workbook

Sheet In QD HKII
A1: UBND THÀNH PHỐ HỒ CHÍ MINH
A2: TRƯỜNG CAO ĐẲNG LÝ TỰ TRỌNG
A3: THÀNH PHỐ HỒ CHÍ MINH
A4: TỔNG HỢP THI ĐUA HKII NĂM HỌC 2020 - 2021
A6: TT | C6: Họ và tên | D6: Mã số E-office | E6: Đơn vị | F6: Tháng 02/2021 | H6: Tháng 03/2021 | J6: Tháng 04/2021 | L6: Tháng 05/2021 | N6: Tháng 06/2021
F7: Xếp loại | G7: Điểm | H7: Xếp loại | I7: Điểm | J7: Xếp loại | K7: Điểm | L7: Xếp loại | M7: Điểm | N7: Xếp loại | O7: Điểm | P7: Điểm TB | Q7: Hệ số trừ bậc (C, D, E) | R7: Kết quả xếp loại thi đua | T7: Ghi chú | U7: Ghi chú HKII
D8: 1 | E8: 2 | F8: 17 | G8: 18 | H8: 19 | I8: 20 | J8: 21 | K8: 22 | L8: 23 | M8: 24 | N8: 25 | O8: 26 | P8: 27 | Q8: 28 | R8: 29
A9: 1 | B9: 01 | C9: Phạm Hữu Lộc | D9: 01001001 | E9: Ban Giám hiệu | F9: A1 | G9: =VLOOKUP(F9,Sheet1!$B$2:$C$12,2,TRUE) -> 10 | H9: =IFERROR(VLOOKUP($D9,'[1]Chi tiet'!$D$7:$L$389,8,0),0) -> A1 | I9: =VLOOKUP(H9,Sheet1!$B$2:$C$12,2,TRUE) -> 10 | J9: =IFERROR(VLOOKUP($D9,'[2]Gui chi Quynh'!D$7:K$393,7,0),0) -> A1 | K9: =VLOOKUP(J9,Sheet1!$B$2:$C$12,2,TRUE) -> 10 | L9: =IFERROR(VLOOKUP($D9,'[3]Chi tiet'!$D$7:$L$397,8,0),0) -> A1 | M9: =VLOOKUP(L9,Sheet1!$B$2:$C$12,2,TRUE) -> 10 | N9: =IFERROR(VLOOKUP($D9,#REF!,3,0),0) -> 0 | O9: =VLOOKUP(N9,Sheet1!$B$2:$C$12,2,TRUE) -> #N/A | P9: =ROUND(AVERAGE(G9,I9,K9,M9,O9),2) -> #N/A | Q9: =COUNTIF(F9:O9,"C*")*1+COUNTIF(F9:O9,"D")*2+COUNTIF(F9:O9,"E")*3 -> 0 | R9: =IF(Q9>=3,"Không hoàn thành",IF(AND($P9>=8,$P9<=10,Q9=0),"Hoàn thành xuất sắc nhiệm vụ",IF(AND($P9>=8,$P9<=10,Q9=1),"Hoàn thành tốt nhiệm vụ",IF(AND($P9>=8,$P9<=10,Q9=2),"Hoàn thành nhiệm vụ",IF(AND($P9>6,$P9<8,Q9<=1),"Hoàn thành tốt nhiệm vụ",IF(AND($P9>6,$P9<8,Q9=2),"Hoàn thành nhiệm vụ",IF(AND($P9>=5,$P9<=6,Q9<=2),"Hoàn thành nhiệm vụ",IF(AND($P9<5,Q9>3),"Không hoàn thành","")))))))) -> #N/A
A10: =A9+1 -> 2 | B10: 02 | C10: Đinh Văn Đệ | D10: 01001006 | E10: Ban Giám hiệu | F10: A1 | G10: =VLOOKUP(F10,Sheet1!$B$2:$C$12,2,TRUE) -> 10 | H10: =IFERROR(VLOOKUP($D10,'[1]Chi tiet'!$D$7:$L$389,8,0),0) -> A1 | I10: =VLOOKUP(H10,Sheet1!$B$2:$C$12,2,TRUE) -> 10 | J10: =IFERROR(VLOOKUP($D10,'[2]Gui chi Quynh'!D$7:K$393,7,0),0) -> A1 | K10: =VLOOKUP(J10,Sheet1!$B$2:$C$12,2,TRUE) -> 10 | L10: =IFERROR(VLOOKUP($D10,'[3]Chi tiet'!$D$7:$L$397,8,0),0) -> A1 | M10: =VLOOKUP(L10,Sheet1!$B$2:$C$12,2,TRUE) -> 10 | N10: =IFERROR(VLOOKUP($D10,#REF!,3,0),0) -> 0 | O10: =VLOOKUP(N10,Sheet1!$B$2:$C$12,2,TRUE) -> #N/A | P10: =ROUND(AVERAGE(G10,I10,K10,M10,O10),2) -> #N/A | Q10: =COUNTIF(F10:O10,"C*")*1+COUNTIF(F10:O10,"D")*2+COUNTIF(F10:O10,"E")*3 -> 0 | R10: =IF(Q10>=3,"Không hoàn thành",IF(AND($P10>=8,$P10<=10,Q10=0),"Hoàn thành xuất sắc nhiệm vụ",IF(AND($P10>=8,$P10<=10,Q10=1),"Hoàn thành tốt nhiệm vụ",IF(AND($P10>=8,$P10<=10,Q10=2),"Hoàn thành nhiệm vụ",IF(AND($P10>6,$P10<8,Q10<=1),"Hoàn thành tốt nhiệm vụ",IF(AND($P10>6,$P10<8,Q10=2),"Hoàn thành nhiệm vụ",IF(AND($P10>=5,$P10<=6,Q10<=2),"Hoàn thành nhiệm vụ",IF(AND($P10<5,Q10>3),"Không hoàn thành","")))))))) -> #N/A
A11: =A10+1 -> 3 | B11: 03 | C11: Đinh Hồng Minh | D11: 01002001 | E11: Ban Giám hiệu | F11: A1 | G11: =VLOOKUP(F11,Sheet1!$B$2:$C$12,2,TRUE) -> 10 | H11: =IFERROR(VLOOKUP($D11,'[1]Chi tiet'!$D$7:$L$389,8,0),0) -> A1 | I11: =VLOOKUP(H11,Sheet1!$B$2:$C$12,2,TRUE) -> 10 | J11: =IFERROR(VLOOKUP($D11,'[2]Gui chi Quynh'!D$7:K$393,7,0),0) -> A1 | K11: =VLOOKUP(J11,Sheet1!$B$2:$C$12,2,TRUE) -> 10 | L11: =IFERROR(VLOOKUP($D11,'[3]Chi tiet'!$D$7:$L$397,8,0),0) -> A1 | M11: =VLOOKUP(L11,Sheet1!$B$2:$C$12,2,TRUE) -> 10 | N11: =IFERROR(VLOOKUP($D11,#REF!,3,0),0) -> 0 | O11: =VLOOKUP(N11,Sheet1!$B$2:$C$12,2,TRUE) -> #N/A | P11: =ROUND(AVERAGE(G11,I11,K11,M11,O11),2) -> #N/A | Q11: =COUNTIF(F11:O11,"C*")*1+COUNTIF(F11:O11,"D")*2+COUNTIF(F11:O11,"E")*3 -> 0 | R11: =IF(Q11>=3,"Không hoàn thành",IF(AND($P11>=8,$P11<=10,Q11=0),"Hoàn thành xuất sắc nhiệm vụ",IF(AND($P11>=8,$P11<=10,Q11=1),"Hoàn thành tốt nhiệm vụ",IF(AND($P11>=8,$P11<=10,Q11=2),"Hoàn thành nhiệm vụ",IF(AND($P11>6,$P11<8,Q11<=1),"Hoàn thành tốt nhiệm vụ",IF(AND($P11>6,$P11<8,Q11=2),"Hoàn thành nhiệm vụ",IF(AND($P11>=5,$P11<=6,Q11<=2),"Hoàn thành nhiệm vụ",IF(AND($P11<5,Q11>3),"Không hoàn thành","")))))))) -> #N/A
A12: =A11+1 -> 4 | B12: 04 | C12: Châu Văn Bảo | D12: 01014037 | E12: Ban Giám hiệu | F12: A1 | G12: =VLOOKUP(F12,Sheet1!$B$2:$C$12,2,TRUE) -> 10 | H12: =IFERROR(VLOOKUP($D12,'[1]Chi tiet'!$D$7:$L$389,8,0),0) -> A1 | I12: =VLOOKUP(H12,Sheet1!$B$2:$C$12,2,TRUE) -> 10 | J12: =IFERROR(VLOOKUP($D12,'[2]Gui chi Quynh'!D$7:K$393,7,0),0) -> A1 | K12: =VLOOKUP(J12,Sheet1!$B$2:$C$12,2,TRUE) -> 10 | L12: =IFERROR(VLOOKUP($D12,'[3]Chi tiet'!$D$7:$L$397,8,0),0) -> A1 | M12: =VLOOKUP(L12,Sheet1!$B$2:$C$12,2,TRUE) -> 10 | N12: =IFERROR(VLOOKUP($D12,#REF!,3,0),0) -> 0 | O12: =VLOOKUP(N12,Sheet1!$B$2:$C$12,2,TRUE) -> #N/A | P12: =ROUND(AVERAGE(G12,I12,K12,M12,O12),2) -> #N/A | Q12: =COUNTIF(F12:O12,"C*")*1+COUNTIF(F12:O12,"D")*2+COUNTIF(F12:O12,"E")*3 -> 0 | R12: =IF(Q12>=3,"Không hoàn thành",IF(AND($P12>=8,$P12<=10,Q12=0),"Hoàn thành xuất sắc nhiệm vụ",IF(AND($P12>=8,$P12<=10,Q12=1),"Hoàn thành tốt nhiệm vụ",IF(AND($P12>=8,$P12<=10,Q12=2),"Hoàn thành nhiệm vụ",IF(AND($P12>6,$P12<8,Q12<=1),"Hoàn thành tốt nhiệm vụ",IF(AND($P12>6,$P12<8,Q12=2),"Hoàn thành nhiệm vụ",IF(AND($P12>=5,$P12<=6,Q12<=2),"Hoàn thành nhiệm vụ",IF(AND($P12<5,Q12>3),"Không hoàn thành","")))))))) -> #N/A
A13: =A12+1 -> 5 | B13: 01 | C13: Lâm Viết Dũng | D13: 01007009 | E13: Phòng Tổ chức - Hành chính - Tổng hợp | F13: A1 | G13: =VLOOKUP(F13,Sheet1!$B$2:$C$12,2,TRUE) -> 10 | H13: =IFERROR(VLOOKUP($D13,'[1]Chi tiet'!$D$7:$L$389,8,0),0) -> A1 | I13: =VLOOKUP(H13,Sheet1!$B$2:$C$12,2,TRUE) -> 10 | J13: =IFERROR(VLOOKUP($D13,'[2]Gui chi Quynh'!D$7:K$393,7,0),0) -> A1 | K13: =VLOOKUP(J13,Sheet1!$B$2:$C$12,2,TRUE) -> 10 | L13: =IFERROR(VLOOKUP($D13,'[3]Chi tiet'!$D$7:$L$397,8,0),0) -> A1 | M13: =VLOOKUP(L13,Sheet1!$B$2:$C$12,2,TRUE) -> 10 | N13: =IFERROR(VLOOKUP($D13,#REF!,3,0),0) -> 0 | O13: =VLOOKUP(N13,Sheet1!$B$2:$C$12,2,TRUE) -> #N/A | P13: =ROUND(AVERAGE(G13,I13,K13,M13,O13),2) -> #N/A | Q13: =COUNTIF(F13:O13,"C*")*1+COUNTIF(F13:O13,"D")*2+COUNTIF(F13:O13,"E")*3 -> 0 | R13: =IF(Q13>=3,"Không hoàn thành",IF(AND($P13>=8,$P13<=10,Q13=0),"Hoàn thành xuất sắc nhiệm vụ",IF(AND($P13>=8,$P13<=10,Q13=1),"Hoàn thành tốt nhiệm vụ",IF(AND($P13>=8,$P13<=10,Q13=2),"Hoàn thành nhiệm vụ",IF(AND($P13>6,$P13<8,Q13<=1),"Hoàn thành tốt nhiệm vụ",IF(AND($P13>6,$P13<8,Q13=2),"Hoàn thành nhiệm vụ",IF(AND($P13>=5,$P13<=6,Q13<=2),"Hoàn thành nhiệm vụ",IF(AND($P13<5,Q13>3),"Không hoàn thành","")))))))) -> #N/A
A14: =A13+1 -> 6 | B14: 25 | C14: Huỳnh Thị Minh Ly | D14: 01004007 | E14: Phòng Tổ chức - Hành chính - Tổng hợp | F14: A2 | G14: =VLOOKUP(F14,Sheet1!$B$2:$C$12,2,TRUE) -> 9 | H14: =IFERROR(VLOOKUP($D14,'[1]Chi tiet'!$D$7:$L$389,8,0),0) -> A2 | I14: =VLOOKUP(H14,Sheet1!$B$2:$C$12,2,TRUE) -> 9 | J14: =IFERROR(VLOOKUP($D14,'[2]Gui chi Quynh'!D$7:K$393,7,0),0) -> A2 | K14: =VLOOKUP(J14,Sheet1!$B$2:$C$12,2,TRUE) -> 9 | L14: =IFERROR(VLOOKUP($D14,'[3]Chi tiet'!$D$7:$L$397,8,0),0) -> A1 | M14: =VLOOKUP(L14,Sheet1!$B$2:$C$12,2,TRUE) -> 10 | N14: =IFERROR(VLOOKUP($D14,#REF!,3,0),0) -> 0 | O14: =VLOOKUP(N14,Sheet1!$B$2:$C$12,2,TRUE) -> #N/A | P14: =ROUND(AVERAGE(G14,I14,K14,M14,O14),2) -> #N/A | Q14: =COUNTIF(F14:O14,"C*")*1+COUNTIF(F14:O14,"D")*2+COUNTIF(F14:O14,"E")*3 -> 0 | R14: =IF(Q14>=3,"Không hoàn thành",IF(AND($P14>=8,$P14<=10,Q14=0),"Hoàn thành xuất sắc nhiệm vụ",IF(AND($P14>=8,$P14<=10,Q14=1),"Hoàn thành tốt nhiệm vụ",IF(AND($P14>=8,$P14<=10,Q14=2),"Hoàn thành nhiệm vụ",IF(AND($P14>6,$P14<8,Q14<=1),"Hoàn thành tốt nhiệm vụ",IF(AND($P14>6,$P14<8,Q14=2),"Hoàn thành nhiệm vụ",IF(AND($P14>=5,$P14<=6,Q14<=2),"Hoàn thành nhiệm vụ",IF(AND($P14<5,Q14>3),"Không hoàn thành","")))))))) -> #N/A
A15: =A14+1 -> 7 | B15: 02 | C15: Vũ Như Quỳnh | D15: 01002017 | E15: Phòng Tổ chức - Hành chính - Tổng hợp | F15: A2 | G15: =VLOOKUP(F15,Sheet1!$B$2:$C$12,2,TRUE) -> 9 | H15: =IFERROR(VLOOKUP($D15,'[1]Chi tiet'!$D$7:$L$389,8,0),0) -> A2 | I15: =VLOOKUP(H15,Sheet1!$B$2:$C$12,2,TRUE) -> 9 | J15: =IFERROR(VLOOKUP($D15,'[2]Gui chi Quynh'!D$7:K$393,7,0),0) -> A2 | K15: =VLOOKUP(J15,Sheet1!$B$2:$C$12,2,TRUE) -> 9 | L15: =IFERROR(VLOOKUP($D15,'[3]Chi tiet'!$D$7:$L$397,8,0),0) -> A3 | M15: =VLOOKUP(L15,Sheet1!$B$2:$C$12,2,TRUE) -> 8 | N15: =IFERROR(VLOOKUP($D15,#REF!,3,0),0) -> 0 | O15: =VLOOKUP(N15,Sheet1!$B$2:$C$12,2,TRUE) -> #N/A | P15: =ROUND(AVERAGE(G15,I15,K15,M15,O15),2) -> #N/A | Q15: =COUNTIF(F15:O15,"C*")*1+COUNTIF(F15:O15,"D")*2+COUNTIF(F15:O15,"E")*3 -> 0 | R15: =IF(Q15>=3,"Không hoàn thành",IF(AND($P15>=8,$P15<=10,Q15=0),"Hoàn thành xuất sắc nhiệm vụ",IF(AND($P15>=8,$P15<=10,Q15=1),"Hoàn thành tốt nhiệm vụ",IF(AND($P15>=8,$P15<=10,Q15=2),"Hoàn thành nhiệm vụ",IF(AND($P15>6,$P15<8,Q15<=1),"Hoàn thành tốt nhiệm vụ",IF(AND($P15>6,$P15<8,Q15=2),"Hoàn thành nhiệm vụ",IF(AND($P15>=5,$P15<=6,Q15<=2),"Hoàn thành nhiệm vụ",IF(AND($P15<5,Q15>3),"Không hoàn thành","")))))))) -> #N/A
A16: =A15+1 -> 8 | B16: 03 | C16: Phan Thị Ngọc Phượng | D16: 01002018 | E16: Phòng Tổ chức - Hành chính - Tổng hợp | F16: A3 | G16: =VLOOKUP(F16,Sheet1!$B$2:$C$12,2,TRUE) -> 8 | H16: =IFERROR(VLOOKUP($D16,'[1]Chi tiet'!$D$7:$L$389,8,0),0) -> A2 | I16: =VLOOKUP(H16,Sheet1!$B$2:$C$12,2,TRUE) -> 9 | J16: =IFERROR(VLOOKUP($D16,'[2]Gui chi Quynh'!D$7:K$393,7,0),0) -> A3 | K16: =VLOOKUP(J16,Sheet1!$B$2:$C$12,2,TRUE) -> 8 | L16: =IFERROR(VLOOKUP($D16,'[3]Chi tiet'!$D$7:$L$397,8,0),0) -> A2 | M16: =VLOOKUP(L16,Sheet1!$B$2:$C$12,2,TRUE) -> 9 | N16: =IFERROR(VLOOKUP($D16,#REF!,3,0),0) -> 0 | O16: =VLOOKUP(N16,Sheet1!$B$2:$C$12,2,TRUE) -> #N/A | P16: =ROUND(AVERAGE(G16,I16,K16,M16,O16),2) -> #N/A | Q16: =COUNTIF(F16:O16,"C*")*1+COUNTIF(F16:O16,"D")*2+COUNTIF(F16:O16,"E")*3 -> 0 | R16: =IF(Q16>=3,"Không hoàn thành",IF(AND($P16>=8,$P16<=10,Q16=0),"Hoàn thành xuất sắc nhiệm vụ",IF(AND($P16>=8,$P16<=10,Q16=1),"Hoàn thành tốt nhiệm vụ",IF(AND($P16>=8,$P16<=10,Q16=2),"Hoàn thành nhiệm vụ",IF(AND($P16>6,$P16<8,Q16<=1),"Hoàn thành tốt nhiệm vụ",IF(AND($P16>6,$P16<8,Q16=2),"Hoàn thành nhiệm vụ",IF(AND($P16>=5,$P16<=6,Q16<=2),"Hoàn thành nhiệm vụ",IF(AND($P16<5,Q16>3),"Không hoàn thành","")))))))) -> #N/A
A17: =A16+1 -> 9 | B17: 04 | C17: Nguyễn Thị Bích Liễu | D17: 01002005 | E17: Phòng Tổ chức - Hành chính - Tổng hợp | F17: A3 | G17: =VLOOKUP(F17,Sheet1!$B$2:$C$12,2,TRUE) -> 8 | H17: =IFERROR(VLOOKUP($D17,'[1]Chi tiet'!$D$7:$L$389,8,0),0) -> A2 | I17: =VLOOKUP(H17,Sheet1!$B$2:$C$12,2,TRUE) -> 9 | J17: =IFERROR(VLOOKUP($D17,'[2]Gui chi Quynh'!D$7:K$393,7,0),0) -> A3 | K17: =VLOOKUP(J17,Sheet1!$B$2:$C$12,2,TRUE) -> 8 | L17: =IFERROR(VLOOKUP($D17,'[3]Chi tiet'!$D$7:$L$397,8,0),0) -> A3 | M17: =VLOOKUP(L17,Sheet1!$B$2:$C$12,2,TRUE) -> 8 | N17: =IFERROR(VLOOKUP($D17,#REF!,3,0),0) -> 0 | O17: =VLOOKUP(N17,Sheet1!$B$2:$C$12,2,TRUE) -> #N/A | P17: =ROUND(AVERAGE(G17,I17,K17,M17,O17),2) -> #N/A | Q17: =COUNTIF(F17:O17,"C*")*1+COUNTIF(F17:O17,"D")*2+COUNTIF(F17:O17,"E")*3 -> 0 | R17: =IF(Q17>=3,"Không hoàn thành",IF(AND($P17>=8,$P17<=10,Q17=0),"Hoàn thành xuất sắc nhiệm vụ",IF(AND($P17>=8,$P17<=10,Q17=1),"Hoàn thành tốt nhiệm vụ",IF(AND($P17>=8,$P17<=10,Q17=2),"Hoàn thành nhiệm vụ",IF(AND($P17>6,$P17<8,Q17<=1),"Hoàn thành tốt nhiệm vụ",IF(AND($P17>6,$P17<8,Q17=2),"Hoàn thành nhiệm vụ",IF(AND($P17>=5,$P17<=6,Q17<=2),"Hoàn thành nhiệm vụ",IF(AND($P17<5,Q17>3),"Không hoàn thành","")))))))) -> #N/A
A18: =A17+1 -> 10 | B18: 05 | C18: Nguyễn Văn Chì | D18: 01023001 | E18: Phòng Tổ chức - Hành chính - Tổng hợp | F18: A4 | G18: =VLOOKUP(F18,Sheet1!$B$2:$C$12,2,TRUE) -> 7 | H18: =IFERROR(VLOOKUP($D18,'[1]Chi tiet'!$D$7:$L$389,8,0),0) -> A2 | I18: =VLOOKUP(H18,Sheet1!$B$2:$C$12,2,TRUE) -> 9 | J18: =IFERROR(VLOOKUP($D18,'[2]Gui chi Quynh'!D$7:K$393,7,0),0) -> A3 | K18: =VLOOKUP(J18,Sheet1!$B$2:$C$12,2,TRUE) -> 8 | L18: =IFERROR(VLOOKUP($D18,'[3]Chi tiet'!$D$7:$L$397,8,0),0) -> A3 | M18: =VLOOKUP(L18,Sheet1!$B$2:$C$12,2,TRUE) -> 8 | N18: =IFERROR(VLOOKUP($D18,#REF!,3,0),0) -> 0 | O18: =VLOOKUP(N18,Sheet1!$B$2:$C$12,2,TRUE) -> #N/A | P18: =ROUND(AVERAGE(G18,I18,K18,M18,O18),2) -> #N/A | Q18: =COUNTIF(F18:O18,"C*")*1+COUNTIF(F18:O18,"D")*2+COUNTIF(F18:O18,"E")*3 -> 0 | R18: =IF(Q18>=3,"Không hoàn thành",IF(AND($P18>=8,$P18<=10,Q18=0),"Hoàn thành xuất sắc nhiệm vụ",IF(AND($P18>=8,$P18<=10,Q18=1),"Hoàn thành tốt nhiệm vụ",IF(AND($P18>=8,$P18<=10,Q18=2),"Hoàn thành nhiệm vụ",IF(AND($P18>6,$P18<8,Q18<=1),"Hoàn thành tốt nhiệm vụ",IF(AND($P18>6,$P18<8,Q18=2),"Hoàn thành nhiệm vụ",IF(AND($P18>=5,$P18<=6,Q18<=2),"Hoàn thành nhiệm vụ",IF(AND($P18<5,Q18>3),"Không hoàn thành","")))))))) -> #N/A
A19: =A18+1 -> 11 | B19: 06 | C19: Trần Thị Ánh Phượng | D19: 01017006 | E19: Phòng Tổ chức - Hành chính - Tổng hợp | F19: A3 | G19: =VLOOKUP(F19,Sheet1!$B$2:$C$12,2,TRUE) -> 8 | H19: =IFERROR(VLOOKUP($D19,'[1]Chi tiet'!$D$7:$L$389,8,0),0) -> A2 | I19: =VLOOKUP(H19,Sheet1!$B$2:$C$12,2,TRUE) -> 9 | J19: =IFERROR(VLOOKUP($D19,'[2]Gui chi Quynh'!D$7:K$393,7,0),0) -> A3 | K19: =VLOOKUP(J19,Sheet1!$B$2:$C$12,2,TRUE) -> 8 | L19: =IFERROR(VLOOKUP($D19,'[3]Chi tiet'!$D$7:$L$397,8,0),0) -> A2 | M19: =VLOOKUP(L19,Sheet1!$B$2:$C$12,2,TRUE) -> 9 | N19: =IFERROR(VLOOKUP($D19,#REF!,3,0),0) -> 0 | O19: =VLOOKUP(N19,Sheet1!$B$2:$C$12,2,TRUE) -> #N/A | P19: =ROUND(AVERAGE(G19,I19,K19,M19,O19),2) -> #N/A | Q19: =COUNTIF(F19:O19,"C*")*1+COUNTIF(F19:O19,"D")*2+COUNTIF(F19:O19,"E")*3 -> 0 | R19: =IF(Q19>=3,"Không hoàn thành",IF(AND($P19>=8,$P19<=10,Q19=0),"Hoàn thành xuất sắc nhiệm vụ",IF(AND($P19>=8,$P19<=10,Q19=1),"Hoàn thành tốt nhiệm vụ",IF(AND($P19>=8,$P19<=10,Q19=2),"Hoàn thành nhiệm vụ",IF(AND($P19>6,$P19<8,Q19<=1),"Hoàn thành tốt nhiệm vụ",IF(AND($P19>6,$P19<8,Q19=2),"Hoàn thành nhiệm vụ",IF(AND($P19>=5,$P19<=6,Q19<=2),"Hoàn thành nhiệm vụ",IF(AND($P19<5,Q19>3),"Không hoàn thành","")))))))) -> #N/A
A20: =A19+1 -> 12 | B20: 07 | C20: Trần Văn Cu Anh | D20: 01002007 | E20: Phòng Tổ chức - Hành chính - Tổng hợp | F20: A4 | G20: =VLOOKUP(F20,Sheet1!$B$2:$C$12,2,TRUE) -> 7 | H20: =IFERROR(VLOOKUP($D20,'[1]Chi tiet'!$D$7:$L$389,8,0),0) -> A3 | I20: =VLOOKUP(H20,Sheet1!$B$2:$C$12,2,TRUE) -> 8 | J20: =IFERROR(VLOOKUP($D20,'[2]Gui chi Quynh'!D$7:K$393,7,0),0) -> A3 | K20: =VLOOKUP(J20,Sheet1!$B$2:$C$12,2,TRUE) -> 8 | L20: =IFERROR(VLOOKUP($D20,'[3]Chi tiet'!$D$7:$L$397,8,0),0) -> A3 | M20: =VLOOKUP(L20,Sheet1!$B$2:$C$12,2,TRUE) -> 8 | N20: =IFERROR(VLOOKUP($D20,#REF!,3,0),0) -> 0 | O20: =VLOOKUP(N20,Sheet1!$B$2:$C$12,2,TRUE) -> #N/A | P20: =ROUND(AVERAGE(G20,I20,K20,M20,O20),2) -> #N/A | Q20: =COUNTIF(F20:O20,"C*")*1+COUNTIF(F20:O20,"D")*2+COUNTIF(F20:O20,"E")*3 -> 0 | R20: =IF(Q20>=3,"Không hoàn thành",IF(AND($P20>=8,$P20<=10,Q20=0),"Hoàn thành xuất sắc nhiệm vụ",IF(AND($P20>=8,$P20<=10,Q20=1),"Hoàn thành tốt nhiệm vụ",IF(AND($P20>=8,$P20<=10,Q20=2),"Hoàn thành nhiệm vụ",IF(AND($P20>6,$P20<8,Q20<=1),"Hoàn thành tốt nhiệm vụ",IF(AND($P20>6,$P20<8,Q20=2),"Hoàn thành nhiệm vụ",IF(AND($P20>=5,$P20<=6,Q20<=2),"Hoàn thành nhiệm vụ",IF(AND($P20<5,Q20>3),"Không hoàn thành","")))))))) -> #N/A
A21: =A20+1 -> 13 | B21: 08 | C21: Lưu Hoàng Hải Yến | D21: 01002019 | E21: Phòng Tổ chức - Hành chính - Tổng hợp | F21: A2 | G21: =VLOOKUP(F21,Sheet1!$B$2:$C$12,2,TRUE) -> 9 | H21: =IFERROR(VLOOKUP($D21,'[1]Chi tiet'!$D$7:$L$389,8,0),0) -> A2 | I21: =VLOOKUP(H21,Sheet1!$B$2:$C$12,2,TRUE) -> 9 | J21: =IFERROR(VLOOKUP($D21,'[2]Gui chi Quynh'!D$7:K$393,7,0),0) -> A2 | K21: =VLOOKUP(J21,Sheet1!$B$2:$C$12,2,TRUE) -> 9 | L21: =IFERROR(VLOOKUP($D21,'[3]Chi tiet'!$D$7:$L$397,8,0),0) -> A1 | M21: =VLOOKUP(L21,Sheet1!$B$2:$C$12,2,TRUE) -> 10 | N21: =IFERROR(VLOOKUP($D21,#REF!,3,0),0) -> 0 | O21: =VLOOKUP(N21,Sheet1!$B$2:$C$12,2,TRUE) -> #N/A | P21: =ROUND(AVERAGE(G21,I21,K21,M21,O21),2) -> #N/A | Q21: =COUNTIF(F21:O21,"C*")*1+COUNTIF(F21:O21,"D")*2+COUNTIF(F21:O21,"E")*3 -> 0 | R21: =IF(Q21>=3,"Không hoàn thành",IF(AND($P21>=8,$P21<=10,Q21=0),"Hoàn thành xuất sắc nhiệm vụ",IF(AND($P21>=8,$P21<=10,Q21=1),"Hoàn thành tốt nhiệm vụ",IF(AND($P21>=8,$P21<=10,Q21=2),"Hoàn thành nhiệm vụ",IF(AND($P21>6,$P21<8,Q21<=1),"Hoàn thành tốt nhiệm vụ",IF(AND($P21>6,$P21<8,Q21=2),"Hoàn thành nhiệm vụ",IF(AND($P21>=5,$P21<=6,Q21<=2),"Hoàn thành nhiệm vụ",IF(AND($P21<5,Q21>3),"Không hoàn thành","")))))))) -> #N/A
... A36: =A35+1 -> 28 | B36: 23 | C36: Huỳnh Ngọc Liên | D36: 01002036 | E36: Phòng Tổ chức - Hành chính - Tổng hợp | F36: A3 | G36: =VLOOKUP(F36,Sheet1!$B$2:$C$12,2,TRUE) -> 8 | H36: =IFERROR(VLOOKUP($D36,'[1]Chi tiet'!$D$7:$L$389,8,0),0) -> A3 | I36: =VLOOKUP(H36,Sheet1!$B$2:$C$12,2,TRUE) -> 8 | J36: =IFERROR(VLOOKUP($D36,'[2]Gui chi Quynh'!D$7:K$393,7,0),0) -> A2 | K36: =VLOOKUP(J36,Sheet1!$B$2:$C$12,2,TRUE) -> 9 | L36: =IFERROR(VLOOKUP($D36,'[3]Chi tiet'!$D$7:$L$397,8,0),0) -> A3 | M36: =VLOOKUP(L36,Sheet1!$B$2:$C$12,2,TRUE) -> 8 | N36: =IFERROR(VLOOKUP($D36,#REF!,3,0),0) -> 0 | O36: =VLOOKUP(N36,Sheet1!$B$2:$C$12,2,TRUE) -> #N/A | P36: =ROUND(AVERAGE(G36,I36,K36,M36,O36),2) -> #N/A | Q36: =COUNTIF(F36:O36,"C*")*1+COUNTIF(F36:O36,"D")*2+COUNTIF(F36:O36,"E")*3 -> 0 | R36: =IF(Q36>=3,"Không hoàn thành",IF(AND($P36>=8,$P36<=10,Q36=0),"Hoàn thành xuất sắc nhiệm vụ",IF(AND($P36>=8,$P36<=10,Q36=1),"Hoàn thành tốt nhiệm vụ",IF(AND($P36>=8,$P36<=10,Q36=2),"Hoàn thành nhiệm vụ",IF(AND($P36>6,$P36<8,Q36<=1),"Hoàn thành tốt nhiệm vụ",IF(AND($P36>6,$P36<8,Q36=2),"Hoàn thành nhiệm vụ",IF(AND($P36>=5,$P36<=6,Q36<=2),"Hoàn thành nhiệm vụ",IF(AND($P36<5,Q36>3),"Không hoàn thành","")))))))) -> #N/A
A37: =A36+1 -> 29 | B37: 24 | C37: Phạm Quang Tùng | D37: 01010068 | E37: Phòng Tổ chức - Hành chính - Tổng hợp | F37: B1 | G37: =VLOOKUP(F37,Sheet1!$B$2:$C$12,2,TRUE) -> 6 | H37: =IFERROR(VLOOKUP($D37,'[1]Chi tiet'!$D$7:$L$389,8,0),0) -> A4 | I37: =VLOOKUP(H37,Sheet1!$B$2:$C$12,2,TRUE) -> 7 | J37: =IFERROR(VLOOKUP($D37,'[2]Gui chi Quynh'!D$7:K$393,7,0),0) -> A3 | K37: =VLOOKUP(J37,Sheet1!$B$2:$C$12,2,TRUE) -> 8 | L37: =IFERROR(VLOOKUP($D37,'[3]Chi tiet'!$D$7:$L$397,8,0),0) -> A3 | M37: =VLOOKUP(L37,Sheet1!$B$2:$C$12,2,TRUE) -> 8 | N37: =IFERROR(VLOOKUP($D37,#REF!,3,0),0) -> 0 | O37: =VLOOKUP(N37,Sheet1!$B$2:$C$12,2,TRUE) -> #N/A | P37: =ROUND(AVERAGE(G37,I37,K37,M37,O37),2) -> #N/A | Q37: =COUNTIF(F37:O37,"C*")*1+COUNTIF(F37:O37,"D")*2+COUNTIF(F37:O37,"E")*3 -> 0 | R37: =IF(Q37>=3,"Không hoàn thành",IF(AND($P37>=8,$P37<=10,Q37=0),"Hoàn thành xuất sắc nhiệm vụ",IF(AND($P37>=8,$P37<=10,Q37=1),"Hoàn thành tốt nhiệm vụ",IF(AND($P37>=8,$P37<=10,Q37=2),"Hoàn thành nhiệm vụ",IF(AND($P37>6,$P37<8,Q37<=1),"Hoàn thành tốt nhiệm vụ",IF(AND($P37>6,$P37<8,Q37=2),"Hoàn thành nhiệm vụ",IF(AND($P37>=5,$P37<=6,Q37<=2),"Hoàn thành nhiệm vụ",IF(AND($P37<5,Q37>3),"Không hoàn thành","")))))))) -> #N/A | T37: Thử việc T11/2020 HĐ T12/2020
A38: =A37+1 -> 30 | B38: 01 | C38: Nguyễn Kính | D38: 01002024 | E38: Phòng Kế hoạch - Tài chính | F38: A1 | G38: =VLOOKUP(F38,Sheet1!$B$2:$C$12,2,TRUE) -> 10 | H38: =IFERROR(VLOOKUP($D38,'[1]Chi tiet'!$D$7:$L$389,8,0),0) -> A1 | I38: =VLOOKUP(H38,Sheet1!$B$2:$C$12,2,TRUE) -> 10 | J38: =IFERROR(VLOOKUP($D38,'[2]Gui chi Quynh'!D$7:K$393,7,0),0) -> A1 | K38: =VLOOKUP(J38,Sheet1!$B$2:$C$12,2,TRUE) -> 10 | L38: =IFERROR(VLOOKUP($D38,'[3]Chi tiet'!$D$7:$L$397,8,0),0) -> A1 | M38: =VLOOKUP(L38,Sheet1!$B$2:$C$12,2,TRUE) -> 10 | N38: =IFERROR(VLOOKUP($D38,#REF!,3,0),0) -> 0 | O38: =VLOOKUP(N38,Sheet1!$B$2:$C$12,2,TRUE) -> #N/A | P38: =ROUND(AVERAGE(G38,I38,K38,M38,O38),2) -> #N/A | Q38: =COUNTIF(F38:O38,"C*")*1+COUNTIF(F38:O38,"D")*2+COUNTIF(F38:O38,"E")*3 -> 0 | R38: =IF(Q38>=3,"Không hoàn thành",IF(AND($P38>=8,$P38<=10,Q38=0),"Hoàn thành xuất sắc nhiệm vụ",IF(AND($P38>=8,$P38<=10,Q38=1),"Hoàn thành tốt nhiệm vụ",IF(AND($P38>=8,$P38<=10,Q38=2),"Hoàn thành nhiệm vụ",IF(AND($P38>6,$P38<8,Q38<=1),"Hoàn thành tốt nhiệm vụ",IF(AND($P38>6,$P38<8,Q38=2),"Hoàn thành nhiệm vụ",IF(AND($P38>=5,$P38<=6,Q38<=2),"Hoàn thành nhiệm vụ",IF(AND($P38<5,Q38>3),"Không hoàn thành","")))))))) -> #N/A
A39: =A38+1 -> 31 | B39: 02 | C39: Nguyễn Thị Kim Dung | D39: 01003002 | E39: Phòng Kế hoạch - Tài chính | F39: A2 | G39: =VLOOKUP(F39,Sheet1!$B$2:$C$12,2,TRUE) -> 9 | H39: =IFERROR(VLOOKUP($D39,'[1]Chi tiet'!$D$7:$L$389,8,0),0) -> A2 | I39: =VLOOKUP(H39,Sheet1!$B$2:$C$12,2,TRUE) -> 9 | J39: =IFERROR(VLOOKUP($D39,'[2]Gui chi Quynh'!D$7:K$393,7,0),0) -> A2 | K39: =VLOOKUP(J39,Sheet1!$B$2:$C$12,2,TRUE) -> 9 | L39: =IFERROR(VLOOKUP($D39,'[3]Chi tiet'!$D$7:$L$397,8,0),0) -> A2 | M39: =VLOOKUP(L39,Sheet1!$B$2:$C$12,2,TRUE) -> 9 | N39: =IFERROR(VLOOKUP($D39,#REF!,3,0),0) -> 0 | O39: =VLOOKUP(N39,Sheet1!$B$2:$C$12,2,TRUE) -> #N/A | P39: =ROUND(AVERAGE(G39,I39,K39,M39,O39),2) -> #N/A | Q39: =COUNTIF(F39:O39,"C*")*1+COUNTIF(F39:O39,"D")*2+COUNTIF(F39:O39,"E")*3 -> 0 | R39: =IF(Q39>=3,"Không hoàn thành",IF(AND($P39>=8,$P39<=10,Q39=0),"Hoàn thành xuất sắc nhiệm vụ",IF(AND($P39>=8,$P39<=10,Q39=1),"Hoàn thành tốt nhiệm vụ",IF(AND($P39>=8,$P39<=10,Q39=2),"Hoàn thành nhiệm vụ",IF(AND($P39>6,$P39<8,Q39<=1),"Hoàn thành tốt nhiệm vụ",IF(AND($P39>6,$P39<8,Q39=2),"Hoàn thành nhiệm vụ",IF(AND($P39>=5,$P39<=6,Q39<=2),"Hoàn thành nhiệm vụ",IF(AND($P39<5,Q39>3),"Không hoàn thành","")))))))) -> #N/A
A40: =A39+1 -> 32 | B40: 03 | C40: Hồng Mộng Tuyết Dung | D40: 01003009 | E40: Phòng Kế hoạch - Tài chính | F40: A2 | G40: =VLOOKUP(F40,Sheet1!$B$2:$C$12,2,TRUE) -> 9 | H40: =IFERROR(VLOOKUP($D40,'[1]Chi tiet'!$D$7:$L$389,8,0),0) -> A2 | I40: =VLOOKUP(H40,Sheet1!$B$2:$C$12,2,TRUE) -> 9 | J40: =IFERROR(VLOOKUP($D40,'[2]Gui chi Quynh'!D$7:K$393,7,0),0) -> A2 | K40: =VLOOKUP(J40,Sheet1!$B$2:$C$12,2,TRUE) -> 9 | L40: =IFERROR(VLOOKUP($D40,'[3]Chi tiet'!$D$7:$L$397,8,0),0) -> A2 | M40: =VLOOKUP(L40,Sheet1!$B$2:$C$12,2,TRUE) -> 9 | N40: =IFERROR(VLOOKUP($D40,#REF!,3,0),0) -> 0 | O40: =VLOOKUP(N40,Sheet1!$B$2:$C$12,2,TRUE) -> #N/A | P40: =ROUND(AVERAGE(G40,I40,K40,M40,O40),2) -> #N/A | Q40: =COUNTIF(F40:O40,"C*")*1+COUNTIF(F40:O40,"D")*2+COUNTIF(F40:O40,"E")*3 -> 0 | R40: =IF(Q40>=3,"Không hoàn thành",IF(AND($P40>=8,$P40<=10,Q40=0),"Hoàn thành xuất sắc nhiệm vụ",IF(AND($P40>=8,$P40<=10,Q40=1),"Hoàn thành tốt nhiệm vụ",IF(AND($P40>=8,$P40<=10,Q40=2),"Hoàn thành nhiệm vụ",IF(AND($P40>6,$P40<8,Q40<=1),"Hoàn thành tốt nhiệm vụ",IF(AND($P40>6,$P40<8,Q40=2),"Hoàn thành nhiệm vụ",IF(AND($P40>=5,$P40<=6,Q40<=2),"Hoàn thành nhiệm vụ",IF(AND($P40<5,Q40>3),"Không hoàn thành","")))))))) -> #N/A
A41: =A40+1 -> 33 | B41: 04 | C41: Trần Thị Minh Thoa | D41: 01003005 | E41: Phòng Kế hoạch - Tài chính | F41: A2 | G41: =VLOOKUP(F41,Sheet1!$B$2:$C$12,2,TRUE) -> 9 | H41: =IFERROR(VLOOKUP($D41,'[1]Chi tiet'!$D$7:$L$389,8,0),0) -> A2 | I41: =VLOOKUP(H41,Sheet1!$B$2:$C$12,2,TRUE) -> 9 | J41: =IFERROR(VLOOKUP($D41,'[2]Gui chi Quynh'!D$7:K$393,7,0),0) -> A2 | K41: =VLOOKUP(J41,Sheet1!$B$2:$C$12,2,TRUE) -> 9 | L41: =IFERROR(VLOOKUP($D41,'[3]Chi tiet'!$D$7:$L$397,8,0),0) -> A2 | M41: =VLOOKUP(L41,Sheet1!$B$2:$C$12,2,TRUE) -> 9 | N41: =IFERROR(VLOOKUP($D41,#REF!,3,0),0) -> 0 | O41: =VLOOKUP(N41,Sheet1!$B$2:$C$12,2,TRUE) -> #N/A | P41: =ROUND(AVERAGE(G41,I41,K41,M41,O41),2) -> #N/A | Q41: =COUNTIF(F41:O41,"C*")*1+COUNTIF(F41:O41,"D")*2+COUNTIF(F41:O41,"E")*3 -> 0 | R41: =IF(Q41>=3,"Không hoàn thành",IF(AND($P41>=8,$P41<=10,Q41=0),"Hoàn thành xuất sắc nhiệm vụ",IF(AND($P41>=8,$P41<=10,Q41=1),"Hoàn thành tốt nhiệm vụ",IF(AND($P41>=8,$P41<=10,Q41=2),"Hoàn thành nhiệm vụ",IF(AND($P41>6,$P41<8,Q41<=1),"Hoàn thành tốt nhiệm vụ",IF(AND($P41>6,$P41<8,Q41=2),"Hoàn thành nhiệm vụ",IF(AND($P41>=5,$P41<=6,Q41<=2),"Hoàn thành nhiệm vụ",IF(AND($P41<5,Q41>3),"Không hoàn thành","")))))))) -> #N/A
A42: =A41+1 -> 34 | B42: 05 | C42: Nguyễn Thị Hồng Thắm | D42: 01003007 | E42: Phòng Kế hoạch - Tài chính | F42: A DN | G42: 7 | H42: =IFERROR(VLOOKUP($D42,'[1]Chi tiet'!$D$7:$L$389,8,0),0) -> A DN | I42: 7 | J42: =IFERROR(VLOOKUP($D42,'[2]Gui chi Quynh'!D$7:K$393,7,0),0) -> A DN | K42: 7 | L42: =IFERROR(VLOOKUP($D42,'[3]Chi tiet'!$D$7:$L$397,8,0),0) -> A2 | M42: =VLOOKUP(L42,Sheet1!$B$2:$C$12,2,TRUE) -> 9 | N42: =IFERROR(VLOOKUP($D42,#REF!,3,0),0) -> 0 | O42: =VLOOKUP(N42,Sheet1!$B$2:$C$12,2,TRUE) -> #N/A | P42: =ROUND(AVERAGE(G42,I42,K42,M42,O42),2) -> #N/A | Q42: =COUNTIF(F42:O42,"C*")*1+COUNTIF(F42:O42,"D")*2+COUNTIF(F42:O42,"E")*3 -> 0 | R42: =IF(Q42>=3,"Không hoàn thành",IF(AND($P42>=8,$P42<=10,Q42=0),"Hoàn thành xuất sắc nhiệm vụ",IF(AND($P42>=8,$P42<=10,Q42=1),"Hoàn thành tốt nhiệm vụ",IF(AND($P42>=8,$P42<=10,Q42=2),"Hoàn thành nhiệm vụ",IF(AND($P42>6,$P42<8,Q42<=1),"Hoàn thành tốt nhiệm vụ",IF(AND($P42>6,$P42<8,Q42=2),"Hoàn thành nhiệm vụ",IF(AND($P42>=5,$P42<=6,Q42<=2),"Hoàn thành nhiệm vụ",IF(AND($P42<5,Q42>3),"Không hoàn thành","")))))))) -> #N/A | S42: Đi làm lại từ tháng 5, thưởng thi đua 2 tháng | T42: Nghỉ hộ sản từ 01/12/20
A43: =A42+1 -> 35 | B43: 06 | C43: Võ Thị Lệ Trân | D43: 01023004 | E43: Phòng Kế hoạch - Tài chính | F43: A2 | G43: =VLOOKUP(F43,Sheet1!$B$2:$C$12,2,TRUE) -> 9 | H43: =IFERROR(VLOOKUP($D43,'[1]Chi tiet'!$D$7:$L$389,8,0),0) -> A2 | I43: =VLOOKUP(H43,Sheet1!$B$2:$C$12,2,TRUE) -> 9 | J43: =IFERROR(VLOOKUP($D43,'[2]Gui chi Quynh'!D$7:K$393,7,0),0) -> A2 | K43: =VLOOKUP(J43,Sheet1!$B$2:$C$12,2,TRUE) -> 9 | L43: =IFERROR(VLOOKUP($D43,'[3]Chi tiet'!$D$7:$L$397,8,0),0) -> A2 | M43: =VLOOKUP(L43,Sheet1!$B$2:$C$12,2,TRUE) -> 9 | N43: =IFERROR(VLOOKUP($D43,#REF!,3,0),0) -> 0 | O43: =VLOOKUP(N43,Sheet1!$B$2:$C$12,2,TRUE) -> #N/A | P43: =ROUND(AVERAGE(G43,I43,K43,M43,O43),2) -> #N/A | Q43: =COUNTIF(F43:O43,"C*")*1+COUNTIF(F43:O43,"D")*2+COUNTIF(F43:O43,"E")*3 -> 0 | R43: =IF(Q43>=3,"Không hoàn thành",IF(AND($P43>=8,$P43<=10,Q43=0),"Hoàn thành xuất sắc nhiệm vụ",IF(AND($P43>=8,$P43<=10,Q43=1),"Hoàn thành tốt nhiệm vụ",IF(AND($P43>=8,$P43<=10,Q43=2),"Hoàn thành nhiệm vụ",IF(AND($P43>6,$P43<8,Q43<=1),"Hoàn thành tốt nhiệm vụ",IF(AND($P43>6,$P43<8,Q43=2),"Hoàn thành nhiệm vụ",IF(AND($P43>=5,$P43<=6,Q43<=2),"Hoàn thành nhiệm vụ",IF(AND($P43<5,Q43>3),"Không hoàn thành","")))))))) -> #N/A
A44: =A43+1 -> 36 | B44: 07 | C44: Trần Thị Thảo Vân | D44: 01003008 | E44: Phòng Kế hoạch - Tài chính | F44: A2 | G44: =VLOOKUP(F44,Sheet1!$B$2:$C$12,2,TRUE) -> 9 | H44: =IFERROR(VLOOKUP($D44,'[1]Chi tiet'!$D$7:$L$389,8,0),0) -> A2 | I44: =VLOOKUP(H44,Sheet1!$B$2:$C$12,2,TRUE) -> 9 | J44: =IFERROR(VLOOKUP($D44,'[2]Gui chi Quynh'!D$7:K$393,7,0),0) -> A2 | K44: =VLOOKUP(J44,Sheet1!$B$2:$C$12,2,TRUE) -> 9 | L44: =IFERROR(VLOOKUP($D44,'[3]Chi tiet'!$D$7:$L$397,8,0),0) -> A2 | M44: =VLOOKUP(L44,Sheet1!$B$2:$C$12,2,TRUE) -> 9 | N44: =IFERROR(VLOOKUP($D44,#REF!,3,0),0) -> 0 | O44: =VLOOKUP(N44,Sheet1!$B$2:$C$12,2,TRUE) -> #N/A | P44: =ROUND(AVERAGE(G44,I44,K44,M44,O44),2) -> #N/A | Q44: =COUNTIF(F44:O44,"C*")*1+COUNTIF(F44:O44,"D")*2+COUNTIF(F44:O44,"E")*3 -> 0 | R44: =IF(Q44>=3,"Không hoàn thành",IF(AND($P44>=8,$P44<=10,Q44=0),"Hoàn thành xuất sắc nhiệm vụ",IF(AND($P44>=8,$P44<=10,Q44=1),"Hoàn thành tốt nhiệm vụ",IF(AND($P44>=8,$P44<=10,Q44=2),"Hoàn thành nhiệm vụ",IF(AND($P44>6,$P44<8,Q44<=1),"Hoàn thành tốt nhiệm vụ",IF(AND($P44>6,$P44<8,Q44=2),"Hoàn thành nhiệm vụ",IF(AND($P44>=5,$P44<=6,Q44<=2),"Hoàn thành nhiệm vụ",IF(AND($P44<5,Q44>3),"Không hoàn thành","")))))))) -> #N/A
A45: =A44+1 -> 37 | B45: 08 | C45: Nguyễn Thụy Nghiêm | D45: 01003014 | E45: Phòng Kế hoạch - Tài chính | F45: A2 | G45: =VLOOKUP(F45,Sheet1!$B$2:$C$12,2,TRUE) -> 9 | H45: =IFERROR(VLOOKUP($D45,'[1]Chi tiet'!$D$7:$L$389,8,0),0) -> A2 | I45: =VLOOKUP(H45,Sheet1!$B$2:$C$12,2,TRUE) -> 9 | J45: =IFERROR(VLOOKUP($D45,'[2]Gui chi Quynh'!D$7:K$393,7,0),0) -> A2 | K45: =VLOOKUP(J45,Sheet1!$B$2:$C$12,2,TRUE) -> 9 | L45: =IFERROR(VLOOKUP($D45,'[3]Chi tiet'!$D$7:$L$397,8,0),0) -> A2 | M45: =VLOOKUP(L45,Sheet1!$B$2:$C$12,2,TRUE) -> 9 | N45: =IFERROR(VLOOKUP($D45,#REF!,3,0),0) -> 0 | O45: =VLOOKUP(N45,Sheet1!$B$2:$C$12,2,TRUE) -> #N/A | P45: =ROUND(AVERAGE(G45,I45,K45,M45,O45),2) -> #N/A | Q45: =COUNTIF(F45:O45,"C*")*1+COUNTIF(F45:O45,"D")*2+COUNTIF(F45:O45,"E")*3 -> 0 | R45: =IF(Q45>=3,"Không hoàn thành",IF(AND($P45>=8,$P45<=10,Q45=0),"Hoàn thành xuất sắc nhiệm vụ",IF(AND($P45>=8,$P45<=10,Q45=1),"Hoàn thành tốt nhiệm vụ",IF(AND($P45>=8,$P45<=10,Q45=2),"Hoàn thành nhiệm vụ",IF(AND($P45>6,$P45<8,Q45<=1),"Hoàn thành tốt nhiệm vụ",IF(AND($P45>6,$P45<8,Q45=2),"Hoàn thành nhiệm vụ",IF(AND($P45>=5,$P45<=6,Q45<=2),"Hoàn thành nhiệm vụ",IF(AND($P45<5,Q45>3),"Không hoàn thành","")))))))) -> #N/A
A46: =A45+1 -> 38 | B46: 01 | C46: Hồ Văn Sĩ | D46: 01004002 | E46: Phòng Tuyển sinh - Đào tạo | F46: A1 | G46: =VLOOKUP(F46,Sheet1!$B$2:$C$12,2,TRUE) -> 10 | H46: =IFERROR(VLOOKUP($D46,'[1]Chi tiet'!$D$7:$L$389,8,0),0) -> A1 | I46: =VLOOKUP(H46,Sheet1!$B$2:$C$12,2,TRUE) -> 10 | J46: =IFERROR(VLOOKUP($D46,'[2]Gui chi Quynh'!D$7:K$393,7,0),0) -> A1 | K46: =VLOOKUP(J46,Sheet1!$B$2:$C$12,2,TRUE) -> 10 | L46: =IFERROR(VLOOKUP($D46,'[3]Chi tiet'!$D$7:$L$397,8,0),0) -> A1 | M46: =VLOOKUP(L46,Sheet1!$B$2:$C$12,2,TRUE) -> 10 | N46: =IFERROR(VLOOKUP($D46,#REF!,3,0),0) -> 0 | O46: =VLOOKUP(N46,Sheet1!$B$2:$C$12,2,TRUE) -> #N/A | P46: =ROUND(AVERAGE(G46,I46,K46,M46,O46),2) -> #N/A | Q46: =COUNTIF(F46:O46,"C*")*1+COUNTIF(F46:O46,"D")*2+COUNTIF(F46:O46,"E")*3 -> 0 | R46: =IF(Q46>=3,"Không hoàn thành",IF(AND($P46>=8,$P46<=10,Q46=0),"Hoàn thành xuất sắc nhiệm vụ",IF(AND($P46>=8,$P46<=10,Q46=1),"Hoàn thành tốt nhiệm vụ",IF(AND($P46>=8,$P46<=10,Q46=2),"Hoàn thành nhiệm vụ",IF(AND($P46>6,$P46<8,Q46<=1),"Hoàn thành tốt nhiệm vụ",IF(AND($P46>6,$P46<8,Q46=2),"Hoàn thành nhiệm vụ",IF(AND($P46>=5,$P46<=6,Q46<=2),"Hoàn thành nhiệm vụ",IF(AND($P46<5,Q46>3),"Không hoàn thành","")))))))) -> #N/A
A47: =A46+1 -> 39 | B47: 02 | C47: Lương Xuân Thịnh | D47: 01004005 | E47: Phòng Tuyển sinh - Đào tạo | F47: A1 | G47: =VLOOKUP(F47,Sheet1!$B$2:$C$12,2,TRUE) -> 10 | H47: =IFERROR(VLOOKUP($D47,'[1]Chi tiet'!$D$7:$L$389,8,0),0) -> A1 | I47: =VLOOKUP(H47,Sheet1!$B$2:$C$12,2,TRUE) -> 10 | J47: =IFERROR(VLOOKUP($D47,'[2]Gui chi Quynh'!D$7:K$393,7,0),0) -> A1 | K47: =VLOOKUP(J47,Sheet1!$B$2:$C$12,2,TRUE) -> 10 | L47: =IFERROR(VLOOKUP($D47,'[3]Chi tiet'!$D$7:$L$397,8,0),0) -> A1 | M47: =VLOOKUP(L47,Sheet1!$B$2:$C$12,2,TRUE) -> 10 | N47: =IFERROR(VLOOKUP($D47,#REF!,3,0),0) -> 0 | O47: =VLOOKUP(N47,Sheet1!$B$2:$C$12,2,TRUE) -> #N/A | P47: =ROUND(AVERAGE(G47,I47,K47,M47,O47),2) -> #N/A | Q47: =COUNTIF(F47:O47,"C*")*1+COUNTIF(F47:O47,"D")*2+COUNTIF(F47:O47,"E")*3 -> 0 | R47: =IF(Q47>=3,"Không hoàn thành",IF(AND($P47>=8,$P47<=10,Q47=0),"Hoàn thành xuất sắc nhiệm vụ",IF(AND($P47>=8,$P47<=10,Q47=1),"Hoàn thành tốt nhiệm vụ",IF(AND($P47>=8,$P47<=10,Q47=2),"Hoàn thành nhiệm vụ",IF(AND($P47>6,$P47<8,Q47<=1),"Hoàn thành tốt nhiệm vụ",IF(AND($P47>6,$P47<8,Q47=2),"Hoàn thành nhiệm vụ",IF(AND($P47>=5,$P47<=6,Q47<=2),"Hoàn thành nhiệm vụ",IF(AND($P47<5,Q47>3),"Không hoàn thành","")))))))) -> #N/A
A48: =A47+1 -> 40 | B48: 03 | C48: Nguyễn Văn Tấn | D48: 01004001 | E48: Phòng Tuyển sinh - Đào tạo | F48: A1 | G48: =VLOOKUP(F48,Sheet1!$B$2:$C$12,2,TRUE) -> 10 | H48: =IFERROR(VLOOKUP($D48,'[1]Chi tiet'!$D$7:$L$389,8,0),0) -> A1 | I48: =VLOOKUP(H48,Sheet1!$B$2:$C$12,2,TRUE) -> 10 | J48: =IFERROR(VLOOKUP($D48,'[2]Gui chi Quynh'!D$7:K$393,7,0),0) -> A1 | K48: =VLOOKUP(J48,Sheet1!$B$2:$C$12,2,TRUE) -> 10 | L48: =IFERROR(VLOOKUP($D48,'[3]Chi tiet'!$D$7:$L$397,8,0),0) -> A1 | M48: =VLOOKUP(L48,Sheet1!$B$2:$C$12,2,TRUE) -> 10 | N48: =IFERROR(VLOOKUP($D48,#REF!,3,0),0) -> 0 | O48: =VLOOKUP(N48,Sheet1!$B$2:$C$12,2,TRUE) -> #N/A | P48: =ROUND(AVERAGE(G48,I48,K48,M48,O48),2) -> #N/A | Q48: =COUNTIF(F48:O48,"C*")*1+COUNTIF(F48:O48,"D")*2+COUNTIF(F48:O48,"E")*3 -> 0 | R48: =IF(Q48>=3,"Không hoàn thành",IF(AND($P48>=8,$P48<=10,Q48=0),"Hoàn thành xuất sắc nhiệm vụ",IF(AND($P48>=8,$P48<=10,Q48=1),"Hoàn thành tốt nhiệm vụ",IF(AND($P48>=8,$P48<=10,Q48=2),"Hoàn thành nhiệm vụ",IF(AND($P48>6,$P48<8,Q48<=1),"Hoàn thành tốt nhiệm vụ",IF(AND($P48>6,$P48<8,Q48=2),"Hoàn thành nhiệm vụ",IF(AND($P48>=5,$P48<=6,Q48<=2),"Hoàn thành nhiệm vụ",IF(AND($P48<5,Q48>3),"Không hoàn thành","")))))))) -> #N/A
A49: =A48+1 -> 41 | B49: 02 | C49: Huỳnh Thị Mai | D49: 01004004 | E49: Phòng Tuyển sinh - Đào tạo | F49: A1 | G49: =VLOOKUP(F49,Sheet1!$B$2:$C$12,2,TRUE) -> 10 | H49: =IFERROR(VLOOKUP($D49,'[1]Chi tiet'!$D$7:$L$389,8,0),0) -> A1 | I49: =VLOOKUP(H49,Sheet1!$B$2:$C$12,2,TRUE) -> 10 | J49: =IFERROR(VLOOKUP($D49,'[2]Gui chi Quynh'!D$7:K$393,7,0),0) -> A1 | K49: =VLOOKUP(J49,Sheet1!$B$2:$C$12,2,TRUE) -> 10 | L49: =IFERROR(VLOOKUP($D49,'[3]Chi tiet'!$D$7:$L$397,8,0),0) -> A1 | M49: =VLOOKUP(L49,Sheet1!$B$2:$C$12,2,TRUE) -> 10 | N49: =IFERROR(VLOOKUP($D49,#REF!,3,0),0) -> 0 | O49: =VLOOKUP(N49,Sheet1!$B$2:$C$12,2,TRUE) -> #N/A | P49: =ROUND(AVERAGE(G49,I49,K49,M49,O49),2) -> #N/A | Q49: =COUNTIF(F49:O49,"C*")*1+COUNTIF(F49:O49,"D")*2+COUNTIF(F49:O49,"E")*3 -> 0 | R49: =IF(Q49>=3,"Không hoàn thành",IF(AND($P49>=8,$P49<=10,Q49=0),"Hoàn thành xuất sắc nhiệm vụ",IF(AND($P49>=8,$P49<=10,Q49=1),"Hoàn thành tốt nhiệm vụ",IF(AND($P49>=8,$P49<=10,Q49=2),"Hoàn thành nhiệm vụ",IF(AND($P49>6,$P49<8,Q49<=1),"Hoàn thành tốt nhiệm vụ",IF(AND($P49>6,$P49<8,Q49=2),"Hoàn thành nhiệm vụ",IF(AND($P49>=5,$P49<=6,Q49<=2),"Hoàn thành nhiệm vụ",IF(AND($P49<5,Q49>3),"Không hoàn thành","")))))))) -> #N/A
A50: =A49+1 -> 42 | B50: 04 | C50: Võ Thị Xuân Thơ | D50: 01004003 | E50: Phòng Tuyển sinh - Đào tạo | F50: A2 | G50: =VLOOKUP(F50,Sheet1!$B$2:$C$12,2,TRUE) -> 9 | H50: =IFERROR(VLOOKUP($D50,'[1]Chi tiet'!$D$7:$L$389,8,0),0) -> A1 | I50: =VLOOKUP(H50,Sheet1!$B$2:$C$12,2,TRUE) -> 10 | J50: =IFERROR(VLOOKUP($D50,'[2]Gui chi Quynh'!D$7:K$393,7,0),0) -> A2 | K50: =VLOOKUP(J50,Sheet1!$B$2:$C$12,2,TRUE) -> 9 | L50: =IFERROR(VLOOKUP($D50,'[3]Chi tiet'!$D$7:$L$397,8,0),0) -> A1 | M50: =VLOOKUP(L50,Sheet1!$B$2:$C$12,2,TRUE) -> 10 | N50: =IFERROR(VLOOKUP($D50,#REF!,3,0),0) -> 0 | O50: =VLOOKUP(N50,Sheet1!$B$2:$C$12,2,TRUE) -> #N/A | P50: =ROUND(AVERAGE(G50,I50,K50,M50,O50),2) -> #N/A | Q50: =COUNTIF(F50:O50,"C*")*1+COUNTIF(F50:O50,"D")*2+COUNTIF(F50:O50,"E")*3 -> 0 | R50: =IF(Q50>=3,"Không hoàn thành",IF(AND($P50>=8,$P50<=10,Q50=0),"Hoàn thành xuất sắc nhiệm vụ",IF(AND($P50>=8,$P50<=10,Q50=1),"Hoàn thành tốt nhiệm vụ",IF(AND($P50>=8,$P50<=10,Q50=2),"Hoàn thành nhiệm vụ",IF(AND($P50>6,$P50<8,Q50<=1),"Hoàn thành tốt nhiệm vụ",IF(AND($P50>6,$P50<8,Q50=2),"Hoàn thành nhiệm vụ",IF(AND($P50>=5,$P50<=6,Q50<=2),"Hoàn thành nhiệm vụ",IF(AND($P50<5,Q50>3),"Không hoàn thành","")))))))) -> #N/A
A51: =A50+1 -> 43 | B51: 05 | C51: Nguyễn Thị Thanh Thảo | D51: 01004008 | E51: Phòng Tuyển sinh - Đào tạo | F51: A2 | G51: =VLOOKUP(F51,Sheet1!$B$2:$C$12,2,TRUE) -> 9 | H51: =IFERROR(VLOOKUP($D51,'[1]Chi tiet'!$D$7:$L$389,8,0),0) -> A1 | I51: =VLOOKUP(H51,Sheet1!$B$2:$C$12,2,TRUE) -> 10 | J51: =IFERROR(VLOOKUP($D51,'[2]Gui chi Quynh'!D$7:K$393,7,0),0) -> A1 | K51: =VLOOKUP(J51,Sheet1!$B$2:$C$12,2,TRUE) -> 10 | L51: =IFERROR(VLOOKUP($D51,'[3]Chi tiet'!$D$7:$L$397,8,0),0) -> A1 | M51: =VLOOKUP(L51,Sheet1!$B$2:$C$12,2,TRUE) -> 10 | N51: =IFERROR(VLOOKUP($D51,#REF!,3,0),0) -> 0 | O51: =VLOOKUP(N51,Sheet1!$B$2:$C$12,2,TRUE) -> #N/A | P51: =ROUND(AVERAGE(G51,I51,K51,M51,O51),2) -> #N/A | Q51: =COUNTIF(F51:O51,"C*")*1+COUNTIF(F51:O51,"D")*2+COUNTIF(F51:O51,"E")*3 -> 0 | R51: =IF(Q51>=3,"Không hoàn thành",IF(AND($P51>=8,$P51<=10,Q51=0),"Hoàn thành xuất sắc nhiệm vụ",IF(AND($P51>=8,$P51<=10,Q51=1),"Hoàn thành tốt nhiệm vụ",IF(AND($P51>=8,$P51<=10,Q51=2),"Hoàn thành nhiệm vụ",IF(AND($P51>6,$P51<8,Q51<=1),"Hoàn thành tốt nhiệm vụ",IF(AND($P51>6,$P51<8,Q51=2),"Hoàn thành nhiệm vụ",IF(AND($P51>=5,$P51<=6,Q51<=2),"Hoàn thành nhiệm vụ",IF(AND($P51<5,Q51>3),"Không hoàn thành","")))))))) -> #N/A
A52: =A51+1 -> 44 | B52: 06 | C52: Giáp Thị Vượng | D52: 01004009 | E52: Phòng Tuyển sinh - Đào tạo | F52: A3 | G52: =VLOOKUP(F52,Sheet1!$B$2:$C$12,2,TRUE) -> 8 | H52: =IFERROR(VLOOKUP($D52,'[1]Chi tiet'!$D$7:$L$389,8,0),0) -> A2 | I52: =VLOOKUP(H52,Sheet1!$B$2:$C$12,2,TRUE) -> 9 | J52: =IFERROR(VLOOKUP($D52,'[2]Gui chi Quynh'!D$7:K$393,7,0),0) -> A3 | K52: =VLOOKUP(J52,Sheet1!$B$2:$C$12,2,TRUE) -> 8 | L52: =IFERROR(VLOOKUP($D52,'[3]Chi tiet'!$D$7:$L$397,8,0),0) -> A2 | M52: =VLOOKUP(L52,Sheet1!$B$2:$C$12,2,TRUE) -> 9 | N52: =IFERROR(VLOOKUP($D52,#REF!,3,0),0) -> 0 | O52: =VLOOKUP(N52,Sheet1!$B$2:$C$12,2,TRUE) -> #N/A | P52: =ROUND(AVERAGE(G52,I52,K52,M52,O52),2) -> #N/A | Q52: =COUNTIF(F52:O52,"C*")*1+COUNTIF(F52:O52,"D")*2+COUNTIF(F52:O52,"E")*3 -> 0 | R52: =IF(Q52>=3,"Không hoàn thành",IF(AND($P52>=8,$P52<=10,Q52=0),"Hoàn thành xuất sắc nhiệm vụ",IF(AND($P52>=8,$P52<=10,Q52=1),"Hoàn thành tốt nhiệm vụ",IF(AND($P52>=8,$P52<=10,Q52=2),"Hoàn thành nhiệm vụ",IF(AND($P52>6,$P52<8,Q52<=1),"Hoàn thành tốt nhiệm vụ",IF(AND($P52>6,$P52<8,Q52=2),"Hoàn thành nhiệm vụ",IF(AND($P52>=5,$P52<=6,Q52<=2),"Hoàn thành nhiệm vụ",IF(AND($P52<5,Q52>3),"Không hoàn thành","")))))))) -> #N/A
A53: =A52+1 -> 45 | B53: 07 | C53: Nguyễn Thị Thùy | D53: 01022013 | E53: Phòng Tuyển sinh - Đào tạo | F53: A1 | G53: =VLOOKUP(F53,Sheet1!$B$2:$C$12,2,TRUE) -> 10 | H53: =IFERROR(VLOOKUP($D53,'[1]Chi tiet'!$D$7:$L$389,8,0),0) -> A2 | I53: =VLOOKUP(H53,Sheet1!$B$2:$C$12,2,TRUE) -> 9 | J53: =IFERROR(VLOOKUP($D53,'[2]Gui chi Quynh'!D$7:K$393,7,0),0) -> A1 | K53: =VLOOKUP(J53,Sheet1!$B$2:$C$12,2,TRUE) -> 10 | L53: =IFERROR(VLOOKUP($D53,'[3]Chi tiet'!$D$7:$L$397,8,0),0) -> A1 | M53: =VLOOKUP(L53,Sheet1!$B$2:$C$12,2,TRUE) -> 10 | N53: =IFERROR(VLOOKUP($D53,#REF!,3,0),0) -> 0 | O53: =VLOOKUP(N53,Sheet1!$B$2:$C$12,2,TRUE) -> #N/A | P53: =ROUND(AVERAGE(G53,I53,K53,M53,O53),2) -> #N/A | Q53: =COUNTIF(F53:O53,"C*")*1+COUNTIF(F53:O53,"D")*2+COUNTIF(F53:O53,"E")*3 -> 0 | R53: =IF(Q53>=3,"Không hoàn thành",IF(AND($P53>=8,$P53<=10,Q53=0),"Hoàn thành xuất sắc nhiệm vụ",IF(AND($P53>=8,$P53<=10,Q53=1),"Hoàn thành tốt nhiệm vụ",IF(AND($P53>=8,$P53<=10,Q53=2),"Hoàn thành nhiệm vụ",IF(AND($P53>6,$P53<8,Q53<=1),"Hoàn thành tốt nhiệm vụ",IF(AND($P53>6,$P53<8,Q53=2),"Hoàn thành nhiệm vụ",IF(AND($P53>=5,$P53<=6,Q53<=2),"Hoàn thành nhiệm vụ",IF(AND($P53<5,Q53>3),"Không hoàn thành","")))))))) -> #N/A
A54: =A53+1 -> 46 | B54: 08 | C54: Mai Nguyễn Hoàng Yến | D54: 01010038 | E54: Phòng Tuyển sinh - Đào tạo | F54: A3 | G54: =VLOOKUP(F54,Sheet1!$B$2:$C$12,2,TRUE) -> 8 | H54: =IFERROR(VLOOKUP($D54,'[1]Chi tiet'!$D$7:$L$389,8,0),0) -> A3 | I54: =VLOOKUP(H54,Sheet1!$B$2:$C$12,2,TRUE) -> 8 | J54: =IFERROR(VLOOKUP($D54,'[2]Gui chi Quynh'!D$7:K$393,7,0),0) -> A4 | K54: =VLOOKUP(J54,Sheet1!$B$2:$C$12,2,TRUE) -> 7 | L54: =IFERROR(VLOOKUP($D54,'[3]Chi tiet'!$D$7:$L$397,8,0),0) -> A3 | M54: =VLOOKUP(L54,Sheet1!$B$2:$C$12,2,TRUE) -> 8 | N54: =IFERROR(VLOOKUP($D54,#REF!,3,0),0) -> 0 | O54: =VLOOKUP(N54,Sheet1!$B$2:$C$12,2,TRUE) -> #N/A | P54: =ROUND(AVERAGE(G54,I54,K54,M54,O54),2) -> #N/A | Q54: =COUNTIF(F54:O54,"C*")*1+COUNTIF(F54:O54,"D")*2+COUNTIF(F54:O54,"E")*3 -> 0 | R54: =IF(Q54>=3,"Không hoàn thành",IF(AND($P54>=8,$P54<=10,Q54=0),"Hoàn thành xuất sắc nhiệm vụ",IF(AND($P54>=8,$P54<=10,Q54=1),"Hoàn thành tốt nhiệm vụ",IF(AND($P54>=8,$P54<=10,Q54=2),"Hoàn thành nhiệm vụ",IF(AND($P54>6,$P54<8,Q54<=1),"Hoàn thành tốt nhiệm vụ",IF(AND($P54>6,$P54<8,Q54=2),"Hoàn thành nhiệm vụ",IF(AND($P54>=5,$P54<=6,Q54<=2),"Hoàn thành nhiệm vụ",IF(AND($P54<5,Q54>3),"Không hoàn thành","")))))))) -> #N/A
... A75: =A74+1 -> 67 | B75: 15 | C75: Trần Anh Mỹ | D75: 01009028 | E75: Phòng Thanh tra Giáo dục - Công tác Sinh viên | F75: A4 | G75: =VLOOKUP(F75,Sheet1!$B$2:$C$12,2,TRUE) -> 7 | H75: =IFERROR(VLOOKUP($D75,'[1]Chi tiet'!$D$7:$L$389,8,0),0) -> A4 | I75: =VLOOKUP(H75,Sheet1!$B$2:$C$12,2,TRUE) -> 7 | J75: =IFERROR(VLOOKUP($D75,'[2]Gui chi Quynh'!D$7:K$393,7,0),0) -> A4 | K75: =VLOOKUP(J75,Sheet1!$B$2:$C$12,2,TRUE) -> 7 | L75: =IFERROR(VLOOKUP($D75,'[3]Chi tiet'!$D$7:$L$397,8,0),0) -> A4 | M75: =VLOOKUP(L75,Sheet1!$B$2:$C$12,2,TRUE) -> 7 | N75: =IFERROR(VLOOKUP($D75,#REF!,3,0),0) -> 0 | O75: =VLOOKUP(N75,Sheet1!$B$2:$C$12,2,TRUE) -> #N/A | P75: =ROUND(AVERAGE(G75,I75,K75,M75,O75),2) -> #N/A | Q75: =COUNTIF(F75:O75,"C*")*1+COUNTIF(F75:O75,"D")*2+COUNTIF(F75:O75,"E")*3 -> 0 | R75: =IF(Q75>=3,"Không hoàn thành",IF(AND($P75>=8,$P75<=10,Q75=0),"Hoàn thành xuất sắc nhiệm vụ",IF(AND($P75>=8,$P75<=10,Q75=1),"Hoàn thành tốt nhiệm vụ",IF(AND($P75>=8,$P75<=10,Q75=2),"Hoàn thành nhiệm vụ",IF(AND($P75>6,$P75<8,Q75<=1),"Hoàn thành tốt nhiệm vụ",IF(AND($P75>6,$P75<8,Q75=2),"Hoàn thành nhiệm vụ",IF(AND($P75>=5,$P75<=6,Q75<=2),"Hoàn thành nhiệm vụ",IF(AND($P75<5,Q75>3),"Không hoàn thành","")))))))) -> #N/A
A76: =A75+1 -> 68 | B76: 16 | C76: Bùi Đức Phước | D76: 01009026 | E76: Phòng Thanh tra Giáo dục - Công tác Sinh viên | F76: A4 | G76: =VLOOKUP(F76,Sheet1!$B$2:$C$12,2,TRUE) -> 7 | H76: =IFERROR(VLOOKUP($D76,'[1]Chi tiet'!$D$7:$L$389,8,0),0) -> A3 | I76: =VLOOKUP(H76,Sheet1!$B$2:$C$12,2,TRUE) -> 8 | J76: =IFERROR(VLOOKUP($D76,'[2]Gui chi Quynh'!D$7:K$393,7,0),0) -> A3 | K76: =VLOOKUP(J76,Sheet1!$B$2:$C$12,2,TRUE) -> 8 | L76: =IFERROR(VLOOKUP($D76,'[3]Chi tiet'!$D$7:$L$397,8,0),0) -> A3 | M76: =VLOOKUP(L76,Sheet1!$B$2:$C$12,2,TRUE) -> 8 | N76: =IFERROR(VLOOKUP($D76,#REF!,3,0),0) -> 0 | O76: =VLOOKUP(N76,Sheet1!$B$2:$C$12,2,TRUE) -> #N/A | P76: =ROUND(AVERAGE(G76,I76,K76,M76,O76),2) -> #N/A | Q76: =COUNTIF(F76:O76,"C*")*1+COUNTIF(F76:O76,"D")*2+COUNTIF(F76:O76,"E")*3 -> 0 | R76: =IF(Q76>=3,"Không hoàn thành",IF(AND($P76>=8,$P76<=10,Q76=0),"Hoàn thành xuất sắc nhiệm vụ",IF(AND($P76>=8,$P76<=10,Q76=1),"Hoàn thành tốt nhiệm vụ",IF(AND($P76>=8,$P76<=10,Q76=2),"Hoàn thành nhiệm vụ",IF(AND($P76>6,$P76<8,Q76<=1),"Hoàn thành tốt nhiệm vụ",IF(AND($P76>6,$P76<8,Q76=2),"Hoàn thành nhiệm vụ",IF(AND($P76>=5,$P76<=6,Q76<=2),"Hoàn thành nhiệm vụ",IF(AND($P76<5,Q76>3),"Không hoàn thành","")))))))) -> #N/A | T76: Thử việc T11/2020 HĐ T12/2020
A77: =A76+1 -> 69 | B77: 01 | C77: Nguyễn Chí Nhân | D77: 01009009 | E77: Phòng Khảo thí và Đảm bảo chất lượng | F77: A2 | G77: =VLOOKUP(F77,Sheet1!$B$2:$C$12,2,TRUE) -> 9 | H77: =IFERROR(VLOOKUP($D77,'[1]Chi tiet'!$D$7:$L$389,8,0),0) -> A1 | I77: =VLOOKUP(H77,Sheet1!$B$2:$C$12,2,TRUE) -> 10 | J77: =IFERROR(VLOOKUP($D77,'[2]Gui chi Quynh'!D$7:K$393,7,0),0) -> A1 | K77: =VLOOKUP(J77,Sheet1!$B$2:$C$12,2,TRUE) -> 10 | L77: =IFERROR(VLOOKUP($D77,'[3]Chi tiet'!$D$7:$L$397,8,0),0) -> A1 | M77: =VLOOKUP(L77,Sheet1!$B$2:$C$12,2,TRUE) -> 10 | N77: =IFERROR(VLOOKUP($D77,#REF!,3,0),0) -> 0 | O77: =VLOOKUP(N77,Sheet1!$B$2:$C$12,2,TRUE) -> #N/A | P77: =ROUND(AVERAGE(G77,I77,K77,M77,O77),2) -> #N/A | Q77: =COUNTIF(F77:O77,"C*")*1+COUNTIF(F77:O77,"D")*2+COUNTIF(F77:O77,"E")*3 -> 0 | R77: =IF(Q77>=3,"Không hoàn thành",IF(AND($P77>=8,$P77<=10,Q77=0),"Hoàn thành xuất sắc nhiệm vụ",IF(AND($P77>=8,$P77<=10,Q77=1),"Hoàn thành tốt nhiệm vụ",IF(AND($P77>=8,$P77<=10,Q77=2),"Hoàn thành nhiệm vụ",IF(AND($P77>6,$P77<8,Q77<=1),"Hoàn thành tốt nhiệm vụ",IF(AND($P77>6,$P77<8,Q77=2),"Hoàn thành nhiệm vụ",IF(AND($P77>=5,$P77<=6,Q77<=2),"Hoàn thành nhiệm vụ",IF(AND($P77<5,Q77>3),"Không hoàn thành","")))))))) -> #N/A
A78: =A77+1 -> 70 | B78: 32 | C78: Trương Thị Hồng | D78: 01023002 | E78: Phòng Khảo thí và Đảm bảo chất lượng | F78: A2 | G78: =VLOOKUP(F78,Sheet1!$B$2:$C$12,2,TRUE) -> 9 | H78: =IFERROR(VLOOKUP($D78,'[1]Chi tiet'!$D$7:$L$389,8,0),0) -> A2 | I78: =VLOOKUP(H78,Sheet1!$B$2:$C$12,2,TRUE) -> 9 | J78: =IFERROR(VLOOKUP($D78,'[2]Gui chi Quynh'!D$7:K$393,7,0),0) -> A2 | K78: =VLOOKUP(J78,Sheet1!$B$2:$C$12,2,TRUE) -> 9 | L78: =IFERROR(VLOOKUP($D78,'[3]Chi tiet'!$D$7:$L$397,8,0),0) -> A2 | M78: =VLOOKUP(L78,Sheet1!$B$2:$C$12,2,TRUE) -> 9 | N78: =IFERROR(VLOOKUP($D78,#REF!,3,0),0) -> 0 | O78: =VLOOKUP(N78,Sheet1!$B$2:$C$12,2,TRUE) -> #N/A | P78: =ROUND(AVERAGE(G78,I78,K78,M78,O78),2) -> #N/A | Q78: =COUNTIF(F78:O78,"C*")*1+COUNTIF(F78:O78,"D")*2+COUNTIF(F78:O78,"E")*3 -> 0 | R78: =IF(Q78>=3,"Không hoàn thành",IF(AND($P78>=8,$P78<=10,Q78=0),"Hoàn thành xuất sắc nhiệm vụ",IF(AND($P78>=8,$P78<=10,Q78=1),"Hoàn thành tốt nhiệm vụ",IF(AND($P78>=8,$P78<=10,Q78=2),"Hoàn thành nhiệm vụ",IF(AND($P78>6,$P78<8,Q78<=1),"Hoàn thành tốt nhiệm vụ",IF(AND($P78>6,$P78<8,Q78=2),"Hoàn thành nhiệm vụ",IF(AND($P78>=5,$P78<=6,Q78<=2),"Hoàn thành nhiệm vụ",IF(AND($P78<5,Q78>3),"Không hoàn thành","")))))))) -> #N/A
A79: =A78+1 -> 71 | B79: 03 | C79: Nguyễn Thanh Sơn | D79: 01006003 | E79: Phòng Khảo thí và Đảm bảo chất lượng | F79: A4 | G79: =VLOOKUP(F79,Sheet1!$B$2:$C$12,2,TRUE) -> 7 | H79: =IFERROR(VLOOKUP($D79,'[1]Chi tiet'!$D$7:$L$389,8,0),0) -> A3 | I79: =VLOOKUP(H79,Sheet1!$B$2:$C$12,2,TRUE) -> 8 | J79: =IFERROR(VLOOKUP($D79,'[2]Gui chi Quynh'!D$7:K$393,7,0),0) -> A3 | K79: =VLOOKUP(J79,Sheet1!$B$2:$C$12,2,TRUE) -> 8 | L79: =IFERROR(VLOOKUP($D79,'[3]Chi tiet'!$D$7:$L$397,8,0),0) -> A3 | M79: =VLOOKUP(L79,Sheet1!$B$2:$C$12,2,TRUE) -> 8 | N79: =IFERROR(VLOOKUP($D79,#REF!,3,0),0) -> 0 | O79: =VLOOKUP(N79,Sheet1!$B$2:$C$12,2,TRUE) -> #N/A | P79: =ROUND(AVERAGE(G79,I79,K79,M79,O79),2) -> #N/A | Q79: =COUNTIF(F79:O79,"C*")*1+COUNTIF(F79:O79,"D")*2+COUNTIF(F79:O79,"E")*3 -> 0 | R79: =IF(Q79>=3,"Không hoàn thành",IF(AND($P79>=8,$P79<=10,Q79=0),"Hoàn thành xuất sắc nhiệm vụ",IF(AND($P79>=8,$P79<=10,Q79=1),"Hoàn thành tốt nhiệm vụ",IF(AND($P79>=8,$P79<=10,Q79=2),"Hoàn thành nhiệm vụ",IF(AND($P79>6,$P79<8,Q79<=1),"Hoàn thành tốt nhiệm vụ",IF(AND($P79>6,$P79<8,Q79=2),"Hoàn thành nhiệm vụ",IF(AND($P79>=5,$P79<=6,Q79<=2),"Hoàn thành nhiệm vụ",IF(AND($P79<5,Q79>3),"Không hoàn thành","")))))))) -> #N/A
A80: =A79+1 -> 72 | B80: 04 | C80: Vũ Thị Thu Thủy | D80: 01013032 | E80: Phòng Khảo thí và Đảm bảo chất lượng | F80: A4 | G80: =VLOOKUP(F80,Sheet1!$B$2:$C$12,2,TRUE) -> 7 | H80: =IFERROR(VLOOKUP($D80,'[1]Chi tiet'!$D$7:$L$389,8,0),0) -> A3 | I80: =VLOOKUP(H80,Sheet1!$B$2:$C$12,2,TRUE) -> 8 | J80: =IFERROR(VLOOKUP($D80,'[2]Gui chi Quynh'!D$7:K$393,7,0),0) -> A3 | K80: =VLOOKUP(J80,Sheet1!$B$2:$C$12,2,TRUE) -> 8 | L80: =IFERROR(VLOOKUP($D80,'[3]Chi tiet'!$D$7:$L$397,8,0),0) -> A3 | M80: =VLOOKUP(L80,Sheet1!$B$2:$C$12,2,TRUE) -> 8 | N80: =IFERROR(VLOOKUP($D80,#REF!,3,0),0) -> 0 | O80: =VLOOKUP(N80,Sheet1!$B$2:$C$12,2,TRUE) -> #N/A | P80: =ROUND(AVERAGE(G80,I80,K80,M80,O80),2) -> #N/A | Q80: =COUNTIF(F80:O80,"C*")*1+COUNTIF(F80:O80,"D")*2+COUNTIF(F80:O80,"E")*3 -> 0 | R80: =IF(Q80>=3,"Không hoàn thành",IF(AND($P80>=8,$P80<=10,Q80=0),"Hoàn thành xuất sắc nhiệm vụ",IF(AND($P80>=8,$P80<=10,Q80=1),"Hoàn thành tốt nhiệm vụ",IF(AND($P80>=8,$P80<=10,Q80=2),"Hoàn thành nhiệm vụ",IF(AND($P80>6,$P80<8,Q80<=1),"Hoàn thành tốt nhiệm vụ",IF(AND($P80>6,$P80<8,Q80=2),"Hoàn thành nhiệm vụ",IF(AND($P80>=5,$P80<=6,Q80<=2),"Hoàn thành nhiệm vụ",IF(AND($P80<5,Q80>3),"Không hoàn thành","")))))))) -> #N/A
A81: =A80+1 -> 73 | B81: 05 | C81: Nguyễn Thị Tuyết | D81: 01022061 | E81: Phòng Khảo thí và Đảm bảo chất lượng | F81: A3 | G81: =VLOOKUP(F81,Sheet1!$B$2:$C$12,2,TRUE) -> 8 | H81: =IFERROR(VLOOKUP($D81,'[1]Chi tiet'!$D$7:$L$389,8,0),0) -> A2 | I81: =VLOOKUP(H81,Sheet1!$B$2:$C$12,2,TRUE) -> 9 | J81: =IFERROR(VLOOKUP($D81,'[2]Gui chi Quynh'!D$7:K$393,7,0),0) -> A2 | K81: =VLOOKUP(J81,Sheet1!$B$2:$C$12,2,TRUE) -> 9 | L81: =IFERROR(VLOOKUP($D81,'[3]Chi tiet'!$D$7:$L$397,8,0),0) -> A2 | M81: =VLOOKUP(L81,Sheet1!$B$2:$C$12,2,TRUE) -> 9 | N81: =IFERROR(VLOOKUP($D81,#REF!,3,0),0) -> 0 | O81: =VLOOKUP(N81,Sheet1!$B$2:$C$12,2,TRUE) -> #N/A | P81: =ROUND(AVERAGE(G81,I81,K81,M81,O81),2) -> #N/A | Q81: =COUNTIF(F81:O81,"C*")*1+COUNTIF(F81:O81,"D")*2+COUNTIF(F81:O81,"E")*3 -> 0 | R81: =IF(Q81>=3,"Không hoàn thành",IF(AND($P81>=8,$P81<=10,Q81=0),"Hoàn thành xuất sắc nhiệm vụ",IF(AND($P81>=8,$P81<=10,Q81=1),"Hoàn thành tốt nhiệm vụ",IF(AND($P81>=8,$P81<=10,Q81=2),"Hoàn thành nhiệm vụ",IF(AND($P81>6,$P81<8,Q81<=1),"Hoàn thành tốt nhiệm vụ",IF(AND($P81>6,$P81<8,Q81=2),"Hoàn thành nhiệm vụ",IF(AND($P81>=5,$P81<=6,Q81<=2),"Hoàn thành nhiệm vụ",IF(AND($P81<5,Q81>3),"Không hoàn thành","")))))))) -> #N/A
A82: =A81+1 -> 74 | B82: 06 | C82: Lương Minh Dũng | D82: 01015027 | E82: Phòng Khảo thí và Đảm bảo chất lượng | F82: A2 | G82: =VLOOKUP(F82,Sheet1!$B$2:$C$12,2,TRUE) -> 9 | H82: =IFERROR(VLOOKUP($D82,'[1]Chi tiet'!$D$7:$L$389,8,0),0) -> A3 | I82: =VLOOKUP(H82,Sheet1!$B$2:$C$12,2,TRUE) -> 8 | J82: =IFERROR(VLOOKUP($D82,'[2]Gui chi Quynh'!D$7:K$393,7,0),0) -> A3 | K82: =VLOOKUP(J82,Sheet1!$B$2:$C$12,2,TRUE) -> 8 | L82: =IFERROR(VLOOKUP($D82,'[3]Chi tiet'!$D$7:$L$397,8,0),0) -> A2 | M82: =VLOOKUP(L82,Sheet1!$B$2:$C$12,2,TRUE) -> 9 | N82: =IFERROR(VLOOKUP($D82,#REF!,3,0),0) -> 0 | O82: =VLOOKUP(N82,Sheet1!$B$2:$C$12,2,TRUE) -> #N/A | P82: =ROUND(AVERAGE(G82,I82,K82,M82,O82),2) -> #N/A | Q82: =COUNTIF(F82:O82,"C*")*1+COUNTIF(F82:O82,"D")*2+COUNTIF(F82:O82,"E")*3 -> 0 | R82: =IF(Q82>=3,"Không hoàn thành",IF(AND($P82>=8,$P82<=10,Q82=0),"Hoàn thành xuất sắc nhiệm vụ",IF(AND($P82>=8,$P82<=10,Q82=1),"Hoàn thành tốt nhiệm vụ",IF(AND($P82>=8,$P82<=10,Q82=2),"Hoàn thành nhiệm vụ",IF(AND($P82>6,$P82<8,Q82<=1),"Hoàn thành tốt nhiệm vụ",IF(AND($P82>6,$P82<8,Q82=2),"Hoàn thành nhiệm vụ",IF(AND($P82>=5,$P82<=6,Q82<=2),"Hoàn thành nhiệm vụ",IF(AND($P82<5,Q82>3),"Không hoàn thành","")))))))) -> #N/A
A83: =A82+1 -> 75 | B83: 07 | C83: Nguyễn Yến Nhi | D83: 01006006 | E83: Phòng Khảo thí và Đảm bảo chất lượng | F83: A2 | G83: =VLOOKUP(F83,Sheet1!$B$2:$C$12,2,TRUE) -> 9 | H83: =IFERROR(VLOOKUP($D83,'[1]Chi tiet'!$D$7:$L$389,8,0),0) -> A1 | I83: =VLOOKUP(H83,Sheet1!$B$2:$C$12,2,TRUE) -> 10 | J83: =IFERROR(VLOOKUP($D83,'[2]Gui chi Quynh'!D$7:K$393,7,0),0) -> A1 | K83: =VLOOKUP(J83,Sheet1!$B$2:$C$12,2,TRUE) -> 10 | L83: =IFERROR(VLOOKUP($D83,'[3]Chi tiet'!$D$7:$L$397,8,0),0) -> A2 | M83: =VLOOKUP(L83,Sheet1!$B$2:$C$12,2,TRUE) -> 9 | N83: =IFERROR(VLOOKUP($D83,#REF!,3,0),0) -> 0 | O83: =VLOOKUP(N83,Sheet1!$B$2:$C$12,2,TRUE) -> #N/A | P83: =ROUND(AVERAGE(G83,I83,K83,M83,O83),2) -> #N/A | Q83: =COUNTIF(F83:O83,"C*")*1+COUNTIF(F83:O83,"D")*2+COUNTIF(F83:O83,"E")*3 -> 0 | R83: =IF(Q83>=3,"Không hoàn thành",IF(AND($P83>=8,$P83<=10,Q83=0),"Hoàn thành xuất sắc nhiệm vụ",IF(AND($P83>=8,$P83<=10,Q83=1),"Hoàn thành tốt nhiệm vụ",IF(AND($P83>=8,$P83<=10,Q83=2),"Hoàn thành nhiệm vụ",IF(AND($P83>6,$P83<8,Q83<=1),"Hoàn thành tốt nhiệm vụ",IF(AND($P83>6,$P83<8,Q83=2),"Hoàn thành nhiệm vụ",IF(AND($P83>=5,$P83<=6,Q83<=2),"Hoàn thành nhiệm vụ",IF(AND($P83<5,Q83>3),"Không hoàn thành","")))))))) -> #N/A
A84: =A83+1 -> 76 | B84: 01 | C84: Nguyễn Ngọc Trang | D84: 01005001 | E84: Phòng Quản lý khoa học - Hợp tác quốc tế | F84: A2 | G84: =VLOOKUP(F84,Sheet1!$B$2:$C$12,2,TRUE) -> 9 | H84: =IFERROR(VLOOKUP($D84,'[1]Chi tiet'!$D$7:$L$389,8,0),0) -> A1 | I84: =VLOOKUP(H84,Sheet1!$B$2:$C$12,2,TRUE) -> 10 | J84: =IFERROR(VLOOKUP($D84,'[2]Gui chi Quynh'!D$7:K$393,7,0),0) -> A1 | K84: =VLOOKUP(J84,Sheet1!$B$2:$C$12,2,TRUE) -> 10 | L84: =IFERROR(VLOOKUP($D84,'[3]Chi tiet'!$D$7:$L$397,8,0),0) -> A1 | M84: =VLOOKUP(L84,Sheet1!$B$2:$C$12,2,TRUE) -> 10 | N84: =IFERROR(VLOOKUP($D84,#REF!,3,0),0) -> 0 | O84: =VLOOKUP(N84,Sheet1!$B$2:$C$12,2,TRUE) -> #N/A | P84: =ROUND(AVERAGE(G84,I84,K84,M84,O84),2) -> #N/A | Q84: =COUNTIF(F84:O84,"C*")*1+COUNTIF(F84:O84,"D")*2+COUNTIF(F84:O84,"E")*3 -> 0 | R84: =IF(Q84>=3,"Không hoàn thành",IF(AND($P84>=8,$P84<=10,Q84=0),"Hoàn thành xuất sắc nhiệm vụ",IF(AND($P84>=8,$P84<=10,Q84=1),"Hoàn thành tốt nhiệm vụ",IF(AND($P84>=8,$P84<=10,Q84=2),"Hoàn thành nhiệm vụ",IF(AND($P84>6,$P84<8,Q84<=1),"Hoàn thành tốt nhiệm vụ",IF(AND($P84>6,$P84<8,Q84=2),"Hoàn thành nhiệm vụ",IF(AND($P84>=5,$P84<=6,Q84<=2),"Hoàn thành nhiệm vụ",IF(AND($P84<5,Q84>3),"Không hoàn thành","")))))))) -> #N/A
A85: =A84+1 -> 77 | B85: 02 | C85: Lê Tiến Dũng | D85: 01005003 | E85: Phòng Quản lý khoa học - Hợp tác quốc tế | F85: A4 | G85: =VLOOKUP(F85,Sheet1!$B$2:$C$12,2,TRUE) -> 7 | H85: =IFERROR(VLOOKUP($D85,'[1]Chi tiet'!$D$7:$L$389,8,0),0) -> A3 | I85: =VLOOKUP(H85,Sheet1!$B$2:$C$12,2,TRUE) -> 8 | J85: =IFERROR(VLOOKUP($D85,'[2]Gui chi Quynh'!D$7:K$393,7,0),0) -> A3 | K85: =VLOOKUP(J85,Sheet1!$B$2:$C$12,2,TRUE) -> 8 | L85: =IFERROR(VLOOKUP($D85,'[3]Chi tiet'!$D$7:$L$397,8,0),0) -> A4 | M85: =VLOOKUP(L85,Sheet1!$B$2:$C$12,2,TRUE) -> 7 | N85: =IFERROR(VLOOKUP($D85,#REF!,3,0),0) -> 0 | O85: =VLOOKUP(N85,Sheet1!$B$2:$C$12,2,TRUE) -> #N/A | P85: =ROUND(AVERAGE(G85,I85,K85,M85,O85),2) -> #N/A | Q85: =COUNTIF(F85:O85,"C*")*1+COUNTIF(F85:O85,"D")*2+COUNTIF(F85:O85,"E")*3 -> 0 | R85: =IF(Q85>=3,"Không hoàn thành",IF(AND($P85>=8,$P85<=10,Q85=0),"Hoàn thành xuất sắc nhiệm vụ",IF(AND($P85>=8,$P85<=10,Q85=1),"Hoàn thành tốt nhiệm vụ",IF(AND($P85>=8,$P85<=10,Q85=2),"Hoàn thành nhiệm vụ",IF(AND($P85>6,$P85<8,Q85<=1),"Hoàn thành tốt nhiệm vụ",IF(AND($P85>6,$P85<8,Q85=2),"Hoàn thành nhiệm vụ",IF(AND($P85>=5,$P85<=6,Q85<=2),"Hoàn thành nhiệm vụ",IF(AND($P85<5,Q85>3),"Không hoàn thành","")))))))) -> #N/A
A86: =A85+1 -> 78 | B86: 01 | C86: Lê Quang Liêm | D86: 01008028 | E86: Phòng Quản trị - Dịch vụ | F86: A1 | G86: =VLOOKUP(F86,Sheet1!$B$2:$C$12,2,TRUE) -> 10 | H86: =IFERROR(VLOOKUP($D86,'[1]Chi tiet'!$D$7:$L$389,8,0),0) -> A1 | I86: =VLOOKUP(H86,Sheet1!$B$2:$C$12,2,TRUE) -> 10 | J86: =IFERROR(VLOOKUP($D86,'[2]Gui chi Quynh'!D$7:K$393,7,0),0) -> A1 | K86: =VLOOKUP(J86,Sheet1!$B$2:$C$12,2,TRUE) -> 10 | L86: =IFERROR(VLOOKUP($D86,'[3]Chi tiet'!$D$7:$L$397,8,0),0) -> A1 | M86: =VLOOKUP(L86,Sheet1!$B$2:$C$12,2,TRUE) -> 10 | N86: =IFERROR(VLOOKUP($D86,#REF!,3,0),0) -> 0 | O86: =VLOOKUP(N86,Sheet1!$B$2:$C$12,2,TRUE) -> #N/A | P86: =ROUND(AVERAGE(G86,I86,K86,M86,O86),2) -> #N/A | Q86: =COUNTIF(F86:O86,"C*")*1+COUNTIF(F86:O86,"D")*2+COUNTIF(F86:O86,"E")*3 -> 0 | R86: =IF(Q86>=3,"Không hoàn thành",IF(AND($P86>=8,$P86<=10,Q86=0),"Hoàn thành xuất sắc nhiệm vụ",IF(AND($P86>=8,$P86<=10,Q86=1),"Hoàn thành tốt nhiệm vụ",IF(AND($P86>=8,$P86<=10,Q86=2),"Hoàn thành nhiệm vụ",IF(AND($P86>6,$P86<8,Q86<=1),"Hoàn thành tốt nhiệm vụ",IF(AND($P86>6,$P86<8,Q86=2),"Hoàn thành nhiệm vụ",IF(AND($P86>=5,$P86<=6,Q86<=2),"Hoàn thành nhiệm vụ",IF(AND($P86<5,Q86>3),"Không hoàn thành","")))))))) -> #N/A
A87: =A86+1 -> 79 | B87: 02 | C87: Nguyễn Văn Thành | D87: 01008002 | E87: Phòng Quản trị - Dịch vụ | F87: A2 | G87: =VLOOKUP(F87,Sheet1!$B$2:$C$12,2,TRUE) -> 9 | H87: =IFERROR(VLOOKUP($D87,'[1]Chi tiet'!$D$7:$L$389,8,0),0) -> A2 | I87: =VLOOKUP(H87,Sheet1!$B$2:$C$12,2,TRUE) -> 9 | J87: =IFERROR(VLOOKUP($D87,'[2]Gui chi Quynh'!D$7:K$393,7,0),0) -> A2 | K87: =VLOOKUP(J87,Sheet1!$B$2:$C$12,2,TRUE) -> 9 | L87: =IFERROR(VLOOKUP($D87,'[3]Chi tiet'!$D$7:$L$397,8,0),0) -> A2 | M87: =VLOOKUP(L87,Sheet1!$B$2:$C$12,2,TRUE) -> 9 | N87: =IFERROR(VLOOKUP($D87,#REF!,3,0),0) -> 0 | O87: =VLOOKUP(N87,Sheet1!$B$2:$C$12,2,TRUE) -> #N/A | P87: =ROUND(AVERAGE(G87,I87,K87,M87,O87),2) -> #N/A | Q87: =COUNTIF(F87:O87,"C*")*1+COUNTIF(F87:O87,"D")*2+COUNTIF(F87:O87,"E")*3 -> 0 | R87: =IF(Q87>=3,"Không hoàn thành",IF(AND($P87>=8,$P87<=10,Q87=0),"Hoàn thành xuất sắc nhiệm vụ",IF(AND($P87>=8,$P87<=10,Q87=1),"Hoàn thành tốt nhiệm vụ",IF(AND($P87>=8,$P87<=10,Q87=2),"Hoàn thành nhiệm vụ",IF(AND($P87>6,$P87<8,Q87<=1),"Hoàn thành tốt nhiệm vụ",IF(AND($P87>6,$P87<8,Q87=2),"Hoàn thành nhiệm vụ",IF(AND($P87>=5,$P87<=6,Q87<=2),"Hoàn thành nhiệm vụ",IF(AND($P87<5,Q87>3),"Không hoàn thành","")))))))) -> #N/A
A88: =A87+1 -> 80 | B88: 03 | C88: Trịnh Hoàng Hiệp | D88: 01025007 | E88: Phòng Quản trị - Dịch vụ | F88: A2 | G88: =VLOOKUP(F88,Sheet1!$B$2:$C$12,2,TRUE) -> 9 | H88: =IFERROR(VLOOKUP($D88,'[1]Chi tiet'!$D$7:$L$389,8,0),0) -> A2 | I88: =VLOOKUP(H88,Sheet1!$B$2:$C$12,2,TRUE) -> 9 | J88: =IFERROR(VLOOKUP($D88,'[2]Gui chi Quynh'!D$7:K$393,7,0),0) -> A2 | K88: =VLOOKUP(J88,Sheet1!$B$2:$C$12,2,TRUE) -> 9 | L88: =IFERROR(VLOOKUP($D88,'[3]Chi tiet'!$D$7:$L$397,8,0),0) -> A2 | M88: =VLOOKUP(L88,Sheet1!$B$2:$C$12,2,TRUE) -> 9 | N88: =IFERROR(VLOOKUP($D88,#REF!,3,0),0) -> 0 | O88: =VLOOKUP(N88,Sheet1!$B$2:$C$12,2,TRUE) -> #N/A | P88: =ROUND(AVERAGE(G88,I88,K88,M88,O88),2) -> #N/A | Q88: =COUNTIF(F88:O88,"C*")*1+COUNTIF(F88:O88,"D")*2+COUNTIF(F88:O88,"E")*3 -> 0 | R88: =IF(Q88>=3,"Không hoàn thành",IF(AND($P88>=8,$P88<=10,Q88=0),"Hoàn thành xuất sắc nhiệm vụ",IF(AND($P88>=8,$P88<=10,Q88=1),"Hoàn thành tốt nhiệm vụ",IF(AND($P88>=8,$P88<=10,Q88=2),"Hoàn thành nhiệm vụ",IF(AND($P88>6,$P88<8,Q88<=1),"Hoàn thành tốt nhiệm vụ",IF(AND($P88>6,$P88<8,Q88=2),"Hoàn thành nhiệm vụ",IF(AND($P88>=5,$P88<=6,Q88<=2),"Hoàn thành nhiệm vụ",IF(AND($P88<5,Q88>3),"Không hoàn thành","")))))))) -> #N/A
A89: =A88+1 -> 81 | B89: 04 | C89: Nguyễn Trọng Phú | D89: 01008004 | E89: Phòng Quản trị - Dịch vụ | F89: A2 | G89: =VLOOKUP(F89,Sheet1!$B$2:$C$12,2,TRUE) -> 9 | H89: =IFERROR(VLOOKUP($D89,'[1]Chi tiet'!$D$7:$L$389,8,0),0) -> A2 | I89: =VLOOKUP(H89,Sheet1!$B$2:$C$12,2,TRUE) -> 9 | J89: =IFERROR(VLOOKUP($D89,'[2]Gui chi Quynh'!D$7:K$393,7,0),0) -> A2 | K89: =VLOOKUP(J89,Sheet1!$B$2:$C$12,2,TRUE) -> 9 | L89: =IFERROR(VLOOKUP($D89,'[3]Chi tiet'!$D$7:$L$397,8,0),0) -> A2 | M89: =VLOOKUP(L89,Sheet1!$B$2:$C$12,2,TRUE) -> 9 | N89: =IFERROR(VLOOKUP($D89,#REF!,3,0),0) -> 0 | O89: =VLOOKUP(N89,Sheet1!$B$2:$C$12,2,TRUE) -> #N/A | P89: =ROUND(AVERAGE(G89,I89,K89,M89,O89),2) -> #N/A | Q89: =COUNTIF(F89:O89,"C*")*1+COUNTIF(F89:O89,"D")*2+COUNTIF(F89:O89,"E")*3 -> 0 | R89: =IF(Q89>=3,"Không hoàn thành",IF(AND($P89>=8,$P89<=10,Q89=0),"Hoàn thành xuất sắc nhiệm vụ",IF(AND($P89>=8,$P89<=10,Q89=1),"Hoàn thành tốt nhiệm vụ",IF(AND($P89>=8,$P89<=10,Q89=2),"Hoàn thành nhiệm vụ",IF(AND($P89>6,$P89<8,Q89<=1),"Hoàn thành tốt nhiệm vụ",IF(AND($P89>6,$P89<8,Q89=2),"Hoàn thành nhiệm vụ",IF(AND($P89>=5,$P89<=6,Q89<=2),"Hoàn thành nhiệm vụ",IF(AND($P89<5,Q89>3),"Không hoàn thành","")))))))) -> #N/A
A90: =A89+1 -> 82 | B90: 05 | C90: Giáp Văn Thịnh | D90: 01008008 | E90: Phòng Quản trị - Dịch vụ | F90: A3 | G90: =VLOOKUP(F90,Sheet1!$B$2:$C$12,2,TRUE) -> 8 | H90: =IFERROR(VLOOKUP($D90,'[1]Chi tiet'!$D$7:$L$389,8,0),0) -> A2 | I90: =VLOOKUP(H90,Sheet1!$B$2:$C$12,2,TRUE) -> 9 | J90: =IFERROR(VLOOKUP($D90,'[2]Gui chi Quynh'!D$7:K$393,7,0),0) -> A2 | K90: =VLOOKUP(J90,Sheet1!$B$2:$C$12,2,TRUE) -> 9 | L90: =IFERROR(VLOOKUP($D90,'[3]Chi tiet'!$D$7:$L$397,8,0),0) -> A DN | M90: 7 | N90: =IFERROR(VLOOKUP($D90,#REF!,3,0),0) -> 0 | O90: =VLOOKUP(N90,Sheet1!$B$2:$C$12,2,TRUE) -> #N/A | P90: =ROUND(AVERAGE(G90,I90,K90,M90,O90),2) -> #N/A | Q90: =COUNTIF(F90:O90,"C*")*1+COUNTIF(F90:O90,"D")*2+COUNTIF(F90:O90,"E")*3 -> 0 | R90: =IF(Q90>=3,"Không hoàn thành",IF(AND($P90>=8,$P90<=10,Q90=0),"Hoàn thành xuất sắc nhiệm vụ",IF(AND($P90>=8,$P90<=10,Q90=1),"Hoàn thành tốt nhiệm vụ",IF(AND($P90>=8,$P90<=10,Q90=2),"Hoàn thành nhiệm vụ",IF(AND($P90>6,$P90<8,Q90<=1),"Hoàn thành tốt nhiệm vụ",IF(AND($P90>6,$P90<8,Q90=2),"Hoàn thành nhiệm vụ",IF(AND($P90>=5,$P90<=6,Q90<=2),"Hoàn thành nhiệm vụ",IF(AND($P90<5,Q90>3),"Không hoàn thành","")))))))) -> #N/A | S90: Nghỉ cách ly 1 tháng
A91: =A90+1 -> 83 | B91: 06 | C91: Vũ Ngọc Quang | D91: 01008006 | E91: Phòng Quản trị - Dịch vụ | F91: A3 | G91: =VLOOKUP(F91,Sheet1!$B$2:$C$12,2,TRUE) -> 8 | H91: =IFERROR(VLOOKUP($D91,'[1]Chi tiet'!$D$7:$L$389,8,0),0) -> A4 | I91: =VLOOKUP(H91,Sheet1!$B$2:$C$12,2,TRUE) -> 7 | J91: =IFERROR(VLOOKUP($D91,'[2]Gui chi Quynh'!D$7:K$393,7,0),0) -> A3 | K91: =VLOOKUP(J91,Sheet1!$B$2:$C$12,2,TRUE) -> 8 | L91: =IFERROR(VLOOKUP($D91,'[3]Chi tiet'!$D$7:$L$397,8,0),0) -> A3 | M91: =VLOOKUP(L91,Sheet1!$B$2:$C$12,2,TRUE) -> 8 | N91: =IFERROR(VLOOKUP($D91,#REF!,3,0),0) -> 0 | O91: =VLOOKUP(N91,Sheet1!$B$2:$C$12,2,TRUE) -> #N/A | P91: =ROUND(AVERAGE(G91,I91,K91,M91,O91),2) -> #N/A | Q91: =COUNTIF(F91:O91,"C*")*1+COUNTIF(F91:O91,"D")*2+COUNTIF(F91:O91,"E")*3 -> 0 | R91: =IF(Q91>=3,"Không hoàn thành",IF(AND($P91>=8,$P91<=10,Q91=0),"Hoàn thành xuất sắc nhiệm vụ",IF(AND($P91>=8,$P91<=10,Q91=1),"Hoàn thành tốt nhiệm vụ",IF(AND($P91>=8,$P91<=10,Q91=2),"Hoàn thành nhiệm vụ",IF(AND($P91>6,$P91<8,Q91<=1),"Hoàn thành tốt nhiệm vụ",IF(AND($P91>6,$P91<8,Q91=2),"Hoàn thành nhiệm vụ",IF(AND($P91>=5,$P91<=6,Q91<=2),"Hoàn thành nhiệm vụ",IF(AND($P91<5,Q91>3),"Không hoàn thành","")))))))) -> #N/A
A92: =A91+1 -> 84 | B92: 07 | C92: Bùi Đặng Hoàng Tuấn | D92: 01015028 | E92: Phòng Quản trị - Dịch vụ | F92: A4 | G92: =VLOOKUP(F92,Sheet1!$B$2:$C$12,2,TRUE) -> 7 | H92: =IFERROR(VLOOKUP($D92,'[1]Chi tiet'!$D$7:$L$389,8,0),0) -> A4 | I92: =VLOOKUP(H92,Sheet1!$B$2:$C$12,2,TRUE) -> 7 | J92: =IFERROR(VLOOKUP($D92,'[2]Gui chi Quynh'!D$7:K$393,7,0),0) -> A3 | K92: =VLOOKUP(J92,Sheet1!$B$2:$C$12,2,TRUE) -> 8 | L92: =IFERROR(VLOOKUP($D92,'[3]Chi tiet'!$D$7:$L$397,8,0),0) -> A3 | M92: =VLOOKUP(L92,Sheet1!$B$2:$C$12,2,TRUE) -> 8 | N92: =IFERROR(VLOOKUP($D92,#REF!,3,0),0) -> 0 | O92: =VLOOKUP(N92,Sheet1!$B$2:$C$12,2,TRUE) -> #N/A | P92: =ROUND(AVERAGE(G92,I92,K92,M92,O92),2) -> #N/A | Q92: =COUNTIF(F92:O92,"C*")*1+COUNTIF(F92:O92,"D")*2+COUNTIF(F92:O92,"E")*3 -> 0 | R92: =IF(Q92>=3,"Không hoàn thành",IF(AND($P92>=8,$P92<=10,Q92=0),"Hoàn thành xuất sắc nhiệm vụ",IF(AND($P92>=8,$P92<=10,Q92=1),"Hoàn thành tốt nhiệm vụ",IF(AND($P92>=8,$P92<=10,Q92=2),"Hoàn thành nhiệm vụ",IF(AND($P92>6,$P92<8,Q92<=1),"Hoàn thành tốt nhiệm vụ",IF(AND($P92>6,$P92<8,Q92=2),"Hoàn thành nhiệm vụ",IF(AND($P92>=5,$P92<=6,Q92<=2),"Hoàn thành nhiệm vụ",IF(AND($P92<5,Q92>3),"Không hoàn thành","")))))))) -> #N/A
A93: =A92+1 -> 85 | B93: 09 | C93: Phan Đức Long | D93: 01009007 | E93: Phòng Quản trị - Dịch vụ | F93: A2 | G93: =VLOOKUP(F93,Sheet1!$B$2:$C$12,2,TRUE) -> 9 | H93: =IFERROR(VLOOKUP($D93,'[1]Chi tiet'!$D$7:$L$389,8,0),0) -> A2 | I93: =VLOOKUP(H93,Sheet1!$B$2:$C$12,2,TRUE) -> 9 | J93: =IFERROR(VLOOKUP($D93,'[2]Gui chi Quynh'!D$7:K$393,7,0),0) -> A2 | K93: =VLOOKUP(J93,Sheet1!$B$2:$C$12,2,TRUE) -> 9 | L93: =IFERROR(VLOOKUP($D93,'[3]Chi tiet'!$D$7:$L$397,8,0),0) -> A2 | M93: =VLOOKUP(L93,Sheet1!$B$2:$C$12,2,TRUE) -> 9 | N93: =IFERROR(VLOOKUP($D93,#REF!,3,0),0) -> 0 | O93: =VLOOKUP(N93,Sheet1!$B$2:$C$12,2,TRUE) -> #N/A | P93: =ROUND(AVERAGE(G93,I93,K93,M93,O93),2) -> #N/A | Q93: =COUNTIF(F93:O93,"C*")*1+COUNTIF(F93:O93,"D")*2+COUNTIF(F93:O93,"E")*3 -> 0 | R93: =IF(Q93>=3,"Không hoàn thành",IF(AND($P93>=8,$P93<=10,Q93=0),"Hoàn thành xuất sắc nhiệm vụ",IF(AND($P93>=8,$P93<=10,Q93=1),"Hoàn thành tốt nhiệm vụ",IF(AND($P93>=8,$P93<=10,Q93=2),"Hoàn thành nhiệm vụ",IF(AND($P93>6,$P93<8,Q93<=1),"Hoàn thành tốt nhiệm vụ",IF(AND($P93>6,$P93<8,Q93=2),"Hoàn thành nhiệm vụ",IF(AND($P93>=5,$P93<=6,Q93<=2),"Hoàn thành nhiệm vụ",IF(AND($P93<5,Q93>3),"Không hoàn thành","")))))))) -> #N/A
A94: =A93+1 -> 86 | B94: 10 | C94: Ninh Đỗ Hiệp | D94: 01017009 | E94: Phòng Quản trị - Dịch vụ | F94: A2 | G94: =VLOOKUP(F94,Sheet1!$B$2:$C$12,2,TRUE) -> 9 | H94: =IFERROR(VLOOKUP($D94,'[1]Chi tiet'!$D$7:$L$389,8,0),0) -> A3 | I94: =VLOOKUP(H94,Sheet1!$B$2:$C$12,2,TRUE) -> 8 | J94: =IFERROR(VLOOKUP($D94,'[2]Gui chi Quynh'!D$7:K$393,7,0),0) -> A2 | K94: =VLOOKUP(J94,Sheet1!$B$2:$C$12,2,TRUE) -> 9 | L94: =IFERROR(VLOOKUP($D94,'[3]Chi tiet'!$D$7:$L$397,8,0),0) -> A2 | M94: =VLOOKUP(L94,Sheet1!$B$2:$C$12,2,TRUE) -> 9 | N94: =IFERROR(VLOOKUP($D94,#REF!,3,0),0) -> 0 | O94: =VLOOKUP(N94,Sheet1!$B$2:$C$12,2,TRUE) -> #N/A | P94: =ROUND(AVERAGE(G94,I94,K94,M94,O94),2) -> #N/A | Q94: =COUNTIF(F94:O94,"C*")*1+COUNTIF(F94:O94,"D")*2+COUNTIF(F94:O94,"E")*3 -> 0 | R94: =IF(Q94>=3,"Không hoàn thành",IF(AND($P94>=8,$P94<=10,Q94=0),"Hoàn thành xuất sắc nhiệm vụ",IF(AND($P94>=8,$P94<=10,Q94=1),"Hoàn thành tốt nhiệm vụ",IF(AND($P94>=8,$P94<=10,Q94=2),"Hoàn thành nhiệm vụ",IF(AND($P94>6,$P94<8,Q94<=1),"Hoàn thành tốt nhiệm vụ",IF(AND($P94>6,$P94<8,Q94=2),"Hoàn thành nhiệm vụ",IF(AND($P94>=5,$P94<=6,Q94<=2),"Hoàn thành nhiệm vụ",IF(AND($P94<5,Q94>3),"Không hoàn thành","")))))))) -> #N/A
A95: =A94+1 -> 87 | B95: 11 | C95: Lê Hồng Anh Tuấn | D95: 01008005 | E95: Phòng Quản trị - Dịch vụ | F95: A3 | G95: =VLOOKUP(F95,Sheet1!$B$2:$C$12,2,TRUE) -> 8 | H95: =IFERROR(VLOOKUP($D95,'[1]Chi tiet'!$D$7:$L$389,8,0),0) -> A2 | I95: =VLOOKUP(H95,Sheet1!$B$2:$C$12,2,TRUE) -> 9 | J95: =IFERROR(VLOOKUP($D95,'[2]Gui chi Quynh'!D$7:K$393,7,0),0) -> A2 | K95: =VLOOKUP(J95,Sheet1!$B$2:$C$12,2,TRUE) -> 9 | L95: =IFERROR(VLOOKUP($D95,'[3]Chi tiet'!$D$7:$L$397,8,0),0) -> A2 | M95: =VLOOKUP(L95,Sheet1!$B$2:$C$12,2,TRUE) -> 9 | N95: =IFERROR(VLOOKUP($D95,#REF!,3,0),0) -> 0 | O95: =VLOOKUP(N95,Sheet1!$B$2:$C$12,2,TRUE) -> #N/A | P95: =ROUND(AVERAGE(G95,I95,K95,M95,O95),2) -> #N/A | Q95: =COUNTIF(F95:O95,"C*")*1+COUNTIF(F95:O95,"D")*2+COUNTIF(F95:O95,"E")*3 -> 0 | R95: =IF(Q95>=3,"Không hoàn thành",IF(AND($P95>=8,$P95<=10,Q95=0),"Hoàn thành xuất sắc nhiệm vụ",IF(AND($P95>=8,$P95<=10,Q95=1),"Hoàn thành tốt nhiệm vụ",IF(AND($P95>=8,$P95<=10,Q95=2),"Hoàn thành nhiệm vụ",IF(AND($P95>6,$P95<8,Q95<=1),"Hoàn thành tốt nhiệm vụ",IF(AND($P95>6,$P95<8,Q95=2),"Hoàn thành nhiệm vụ",IF(AND($P95>=5,$P95<=6,Q95<=2),"Hoàn thành nhiệm vụ",IF(AND($P95<5,Q95>3),"Không hoàn thành","")))))))) -> #N/A
A96: =A95+1 -> 88 | B96: 12 | C96: Nguyễn Cao Thắng | D96: 01002021 | E96: Phòng Quản trị - Dịch vụ | F96: A2 | G96: =VLOOKUP(F96,Sheet1!$B$2:$C$12,2,TRUE) -> 9 | H96: =IFERROR(VLOOKUP($D96,'[1]Chi tiet'!$D$7:$L$389,8,0),0) -> A2 | I96: =VLOOKUP(H96,Sheet1!$B$2:$C$12,2,TRUE) -> 9 | J96: =IFERROR(VLOOKUP($D96,'[2]Gui chi Quynh'!D$7:K$393,7,0),0) -> A2 | K96: =VLOOKUP(J96,Sheet1!$B$2:$C$12,2,TRUE) -> 9 | L96: =IFERROR(VLOOKUP($D96,'[3]Chi tiet'!$D$7:$L$397,8,0),0) -> A2 | M96: =VLOOKUP(L96,Sheet1!$B$2:$C$12,2,TRUE) -> 9 | N96: =IFERROR(VLOOKUP($D96,#REF!,3,0),0) -> 0 | O96: =VLOOKUP(N96,Sheet1!$B$2:$C$12,2,TRUE) -> #N/A | P96: =ROUND(AVERAGE(G96,I96,K96,M96,O96),2) -> #N/A | Q96: =COUNTIF(F96:O96,"C*")*1+COUNTIF(F96:O96,"D")*2+COUNTIF(F96:O96,"E")*3 -> 0 | R96: =IF(Q96>=3,"Không hoàn thành",IF(AND($P96>=8,$P96<=10,Q96=0),"Hoàn thành xuất sắc nhiệm vụ",IF(AND($P96>=8,$P96<=10,Q96=1),"Hoàn thành tốt nhiệm vụ",IF(AND($P96>=8,$P96<=10,Q96=2),"Hoàn thành nhiệm vụ",IF(AND($P96>6,$P96<8,Q96<=1),"Hoàn thành tốt nhiệm vụ",IF(AND($P96>6,$P96<8,Q96=2),"Hoàn thành nhiệm vụ",IF(AND($P96>=5,$P96<=6,Q96<=2),"Hoàn thành nhiệm vụ",IF(AND($P96<5,Q96>3),"Không hoàn thành","")))))))) -> #N/A
A97: =A96+1 -> 89 | B97: 13 | C97: Nguyễn Tiến Việt Dũng | D97: 01015026 | E97: Phòng Quản trị - Dịch vụ | F97: A4 | G97: =VLOOKUP(F97,Sheet1!$B$2:$C$12,2,TRUE) -> 7 | H97: =IFERROR(VLOOKUP($D97,'[1]Chi tiet'!$D$7:$L$389,8,0),0) -> A4 | I97: =VLOOKUP(H97,Sheet1!$B$2:$C$12,2,TRUE) -> 7 | J97: =IFERROR(VLOOKUP($D97,'[2]Gui chi Quynh'!D$7:K$393,7,0),0) -> A4 | K97: =VLOOKUP(J97,Sheet1!$B$2:$C$12,2,TRUE) -> 7 | L97: =IFERROR(VLOOKUP($D97,'[3]Chi tiet'!$D$7:$L$397,8,0),0) -> A3 | M97: =VLOOKUP(L97,Sheet1!$B$2:$C$12,2,TRUE) -> 8 | N97: =IFERROR(VLOOKUP($D97,#REF!,3,0),0) -> 0 | O97: =VLOOKUP(N97,Sheet1!$B$2:$C$12,2,TRUE) -> #N/A | P97: =ROUND(AVERAGE(G97,I97,K97,M97,O97),2) -> #N/A | Q97: =COUNTIF(F97:O97,"C*")*1+COUNTIF(F97:O97,"D")*2+COUNTIF(F97:O97,"E")*3 -> 0 | R97: =IF(Q97>=3,"Không hoàn thành",IF(AND($P97>=8,$P97<=10,Q97=0),"Hoàn thành xuất sắc nhiệm vụ",IF(AND($P97>=8,$P97<=10,Q97=1),"Hoàn thành tốt nhiệm vụ",IF(AND($P97>=8,$P97<=10,Q97=2),"Hoàn thành nhiệm vụ",IF(AND($P97>6,$P97<8,Q97<=1),"Hoàn thành tốt nhiệm vụ",IF(AND($P97>6,$P97<8,Q97=2),"Hoàn thành nhiệm vụ",IF(AND($P97>=5,$P97<=6,Q97<=2),"Hoàn thành nhiệm vụ",IF(AND($P97<5,Q97>3),"Không hoàn thành","")))))))) -> #N/A
A98: =A97+1 -> 90 | B98: 14 | C98: Võ Tấn Kiệt | D98: 01008034 | E98: Phòng Quản trị - Dịch vụ | F98: A3 | G98: =VLOOKUP(F98,Sheet1!$B$2:$C$12,2,TRUE) -> 8 | H98: =IFERROR(VLOOKUP($D98,'[1]Chi tiet'!$D$7:$L$389,8,0),0) -> A3 | I98: =VLOOKUP(H98,Sheet1!$B$2:$C$12,2,TRUE) -> 8 | J98: =IFERROR(VLOOKUP($D98,'[2]Gui chi Quynh'!D$7:K$393,7,0),0) -> A2 | K98: =VLOOKUP(J98,Sheet1!$B$2:$C$12,2,TRUE) -> 9 | L98: =IFERROR(VLOOKUP($D98,'[3]Chi tiet'!$D$7:$L$397,8,0),0) -> A2 | M98: =VLOOKUP(L98,Sheet1!$B$2:$C$12,2,TRUE) -> 9 | N98: =IFERROR(VLOOKUP($D98,#REF!,3,0),0) -> 0 | O98: =VLOOKUP(N98,Sheet1!$B$2:$C$12,2,TRUE) -> #N/A | P98: =ROUND(AVERAGE(G98,I98,K98,M98,O98),2) -> #N/A | Q98: =COUNTIF(F98:O98,"C*")*1+COUNTIF(F98:O98,"D")*2+COUNTIF(F98:O98,"E")*3 -> 0 | R98: =IF(Q98>=3,"Không hoàn thành",IF(AND($P98>=8,$P98<=10,Q98=0),"Hoàn thành xuất sắc nhiệm vụ",IF(AND($P98>=8,$P98<=10,Q98=1),"Hoàn thành tốt nhiệm vụ",IF(AND($P98>=8,$P98<=10,Q98=2),"Hoàn thành nhiệm vụ",IF(AND($P98>6,$P98<8,Q98<=1),"Hoàn thành tốt nhiệm vụ",IF(AND($P98>6,$P98<8,Q98=2),"Hoàn thành nhiệm vụ",IF(AND($P98>=5,$P98<=6,Q98<=2),"Hoàn thành nhiệm vụ",IF(AND($P98<5,Q98>3),"Không hoàn thành","")))))))) -> #N/A
A99: =A98+1 -> 91 | B99: 15 | C99: Trần Văn Lý | D99: 01002003 | E99: Phòng Quản trị - Dịch vụ | F99: A4 | G99: =VLOOKUP(F99,Sheet1!$B$2:$C$12,2,TRUE) -> 7 | H99: =IFERROR(VLOOKUP($D99,'[1]Chi tiet'!$D$7:$L$389,8,0),0) -> A4 | I99: =VLOOKUP(H99,Sheet1!$B$2:$C$12,2,TRUE) -> 7 | J99: =IFERROR(VLOOKUP($D99,'[2]Gui chi Quynh'!D$7:K$393,7,0),0) -> A4 | K99: =VLOOKUP(J99,Sheet1!$B$2:$C$12,2,TRUE) -> 7 | L99: =IFERROR(VLOOKUP($D99,'[3]Chi tiet'!$D$7:$L$397,8,0),0) -> A4 | M99: =VLOOKUP(L99,Sheet1!$B$2:$C$12,2,TRUE) -> 7 | N99: =IFERROR(VLOOKUP($D99,#REF!,3,0),0) -> 0 | O99: =VLOOKUP(N99,Sheet1!$B$2:$C$12,2,TRUE) -> #N/A | P99: =ROUND(AVERAGE(G99,I99,K99,M99,O99),2) -> #N/A | Q99: =COUNTIF(F99:O99,"C*")*1+COUNTIF(F99:O99,"D")*2+COUNTIF(F99:O99,"E")*3 -> 0 | R99: =IF(Q99>=3,"Không hoàn thành",IF(AND($P99>=8,$P99<=10,Q99=0),"Hoàn thành xuất sắc nhiệm vụ",IF(AND($P99>=8,$P99<=10,Q99=1),"Hoàn thành tốt nhiệm vụ",IF(AND($P99>=8,$P99<=10,Q99=2),"Hoàn thành nhiệm vụ",IF(AND($P99>6,$P99<8,Q99<=1),"Hoàn thành tốt nhiệm vụ",IF(AND($P99>6,$P99<8,Q99=2),"Hoàn thành nhiệm vụ",IF(AND($P99>=5,$P99<=6,Q99<=2),"Hoàn thành nhiệm vụ",IF(AND($P99<5,Q99>3),"Không hoàn thành","")))))))) -> #N/A
A100: =A99+1 -> 92 | B100: 16 | C100: Hà Nhật Thanh | D100: 01009005 | E100: Phòng Quản trị - Dịch vụ | F100: A3 | G100: =VLOOKUP(F100,Sheet1!$B$2:$C$12,2,TRUE) -> 8 | H100: =IFERROR(VLOOKUP($D100,'[1]Chi tiet'!$D$7:$L$389,8,0),0) -> A4 | I100: =VLOOKUP(H100,Sheet1!$B$2:$C$12,2,TRUE) -> 7 | J100: =IFERROR(VLOOKUP($D100,'[2]Gui chi Quynh'!D$7:K$393,7,0),0) -> A3 | K100: =VLOOKUP(J100,Sheet1!$B$2:$C$12,2,TRUE) -> 8 | L100: =IFERROR(VLOOKUP($D100,'[3]Chi tiet'!$D$7:$L$397,8,0),0) -> A3 | M100: =VLOOKUP(L100,Sheet1!$B$2:$C$12,2,TRUE) -> 8 | N100: =IFERROR(VLOOKUP($D100,#REF!,3,0),0) -> 0 | O100: =VLOOKUP(N100,Sheet1!$B$2:$C$12,2,TRUE) -> #N/A | P100: =ROUND(AVERAGE(G100,I100,K100,M100,O100),2) -> #N/A | Q100: =COUNTIF(F100:O100,"C*")*1+COUNTIF(F100:O100,"D")*2+COUNTIF(F100:O100,"E")*3 -> 0 | R100: =IF(Q100>=3,"Không hoàn thành",IF(AND($P100>=8,$P100<=10,Q100=0),"Hoàn thành xuất sắc nhiệm vụ",IF(AND($P100>=8,$P100<=10,Q100=1),"Hoàn thành tốt nhiệm vụ",IF(AND($P100>=8,$P100<=10,Q100=2),"Hoàn thành nhiệm vụ",IF(AND($P100>6,$P100<8,Q100<=1),"Hoàn thành tốt nhiệm vụ",IF(AND($P100>6,$P100<8,Q100=2),"Hoàn thành nhiệm vụ",IF(AND($P100>=5,$P100<=6,Q100<=2),"Hoàn thành nhiệm vụ",IF(AND($P100<5,Q100>3),"Không hoàn thành","")))))))) -> #N/A
A101: =A100+1 -> 93 | B101: 17 | C101: Bùi Thị Dương | D101: 01009014 | E101: Phòng Quản trị - Dịch vụ | F101: A4 | G101: =VLOOKUP(F101,Sheet1!$B$2:$C$12,2,TRUE) -> 7 | H101: =IFERROR(VLOOKUP($D101,'[1]Chi tiet'!$D$7:$L$389,8,0),0) -> A4 | I101: =VLOOKUP(H101,Sheet1!$B$2:$C$12,2,TRUE) -> 7 | J101: =IFERROR(VLOOKUP($D101,'[2]Gui chi Quynh'!D$7:K$393,7,0),0) -> A4 | K101: =VLOOKUP(J101,Sheet1!$B$2:$C$12,2,TRUE) -> 7 | L101: =IFERROR(VLOOKUP($D101,'[3]Chi tiet'!$D$7:$L$397,8,0),0) -> A4 | M101: =VLOOKUP(L101,Sheet1!$B$2:$C$12,2,TRUE) -> 7 | N101: =IFERROR(VLOOKUP($D101,#REF!,3,0),0) -> 0 | O101: =VLOOKUP(N101,Sheet1!$B$2:$C$12,2,TRUE) -> #N/A | P101: =ROUND(AVERAGE(G101,I101,K101,M101,O101),2) -> #N/A | Q101: =COUNTIF(F101:O101,"C*")*1+COUNTIF(F101:O101,"D")*2+COUNTIF(F101:O101,"E")*3 -> 0 | R101: =IF(Q101>=3,"Không hoàn thành",IF(AND($P101>=8,$P101<=10,Q101=0),"Hoàn thành xuất sắc nhiệm vụ",IF(AND($P101>=8,$P101<=10,Q101=1),"Hoàn thành tốt nhiệm vụ",IF(AND($P101>=8,$P101<=10,Q101=2),"Hoàn thành nhiệm vụ",IF(AND($P101>6,$P101<8,Q101<=1),"Hoàn thành tốt nhiệm vụ",IF(AND($P101>6,$P101<8,Q101=2),"Hoàn thành nhiệm vụ",IF(AND($P101>=5,$P101<=6,Q101<=2),"Hoàn thành nhiệm vụ",IF(AND($P101<5,Q101>3),"Không hoàn thành","")))))))) -> #N/A
A102: =A101+1 -> 94 | B102: 18 | C102: Giáp Đức Nhận | D102: 01012027 | E102: Phòng Quản trị - Dịch vụ | F102: A3 | G102: =VLOOKUP(F102,Sheet1!$B$2:$C$12,2,TRUE) -> 8 | H102: =IFERROR(VLOOKUP($D102,'[1]Chi tiet'!$D$7:$L$389,8,0),0) -> A3 | I102: =VLOOKUP(H102,Sheet1!$B$2:$C$12,2,TRUE) -> 8 | J102: =IFERROR(VLOOKUP($D102,'[2]Gui chi Quynh'!D$7:K$393,7,0),0) -> A3 | K102: =VLOOKUP(J102,Sheet1!$B$2:$C$12,2,TRUE) -> 8 | L102: =IFERROR(VLOOKUP($D102,'[3]Chi tiet'!$D$7:$L$397,8,0),0) -> A3 | M102: =VLOOKUP(L102,Sheet1!$B$2:$C$12,2,TRUE) -> 8 | N102: =IFERROR(VLOOKUP($D102,#REF!,3,0),0) -> 0 | O102: =VLOOKUP(N102,Sheet1!$B$2:$C$12,2,TRUE) -> #N/A | P102: =ROUND(AVERAGE(G102,I102,K102,M102,O102),2) -> #N/A | Q102: =COUNTIF(F102:O102,"C*")*1+COUNTIF(F102:O102,"D")*2+COUNTIF(F102:O102,"E")*3 -> 0 | R102: =IF(Q102>=3,"Không hoàn thành",IF(AND($P102>=8,$P102<=10,Q102=0),"Hoàn thành xuất sắc nhiệm vụ",IF(AND($P102>=8,$P102<=10,Q102=1),"Hoàn thành tốt nhiệm vụ",IF(AND($P102>=8,$P102<=10,Q102=2),"Hoàn thành nhiệm vụ",IF(AND($P102>6,$P102<8,Q102<=1),"Hoàn thành tốt nhiệm vụ",IF(AND($P102>6,$P102<8,Q102=2),"Hoàn thành nhiệm vụ",IF(AND($P102>=5,$P102<=6,Q102<=2),"Hoàn thành nhiệm vụ",IF(AND($P102<5,Q102>3),"Không hoàn thành","")))))))) -> #N/A
... A115: =A114+1 -> 107 | B115: 32 | C115: Trần Kim Tươi | D115: 01008039 | E115: Phòng Quản trị - Dịch vụ | F115: A4 | G115: =VLOOKUP(F115,Sheet1!$B$2:$C$12,2,TRUE) -> 7 | H115: =IFERROR(VLOOKUP($D115,'[1]Chi tiet'!$D$7:$L$389,8,0),0) -> A4 | I115: =VLOOKUP(H115,Sheet1!$B$2:$C$12,2,TRUE) -> 7 | J115: =IFERROR(VLOOKUP($D115,'[2]Gui chi Quynh'!D$7:K$393,7,0),0) -> A4 | K115: =VLOOKUP(J115,Sheet1!$B$2:$C$12,2,TRUE) -> 7 | L115: =IFERROR(VLOOKUP($D115,'[3]Chi tiet'!$D$7:$L$397,8,0),0) -> A4 | M115: =VLOOKUP(L115,Sheet1!$B$2:$C$12,2,TRUE) -> 7 | N115: =IFERROR(VLOOKUP($D115,#REF!,3,0),0) -> 0 | O115: =VLOOKUP(N115,Sheet1!$B$2:$C$12,2,TRUE) -> #N/A | P115: =ROUND(AVERAGE(G115,I115,K115,M115,O115),2) -> #N/A | Q115: =COUNTIF(F115:O115,"C*")*1+COUNTIF(F115:O115,"D")*2+COUNTIF(F115:O115,"E")*3 -> 0 | R115: =IF(Q115>=3,"Không hoàn thành",IF(AND($P115>=8,$P115<=10,Q115=0),"Hoàn thành xuất sắc nhiệm vụ",IF(AND($P115>=8,$P115<=10,Q115=1),"Hoàn thành tốt nhiệm vụ",IF(AND($P115>=8,$P115<=10,Q115=2),"Hoàn thành nhiệm vụ",IF(AND($P115>6,$P115<8,Q115<=1),"Hoàn thành tốt nhiệm vụ",IF(AND($P115>6,$P115<8,Q115=2),"Hoàn thành nhiệm vụ",IF(AND($P115>=5,$P115<=6,Q115<=2),"Hoàn thành nhiệm vụ",IF(AND($P115<5,Q115>3),"Không hoàn thành","")))))))) -> #N/A
A116: =A115+1 -> 108 | B116: 33 | C116: Trương Thị Định | D116: 01008041 | E116: Phòng Quản trị - Dịch vụ | F116: A4 | G116: =VLOOKUP(F116,Sheet1!$B$2:$C$12,2,TRUE) -> 7 | H116: =IFERROR(VLOOKUP($D116,'[1]Chi tiet'!$D$7:$L$389,8,0),0) -> A4 | I116: =VLOOKUP(H116,Sheet1!$B$2:$C$12,2,TRUE) -> 7 | J116: =IFERROR(VLOOKUP($D116,'[2]Gui chi Quynh'!D$7:K$393,7,0),0) -> A4 | K116: =VLOOKUP(J116,Sheet1!$B$2:$C$12,2,TRUE) -> 7 | L116: =IFERROR(VLOOKUP($D116,'[3]Chi tiet'!$D$7:$L$397,8,0),0) -> A4 | M116: =VLOOKUP(L116,Sheet1!$B$2:$C$12,2,TRUE) -> 7 | N116: =IFERROR(VLOOKUP($D116,#REF!,3,0),0) -> 0 | O116: =VLOOKUP(N116,Sheet1!$B$2:$C$12,2,TRUE) -> #N/A | P116: =ROUND(AVERAGE(G116,I116,K116,M116,O116),2) -> #N/A | Q116: =COUNTIF(F116:O116,"C*")*1+COUNTIF(F116:O116,"D")*2+COUNTIF(F116:O116,"E")*3 -> 0 | R116: =IF(Q116>=3,"Không hoàn thành",IF(AND($P116>=8,$P116<=10,Q116=0),"Hoàn thành xuất sắc nhiệm vụ",IF(AND($P116>=8,$P116<=10,Q116=1),"Hoàn thành tốt nhiệm vụ",IF(AND($P116>=8,$P116<=10,Q116=2),"Hoàn thành nhiệm vụ",IF(AND($P116>6,$P116<8,Q116<=1),"Hoàn thành tốt nhiệm vụ",IF(AND($P116>6,$P116<8,Q116=2),"Hoàn thành nhiệm vụ",IF(AND($P116>=5,$P116<=6,Q116<=2),"Hoàn thành nhiệm vụ",IF(AND($P116<5,Q116>3),"Không hoàn thành","")))))))) -> #N/A | T116: HĐ từ 01/11/2021
A117: =A116+1 -> 109 | B117: 34 | C117: Trương Thị Bắc | D117: 01008040 | E117: Phòng Quản trị - Dịch vụ | F117: A4 | G117: =VLOOKUP(F117,Sheet1!$B$2:$C$12,2,TRUE) -> 7 | H117: =IFERROR(VLOOKUP($D117,'[1]Chi tiet'!$D$7:$L$389,8,0),0) -> A4 | I117: =VLOOKUP(H117,Sheet1!$B$2:$C$12,2,TRUE) -> 7 | J117: =IFERROR(VLOOKUP($D117,'[2]Gui chi Quynh'!D$7:K$393,7,0),0) -> A4 | K117: =VLOOKUP(J117,Sheet1!$B$2:$C$12,2,TRUE) -> 7 | L117: =IFERROR(VLOOKUP($D117,'[3]Chi tiet'!$D$7:$L$397,8,0),0) -> A4 | M117: =VLOOKUP(L117,Sheet1!$B$2:$C$12,2,TRUE) -> 7 | N117: =IFERROR(VLOOKUP($D117,#REF!,3,0),0) -> 0 | O117: =VLOOKUP(N117,Sheet1!$B$2:$C$12,2,TRUE) -> #N/A | P117: =ROUND(AVERAGE(G117,I117,K117,M117,O117),2) -> #N/A | Q117: =COUNTIF(F117:O117,"C*")*1+COUNTIF(F117:O117,"D")*2+COUNTIF(F117:O117,"E")*3 -> 0 | R117: =IF(Q117>=3,"Không hoàn thành",IF(AND($P117>=8,$P117<=10,Q117=0),"Hoàn thành xuất sắc nhiệm vụ",IF(AND($P117>=8,$P117<=10,Q117=1),"Hoàn thành tốt nhiệm vụ",IF(AND($P117>=8,$P117<=10,Q117=2),"Hoàn thành nhiệm vụ",IF(AND($P117>6,$P117<8,Q117<=1),"Hoàn thành tốt nhiệm vụ",IF(AND($P117>6,$P117<8,Q117=2),"Hoàn thành nhiệm vụ",IF(AND($P117>=5,$P117<=6,Q117<=2),"Hoàn thành nhiệm vụ",IF(AND($P117<5,Q117>3),"Không hoàn thành","")))))))) -> #N/A | T117: HĐ từ 01/11/2021
A118: =A117+1 -> 110 | B118: 28 | C118: Nguyễn Tiến Hưng | D118: 01002009 | E118: Phòng Quản trị - Dịch vụ | F118: A4 | G118: =VLOOKUP(F118,Sheet1!$B$2:$C$12,2,TRUE) -> 7 | H118: =IFERROR(VLOOKUP($D118,'[1]Chi tiet'!$D$7:$L$389,8,0),0) -> A4 | I118: =VLOOKUP(H118,Sheet1!$B$2:$C$12,2,TRUE) -> 7 | J118: =IFERROR(VLOOKUP($D118,'[2]Gui chi Quynh'!D$7:K$393,7,0),0) -> A4 | K118: =VLOOKUP(J118,Sheet1!$B$2:$C$12,2,TRUE) -> 7 | L118: =IFERROR(VLOOKUP($D118,'[3]Chi tiet'!$D$7:$L$397,8,0),0) -> A4 | M118: =VLOOKUP(L118,Sheet1!$B$2:$C$12,2,TRUE) -> 7 | P118: =ROUND(AVERAGE(G118,I118,K118,M118),2) -> 7 | Q118: =COUNTIF(F118:O118,"C*")*1+COUNTIF(F118:O118,"D")*2+COUNTIF(F118:O118,"E")*3 -> 0 | R118: =IF(Q118>=3,"Không hoàn thành",IF(AND($P118>=8,$P118<=10,Q118=0),"Hoàn thành xuất sắc nhiệm vụ",IF(AND($P118>=8,$P118<=10,Q118=1),"Hoàn thành tốt nhiệm vụ",IF(AND($P118>=8,$P118<=10,Q118=2),"Hoàn thành nhiệm vụ",IF(AND($P118>6,$P118<8,Q118<=1),"Hoàn thành tốt nhiệm vụ",IF(AND($P118>6,$P118<8,Q118=2),"Hoàn thành nhiệm vụ",IF(AND($P118>=5,$P118<=6,Q118<=2),"Hoàn thành nhiệm vụ",IF(AND($P118<5,Q118>3),"Không hoàn thành","")))))))) -> Hoàn thành tốt nhiệm vụ | S118: Nghỉ HTLĐ từ 01/6/21 (Thưởng thi đua 4 tháng) | T118: Nghỉ HTLĐ từ 01/6/21
A119: =A118+1 -> 111 | B119: 01 | C119: Nguyễn Thành Nam | D119: 01005007 | E119: Khoa Khoa học cơ bản | F119: A2 | G119: =VLOOKUP(F119,Sheet1!$B$2:$C$12,2,TRUE) -> 9 | H119: =IFERROR(VLOOKUP($D119,'[1]Chi tiet'!$D$7:$L$389,8,0),0) -> A1 | I119: =VLOOKUP(H119,Sheet1!$B$2:$C$12,2,TRUE) -> 10 | J119: =IFERROR(VLOOKUP($D119,'[2]Gui chi Quynh'!D$7:K$393,7,0),0) -> A1 | K119: =VLOOKUP(J119,Sheet1!$B$2:$C$12,2,TRUE) -> 10 | L119: =IFERROR(VLOOKUP($D119,'[3]Chi tiet'!$D$7:$L$397,8,0),0) -> A1 | M119: =VLOOKUP(L119,Sheet1!$B$2:$C$12,2,TRUE) -> 10 | N119: =IFERROR(VLOOKUP($D119,#REF!,3,0),0) -> 0 | O119: =VLOOKUP(N119,Sheet1!$B$2:$C$12,2,TRUE) -> #N/A | P119: =ROUND(AVERAGE(G119,I119,K119,M119,O119),2) -> #N/A | Q119: =COUNTIF(F119:O119,"C*")*1+COUNTIF(F119:O119,"D")*2+COUNTIF(F119:O119,"E")*3 -> 0 | R119: =IF(Q119>=3,"Không hoàn thành",IF(AND($P119>=8,$P119<=10,Q119=0),"Hoàn thành xuất sắc nhiệm vụ",IF(AND($P119>=8,$P119<=10,Q119=1),"Hoàn thành tốt nhiệm vụ",IF(AND($P119>=8,$P119<=10,Q119=2),"Hoàn thành nhiệm vụ",IF(AND($P119>6,$P119<8,Q119<=1),"Hoàn thành tốt nhiệm vụ",IF(AND($P119>6,$P119<8,Q119=2),"Hoàn thành nhiệm vụ",IF(AND($P119>=5,$P119<=6,Q119<=2),"Hoàn thành nhiệm vụ",IF(AND($P119<5,Q119>3),"Không hoàn thành","")))))))) -> #N/A
A120: =A119+1 -> 112 | B120: 02 | C120: Phạm Thị Thu Nga | D120: 01010007 | E120: Khoa Khoa học cơ bản | F120: A3 | G120: =VLOOKUP(F120,Sheet1!$B$2:$C$12,2,TRUE) -> 8 | H120: =IFERROR(VLOOKUP($D120,'[1]Chi tiet'!$D$7:$L$389,8,0),0) -> A3 | I120: =VLOOKUP(H120,Sheet1!$B$2:$C$12,2,TRUE) -> 8 | J120: =IFERROR(VLOOKUP($D120,'[2]Gui chi Quynh'!D$7:K$393,7,0),0) -> A3 | K120: =VLOOKUP(J120,Sheet1!$B$2:$C$12,2,TRUE) -> 8 | L120: =IFERROR(VLOOKUP($D120,'[3]Chi tiet'!$D$7:$L$397,8,0),0) -> A3 | M120: =VLOOKUP(L120,Sheet1!$B$2:$C$12,2,TRUE) -> 8 | N120: =IFERROR(VLOOKUP($D120,#REF!,3,0),0) -> 0 | O120: =VLOOKUP(N120,Sheet1!$B$2:$C$12,2,TRUE) -> #N/A | P120: =ROUND(AVERAGE(G120,I120,K120,M120,O120),2) -> #N/A | Q120: =COUNTIF(F120:O120,"C*")*1+COUNTIF(F120:O120,"D")*2+COUNTIF(F120:O120,"E")*3 -> 0 | R120: =IF(Q120>=3,"Không hoàn thành",IF(AND($P120>=8,$P120<=10,Q120=0),"Hoàn thành xuất sắc nhiệm vụ",IF(AND($P120>=8,$P120<=10,Q120=1),"Hoàn thành tốt nhiệm vụ",IF(AND($P120>=8,$P120<=10,Q120=2),"Hoàn thành nhiệm vụ",IF(AND($P120>6,$P120<8,Q120<=1),"Hoàn thành tốt nhiệm vụ",IF(AND($P120>6,$P120<8,Q120=2),"Hoàn thành nhiệm vụ",IF(AND($P120>=5,$P120<=6,Q120<=2),"Hoàn thành nhiệm vụ",IF(AND($P120<5,Q120>3),"Không hoàn thành","")))))))) -> #N/A
A121: =A120+1 -> 113 | B121: 03 | C121: Nguyễn Thị Huyền Nga | D121: 01010006 | E121: Khoa Khoa học cơ bản | F121: A4 | G121: =VLOOKUP(F121,Sheet1!$B$2:$C$12,2,TRUE) -> 7 | H121: =IFERROR(VLOOKUP($D121,'[1]Chi tiet'!$D$7:$L$389,8,0),0) -> A4 | I121: =VLOOKUP(H121,Sheet1!$B$2:$C$12,2,TRUE) -> 7 | J121: =IFERROR(VLOOKUP($D121,'[2]Gui chi Quynh'!D$7:K$393,7,0),0) -> A3 | K121: =VLOOKUP(J121,Sheet1!$B$2:$C$12,2,TRUE) -> 8 | L121: =IFERROR(VLOOKUP($D121,'[3]Chi tiet'!$D$7:$L$397,8,0),0) -> A3 | M121: =VLOOKUP(L121,Sheet1!$B$2:$C$12,2,TRUE) -> 8 | N121: =IFERROR(VLOOKUP($D121,#REF!,3,0),0) -> 0 | O121: =VLOOKUP(N121,Sheet1!$B$2:$C$12,2,TRUE) -> #N/A | P121: =ROUND(AVERAGE(G121,I121,K121,M121,O121),2) -> #N/A | Q121: =COUNTIF(F121:O121,"C*")*1+COUNTIF(F121:O121,"D")*2+COUNTIF(F121:O121,"E")*3 -> 0 | R121: =IF(Q121>=3,"Không hoàn thành",IF(AND($P121>=8,$P121<=10,Q121=0),"Hoàn thành xuất sắc nhiệm vụ",IF(AND($P121>=8,$P121<=10,Q121=1),"Hoàn thành tốt nhiệm vụ",IF(AND($P121>=8,$P121<=10,Q121=2),"Hoàn thành nhiệm vụ",IF(AND($P121>6,$P121<8,Q121<=1),"Hoàn thành tốt nhiệm vụ",IF(AND($P121>6,$P121<8,Q121=2),"Hoàn thành nhiệm vụ",IF(AND($P121>=5,$P121<=6,Q121<=2),"Hoàn thành nhiệm vụ",IF(AND($P121<5,Q121>3),"Không hoàn thành","")))))))) -> #N/A
A122: =A121+1 -> 114 | B122: 04 | C122: Lê Thái Hùng | D122: 01010021 | E122: Khoa Khoa học cơ bản | F122: A4 | G122: =VLOOKUP(F122,Sheet1!$B$2:$C$12,2,TRUE) -> 7 | H122: =IFERROR(VLOOKUP($D122,'[1]Chi tiet'!$D$7:$L$389,8,0),0) -> A3 | I122: =VLOOKUP(H122,Sheet1!$B$2:$C$12,2,TRUE) -> 8 | J122: =IFERROR(VLOOKUP($D122,'[2]Gui chi Quynh'!D$7:K$393,7,0),0) -> A2 | K122: =VLOOKUP(J122,Sheet1!$B$2:$C$12,2,TRUE) -> 9 | L122: =IFERROR(VLOOKUP($D122,'[3]Chi tiet'!$D$7:$L$397,8,0),0) -> A4 | M122: =VLOOKUP(L122,Sheet1!$B$2:$C$12,2,TRUE) -> 7 | N122: =IFERROR(VLOOKUP($D122,#REF!,3,0),0) -> 0 | O122: =VLOOKUP(N122,Sheet1!$B$2:$C$12,2,TRUE) -> #N/A | P122: =ROUND(AVERAGE(G122,I122,K122,M122,O122),2) -> #N/A | Q122: =COUNTIF(F122:O122,"C*")*1+COUNTIF(F122:O122,"D")*2+COUNTIF(F122:O122,"E")*3 -> 0 | R122: =IF(Q122>=3,"Không hoàn thành",IF(AND($P122>=8,$P122<=10,Q122=0),"Hoàn thành xuất sắc nhiệm vụ",IF(AND($P122>=8,$P122<=10,Q122=1),"Hoàn thành tốt nhiệm vụ",IF(AND($P122>=8,$P122<=10,Q122=2),"Hoàn thành nhiệm vụ",IF(AND($P122>6,$P122<8,Q122<=1),"Hoàn thành tốt nhiệm vụ",IF(AND($P122>6,$P122<8,Q122=2),"Hoàn thành nhiệm vụ",IF(AND($P122>=5,$P122<=6,Q122<=2),"Hoàn thành nhiệm vụ",IF(AND($P122<5,Q122>3),"Không hoàn thành","")))))))) -> #N/A
A123: =A122+1 -> 115 | B123: 05 | C123: Nguyễn Văn Hậu | D123: 01010033 | E123: Khoa Khoa học cơ bản | F123: A4 | G123: =VLOOKUP(F123,Sheet1!$B$2:$C$12,2,TRUE) -> 7 | H123: =IFERROR(VLOOKUP($D123,'[1]Chi tiet'!$D$7:$L$389,8,0),0) -> A4 | I123: =VLOOKUP(H123,Sheet1!$B$2:$C$12,2,TRUE) -> 7 | J123: =IFERROR(VLOOKUP($D123,'[2]Gui chi Quynh'!D$7:K$393,7,0),0) -> A3 | K123: =VLOOKUP(J123,Sheet1!$B$2:$C$12,2,TRUE) -> 8 | L123: =IFERROR(VLOOKUP($D123,'[3]Chi tiet'!$D$7:$L$397,8,0),0) -> A4 | M123: =VLOOKUP(L123,Sheet1!$B$2:$C$12,2,TRUE) -> 7 | N123: =IFERROR(VLOOKUP($D123,#REF!,3,0),0) -> 0 | O123: =VLOOKUP(N123,Sheet1!$B$2:$C$12,2,TRUE) -> #N/A | P123: =ROUND(AVERAGE(G123,I123,K123,M123,O123),2) -> #N/A | Q123: =COUNTIF(F123:O123,"C*")*1+COUNTIF(F123:O123,"D")*2+COUNTIF(F123:O123,"E")*3 -> 0 | R123: =IF(Q123>=3,"Không hoàn thành",IF(AND($P123>=8,$P123<=10,Q123=0),"Hoàn thành xuất sắc nhiệm vụ",IF(AND($P123>=8,$P123<=10,Q123=1),"Hoàn thành tốt nhiệm vụ",IF(AND($P123>=8,$P123<=10,Q123=2),"Hoàn thành nhiệm vụ",IF(AND($P123>6,$P123<8,Q123<=1),"Hoàn thành tốt nhiệm vụ",IF(AND($P123>6,$P123<8,Q123=2),"Hoàn thành nhiệm vụ",IF(AND($P123>=5,$P123<=6,Q123<=2),"Hoàn thành nhiệm vụ",IF(AND($P123<5,Q123>3),"Không hoàn thành","")))))))) -> #N/A
A124: =A123+1 -> 116 | B124: 06 | C124: Dương Đức Kiên | D124: 01010037 | E124: Khoa Khoa học cơ bản | F124: A4 | G124: =VLOOKUP(F124,Sheet1!$B$2:$C$12,2,TRUE) -> 7 | H124: =IFERROR(VLOOKUP($D124,'[1]Chi tiet'!$D$7:$L$389,8,0),0) -> A4 | I124: =VLOOKUP(H124,Sheet1!$B$2:$C$12,2,TRUE) -> 7 | J124: =IFERROR(VLOOKUP($D124,'[2]Gui chi Quynh'!D$7:K$393,7,0),0) -> A3 | K124: =VLOOKUP(J124,Sheet1!$B$2:$C$12,2,TRUE) -> 8 | L124: =IFERROR(VLOOKUP($D124,'[3]Chi tiet'!$D$7:$L$397,8,0),0) -> A4 | M124: =VLOOKUP(L124,Sheet1!$B$2:$C$12,2,TRUE) -> 7 | N124: =IFERROR(VLOOKUP($D124,#REF!,3,0),0) -> 0 | O124: =VLOOKUP(N124,Sheet1!$B$2:$C$12,2,TRUE) -> #N/A | P124: =ROUND(AVERAGE(G124,I124,K124,M124,O124),2) -> #N/A | Q124: =COUNTIF(F124:O124,"C*")*1+COUNTIF(F124:O124,"D")*2+COUNTIF(F124:O124,"E")*3 -> 0 | R124: =IF(Q124>=3,"Không hoàn thành",IF(AND($P124>=8,$P124<=10,Q124=0),"Hoàn thành xuất sắc nhiệm vụ",IF(AND($P124>=8,$P124<=10,Q124=1),"Hoàn thành tốt nhiệm vụ",IF(AND($P124>=8,$P124<=10,Q124=2),"Hoàn thành nhiệm vụ",IF(AND($P124>6,$P124<8,Q124<=1),"Hoàn thành tốt nhiệm vụ",IF(AND($P124>6,$P124<8,Q124=2),"Hoàn thành nhiệm vụ",IF(AND($P124>=5,$P124<=6,Q124<=2),"Hoàn thành nhiệm vụ",IF(AND($P124<5,Q124>3),"Không hoàn thành","")))))))) -> #N/A
A125: =A124+1 -> 117 | B125: 07 | C125: Hà Như Mai | D125: 01010031 | E125: Khoa Khoa học cơ bản | F125: A4 | G125: =VLOOKUP(F125,Sheet1!$B$2:$C$12,2,TRUE) -> 7 | H125: =IFERROR(VLOOKUP($D125,'[1]Chi tiet'!$D$7:$L$389,8,0),0) -> A4 | I125: =VLOOKUP(H125,Sheet1!$B$2:$C$12,2,TRUE) -> 7 | J125: =IFERROR(VLOOKUP($D125,'[2]Gui chi Quynh'!D$7:K$393,7,0),0) -> A3 | K125: =VLOOKUP(J125,Sheet1!$B$2:$C$12,2,TRUE) -> 8 | L125: =IFERROR(VLOOKUP($D125,'[3]Chi tiet'!$D$7:$L$397,8,0),0) -> A4 | M125: =VLOOKUP(L125,Sheet1!$B$2:$C$12,2,TRUE) -> 7 | N125: =IFERROR(VLOOKUP($D125,#REF!,3,0),0) -> 0 | O125: =VLOOKUP(N125,Sheet1!$B$2:$C$12,2,TRUE) -> #N/A | P125: =ROUND(AVERAGE(G125,I125,K125,M125,O125),2) -> #N/A | Q125: =COUNTIF(F125:O125,"C*")*1+COUNTIF(F125:O125,"D")*2+COUNTIF(F125:O125,"E")*3 -> 0 | R125: =IF(Q125>=3,"Không hoàn thành",IF(AND($P125>=8,$P125<=10,Q125=0),"Hoàn thành xuất sắc nhiệm vụ",IF(AND($P125>=8,$P125<=10,Q125=1),"Hoàn thành tốt nhiệm vụ",IF(AND($P125>=8,$P125<=10,Q125=2),"Hoàn thành nhiệm vụ",IF(AND($P125>6,$P125<8,Q125<=1),"Hoàn thành tốt nhiệm vụ",IF(AND($P125>6,$P125<8,Q125=2),"Hoàn thành nhiệm vụ",IF(AND($P125>=5,$P125<=6,Q125<=2),"Hoàn thành nhiệm vụ",IF(AND($P125<5,Q125>3),"Không hoàn thành","")))))))) -> #N/A
A126: =A125+1 -> 118 | B126: 08 | C126: Nguyễn Thị Cẩm Thạch | D126: 01010016 | E126: Khoa Khoa học cơ bản | F126: A4 | G126: =VLOOKUP(F126,Sheet1!$B$2:$C$12,2,TRUE) -> 7 | H126: =IFERROR(VLOOKUP($D126,'[1]Chi tiet'!$D$7:$L$389,8,0),0) -> A4 | I126: =VLOOKUP(H126,Sheet1!$B$2:$C$12,2,TRUE) -> 7 | J126: =IFERROR(VLOOKUP($D126,'[2]Gui chi Quynh'!D$7:K$393,7,0),0) -> A4 | K126: =VLOOKUP(J126,Sheet1!$B$2:$C$12,2,TRUE) -> 7 | L126: =IFERROR(VLOOKUP($D126,'[3]Chi tiet'!$D$7:$L$397,8,0),0) -> A4 | M126: =VLOOKUP(L126,Sheet1!$B$2:$C$12,2,TRUE) -> 7 | N126: =IFERROR(VLOOKUP($D126,#REF!,3,0),0) -> 0 | O126: =VLOOKUP(N126,Sheet1!$B$2:$C$12,2,TRUE) -> #N/A | P126: =ROUND(AVERAGE(G126,I126,K126,M126,O126),2) -> #N/A | Q126: =COUNTIF(F126:O126,"C*")*1+COUNTIF(F126:O126,"D")*2+COUNTIF(F126:O126,"E")*3 -> 0 | R126: =IF(Q126>=3,"Không hoàn thành",IF(AND($P126>=8,$P126<=10,Q126=0),"Hoàn thành xuất sắc nhiệm vụ",IF(AND($P126>=8,$P126<=10,Q126=1),"Hoàn thành tốt nhiệm vụ",IF(AND($P126>=8,$P126<=10,Q126=2),"Hoàn thành nhiệm vụ",IF(AND($P126>6,$P126<8,Q126<=1),"Hoàn thành tốt nhiệm vụ",IF(AND($P126>6,$P126<8,Q126=2),"Hoàn thành nhiệm vụ",IF(AND($P126>=5,$P126<=6,Q126<=2),"Hoàn thành nhiệm vụ",IF(AND($P126<5,Q126>3),"Không hoàn thành","")))))))) -> #N/A
A127: =A126+1 -> 119 | B127: 09 | C127: Nguyễn Thị Thủy | D127: 01010028 | E127: Khoa Khoa học cơ bản | F127: A4 | G127: =VLOOKUP(F127,Sheet1!$B$2:$C$12,2,TRUE) -> 7 | H127: =IFERROR(VLOOKUP($D127,'[1]Chi tiet'!$D$7:$L$389,8,0),0) -> A3 | I127: =VLOOKUP(H127,Sheet1!$B$2:$C$12,2,TRUE) -> 8 | J127: =IFERROR(VLOOKUP($D127,'[2]Gui chi Quynh'!D$7:K$393,7,0),0) -> A2 | K127: =VLOOKUP(J127,Sheet1!$B$2:$C$12,2,TRUE) -> 9 | L127: =IFERROR(VLOOKUP($D127,'[3]Chi tiet'!$D$7:$L$397,8,0),0) -> A3 | M127: =VLOOKUP(L127,Sheet1!$B$2:$C$12,2,TRUE) -> 8 | N127: =IFERROR(VLOOKUP($D127,#REF!,3,0),0) -> 0 | O127: =VLOOKUP(N127,Sheet1!$B$2:$C$12,2,TRUE) -> #N/A | P127: =ROUND(AVERAGE(G127,I127,K127,M127,O127),2) -> #N/A | Q127: =COUNTIF(F127:O127,"C*")*1+COUNTIF(F127:O127,"D")*2+COUNTIF(F127:O127,"E")*3 -> 0 | R127: =IF(Q127>=3,"Không hoàn thành",IF(AND($P127>=8,$P127<=10,Q127=0),"Hoàn thành xuất sắc nhiệm vụ",IF(AND($P127>=8,$P127<=10,Q127=1),"Hoàn thành tốt nhiệm vụ",IF(AND($P127>=8,$P127<=10,Q127=2),"Hoàn thành nhiệm vụ",IF(AND($P127>6,$P127<8,Q127<=1),"Hoàn thành tốt nhiệm vụ",IF(AND($P127>6,$P127<8,Q127=2),"Hoàn thành nhiệm vụ",IF(AND($P127>=5,$P127<=6,Q127<=2),"Hoàn thành nhiệm vụ",IF(AND($P127<5,Q127>3),"Không hoàn thành","")))))))) -> #N/A
A128: =A127+1 -> 120 | B128: 10 | C128: Nguyễn Văn Đông | D128: 01010017 | E128: Khoa Khoa học cơ bản | F128: A3 | G128: =VLOOKUP(F128,Sheet1!$B$2:$C$12,2,TRUE) -> 8 | H128: =IFERROR(VLOOKUP($D128,'[1]Chi tiet'!$D$7:$L$389,8,0),0) -> A4 | I128: =VLOOKUP(H128,Sheet1!$B$2:$C$12,2,TRUE) -> 7 | J128: =IFERROR(VLOOKUP($D128,'[2]Gui chi Quynh'!D$7:K$393,7,0),0) -> A3 | K128: =VLOOKUP(J128,Sheet1!$B$2:$C$12,2,TRUE) -> 8 | L128: =IFERROR(VLOOKUP($D128,'[3]Chi tiet'!$D$7:$L$397,8,0),0) -> A4 | M128: =VLOOKUP(L128,Sheet1!$B$2:$C$12,2,TRUE) -> 7 | N128: =IFERROR(VLOOKUP($D128,#REF!,3,0),0) -> 0 | O128: =VLOOKUP(N128,Sheet1!$B$2:$C$12,2,TRUE) -> #N/A | P128: =ROUND(AVERAGE(G128,I128,K128,M128,O128),2) -> #N/A | Q128: =COUNTIF(F128:O128,"C*")*1+COUNTIF(F128:O128,"D")*2+COUNTIF(F128:O128,"E")*3 -> 0 | R128: =IF(Q128>=3,"Không hoàn thành",IF(AND($P128>=8,$P128<=10,Q128=0),"Hoàn thành xuất sắc nhiệm vụ",IF(AND($P128>=8,$P128<=10,Q128=1),"Hoàn thành tốt nhiệm vụ",IF(AND($P128>=8,$P128<=10,Q128=2),"Hoàn thành nhiệm vụ",IF(AND($P128>6,$P128<8,Q128<=1),"Hoàn thành tốt nhiệm vụ",IF(AND($P128>6,$P128<8,Q128=2),"Hoàn thành nhiệm vụ",IF(AND($P128>=5,$P128<=6,Q128<=2),"Hoàn thành nhiệm vụ",IF(AND($P128<5,Q128>3),"Không hoàn thành","")))))))) -> #N/A
A129: =A128+1 -> 121 | B129: 11 | C129: Đặng Thị Kiến Trúc | D129: 01010024 | E129: Khoa Khoa học cơ bản | F129: A4 | G129: =VLOOKUP(F129,Sheet1!$B$2:$C$12,2,TRUE) -> 7 | H129: =IFERROR(VLOOKUP($D129,'[1]Chi tiet'!$D$7:$L$389,8,0),0) -> A4 | I129: =VLOOKUP(H129,Sheet1!$B$2:$C$12,2,TRUE) -> 7 | J129: =IFERROR(VLOOKUP($D129,'[2]Gui chi Quynh'!D$7:K$393,7,0),0) -> A3 | K129: =VLOOKUP(J129,Sheet1!$B$2:$C$12,2,TRUE) -> 8 | L129: =IFERROR(VLOOKUP($D129,'[3]Chi tiet'!$D$7:$L$397,8,0),0) -> A4 | M129: =VLOOKUP(L129,Sheet1!$B$2:$C$12,2,TRUE) -> 7 | N129: =IFERROR(VLOOKUP($D129,#REF!,3,0),0) -> 0 | O129: =VLOOKUP(N129,Sheet1!$B$2:$C$12,2,TRUE) -> #N/A | P129: =ROUND(AVERAGE(G129,I129,K129,M129,O129),2) -> #N/A | Q129: =COUNTIF(F129:O129,"C*")*1+COUNTIF(F129:O129,"D")*2+COUNTIF(F129:O129,"E")*3 -> 0 | R129: =IF(Q129>=3,"Không hoàn thành",IF(AND($P129>=8,$P129<=10,Q129=0),"Hoàn thành xuất sắc nhiệm vụ",IF(AND($P129>=8,$P129<=10,Q129=1),"Hoàn thành tốt nhiệm vụ",IF(AND($P129>=8,$P129<=10,Q129=2),"Hoàn thành nhiệm vụ",IF(AND($P129>6,$P129<8,Q129<=1),"Hoàn thành tốt nhiệm vụ",IF(AND($P129>6,$P129<8,Q129=2),"Hoàn thành nhiệm vụ",IF(AND($P129>=5,$P129<=6,Q129<=2),"Hoàn thành nhiệm vụ",IF(AND($P129<5,Q129>3),"Không hoàn thành","")))))))) -> #N/A
A130: =A129+1 -> 122 | B130: 12 | C130: Nguyễn Thanh Tú | D130: 01010012 | E130: Khoa Khoa học cơ bản | F130: A3 | G130: =VLOOKUP(F130,Sheet1!$B$2:$C$12,2,TRUE) -> 8 | H130: =IFERROR(VLOOKUP($D130,'[1]Chi tiet'!$D$7:$L$389,8,0),0) -> A3 | I130: =VLOOKUP(H130,Sheet1!$B$2:$C$12,2,TRUE) -> 8 | J130: =IFERROR(VLOOKUP($D130,'[2]Gui chi Quynh'!D$7:K$393,7,0),0) -> A3 | K130: =VLOOKUP(J130,Sheet1!$B$2:$C$12,2,TRUE) -> 8 | L130: =IFERROR(VLOOKUP($D130,'[3]Chi tiet'!$D$7:$L$397,8,0),0) -> A4 | M130: =VLOOKUP(L130,Sheet1!$B$2:$C$12,2,TRUE) -> 7 | N130: =IFERROR(VLOOKUP($D130,#REF!,3,0),0) -> 0 | O130: =VLOOKUP(N130,Sheet1!$B$2:$C$12,2,TRUE) -> #N/A | P130: =ROUND(AVERAGE(G130,I130,K130,M130,O130),2) -> #N/A | Q130: =COUNTIF(F130:O130,"C*")*1+COUNTIF(F130:O130,"D")*2+COUNTIF(F130:O130,"E")*3 -> 0 | R130: =IF(Q130>=3,"Không hoàn thành",IF(AND($P130>=8,$P130<=10,Q130=0),"Hoàn thành xuất sắc nhiệm vụ",IF(AND($P130>=8,$P130<=10,Q130=1),"Hoàn thành tốt nhiệm vụ",IF(AND($P130>=8,$P130<=10,Q130=2),"Hoàn thành nhiệm vụ",IF(AND($P130>6,$P130<8,Q130<=1),"Hoàn thành tốt nhiệm vụ",IF(AND($P130>6,$P130<8,Q130=2),"Hoàn thành nhiệm vụ",IF(AND($P130>=5,$P130<=6,Q130<=2),"Hoàn thành nhiệm vụ",IF(AND($P130<5,Q130>3),"Không hoàn thành","")))))))) -> #N/A
... A150: =A149+1 -> 142 | B150: 33 | C150: Lâm Thị Phương Thảo | D150: 01010141 | E150: Khoa Khoa học cơ bản | F150: A4 | G150: =VLOOKUP(F150,Sheet1!$B$2:$C$12,2,TRUE) -> 7 | H150: =IFERROR(VLOOKUP($D150,'[1]Chi tiet'!$D$7:$L$389,8,0),0) -> A3 | I150: =VLOOKUP(H150,Sheet1!$B$2:$C$12,2,TRUE) -> 8 | J150: =IFERROR(VLOOKUP($D150,'[2]Gui chi Quynh'!D$7:K$393,7,0),0) -> A3 | K150: =VLOOKUP(J150,Sheet1!$B$2:$C$12,2,TRUE) -> 8 | L150: =IFERROR(VLOOKUP($D150,'[3]Chi tiet'!$D$7:$L$397,8,0),0) -> A4 | M150: =VLOOKUP(L150,Sheet1!$B$2:$C$12,2,TRUE) -> 7 | N150: =IFERROR(VLOOKUP($D150,#REF!,3,0),0) -> 0 | O150: =VLOOKUP(N150,Sheet1!$B$2:$C$12,2,TRUE) -> #N/A | P150: =ROUND(AVERAGE(G150,I150,K150,M150,O150),2) -> #N/A | Q150: =COUNTIF(F150:O150,"C*")*1+COUNTIF(F150:O150,"D")*2+COUNTIF(F150:O150,"E")*3 -> 0 | R150: =IF(Q150>=3,"Không hoàn thành",IF(AND($P150>=8,$P150<=10,Q150=0),"Hoàn thành xuất sắc nhiệm vụ",IF(AND($P150>=8,$P150<=10,Q150=1),"Hoàn thành tốt nhiệm vụ",IF(AND($P150>=8,$P150<=10,Q150=2),"Hoàn thành nhiệm vụ",IF(AND($P150>6,$P150<8,Q150<=1),"Hoàn thành tốt nhiệm vụ",IF(AND($P150>6,$P150<8,Q150=2),"Hoàn thành nhiệm vụ",IF(AND($P150>=5,$P150<=6,Q150<=2),"Hoàn thành nhiệm vụ",IF(AND($P150<5,Q150>3),"Không hoàn thành","")))))))) -> #N/A
A151: =A150+1 -> 143 | B151: 34 | C151: Nguyễn Thiện Bình | D151: 01010162 | E151: Khoa Khoa học cơ bản | F151: A4 | G151: =VLOOKUP(F151,Sheet1!$B$2:$C$12,2,TRUE) -> 7 | H151: =IFERROR(VLOOKUP($D151,'[1]Chi tiet'!$D$7:$L$389,8,0),0) -> A4 | I151: =VLOOKUP(H151,Sheet1!$B$2:$C$12,2,TRUE) -> 7 | J151: =IFERROR(VLOOKUP($D151,'[2]Gui chi Quynh'!D$7:K$393,7,0),0) -> A4 | K151: =VLOOKUP(J151,Sheet1!$B$2:$C$12,2,TRUE) -> 7 | L151: =IFERROR(VLOOKUP($D151,'[3]Chi tiet'!$D$7:$L$397,8,0),0) -> A4 | M151: =VLOOKUP(L151,Sheet1!$B$2:$C$12,2,TRUE) -> 7 | N151: =IFERROR(VLOOKUP($D151,#REF!,3,0),0) -> 0 | O151: =VLOOKUP(N151,Sheet1!$B$2:$C$12,2,TRUE) -> #N/A | P151: =ROUND(AVERAGE(G151,I151,K151,M151,O151),2) -> #N/A | Q151: =COUNTIF(F151:O151,"C*")*1+COUNTIF(F151:O151,"D")*2+COUNTIF(F151:O151,"E")*3 -> 0 | R151: =IF(Q151>=3,"Không hoàn thành",IF(AND($P151>=8,$P151<=10,Q151=0),"Hoàn thành xuất sắc nhiệm vụ",IF(AND($P151>=8,$P151<=10,Q151=1),"Hoàn thành tốt nhiệm vụ",IF(AND($P151>=8,$P151<=10,Q151=2),"Hoàn thành nhiệm vụ",IF(AND($P151>6,$P151<8,Q151<=1),"Hoàn thành tốt nhiệm vụ",IF(AND($P151>6,$P151<8,Q151=2),"Hoàn thành nhiệm vụ",IF(AND($P151>=5,$P151<=6,Q151<=2),"Hoàn thành nhiệm vụ",IF(AND($P151<5,Q151>3),"Không hoàn thành","")))))))) -> #N/A | T151: TD tháng 10/2020 | U151: GV tuyển dụng T10/2020
A152: =A151+1 -> 144 | B152: 01 | C152: Nguyễn Ngọc Quỳnh | D152: 01011012 | E152: Khoa Lý luận Chính trị | F152: A2 | G152: =VLOOKUP(F152,Sheet1!$B$2:$C$12,2,TRUE) -> 9 | H152: =IFERROR(VLOOKUP($D152,'[1]Chi tiet'!$D$7:$L$389,8,0),0) -> A3 | I152: =VLOOKUP(H152,Sheet1!$B$2:$C$12,2,TRUE) -> 8 | J152: =IFERROR(VLOOKUP($D152,'[2]Gui chi Quynh'!D$7:K$393,7,0),0) -> A4 | K152: =VLOOKUP(J152,Sheet1!$B$2:$C$12,2,TRUE) -> 7 | L152: =IFERROR(VLOOKUP($D152,'[3]Chi tiet'!$D$7:$L$397,8,0),0) -> A4 | M152: =VLOOKUP(L152,Sheet1!$B$2:$C$12,2,TRUE) -> 7 | N152: =IFERROR(VLOOKUP($D152,#REF!,3,0),0) -> 0 | O152: =VLOOKUP(N152,Sheet1!$B$2:$C$12,2,TRUE) -> #N/A | P152: =ROUND(AVERAGE(G152,I152,K152,M152,O152),2) -> #N/A | Q152: =COUNTIF(F152:O152,"C*")*1+COUNTIF(F152:O152,"D")*2+COUNTIF(F152:O152,"E")*3 -> 0 | R152: =IF(Q152>=3,"Không hoàn thành",IF(AND($P152>=8,$P152<=10,Q152=0),"Hoàn thành xuất sắc nhiệm vụ",IF(AND($P152>=8,$P152<=10,Q152=1),"Hoàn thành tốt nhiệm vụ",IF(AND($P152>=8,$P152<=10,Q152=2),"Hoàn thành nhiệm vụ",IF(AND($P152>6,$P152<8,Q152<=1),"Hoàn thành tốt nhiệm vụ",IF(AND($P152>6,$P152<8,Q152=2),"Hoàn thành nhiệm vụ",IF(AND($P152>=5,$P152<=6,Q152<=2),"Hoàn thành nhiệm vụ",IF(AND($P152<5,Q152>3),"Không hoàn thành","")))))))) -> #N/A
A153: =A152+1 -> 145 | B153: 02 | C153: Lê Thị Hồng Vân | D153: 01011002 | E153: Khoa Lý luận Chính trị | F153: A3 | G153: =VLOOKUP(F153,Sheet1!$B$2:$C$12,2,TRUE) -> 8 | H153: =IFERROR(VLOOKUP($D153,'[1]Chi tiet'!$D$7:$L$389,8,0),0) -> A3 | I153: =VLOOKUP(H153,Sheet1!$B$2:$C$12,2,TRUE) -> 8 | J153: =IFERROR(VLOOKUP($D153,'[2]Gui chi Quynh'!D$7:K$393,7,0),0) -> A2 | K153: =VLOOKUP(J153,Sheet1!$B$2:$C$12,2,TRUE) -> 9 | L153: =IFERROR(VLOOKUP($D153,'[3]Chi tiet'!$D$7:$L$397,8,0),0) -> A4 | M153: =VLOOKUP(L153,Sheet1!$B$2:$C$12,2,TRUE) -> 7 | N153: =IFERROR(VLOOKUP($D153,#REF!,3,0),0) -> 0 | O153: =VLOOKUP(N153,Sheet1!$B$2:$C$12,2,TRUE) -> #N/A | P153: =ROUND(AVERAGE(G153,I153,K153,M153,O153),2) -> #N/A | Q153: =COUNTIF(F153:O153,"C*")*1+COUNTIF(F153:O153,"D")*2+COUNTIF(F153:O153,"E")*3 -> 0 | R153: =IF(Q153>=3,"Không hoàn thành",IF(AND($P153>=8,$P153<=10,Q153=0),"Hoàn thành xuất sắc nhiệm vụ",IF(AND($P153>=8,$P153<=10,Q153=1),"Hoàn thành tốt nhiệm vụ",IF(AND($P153>=8,$P153<=10,Q153=2),"Hoàn thành nhiệm vụ",IF(AND($P153>6,$P153<8,Q153<=1),"Hoàn thành tốt nhiệm vụ",IF(AND($P153>6,$P153<8,Q153=2),"Hoàn thành nhiệm vụ",IF(AND($P153>=5,$P153<=6,Q153<=2),"Hoàn thành nhiệm vụ",IF(AND($P153<5,Q153>3),"Không hoàn thành","")))))))) -> #N/A
A154: =A153+1 -> 146 | B154: 03 | C154: Đinh Thị Huyên | D154: 01011009 | E154: Khoa Lý luận Chính trị | F154: A3 | G154: =VLOOKUP(F154,Sheet1!$B$2:$C$12,2,TRUE) -> 8 | H154: =IFERROR(VLOOKUP($D154,'[1]Chi tiet'!$D$7:$L$389,8,0),0) -> A3 | I154: =VLOOKUP(H154,Sheet1!$B$2:$C$12,2,TRUE) -> 8 | J154: =IFERROR(VLOOKUP($D154,'[2]Gui chi Quynh'!D$7:K$393,7,0),0) -> A2 | K154: =VLOOKUP(J154,Sheet1!$B$2:$C$12,2,TRUE) -> 9 | L154: =IFERROR(VLOOKUP($D154,'[3]Chi tiet'!$D$7:$L$397,8,0),0) -> A4 | M154: =VLOOKUP(L154,Sheet1!$B$2:$C$12,2,TRUE) -> 7 | N154: =IFERROR(VLOOKUP($D154,#REF!,3,0),0) -> 0 | O154: =VLOOKUP(N154,Sheet1!$B$2:$C$12,2,TRUE) -> #N/A | P154: =ROUND(AVERAGE(G154,I154,K154,M154,O154),2) -> #N/A | Q154: =COUNTIF(F154:O154,"C*")*1+COUNTIF(F154:O154,"D")*2+COUNTIF(F154:O154,"E")*3 -> 0 | R154: =IF(Q154>=3,"Không hoàn thành",IF(AND($P154>=8,$P154<=10,Q154=0),"Hoàn thành xuất sắc nhiệm vụ",IF(AND($P154>=8,$P154<=10,Q154=1),"Hoàn thành tốt nhiệm vụ",IF(AND($P154>=8,$P154<=10,Q154=2),"Hoàn thành nhiệm vụ",IF(AND($P154>6,$P154<8,Q154<=1),"Hoàn thành tốt nhiệm vụ",IF(AND($P154>6,$P154<8,Q154=2),"Hoàn thành nhiệm vụ",IF(AND($P154>=5,$P154<=6,Q154<=2),"Hoàn thành nhiệm vụ",IF(AND($P154<5,Q154>3),"Không hoàn thành","")))))))) -> #N/A
A155: =A154+1 -> 147 | B155: 04 | C155: Phan Thị Thùy Trang | D155: 01011010 | E155: Khoa Lý luận Chính trị | F155: A3 | G155: =VLOOKUP(F155,Sheet1!$B$2:$C$12,2,TRUE) -> 8 | H155: =IFERROR(VLOOKUP($D155,'[1]Chi tiet'!$D$7:$L$389,8,0),0) -> A3 | I155: =VLOOKUP(H155,Sheet1!$B$2:$C$12,2,TRUE) -> 8 | J155: =IFERROR(VLOOKUP($D155,'[2]Gui chi Quynh'!D$7:K$393,7,0),0) -> A3 | K155: =VLOOKUP(J155,Sheet1!$B$2:$C$12,2,TRUE) -> 8 | L155: =IFERROR(VLOOKUP($D155,'[3]Chi tiet'!$D$7:$L$397,8,0),0) -> A3 | M155: =VLOOKUP(L155,Sheet1!$B$2:$C$12,2,TRUE) -> 8 | N155: =IFERROR(VLOOKUP($D155,#REF!,3,0),0) -> 0 | O155: =VLOOKUP(N155,Sheet1!$B$2:$C$12,2,TRUE) -> #N/A | P155: =ROUND(AVERAGE(G155,I155,K155,M155,O155),2) -> #N/A | Q155: =COUNTIF(F155:O155,"C*")*1+COUNTIF(F155:O155,"D")*2+COUNTIF(F155:O155,"E")*3 -> 0 | R155: =IF(Q155>=3,"Không hoàn thành",IF(AND($P155>=8,$P155<=10,Q155=0),"Hoàn thành xuất sắc nhiệm vụ",IF(AND($P155>=8,$P155<=10,Q155=1),"Hoàn thành tốt nhiệm vụ",IF(AND($P155>=8,$P155<=10,Q155=2),"Hoàn thành nhiệm vụ",IF(AND($P155>6,$P155<8,Q155<=1),"Hoàn thành tốt nhiệm vụ",IF(AND($P155>6,$P155<8,Q155=2),"Hoàn thành nhiệm vụ",IF(AND($P155>=5,$P155<=6,Q155<=2),"Hoàn thành nhiệm vụ",IF(AND($P155<5,Q155>3),"Không hoàn thành","")))))))) -> #N/A
A156: =A155+1 -> 148 | B156: 05 | C156: Đặng Thị Nhật Minh | D156: 01010005 | E156: Khoa Lý luận Chính trị | F156: A3 | G156: =VLOOKUP(F156,Sheet1!$B$2:$C$12,2,TRUE) -> 8 | H156: =IFERROR(VLOOKUP($D156,'[1]Chi tiet'!$D$7:$L$389,8,0),0) -> A3 | I156: =VLOOKUP(H156,Sheet1!$B$2:$C$12,2,TRUE) -> 8 | J156: =IFERROR(VLOOKUP($D156,'[2]Gui chi Quynh'!D$7:K$393,7,0),0) -> A3 | K156: =VLOOKUP(J156,Sheet1!$B$2:$C$12,2,TRUE) -> 8 | L156: =IFERROR(VLOOKUP($D156,'[3]Chi tiet'!$D$7:$L$397,8,0),0) -> A4 | M156: =VLOOKUP(L156,Sheet1!$B$2:$C$12,2,TRUE) -> 7 | N156: =IFERROR(VLOOKUP($D156,#REF!,3,0),0) -> 0 | O156: =VLOOKUP(N156,Sheet1!$B$2:$C$12,2,TRUE) -> #N/A | P156: =ROUND(AVERAGE(G156,I156,K156,M156,O156),2) -> #N/A | Q156: =COUNTIF(F156:O156,"C*")*1+COUNTIF(F156:O156,"D")*2+COUNTIF(F156:O156,"E")*3 -> 0 | R156: =IF(Q156>=3,"Không hoàn thành",IF(AND($P156>=8,$P156<=10,Q156=0),"Hoàn thành xuất sắc nhiệm vụ",IF(AND($P156>=8,$P156<=10,Q156=1),"Hoàn thành tốt nhiệm vụ",IF(AND($P156>=8,$P156<=10,Q156=2),"Hoàn thành nhiệm vụ",IF(AND($P156>6,$P156<8,Q156<=1),"Hoàn thành tốt nhiệm vụ",IF(AND($P156>6,$P156<8,Q156=2),"Hoàn thành nhiệm vụ",IF(AND($P156>=5,$P156<=6,Q156<=2),"Hoàn thành nhiệm vụ",IF(AND($P156<5,Q156>3),"Không hoàn thành","")))))))) -> #N/A
A157: =A156+1 -> 149 | B157: 06 | C157: Nguyễn Thị Dinh | D157: 01011005 | E157: Khoa Lý luận Chính trị | F157: A3 | G157: =VLOOKUP(F157,Sheet1!$B$2:$C$12,2,TRUE) -> 8 | H157: =IFERROR(VLOOKUP($D157,'[1]Chi tiet'!$D$7:$L$389,8,0),0) -> A3 | I157: =VLOOKUP(H157,Sheet1!$B$2:$C$12,2,TRUE) -> 8 | J157: =IFERROR(VLOOKUP($D157,'[2]Gui chi Quynh'!D$7:K$393,7,0),0) -> A3 | K157: =VLOOKUP(J157,Sheet1!$B$2:$C$12,2,TRUE) -> 8 | L157: =IFERROR(VLOOKUP($D157,'[3]Chi tiet'!$D$7:$L$397,8,0),0) -> A4 | M157: =VLOOKUP(L157,Sheet1!$B$2:$C$12,2,TRUE) -> 7 | N157: =IFERROR(VLOOKUP($D157,#REF!,3,0),0) -> 0 | O157: =VLOOKUP(N157,Sheet1!$B$2:$C$12,2,TRUE) -> #N/A | P157: =ROUND(AVERAGE(G157,I157,K157,M157,O157),2) -> #N/A | Q157: =COUNTIF(F157:O157,"C*")*1+COUNTIF(F157:O157,"D")*2+COUNTIF(F157:O157,"E")*3 -> 0 | R157: =IF(Q157>=3,"Không hoàn thành",IF(AND($P157>=8,$P157<=10,Q157=0),"Hoàn thành xuất sắc nhiệm vụ",IF(AND($P157>=8,$P157<=10,Q157=1),"Hoàn thành tốt nhiệm vụ",IF(AND($P157>=8,$P157<=10,Q157=2),"Hoàn thành nhiệm vụ",IF(AND($P157>6,$P157<8,Q157<=1),"Hoàn thành tốt nhiệm vụ",IF(AND($P157>6,$P157<8,Q157=2),"Hoàn thành nhiệm vụ",IF(AND($P157>=5,$P157<=6,Q157<=2),"Hoàn thành nhiệm vụ",IF(AND($P157<5,Q157>3),"Không hoàn thành","")))))))) -> #N/A
A158: =A157+1 -> 150 | B158: 07 | C158: Lê Thị Mai Hường | D158: 01011013 | E158: Khoa Lý luận Chính trị | F158: A3 | G158: =VLOOKUP(F158,Sheet1!$B$2:$C$12,2,TRUE) -> 8 | H158: =IFERROR(VLOOKUP($D158,'[1]Chi tiet'!$D$7:$L$389,8,0),0) -> A3 | I158: =VLOOKUP(H158,Sheet1!$B$2:$C$12,2,TRUE) -> 8 | J158: =IFERROR(VLOOKUP($D158,'[2]Gui chi Quynh'!D$7:K$393,7,0),0) -> A2 | K158: =VLOOKUP(J158,Sheet1!$B$2:$C$12,2,TRUE) -> 9 | L158: =IFERROR(VLOOKUP($D158,'[3]Chi tiet'!$D$7:$L$397,8,0),0) -> A3 | M158: =VLOOKUP(L158,Sheet1!$B$2:$C$12,2,TRUE) -> 8 | N158: =IFERROR(VLOOKUP($D158,#REF!,3,0),0) -> 0 | O158: =VLOOKUP(N158,Sheet1!$B$2:$C$12,2,TRUE) -> #N/A | P158: =ROUND(AVERAGE(G158,I158,K158,M158,O158),2) -> #N/A | Q158: =COUNTIF(F158:O158,"C*")*1+COUNTIF(F158:O158,"D")*2+COUNTIF(F158:O158,"E")*3 -> 0 | R158: =IF(Q158>=3,"Không hoàn thành",IF(AND($P158>=8,$P158<=10,Q158=0),"Hoàn thành xuất sắc nhiệm vụ",IF(AND($P158>=8,$P158<=10,Q158=1),"Hoàn thành tốt nhiệm vụ",IF(AND($P158>=8,$P158<=10,Q158=2),"Hoàn thành nhiệm vụ",IF(AND($P158>6,$P158<8,Q158<=1),"Hoàn thành tốt nhiệm vụ",IF(AND($P158>6,$P158<8,Q158=2),"Hoàn thành nhiệm vụ",IF(AND($P158>=5,$P158<=6,Q158<=2),"Hoàn thành nhiệm vụ",IF(AND($P158<5,Q158>3),"Không hoàn thành","")))))))) -> #N/A
A159: =A158+1 -> 151 | B159: 08 | C159: Đỗ Thị Thơm | D159: 01011008 | E159: Khoa Lý luận Chính trị | F159: A4 | G159: =VLOOKUP(F159,Sheet1!$B$2:$C$12,2,TRUE) -> 7 | H159: =IFERROR(VLOOKUP($D159,'[1]Chi tiet'!$D$7:$L$389,8,0),0) -> A4 | I159: =VLOOKUP(H159,Sheet1!$B$2:$C$12,2,TRUE) -> 7 | J159: =IFERROR(VLOOKUP($D159,'[2]Gui chi Quynh'!D$7:K$393,7,0),0) -> A3 | K159: =VLOOKUP(J159,Sheet1!$B$2:$C$12,2,TRUE) -> 8 | L159: =IFERROR(VLOOKUP($D159,'[3]Chi tiet'!$D$7:$L$397,8,0),0) -> A4 | M159: =VLOOKUP(L159,Sheet1!$B$2:$C$12,2,TRUE) -> 7 | N159: =IFERROR(VLOOKUP($D159,#REF!,3,0),0) -> 0 | O159: =VLOOKUP(N159,Sheet1!$B$2:$C$12,2,TRUE) -> #N/A | P159: =ROUND(AVERAGE(G159,I159,K159,M159,O159),2) -> #N/A | Q159: =COUNTIF(F159:O159,"C*")*1+COUNTIF(F159:O159,"D")*2+COUNTIF(F159:O159,"E")*3 -> 0 | R159: =IF(Q159>=3,"Không hoàn thành",IF(AND($P159>=8,$P159<=10,Q159=0),"Hoàn thành xuất sắc nhiệm vụ",IF(AND($P159>=8,$P159<=10,Q159=1),"Hoàn thành tốt nhiệm vụ",IF(AND($P159>=8,$P159<=10,Q159=2),"Hoàn thành nhiệm vụ",IF(AND($P159>6,$P159<8,Q159<=1),"Hoàn thành tốt nhiệm vụ",IF(AND($P159>6,$P159<8,Q159=2),"Hoàn thành nhiệm vụ",IF(AND($P159>=5,$P159<=6,Q159<=2),"Hoàn thành nhiệm vụ",IF(AND($P159<5,Q159>3),"Không hoàn thành","")))))))) -> #N/A
A160: =A159+1 -> 152 | B160: 09 | C160: Trần Thị Hồng Thu | D160: 01011015 | E160: Khoa Lý luận Chính trị | F160: A4 | G160: =VLOOKUP(F160,Sheet1!$B$2:$C$12,2,TRUE) -> 7 | H160: =IFERROR(VLOOKUP($D160,'[1]Chi tiet'!$D$7:$L$389,8,0),0) -> A2 | I160: =VLOOKUP(H160,Sheet1!$B$2:$C$12,2,TRUE) -> 9 | J160: =IFERROR(VLOOKUP($D160,'[2]Gui chi Quynh'!D$7:K$393,7,0),0) -> A2 | K160: =VLOOKUP(J160,Sheet1!$B$2:$C$12,2,TRUE) -> 9 | L160: =IFERROR(VLOOKUP($D160,'[3]Chi tiet'!$D$7:$L$397,8,0),0) -> A4 | M160: =VLOOKUP(L160,Sheet1!$B$2:$C$12,2,TRUE) -> 7 | N160: =IFERROR(VLOOKUP($D160,#REF!,3,0),0) -> 0 | O160: =VLOOKUP(N160,Sheet1!$B$2:$C$12,2,TRUE) -> #N/A | P160: =ROUND(AVERAGE(G160,I160,K160,M160,O160),2) -> #N/A | Q160: =COUNTIF(F160:O160,"C*")*1+COUNTIF(F160:O160,"D")*2+COUNTIF(F160:O160,"E")*3 -> 0 | R160: =IF(Q160>=3,"Không hoàn thành",IF(AND($P160>=8,$P160<=10,Q160=0),"Hoàn thành xuất sắc nhiệm vụ",IF(AND($P160>=8,$P160<=10,Q160=1),"Hoàn thành tốt nhiệm vụ",IF(AND($P160>=8,$P160<=10,Q160=2),"Hoàn thành nhiệm vụ",IF(AND($P160>6,$P160<8,Q160<=1),"Hoàn thành tốt nhiệm vụ",IF(AND($P160>6,$P160<8,Q160=2),"Hoàn thành nhiệm vụ",IF(AND($P160>=5,$P160<=6,Q160<=2),"Hoàn thành nhiệm vụ",IF(AND($P160<5,Q160>3),"Không hoàn thành","")))))))) -> #N/A
A161: =A160+1 -> 153 | B161: 10 | C161: Cao Thị Hồng Thắm | D161: 01011007 | E161: Khoa Lý luận Chính trị | F161: A4 | G161: =VLOOKUP(F161,Sheet1!$B$2:$C$12,2,TRUE) -> 7 | H161: =IFERROR(VLOOKUP($D161,'[1]Chi tiet'!$D$7:$L$389,8,0),0) -> A4 | I161: =VLOOKUP(H161,Sheet1!$B$2:$C$12,2,TRUE) -> 7 | J161: =IFERROR(VLOOKUP($D161,'[2]Gui chi Quynh'!D$7:K$393,7,0),0) -> A3 | K161: =VLOOKUP(J161,Sheet1!$B$2:$C$12,2,TRUE) -> 8 | L161: =IFERROR(VLOOKUP($D161,'[3]Chi tiet'!$D$7:$L$397,8,0),0) -> A4 | M161: =VLOOKUP(L161,Sheet1!$B$2:$C$12,2,TRUE) -> 7 | N161: =IFERROR(VLOOKUP($D161,#REF!,3,0),0) -> 0 | O161: =VLOOKUP(N161,Sheet1!$B$2:$C$12,2,TRUE) -> #N/A | P161: =ROUND(AVERAGE(G161,I161,K161,M161,O161),2) -> #N/A | Q161: =COUNTIF(F161:O161,"C*")*1+COUNTIF(F161:O161,"D")*2+COUNTIF(F161:O161,"E")*3 -> 0 | R161: =IF(Q161>=3,"Không hoàn thành",IF(AND($P161>=8,$P161<=10,Q161=0),"Hoàn thành xuất sắc nhiệm vụ",IF(AND($P161>=8,$P161<=10,Q161=1),"Hoàn thành tốt nhiệm vụ",IF(AND($P161>=8,$P161<=10,Q161=2),"Hoàn thành nhiệm vụ",IF(AND($P161>6,$P161<8,Q161<=1),"Hoàn thành tốt nhiệm vụ",IF(AND($P161>6,$P161<8,Q161=2),"Hoàn thành nhiệm vụ",IF(AND($P161>=5,$P161<=6,Q161<=2),"Hoàn thành nhiệm vụ",IF(AND($P161<5,Q161>3),"Không hoàn thành","")))))))) -> #N/A
A162: =A161+1 -> 154 | B162: 11 | C162: Bùi Thành Dũng | D162: 01011011 | E162: Khoa Lý luận Chính trị | F162: A4 | G162: =VLOOKUP(F162,Sheet1!$B$2:$C$12,2,TRUE) -> 7 | H162: =IFERROR(VLOOKUP($D162,'[1]Chi tiet'!$D$7:$L$389,8,0),0) -> A4 | I162: =VLOOKUP(H162,Sheet1!$B$2:$C$12,2,TRUE) -> 7 | J162: =IFERROR(VLOOKUP($D162,'[2]Gui chi Quynh'!D$7:K$393,7,0),0) -> A2 | K162: =VLOOKUP(J162,Sheet1!$B$2:$C$12,2,TRUE) -> 9 | L162: =IFERROR(VLOOKUP($D162,'[3]Chi tiet'!$D$7:$L$397,8,0),0) -> A4 | M162: =VLOOKUP(L162,Sheet1!$B$2:$C$12,2,TRUE) -> 7 | N162: =IFERROR(VLOOKUP($D162,#REF!,3,0),0) -> 0 | O162: =VLOOKUP(N162,Sheet1!$B$2:$C$12,2,TRUE) -> #N/A | P162: =ROUND(AVERAGE(G162,I162,K162,M162,O162),2) -> #N/A | Q162: =COUNTIF(F162:O162,"C*")*1+COUNTIF(F162:O162,"D")*2+COUNTIF(F162:O162,"E")*3 -> 0 | R162: =IF(Q162>=3,"Không hoàn thành",IF(AND($P162>=8,$P162<=10,Q162=0),"Hoàn thành xuất sắc nhiệm vụ",IF(AND($P162>=8,$P162<=10,Q162=1),"Hoàn thành tốt nhiệm vụ",IF(AND($P162>=8,$P162<=10,Q162=2),"Hoàn thành nhiệm vụ",IF(AND($P162>6,$P162<8,Q162<=1),"Hoàn thành tốt nhiệm vụ",IF(AND($P162>6,$P162<8,Q162=2),"Hoàn thành nhiệm vụ",IF(AND($P162>=5,$P162<=6,Q162<=2),"Hoàn thành nhiệm vụ",IF(AND($P162<5,Q162>3),"Không hoàn thành","")))))))) -> #N/A
A163: =A162+1 -> 155 | B163: 12 | C163: Trần Văn Lượng | D163: 01011014 | E163: Khoa Lý luận Chính trị | F163: A4 | G163: =VLOOKUP(F163,Sheet1!$B$2:$C$12,2,TRUE) -> 7 | H163: =IFERROR(VLOOKUP($D163,'[1]Chi tiet'!$D$7:$L$389,8,0),0) -> A4 | I163: =VLOOKUP(H163,Sheet1!$B$2:$C$12,2,TRUE) -> 7 | J163: =IFERROR(VLOOKUP($D163,'[2]Gui chi Quynh'!D$7:K$393,7,0),0) -> B1 | K163: =VLOOKUP(J163,Sheet1!$B$2:$C$12,2,TRUE) -> 6 | L163: =IFERROR(VLOOKUP($D163,'[3]Chi tiet'!$D$7:$L$397,8,0),0) -> A4 | M163: =VLOOKUP(L163,Sheet1!$B$2:$C$12,2,TRUE) -> 7 | N163: =IFERROR(VLOOKUP($D163,#REF!,3,0),0) -> 0 | O163: =VLOOKUP(N163,Sheet1!$B$2:$C$12,2,TRUE) -> #N/A | P163: =ROUND(AVERAGE(G163,I163,K163,M163,O163),2) -> #N/A | Q163: =COUNTIF(F163:O163,"C*")*1+COUNTIF(F163:O163,"D")*2+COUNTIF(F163:O163,"E")*3 -> 0 | R163: =IF(Q163>=3,"Không hoàn thành",IF(AND($P163>=8,$P163<=10,Q163=0),"Hoàn thành xuất sắc nhiệm vụ",IF(AND($P163>=8,$P163<=10,Q163=1),"Hoàn thành tốt nhiệm vụ",IF(AND($P163>=8,$P163<=10,Q163=2),"Hoàn thành nhiệm vụ",IF(AND($P163>6,$P163<8,Q163<=1),"Hoàn thành tốt nhiệm vụ",IF(AND($P163>6,$P163<8,Q163=2),"Hoàn thành nhiệm vụ",IF(AND($P163>=5,$P163<=6,Q163<=2),"Hoàn thành nhiệm vụ",IF(AND($P163<5,Q163>3),"Không hoàn thành","")))))))) -> #N/A
... A166: =A165+1 -> 158 | B166: 15 | C166: Đỗ Thị Ngát | D166: 01011016 | E166: Khoa Lý luận Chính trị | F166: A4 | G166: =VLOOKUP(F166,Sheet1!$B$2:$C$12,2,TRUE) -> 7 | H166: =IFERROR(VLOOKUP($D166,'[1]Chi tiet'!$D$7:$L$389,8,0),0) -> A4 | I166: =VLOOKUP(H166,Sheet1!$B$2:$C$12,2,TRUE) -> 7 | J166: =IFERROR(VLOOKUP($D166,'[2]Gui chi Quynh'!D$7:K$393,7,0),0) -> A3 | K166: =VLOOKUP(J166,Sheet1!$B$2:$C$12,2,TRUE) -> 8 | L166: =IFERROR(VLOOKUP($D166,'[3]Chi tiet'!$D$7:$L$397,8,0),0) -> A4 | M166: =VLOOKUP(L166,Sheet1!$B$2:$C$12,2,TRUE) -> 7 | N166: =IFERROR(VLOOKUP($D166,#REF!,3,0),0) -> 0 | O166: =VLOOKUP(N166,Sheet1!$B$2:$C$12,2,TRUE) -> #N/A | P166: =ROUND(AVERAGE(G166,I166,K166,M166,O166),2) -> #N/A | Q166: =COUNTIF(F166:O166,"C*")*1+COUNTIF(F166:O166,"D")*2+COUNTIF(F166:O166,"E")*3 -> 0 | R166: =IF(Q166>=3,"Không hoàn thành",IF(AND($P166>=8,$P166<=10,Q166=0),"Hoàn thành xuất sắc nhiệm vụ",IF(AND($P166>=8,$P166<=10,Q166=1),"Hoàn thành tốt nhiệm vụ",IF(AND($P166>=8,$P166<=10,Q166=2),"Hoàn thành nhiệm vụ",IF(AND($P166>6,$P166<8,Q166<=1),"Hoàn thành tốt nhiệm vụ",IF(AND($P166>6,$P166<8,Q166=2),"Hoàn thành nhiệm vụ",IF(AND($P166>=5,$P166<=6,Q166<=2),"Hoàn thành nhiệm vụ",IF(AND($P166<5,Q166>3),"Không hoàn thành","")))))))) -> #N/A
A167: =A166+1 -> 159 | B167: 16 | C167: Hoàng Thị Trang | D167: 01011018 | E167: Khoa Lý luận Chính trị | F167: A4 | G167: =VLOOKUP(F167,Sheet1!$B$2:$C$12,2,TRUE) -> 7 | H167: =IFERROR(VLOOKUP($D167,'[1]Chi tiet'!$D$7:$L$389,8,0),0) -> A4 | I167: =VLOOKUP(H167,Sheet1!$B$2:$C$12,2,TRUE) -> 7 | J167: =IFERROR(VLOOKUP($D167,'[2]Gui chi Quynh'!D$7:K$393,7,0),0) -> A DN | K167: 7 | L167: =IFERROR(VLOOKUP($D167,'[3]Chi tiet'!$D$7:$L$397,8,0),0) -> A DN | M167: 7 | N167: =IFERROR(VLOOKUP($D167,#REF!,3,0),0) -> 0 | O167: 7 | P167: =ROUND(AVERAGE(G167,I167,K167,M167,O167),2) -> 7 | Q167: =COUNTIF(F167:O167,"C*")*1+COUNTIF(F167:O167,"D")*2+COUNTIF(F167:O167,"E")*3 -> 0 | R167: =IF(Q167>=3,"Không hoàn thành",IF(AND($P167>=8,$P167<=10,Q167=0),"Hoàn thành xuất sắc nhiệm vụ",IF(AND($P167>=8,$P167<=10,Q167=1),"Hoàn thành tốt nhiệm vụ",IF(AND($P167>=8,$P167<=10,Q167=2),"Hoàn thành nhiệm vụ",IF(AND($P167>6,$P167<8,Q167<=1),"Hoàn thành tốt nhiệm vụ",IF(AND($P167>6,$P167<8,Q167=2),"Hoàn thành nhiệm vụ",IF(AND($P167>=5,$P167<=6,Q167<=2),"Hoàn thành nhiệm vụ",IF(AND($P167<5,Q167>3),"Không hoàn thành","")))))))) -> Hoàn thành tốt nhiệm vụ | T167: Nghỉ hộ sản từ 22/3/21
A168: =A167+1 -> 160 | B168: 01 | C168: Chung Trần Thế Vinh | D168: 01012003 | E168: Khoa Cơ khí | F168: A1 | G168: =VLOOKUP(F168,Sheet1!$B$2:$C$12,2,TRUE) -> 10 | H168: =IFERROR(VLOOKUP($D168,'[1]Chi tiet'!$D$7:$L$389,8,0),0) -> A1 | I168: =VLOOKUP(H168,Sheet1!$B$2:$C$12,2,TRUE) -> 10 | J168: =IFERROR(VLOOKUP($D168,'[2]Gui chi Quynh'!D$7:K$393,7,0),0) -> A1 | K168: =VLOOKUP(J168,Sheet1!$B$2:$C$12,2,TRUE) -> 10 | L168: =IFERROR(VLOOKUP($D168,'[3]Chi tiet'!$D$7:$L$397,8,0),0) -> A1 | M168: =VLOOKUP(L168,Sheet1!$B$2:$C$12,2,TRUE) -> 10 | N168: =IFERROR(VLOOKUP($D168,#REF!,3,0),0) -> 0 | O168: =VLOOKUP(N168,Sheet1!$B$2:$C$12,2,TRUE) -> #N/A | P168: =ROUND(AVERAGE(G168,I168,K168,M168,O168),2) -> #N/A | Q168: =COUNTIF(F168:O168,"C*")*1+COUNTIF(F168:O168,"D")*2+COUNTIF(F168:O168,"E")*3 -> 0 | R168: =IF(Q168>=3,"Không hoàn thành",IF(AND($P168>=8,$P168<=10,Q168=0),"Hoàn thành xuất sắc nhiệm vụ",IF(AND($P168>=8,$P168<=10,Q168=1),"Hoàn thành tốt nhiệm vụ",IF(AND($P168>=8,$P168<=10,Q168=2),"Hoàn thành nhiệm vụ",IF(AND($P168>6,$P168<8,Q168<=1),"Hoàn thành tốt nhiệm vụ",IF(AND($P168>6,$P168<8,Q168=2),"Hoàn thành nhiệm vụ",IF(AND($P168>=5,$P168<=6,Q168<=2),"Hoàn thành nhiệm vụ",IF(AND($P168<5,Q168>3),"Không hoàn thành","")))))))) -> #N/A
...

Sheet In QD HK2 theo XL
A5: Stt | B5: Họ và tên | C5: Đơn vị | D5: Tháng 02/2021 | F5: Tháng 03/2021 | H5: Tháng 04/2021 | J5: Tháng 05/2021 | L5: Tháng 06/2021 | N5: Kết quả xếp loại thi đua | Q5: Ghi chú | R5: Ghi chú
A6: 1 | B6: Phạm Hữu Lộc | C6: Ban Giám hiệu | D6: A1 | E6: 10 | F6: A1 | G6: 10 | H6: A1 | I6: 10 | J6: A1 | K6: 10 | L6: A1 | M6: 10 | N6: 10 | O6: 0 | P6: Hoàn thành xuất sắc nhiệm vụ
A7: =A6+1 -> 2 | B7: Đinh Văn Đệ | C7: " | D7: A1 | E7: 10 | F7: A1 | G7: 10 | H7: A1 | I7: 10 | J7: A1 | K7: 10 | L7: A1 | M7: 10 | N7: 10 | O7: 0 | P7: Hoàn thành xuất sắc nhiệm vụ
A8: =A7+1 -> 3 | B8: Đinh Hồng Minh | C8: " | D8: A1 | E8: 10 | F8: A1 | G8: 10 | H8: A1 | I8: 10 | J8: A1 | K8: 10 | L8: A1 | M8: 10 | N8: 10 | O8: 0 | P8: Hoàn thành xuất sắc nhiệm vụ
A9: =A8+1 -> 4 | B9: Châu Văn Bảo | C9: " | D9: A1 | E9: 10 | F9: A1 | G9: 10 | H9: A1 | I9: 10 | J9: A1 | K9: 10 | L9: A1 | M9: 10 | N9: 10 | O9: 0 | P9: Hoàn thành xuất sắc nhiệm vụ
A10: =A9+1 -> 5 | B10: Lâm Viết Dũng | C10: Phòng Tổ chức - Hành chính - Tổng hợp | D10: A1 | E10: 10 | F10: A1 | G10: 10 | H10: A1 | I10: 10 | J10: A1 | K10: 10 | L10: A1 | M10: 10 | N10: 10 | O10: 0 | P10: Hoàn thành xuất sắc nhiệm vụ
A11: =A10+1 -> 6 | B11: Huỳnh Thị Minh Ly | C11: " | D11: A2 | E11: 9 | F11: A2 | G11: 9 | H11: A2 | I11: 9 | J11: A1 | K11: 10 | L11: A2 | M11: 9 | N11: 9.2 | O11: 0 | P11: Hoàn thành xuất sắc nhiệm vụ
A12: =A11+1 -> 7 | B12: Vũ Như Quỳnh | C12: " | D12: A2 | E12: 9 | F12: A2 | G12: 9 | H12: A2 | I12: 9 | J12: A3 | K12: 8 | L12: A3 | M12: 8 | N12: 8.6 | O12: 0 | P12: Hoàn thành xuất sắc nhiệm vụ
A13: =A12+1 -> 8 | B13: Phan Thị Ngọc Phượng | C13: " | D13: A3 | E13: 8 | F13: A2 | G13: 9 | H13: A3 | I13: 8 | J13: A2 | K13: 9 | L13: A3 | M13: 8 | N13: 8.4 | O13: 0 | P13: Hoàn thành xuất sắc nhiệm vụ
A14: =A13+1 -> 9 | B14: Nguyễn Thị Bích Liễu | C14: " | D14: A3 | E14: 8 | F14: A2 | G14: 9 | H14: A3 | I14: 8 | J14: A3 | K14: 8 | L14: A3 | M14: 8 | N14: 8.2 | O14: 0 | P14: Hoàn thành xuất sắc nhiệm vụ
A15: =A14+1 -> 10 | B15: Trần Thị Ánh Phượng | C15: " | D15: A3 | E15: 8 | F15: A2 | G15: 9 | H15: A3 | I15: 8 | J15: A2 | K15: 9 | L15: A3 | M15: 8 | N15: 8.4 | O15: 0 | P15: Hoàn thành xuất sắc nhiệm vụ
A16: =A15+1 -> 11 | B16: Lưu Hoàng Hải Yến | C16: " | D16: A2 | E16: 9 | F16: A2 | G16: 9 | H16: A2 | I16: 9 | J16: A1 | K16: 10 | L16: A2 | M16: 9 | N16: 9.2 | O16: 0 | P16: Hoàn thành xuất sắc nhiệm vụ
A17: =A16+1 -> 12 | B17: Nguyễn Thị Vân | C17: " | D17: A3 | E17: 8 | F17: A2 | G17: 9 | H17: A3 | I17: 8 | J17: A2 | K17: 9 | L17: A4 | M17: 7 | N17: 8.2 | O17: 0 | P17: Hoàn thành xuất sắc nhiệm vụ
A18: =A17+1 -> 13 | B18: Huỳnh Thị Xuân Mai | C18: " | D18: A3 | E18: 8 | F18: A3 | G18: 8 | H18: A3 | I18: 8 | J18: A2 | K18: 9 | L18: A4 | M18: 7 | N18: 8 | O18: 0 | P18: Hoàn thành xuất sắc nhiệm vụ
... A62: =A61+1 -> 57 | B62: Nguyễn Trọng Phú | C62: " | D62: A2 | E62: 9 | F62: A2 | G62: 9 | H62: A2 | I62: 9 | J62: A2 | K62: 9 | L62: A3 | M62: 8 | N62: 8.8 | O62: 0 | P62: Hoàn thành xuất sắc nhiệm vụ
A63: =A62+1 -> 58 | B63: Giáp Văn Thịnh | C63: " | D63: A3 | E63: 8 | F63: A2 | G63: 9 | H63: A2 | I63: 9 | J63: A DN | K63: 7 | L63: A3 | M63: 8 | N63: 8.2 | O63: 0 | P63: Hoàn thành xuất sắc nhiệm vụ | Q63: Nghỉ cách ly tháng 5/2021
A64: =A63+1 -> 59 | B64: Phan Đức Long | C64: " | D64: A2 | E64: 9 | F64: A2 | G64: 9 | H64: A2 | I64: 9 | J64: A2 | K64: 9 | L64: A3 | M64: 8 | N64: 8.8 | O64: 0 | P64: Hoàn thành xuất sắc nhiệm vụ
A65: =A64+1 -> 60 | B65: Ninh Đỗ Hiệp | C65: " | D65: A2 | E65: 9 | F65: A3 | G65: 8 | H65: A2 | I65: 9 | J65: A2 | K65: 9 | L65: A3 | M65: 8 | N65: 8.6 | O65: 0 | P65: Hoàn thành xuất sắc nhiệm vụ
A66: =A65+1 -> 61 | B66: Lê Hồng Anh Tuấn | C66: " | D66: A3 | E66: 8 | F66: A2 | G66: 9 | H66: A2 | I66: 9 | J66: A2 | K66: 9 | L66: A4 | M66: 7 | N66: 8.4 | O66: 0 | P66: Hoàn thành xuất sắc nhiệm vụ
A67: =A66+1 -> 62 | B67: Nguyễn Cao Thắng | C67: " | D67: A2 | E67: 9 | F67: A2 | G67: 9 | H67: A2 | I67: 9 | J67: A2 | K67: 9 | L67: A2 | M67: 9 | N67: 9 | O67: 0 | P67: Hoàn thành xuất sắc nhiệm vụ
A68: =A67+1 -> 63 | B68: Võ Tấn Kiệt | C68: " | D68: A3 | E68: 8 | F68: A3 | G68: 8 | H68: A2 | I68: 9 | J68: A2 | K68: 9 | L68: A3 | M68: 8 | N68: 8.4 | O68: 0 | P68: Hoàn thành xuất sắc nhiệm vụ
A69: =A68+1 -> 64 | B69: Nguyễn Thành Nam | C69: Khoa Khoa học cơ bản | D69: A2 | E69: 9 | F69: A1 | G69: 10 | H69: A1 | I69: 10 | J69: A1 | K69: 10 | L69: A1 | M69: 10 | N69: 9.8 | O69: 0 | P69: Hoàn thành xuất sắc nhiệm vụ
A70: =A69+1 -> 65 | B70: Phạm Thị Thu Nga | C70: " | D70: A3 | E70: 8 | F70: A3 | G70: 8 | H70: A3 | I70: 8 | J70: A3 | K70: 8 | L70: A3 | M70: 8 | N70: 8 | O70: 0 | P70: Hoàn thành xuất sắc nhiệm vụ
A71: =A70+1 -> 66 | B71: Nguyễn Thị Thủy | C71: " | D71: A4 | E71: 7 | F71: A3 | G71: 8 | H71: A2 | I71: 9 | J71: A3 | K71: 8 | L71: A3 | M71: 8 | N71: 8 | O71: 0 | P71: Hoàn thành xuất sắc nhiệm vụ
A72: =A71+1 -> 67 | B72: Nguyễn Thị Thu Hà | C72: " | D72: A3 | E72: 8 | F72: A2 | G72: 9 | H72: A2 | I72: 9 | J72: A3 | K72: 8 | L72: A2 | M72: 9 | N72: 8.6 | O72: 0 | P72: Hoàn thành xuất sắc nhiệm vụ
A73: =A72+1 -> 68 | B73: Lê Thị Hồng Vân | C73: Khoa Lý luận Chính trị | D73: A3 | E73: 8 | F73: A3 | G73: 8 | H73: A2 | I73: 9 | J73: A4 | K73: 7 | L73: A2 | M73: 9 | N73: 8.2 | O73: 0 | P73: Hoàn thành xuất sắc nhiệm vụ
A74: =A73+1 -> 69 | B74: Đinh Thị Huyên | C74: " | D74: A3 | E74: 8 | F74: A3 | G74: 8 | H74: A2 | I74: 9 | J74: A4 | K74: 7 | L74: A3 | M74: 8 | N74: 8 | O74: 0 | P74: Hoàn thành xuất sắc nhiệm vụ
A75: =A74+1 -> 70 | B75: Phan Thị Thùy Trang | C75: " | D75: A3 | E75: 8 | F75: A3 | G75: 8 | H75: A3 | I75: 8 | J75: A3 | K75: 8 | L75: A3 | M75: 8 | N75: 8 | O75: 0 | P75: Hoàn thành xuất sắc nhiệm vụ
... A141: =A140+1 -> 136 | B141: Phạm Quang Tùng | C141: " | D141: B1 | E141: 6 | F141: A4 | G141: 7 | H141: A3 | I141: 8 | J141: A3 | K141: 8 | L141: A3 | M141: 8 | N141: 7.4 | O141: 0 | P141: Hoàn thành tốt nhiệm vụ
A142: =A141+1 -> 137 | B142: Nguyễn Thị Hồng Thắm | C142: Phòng Kế hoạch - Tài chính | D142: A DN | E142: 7 | F142: A DN | G142: 7 | H142: A DN | I142: 7 | J142: A2 | K142: 9 | L142: A4 | M142: 7 | N142: 7.4 | O142: 0 | P142: Hoàn thành tốt nhiệm vụ | Q142: Đi làm lại từ tháng 01/5/2021
A143: =A142+1 -> 138 | B143: Mai Nguyễn Hoàng Yến | C143: Phòng Tuyển sinh - Đào tạo | D143: A3 | E143: 8 | F143: A3 | G143: 8 | H143: A4 | I143: 7 | J143: A3 | K143: 8 | L143: A4 | M143: 7 | N143: 7.6 | O143: 0 | P143: Hoàn thành tốt nhiệm vụ
A144: =A143+1 -> 139 | B144: Huỳnh Thị Cẩm Hoa | C144: " | D144: A4 | E144: 7 | F144: A4 | G144: 7 | H144: A4 | I144: 7 | J144: A4 | K144: 7 | L144: A4 | M144: 7 | N144: 7 | O144: 0 | P144: Hoàn thành tốt nhiệm vụ
A145: =A144+1 -> 140 | B145: Nguyễn Thị Kim Anh | C145: Phòng Thanh tra Giáo dục - Công tác Sinh viên | D145: A4 | E145: 7 | F145: A3 | G145: 8 | H145: A4 | I145: 7 | J145: A4 | K145: 7 | L145: A4 | M145: 7 | N145: 7.2 | O145: 0 | P145: Hoàn thành tốt nhiệm vụ
A146: =A145+1 -> 141 | B146: Nguyễn Tất Thắng | C146: " | D146: A4 | E146: 7 | F146: A3 | G146: 8 | H146: A3 | I146: 8 | J146: A2 | K146: 9 | L146: A4 | M146: 7 | N146: 7.8 | O146: 0 | P146: Hoàn thành tốt nhiệm vụ
A147: =A146+1 -> 142 | B147: Phạm Thị Lê Chi | C147: " | D147: A4 | E147: 7 | F147: A4 | G147: 7 | H147: A4 | I147: 7 | J147: A3 | K147: 8 | L147: A4 | M147: 7 | N147: 7.2 | O147: 0 | P147: Hoàn thành tốt nhiệm vụ
A148: =A147+1 -> 143 | B148: Nguyễn Thị Ngọc Anh | C148: " | D148: A4 | E148: 7 | F148: A3 | G148: 8 | H148: A3 | I148: 8 | J148: A3 | K148: 8 | L148: A4 | M148: 7 | N148: 7.6 | O148: 0 | P148: Hoàn thành tốt nhiệm vụ
A149: =A148+1 -> 144 | B149: Mai Thu Hương | C149: " | D149: A4 | E149: 7 | F149: A3 | G149: 8 | H149: A3 | I149: 8 | J149: A3 | K149: 8 | L149: A4 | M149: 7 | N149: 7.6 | O149: 0 | P149: Hoàn thành tốt nhiệm vụ
A150: =A149+1 -> 145 | B150: Huỳnh Văn Hiếu | C150: " | D150: A4 | E150: 7 | F150: A3 | G150: 8 | H150: A3 | I150: 8 | J150: A3 | K150: 8 | L150: A3 | M150: 8 | N150: 7.8 | O150: 0 | P150: Hoàn thành tốt nhiệm vụ
A151: =A150+1 -> 146 | B151: Phạm Huy Hoàng | C151: " | D151: A4 | E151: 7 | F151: A3 | G151: 8 | H151: A3 | I151: 8 | J151: A3 | K151: 8 | L151: A3 | M151: 8 | N151: 7.8 | O151: 0 | P151: Hoàn thành tốt nhiệm vụ
A152: =A151+1 -> 147 | B152: Trần Anh Mỹ | C152: " | D152: A4 | E152: 7 | F152: A4 | G152: 7 | H152: A4 | I152: 7 | J152: A4 | K152: 7 | L152: A4 | M152: 7 | N152: 7 | O152: 0 | P152: Hoàn thành tốt nhiệm vụ
A153: =A152+1 -> 148 | B153: Bùi Đức Phước | C153: " | D153: A4 | E153: 7 | F153: A3 | G153: 8 | H153: A3 | I153: 8 | J153: A3 | K153: 8 | L153: A3 | M153: 8 | N153: 7.8 | O153: 0 | P153: Hoàn thành tốt nhiệm vụ
A154: =A153+1 -> 149 | B154: Nguyễn Thanh Sơn | C154: Phòng Khảo thí và Đảm bảo chất lượng | D154: A4 | E154: 7 | F154: A3 | G154: 8 | H154: A3 | I154: 8 | J154: A3 | K154: 8 | L154: A4 | M154: 7 | N154: 7.6 | O154: 0 | P154: Hoàn thành tốt nhiệm vụ
... A178: =A177+1 -> 173 | B178: Trương Thị Bắc | C178: " | D178: A4 | E178: 7 | F178: A4 | G178: 7 | H178: A4 | I178: 7 | J178: A4 | K178: 7 | L178: A4 | M178: 7 | N178: 7 | O178: 0 | P178: Hoàn thành tốt nhiệm vụ
A179: =A178+1 -> 174 | B179: Nguyễn Tiến Hưng | C179: " | D179: A4 | E179: 7 | F179: A4 | G179: 7 | H179: A4 | I179: 7 | J179: A4 | K179: 7 | N179: 7 | O179: 0 | P179: Hoàn thành tốt nhiệm vụ | Q179: Nghỉ HTLĐ từ 01/6/21
A180: =A179+1 -> 175 | B180: Nguyễn Thị Huyền Nga | C180: Khoa Khoa học cơ bản | D180: A4 | E180: 7 | F180: A4 | G180: 7 | H180: A3 | I180: 8 | J180: A3 | K180: 8 | L180: A3 | M180: 8 | N180: 7.6 | O180: 0 | P180: Hoàn thành tốt nhiệm vụ
A181: =A180+1 -> 176 | B181: Lê Thái Hùng | C181: " | D181: A4 | E181: 7 | F181: A3 | G181: 8 | H181: A2 | I181: 9 | J181: A4 | K181: 7 | L181: A4 | M181: 7 | N181: 7.6 | O181: 0 | P181: Hoàn thành tốt nhiệm vụ
A182: =A181+1 -> 177 | B182: Nguyễn Văn Hậu | C182: " | D182: A4 | E182: 7 | F182: A4 | G182: 7 | H182: A3 | I182: 8 | J182: A4 | K182: 7 | L182: B2 | M182: 5 | N182: 6.8 | O182: 0 | P182: Hoàn thành tốt nhiệm vụ
A183: =A182+1 -> 178 | B183: Dương Đức Kiên | C183: " | D183: A4 | E183: 7 | F183: A4 | G183: 7 | H183: A3 | I183: 8 | J183: A4 | K183: 7 | L183: B2 | M183: 5 | N183: 6.8 | O183: 0 | P183: Hoàn thành tốt nhiệm vụ
A184: =A183+1 -> 179 | B184: Hà Như Mai | C184: " | D184: A4 | E184: 7 | F184: A4 | G184: 7 | H184: A3 | I184: 8 | J184: A4 | K184: 7 | L184: A4 | M184: 7 | N184: 7.2 | O184: 0 | P184: Hoàn thành tốt nhiệm vụ
A185: =A184+1 -> 180 | B185: Nguyễn Thị Cẩm Thạch | C185: " | D185: A4 | E185: 7 | F185: A4 | G185: 7 | H185: A4 | I185: 7 | J185: A4 | K185: 7 | L185: A4 | M185: 7 | N185: 7 | O185: 0 | P185: Hoàn thành tốt nhiệm vụ
A186: =A185+1 -> 181 | B186: Nguyễn Văn Đông | C186: " | D186: A3 | E186: 8 | F186: A4 | G186: 7 | H186: A3 | I186: 8 | J186: A4 | K186: 7 | L186: A4 | M186: 7 | N186: 7.4 | O186: 0 | P186: Hoàn thành tốt nhiệm vụ
A187: =A186+1 -> 182 | B187: Đặng Thị Kiến Trúc | C187: " | D187: A4 | E187: 7 | F187: A4 | G187: 7 | H187: A3 | I187: 8 | J187: A4 | K187: 7 | L187: A3 | M187: 8 | N187: 7.4 | O187: 0 | P187: Hoàn thành tốt nhiệm vụ
A188: =A187+1 -> 183 | B188: Nguyễn Thanh Tú | C188: " | D188: A3 | E188: 8 | F188: A3 | G188: 8 | H188: A3 | I188: 8 | J188: A4 | K188: 7 | L188: A4 | M188: 7 | N188: 7.6 | O188: 0 | P188: Hoàn thành tốt nhiệm vụ
A189: =A188+1 -> 184 | B189: Trần Thị Ánh Tuyết | C189: " | D189: A4 | E189: 7 | F189: A4 | G189: 7 | H189: A3 | I189: 8 | J189: A4 | K189: 7 | L189: A3 | M189: 8 | N189: 7.4 | O189: 0 | P189: Hoàn thành tốt nhiệm vụ
A190: =A189+1 -> 185 | B190: Trịnh Khắc Vũ | C190: " | D190: A4 | E190: 7 | F190: A4 | G190: 7 | H190: A3 | I190: 8 | J190: A4 | K190: 7 | L190: A3 | M190: 8 | N190: 7.4 | O190: 0 | P190: Hoàn thành tốt nhiệm vụ
A191: =A190+1 -> 186 | B191: Nguyễn Phương Hà | C191: " | D191: A4 | E191: 7 | F191: A4 | G191: 7 | H191: A3 | I191: 8 | J191: A4 | K191: 7 | L191: A3 | M191: 8 | N191: 7.4 | O191: 0 | P191: Hoàn thành tốt nhiệm vụ
... A218: =A217+1 -> 213 | B218: Đỗ Thị Ngát | C218: " | D218: A4 | E218: 7 | F218: A4 | G218: 7 | H218: A3 | I218: 8 | J218: A4 | K218: 7 | L218: A3 | M218: 8 | N218: 7.4 | O218: 0 | P218: Hoàn thành tốt nhiệm vụ
A219: =A218+1 -> 214 | B219: Hoàng Thị Trang | C219: " | D219: A4 | E219: 7 | F219: A4 | G219: 7 | H219: A DN | I219: 7 | J219: A DN | K219: 7 | L219: A DN | M219: 7 | N219: 7 | O219: 0 | P219: Hoàn thành tốt nhiệm vụ | Q219: Nghỉ hộ sản từ 22/3/21
A220: =A219+1 -> 215 | B220: Vũ Quang Khải | C220: Khoa Cơ khí | D220: A4 | E220: 7 | F220: A3 | G220: 8 | H220: A3 | I220: 8 | J220: A4 | K220: 7 | L220: A3 | M220: 8 | N220: 7.6 | O220: 0 | P220: Hoàn thành tốt nhiệm vụ
A221: =A220+1 -> 216 | B221: Nguyễn Duy Hải | C221: " | D221: A4 | E221: 7 | F221: A4 | G221: 7 | H221: A4 | I221: 7 | J221: A4 | K221: 7 | L221: A4 | M221: 7 | N221: 7 | O221: 0 | P221: Hoàn thành tốt nhiệm vụ
A222: =A221+1 -> 217 | B222: Dương Minh Chung | C222: " | D222: A4 | E222: 7 | F222: A3 | G222: 8 | H222: A3 | I222: 8 | J222: A4 | K222: 7 | L222: A3 | M222: 8 | N222: 7.6 | O222: 0 | P222: Hoàn thành tốt nhiệm vụ
A223: =A222+1 -> 218 | B223: Đỗ Thị Phương Khanh | C223: " | D223: A4 | E223: 7 | F223: A3 | G223: 8 | H223: A3 | I223: 8 | J223: A4 | K223: 7 | L223: A3 | M223: 8 | N223: 7.6 | O223: 0 | P223: Hoàn thành tốt nhiệm vụ
A224: =A223+1 -> 219 | B224: Trương Thị Phương Hồng | C224: " | D224: A4 | E224: 7 | F224: A3 | G224: 8 | H224: A3 | I224: 8 | J224: A3 | K224: 8 | L224: A4 | M224: 7 | N224: 7.6 | O224: 0 | P224: Hoàn thành tốt nhiệm vụ
A225: =A224+1 -> 220 | B225: Phan Văn Thành | C225: " | D225: A4 | E225: 7 | F225: A4 | G225: 7 | H225: A4 | I225: 7 | J225: A4 | K225: 7 | L225: A4 | M225: 7 | N225: 7 | O225: 0 | P225: Hoàn thành tốt nhiệm vụ
A226: =A225+1 -> 221 | B226: Phan Thị Xuân Trang | C226: " | D226: A4 | E226: 7 | F226: A4 | G226: 7 | H226: A4 | I226: 7 | J226: A4 | K226: 7 | L226: A4 | M226: 7 | N226: 7 | O226: 0 | P226: Hoàn thành tốt nhiệm vụ
A227: =A226+1 -> 222 | B227: Lư Thị Yến Vũ | C227: " | D227: A4 | E227: 7 | F227: A4 | G227: 7 | H227: A4 | I227: 7 | J227: A4 | K227: 7 | L227: A4 | M227: 7 | N227: 7 | O227: 0 | P227: Hoàn thành tốt nhiệm vụ
A228: =A227+1 -> 223 | B228: Nguyễn Thanh Vũ | C228: " | D228: A4 | E228: 7 | F228: A4 | G228: 7 | H228: A4 | I228: 7 | J228: A4 | K228: 7 | L228: A4 | M228: 7 | N228: 7 | O228: 0 | P228: Hoàn thành tốt nhiệm vụ
A229: =A228+1 -> 224 | B229: Nguyễn Tiến Dũng | C229: " | D229: A4 | E229: 7 | F229: A4 | G229: 7 | H229: A4 | I229: 7 | J229: A4 | K229: 7 | L229: A4 | M229: 7 | N229: 7 | O229: 0 | P229: Hoàn thành tốt nhiệm vụ
A230: =A229+1 -> 225 | B230: Nguyễn Thành Long | C230: " | D230: A4 | E230: 7 | F230: A4 | G230: 7 | H230: A4 | I230: 7 | J230: A4 | K230: 7 | L230: A4 | M230: 7 | N230: 7 | O230: 0 | P230: Hoàn thành tốt nhiệm vụ
A231: =A230+1 -> 226 | B231: Nguyễn Ngọc Quỳnh | C231: " | D231: A4 | E231: 7 | F231: A4 | G231: 7 | H231: A4 | I231: 7 | J231: A4 | K231: 7 | L231: A4 | M231: 7 | N231: 7 | O231: 0 | P231: Hoàn thành tốt nhiệm vụ
... A260: =A259+1 -> 255 | B260: Nguyễn Hoàng Vinh | C260: " | D260: A4 | E260: 7 | F260: A4 | G260: 7 | H260: A2 | I260: 9 | J260: A3 | K260: 8 | L260: A4 | M260: 7 | N260: 7.6 | O260: 0 | P260: Hoàn thành tốt nhiệm vụ
A261: =A260+1 -> 256 | B261: Bùi Trọng Tân | C261: " | F261: A4 | G261: 7 | H261: A3 | I261: 8 | J261: A3 | K261: 8 | L261: A4 | M261: 7 | N261: 7.5 | O261: 0 | P261: Hoàn thành tốt nhiệm vụ | Q261: Tuyển dụng từ 01/3/2021
A262: =A261+1 -> 257 | B262: Ngô Hoàng Anh | C262: Khoa Điện - Điện tử | D262: A4 | E262: 7 | F262: A4 | G262: 7 | H262: A4 | I262: 7 | J262: A4 | K262: 7 | L262: A4 | M262: 7 | N262: 7 | O262: 0 | P262: Hoàn thành tốt nhiệm vụ
A263: =A262+1 -> 258 | B263: Vũ Hạnh Chiêu | C263: " | D263: A4 | E263: 7 | F263: A3 | G263: 8 | H263: A3 | I263: 8 | J263: A4 | K263: 7 | L263: A4 | M263: 7 | N263: 7.4 | O263: 0 | P263: Hoàn thành tốt nhiệm vụ
A264: =A263+1 -> 259 | B264: Ngô Phong Cường | C264: " | D264: A4 | E264: 7 | F264: A4 | G264: 7 | H264: A3 | I264: 8 | J264: A4 | K264: 7 | L264: A4 | M264: 7 | N264: 7.2 | O264: 0 | P264: Hoàn thành tốt nhiệm vụ
A265: =A264+1 -> 260 | B265: Lê Tiến Đạt | C265: " | D265: A3 | E265: 8 | F265: A3 | G265: 8 | H265: A3 | I265: 8 | J265: A4 | K265: 7 | L265: A4 | M265: 7 | N265: 7.6 | O265: 0 | P265: Hoàn thành tốt nhiệm vụ
A266: =A265+1 -> 261 | B266: Nguyễn Hồng Đức | C266: " | D266: A4 | E266: 7 | F266: A4 | G266: 7 | H266: A3 | I266: 8 | J266: A4 | K266: 7 | L266: A4 | M266: 7 | N266: 7.2 | O266: 0 | P266: Hoàn thành tốt nhiệm vụ
A267: =A266+1 -> 262 | B267: Nguyễn Minh Đức | C267: " | D267: A4 | E267: 7 | F267: A4 | G267: 7 | H267: A3 | I267: 8 | J267: A4 | K267: 7 | L267: A4 | M267: 7 | N267: 7.2 | O267: 0 | P267: Hoàn thành tốt nhiệm vụ
A268: =A267+1 -> 263 | B268: Nguyễn Thị Ngọc Hiền | C268: " | D268: A4 | E268: 7 | F268: A3 | G268: 8 | H268: A3 | I268: 8 | J268: A3 | K268: 8 | L268: A3 | M268: 8 | N268: 7.8 | O268: 0 | P268: Hoàn thành tốt nhiệm vụ
A269: =A268+1 -> 264 | B269: Trần Trung Hiếu | C269: " | D269: A4 | E269: 7 | F269: A4 | G269: 7 | H269: A3 | I269: 8 | J269: A4 | K269: 7 | L269: A3 | M269: 8 | N269: 7.4 | O269: 0 | P269: Hoàn thành tốt nhiệm vụ
A270: =A269+1 -> 265 | B270: Mạnh Lê Hoàn | C270: " | D270: A4 | E270: 7 | F270: A4 | G270: 7 | H270: A3 | I270: 8 | J270: A4 | K270: 7 | L270: A4 | M270: 7 | N270: 7.2 | O270: 0 | P270: Hoàn thành tốt nhiệm vụ
A271: =A270+1 -> 266 | B271: Lê Thế Huân | C271: " | D271: A4 | E271: 7 | F271: A4 | G271: 7 | H271: A3 | I271: 8 | J271: A4 | K271: 7 | L271: A4 | M271: 7 | N271: 7.2 | O271: 0 | P271: Hoàn thành tốt nhiệm vụ
A272: =A271+1 -> 267 | B272: Tăng Cẩm Huê | C272: " | D272: A4 | E272: 7 | F272: A4 | G272: 7 | H272: A3 | I272: 8 | J272: A4 | K272: 7 | L272: A4 | M272: 7 | N272: 7.2 | O272: 0 | P272: Hoàn thành tốt nhiệm vụ
A273: =A272+1 -> 268 | B273: Nguyễn Thùy Linh | C273: " | D273: A4 | E273: 7 | F273: A4 | G273: 7 | H273: A2 | I273: 9 | J273: A4 | K273: 7 | L273: A4 | M273: 7 | N273: 7.4 | O273: 0 | P273: Hoàn thành tốt nhiệm vụ
... A296: =A295+1 -> 291 | B296: Nguyễn Vũ Xuân Thì | C296: " | D296: A4 | E296: 7 | F296: A3 | G296: 8 | H296: A3 | I296: 8 | J296: A4 | K296: 7 | L296: A4 | M296: 7 | N296: 7.4 | O296: 0 | P296: Hoàn thành tốt nhiệm vụ
A297: =A296+1 -> 292 | B297: Nguyễn Thanh Dũng | C297: " | F297: A4 | G297: 7 | H297: A4 | I297: 7 | J297: A4 | K297: 7 | L297: A4 | M297: 7 | N297: 7 | O297: 0 | P297: Hoàn thành tốt nhiệm vụ | Q297: Tuyển dụng từ 01/3/2021 | R297: Tuyển dụng từ 01/3/2021
A298: =A297+1 -> 293 | B298: Phạm Quỳnh Như | C298: Khoa Kinh tế | D298: A4 | E298: 7 | F298: A4 | G298: 7 | H298: A2 | I298: 9 | J298: A4 | K298: 7 | L298: A4 | M298: 7 | N298: 7.4 | O298: 0 | P298: Hoàn thành tốt nhiệm vụ
A299: =A298+1 -> 294 | B299: Đào Anh Tuấn | C299: " | D299: A3 | E299: 8 | F299: A3 | G299: 8 | H299: B1 | I299: 6 | J299: A4 | K299: 7 | L299: A3 | M299: 8 | N299: 7.4 | O299: 0 | P299: Hoàn thành tốt nhiệm vụ
A300: =A299+1 -> 295 | B300: Lê Thị Thu Thảo | C300: " | D300: B2 | E300: 5 | F300: A4 | G300: 7 | H300: A3 | I300: 8 | J300: A4 | K300: 7 | L300: A4 | M300: 7 | N300: 6.8 | O300: 0 | P300: Hoàn thành tốt nhiệm vụ
A301: =A300+1 -> 296 | B301: Lưu Thị Thúy | C301: " | D301: B1 | E301: 6 | F301: A3 | G301: 8 | H301: A3 | I301: 8 | J301: A4 | K301: 7 | L301: A4 | M301: 7 | N301: 7.2 | O301: 0 | P301: Hoàn thành tốt nhiệm vụ
A302: =A301+1 -> 297 | B302: Võ Thị Kim Thư | C302: " | D302: A3 | E302: 8 | F302: A4 | G302: 7 | H302: A3 | I302: 8 | J302: A3 | K302: 8 | L302: A3 | M302: 8 | N302: 7.8 | O302: 0 | P302: Hoàn thành tốt nhiệm vụ
A303: =A302+1 -> 298 | B303: Trần Thị Ngọc Dung | C303: " | D303: A4 | E303: 7 | F303: A4 | G303: 7 | H303: A4 | I303: 7 | J303: A4 | K303: 7 | L303: A4 | M303: 7 | N303: 7 | O303: 0 | P303: Hoàn thành tốt nhiệm vụ
A304: =A303+1 -> 299 | B304: Nguyễn Mỹ Tiên | C304: " | D304: A4 | E304: 7 | F304: A3 | G304: 8 | H304: A4 | I304: 7 | J304: A4 | K304: 7 | L304: A4 | M304: 7 | N304: 7.2 | O304: 0 | P304: Hoàn thành tốt nhiệm vụ
A305: =A304+1 -> 300 | B305: Cao Xuân Giang | C305: " | D305: A4 | E305: 7 | F305: A4 | G305: 7 | H305: A4 | I305: 7 | J305: A4 | K305: 7 | L305: A4 | M305: 7 | N305: 7 | O305: 0 | P305: Hoàn thành tốt nhiệm vụ
A306: =A305+1 -> 301 | B306: Huỳnh Chí Giỏi | C306: " | D306: A3 | E306: 8 | F306: A4 | G306: 7 | H306: A4 | I306: 7 | J306: A4 | K306: 7 | L306: A4 | M306: 7 | N306: 7.2 | O306: 0 | P306: Hoàn thành tốt nhiệm vụ
A307: =A306+1 -> 302 | B307: Lê Thị Thúy Oanh | C307: " | D307: A4 | E307: 7 | F307: A4 | G307: 7 | H307: A4 | I307: 7 | J307: B1 | K307: 6 | L307: A DN | M307: 7 | N307: 6.8 | O307: 0 | P307: Hoàn thành tốt nhiệm vụ | Q307: Nghỉ hộ sản từ 31/5/2021
A308: =A307+1 -> 303 | B308: Nguyễn Thị Thùy Tiên | C308: " | D308: Nghỉ 1 tháng | F308: A4 | G308: 7 | H308: A4 | I308: 7 | J308: A4 | K308: 7 | L308: A4 | M308: 7 | N308: 7 | O308: 0 | P308: Hoàn thành tốt nhiệm vụ | Q308: Tuyển dụng từ 01/3/2021
A309: =A308+1 -> 304 | B309: Nguyễn Trọng Thạch | C309: Khoa Xây dựng | D309: A4 | E309: 7 | F309: A4 | G309: 7 | H309: A4 | I309: 7 | J309: A4 | K309: 7 | L309: A4 | M309: 7 | N309: 7 | O309: 0 | P309: Hoàn thành tốt nhiệm vụ
A310: =A309+1 -> 305 | B310: Trình Minh Phong | C310: " | D310: A4 | E310: 7 | F310: A3 | G310: 8 | H310: A3 | I310: 8 | J310: A4 | K310: 7 | L310: A4 | M310: 7 | N310: 7.4 | O310: 0 | P310: Hoàn thành tốt nhiệm vụ
A311: =A310+1 -> 306 | B311: Huỳnh Văn Quang | C311: " | D311: A4 | E311: 7 | F311: A4 | G311: 7 | H311: A3 | I311: 8 | J311: A4 | K311: 7 | L311: A4 | M311: 7 | N311: 7.2 | O311: 0 | P311: Hoàn thành tốt nhiệm vụ
...

Sheet Kangatang_88

Sheet Kangatang_89

Sheet Kangatang_90

Sheet Kangatang_91

Sheet Kangatang_92

Sheet Kangatang_93

Sheet Kangatang_94

Sheet Kangatang_95

Sheet Kangatang_96

Sheet Kangatang_97

Sheet Kangatang_98

Sheet Kangatang_99

Sheet Kangatang_100

Sheet Kangatang_101

Sheet Kangatang_102

Sheet Kangatang_103

Sheet Kangatang_104

Sheet Kangatang_105

Sheet Kangatang_106

Sheet Kangatang_107

Sheet Kangatang_108

Sheet Kangatang_109

Sheet Kangatang_110

Sheet Kangatang_111

Sheet Kangatang_112

Sheet Kangatang_113

Sheet Kangatang_114

Sheet Kangatang_115

Sheet Kangatang_116

Sheet Kangatang_117

Sheet Kangatang_118

Sheet Kangatang_119

Sheet Kangatang_120

Sheet Kangatang_121

Sheet Kangatang_122

Sheet Kangatang_123

Sheet Kangatang_124

Sheet Kangatang_125

Sheet Kangatang_126

Sheet Kangatang_127

Sheet Kangatang_128

Sheet Kangatang_129

Sheet Kangatang_130

Sheet Kangatang_131

Sheet Kangatang_132

Sheet Kangatang_133

Sheet Kangatang_134

Sheet Kangatang_135

Sheet Kangatang_136

Sheet Kangatang_137

Sheet Kangatang_138

Sheet Kangatang_139

Sheet Kangatang_140

Sheet Kangatang_141

Sheet Kangatang_142

Sheet Kangatang_143

Sheet Kangatang_144

Sheet Kangatang_145

Sheet Kangatang_146

Sheet Kangatang_147

Sheet Kangatang_148

Sheet Kangatang_149

Sheet Kangatang_150

Sheet Kangatang_151

Sheet Kangatang_152

Sheet Kangatang_153

Sheet Kangatang_207

Sheet Kangatang_208

Sheet Kangatang_209

Sheet Kangatang_210

Sheet Kangatang_211

Sheet Kangatang_212

Sheet Kangatang_213

Sheet Kangatang_214

Sheet Kangatang_215

Sheet Kangatang_216

Sheet Kangatang_217

Sheet Kangatang_218

Sheet Kangatang_219

Sheet Kangatang_220

Sheet Kangatang_221

Sheet Kangatang_222

Sheet Kangatang_223

Sheet Kangatang_224

Sheet Kangatang_225

Sheet Kangatang_226

Sheet Kangatang_227

Sheet Kangatang_228

Sheet Kangatang_229

Sheet Kangatang_230

Sheet Kangatang_231

Sheet Kangatang_232

Sheet Kangatang_233

Sheet Kangatang_234

Sheet Kangatang_235

Sheet Kangatang_236

Sheet Kangatang_237

Sheet Kangatang_238

Sheet Kangatang_239

Sheet Kangatang_240

Sheet Kangatang_241

Sheet Kangatang_242

Sheet Kangatang_243

Sheet Kangatang_244

Sheet Kangatang_245

Sheet Kangatang_246

Sheet Kangatang_247

Sheet Kangatang_248

Sheet Kangatang_249

Sheet Kangatang_250

Sheet Kangatang_251

Sheet Kangatang_252

Sheet Kangatang_253

Sheet Kangatang_254

Sheet Kangatang_255

Sheet Kangatang_256

Sheet Kangatang_257

Sheet Kangatang_258

Sheet Kangatang_259

Sheet Kangatang_260

Sheet Kangatang_261

Sheet Kangatang_262

Sheet Kangatang_263

Sheet Kangatang_264

Sheet Kangatang_265

Sheet Kangatang_266

Sheet Kangatang_267

Sheet Kangatang_268

Sheet Kangatang_269

Sheet Kangatang_270

Sheet Kangatang_271

Sheet Kangatang_272

Sheet Kangatang_273

Sheet Kangatang_274

Sheet Kangatang_275

Sheet Kangatang_276

Sheet Kangatang_277

Sheet Kangatang_278

Sheet Kangatang_279

Sheet Kangatang_280

Sheet Kangatang_281

Sheet Kangatang_282

Sheet Kangatang_283

Sheet Kangatang_284

Sheet Kangatang_285

Sheet Kangatang_286

Sheet Kangatang_287

Sheet Kangatang_288

Sheet Kangatang_289

Sheet Kangatang_290

Sheet Kangatang_291

Sheet Kangatang_292

Sheet Kangatang_293

Sheet Kangatang_294

Sheet Kangatang_295

Sheet Kangatang_296

Sheet Kangatang_297

Sheet Kangatang_298

Sheet Kangatang_299

Sheet Kangatang_300

Sheet Kangatang_301

Sheet Kangatang_302

Sheet Kangatang_303

Sheet Kangatang_304

Sheet Kangatang_305

Sheet Kangatang_306

Sheet Kangatang_307

Sheet Kangatang_308

Sheet Kangatang_309

Sheet Kangatang_310

Sheet Kangatang_311

Sheet Kangatang_312

Sheet Kangatang_313

Sheet Rut gon HKI
A1: TRƯỜNG CAO ĐẲNG LÝ TỰ TRỌNG | O1: CỘNG HÒA XÃ HỘI CHỦ NGHĨA VIỆT NAM
A2: THÀNH PHỐ HỒ CHÍ MINH | O2: Độc lập - Tự do - Hạnh phúc
A3: PHÒNG TỔ CHỨC - HC -TH
A4: BÁO CÁO KẾT QUẢ TỔNG HỢP THI ĐUA HỌC KỲ I NĂM HỌC 2021 - 2022 (Quy đổi điểm trung bình các mức xếp loại thi đua từ tháng 09/2021 đến tháng 01/2022 theo mục 2, Quy định Tiêu chuẩn thi đua số 1375/QyĐ-LTT-TĐ ngày 29/11/2021)
A6: TT | B6: Họ và tên | C6: Mã số E-office | D6: Đơn vị | E6: Tháng 09/2021 | G6: Tháng 10/2021 | I6: Tháng 11/2021 | K6: Tháng 12/2021 | M6: Tháng 01/2022 | O6: Điểm K | P6: Hệ số trừ bậc (C, D, E) | Q6: Xếp loại | R6: Ghi chú | S6: Tháng 02/2022 | U6: Tháng 03/2022 | W6: Tháng 04/2022 | Y6: Tháng 05/2022 | AA6: Tháng 06/2022 | AC6: Tạm xét HK2 | AF6: Xét thi đua HK2
A7: I | B7: BAN GIÁM HIỆU | Q7: =COUNTA($Q$8:$Q$11) -> 4 | R7: =(COUNTIF($Q$8:$Q$11, "Xuất sắc") & " Xuất sắc") -> 4 Xuất sắc
A8: 1 | B8: Phạm Hữu Lộc | C8: 01001001 | E8: =VLOOKUP($C8,'[4]Gui chi Quynh'!$D$7:$F$393,3,0) -> A1 | F8: =VLOOKUP(E8,Sheet1!$B$2:$C$12,2,TRUE) -> 10 | G8: =VLOOKUP($C8,'[5]Gui chi Quynh'!$C$7:$E$391,3,0) -> A1 | H8: =VLOOKUP(G8,Sheet1!$B$2:$C$12,2,TRUE) -> 10 | I8: =VLOOKUP($C8,'[6]Gui chi Quynh'!$C$7:$E$389,3,0) -> A1 | J8: =VLOOKUP(I8,Sheet1!$B$2:$C$12,2,TRUE) -> 10 | K8: =VLOOKUP($C8,'[7]Gui chi Quynh'!$C$7:$E$389,3,0) -> A1 | L8: =VLOOKUP(K8,Sheet1!$B$2:$C$12,2,TRUE) -> 10 | M8: =VLOOKUP($C8,'[8]Gui chi Quynh'!$C$7:$E$388,3,0) -> A1 | N8: =VLOOKUP(M8,Sheet1!$B$2:$C$12,2,TRUE) -> 10 | O8: =ROUND(AVERAGE(F8,H8,J8,L8,N8),2) -> 10 | P8: =COUNTIF(D8:M8,"C*")*1+COUNTIF(D8:M8,"D")*2+COUNTIF(D8:M8,"E")*3 -> 0 | Q8: =IF(P8>=3,"Không hoàn thành",IF(AND($O8>=8,$O8<=10,P8=0),"Xuất sắc",IF(AND($O8>=8,$O8<=10,P8=1),"Tốt",IF(AND($O8>=8,$O8<=10,P8=2),"Hoàn thành",IF(AND($O8>6,$O8<8,P8<=1),"Tốt",IF(AND($O8>6,$O8<8,P8=2),"Hoàn thành",IF(AND($O8>=5,$O8<=6,P8<=2),"Hoàn thành",IF(AND($O8<5,P8>3),"Không hoàn thành","")))))))) -> Xuất sắc | T8: =VLOOKUP(S8,Sheet1!$B$2:$C$12,2,TRUE) -> #N/A | V8: =VLOOKUP(U8,Sheet1!$B$2:$C$12,2,TRUE) -> #N/A | X8: =VLOOKUP(W8,Sheet1!$B$2:$C$12,2,TRUE) -> #N/A | Z8: =VLOOKUP(Y8,Sheet1!$B$2:$C$12,2,TRUE) -> #N/A | AB8: =VLOOKUP(AA8,Sheet1!$B$2:$C$12,2,TRUE) -> #N/A | AC8: =ROUND(AVERAGE(T8,V8,X8,Z8),2) -> #N/A | AD8: =COUNTIF(S8:AA8,"C*")*1+COUNTIF(S8:AA8,"D")*2+COUNTIF(S8:AA8,"E")*3 -> 0 | AE8: =IF(AD8>=3,"Không hoàn thành",IF(AND($AC8>=8,$AC8<=10,AD8=0),"Xuất sắc",IF(AND($AC8>=8,$AC8<=10,AD8=1),"Tốt",IF(AND($AC8>=8,$AC8<=10,AD8=2),"Hoàn thành",IF(AND($AC8>6,$AC8<8,AD8<=1),"Tốt",IF(AND($AC8>6,$AC8<8,AD8=2),"Hoàn thành",IF(AND($AC8>=5,$AC8<=6,AD8<=2),"Hoàn thành",IF(AND($AC8<5,AD8>3),"Không hoàn thành","")))))))) -> #N/A | AF8: =ROUND(AVERAGE(T8,V8,X8,Z8,AB8),2) -> #N/A | AG8: =COUNTIF(S8:AB8,"C*")*1+COUNTIF(S8:AB8,"D")*2+COUNTIF(S8:AB8,"E")*3 -> 0 | AH8: =IF(AG8>=3,"Không hoàn thành",IF(AND($AF8>=8,$AF8<=10,AG8=0),"Xuất sắc",IF(AND($AF8>=8,$AF8<=10,AG8=1),"Tốt",IF(AND($AF8>=8,$AF8<=10,AG8=2),"Hoàn thành",IF(AND($AF8>6,$AF8<8,AG8<=1),"Tốt",IF(AND($AF8>6,$AF8<8,AG8=2),"Hoàn thành",IF(AND($AF8>=5,$AF8<=6,AG8<=2),"Hoàn thành",IF(AND($AF8<5,AG8>3),"Không hoàn thành","")))))))) -> #N/A | AJ8: =ROUND(AVERAGE(O8,AC8),2) -> #N/A | AK8: =COUNTIF(E8:Z8,"D")*1 -> 0 | AL8: =IF($AJ8>=8,"Xuất sắc",IF($AJ8>6,"Tốt",IF($AJ8>=5,"Hoàn thành","Không hoàn thành"))) -> #N/A | AM8: =IF($AK8=1,"Không đạt LĐTT",IF(OR($AL8= "Xuất sắc", $AL8="Tốt"),"Đạt LĐTT","Không đạt LĐTT")) -> #N/A
A9: =A8+1 -> 2 | B9: Đinh Hồng Minh | C9: 01002001 | E9: =VLOOKUP($C9,'[4]Gui chi Quynh'!$D$7:$F$393,3,0) -> A1 | F9: =VLOOKUP(E9,Sheet1!$B$2:$C$12,2,TRUE) -> 10 | G9: =VLOOKUP($C9,'[5]Gui chi Quynh'!$C$7:$E$391,3,0) -> A1 | H9: =VLOOKUP(G9,Sheet1!$B$2:$C$12,2,TRUE) -> 10 | I9: =VLOOKUP($C9,'[6]Gui chi Quynh'!$C$7:$E$389,3,0) -> A1 | J9: =VLOOKUP(I9,Sheet1!$B$2:$C$12,2,TRUE) -> 10 | K9: =VLOOKUP($C9,'[7]Gui chi Quynh'!$C$7:$E$389,3,0) -> A1 | L9: =VLOOKUP(K9,Sheet1!$B$2:$C$12,2,TRUE) -> 10 | M9: =VLOOKUP($C9,'[8]Gui chi Quynh'!$C$7:$E$388,3,0) -> A1 | N9: =VLOOKUP(M9,Sheet1!$B$2:$C$12,2,TRUE) -> 10 | O9: =ROUND(AVERAGE(F9,H9,J9,L9,N9),2) -> 10 | P9: =COUNTIF(D9:M9,"C*")*1+COUNTIF(D9:M9,"D")*2+COUNTIF(D9:M9,"E")*3 -> 0 | Q9: =IF(P9>=3,"Không hoàn thành",IF(AND($O9>=8,$O9<=10,P9=0),"Xuất sắc",IF(AND($O9>=8,$O9<=10,P9=1),"Tốt",IF(AND($O9>=8,$O9<=10,P9=2),"Hoàn thành",IF(AND($O9>6,$O9<8,P9<=1),"Tốt",IF(AND($O9>6,$O9<8,P9=2),"Hoàn thành",IF(AND($O9>=5,$O9<=6,P9<=2),"Hoàn thành",IF(AND($O9<5,P9>3),"Không hoàn thành","")))))))) -> Xuất sắc | T9: =VLOOKUP(S9,Sheet1!$B$2:$C$12,2,TRUE) -> #N/A | V9: =VLOOKUP(U9,Sheet1!$B$2:$C$12,2,TRUE) -> #N/A | X9: =VLOOKUP(W9,Sheet1!$B$2:$C$12,2,TRUE) -> #N/A | Z9: =VLOOKUP(Y9,Sheet1!$B$2:$C$12,2,TRUE) -> #N/A | AB9: =VLOOKUP(AA9,Sheet1!$B$2:$C$12,2,TRUE) -> #N/A | AC9: =ROUND(AVERAGE(T9,V9,X9,Z9),2) -> #N/A | AD9: =COUNTIF(S9:AA9,"C*")*1+COUNTIF(S9:AA9,"D")*2+COUNTIF(S9:AA9,"E")*3 -> 0 | AE9: =IF(AD9>=3,"Không hoàn thành",IF(AND($AC9>=8,$AC9<=10,AD9=0),"Xuất sắc",IF(AND($AC9>=8,$AC9<=10,AD9=1),"Tốt",IF(AND($AC9>=8,$AC9<=10,AD9=2),"Hoàn thành",IF(AND($AC9>6,$AC9<8,AD9<=1),"Tốt",IF(AND($AC9>6,$AC9<8,AD9=2),"Hoàn thành",IF(AND($AC9>=5,$AC9<=6,AD9<=2),"Hoàn thành",IF(AND($AC9<5,AD9>3),"Không hoàn thành","")))))))) -> #N/A | AF9: =ROUND(AVERAGE(T9,V9,X9,Z9,AB9),2) -> #N/A | AG9: =COUNTIF(S9:AB9,"C*")*1+COUNTIF(S9:AB9,"D")*2+COUNTIF(S9:AB9,"E")*3 -> 0 | AH9: =IF(AG9>=3,"Không hoàn thành",IF(AND($AF9>=8,$AF9<=10,AG9=0),"Xuất sắc",IF(AND($AF9>=8,$AF9<=10,AG9=1),"Tốt",IF(AND($AF9>=8,$AF9<=10,AG9=2),"Hoàn thành",IF(AND($AF9>6,$AF9<8,AG9<=1),"Tốt",IF(AND($AF9>6,$AF9<8,AG9=2),"Hoàn thành",IF(AND($AF9>=5,$AF9<=6,AG9<=2),"Hoàn thành",IF(AND($AF9<5,AG9>3),"Không hoàn thành","")))))))) -> #N/A | AJ9: =ROUND(AVERAGE(O9,AC9),2) -> #N/A | AK9: =COUNTIF(E9:Z9,"D")*1 -> 0 | AL9: =IF($AJ9>=8,"Xuất sắc",IF($AJ9>6,"Tốt",IF($AJ9>=5,"Hoàn thành","Không hoàn thành"))) -> #N/A | AM9: =IF($AK9=1,"Không đạt LĐTT",IF(OR($AL9= "Xuất sắc", $AL9="Tốt"),"Đạt LĐTT","Không đạt LĐTT")) -> #N/A
A10: =A9+1 -> 3 | B10: Đinh Văn Đệ | C10: 01001006 | E10: =VLOOKUP($C10,'[4]Gui chi Quynh'!$D$7:$F$393,3,0) -> A1 | F10: =VLOOKUP(E10,Sheet1!$B$2:$C$12,2,TRUE) -> 10 | G10: =VLOOKUP($C10,'[5]Gui chi Quynh'!$C$7:$E$391,3,0) -> A1 | H10: =VLOOKUP(G10,Sheet1!$B$2:$C$12,2,TRUE) -> 10 | I10: =VLOOKUP($C10,'[6]Gui chi Quynh'!$C$7:$E$389,3,0) -> A1 | J10: =VLOOKUP(I10,Sheet1!$B$2:$C$12,2,TRUE) -> 10 | K10: =VLOOKUP($C10,'[7]Gui chi Quynh'!$C$7:$E$389,3,0) -> A1 | L10: =VLOOKUP(K10,Sheet1!$B$2:$C$12,2,TRUE) -> 10 | M10: =VLOOKUP($C10,'[8]Gui chi Quynh'!$C$7:$E$388,3,0) -> A1 | N10: =VLOOKUP(M10,Sheet1!$B$2:$C$12,2,TRUE) -> 10 | O10: =ROUND(AVERAGE(F10,H10,J10,L10,N10),2) -> 10 | P10: =COUNTIF(D10:M10,"C*")*1+COUNTIF(D10:M10,"D")*2+COUNTIF(D10:M10,"E")*3 -> 0 | Q10: =IF(P10>=3,"Không hoàn thành",IF(AND($O10>=8,$O10<=10,P10=0),"Xuất sắc",IF(AND($O10>=8,$O10<=10,P10=1),"Tốt",IF(AND($O10>=8,$O10<=10,P10=2),"Hoàn thành",IF(AND($O10>6,$O10<8,P10<=1),"Tốt",IF(AND($O10>6,$O10<8,P10=2),"Hoàn thành",IF(AND($O10>=5,$O10<=6,P10<=2),"Hoàn thành",IF(AND($O10<5,P10>3),"Không hoàn thành","")))))))) -> Xuất sắc | T10: =VLOOKUP(S10,Sheet1!$B$2:$C$12,2,TRUE) -> #N/A | V10: =VLOOKUP(U10,Sheet1!$B$2:$C$12,2,TRUE) -> #N/A | X10: =VLOOKUP(W10,Sheet1!$B$2:$C$12,2,TRUE) -> #N/A | Z10: =VLOOKUP(Y10,Sheet1!$B$2:$C$12,2,TRUE) -> #N/A | AB10: =VLOOKUP(AA10,Sheet1!$B$2:$C$12,2,TRUE) -> #N/A | AC10: =ROUND(AVERAGE(T10,V10,X10,Z10),2) -> #N/A | AD10: =COUNTIF(S10:AA10,"C*")*1+COUNTIF(S10:AA10,"D")*2+COUNTIF(S10:AA10,"E")*3 -> 0 | AE10: =IF(AD10>=3,"Không hoàn thành",IF(AND($AC10>=8,$AC10<=10,AD10=0),"Xuất sắc",IF(AND($AC10>=8,$AC10<=10,AD10=1),"Tốt",IF(AND($AC10>=8,$AC10<=10,AD10=2),"Hoàn thành",IF(AND($AC10>6,$AC10<8,AD10<=1),"Tốt",IF(AND($AC10>6,$AC10<8,AD10=2),"Hoàn thành",IF(AND($AC10>=5,$AC10<=6,AD10<=2),"Hoàn thành",IF(AND($AC10<5,AD10>3),"Không hoàn thành","")))))))) -> #N/A | AF10: =ROUND(AVERAGE(T10,V10,X10,Z10,AB10),2) -> #N/A | AG10: =COUNTIF(S10:AB10,"C*")*1+COUNTIF(S10:AB10,"D")*2+COUNTIF(S10:AB10,"E")*3 -> 0 | AH10: =IF(AG10>=3,"Không hoàn thành",IF(AND($AF10>=8,$AF10<=10,AG10=0),"Xuất sắc",IF(AND($AF10>=8,$AF10<=10,AG10=1),"Tốt",IF(AND($AF10>=8,$AF10<=10,AG10=2),"Hoàn thành",IF(AND($AF10>6,$AF10<8,AG10<=1),"Tốt",IF(AND($AF10>6,$AF10<8,AG10=2),"Hoàn thành",IF(AND($AF10>=5,$AF10<=6,AG10<=2),"Hoàn thành",IF(AND($AF10<5,AG10>3),"Không hoàn thành","")))))))) -> #N/A | AJ10: =ROUND(AVERAGE(O10,AC10),2) -> #N/A | AK10: =COUNTIF(E10:Z10,"D")*1 -> 0 | AL10: =IF($AJ10>=8,"Xuất sắc",IF($AJ10>6,"Tốt",IF($AJ10>=5,"Hoàn thành","Không hoàn thành"))) -> #N/A | AM10: =IF($AK10=1,"Không đạt LĐTT",IF(OR($AL10= "Xuất sắc", $AL10="Tốt"),"Đạt LĐTT","Không đạt LĐTT")) -> #N/A
A11: =A10+1 -> 4 | B11: Châu Văn Bảo | C11: 01014037 | E11: =VLOOKUP($C11,'[4]Gui chi Quynh'!$D$7:$F$393,3,0) -> A1 | F11: =VLOOKUP(E11,Sheet1!$B$2:$C$12,2,TRUE) -> 10 | G11: =VLOOKUP($C11,'[5]Gui chi Quynh'!$C$7:$E$391,3,0) -> A1 | H11: =VLOOKUP(G11,Sheet1!$B$2:$C$12,2,TRUE) -> 10 | I11: =VLOOKUP($C11,'[6]Gui chi Quynh'!$C$7:$E$389,3,0) -> A1 | J11: =VLOOKUP(I11,Sheet1!$B$2:$C$12,2,TRUE) -> 10 | K11: =VLOOKUP($C11,'[7]Gui chi Quynh'!$C$7:$E$389,3,0) -> A1 | L11: =VLOOKUP(K11,Sheet1!$B$2:$C$12,2,TRUE) -> 10 | M11: =VLOOKUP($C11,'[8]Gui chi Quynh'!$C$7:$E$388,3,0) -> A1 | N11: =VLOOKUP(M11,Sheet1!$B$2:$C$12,2,TRUE) -> 10 | O11: =ROUND(AVERAGE(F11,H11,J11,L11,N11),2) -> 10 | P11: =COUNTIF(D11:M11,"C*")*1+COUNTIF(D11:M11,"D")*2+COUNTIF(D11:M11,"E")*3 -> 0 | Q11: =IF(P11>=3,"Không hoàn thành",IF(AND($O11>=8,$O11<=10,P11=0),"Xuất sắc",IF(AND($O11>=8,$O11<=10,P11=1),"Tốt",IF(AND($O11>=8,$O11<=10,P11=2),"Hoàn thành",IF(AND($O11>6,$O11<8,P11<=1),"Tốt",IF(AND($O11>6,$O11<8,P11=2),"Hoàn thành",IF(AND($O11>=5,$O11<=6,P11<=2),"Hoàn thành",IF(AND($O11<5,P11>3),"Không hoàn thành","")))))))) -> Xuất sắc | T11: =VLOOKUP(S11,Sheet1!$B$2:$C$12,2,TRUE) -> #N/A | V11: =VLOOKUP(U11,Sheet1!$B$2:$C$12,2,TRUE) -> #N/A | X11: =VLOOKUP(W11,Sheet1!$B$2:$C$12,2,TRUE) -> #N/A | Z11: =VLOOKUP(Y11,Sheet1!$B$2:$C$12,2,TRUE) -> #N/A | AB11: =VLOOKUP(AA11,Sheet1!$B$2:$C$12,2,TRUE) -> #N/A | AC11: =ROUND(AVERAGE(T11,V11,X11,Z11),2) -> #N/A | AD11: =COUNTIF(S11:AA11,"C*")*1+COUNTIF(S11:AA11,"D")*2+COUNTIF(S11:AA11,"E")*3 -> 0 | AE11: =IF(AD11>=3,"Không hoàn thành",IF(AND($AC11>=8,$AC11<=10,AD11=0),"Xuất sắc",IF(AND($AC11>=8,$AC11<=10,AD11=1),"Tốt",IF(AND($AC11>=8,$AC11<=10,AD11=2),"Hoàn thành",IF(AND($AC11>6,$AC11<8,AD11<=1),"Tốt",IF(AND($AC11>6,$AC11<8,AD11=2),"Hoàn thành",IF(AND($AC11>=5,$AC11<=6,AD11<=2),"Hoàn thành",IF(AND($AC11<5,AD11>3),"Không hoàn thành","")))))))) -> #N/A | AF11: =ROUND(AVERAGE(T11,V11,X11,Z11,AB11),2) -> #N/A | AG11: =COUNTIF(S11:AB11,"C*")*1+COUNTIF(S11:AB11,"D")*2+COUNTIF(S11:AB11,"E")*3 -> 0 | AH11: =IF(AG11>=3,"Không hoàn thành",IF(AND($AF11>=8,$AF11<=10,AG11=0),"Xuất sắc",IF(AND($AF11>=8,$AF11<=10,AG11=1),"Tốt",IF(AND($AF11>=8,$AF11<=10,AG11=2),"Hoàn thành",IF(AND($AF11>6,$AF11<8,AG11<=1),"Tốt",IF(AND($AF11>6,$AF11<8,AG11=2),"Hoàn thành",IF(AND($AF11>=5,$AF11<=6,AG11<=2),"Hoàn thành",IF(AND($AF11<5,AG11>3),"Không hoàn thành","")))))))) -> #N/A | AJ11: =ROUND(AVERAGE(O11,AC11),2) -> #N/A | AK11: =COUNTIF(E11:Z11,"D")*1 -> 0 | AL11: =IF($AJ11>=8,"Xuất sắc",IF($AJ11>6,"Tốt",IF($AJ11>=5,"Hoàn thành","Không hoàn thành"))) -> #N/A | AM11: =IF($AK11=1,"Không đạt LĐTT",IF(OR($AL11= "Xuất sắc", $AL11="Tốt"),"Đạt LĐTT","Không đạt LĐTT")) -> #N/A
A12: II | B12: PHÒNG KẾ HOẠCH - TÀI CHÍNH | Q12: =$Q$13+$Q$20 -> 9 | R12: =(COUNTIF($Q$14:$Q$23, "Xuất sắc") & " Xuất sắc") -> 9 Xuất sắc
A13: a | B13: Viên chức | Q13: =COUNTA($Q$14:$Q$19) -> 6 | R13: =(COUNTIF($Q$14:$Q$19, "Xuất sắc") & " Xuất sắc") -> 6 Xuất sắc | T13: =VLOOKUP(S13,Sheet1!$B$2:$C$12,2,TRUE) -> #N/A | V13: =VLOOKUP(U13,Sheet1!$B$2:$C$12,2,TRUE) -> #N/A | X13: =VLOOKUP(W13,Sheet1!$B$2:$C$12,2,TRUE) -> #N/A | Z13: =VLOOKUP(Y13,Sheet1!$B$2:$C$12,2,TRUE) -> #N/A | AB13: =VLOOKUP(AA13,Sheet1!$B$2:$C$12,2,TRUE) -> #N/A | AC13: =ROUND(AVERAGE(T13,V13,X13,Z13),2) -> #N/A | AD13: =COUNTIF(S13:AA13,"C*")*1+COUNTIF(S13:AA13,"D")*2+COUNTIF(S13:AA13,"E")*3 -> 0 | AE13: =IF(AD13>=3,"Không hoàn thành",IF(AND($AC13>=8,$AC13<=10,AD13=0),"Xuất sắc",IF(AND($AC13>=8,$AC13<=10,AD13=1),"Tốt",IF(AND($AC13>=8,$AC13<=10,AD13=2),"Hoàn thành",IF(AND($AC13>6,$AC13<8,AD13<=1),"Tốt",IF(AND($AC13>6,$AC13<8,AD13=2),"Hoàn thành",IF(AND($AC13>=5,$AC13<=6,AD13<=2),"Hoàn thành",IF(AND($AC13<5,AD13>3),"Không hoàn thành","")))))))) -> #N/A | AF13: =ROUND(AVERAGE(T13,V13,X13,Z13,AB13),2) -> #N/A | AG13: =COUNTIF(S13:AB13,"C*")*1+COUNTIF(S13:AB13,"D")*2+COUNTIF(S13:AB13,"E")*3 -> 0 | AH13: =IF(AG13>=3,"Không hoàn thành",IF(AND($AF13>=8,$AF13<=10,AG13=0),"Xuất sắc",IF(AND($AF13>=8,$AF13<=10,AG13=1),"Tốt",IF(AND($AF13>=8,$AF13<=10,AG13=2),"Hoàn thành",IF(AND($AF13>6,$AF13<8,AG13<=1),"Tốt",IF(AND($AF13>6,$AF13<8,AG13=2),"Hoàn thành",IF(AND($AF13>=5,$AF13<=6,AG13<=2),"Hoàn thành",IF(AND($AF13<5,AG13>3),"Không hoàn thành","")))))))) -> #N/A | AJ13: =ROUND(AVERAGE(O13,AC13),2) -> #N/A | AK13: =COUNTIF(E13:Z13,"D")*1 -> 0 | AL13: =IF($AJ13>=8,"Xuất sắc",IF($AJ13>6,"Tốt",IF($AJ13>=5,"Hoàn thành","Không hoàn thành"))) -> #N/A | AM13: =IF($AK13=1,"Không đạt LĐTT",IF(OR($AL13= "Xuất sắc", $AL13="Tốt"),"Đạt LĐTT","Không đạt LĐTT")) -> #N/A
A14: 5 | B14: Nguyễn Kính | C14: 01002024 | D14: Phòng Kế hoạch - TC | E14: =VLOOKUP($C14,'[4]Gui chi Quynh'!$D$7:$F$393,3,0) -> A1 | F14: =VLOOKUP(E14,Sheet1!$B$2:$C$12,2,TRUE) -> 10 | G14: =VLOOKUP($C14,'[5]Gui chi Quynh'!$C$7:$E$391,3,0) -> A1 | H14: =VLOOKUP(G14,Sheet1!$B$2:$C$12,2,TRUE) -> 10 | I14: =VLOOKUP($C14,'[6]Gui chi Quynh'!$C$7:$E$389,3,0) -> A1 | J14: =VLOOKUP(I14,Sheet1!$B$2:$C$12,2,TRUE) -> 10 | K14: =VLOOKUP($C14,'[7]Gui chi Quynh'!$C$7:$E$389,3,0) -> A1 | L14: =VLOOKUP(K14,Sheet1!$B$2:$C$12,2,TRUE) -> 10 | M14: =VLOOKUP($C14,'[8]Gui chi Quynh'!$C$7:$E$388,3,0) -> A1 | N14: =VLOOKUP(M14,Sheet1!$B$2:$C$12,2,TRUE) -> 10 | O14: =ROUND(AVERAGE(F14,H14,J14,L14,N14),2) -> 10 | P14: =COUNTIF(D14:M14,"C*")*1+COUNTIF(D14:M14,"D")*2+COUNTIF(D14:M14,"E")*3 -> 0 | Q14: =IF(P14>=3,"Không hoàn thành",IF(AND($O14>=8,$O14<=10,P14=0),"Xuất sắc",IF(AND($O14>=8,$O14<=10,P14=1),"Tốt",IF(AND($O14>=8,$O14<=10,P14=2),"Hoàn thành",IF(AND($O14>6,$O14<8,P14<=1),"Tốt",IF(AND($O14>6,$O14<8,P14=2),"Hoàn thành",IF(AND($O14>=5,$O14<=6,P14<=2),"Hoàn thành",IF(AND($O14<5,P14>3),"Không hoàn thành","")))))))) -> Xuất sắc | T14: =VLOOKUP(S14,Sheet1!$B$2:$C$12,2,TRUE) -> #N/A | V14: =VLOOKUP(U14,Sheet1!$B$2:$C$12,2,TRUE) -> #N/A | X14: =VLOOKUP(W14,Sheet1!$B$2:$C$12,2,TRUE) -> #N/A | Z14: =VLOOKUP(Y14,Sheet1!$B$2:$C$12,2,TRUE) -> #N/A | AB14: =VLOOKUP(AA14,Sheet1!$B$2:$C$12,2,TRUE) -> #N/A | AC14: =ROUND(AVERAGE(T14,V14,X14,Z14),2) -> #N/A | AD14: =COUNTIF(S14:AA14,"C*")*1+COUNTIF(S14:AA14,"D")*2+COUNTIF(S14:AA14,"E")*3 -> 0 | AE14: =IF(AD14>=3,"Không hoàn thành",IF(AND($AC14>=8,$AC14<=10,AD14=0),"Xuất sắc",IF(AND($AC14>=8,$AC14<=10,AD14=1),"Tốt",IF(AND($AC14>=8,$AC14<=10,AD14=2),"Hoàn thành",IF(AND($AC14>6,$AC14<8,AD14<=1),"Tốt",IF(AND($AC14>6,$AC14<8,AD14=2),"Hoàn thành",IF(AND($AC14>=5,$AC14<=6,AD14<=2),"Hoàn thành",IF(AND($AC14<5,AD14>3),"Không hoàn thành","")))))))) -> #N/A | AF14: =ROUND(AVERAGE(T14,V14,X14,Z14,AB14),2) -> #N/A | AG14: =COUNTIF(S14:AB14,"C*")*1+COUNTIF(S14:AB14,"D")*2+COUNTIF(S14:AB14,"E")*3 -> 0 | AH14: =IF(AG14>=3,"Không hoàn thành",IF(AND($AF14>=8,$AF14<=10,AG14=0),"Xuất sắc",IF(AND($AF14>=8,$AF14<=10,AG14=1),"Tốt",IF(AND($AF14>=8,$AF14<=10,AG14=2),"Hoàn thành",IF(AND($AF14>6,$AF14<8,AG14<=1),"Tốt",IF(AND($AF14>6,$AF14<8,AG14=2),"Hoàn thành",IF(AND($AF14>=5,$AF14<=6,AG14<=2),"Hoàn thành",IF(AND($AF14<5,AG14>3),"Không hoàn thành","")))))))) -> #N/A | AJ14: =ROUND(AVERAGE(O14,AC14),2) -> #N/A | AK14: =COUNTIF(E14:Z14,"D")*1 -> 0 | AL14: =IF($AJ14>=8,"Xuất sắc",IF($AJ14>6,"Tốt",IF($AJ14>=5,"Hoàn thành","Không hoàn thành"))) -> #N/A | AM14: =IF($AK14=1,"Không đạt LĐTT",IF(OR($AL14= "Xuất sắc", $AL14="Tốt"),"Đạt LĐTT","Không đạt LĐTT")) -> #N/A
A15: =A14+1 -> 6 | B15: Nguyễn Thị Kim Dung | C15: 01003002 | E15: =VLOOKUP($C15,'[4]Gui chi Quynh'!$D$7:$F$393,3,0) -> A2 | F15: =VLOOKUP(E15,Sheet1!$B$2:$C$12,2,TRUE) -> 9 | G15: =VLOOKUP($C15,'[5]Gui chi Quynh'!$C$7:$E$391,3,0) -> A2 | H15: =VLOOKUP(G15,Sheet1!$B$2:$C$12,2,TRUE) -> 9 | I15: =VLOOKUP($C15,'[6]Gui chi Quynh'!$C$7:$E$389,3,0) -> A2 | J15: =VLOOKUP(I15,Sheet1!$B$2:$C$12,2,TRUE) -> 9 | K15: =VLOOKUP($C15,'[7]Gui chi Quynh'!$C$7:$E$389,3,0) -> A2 | L15: =VLOOKUP(K15,Sheet1!$B$2:$C$12,2,TRUE) -> 9 | M15: =VLOOKUP($C15,'[8]Gui chi Quynh'!$C$7:$E$388,3,0) -> A2 | N15: =VLOOKUP(M15,Sheet1!$B$2:$C$12,2,TRUE) -> 9 | O15: =ROUND(AVERAGE(F15,H15,J15,L15,N15),2) -> 9 | P15: =COUNTIF(D15:M15,"C*")*1+COUNTIF(D15:M15,"D")*2+COUNTIF(D15:M15,"E")*3 -> 0 | Q15: =IF(P15>=3,"Không hoàn thành",IF(AND($O15>=8,$O15<=10,P15=0),"Xuất sắc",IF(AND($O15>=8,$O15<=10,P15=1),"Tốt",IF(AND($O15>=8,$O15<=10,P15=2),"Hoàn thành",IF(AND($O15>6,$O15<8,P15<=1),"Tốt",IF(AND($O15>6,$O15<8,P15=2),"Hoàn thành",IF(AND($O15>=5,$O15<=6,P15<=2),"Hoàn thành",IF(AND($O15<5,P15>3),"Không hoàn thành","")))))))) -> Xuất sắc | T15: =VLOOKUP(S15,Sheet1!$B$2:$C$12,2,TRUE) -> #N/A | V15: =VLOOKUP(U15,Sheet1!$B$2:$C$12,2,TRUE) -> #N/A | X15: =VLOOKUP(W15,Sheet1!$B$2:$C$12,2,TRUE) -> #N/A | Z15: =VLOOKUP(Y15,Sheet1!$B$2:$C$12,2,TRUE) -> #N/A | AB15: =VLOOKUP(AA15,Sheet1!$B$2:$C$12,2,TRUE) -> #N/A | AC15: =ROUND(AVERAGE(T15,V15,X15,Z15),2) -> #N/A | AD15: =COUNTIF(S15:AA15,"C*")*1+COUNTIF(S15:AA15,"D")*2+COUNTIF(S15:AA15,"E")*3 -> 0 | AE15: =IF(AD15>=3,"Không hoàn thành",IF(AND($AC15>=8,$AC15<=10,AD15=0),"Xuất sắc",IF(AND($AC15>=8,$AC15<=10,AD15=1),"Tốt",IF(AND($AC15>=8,$AC15<=10,AD15=2),"Hoàn thành",IF(AND($AC15>6,$AC15<8,AD15<=1),"Tốt",IF(AND($AC15>6,$AC15<8,AD15=2),"Hoàn thành",IF(AND($AC15>=5,$AC15<=6,AD15<=2),"Hoàn thành",IF(AND($AC15<5,AD15>3),"Không hoàn thành","")))))))) -> #N/A | AF15: =ROUND(AVERAGE(T15,V15,X15,Z15,AB15),2) -> #N/A | AG15: =COUNTIF(S15:AB15,"C*")*1+COUNTIF(S15:AB15,"D")*2+COUNTIF(S15:AB15,"E")*3 -> 0 | AH15: =IF(AG15>=3,"Không hoàn thành",IF(AND($AF15>=8,$AF15<=10,AG15=0),"Xuất sắc",IF(AND($AF15>=8,$AF15<=10,AG15=1),"Tốt",IF(AND($AF15>=8,$AF15<=10,AG15=2),"Hoàn thành",IF(AND($AF15>6,$AF15<8,AG15<=1),"Tốt",IF(AND($AF15>6,$AF15<8,AG15=2),"Hoàn thành",IF(AND($AF15>=5,$AF15<=6,AG15<=2),"Hoàn thành",IF(AND($AF15<5,AG15>3),"Không hoàn thành","")))))))) -> #N/A | AJ15: =ROUND(AVERAGE(O15,AC15),2) -> #N/A | AK15: =COUNTIF(E15:Z15,"D")*1 -> 0 | AL15: =IF($AJ15>=8,"Xuất sắc",IF($AJ15>6,"Tốt",IF($AJ15>=5,"Hoàn thành","Không hoàn thành"))) -> #N/A | AM15: =IF($AK15=1,"Không đạt LĐTT",IF(OR($AL15= "Xuất sắc", $AL15="Tốt"),"Đạt LĐTT","Không đạt LĐTT")) -> #N/A
A16: =A15+1 -> 7 | B16: Hồng Mộng Tuyết Dung | C16: 01003009 | E16: =VLOOKUP($C16,'[4]Gui chi Quynh'!$D$7:$F$393,3,0) -> A2 | F16: =VLOOKUP(E16,Sheet1!$B$2:$C$12,2,TRUE) -> 9 | G16: =VLOOKUP($C16,'[5]Gui chi Quynh'!$C$7:$E$391,3,0) -> A2 | H16: =VLOOKUP(G16,Sheet1!$B$2:$C$12,2,TRUE) -> 9 | I16: =VLOOKUP($C16,'[6]Gui chi Quynh'!$C$7:$E$389,3,0) -> A1 | J16: =VLOOKUP(I16,Sheet1!$B$2:$C$12,2,TRUE) -> 10 | K16: =VLOOKUP($C16,'[7]Gui chi Quynh'!$C$7:$E$389,3,0) -> A2 | L16: =VLOOKUP(K16,Sheet1!$B$2:$C$12,2,TRUE) -> 9 | M16: =VLOOKUP($C16,'[8]Gui chi Quynh'!$C$7:$E$388,3,0) -> A2 | N16: =VLOOKUP(M16,Sheet1!$B$2:$C$12,2,TRUE) -> 9 | O16: =ROUND(AVERAGE(F16,H16,J16,L16,N16),2) -> 9.2 | P16: =COUNTIF(D16:M16,"C*")*1+COUNTIF(D16:M16,"D")*2+COUNTIF(D16:M16,"E")*3 -> 0 | Q16: =IF(P16>=3,"Không hoàn thành",IF(AND($O16>=8,$O16<=10,P16=0),"Xuất sắc",IF(AND($O16>=8,$O16<=10,P16=1),"Tốt",IF(AND($O16>=8,$O16<=10,P16=2),"Hoàn thành",IF(AND($O16>6,$O16<8,P16<=1),"Tốt",IF(AND($O16>6,$O16<8,P16=2),"Hoàn thành",IF(AND($O16>=5,$O16<=6,P16<=2),"Hoàn thành",IF(AND($O16<5,P16>3),"Không hoàn thành","")))))))) -> Xuất sắc | T16: =VLOOKUP(S16,Sheet1!$B$2:$C$12,2,TRUE) -> #N/A | V16: =VLOOKUP(U16,Sheet1!$B$2:$C$12,2,TRUE) -> #N/A | X16: =VLOOKUP(W16,Sheet1!$B$2:$C$12,2,TRUE) -> #N/A | Z16: =VLOOKUP(Y16,Sheet1!$B$2:$C$12,2,TRUE) -> #N/A | AB16: =VLOOKUP(AA16,Sheet1!$B$2:$C$12,2,TRUE) -> #N/A | AC16: =ROUND(AVERAGE(T16,V16,X16,Z16),2) -> #N/A | AD16: =COUNTIF(S16:AA16,"C*")*1+COUNTIF(S16:AA16,"D")*2+COUNTIF(S16:AA16,"E")*3 -> 0 | AE16: =IF(AD16>=3,"Không hoàn thành",IF(AND($AC16>=8,$AC16<=10,AD16=0),"Xuất sắc",IF(AND($AC16>=8,$AC16<=10,AD16=1),"Tốt",IF(AND($AC16>=8,$AC16<=10,AD16=2),"Hoàn thành",IF(AND($AC16>6,$AC16<8,AD16<=1),"Tốt",IF(AND($AC16>6,$AC16<8,AD16=2),"Hoàn thành",IF(AND($AC16>=5,$AC16<=6,AD16<=2),"Hoàn thành",IF(AND($AC16<5,AD16>3),"Không hoàn thành","")))))))) -> #N/A | AF16: =ROUND(AVERAGE(T16,V16,X16,Z16,AB16),2) -> #N/A | AG16: =COUNTIF(S16:AB16,"C*")*1+COUNTIF(S16:AB16,"D")*2+COUNTIF(S16:AB16,"E")*3 -> 0 | AH16: =IF(AG16>=3,"Không hoàn thành",IF(AND($AF16>=8,$AF16<=10,AG16=0),"Xuất sắc",IF(AND($AF16>=8,$AF16<=10,AG16=1),"Tốt",IF(AND($AF16>=8,$AF16<=10,AG16=2),"Hoàn thành",IF(AND($AF16>6,$AF16<8,AG16<=1),"Tốt",IF(AND($AF16>6,$AF16<8,AG16=2),"Hoàn thành",IF(AND($AF16>=5,$AF16<=6,AG16<=2),"Hoàn thành",IF(AND($AF16<5,AG16>3),"Không hoàn thành","")))))))) -> #N/A | AJ16: =ROUND(AVERAGE(O16,AC16),2) -> #N/A | AK16: =COUNTIF(E16:Z16,"D")*1 -> 0 | AL16: =IF($AJ16>=8,"Xuất sắc",IF($AJ16>6,"Tốt",IF($AJ16>=5,"Hoàn thành","Không hoàn thành"))) -> #N/A | AM16: =IF($AK16=1,"Không đạt LĐTT",IF(OR($AL16= "Xuất sắc", $AL16="Tốt"),"Đạt LĐTT","Không đạt LĐTT")) -> #N/A
A17: =A16+1 -> 8 | B17: Trần Thị Minh Thoa | C17: 01003005 | E17: =VLOOKUP($C17,'[4]Gui chi Quynh'!$D$7:$F$393,3,0) -> A2 | F17: =VLOOKUP(E17,Sheet1!$B$2:$C$12,2,TRUE) -> 9 | G17: =VLOOKUP($C17,'[5]Gui chi Quynh'!$C$7:$E$391,3,0) -> A2 | H17: =VLOOKUP(G17,Sheet1!$B$2:$C$12,2,TRUE) -> 9 | I17: =VLOOKUP($C17,'[6]Gui chi Quynh'!$C$7:$E$389,3,0) -> A1 | J17: =VLOOKUP(I17,Sheet1!$B$2:$C$12,2,TRUE) -> 10 | K17: =VLOOKUP($C17,'[7]Gui chi Quynh'!$C$7:$E$389,3,0) -> A1 | L17: =VLOOKUP(K17,Sheet1!$B$2:$C$12,2,TRUE) -> 10 | M17: =VLOOKUP($C17,'[8]Gui chi Quynh'!$C$7:$E$388,3,0) -> A2 | N17: =VLOOKUP(M17,Sheet1!$B$2:$C$12,2,TRUE) -> 9 | O17: =ROUND(AVERAGE(F17,H17,J17,L17,N17),2) -> 9.4 | P17: =COUNTIF(D17:M17,"C*")*1+COUNTIF(D17:M17,"D")*2+COUNTIF(D17:M17,"E")*3 -> 0 | Q17: =IF(P17>=3,"Không hoàn thành",IF(AND($O17>=8,$O17<=10,P17=0),"Xuất sắc",IF(AND($O17>=8,$O17<=10,P17=1),"Tốt",IF(AND($O17>=8,$O17<=10,P17=2),"Hoàn thành",IF(AND($O17>6,$O17<8,P17<=1),"Tốt",IF(AND($O17>6,$O17<8,P17=2),"Hoàn thành",IF(AND($O17>=5,$O17<=6,P17<=2),"Hoàn thành",IF(AND($O17<5,P17>3),"Không hoàn thành","")))))))) -> Xuất sắc | T17: =VLOOKUP(S17,Sheet1!$B$2:$C$12,2,TRUE) -> #N/A | V17: =VLOOKUP(U17,Sheet1!$B$2:$C$12,2,TRUE) -> #N/A | X17: =VLOOKUP(W17,Sheet1!$B$2:$C$12,2,TRUE) -> #N/A | Z17: =VLOOKUP(Y17,Sheet1!$B$2:$C$12,2,TRUE) -> #N/A | AB17: =VLOOKUP(AA17,Sheet1!$B$2:$C$12,2,TRUE) -> #N/A | AC17: =ROUND(AVERAGE(T17,V17,X17,Z17),2) -> #N/A | AD17: =COUNTIF(S17:AA17,"C*")*1+COUNTIF(S17:AA17,"D")*2+COUNTIF(S17:AA17,"E")*3 -> 0 | AE17: =IF(AD17>=3,"Không hoàn thành",IF(AND($AC17>=8,$AC17<=10,AD17=0),"Xuất sắc",IF(AND($AC17>=8,$AC17<=10,AD17=1),"Tốt",IF(AND($AC17>=8,$AC17<=10,AD17=2),"Hoàn thành",IF(AND($AC17>6,$AC17<8,AD17<=1),"Tốt",IF(AND($AC17>6,$AC17<8,AD17=2),"Hoàn thành",IF(AND($AC17>=5,$AC17<=6,AD17<=2),"Hoàn thành",IF(AND($AC17<5,AD17>3),"Không hoàn thành","")))))))) -> #N/A | AF17: =ROUND(AVERAGE(T17,V17,X17,Z17,AB17),2) -> #N/A | AG17: =COUNTIF(S17:AB17,"C*")*1+COUNTIF(S17:AB17,"D")*2+COUNTIF(S17:AB17,"E")*3 -> 0 | AH17: =IF(AG17>=3,"Không hoàn thành",IF(AND($AF17>=8,$AF17<=10,AG17=0),"Xuất sắc",IF(AND($AF17>=8,$AF17<=10,AG17=1),"Tốt",IF(AND($AF17>=8,$AF17<=10,AG17=2),"Hoàn thành",IF(AND($AF17>6,$AF17<8,AG17<=1),"Tốt",IF(AND($AF17>6,$AF17<8,AG17=2),"Hoàn thành",IF(AND($AF17>=5,$AF17<=6,AG17<=2),"Hoàn thành",IF(AND($AF17<5,AG17>3),"Không hoàn thành","")))))))) -> #N/A | AJ17: =ROUND(AVERAGE(O17,AC17),2) -> #N/A | AK17: =COUNTIF(E17:Z17,"D")*1 -> 0 | AL17: =IF($AJ17>=8,"Xuất sắc",IF($AJ17>6,"Tốt",IF($AJ17>=5,"Hoàn thành","Không hoàn thành"))) -> #N/A | AM17: =IF($AK17=1,"Không đạt LĐTT",IF(OR($AL17= "Xuất sắc", $AL17="Tốt"),"Đạt LĐTT","Không đạt LĐTT")) -> #N/A
A18: =A17+1 -> 9 | B18: Võ Thị Lệ Trân | C18: 01023004 | E18: =VLOOKUP($C18,'[4]Gui chi Quynh'!$D$7:$F$393,3,0) -> A2 | F18: =VLOOKUP(E18,Sheet1!$B$2:$C$12,2,TRUE) -> 9 | G18: =VLOOKUP($C18,'[5]Gui chi Quynh'!$C$7:$E$391,3,0) -> A2 | H18: =VLOOKUP(G18,Sheet1!$B$2:$C$12,2,TRUE) -> 9 | I18: =VLOOKUP($C18,'[6]Gui chi Quynh'!$C$7:$E$389,3,0) -> A1 | J18: =VLOOKUP(I18,Sheet1!$B$2:$C$12,2,TRUE) -> 10 | K18: =VLOOKUP($C18,'[7]Gui chi Quynh'!$C$7:$E$389,3,0) -> A1 | L18: =VLOOKUP(K18,Sheet1!$B$2:$C$12,2,TRUE) -> 10 | M18: =VLOOKUP($C18,'[8]Gui chi Quynh'!$C$7:$E$388,3,0) -> A2 | N18: =VLOOKUP(M18,Sheet1!$B$2:$C$12,2,TRUE) -> 9 | O18: =ROUND(AVERAGE(F18,H18,J18,L18,N18),2) -> 9.4 | P18: =COUNTIF(D18:M18,"C*")*1+COUNTIF(D18:M18,"D")*2+COUNTIF(D18:M18,"E")*3 -> 0 | Q18: =IF(P18>=3,"Không hoàn thành",IF(AND($O18>=8,$O18<=10,P18=0),"Xuất sắc",IF(AND($O18>=8,$O18<=10,P18=1),"Tốt",IF(AND($O18>=8,$O18<=10,P18=2),"Hoàn thành",IF(AND($O18>6,$O18<8,P18<=1),"Tốt",IF(AND($O18>6,$O18<8,P18=2),"Hoàn thành",IF(AND($O18>=5,$O18<=6,P18<=2),"Hoàn thành",IF(AND($O18<5,P18>3),"Không hoàn thành","")))))))) -> Xuất sắc | T18: =VLOOKUP(S18,Sheet1!$B$2:$C$12,2,TRUE) -> #N/A | V18: =VLOOKUP(U18,Sheet1!$B$2:$C$12,2,TRUE) -> #N/A | X18: =VLOOKUP(W18,Sheet1!$B$2:$C$12,2,TRUE) -> #N/A | Z18: =VLOOKUP(Y18,Sheet1!$B$2:$C$12,2,TRUE) -> #N/A | AB18: =VLOOKUP(AA18,Sheet1!$B$2:$C$12,2,TRUE) -> #N/A | AC18: =ROUND(AVERAGE(T18,V18,X18,Z18),2) -> #N/A | AD18: =COUNTIF(S18:AA18,"C*")*1+COUNTIF(S18:AA18,"D")*2+COUNTIF(S18:AA18,"E")*3 -> 0 | AE18: =IF(AD18>=3,"Không hoàn thành",IF(AND($AC18>=8,$AC18<=10,AD18=0),"Xuất sắc",IF(AND($AC18>=8,$AC18<=10,AD18=1),"Tốt",IF(AND($AC18>=8,$AC18<=10,AD18=2),"Hoàn thành",IF(AND($AC18>6,$AC18<8,AD18<=1),"Tốt",IF(AND($AC18>6,$AC18<8,AD18=2),"Hoàn thành",IF(AND($AC18>=5,$AC18<=6,AD18<=2),"Hoàn thành",IF(AND($AC18<5,AD18>3),"Không hoàn thành","")))))))) -> #N/A | AF18: =ROUND(AVERAGE(T18,V18,X18,Z18,AB18),2) -> #N/A | AG18: =COUNTIF(S18:AB18,"C*")*1+COUNTIF(S18:AB18,"D")*2+COUNTIF(S18:AB18,"E")*3 -> 0 | AH18: =IF(AG18>=3,"Không hoàn thành",IF(AND($AF18>=8,$AF18<=10,AG18=0),"Xuất sắc",IF(AND($AF18>=8,$AF18<=10,AG18=1),"Tốt",IF(AND($AF18>=8,$AF18<=10,AG18=2),"Hoàn thành",IF(AND($AF18>6,$AF18<8,AG18<=1),"Tốt",IF(AND($AF18>6,$AF18<8,AG18=2),"Hoàn thành",IF(AND($AF18>=5,$AF18<=6,AG18<=2),"Hoàn thành",IF(AND($AF18<5,AG18>3),"Không hoàn thành","")))))))) -> #N/A | AJ18: =ROUND(AVERAGE(O18,AC18),2) -> #N/A | AK18: =COUNTIF(E18:Z18,"D")*1 -> 0 | AL18: =IF($AJ18>=8,"Xuất sắc",IF($AJ18>6,"Tốt",IF($AJ18>=5,"Hoàn thành","Không hoàn thành"))) -> #N/A | AM18: =IF($AK18=1,"Không đạt LĐTT",IF(OR($AL18= "Xuất sắc", $AL18="Tốt"),"Đạt LĐTT","Không đạt LĐTT")) -> #N/A
A19: =A18+1 -> 10 | B19: Nguyễn Thị Hồng Thắm | C19: 01003007 | E19: =VLOOKUP($C19,'[4]Gui chi Quynh'!$D$7:$F$393,3,0) -> A2 | F19: =VLOOKUP(E19,Sheet1!$B$2:$C$12,2,TRUE) -> 9 | G19: =VLOOKUP($C19,'[5]Gui chi Quynh'!$C$7:$E$391,3,0) -> A2 | H19: =VLOOKUP(G19,Sheet1!$B$2:$C$12,2,TRUE) -> 9 | I19: =VLOOKUP($C19,'[6]Gui chi Quynh'!$C$7:$E$389,3,0) -> A2 | J19: =VLOOKUP(I19,Sheet1!$B$2:$C$12,2,TRUE) -> 9 | K19: =VLOOKUP($C19,'[7]Gui chi Quynh'!$C$7:$E$389,3,0) -> A1 | L19: =VLOOKUP(K19,Sheet1!$B$2:$C$12,2,TRUE) -> 10 | M19: =VLOOKUP($C19,'[8]Gui chi Quynh'!$C$7:$E$388,3,0) -> A2 | N19: =VLOOKUP(M19,Sheet1!$B$2:$C$12,2,TRUE) -> 9 | O19: =ROUND(AVERAGE(F19,H19,J19,L19,N19),2) -> 9.2 | P19: =COUNTIF(D19:M19,"C*")*1+COUNTIF(D19:M19,"D")*2+COUNTIF(D19:M19,"E")*3 -> 0 | Q19: =IF(P19>=3,"Không hoàn thành",IF(AND($O19>=8,$O19<=10,P19=0),"Xuất sắc",IF(AND($O19>=8,$O19<=10,P19=1),"Tốt",IF(AND($O19>=8,$O19<=10,P19=2),"Hoàn thành",IF(AND($O19>6,$O19<8,P19<=1),"Tốt",IF(AND($O19>6,$O19<8,P19=2),"Hoàn thành",IF(AND($O19>=5,$O19<=6,P19<=2),"Hoàn thành",IF(AND($O19<5,P19>3),"Không hoàn thành","")))))))) -> Xuất sắc | T19: =VLOOKUP(S19,Sheet1!$B$2:$C$12,2,TRUE) -> #N/A | V19: =VLOOKUP(U19,Sheet1!$B$2:$C$12,2,TRUE) -> #N/A | X19: =VLOOKUP(W19,Sheet1!$B$2:$C$12,2,TRUE) -> #N/A | Z19: =VLOOKUP(Y19,Sheet1!$B$2:$C$12,2,TRUE) -> #N/A | AB19: =VLOOKUP(AA19,Sheet1!$B$2:$C$12,2,TRUE) -> #N/A | AC19: =ROUND(AVERAGE(T19,V19,X19,Z19),2) -> #N/A | AD19: =COUNTIF(S19:AA19,"C*")*1+COUNTIF(S19:AA19,"D")*2+COUNTIF(S19:AA19,"E")*3 -> 0 | AE19: =IF(AD19>=3,"Không hoàn thành",IF(AND($AC19>=8,$AC19<=10,AD19=0),"Xuất sắc",IF(AND($AC19>=8,$AC19<=10,AD19=1),"Tốt",IF(AND($AC19>=8,$AC19<=10,AD19=2),"Hoàn thành",IF(AND($AC19>6,$AC19<8,AD19<=1),"Tốt",IF(AND($AC19>6,$AC19<8,AD19=2),"Hoàn thành",IF(AND($AC19>=5,$AC19<=6,AD19<=2),"Hoàn thành",IF(AND($AC19<5,AD19>3),"Không hoàn thành","")))))))) -> #N/A | AF19: =ROUND(AVERAGE(T19,V19,X19,Z19,AB19),2) -> #N/A | AG19: =COUNTIF(S19:AB19,"C*")*1+COUNTIF(S19:AB19,"D")*2+COUNTIF(S19:AB19,"E")*3 -> 0 | AH19: =IF(AG19>=3,"Không hoàn thành",IF(AND($AF19>=8,$AF19<=10,AG19=0),"Xuất sắc",IF(AND($AF19>=8,$AF19<=10,AG19=1),"Tốt",IF(AND($AF19>=8,$AF19<=10,AG19=2),"Hoàn thành",IF(AND($AF19>6,$AF19<8,AG19<=1),"Tốt",IF(AND($AF19>6,$AF19<8,AG19=2),"Hoàn thành",IF(AND($AF19>=5,$AF19<=6,AG19<=2),"Hoàn thành",IF(AND($AF19<5,AG19>3),"Không hoàn thành","")))))))) -> #N/A | AJ19: =ROUND(AVERAGE(O19,AC19),2) -> #N/A | AK19: =COUNTIF(E19:Z19,"D")*1 -> 0 | AL19: =IF($AJ19>=8,"Xuất sắc",IF($AJ19>6,"Tốt",IF($AJ19>=5,"Hoàn thành","Không hoàn thành"))) -> #N/A | AM19: =IF($AK19=1,"Không đạt LĐTT",IF(OR($AL19= "Xuất sắc", $AL19="Tốt"),"Đạt LĐTT","Không đạt LĐTT")) -> #N/A
A20: b | B20: Hợp đồng trường | Q20: =COUNTA($Q$21:$Q$23) -> 3 | R20: =(COUNTIF($Q$21:$Q$23, "Xuất sắc") & " Xuất sắc") -> 3 Xuất sắc | T20: =VLOOKUP(S20,Sheet1!$B$2:$C$12,2,TRUE) -> #N/A | V20: =VLOOKUP(U20,Sheet1!$B$2:$C$12,2,TRUE) -> #N/A | X20: =VLOOKUP(W20,Sheet1!$B$2:$C$12,2,TRUE) -> #N/A | Z20: =VLOOKUP(Y20,Sheet1!$B$2:$C$12,2,TRUE) -> #N/A | AB20: =VLOOKUP(AA20,Sheet1!$B$2:$C$12,2,TRUE) -> #N/A | AC20: =ROUND(AVERAGE(T20,V20,X20,Z20),2) -> #N/A | AD20: =COUNTIF(S20:AA20,"C*")*1+COUNTIF(S20:AA20,"D")*2+COUNTIF(S20:AA20,"E")*3 -> 0 | AE20: =IF(AD20>=3,"Không hoàn thành",IF(AND($AC20>=8,$AC20<=10,AD20=0),"Xuất sắc",IF(AND($AC20>=8,$AC20<=10,AD20=1),"Tốt",IF(AND($AC20>=8,$AC20<=10,AD20=2),"Hoàn thành",IF(AND($AC20>6,$AC20<8,AD20<=1),"Tốt",IF(AND($AC20>6,$AC20<8,AD20=2),"Hoàn thành",IF(AND($AC20>=5,$AC20<=6,AD20<=2),"Hoàn thành",IF(AND($AC20<5,AD20>3),"Không hoàn thành","")))))))) -> #N/A | AF20: =ROUND(AVERAGE(T20,V20,X20,Z20,AB20),2) -> #N/A | AG20: =COUNTIF(S20:AB20,"C*")*1+COUNTIF(S20:AB20,"D")*2+COUNTIF(S20:AB20,"E")*3 -> 0 | AH20: =IF(AG20>=3,"Không hoàn thành",IF(AND($AF20>=8,$AF20<=10,AG20=0),"Xuất sắc",IF(AND($AF20>=8,$AF20<=10,AG20=1),"Tốt",IF(AND($AF20>=8,$AF20<=10,AG20=2),"Hoàn thành",IF(AND($AF20>6,$AF20<8,AG20<=1),"Tốt",IF(AND($AF20>6,$AF20<8,AG20=2),"Hoàn thành",IF(AND($AF20>=5,$AF20<=6,AG20<=2),"Hoàn thành",IF(AND($AF20<5,AG20>3),"Không hoàn thành","")))))))) -> #N/A | AJ20: =ROUND(AVERAGE(O20,AC20),2) -> #N/A | AK20: =COUNTIF(E20:Z20,"D")*1 -> 0 | AL20: =IF($AJ20>=8,"Xuất sắc",IF($AJ20>6,"Tốt",IF($AJ20>=5,"Hoàn thành","Không hoàn thành"))) -> #N/A | AM20: =IF($AK20=1,"Không đạt LĐTT",IF(OR($AL20= "Xuất sắc", $AL20="Tốt"),"Đạt LĐTT","Không đạt LĐTT")) -> #N/A
A21: 11 | B21: Trần Thị Thảo Vân | C21: 01003008 | E21: =VLOOKUP($C21,'[4]Gui chi Quynh'!$D$7:$F$393,3,0) -> A2 | F21: =VLOOKUP(E21,Sheet1!$B$2:$C$12,2,TRUE) -> 9 | G21: =VLOOKUP($C21,'[5]Gui chi Quynh'!$C$7:$E$391,3,0) -> A2 | H21: =VLOOKUP(G21,Sheet1!$B$2:$C$12,2,TRUE) -> 9 | I21: =VLOOKUP($C21,'[6]Gui chi Quynh'!$C$7:$E$389,3,0) -> A2 | J21: =VLOOKUP(I21,Sheet1!$B$2:$C$12,2,TRUE) -> 9 | K21: =VLOOKUP($C21,'[7]Gui chi Quynh'!$C$7:$E$389,3,0) -> A2 | L21: =VLOOKUP(K21,Sheet1!$B$2:$C$12,2,TRUE) -> 9 | M21: =VLOOKUP($C21,'[8]Gui chi Quynh'!$C$7:$E$388,3,0) -> A2 | N21: =VLOOKUP(M21,Sheet1!$B$2:$C$12,2,TRUE) -> 9 | O21: =ROUND(AVERAGE(F21,H21,J21,L21,N21),2) -> 9 | P21: =COUNTIF(D21:M21,"C*")*1+COUNTIF(D21:M21,"D")*2+COUNTIF(D21:M21,"E")*3 -> 0 | Q21: =IF(P21>=3,"Không hoàn thành",IF(AND($O21>=8,$O21<=10,P21=0),"Xuất sắc",IF(AND($O21>=8,$O21<=10,P21=1),"Tốt",IF(AND($O21>=8,$O21<=10,P21=2),"Hoàn thành",IF(AND($O21>6,$O21<8,P21<=1),"Tốt",IF(AND($O21>6,$O21<8,P21=2),"Hoàn thành",IF(AND($O21>=5,$O21<=6,P21<=2),"Hoàn thành",IF(AND($O21<5,P21>3),"Không hoàn thành","")))))))) -> Xuất sắc | T21: =VLOOKUP(S21,Sheet1!$B$2:$C$12,2,TRUE) -> #N/A | V21: =VLOOKUP(U21,Sheet1!$B$2:$C$12,2,TRUE) -> #N/A | X21: =VLOOKUP(W21,Sheet1!$B$2:$C$12,2,TRUE) -> #N/A | Z21: =VLOOKUP(Y21,Sheet1!$B$2:$C$12,2,TRUE) -> #N/A | AB21: =VLOOKUP(AA21,Sheet1!$B$2:$C$12,2,TRUE) -> #N/A | AC21: =ROUND(AVERAGE(T21,V21,X21,Z21),2) -> #N/A | AD21: =COUNTIF(S21:AA21,"C*")*1+COUNTIF(S21:AA21,"D")*2+COUNTIF(S21:AA21,"E")*3 -> 0 | AE21: =IF(AD21>=3,"Không hoàn thành",IF(AND($AC21>=8,$AC21<=10,AD21=0),"Xuất sắc",IF(AND($AC21>=8,$AC21<=10,AD21=1),"Tốt",IF(AND($AC21>=8,$AC21<=10,AD21=2),"Hoàn thành",IF(AND($AC21>6,$AC21<8,AD21<=1),"Tốt",IF(AND($AC21>6,$AC21<8,AD21=2),"Hoàn thành",IF(AND($AC21>=5,$AC21<=6,AD21<=2),"Hoàn thành",IF(AND($AC21<5,AD21>3),"Không hoàn thành","")))))))) -> #N/A | AF21: =ROUND(AVERAGE(T21,V21,X21,Z21,AB21),2) -> #N/A | AG21: =COUNTIF(S21:AB21,"C*")*1+COUNTIF(S21:AB21,"D")*2+COUNTIF(S21:AB21,"E")*3 -> 0 | AH21: =IF(AG21>=3,"Không hoàn thành",IF(AND($AF21>=8,$AF21<=10,AG21=0),"Xuất sắc",IF(AND($AF21>=8,$AF21<=10,AG21=1),"Tốt",IF(AND($AF21>=8,$AF21<=10,AG21=2),"Hoàn thành",IF(AND($AF21>6,$AF21<8,AG21<=1),"Tốt",IF(AND($AF21>6,$AF21<8,AG21=2),"Hoàn thành",IF(AND($AF21>=5,$AF21<=6,AG21<=2),"Hoàn thành",IF(AND($AF21<5,AG21>3),"Không hoàn thành","")))))))) -> #N/A | AJ21: =ROUND(AVERAGE(O21,AC21),2) -> #N/A | AK21: =COUNTIF(E21:Z21,"D")*1 -> 0 | AL21: =IF($AJ21>=8,"Xuất sắc",IF($AJ21>6,"Tốt",IF($AJ21>=5,"Hoàn thành","Không hoàn thành"))) -> #N/A | AM21: =IF($AK21=1,"Không đạt LĐTT",IF(OR($AL21= "Xuất sắc", $AL21="Tốt"),"Đạt LĐTT","Không đạt LĐTT")) -> #N/A
A22: =A21+1 -> 12 | B22: Nguyễn Thụy Nghiêm | C22: 01003014 | E22: =VLOOKUP($C22,'[4]Gui chi Quynh'!$D$7:$F$393,3,0) -> A2 | F22: =VLOOKUP(E22,Sheet1!$B$2:$C$12,2,TRUE) -> 9 | G22: =VLOOKUP($C22,'[5]Gui chi Quynh'!$C$7:$E$391,3,0) -> A2 | H22: =VLOOKUP(G22,Sheet1!$B$2:$C$12,2,TRUE) -> 9 | I22: =VLOOKUP($C22,'[6]Gui chi Quynh'!$C$7:$E$389,3,0) -> A2 | J22: =VLOOKUP(I22,Sheet1!$B$2:$C$12,2,TRUE) -> 9 | K22: =VLOOKUP($C22,'[7]Gui chi Quynh'!$C$7:$E$389,3,0) -> A2 | L22: =VLOOKUP(K22,Sheet1!$B$2:$C$12,2,TRUE) -> 9 | M22: =VLOOKUP($C22,'[8]Gui chi Quynh'!$C$7:$E$388,3,0) -> A2 | N22: =VLOOKUP(M22,Sheet1!$B$2:$C$12,2,TRUE) -> 9 | O22: =ROUND(AVERAGE(F22,H22,J22,L22,N22),2) -> 9 | P22: =COUNTIF(D22:M22,"C*")*1+COUNTIF(D22:M22,"D")*2+COUNTIF(D22:M22,"E")*3 -> 0 | Q22: =IF(P22>=3,"Không hoàn thành",IF(AND($O22>=8,$O22<=10,P22=0),"Xuất sắc",IF(AND($O22>=8,$O22<=10,P22=1),"Tốt",IF(AND($O22>=8,$O22<=10,P22=2),"Hoàn thành",IF(AND($O22>6,$O22<8,P22<=1),"Tốt",IF(AND($O22>6,$O22<8,P22=2),"Hoàn thành",IF(AND($O22>=5,$O22<=6,P22<=2),"Hoàn thành",IF(AND($O22<5,P22>3),"Không hoàn thành","")))))))) -> Xuất sắc | T22: =VLOOKUP(S22,Sheet1!$B$2:$C$12,2,TRUE) -> #N/A | V22: =VLOOKUP(U22,Sheet1!$B$2:$C$12,2,TRUE) -> #N/A | X22: =VLOOKUP(W22,Sheet1!$B$2:$C$12,2,TRUE) -> #N/A | Z22: =VLOOKUP(Y22,Sheet1!$B$2:$C$12,2,TRUE) -> #N/A | AB22: =VLOOKUP(AA22,Sheet1!$B$2:$C$12,2,TRUE) -> #N/A | AC22: =ROUND(AVERAGE(T22,V22,X22,Z22),2) -> #N/A | AD22: =COUNTIF(S22:AA22,"C*")*1+COUNTIF(S22:AA22,"D")*2+COUNTIF(S22:AA22,"E")*3 -> 0 | AE22: =IF(AD22>=3,"Không hoàn thành",IF(AND($AC22>=8,$AC22<=10,AD22=0),"Xuất sắc",IF(AND($AC22>=8,$AC22<=10,AD22=1),"Tốt",IF(AND($AC22>=8,$AC22<=10,AD22=2),"Hoàn thành",IF(AND($AC22>6,$AC22<8,AD22<=1),"Tốt",IF(AND($AC22>6,$AC22<8,AD22=2),"Hoàn thành",IF(AND($AC22>=5,$AC22<=6,AD22<=2),"Hoàn thành",IF(AND($AC22<5,AD22>3),"Không hoàn thành","")))))))) -> #N/A | AF22: =ROUND(AVERAGE(T22,V22,X22,Z22,AB22),2) -> #N/A | AG22: =COUNTIF(S22:AB22,"C*")*1+COUNTIF(S22:AB22,"D")*2+COUNTIF(S22:AB22,"E")*3 -> 0 | AH22: =IF(AG22>=3,"Không hoàn thành",IF(AND($AF22>=8,$AF22<=10,AG22=0),"Xuất sắc",IF(AND($AF22>=8,$AF22<=10,AG22=1),"Tốt",IF(AND($AF22>=8,$AF22<=10,AG22=2),"Hoàn thành",IF(AND($AF22>6,$AF22<8,AG22<=1),"Tốt",IF(AND($AF22>6,$AF22<8,AG22=2),"Hoàn thành",IF(AND($AF22>=5,$AF22<=6,AG22<=2),"Hoàn thành",IF(AND($AF22<5,AG22>3),"Không hoàn thành","")))))))) -> #N/A | AJ22: =ROUND(AVERAGE(O22,AC22),2) -> #N/A | AK22: =COUNTIF(E22:Z22,"D")*1 -> 0 | AL22: =IF($AJ22>=8,"Xuất sắc",IF($AJ22>6,"Tốt",IF($AJ22>=5,"Hoàn thành","Không hoàn thành"))) -> #N/A | AM22: =IF($AK22=1,"Không đạt LĐTT",IF(OR($AL22= "Xuất sắc", $AL22="Tốt"),"Đạt LĐTT","Không đạt LĐTT")) -> #N/A
A23: =A22+1 -> 13 | B23: Huỳnh Như Ý | C23: 01003015 | E23: =VLOOKUP($C23,'[4]Gui chi Quynh'!$D$7:$F$393,3,0) -> A2 | F23: =VLOOKUP(E23,Sheet1!$B$2:$C$12,2,TRUE) -> 9 | G23: =VLOOKUP($C23,'[5]Gui chi Quynh'!$C$7:$E$391,3,0) -> A2 | H23: =VLOOKUP(G23,Sheet1!$B$2:$C$12,2,TRUE) -> 9 | I23: =VLOOKUP($C23,'[6]Gui chi Quynh'!$C$7:$E$389,3,0) -> A2 | J23: =VLOOKUP(I23,Sheet1!$B$2:$C$12,2,TRUE) -> 9 | K23: =VLOOKUP($C23,'[7]Gui chi Quynh'!$C$7:$E$389,3,0) -> A2 | L23: =VLOOKUP(K23,Sheet1!$B$2:$C$12,2,TRUE) -> 9 | M23: =VLOOKUP($C23,'[8]Gui chi Quynh'!$C$7:$E$388,3,0) -> A3 | N23: =VLOOKUP(M23,Sheet1!$B$2:$C$12,2,TRUE) -> 8 | O23: =ROUND(AVERAGE(F23,H23,J23,L23,N23),2) -> 8.8 | P23: =COUNTIF(D23:M23,"C*")*1+COUNTIF(D23:M23,"D")*2+COUNTIF(D23:M23,"E")*3 -> 0 | Q23: =IF(P23>=3,"Không hoàn thành",IF(AND($O23>=8,$O23<=10,P23=0),"Xuất sắc",IF(AND($O23>=8,$O23<=10,P23=1),"Tốt",IF(AND($O23>=8,$O23<=10,P23=2),"Hoàn thành",IF(AND($O23>6,$O23<8,P23<=1),"Tốt",IF(AND($O23>6,$O23<8,P23=2),"Hoàn thành",IF(AND($O23>=5,$O23<=6,P23<=2),"Hoàn thành",IF(AND($O23<5,P23>3),"Không hoàn thành","")))))))) -> Xuất sắc | T23: =VLOOKUP(S23,Sheet1!$B$2:$C$12,2,TRUE) -> #N/A | V23: =VLOOKUP(U23,Sheet1!$B$2:$C$12,2,TRUE) -> #N/A | X23: =VLOOKUP(W23,Sheet1!$B$2:$C$12,2,TRUE) -> #N/A | Z23: =VLOOKUP(Y23,Sheet1!$B$2:$C$12,2,TRUE) -> #N/A | AB23: =VLOOKUP(AA23,Sheet1!$B$2:$C$12,2,TRUE) -> #N/A | AC23: =ROUND(AVERAGE(T23,V23,X23,Z23),2) -> #N/A | AD23: =COUNTIF(S23:AA23,"C*")*1+COUNTIF(S23:AA23,"D")*2+COUNTIF(S23:AA23,"E")*3 -> 0 | AE23: =IF(AD23>=3,"Không hoàn thành",IF(AND($AC23>=8,$AC23<=10,AD23=0),"Xuất sắc",IF(AND($AC23>=8,$AC23<=10,AD23=1),"Tốt",IF(AND($AC23>=8,$AC23<=10,AD23=2),"Hoàn thành",IF(AND($AC23>6,$AC23<8,AD23<=1),"Tốt",IF(AND($AC23>6,$AC23<8,AD23=2),"Hoàn thành",IF(AND($AC23>=5,$AC23<=6,AD23<=2),"Hoàn thành",IF(AND($AC23<5,AD23>3),"Không hoàn thành","")))))))) -> #N/A | AF23: =ROUND(AVERAGE(T23,V23,X23,Z23,AB23),2) -> #N/A | AG23: =COUNTIF(S23:AB23,"C*")*1+COUNTIF(S23:AB23,"D")*2+COUNTIF(S23:AB23,"E")*3 -> 0 | AH23: =IF(AG23>=3,"Không hoàn thành",IF(AND($AF23>=8,$AF23<=10,AG23=0),"Xuất sắc",IF(AND($AF23>=8,$AF23<=10,AG23=1),"Tốt",IF(AND($AF23>=8,$AF23<=10,AG23=2),"Hoàn thành",IF(AND($AF23>6,$AF23<8,AG23<=1),"Tốt",IF(AND($AF23>6,$AF23<8,AG23=2),"Hoàn thành",IF(AND($AF23>=5,$AF23<=6,AG23<=2),"Hoàn thành",IF(AND($AF23<5,AG23>3),"Không hoàn thành","")))))))) -> #N/A | AJ23: =ROUND(AVERAGE(O23,AC23),2) -> #N/A | AK23: =COUNTIF(E23:Z23,"D")*1 -> 0 | AL23: =IF($AJ23>=8,"Xuất sắc",IF($AJ23>6,"Tốt",IF($AJ23>=5,"Hoàn thành","Không hoàn thành"))) -> #N/A | AM23: =IF($AK23=1,"Không đạt LĐTT",IF(OR($AL23= "Xuất sắc", $AL23="Tốt"),"Đạt LĐTT","Không đạt LĐTT")) -> #N/A
A24: III | B24: PHÒNG TUYỂN SINH - ĐÀO TẠO | Q24: =$Q$25+$Q$38 -> 16 | R24: =(COUNTIF($Q$26:$Q$42, "Xuất sắc") & " Xuất sắc") &" + "& (COUNTIF($Q$26:$Q$42, "Tốt") & " Tốt") -> 15 Xuất sắc + 1 Tốt
A25: a | B25: Viên chức | Q25: =COUNTA($Q$26:$Q$37) -> 12 | R25: =(COUNTIF($Q$26:$Q$37, "Xuất sắc") & " Xuất sắc") &" + "& (COUNTIF($Q$26:$Q$37, "Tốt") & " Tốt") -> 11 Xuất sắc + 1 Tốt | T25: =VLOOKUP(S25,Sheet1!$B$2:$C$12,2,TRUE) -> #N/A | V25: =VLOOKUP(U25,Sheet1!$B$2:$C$12,2,TRUE) -> #N/A | X25: =VLOOKUP(W25,Sheet1!$B$2:$C$12,2,TRUE) -> #N/A | Z25: =VLOOKUP(Y25,Sheet1!$B$2:$C$12,2,TRUE) -> #N/A | AB25: =VLOOKUP(AA25,Sheet1!$B$2:$C$12,2,TRUE) -> #N/A | AC25: =ROUND(AVERAGE(T25,V25,X25,Z25),2) -> #N/A | AD25: =COUNTIF(S25:AA25,"C*")*1+COUNTIF(S25:AA25,"D")*2+COUNTIF(S25:AA25,"E")*3 -> 0 | AE25: =IF(AD25>=3,"Không hoàn thành",IF(AND($AC25>=8,$AC25<=10,AD25=0),"Xuất sắc",IF(AND($AC25>=8,$AC25<=10,AD25=1),"Tốt",IF(AND($AC25>=8,$AC25<=10,AD25=2),"Hoàn thành",IF(AND($AC25>6,$AC25<8,AD25<=1),"Tốt",IF(AND($AC25>6,$AC25<8,AD25=2),"Hoàn thành",IF(AND($AC25>=5,$AC25<=6,AD25<=2),"Hoàn thành",IF(AND($AC25<5,AD25>3),"Không hoàn thành","")))))))) -> #N/A | AF25: =ROUND(AVERAGE(T25,V25,X25,Z25,AB25),2) -> #N/A | AG25: =COUNTIF(S25:AB25,"C*")*1+COUNTIF(S25:AB25,"D")*2+COUNTIF(S25:AB25,"E")*3 -> 0 | AH25: =IF(AG25>=3,"Không hoàn thành",IF(AND($AF25>=8,$AF25<=10,AG25=0),"Xuất sắc",IF(AND($AF25>=8,$AF25<=10,AG25=1),"Tốt",IF(AND($AF25>=8,$AF25<=10,AG25=2),"Hoàn thành",IF(AND($AF25>6,$AF25<8,AG25<=1),"Tốt",IF(AND($AF25>6,$AF25<8,AG25=2),"Hoàn thành",IF(AND($AF25>=5,$AF25<=6,AG25<=2),"Hoàn thành",IF(AND($AF25<5,AG25>3),"Không hoàn thành","")))))))) -> #N/A | AJ25: =ROUND(AVERAGE(O25,AC25),2) -> #N/A | AK25: =COUNTIF(E25:Z25,"D")*1 -> 0 | AL25: =IF($AJ25>=8,"Xuất sắc",IF($AJ25>6,"Tốt",IF($AJ25>=5,"Hoàn thành","Không hoàn thành"))) -> #N/A | AM25: =IF($AK25=1,"Không đạt LĐTT",IF(OR($AL25= "Xuất sắc", $AL25="Tốt"),"Đạt LĐTT","Không đạt LĐTT")) -> #N/A
A26: 14 | B26: Hồ Văn Sĩ | C26: 01004002 | E26: =VLOOKUP($C26,'[4]Gui chi Quynh'!$D$7:$F$393,3,0) -> A1 | F26: =VLOOKUP(E26,Sheet1!$B$2:$C$12,2,TRUE) -> 10 | G26: =VLOOKUP($C26,'[5]Gui chi Quynh'!$C$7:$E$391,3,0) -> A1 | H26: =VLOOKUP(G26,Sheet1!$B$2:$C$12,2,TRUE) -> 10 | I26: =VLOOKUP($C26,'[6]Gui chi Quynh'!$C$7:$E$389,3,0) -> A1 | J26: =VLOOKUP(I26,Sheet1!$B$2:$C$12,2,TRUE) -> 10 | K26: =VLOOKUP($C26,'[7]Gui chi Quynh'!$C$7:$E$389,3,0) -> A1 | L26: =VLOOKUP(K26,Sheet1!$B$2:$C$12,2,TRUE) -> 10 | M26: =VLOOKUP($C26,'[8]Gui chi Quynh'!$C$7:$E$388,3,0) -> A1 | N26: =VLOOKUP(M26,Sheet1!$B$2:$C$12,2,TRUE) -> 10 | O26: =ROUND(AVERAGE(F26,H26,J26,L26,N26),2) -> 10 | P26: =COUNTIF(D26:M26,"C*")*1+COUNTIF(D26:M26,"D")*2+COUNTIF(D26:M26,"E")*3 -> 0 | Q26: =IF(P26>=3,"Không hoàn thành",IF(AND($O26>=8,$O26<=10,P26=0),"Xuất sắc",IF(AND($O26>=8,$O26<=10,P26=1),"Tốt",IF(AND($O26>=8,$O26<=10,P26=2),"Hoàn thành",IF(AND($O26>6,$O26<8,P26<=1),"Tốt",IF(AND($O26>6,$O26<8,P26=2),"Hoàn thành",IF(AND($O26>=5,$O26<=6,P26<=2),"Hoàn thành",IF(AND($O26<5,P26>3),"Không hoàn thành","")))))))) -> Xuất sắc | T26: =VLOOKUP(S26,Sheet1!$B$2:$C$12,2,TRUE) -> #N/A | V26: =VLOOKUP(U26,Sheet1!$B$2:$C$12,2,TRUE) -> #N/A | X26: =VLOOKUP(W26,Sheet1!$B$2:$C$12,2,TRUE) -> #N/A | Z26: =VLOOKUP(Y26,Sheet1!$B$2:$C$12,2,TRUE) -> #N/A | AB26: =VLOOKUP(AA26,Sheet1!$B$2:$C$12,2,TRUE) -> #N/A | AC26: =ROUND(AVERAGE(T26,V26,X26,Z26),2) -> #N/A | AD26: =COUNTIF(S26:AA26,"C*")*1+COUNTIF(S26:AA26,"D")*2+COUNTIF(S26:AA26,"E")*3 -> 0 | AE26: =IF(AD26>=3,"Không hoàn thành",IF(AND($AC26>=8,$AC26<=10,AD26=0),"Xuất sắc",IF(AND($AC26>=8,$AC26<=10,AD26=1),"Tốt",IF(AND($AC26>=8,$AC26<=10,AD26=2),"Hoàn thành",IF(AND($AC26>6,$AC26<8,AD26<=1),"Tốt",IF(AND($AC26>6,$AC26<8,AD26=2),"Hoàn thành",IF(AND($AC26>=5,$AC26<=6,AD26<=2),"Hoàn thành",IF(AND($AC26<5,AD26>3),"Không hoàn thành","")))))))) -> #N/A | AF26: =ROUND(AVERAGE(T26,V26,X26,Z26,AB26),2) -> #N/A | AG26: =COUNTIF(S26:AB26,"C*")*1+COUNTIF(S26:AB26,"D")*2+COUNTIF(S26:AB26,"E")*3 -> 0 | AH26: =IF(AG26>=3,"Không hoàn thành",IF(AND($AF26>=8,$AF26<=10,AG26=0),"Xuất sắc",IF(AND($AF26>=8,$AF26<=10,AG26=1),"Tốt",IF(AND($AF26>=8,$AF26<=10,AG26=2),"Hoàn thành",IF(AND($AF26>6,$AF26<8,AG26<=1),"Tốt",IF(AND($AF26>6,$AF26<8,AG26=2),"Hoàn thành",IF(AND($AF26>=5,$AF26<=6,AG26<=2),"Hoàn thành",IF(AND($AF26<5,AG26>3),"Không hoàn thành","")))))))) -> #N/A | AJ26: =ROUND(AVERAGE(O26,AC26),2) -> #N/A | AK26: =COUNTIF(E26:Z26,"D")*1 -> 0 | AL26: =IF($AJ26>=8,"Xuất sắc",IF($AJ26>6,"Tốt",IF($AJ26>=5,"Hoàn thành","Không hoàn thành"))) -> #N/A | AM26: =IF($AK26=1,"Không đạt LĐTT",IF(OR($AL26= "Xuất sắc", $AL26="Tốt"),"Đạt LĐTT","Không đạt LĐTT")) -> #N/A
A27: 15 | B27: Nguyễn Văn Tấn | C27: 01004001 | E27: =VLOOKUP($C27,'[4]Gui chi Quynh'!$D$7:$F$393,3,0) -> A1 | F27: =VLOOKUP(E27,Sheet1!$B$2:$C$12,2,TRUE) -> 10 | G27: =VLOOKUP($C27,'[5]Gui chi Quynh'!$C$7:$E$391,3,0) -> A1 | H27: =VLOOKUP(G27,Sheet1!$B$2:$C$12,2,TRUE) -> 10 | I27: =VLOOKUP($C27,'[6]Gui chi Quynh'!$C$7:$E$389,3,0) -> A1 | J27: =VLOOKUP(I27,Sheet1!$B$2:$C$12,2,TRUE) -> 10 | K27: =VLOOKUP($C27,'[7]Gui chi Quynh'!$C$7:$E$389,3,0) -> A1 | L27: =VLOOKUP(K27,Sheet1!$B$2:$C$12,2,TRUE) -> 10 | M27: =VLOOKUP($C27,'[8]Gui chi Quynh'!$C$7:$E$388,3,0) -> A1 | N27: =VLOOKUP(M27,Sheet1!$B$2:$C$12,2,TRUE) -> 10 | O27: =ROUND(AVERAGE(F27,H27,J27,L27,N27),2) -> 10 | P27: =COUNTIF(D27:M27,"C*")*1+COUNTIF(D27:M27,"D")*2+COUNTIF(D27:M27,"E")*3 -> 0 | Q27: =IF(P27>=3,"Không hoàn thành",IF(AND($O27>=8,$O27<=10,P27=0),"Xuất sắc",IF(AND($O27>=8,$O27<=10,P27=1),"Tốt",IF(AND($O27>=8,$O27<=10,P27=2),"Hoàn thành",IF(AND($O27>6,$O27<8,P27<=1),"Tốt",IF(AND($O27>6,$O27<8,P27=2),"Hoàn thành",IF(AND($O27>=5,$O27<=6,P27<=2),"Hoàn thành",IF(AND($O27<5,P27>3),"Không hoàn thành","")))))))) -> Xuất sắc | T27: =VLOOKUP(S27,Sheet1!$B$2:$C$12,2,TRUE) -> #N/A | V27: =VLOOKUP(U27,Sheet1!$B$2:$C$12,2,TRUE) -> #N/A | X27: =VLOOKUP(W27,Sheet1!$B$2:$C$12,2,TRUE) -> #N/A | Z27: =VLOOKUP(Y27,Sheet1!$B$2:$C$12,2,TRUE) -> #N/A | AB27: =VLOOKUP(AA27,Sheet1!$B$2:$C$12,2,TRUE) -> #N/A | AC27: =ROUND(AVERAGE(T27,V27,X27,Z27),2) -> #N/A | AD27: =COUNTIF(S27:AA27,"C*")*1+COUNTIF(S27:AA27,"D")*2+COUNTIF(S27:AA27,"E")*3 -> 0 | AE27: =IF(AD27>=3,"Không hoàn thành",IF(AND($AC27>=8,$AC27<=10,AD27=0),"Xuất sắc",IF(AND($AC27>=8,$AC27<=10,AD27=1),"Tốt",IF(AND($AC27>=8,$AC27<=10,AD27=2),"Hoàn thành",IF(AND($AC27>6,$AC27<8,AD27<=1),"Tốt",IF(AND($AC27>6,$AC27<8,AD27=2),"Hoàn thành",IF(AND($AC27>=5,$AC27<=6,AD27<=2),"Hoàn thành",IF(AND($AC27<5,AD27>3),"Không hoàn thành","")))))))) -> #N/A | AF27: =ROUND(AVERAGE(T27,V27,X27,Z27,AB27),2) -> #N/A | AG27: =COUNTIF(S27:AB27,"C*")*1+COUNTIF(S27:AB27,"D")*2+COUNTIF(S27:AB27,"E")*3 -> 0 | AH27: =IF(AG27>=3,"Không hoàn thành",IF(AND($AF27>=8,$AF27<=10,AG27=0),"Xuất sắc",IF(AND($AF27>=8,$AF27<=10,AG27=1),"Tốt",IF(AND($AF27>=8,$AF27<=10,AG27=2),"Hoàn thành",IF(AND($AF27>6,$AF27<8,AG27<=1),"Tốt",IF(AND($AF27>6,$AF27<8,AG27=2),"Hoàn thành",IF(AND($AF27>=5,$AF27<=6,AG27<=2),"Hoàn thành",IF(AND($AF27<5,AG27>3),"Không hoàn thành","")))))))) -> #N/A | AJ27: =ROUND(AVERAGE(O27,AC27),2) -> #N/A | AK27: =COUNTIF(E27:Z27,"D")*1 -> 0 | AL27: =IF($AJ27>=8,"Xuất sắc",IF($AJ27>6,"Tốt",IF($AJ27>=5,"Hoàn thành","Không hoàn thành"))) -> #N/A | AM27: =IF($AK27=1,"Không đạt LĐTT",IF(OR($AL27= "Xuất sắc", $AL27="Tốt"),"Đạt LĐTT","Không đạt LĐTT")) -> #N/A
A28: 16 | B28: Lương Xuân Thịnh | C28: 01004005 | E28: =VLOOKUP($C28,'[4]Gui chi Quynh'!$D$7:$F$393,3,0) -> A1 | F28: =VLOOKUP(E28,Sheet1!$B$2:$C$12,2,TRUE) -> 10 | G28: =VLOOKUP($C28,'[5]Gui chi Quynh'!$C$7:$E$391,3,0) -> A1 | H28: =VLOOKUP(G28,Sheet1!$B$2:$C$12,2,TRUE) -> 10 | I28: =VLOOKUP($C28,'[6]Gui chi Quynh'!$C$7:$E$389,3,0) -> A1 | J28: =VLOOKUP(I28,Sheet1!$B$2:$C$12,2,TRUE) -> 10 | K28: =VLOOKUP($C28,'[7]Gui chi Quynh'!$C$7:$E$389,3,0) -> A1 | L28: =VLOOKUP(K28,Sheet1!$B$2:$C$12,2,TRUE) -> 10 | M28: =VLOOKUP($C28,'[8]Gui chi Quynh'!$C$7:$E$388,3,0) -> A1 | N28: =VLOOKUP(M28,Sheet1!$B$2:$C$12,2,TRUE) -> 10 | O28: =ROUND(AVERAGE(F28,H28,J28,L28,N28),2) -> 10 | P28: =COUNTIF(D28:M28,"C*")*1+COUNTIF(D28:M28,"D")*2+COUNTIF(D28:M28,"E")*3 -> 0 | Q28: =IF(P28>=3,"Không hoàn thành",IF(AND($O28>=8,$O28<=10,P28=0),"Xuất sắc",IF(AND($O28>=8,$O28<=10,P28=1),"Tốt",IF(AND($O28>=8,$O28<=10,P28=2),"Hoàn thành",IF(AND($O28>6,$O28<8,P28<=1),"Tốt",IF(AND($O28>6,$O28<8,P28=2),"Hoàn thành",IF(AND($O28>=5,$O28<=6,P28<=2),"Hoàn thành",IF(AND($O28<5,P28>3),"Không hoàn thành","")))))))) -> Xuất sắc | T28: =VLOOKUP(S28,Sheet1!$B$2:$C$12,2,TRUE) -> #N/A | V28: =VLOOKUP(U28,Sheet1!$B$2:$C$12,2,TRUE) -> #N/A | X28: =VLOOKUP(W28,Sheet1!$B$2:$C$12,2,TRUE) -> #N/A | Z28: =VLOOKUP(Y28,Sheet1!$B$2:$C$12,2,TRUE) -> #N/A | AB28: =VLOOKUP(AA28,Sheet1!$B$2:$C$12,2,TRUE) -> #N/A | AC28: =ROUND(AVERAGE(T28,V28,X28,Z28),2) -> #N/A | AD28: =COUNTIF(S28:AA28,"C*")*1+COUNTIF(S28:AA28,"D")*2+COUNTIF(S28:AA28,"E")*3 -> 0 | AE28: =IF(AD28>=3,"Không hoàn thành",IF(AND($AC28>=8,$AC28<=10,AD28=0),"Xuất sắc",IF(AND($AC28>=8,$AC28<=10,AD28=1),"Tốt",IF(AND($AC28>=8,$AC28<=10,AD28=2),"Hoàn thành",IF(AND($AC28>6,$AC28<8,AD28<=1),"Tốt",IF(AND($AC28>6,$AC28<8,AD28=2),"Hoàn thành",IF(AND($AC28>=5,$AC28<=6,AD28<=2),"Hoàn thành",IF(AND($AC28<5,AD28>3),"Không hoàn thành","")))))))) -> #N/A | AF28: =ROUND(AVERAGE(T28,V28,X28,Z28,AB28),2) -> #N/A | AG28: =COUNTIF(S28:AB28,"C*")*1+COUNTIF(S28:AB28,"D")*2+COUNTIF(S28:AB28,"E")*3 -> 0 | AH28: =IF(AG28>=3,"Không hoàn thành",IF(AND($AF28>=8,$AF28<=10,AG28=0),"Xuất sắc",IF(AND($AF28>=8,$AF28<=10,AG28=1),"Tốt",IF(AND($AF28>=8,$AF28<=10,AG28=2),"Hoàn thành",IF(AND($AF28>6,$AF28<8,AG28<=1),"Tốt",IF(AND($AF28>6,$AF28<8,AG28=2),"Hoàn thành",IF(AND($AF28>=5,$AF28<=6,AG28<=2),"Hoàn thành",IF(AND($AF28<5,AG28>3),"Không hoàn thành","")))))))) -> #N/A | AJ28: =ROUND(AVERAGE(O28,AC28),2) -> #N/A | AK28: =COUNTIF(E28:Z28,"D")*1 -> 0 | AL28: =IF($AJ28>=8,"Xuất sắc",IF($AJ28>6,"Tốt",IF($AJ28>=5,"Hoàn thành","Không hoàn thành"))) -> #N/A | AM28: =IF($AK28=1,"Không đạt LĐTT",IF(OR($AL28= "Xuất sắc", $AL28="Tốt"),"Đạt LĐTT","Không đạt LĐTT")) -> #N/A
A29: 17 | B29: Huỳnh Thị Mai | C29: 01004004 | E29: =VLOOKUP($C29,'[4]Gui chi Quynh'!$D$7:$F$393,3,0) -> A1 | F29: =VLOOKUP(E29,Sheet1!$B$2:$C$12,2,TRUE) -> 10 | G29: =VLOOKUP($C29,'[5]Gui chi Quynh'!$C$7:$E$391,3,0) -> A1 | H29: =VLOOKUP(G29,Sheet1!$B$2:$C$12,2,TRUE) -> 10 | I29: =VLOOKUP($C29,'[6]Gui chi Quynh'!$C$7:$E$389,3,0) -> A1 | J29: =VLOOKUP(I29,Sheet1!$B$2:$C$12,2,TRUE) -> 10 | K29: =VLOOKUP($C29,'[7]Gui chi Quynh'!$C$7:$E$389,3,0) -> A1 | L29: =VLOOKUP(K29,Sheet1!$B$2:$C$12,2,TRUE) -> 10 | M29: =VLOOKUP($C29,'[8]Gui chi Quynh'!$C$7:$E$388,3,0) -> A1 | N29: =VLOOKUP(M29,Sheet1!$B$2:$C$12,2,TRUE) -> 10 | O29: =ROUND(AVERAGE(F29,H29,J29,L29,N29),2) -> 10 | P29: =COUNTIF(D29:M29,"C*")*1+COUNTIF(D29:M29,"D")*2+COUNTIF(D29:M29,"E")*3 -> 0 | Q29: =IF(P29>=3,"Không hoàn thành",IF(AND($O29>=8,$O29<=10,P29=0),"Xuất sắc",IF(AND($O29>=8,$O29<=10,P29=1),"Tốt",IF(AND($O29>=8,$O29<=10,P29=2),"Hoàn thành",IF(AND($O29>6,$O29<8,P29<=1),"Tốt",IF(AND($O29>6,$O29<8,P29=2),"Hoàn thành",IF(AND($O29>=5,$O29<=6,P29<=2),"Hoàn thành",IF(AND($O29<5,P29>3),"Không hoàn thành","")))))))) -> Xuất sắc | T29: =VLOOKUP(S29,Sheet1!$B$2:$C$12,2,TRUE) -> #N/A | V29: =VLOOKUP(U29,Sheet1!$B$2:$C$12,2,TRUE) -> #N/A | X29: =VLOOKUP(W29,Sheet1!$B$2:$C$12,2,TRUE) -> #N/A | Z29: =VLOOKUP(Y29,Sheet1!$B$2:$C$12,2,TRUE) -> #N/A | AB29: =VLOOKUP(AA29,Sheet1!$B$2:$C$12,2,TRUE) -> #N/A | AC29: =ROUND(AVERAGE(T29,V29,X29,Z29),2) -> #N/A | AD29: =COUNTIF(S29:AA29,"C*")*1+COUNTIF(S29:AA29,"D")*2+COUNTIF(S29:AA29,"E")*3 -> 0 | AE29: =IF(AD29>=3,"Không hoàn thành",IF(AND($AC29>=8,$AC29<=10,AD29=0),"Xuất sắc",IF(AND($AC29>=8,$AC29<=10,AD29=1),"Tốt",IF(AND($AC29>=8,$AC29<=10,AD29=2),"Hoàn thành",IF(AND($AC29>6,$AC29<8,AD29<=1),"Tốt",IF(AND($AC29>6,$AC29<8,AD29=2),"Hoàn thành",IF(AND($AC29>=5,$AC29<=6,AD29<=2),"Hoàn thành",IF(AND($AC29<5,AD29>3),"Không hoàn thành","")))))))) -> #N/A | AF29: =ROUND(AVERAGE(T29,V29,X29,Z29,AB29),2) -> #N/A | AG29: =COUNTIF(S29:AB29,"C*")*1+COUNTIF(S29:AB29,"D")*2+COUNTIF(S29:AB29,"E")*3 -> 0 | AH29: =IF(AG29>=3,"Không hoàn thành",IF(AND($AF29>=8,$AF29<=10,AG29=0),"Xuất sắc",IF(AND($AF29>=8,$AF29<=10,AG29=1),"Tốt",IF(AND($AF29>=8,$AF29<=10,AG29=2),"Hoàn thành",IF(AND($AF29>6,$AF29<8,AG29<=1),"Tốt",IF(AND($AF29>6,$AF29<8,AG29=2),"Hoàn thành",IF(AND($AF29>=5,$AF29<=6,AG29<=2),"Hoàn thành",IF(AND($AF29<5,AG29>3),"Không hoàn thành","")))))))) -> #N/A | AJ29: =ROUND(AVERAGE(O29,AC29),2) -> #N/A | AK29: =COUNTIF(E29:Z29,"D")*1 -> 0 | AL29: =IF($AJ29>=8,"Xuất sắc",IF($AJ29>6,"Tốt",IF($AJ29>=5,"Hoàn thành","Không hoàn thành"))) -> #N/A | AM29: =IF($AK29=1,"Không đạt LĐTT",IF(OR($AL29= "Xuất sắc", $AL29="Tốt"),"Đạt LĐTT","Không đạt LĐTT")) -> #N/A
A30: 18 | B30: Nguyễn Thị Thùy | C30: 01022013 | E30: =VLOOKUP($C30,'[4]Gui chi Quynh'!$D$7:$F$393,3,0) -> A1 | F30: =VLOOKUP(E30,Sheet1!$B$2:$C$12,2,TRUE) -> 10 | G30: =VLOOKUP($C30,'[5]Gui chi Quynh'!$C$7:$E$391,3,0) -> A1 | H30: =VLOOKUP(G30,Sheet1!$B$2:$C$12,2,TRUE) -> 10 | I30: =VLOOKUP($C30,'[6]Gui chi Quynh'!$C$7:$E$389,3,0) -> A1 | J30: =VLOOKUP(I30,Sheet1!$B$2:$C$12,2,TRUE) -> 10 | K30: =VLOOKUP($C30,'[7]Gui chi Quynh'!$C$7:$E$389,3,0) -> A1 | L30: =VLOOKUP(K30,Sheet1!$B$2:$C$12,2,TRUE) -> 10 | M30: =VLOOKUP($C30,'[8]Gui chi Quynh'!$C$7:$E$388,3,0) -> A1 | N30: =VLOOKUP(M30,Sheet1!$B$2:$C$12,2,TRUE) -> 10 | O30: =ROUND(AVERAGE(F30,H30,J30,L30,N30),2) -> 10 | P30: =COUNTIF(D30:M30,"C*")*1+COUNTIF(D30:M30,"D")*2+COUNTIF(D30:M30,"E")*3 -> 0 | Q30: =IF(P30>=3,"Không hoàn thành",IF(AND($O30>=8,$O30<=10,P30=0),"Xuất sắc",IF(AND($O30>=8,$O30<=10,P30=1),"Tốt",IF(AND($O30>=8,$O30<=10,P30=2),"Hoàn thành",IF(AND($O30>6,$O30<8,P30<=1),"Tốt",IF(AND($O30>6,$O30<8,P30=2),"Hoàn thành",IF(AND($O30>=5,$O30<=6,P30<=2),"Hoàn thành",IF(AND($O30<5,P30>3),"Không hoàn thành","")))))))) -> Xuất sắc | T30: =VLOOKUP(S30,Sheet1!$B$2:$C$12,2,TRUE) -> #N/A | V30: =VLOOKUP(U30,Sheet1!$B$2:$C$12,2,TRUE) -> #N/A | X30: =VLOOKUP(W30,Sheet1!$B$2:$C$12,2,TRUE) -> #N/A | Z30: =VLOOKUP(Y30,Sheet1!$B$2:$C$12,2,TRUE) -> #N/A | AB30: =VLOOKUP(AA30,Sheet1!$B$2:$C$12,2,TRUE) -> #N/A | AC30: =ROUND(AVERAGE(T30,V30,X30,Z30),2) -> #N/A | AD30: =COUNTIF(S30:AA30,"C*")*1+COUNTIF(S30:AA30,"D")*2+COUNTIF(S30:AA30,"E")*3 -> 0 | AE30: =IF(AD30>=3,"Không hoàn thành",IF(AND($AC30>=8,$AC30<=10,AD30=0),"Xuất sắc",IF(AND($AC30>=8,$AC30<=10,AD30=1),"Tốt",IF(AND($AC30>=8,$AC30<=10,AD30=2),"Hoàn thành",IF(AND($AC30>6,$AC30<8,AD30<=1),"Tốt",IF(AND($AC30>6,$AC30<8,AD30=2),"Hoàn thành",IF(AND($AC30>=5,$AC30<=6,AD30<=2),"Hoàn thành",IF(AND($AC30<5,AD30>3),"Không hoàn thành","")))))))) -> #N/A | AF30: =ROUND(AVERAGE(T30,V30,X30,Z30,AB30),2) -> #N/A | AG30: =COUNTIF(S30:AB30,"C*")*1+COUNTIF(S30:AB30,"D")*2+COUNTIF(S30:AB30,"E")*3 -> 0 | AH30: =IF(AG30>=3,"Không hoàn thành",IF(AND($AF30>=8,$AF30<=10,AG30=0),"Xuất sắc",IF(AND($AF30>=8,$AF30<=10,AG30=1),"Tốt",IF(AND($AF30>=8,$AF30<=10,AG30=2),"Hoàn thành",IF(AND($AF30>6,$AF30<8,AG30<=1),"Tốt",IF(AND($AF30>6,$AF30<8,AG30=2),"Hoàn thành",IF(AND($AF30>=5,$AF30<=6,AG30<=2),"Hoàn thành",IF(AND($AF30<5,AG30>3),"Không hoàn thành","")))))))) -> #N/A | AJ30: =ROUND(AVERAGE(O30,AC30),2) -> #N/A | AK30: =COUNTIF(E30:Z30,"D")*1 -> 0 | AL30: =IF($AJ30>=8,"Xuất sắc",IF($AJ30>6,"Tốt",IF($AJ30>=5,"Hoàn thành","Không hoàn thành"))) -> #N/A | AM30: =IF($AK30=1,"Không đạt LĐTT",IF(OR($AL30= "Xuất sắc", $AL30="Tốt"),"Đạt LĐTT","Không đạt LĐTT")) -> #N/A
A31: 19 | B31: Võ Thị Xuân Thơ | C31: 01004003 | E31: =VLOOKUP($C31,'[4]Gui chi Quynh'!$D$7:$F$393,3,0) -> A2 | F31: =VLOOKUP(E31,Sheet1!$B$2:$C$12,2,TRUE) -> 9 | G31: =VLOOKUP($C31,'[5]Gui chi Quynh'!$C$7:$E$391,3,0) -> A1 | H31: =VLOOKUP(G31,Sheet1!$B$2:$C$12,2,TRUE) -> 10 | I31: =VLOOKUP($C31,'[6]Gui chi Quynh'!$C$7:$E$389,3,0) -> A1 | J31: =VLOOKUP(I31,Sheet1!$B$2:$C$12,2,TRUE) -> 10 | K31: =VLOOKUP($C31,'[7]Gui chi Quynh'!$C$7:$E$389,3,0) -> A1 | L31: =VLOOKUP(K31,Sheet1!$B$2:$C$12,2,TRUE) -> 10 | M31: =VLOOKUP($C31,'[8]Gui chi Quynh'!$C$7:$E$388,3,0) -> A1 | N31: =VLOOKUP(M31,Sheet1!$B$2:$C$12,2,TRUE) -> 10 | O31: =ROUND(AVERAGE(F31,H31,J31,L31,N31),2) -> 9.8 | P31: =COUNTIF(D31:M31,"C*")*1+COUNTIF(D31:M31,"D")*2+COUNTIF(D31:M31,"E")*3 -> 0 | Q31: =IF(P31>=3,"Không hoàn thành",IF(AND($O31>=8,$O31<=10,P31=0),"Xuất sắc",IF(AND($O31>=8,$O31<=10,P31=1),"Tốt",IF(AND($O31>=8,$O31<=10,P31=2),"Hoàn thành",IF(AND($O31>6,$O31<8,P31<=1),"Tốt",IF(AND($O31>6,$O31<8,P31=2),"Hoàn thành",IF(AND($O31>=5,$O31<=6,P31<=2),"Hoàn thành",IF(AND($O31<5,P31>3),"Không hoàn thành","")))))))) -> Xuất sắc | T31: =VLOOKUP(S31,Sheet1!$B$2:$C$12,2,TRUE) -> #N/A | V31: =VLOOKUP(U31,Sheet1!$B$2:$C$12,2,TRUE) -> #N/A | X31: =VLOOKUP(W31,Sheet1!$B$2:$C$12,2,TRUE) -> #N/A | Z31: =VLOOKUP(Y31,Sheet1!$B$2:$C$12,2,TRUE) -> #N/A | AB31: =VLOOKUP(AA31,Sheet1!$B$2:$C$12,2,TRUE) -> #N/A | AC31: =ROUND(AVERAGE(T31,V31,X31,Z31),2) -> #N/A | AD31: =COUNTIF(S31:AA31,"C*")*1+COUNTIF(S31:AA31,"D")*2+COUNTIF(S31:AA31,"E")*3 -> 0 | AE31: =IF(AD31>=3,"Không hoàn thành",IF(AND($AC31>=8,$AC31<=10,AD31=0),"Xuất sắc",IF(AND($AC31>=8,$AC31<=10,AD31=1),"Tốt",IF(AND($AC31>=8,$AC31<=10,AD31=2),"Hoàn thành",IF(AND($AC31>6,$AC31<8,AD31<=1),"Tốt",IF(AND($AC31>6,$AC31<8,AD31=2),"Hoàn thành",IF(AND($AC31>=5,$AC31<=6,AD31<=2),"Hoàn thành",IF(AND($AC31<5,AD31>3),"Không hoàn thành","")))))))) -> #N/A | AF31: =ROUND(AVERAGE(T31,V31,X31,Z31,AB31),2) -> #N/A | AG31: =COUNTIF(S31:AB31,"C*")*1+COUNTIF(S31:AB31,"D")*2+COUNTIF(S31:AB31,"E")*3 -> 0 | AH31: =IF(AG31>=3,"Không hoàn thành",IF(AND($AF31>=8,$AF31<=10,AG31=0),"Xuất sắc",IF(AND($AF31>=8,$AF31<=10,AG31=1),"Tốt",IF(AND($AF31>=8,$AF31<=10,AG31=2),"Hoàn thành",IF(AND($AF31>6,$AF31<8,AG31<=1),"Tốt",IF(AND($AF31>6,$AF31<8,AG31=2),"Hoàn thành",IF(AND($AF31>=5,$AF31<=6,AG31<=2),"Hoàn thành",IF(AND($AF31<5,AG31>3),"Không hoàn thành","")))))))) -> #N/A | AJ31: =ROUND(AVERAGE(O31,AC31),2) -> #N/A | AK31: =COUNTIF(E31:Z31,"D")*1 -> 0 | AL31: =IF($AJ31>=8,"Xuất sắc",IF($AJ31>6,"Tốt",IF($AJ31>=5,"Hoàn thành","Không hoàn thành"))) -> #N/A | AM31: =IF($AK31=1,"Không đạt LĐTT",IF(OR($AL31= "Xuất sắc", $AL31="Tốt"),"Đạt LĐTT","Không đạt LĐTT")) -> #N/A
A32: 20 | B32: Nguyễn Thị Thanh Thảo | C32: 01004008 | E32: =VLOOKUP($C32,'[4]Gui chi Quynh'!$D$7:$F$393,3,0) -> A2 | F32: =VLOOKUP(E32,Sheet1!$B$2:$C$12,2,TRUE) -> 9 | G32: =VLOOKUP($C32,'[5]Gui chi Quynh'!$C$7:$E$391,3,0) -> A2 | H32: =VLOOKUP(G32,Sheet1!$B$2:$C$12,2,TRUE) -> 9 | I32: =VLOOKUP($C32,'[6]Gui chi Quynh'!$C$7:$E$389,3,0) -> A1 | J32: =VLOOKUP(I32,Sheet1!$B$2:$C$12,2,TRUE) -> 10 | K32: =VLOOKUP($C32,'[7]Gui chi Quynh'!$C$7:$E$389,3,0) -> A1 | L32: =VLOOKUP(K32,Sheet1!$B$2:$C$12,2,TRUE) -> 10 | M32: =VLOOKUP($C32,'[8]Gui chi Quynh'!$C$7:$E$388,3,0) -> A1 | N32: =VLOOKUP(M32,Sheet1!$B$2:$C$12,2,TRUE) -> 10 | O32: =ROUND(AVERAGE(F32,H32,J32,L32,N32),2) -> 9.6 | P32: =COUNTIF(D32:M32,"C*")*1+COUNTIF(D32:M32,"D")*2+COUNTIF(D32:M32,"E")*3 -> 0 | Q32: =IF(P32>=3,"Không hoàn thành",IF(AND($O32>=8,$O32<=10,P32=0),"Xuất sắc",IF(AND($O32>=8,$O32<=10,P32=1),"Tốt",IF(AND($O32>=8,$O32<=10,P32=2),"Hoàn thành",IF(AND($O32>6,$O32<8,P32<=1),"Tốt",IF(AND($O32>6,$O32<8,P32=2),"Hoàn thành",IF(AND($O32>=5,$O32<=6,P32<=2),"Hoàn thành",IF(AND($O32<5,P32>3),"Không hoàn thành","")))))))) -> Xuất sắc | T32: =VLOOKUP(S32,Sheet1!$B$2:$C$12,2,TRUE) -> #N/A | V32: =VLOOKUP(U32,Sheet1!$B$2:$C$12,2,TRUE) -> #N/A | X32: =VLOOKUP(W32,Sheet1!$B$2:$C$12,2,TRUE) -> #N/A | Z32: =VLOOKUP(Y32,Sheet1!$B$2:$C$12,2,TRUE) -> #N/A | AB32: =VLOOKUP(AA32,Sheet1!$B$2:$C$12,2,TRUE) -> #N/A | AC32: =ROUND(AVERAGE(T32,V32,X32,Z32),2) -> #N/A | AD32: =COUNTIF(S32:AA32,"C*")*1+COUNTIF(S32:AA32,"D")*2+COUNTIF(S32:AA32,"E")*3 -> 0 | AE32: =IF(AD32>=3,"Không hoàn thành",IF(AND($AC32>=8,$AC32<=10,AD32=0),"Xuất sắc",IF(AND($AC32>=8,$AC32<=10,AD32=1),"Tốt",IF(AND($AC32>=8,$AC32<=10,AD32=2),"Hoàn thành",IF(AND($AC32>6,$AC32<8,AD32<=1),"Tốt",IF(AND($AC32>6,$AC32<8,AD32=2),"Hoàn thành",IF(AND($AC32>=5,$AC32<=6,AD32<=2),"Hoàn thành",IF(AND($AC32<5,AD32>3),"Không hoàn thành","")))))))) -> #N/A | AF32: =ROUND(AVERAGE(T32,V32,X32,Z32,AB32),2) -> #N/A | AG32: =COUNTIF(S32:AB32,"C*")*1+COUNTIF(S32:AB32,"D")*2+COUNTIF(S32:AB32,"E")*3 -> 0 | AH32: =IF(AG32>=3,"Không hoàn thành",IF(AND($AF32>=8,$AF32<=10,AG32=0),"Xuất sắc",IF(AND($AF32>=8,$AF32<=10,AG32=1),"Tốt",IF(AND($AF32>=8,$AF32<=10,AG32=2),"Hoàn thành",IF(AND($AF32>6,$AF32<8,AG32<=1),"Tốt",IF(AND($AF32>6,$AF32<8,AG32=2),"Hoàn thành",IF(AND($AF32>=5,$AF32<=6,AG32<=2),"Hoàn thành",IF(AND($AF32<5,AG32>3),"Không hoàn thành","")))))))) -> #N/A | AJ32: =ROUND(AVERAGE(O32,AC32),2) -> #N/A | AK32: =COUNTIF(E32:Z32,"D")*1 -> 0 | AL32: =IF($AJ32>=8,"Xuất sắc",IF($AJ32>6,"Tốt",IF($AJ32>=5,"Hoàn thành","Không hoàn thành"))) -> #N/A | AM32: =IF($AK32=1,"Không đạt LĐTT",IF(OR($AL32= "Xuất sắc", $AL32="Tốt"),"Đạt LĐTT","Không đạt LĐTT")) -> #N/A
