Workbook

Sheet XXXXXXXXX

Sheet Kangatang

Sheet Kangatang_2

Sheet Kangatang_3

Sheet Kangatang_4

Sheet Kangatang_5

Sheet Kangatang_6

Sheet Kangatang_7

Sheet Kangatang_8

Sheet Kangatang_9

Sheet Kangatang_10

Sheet Kangatang_11

Sheet Kangatang_12

Sheet Kangatang_13

Sheet Kangatang_14

Sheet Kangatang_15

Sheet Kangatang_16

Sheet Kangatang_17

Sheet Kangatang_18

Sheet Kangatang_19

Sheet Kangatang_20

Sheet Kangatang_21

Sheet Kangatang_22

Sheet Kangatang_23

Sheet Kangatang_24

Sheet Kangatang_25

Sheet Kangatang_26

Sheet Kangatang_27

Sheet Kangatang_28

Sheet Kangatang_29

Sheet Kangatang_30

Sheet Kangatang_31

Sheet Kangatang_32

Sheet Kangatang_33

Sheet Kangatang_34

Sheet Kangatang_35

Sheet Kangatang_36

Sheet Kangatang_37

Sheet Kangatang_38

Sheet Kangatang_39

Sheet Kangatang_40

Sheet Kangatang_41

Sheet Kangatang_42

Sheet Kangatang_43

Sheet Kangatang_44

Sheet Kangatang_45

Sheet Kangatang_46

Sheet Kangatang_47

Sheet Kangatang_48

Sheet Kangatang_49

Sheet Kangatang_50

Sheet Kangatang_51

Sheet Kangatang_52

Sheet Kangatang_53

Sheet Mau 1
A1: TRƯỜNG CAO ĐẲNG LÝ TỰ TRỌNG | E1: CỘNG HÒA XÃ HỘI CHỦ NGHĨA VIỆT NAM
A2: THÀNH PHỐ HỒ CHÍ MINH | E2: Độc lập - Tự do - Hạnh phúc
A3: KHOA NGOẠI NGỮ
G4: Mẫu 1
A5: Danh sách CB-GV-NV tham gia thực hiện bài viết sáng kiến, bài viết Hội thảo cấp trường, cấp đơn vị, giảng viên dạy giỏi, bài báo được đăng trên các tạp chí theo quy định, tham gia đề tài NCKH đã được nghiệm thu,... (Quy định về tiêu chuẩn thi đua số 738/QyĐ-LTT-TĐ ngày 02/11/2022 của Trường)
A7: TT | B7: Họ tên | C7: Mã E-Office | D7: Điều kiện xếp loại thi đua A1 (Ghi rõ nội dung tiêu chuẩn: số Quyết định, thời gian, cơ quan ban hành,…) | E7: Điều kiện xếp loại thi đua A2 (Ghi rõ nội dung tiêu chuẩn: số Quyết định, thời gian, cơ quan ban hành,…) | F7: Điều kiện xếp loại thi đua A3 (Ghi rõ nội dung tiêu chuẩn: số Quyết định, thời gian, cơ quan ban hành,…) | G7: Ghi chú
A8: I. Viên chức
A9: 1 | B9: Nguyễn Thị Thu Hà | C9: 01010039 | E9: - Bài viết đăng Kỷ yếu hội thảo cấp trường (COSS 2022) | F9: - Bài viết đăng kỷ yếu hội thảo cấp đơn vị năm 2022
A10: 2 | B10: Phạm Thị Thu Hiền | C10: 01010040 | E10: - Bài viết đăng Kỷ yếu hội thảo cấp trường (COSS 2022) | F10: - Bài viết đăng kỷ yếu hội thảo cấp đơn vị năm 2022 -Bài viết sáng kiến được công nhận phạm vi ảnh hưởng cấp trường năm học 2021-2022 (QĐ số 189/QĐ-LTT-HĐSK ngày 15/4/2022)
A11: 3 | B11: Lê Nguyễn Mỹ Trâm | C11: 01010009 | E11: - Bài viết đăng Kỷ yếu hội thảo cấp trường (COSS 2022) | F11: - Bài viết đăng kỷ yếu hội thảo cấp đơn vị năm 2022
A12: 4 | B12: Nguyễn Thị Bảo Trân | C12: 01010020
A13: 5 | B13: Vương Thanh Thủy | C13: 01010018 | E13: - Bài viết đăng Kỷ yếu hội thảo cấp trường (COSS 2022) | F13: - Bài viết đăng kỷ yếu hội thảo cấp đơn vị năm 2022 -Bài viết sáng kiến được công nhận phạm vi ảnh hưởng cấp trường năm học 2021-2022 (QĐ số 189/QĐ-LTT-HĐSK ngày 15/4/2022)
A14: 6 | B14: Nguyễn Thị Thu Tâm | C14: 01010019
A15: 7 | B15: Võ Thị Hồng Lan | C15: 01010015 | E15: - Bài viết đăng Kỷ yếu hội thảo cấp trường (COSS 2022) | F15: - Bài viết đăng kỷ yếu hội thảo cấp đơn vị năm 2022
A16: 8 | B16: Nguyễn Thị Thanh Tú | C16: 01010027
A17: 9 | B17: Trần Thanh Trúc | C17: 01002025 | E17: - Bài viết đăng Kỷ yếu hội thảo cấp trường (COSS 2022) Bài viết sáng kiến được công nhận phạm vi ảnh hưởng cấp ngành năm học 2021-2022 (QĐ số 1969/QĐ-SGDĐT ngày 03/8/2022) | F17: - Bài viết đăng kỷ yếu hội thảo cấp đơn vị năm 2022
A18: 10 | B18: Nguyễn Thiện Bình | C18: 01010162
A19: 11 | B19: Lâm Thị Phương Thảo | C19: 01010141 | E19: - Bài viết đăng Kỷ yếu hội thảo cấp trường (COSS 2022) | F19: - Bài viết đăng kỷ yếu hội thảo cấp đơn vị năm 2022
A20: 12 | B20: Trần Hà Trang | C20: 01010254
A21: II. Hợp đồng trường
A25: Ghi chú: Gửi kèm minh chứng về phòng Tổ chức - Hành chính - Tổng hợp.
E26: TPHCM, ngày …... tháng …… năm ………
E27: TRƯỞNG ĐƠN VỊ

Sheet Mau 2
A1: TRƯỜNG CAO ĐẲNG LÝ TỰ TRỌNG THÀNH PHỐ HỒ CHÍ MINH KHOA NGOẠI NGỮ | F1: CỘNG HÒA XÃ HỘI CHỦ NGHĨA VIỆT NAM Độc lập - Tự do - Hạnh phúc
G2: Mẫu 2
A3: BẢNG TỔNG HỢP CÔNG VIỆC ĐỘT XUẤT ĐÃ THỰC HIỆN THÁNG 12/2023 (Gửi file mềm ngày 25 hàng tháng)
A6: TT | B6: Nội dung công việc | C6: Số lượng người tham gia thực hiện | D6: Tên người tham gia thực hiện | E6: Thời gian thực hiện | F6: Kết quả thực hiện | G6: Ghi chú
A7: I. | B7: Công việc chung của Trường
A8: Nhiệm vụ 1
A9: Nhiệm vụ 2
A10: Nhiệm vụ 3
A11: Nhiệm vụ 4
A12: II. | B12: Công việc chung của đơn vị
A13: Nhiệm vụ 1 | B13: Đăng bài lên page của Khoa | C13: 1 | D13: C. Hiền
A14: Nhiệm vụ 2 | B14: Tham gia tổ chức chương trình "Giao lưu và tìm hiểu văn hoá Anh - Nhật - Hàn" | C14: 9 | D14: C. Hà, C. Thuỷ, C. Lan, C. Trúc, C. Thảo, C. Trâm, C. Hiền, C. Lê Hà, C. Tú. | G14: Đính kèm Kế hoạch.
A15: Nhiệm vụ 3 | B15: Hỗ trợ 10 suất Học bổng cho SV Khoa NN tỉnh Bình Phước và Vũng Tàu. | C15: 11 | D15: C. Hà, C. Thuỷ, C. Lan, C. Trúc, C. Tâm, T. Bình C. Thảo, C. Trâm, C. Hiền, C. Lê Hà, C. Tú,
A16: Nhiệm vụ 4 | B16: Vận động Doanh nghiệp hỗ trợ các hoạt động phong trào của Khoa | C16: 1 | D16: C. Trâm
A18: Lưu ý: - Nhóm công việc của đơn vị không tính nội dung công việc đã được quy định ở vị trí việc làm (đối với nhân viên); chế độ làm việc của giảng viên/ đã được tính chế độ, thù lao (đối với giảng viên). - Các đơn vị gửi file điện tử về phòng TC-HC-TH (Cô Trần Thị Ánh Phượng) qua hệ thống điện tử E-office nhà trường (không gửi văn bản giấy) ngày 25 hàng tháng./.
E19: Thành phố Hồ Chí Minh, ngày 25 tháng 12 năm 2023
E20: TRƯỞNG ĐƠN VỊ

Sheet Mau 3
A1: TRƯỜNG CAO ĐẲNG LÝ TỰ TRỌNG | I1: CỘNG HÒA XÃ HỘI CHỦ NGHĨA VIỆT NAM
A2: THÀNH PHỐ HỒ CHÍ MINH | I2: Độc lập - Tự do - Hạnh phúc
A3: KHOA NGOẠI NGỮ
N4: Mẫu 3
A5: THỐNG KÊ CHI TIẾT KHỐI LƯỢNG CÔNG VIỆC THỰC HIỆN THÁNG 12/2023
A7: TT | B7: Tên nội dung công việc | D7: Công việc chung của trường | I7: Công việc chung của đơn vị | N7: Ghi chú
B8: Họ và tên | C8: Mã E-office | D8: Nhiệm vụ 1 | E8: Nhiệm vụ 2 | F8: Nhiệm vụ 3 | G8: Nhiệm vụ 4 | H8: Tổng cộng | I8: Nhiệm vụ 1 | J8: Nhiệm vụ 2 | K8: Nhiệm vụ 3 | L8: Nhiệm vụ 4 | M8: Tổng cộng
A9: I. Viên chức
A10: 1 | B10: Nguyễn Thị Thu Hà | C10: 01010039 | J10: 1 | K10: 1 | M10: 2
A11: 2 | B11: Phạm Thị Thu Hiền | C11: 01010040 | I11: 1 | J11: 1 | K11: 1 | M11: 3
A12: 3 | B12: Lê Nguyễn Mỹ Trâm | C12: 01010009 | J12: 1 | K12: 1 | L12: 1 | M12: 3
A13: 4 | B13: Nguyễn Thị Bảo Trân | C13: 01010020 | J13: 0 | K13: 0 | M13: 0
A14: 5 | B14: Vương Thanh Thủy | C14: 01010018 | J14: 1 | K14: 1 | M14: 2
A15: 6 | B15: Nguyễn Thị Thu Tâm | C15: 01010019 | J15: 0 | K15: 1 | M15: 1
A16: 7 | B16: Võ Thị Hồng Lan | C16: 01010015 | J16: 1 | K16: 1 | M16: 2
A17: 8 | B17: Nguyễn Thị Thanh Tú | C17: 01010027 | J17: 1 | K17: 1 | M17: 2
A18: 9 | B18: Trần Thanh Trúc | C18: 01002025 | J18: 1 | K18: 1 | M18: 2
A19: 10 | B19: Nguyễn Thiện Bình | C19: 01010162 | J19: 0 | K19: 1 | M19: 1
A20: 11 | B20: Lâm Thị Phương Thảo | C20: 01010141 | J20: 1 | K20: 1 | M20: 2
A21: 12 | B21: Trần Hà Trang | C21: 01010254 | J21: 0 | K21: 0 | M21: 0
A22: 13 | B22: Lê Thu Hà | C22: 01010260 | J22: 1 | K22: 1 | M22: 2
A23: II. Hợp đồng trường
A24: 01 | H24: =COUNTIF(D24:F24,"X") -> 0 | M24: =COUNTIF(I24:K24,"X") -> 0
A26: Lưu ý: Các đơn vị gửi file điện tử về phòng TC-HC-TH (Cô Trần Thị Ánh Phượng) qua hệ thống điện tử E-office nhà trường (không gửi văn bản giấy).
I27: TPHCM, ngày tháng 11 năm 2023
I28: TRƯỞNG ĐƠN VỊ

Sheet Mau 4 
A1: TRƯỜNG CAO ĐẲNG LÝ TỰ TRỌNG | G1: CỘNG HÒA XÃ HỘI CHỦ NGHĨA VIỆT NAM
A2: THÀNH PHỐ HỒ CHÍ MINH | G2: Độc lập - Tự do - Hạnh phúc
A3: KHOA NGOẠI NGỮ
L4: Mẫu 4
A5: DANH SÁCH XẾP LOẠI THI ĐUA THÁNG 12/2023
A7: TT | B7: Họ tên | C7: Mã E-Office | D7: Tiêu chuẩn đạt mức xếp loại thi đua tối đa trong năm 2023 | E7: Xếp loại thi đua tháng theo quy định (Không vượt quá mức thi đua tối đa) | I7: Số ngày/giờ vượt so với ngày công kế hoạch (đối với CB-NV) | J7: Số ngày nghỉ/ tiết nghỉ (đối với GV) | K7: Đơn vị đề nghị mức xếp loại thi đua
E8: Xếp loại | F8: Lý do | G8: Số lượng công việc chung của trường | H8: Số lượng công việc chung của đơn vị | K8: Xếp loại | L8: Lý do đề nghị
A9: I. Viên chức
A10: 1 | B10: Nguyễn Thị Thu Hà | C10: 01010039 | D10: A2 | E10: A4 | G10: ='Mau 3'!H10 -> 0 | H10: ='Mau 3'!M10 -> 2 | L10: Chưa vận động được DN tài trợ.
A11: 2 | B11: Phạm Thị Thu Hiền | C11: 01010040 | D11: A2 | E11: A3 | G11: ='Mau 3'!H11 -> 0 | H11: ='Mau 3'!M11 -> 3
A12: 3 | B12: Lê Nguyễn Mỹ Trâm | C12: 01010009 | D12: A2 | E12: A3 | G12: ='Mau 3'!H12 -> 0 | H12: ='Mau 3'!M12 -> 3
A13: 4 | B13: Nguyễn Thị Bảo Trân | C13: 01010020 | D13: A4 | E13: A4 | G13: ='Mau 3'!H13 -> 0 | H13: ='Mau 3'!M13 -> 0
A14: 5 | B14: Vương Thanh Thủy | C14: 01010018 | D14: A2 | E14: A3 | G14: ='Mau 3'!H14 -> 0 | H14: 2
A15: 6 | B15: Nguyễn Thị Thu Tâm | C15: 01010019 | D15: A4 | E15: A4 | G15: ='Mau 3'!H15 -> 0 | H15: ='Mau 3'!M15 -> 1
A16: 7 | B16: Võ Thị Hồng Lan | C16: 01010015 | D16: A2 | E16: A3 | G16: ='Mau 3'!H16 -> 0 | H16: ='Mau 3'!M16 -> 2
A17: 8 | B17: Nguyễn Thị Thanh Tú | C17: 01010027 | D17: A4 | E17: A4 | G17: 0 | H17: ='Mau 3'!M17 -> 2 | K17: A3 | L17: Tích cực tham gia hoạt động của Khoa
A18: 9 | B18: Trần Thanh Trúc | C18: 01002025 | D18: A2 | E18: A3 | G18: ='Mau 3'!H18 -> 0 | H18: ='Mau 3'!M18 -> 2
A19: 10 | B19: Nguyễn Thiện Bình | C19: 1010162 | D19: A4 | E19: A4 | G19: ='Mau 3'!H19 -> 0 | H19: 1
A20: 11 | B20: Lâm Thị Phương Thảo | C20: 1010141 | D20: A2 | E20: A3 | G20: ='Mau 3'!H20 -> 0 | H20: ='Mau 3'!M20 -> 2
A21: 12 | B21: Trần Hà Trang | C21: 01010254 | D21: A4 | G21: 0 | H21: 0 | L21: Không xếp loại
A22: 13 | B22: Lê Thu Hà | C22: 01010260 | D22: A4 | E22: A4 | G22: 0 | H22: 2 | K22: A3 | L22: Tích cực tham gia hoạt động của Khoa
A23: II. Hợp đồng trường
A24: 01
B26: Kết quả xếp loại | G26: Viên chức | I26: Hợp đồng trường
B27: A1 | G27: =COUNTIF($E$10:$E$22,"A1") -> 0 | I27: =COUNTIF($E$24:$E$24,"A1") -> 0
B28: A2 | G28: 0 | I28: =COUNTIF($E$24:$E$24,"A3") -> 0
B29: A3 | G29: 6 | I29: =COUNTIF($E$24:$E$24,"A3") -> 0
B30: A4 | G30: 6 | I30: =COUNTIF($E$24:$E$24,"A4") -> 0
B31: A DN | G31: 1 | I31: =COUNTIF($E$24:$E$24,"A DN") -> 0
B32: B1 | G32: =COUNTIF($E$10:$E$22,"B1") -> 0 | I32: =COUNTIF($E$24:$E$24,"B1") -> 0
B33: B2 | G33: =COUNTIF($E$10:$E$22,"B2") -> 0 | I33: =COUNTIF($E$24:$E$24,"B2") -> 0
B34: C1 | G34: =COUNTIF($E$10:$E$22,"C1") -> 0 | I34: =COUNTIF($E$24:$E$24,"C1") -> 0
B35: C2 | G35: =COUNTIF($E$10:$E$22,"C2") -> 0 | I35: =COUNTIF($E$24:$E$24,"C2") -> 0
B36: D | G36: =COUNTIF($E$10:$E$22,"D") -> 0 | I36: =COUNTIF($E$24:$E$24,"D") -> 0
B37: E | G37: =COUNTIF($E$10:$E$22,"E") -> 0 | I37: =COUNTIF($E$24:$E$24,"E") -> 0
B38: Tổng số nhân sự: | G38: =SUM(G27:G37) -> 13 | I38: =SUM(I27:I37) -> 0
A40: Lưu ý: Các đơn vị gửi file mềm qua hệ thống điện tử E-office nhà trường và văn bản giấy về phòng TC-HC-TH (Cô Trần Thị Ánh Phượng).
G41: TPHCM, ngày 19 tháng 12 năm 2023
G42: TRƯỞNG ĐƠN VỊ
