Workbook

Sheet thuyết minh 2017
A1: UBND THÀNH PHỐ HỒ CHÍ MINH | C1: CỘNG HÒA XÃ HỘI CHỦ NGHĨA VIỆT NAM
A2: TRƯỜNG CAO ĐẲNG LÝ TỰ TRỌNG | C2: Độc lập - Tự do - Hạnh phúc
A3: THÀNH PHỐ HỒ CHÍ MINH
A5: BẢNG THUYẾT MINH TỈ LỆ QUY ĐỔI GIẢNG VIÊN/SINH VIÊN NĂM HỌC 2017 - 2018
A7: A. SỐ LƯỢNG SINH VIÊN (tại thời điểm 31/12/2017)
A8: TT | B8: Khóa/đợt tuyển sinh | C8: Số lượng | D8: Số tháng thực học trong năm | E8: Số HSSV quy đổi | F8: Ghi chú | I8: =E12+E17 -> 2639
A9: I | B9: Trình độ Cao đẳng | I9: 202 | K9: =E12+E17 -> 2639
A10: 1.1 | B10: 2017 cao đẳng chính quy (10/2017-10/2019) | C10: 3433 | D10: 3 | E10: =C10*D10/10 -> 1029.9 | I10: =I8/I9 -> 13.064356
A11: 1.2 | B11: 2017 liên thông cao đẳng (11/2017-12/2018) | C11: 67 | D11: 2 | E11: =C11*D11/10 -> 13.4
B12: Tổng I (1) | E12: =SUM(E10:E11) -> 1043.3
A13: II | B13: Trình độ Trung cấp
A14: 2.1 | B14: 2017 trung cấp (1N3) (9/2017-9/2018) | C14: 77 | D14: 4 | E14: =C14*D14/10 -> 30.8
A15: 2.2 | B15: 2017 trung cấp (9+3) (9/2017-9/2020) | C15: 1304 | D15: 4 | E15: =C15*D15/10 -> 521.6
B16: Tổng II (2) | E16: =SUM(E14:E15) -> 552.4
B17: Tổng cộng | E17: =E12+E16 -> 1595.7
A19: B. SỐ LƯỢNG GIẢNG VIÊN (tại thời điểm 31/12/2017)
A20: TT | B20: Giảng viên | C20: Số lượng | D20: KL giảng dạy | F20: Tỷ lệ
A21: 1 | B21: Giảng viên cơ hữu | C21: 199 | D21: 109824
B22: Tổng | C22: =C21 -> 199 | D22: =D21 -> 109824
A24: C. TỈ LỆ GIẢNG VIÊN/SINH VIÊN
B25: 13 HS-SV/01 GV
D26: Ngày 31 tháng 12 năm 2017
B27: NGƯỜI LẬP BẢNG | D27: HIỆU TRƯỞNG
B33: Lê Xuân Thiện | D33: Phạm Hữu Lộc

Sheet Sheet2
A7: stt

Sheet 2019(DL)
A1: UBND THÀNH PHỐ HỒ CHÍ MINH | C1: CỘNG HÒA XÃ HỘI CHỦ NGHĨA VIỆT NAM
A2: TRƯỜNG CAO ĐẲNG LÝ TỰ TRỌNG | C2: Độc lập - Tự do - Hạnh phúc
A3: THÀNH PHỐ HỒ CHÍ MINH
A5: BẢNG THỐNG KÊ TỈ LỆ QUY ĐỔI NGƯỜI HỌC/NHÀ GIÁO NGÀNH CÔNG NGHỆ Ô TÔ - NĂM HỌC 2018 - 2019
A7: A. SỐ LƯỢNG SINH VIÊN (tại thời điểm tháng 12/2019)
A8: TT | B8: Khóa/đợt tuyển sinh | C8: Số lượng | D8: Số tháng thực học trong năm | E8: Số HSSV quy đổi | F8: Ghi chú
A9: I | B9: Trình độ Cao đẳng
A10: 1.1 | B10: 2017 cao đẳng chính quy (10/2017-10/2020) | C10: 766 | D10: 10 | E10: =C10*D10/10 -> 766
A11: 1.2 | B11: 2018 cao đẳng chính quy (10/2018-12/2021) | C11: 1127 | D11: 2 | E11: =C11*D11/10 -> 225.4
B12: Tổng | E12: =SUM(E10:E11) -> 991.4
A14: B. SỐ LƯỢNG GIẢNG VIÊN (tại thời điểm tháng 12/2019)
A15: TT | B15: Giảng viên | C15: Số lượng GV thực tế | D15: Tổng KL giảng dạy (tiết) | F15: Số lượng GV sau quy đổi | H15: KL giảng dạy 1 GV
D16: Khối lượng | E16: Tỷ lệ
A17: 1 | B17: Giảng viên cơ hữu | C17: 37 | D17: 18464 | E17: =C17/C19 -> 0.75510204 | F17: =C17 -> 37 | H17: =ROUND(D17/C17,2) -> 499.03
A18: 2 | B18: Giảng viên thỉnh giảng | C18: 12 | D18: 4664 | E18: =C18/C19 -> 0.24489796 | F18: =ROUND(D18/430,0) -> 11 | H18: =ROUND(D18/C18,2) -> 388.67
B19: Tổng | C19: =C17+C18 -> 49 | D19: =SUM(D17:D18) -> 23128 | F19: =SUM(F17:F18) -> 48
A21: C. TỈ LỆ SINH VIÊN/GIẢNG VIÊN
B22: 1.127/48= 24 SV/01 GV
D23: Ngày 31 tháng 12 năm 2019
B24: NGƯỜI LẬP BẢNG | D24: HIỆU TRƯỞNG
B28: Lâm Viết Dũng | D28: Phạm Hữu Lộc

Sheet 2020(DL)
A1: UBND THÀNH PHỐ HỒ CHÍ MINH | C1: CỘNG HÒA XÃ HỘI CHỦ NGHĨA VIỆT NAM
A2: TRƯỜNG CAO ĐẲNG LÝ TỰ TRỌNG | C2: Độc lập - Tự do - Hạnh phúc
A3: THÀNH PHỐ HỒ CHÍ MINH
A5: BẢNG THỐNG KÊ TỈ LỆ QUY ĐỔI NGƯỜI HỌC/NHÀ GIÁO NGÀNH CÔNG NGHỆ Ô TÔ - NĂM HỌC 2019 - 2020
A7: A. SỐ LƯỢNG SINH VIÊN (tại thời điểm tháng 12/2020)
A8: TT | B8: Khóa/đợt tuyển sinh | C8: Số lượng | D8: Số tháng thực học trong năm | E8: Số HSSV quy đổi | F8: Ghi chú
A9: I | B9: Trình độ Cao đẳng
A10: 1.1 | B10: 2017 cao đẳng chính quy (10/2017-10/2020) | C10: 574 | D10: 8 | E10: =C10*D10/10 -> 459.2
A11: 1.2 | B11: 2018 cao đẳng chính quy (10/2018-12/2019) | C11: 798 | D11: 10 | E11: =C11*D11/10 -> 798
A12: 1.3 | B12: 2019 liên thông cao đẳng (10/2019-12/2019) | C12: 774 | D12: 2 | E12: =C12*D12/10 -> 154.8
B13: Tổng | E13: =SUM(E10:E12) -> 1412
A15: B. SỐ LƯỢNG GIẢNG VIÊN (tại thời điểm tháng 12/2020)
A16: TT | B16: Giảng viên | C16: Số lượng GV thực tế | D16: Tổng KL giảng dạy (tiết) | F16: Số lượng GV sau quy đổi | H16: KL giảng dạy 1 GV
D17: Khối lượng | E17: Tỷ lệ
A18: 1 | B18: Giảng viên cơ hữu | C18: 48 | D18: 18222 | E18: =C18/C20 -> 0.76190476 | F18: =C18 -> 48 | H18: =ROUND(D18/C18,2) -> 379.63
A19: 2 | B19: Giảng viên thỉnh giảng | C19: 15 | D19: 5695 | E19: =C19/C20 -> 0.23809524 | F19: =ROUND(D19/430,0) -> 13 | H19: =ROUND(D19/C19,2) -> 379.67
B20: Tổng | C20: =C18+C19 -> 63 | D20: =SUM(D18:D19) -> 23917 | F20: =SUM(F18:F19) -> 61
A22: C. TỈ LỆ SINH VIÊN/GIẢNG VIÊN
B23: 1.412/61= 23 SV/01 GV
D24: Ngày 31 tháng 12 năm 2020
B25: NGƯỜI LẬP BẢNG | D25: HIỆU TRƯỞNG
B29: Lâm Viết Dũng | D29: Phạm Hữu Lộc

Sheet 2021(DL)
A1: UBND THÀNH PHỐ HỒ CHÍ MINH | C1: CỘNG HÒA XÃ HỘI CHỦ NGHĨA VIỆT NAM
A2: TRƯỜNG CAO ĐẲNG LÝ TỰ TRỌNG | C2: Độc lập - Tự do - Hạnh phúc
A3: THÀNH PHỐ HỒ CHÍ MINH
A5: BẢNG THỐNG KÊ TỈ LỆ QUY ĐỔI NGƯỜI HỌC/NHÀ GIÁO NGÀNH CÔNG NGHỆ Ô TÔ - NĂM HỌC 2020 - 2021
A7: A. SỐ LƯỢNG SINH VIÊN (tại thời điểm tháng 12/2021)
A8: TT | B8: Khóa/đợt tuyển sinh | C8: Số lượng | D8: Số tháng thực học trong năm | E8: Số HSSV quy đổi | F8: Ghi chú
A9: I | B9: Trình độ Cao đẳng
A10: 1.1 | B10: 2018 cao đẳng chính quy (10/2018-10/2020) | C10: 767 | D10: 8 | E10: =C10*D10/10 -> 613.6
A11: 1.2 | B11: 2019 cao đẳng chính quy (10/2019-12/2020) | C11: 513 | D11: 10 | E11: =C11*D11/10 -> 513
A12: 1.3 | B12: 2020 liên thông cao đẳng (10/2020-12/2020) | C12: 817 | D12: 2 | E12: =C12*D12/10 -> 163.4
B13: Tổng | E13: =SUM(E10:E12) -> 1290
A15: B. SỐ LƯỢNG GIẢNG VIÊN (tại thời điểm tháng 12/2021)
A16: TT | B16: Giảng viên | C16: Số lượng GV thực tế | D16: Tổng KL giảng dạy (tiết) | F16: Số lượng GV sau quy đổi | H16: KL giảng dạy 1 GV
D17: Khối lượng | E17: Tỷ lệ
A18: 1 | B18: Giảng viên cơ hữu | C18: 50 | D18: 15842 | E18: =C18/C20 -> 0.75757576 | F18: =C18 -> 50 | H18: =ROUND(D18/C18,2) -> 316.84
A19: 2 | B19: Giảng viên thỉnh giảng | C19: 16 | D19: 5070 | E19: =C19/C20 -> 0.24242424 | F19: =ROUND(D19/430,0) -> 12 | H19: =ROUND(D19/C19,2) -> 316.88
B20: Tổng | C20: =C18+C19 -> 66 | D20: =SUM(D18:D19) -> 20912 | F20: =SUM(F18:F19) -> 62
A22: C. TỈ LỆ SINH VIÊN/GIẢNG VIÊN
B23: 1.290/62= 21 SV/01 GV
D24: Ngày 05 tháng 12 năm 2021
B25: NGƯỜI LẬP BẢNG | D25: HIỆU TRƯỞNG
B29: Lâm Viết Dũng | D29: Phạm Hữu Lộc

Sheet Kangatang

Sheet Kangatang_2

Sheet Kangatang_3

Sheet Kangatang_4

Sheet Kangatang_5

Sheet Kangatang_6

Sheet Kangatang_7

Sheet Kangatang_8

Sheet Kangatang_9

Sheet Kangatang_10

Sheet Kangatang_11

Sheet Kangatang_12

Sheet Kangatang_13

Sheet Kangatang_14

Sheet Kangatang_15

Sheet Kangatang_16

Sheet Kangatang_17

Sheet Kangatang_18

Sheet Kangatang_19

Sheet Kangatang_20

Sheet Kangatang_21

Sheet Kangatang_22

Sheet Kangatang_23

Sheet Kangatang_24

Sheet Kangatang_25

Sheet Kangatang_26

Sheet Kangatang_27

Sheet Kangatang_28

Sheet Kangatang_29

Sheet Kangatang_30

Sheet Kangatang_31

Sheet Kangatang_32

Sheet Kangatang_33

Sheet Kangatang_34

Sheet Kangatang_35

Sheet Kangatang_36

Sheet  GV 2020-2021
A1: UBND THÀNH PHỐ HỒ CHÍ MINH
A2: TRƯỜNG CAO ĐẲNG LÝ TỰ TRỌNG
A3: THÀNH PHỐ HỒ CHÍ MINH
A5: DANH SÁCH TRÍCH NGANG NHÀ GIÁO GIẢNG DẠY NGÀNH QUẢN TRỊ MẠNG MÁY TÍNH NĂM HỌC 2020-2021
A8: St | B8: Họ tên | C8: Giới tính | D8: Đơn vị | E8: Trình độ chuyên môn cao nhất | F8: Chuyên ngành đào tạo | G8: Khối lượng chuẩn giảng dạy
A10: (1) | B10: (2) | C10: (3) | D10: (4) | E10: (6) | F10: (7) | G10: Chuẩn GD | H10: chuẩn quy định | I10: Quy đổi GV
B11: I. Giảng viên chuyên ngành | G11: =SUM(G12:G22) -> 4665.5 | H11: =SUM(H12:H22) -> 4730 | I11: =SUM(I12:I22) -> 10.85 | J11: =G11/H11*20 -> 19.727273
A12: 1 | B12: Nguyễn Văn Đôn | C12: Nam | D12: Trưởng bộ môn | E12: Thạc sỹ | F12: Khoa học máy tính | G12: =430-(430*15%) -> 365.5 | H12: 430 | I12: =G12/H12 -> 0.85
A13: 2 | B13: Vũ Thị Thái Linh | C13: Nữ | D13: Giảng viên | E13: Thạc sỹ | F13: Khoa học máy tính | G13: 430 | H13: 430 | I13: =G13/H13 -> 1
A14: 3 | B14: Bùi Văn Dũng | C14: Nam | D14: Giảng viên | E14: Đại học | F14: Tin học | G14: 430 | H14: 430 | I14: =G14/H14 -> 1
A15: 4 | B15: Đặng Ngọc Đoàn | C15: Nam | D15: Giảng viên | E15: Đại học | F15: Công nghệ thông tin | G15: 430 | H15: 430 | I15: =G15/H15 -> 1
A16: 5 | B16: Dương Ngọc Vọng | C16: Nam | D16: Giảng viên | E16: Đại học | F16: Công nghệ thông tin | G16: 430 | H16: 430 | I16: =G16/H16 -> 1
A17: 6 | B17: Lê Hồng Thái | C17: Nữ | D17: Giảng viên | E17: Thạc sỹ | F17: Khoa học máy tính | G17: 430 | H17: 430 | I17: =G17/H17 -> 1
A18: 7 | B18: Lê Quý Hưng Quốc | C18: Nam | D18: Giảng viên | E18: Thạc sỹ | F18: Khoa học máy tính | G18: 430 | H18: 430 | I18: =G18/H18 -> 1
A19: 8 | B19: Nguyễn Ngọc Tuyên | C19: Nam | D19: Giảng viên | E19: Thạc sỹ | F19: Hệ thống thông tin | G19: 430 | H19: 430 | I19: =G19/H19 -> 1
A20: 9 | B20: Nguyễn Văn Minh | C20: Nam | D20: Giảng viên | E20: Thạc sỹ | F20: Khoa học máy tính | G20: 430 | H20: 430 | I20: =G20/H20 -> 1
A21: 10 | B21: Đỗ Tuấn Việt | C21: Nam | D21: Giảng viên | E21: - Thạc sỹ - Đại học | F21: - Quản lý giáo dục - Công nghệ thông tin | G21: 430 | H21: 430 | I21: =G21/H21 -> 1
A22: 11 | B22: Nguyễn Cao Phong | C22: Nam | D22: Giảng viên | E22: Thạc sỹ | F22: Khoa học máy tính | G22: 430 | H22: 430 | I22: =G22/H22 -> 1
B23: II. Giảng viên môn chung | G23: =SUM(G24:G29) -> 0 | H23: =SUM(H24:H29) -> 2700 | I23: =SUM(I24:I29) -> 0
A24: 1 | B24: Nguyễn Thị Bảo Trân | C24: Nữ | D24: Khoa Khoa học cơ bản | E24: Thạc sỹ | F24: LL&PP dạy học BM Tiếng Anh | H24: 450 | I24: =G24/H24 -> 0
A25: 2 | B25: Phan Thị Thùy Trang | C25: Nữ | D25: Khoa Lý luận Chính trị | E25: Thạc sỹ | F25: Kinh tế chính trị | H25: 450 | I25: =G25/H25 -> 0
A26: 3 | B26: Đặng Thị Nhật Minh | C26: Nữ | D26: Khoa Lý luận Chính trị | E26: Thạc sỹ | F26: Luật kinh tế | H26: 450 | I26: =G26/H26 -> 0
A27: 4 | B27: Nguyễn Ngọc Tuyên | C27: Nam | D27: Khoa Công nghệ thông tin | E27: Thạc sỹ | F27: Hệ thống thông tin | H27: 450 | I27: =G27/H27 -> 0
A28: 5 | B28: Giang Phi Hùng | C28: Nam | D28: Khoa Khoa học cơ bản | E28: Đại học | F28: GDQP-AN | H28: 450 | I28: =G28/H28 -> 0
A29: 6 | B29: Nguyễn Mạnh Phương | C29: Nam | D29: Khoa Khoa học cơ bản | E29: Đại học | F29: Giáo dục thể chất | H29: 450 | I29: =G29/H29 -> 0

Sheet 2020-2021 (QT Mạng MT) in
A1: UBND THÀNH PHỐ HỒ CHÍ MINH | H1: CỘNG HÒA XÃ HỘI CHỦ NGHĨA VIỆT NAM
A2: TRƯỜNG CAO ĐẲNG LÝ TỰ TRỌNG | H2: Độc lập - Tự do - Hạnh phúc
A3: THÀNH PHỐ HỒ CHÍ MINH
A5: BẢNG THỐNG KÊ TỈ LỆ QUY ĐỔI NHÀ GIÁO NGÀNH QUẢN TRỊ MẠNG MÁY TÍNH NĂM - NĂM HỌC 2020-2021
A8: SỐ LƯỢNG GIẢNG VIÊN (tại thời điểm tháng 12/2020)
A9: TT | B9: Giảng viên | C9: Số lượng GV thực tế | D9: Chuẩn khối lượng giảng dạy | F9: Tổng KL giảng dạy trong năm học (tiết) | H9: Số lượng GV sau quy đổi | I9: Tổng số SV chưa quy đổi | J9: Tổng số SV sau quy đổi | K9: Tỷ lệ SV/GV sau quy đổi
D10: Chuẩn KL | E10: KL chuẩn/ GV | F10: Khối lượng | G10: Tỷ lệ
A11: 1 | B11: Giảng viên cơ hữu thuộc khoa Điện-Điện tử | C11: =' GV 2020-2021'!A22 -> 11 | D11: =' GV 2020-2021'!G11 -> 4665.5 | E11: 430 | H11: =' GV 2020-2021'!I11 -> 10.85 | I11: 96 | J11: 52.2 | K11: =J11/H13 -> 4.8110599
A12: 2 | B12: Giảng viên môn chung (Chính trị, Ngoại ngữ, Tin học, GDQPAN, GDTC…) | C12: 6 | E12: 450 | F12: =' GV 2020-2021'!G23 -> 0 | H12: =ROUND(F12/E12,1) -> 0
B13: Tổng | C13: =SUM(C11:C12) -> 17 | F13: =SUM(F11:F12) -> 0 | H13: =SUM(H11:H12) -> 10.85 | I13: =SUM(I11:I12) -> 96 | J13: =SUM(J11:J12) -> 52.2 | K13: =SUM(K11:K12) -> 4.8110599
H15: TP. HCM, ngày tháng năm 2021
A16: HIỆU TRƯỞNG | C16: TRƯỞNG KHOA ĐIỆN - ĐIỆN TỬ | F16: TRƯỞNG PHÒNG TUYỂN SINH - ĐÀO TẠO | I16: TRƯỞNG PHÒNG TỔ CHỨC - HÀNH CHÍNH - TH

Sheet GV 2021-2022
A1: UBND THÀNH PHỐ HỒ CHÍ MINH
A2: TRƯỜNG CAO ĐẲNG LÝ TỰ TRỌNG
A3: THÀNH PHỐ HỒ CHÍ MINH
A5: DANH SÁCH TRÍCH NGANG ĐỘI NGŨ CÁN BỘ QUẢN LÝ NGÀNH QUẢN TRỊ MẠNG MÁY TÍNH NĂM HỌC 2021-2022
A8: St | B8: Họ tên | C8: Giới tính | D8: Đơn vị | E8: Trình độ chuyên môn cao nhất | F8: Chuyên ngành đào tạo | G8: Khối lượng chuẩn giảng dạy
A10: (1) | B10: (2) | C10: (3) | D10: (4) | E10: (6) | F10: (7) | G10: Chuẩn GD | H10: chuẩn quy định | I10: Quy đổi GV
B11: I. Giảng viên chuyên ngành | G11: =SUM(G12:G21) -> 4235.5 | H11: =SUM(H12:H21) -> 4300 | I11: =SUM(I12:I21) -> 9.85 | J11: =G11/H11*20 -> 19.7
A12: 1 | B12: Nguyễn Văn Đôn | C12: Nam | D12: Trưởng bộ môn | E12: Thạc sỹ | F12: Khoa học máy tính | G12: =430-(430*15%) -> 365.5 | H12: 430 | I12: =G12/H12 -> 0.85
A13: 2 | B13: Vũ Thị Thái Linh | C13: Nữ | D13: Giảng viên | E13: Thạc sỹ | F13: Khoa học máy tính | G13: 430 | H13: 430 | I13: =G13/H13 -> 1
A14: 3 | B14: Bùi Văn Dũng | C14: Nam | D14: Giảng viên | E14: Đại học | F14: Tin học | G14: 430 | H14: 430 | I14: =G14/H14 -> 1
A15: 4 | B15: Dương Ngọc Vọng | C15: Nam | D15: Giảng viên | E15: Thạc sỹ | F15: Khoa học máy tính | G15: 430 | H15: 430 | I15: =G15/H15 -> 1
A16: 5 | B16: Lê Hồng Thái | C16: Nữ | D16: Giảng viên | E16: Thạc sỹ | F16: Khoa học máy tính | G16: 430 | H16: 430 | I16: =G16/H16 -> 1
A17: 6 | B17: Lê Quý Hưng Quốc | C17: Nam | D17: Giảng viên | E17: Thạc sỹ | F17: Khoa học máy tính | G17: 430 | H17: 430 | I17: =G17/H17 -> 1
A18: 7 | B18: Nguyễn Ngọc Tuyên | C18: Nam | D18: Giảng viên | E18: Thạc sỹ | F18: Hệ thống thông tin | G18: 430 | H18: 430 | I18: =G18/H18 -> 1
A19: 8 | B19: Nguyễn Văn Minh | C19: Nam | D19: Giảng viên | E19: Thạc sỹ | F19: Khoa học máy tính | G19: 430 | H19: 430 | I19: =G19/H19 -> 1
A20: 9 | B20: Đỗ Tuấn Việt | C20: Nam | D20: Giảng viên | E20: -Thạc sỹ - Đại học | F20: - Quản lý giáo dục - Công nghệ thông tin | G20: 430 | H20: 430 | I20: =G20/H20 -> 1
A21: 10 | B21: Trần Vĩnh Xuyên | C21: Nam | D21: Giảng viên | E21: Thạc sỹ | F21: Khoa học máy tính | G21: 430 | H21: 430 | I21: =G21/H21 -> 1
B22: II. Giảng viên môn chung | G22: =SUM(G23:G29) -> 0 | H22: =SUM(H23:H27) -> 2250 | I22: =SUM(I23:I29) -> 0
A23: 1 | B23: Vương Thanh Thủy | C23: Nữ | D23: Khoa Khoa học cơ bản | E23: Thạc sỹ | F23: LL&PP dạy học bộ môn Tiếng Anh | H23: 450 | I23: =G23/H23 -> 0
A24: 2 | B24: Đỗ Thị Thơm | C24: Nữ | D24: Khoa Lý luận Chính trị | E24: Thạc sỹ | F24: Triết học | H24: 450 | I24: =G24/H24 -> 0
A25: 3 | B25: Trần Văn Lượng | C25: Nam | D25: Khoa Lý luận Chính trị | E25: Đại học | F25: Luật dân sự | H25: 450 | I25: =G25/H25 -> 0
A26: 4 | B26: Nguyễn Hữu Thiện | C26: Nam | D26: Khoa Công nghệ thông tin | E26: Thạc sỹ | F26: Khoa học máy tính | H26: 450 | I26: =G26/H26 -> 0
A27: 5 | B27: Nguyễn Phú Tân | C27: Nam | D27: Khoa Khoa học cơ bản | E27: Thạc sỹ | F27: Giáo dục học | H27: 450 | I27: =G27/H27 -> 0
B28: III. Giảng viên thỉnh giảng | G28: =SUM(G29) -> 0 | H28: =SUM(H29) -> 450 | I28: =SUM(I29) -> 0
A29: 1 | B29: Nguyễn Văn Tứ | C29: Nam | D29: Khoa Khoa học cơ bản | E29: Đại học | F29: Giáo dục Quốc phòng - An Ninh | H29: 450 | I29: =G29/H29 -> 0

Sheet 2021-2022 (QT Mạng MT) in
A1: UBND THÀNH PHỐ HỒ CHÍ MINH | H1: CỘNG HÒA XÃ HỘI CHỦ NGHĨA VIỆT NAM
A2: TRƯỜNG CAO ĐẲNG LÝ TỰ TRỌNG | H2: Độc lập - Tự do - Hạnh phúc
A3: THÀNH PHỐ HỒ CHÍ MINH
A5: BẢNG THỐNG KÊ TỈ LỆ QUY ĐỔI NHÀ GIÁO NGÀNH CƠ ĐIỆN TỬ NĂM - NĂM HỌC 2021 - 2022
A8: SỐ LƯỢNG GIẢNG VIÊN (tại thời điểm tháng 12/2021)
A9: TT | B9: Giảng viên | C9: Số lượng GV thực tế | D9: Chuẩn khối lượng giảng dạy | F9: Tổng KL giảng dạy trong năm học (tiết) | H9: Số lượng GV sau quy đổi | I9: Tổng số SV chưa quy đổi | J9: Tổng số SV sau quy đổi | K9: Tỷ lệ SV/GV sau quy đổi
D10: Chuẩn KL | E10: KL chuẩn/ GV | F10: Khối lượng | G10: Tỷ lệ
A11: 1 | B11: Giảng viên cơ hữu thuộc khoa Điện-Điện tử | C11: ='GV 2021-2022'!A21 -> 10 | D11: ='GV 2021-2022'!G11 -> 4235.5 | E11: 430 | H11: ='GV 2021-2022'!I11 -> 9.85 | I11: 102 | J11: 73.2 | K11: =J11/H14 -> 7.4314721
A12: 2 | B12: Giảng viên môn chung (Chính trị, Ngoại ngữ, Tin học, GDTC…) | C12: ='GV 2021-2022'!A27 -> 5 | E12: 450 | F12: ='GV 2021-2022'!G22 -> 0 | H12: =ROUND(F12/E12,1) -> 0
A13: 3 | B13: Giảng viên thỉnh giảng (GDQP) | C13: ='GV 2021-2022'!A29 -> 1 | E13: 450 | F13: ='GV 2021-2022'!G28 -> 0 | H13: =ROUND(F13/E13,1) -> 0
B14: Tổng | C14: =SUM(C11:C13) -> 16 | F14: =SUM(F11:F13) -> 0 | H14: =SUM(H11:H13) -> 9.85 | I14: =SUM(I11:I13) -> 102 | J14: =SUM(J11:J13) -> 73.2 | K14: =SUM(K11:K13) -> 7.4314721
H16: TP. HCM, ngày tháng năm 2022
A17: HIỆU TRƯỞNG | C17: TRƯỞNG KHOA ĐIỆN - ĐIỆN TỬ | F17: TRƯỞNG PHÒNG TUYỂN SINH - ĐÀO TẠO | I17: TRƯỞNG PHÒNG TỔ CHỨC - HÀNH CHÍNH - TH

Sheet GV 2022-2023
A1: UBND THÀNH PHỐ HỒ CHÍ MINH
A2: TRƯỜNG CAO ĐẲNG LÝ TỰ TRỌNG
A3: THÀNH PHỐ HỒ CHÍ MINH
A5: DANH SÁCH TRÍCH NGANG NHÀ GIÁO GIẢNG DẠY NGÀNH QUẢN TRỊ MẠNG MÁY TÍNH NĂM HỌC 2022 - 2023
A8: St | B8: Họ tên | C8: Giới tính | D8: Đơn vị | E8: Trình độ chuyên môn cao nhất | F8: Chuyên ngành đào tạo | G8: Khối lượng chuẩn giảng dạy
A10: (1) | B10: (2) | C10: (3) | D10: (4) | E10: (6) | F10: (7) | G10: Chuẩn GD | H10: chuẩn quy định | I10: Quy đổi GV
B11: I. Giảng viên chuyên ngành | G11: =SUM(G12:G21) -> 4214 | H11: =SUM(H12:H21) -> 4300 | I11: =SUM(I12:I21) -> 9.8 | J11: =G11/H11*20 -> 19.6
A12: 1 | B12: Nguyễn Văn Đôn | C12: Nam | D12: Phó Trưởng khoa | E12: Thạc sỹ | F12: Khoa học máy tính | G12: =430-(430*20%) -> 344 | H12: 430 | I12: =G12/H12 -> 0.8
A13: 2 | B13: Vũ Thị Thái Linh | C13: Nữ | D13: Giảng viên | E13: Thạc sỹ | F13: Khoa học máy tính | G13: 430 | H13: 430 | I13: =G13/H13 -> 1
A14: 3 | B14: Bùi Văn Dũng | C14: Nam | D14: Giảng viên | E14: Đại học | F14: Tin học | G14: 430 | H14: 430 | I14: =G14/H14 -> 1
A15: 4 | B15: Đặng Ngọc Đoàn | C15: Nam | D15: Giảng viên | E15: Đại học | F15: Công nghệ thông tin | G15: 430 | H15: 430 | I15: =G15/H15 -> 1
A16: 5 | B16: Dương Ngọc Vọng | C16: Nam | D16: Giảng viên | E16: Thạc sỹ | F16: Khoa học máy tính | G16: 430 | H16: 430 | I16: =G16/H16 -> 1
A17: 6 | B17: Lê Hồng Thái | C17: Nữ | D17: Giảng viên | E17: Thạc sỹ | F17: Khoa học máy tính | G17: 430 | H17: 430 | I17: =G17/H17 -> 1
A18: 7 | B18: Lê Quý Hưng Quốc | C18: Nam | D18: Giảng viên | E18: Thạc sỹ | F18: Khoa học máy tính | G18: 430 | H18: 430 | I18: =G18/H18 -> 1
A19: 8 | B19: Nguyễn Ngọc Tuyên | C19: Nam | D19: Giảng viên | E19: Thạc sỹ | F19: Hệ thống thông tin | G19: 430 | H19: 430 | I19: =G19/H19 -> 1
A20: 9 | B20: Nguyễn Văn Minh | C20: Nam | D20: Giảng viên | E20: Thạc sỹ | F20: Khoa học máy tính | G20: 430 | H20: 430 | I20: =G20/H20 -> 1
A21: 10 | B21: Trần Vĩnh Xuyên | C21: Nam | D21: Giảng viên | E21: Thạc sỹ | F21: Khoa học máy tính | G21: 430 | H21: 430 | I21: =G21/H21 -> 1
B22: II. Giảng viên môn chung | G22: =SUM(G23:G26) -> 0 | H22: =SUM(H23:H26) -> 1800 | I22: =SUM(I23:I26) -> 0
A23: 1 | B23: Lê Nguyễn Mỹ Trâm | C23: Nữ | D23: Khoa Ngoại ngữ | E23: Thạc sỹ | F23: Ngôn ngữ học ứng dụng | H23: 450 | I23: =G23/H23 -> 0
A24: =A23+1 -> 2 | B24: Nguyễn Ngọc Quỳnh | C24: Nam | D24: Khoa Lý luận Chính trị | E24: Thạc sỹ | F24: Kinh tế Chính trị | H24: 450 | I24: =G24/H24 -> 0
A25: =A24+1 -> 3 | B25: Trần Văn Lượng | C25: Nam | D25: Khoa Lý luận Chính trị | E25: Đại học | F25: Luật dân sự | H25: 450 | I25: =G25/H25 -> 0
A26: =A25+1 -> 4 | B26: Vũ Thị Thái Linh | C26: Nữ | D26: Khoa Công nghệ thông tin | E26: Thạc sỹ | F26: Khoa học máy tính | H26: 450 | I26: =G26/H26 -> 0
B27: III. Giảng viên thỉnh giảng | G27: =SUM(G28:G29) -> 0 | H27: =SUM(H28:H29) -> 900 | I27: =SUM(I28:I29) -> 0
A28: 1 | B28: Nguyễn Quí Long | C28: Nam | D28: Khoa Khoa học cơ bản | E28: Đại học | F28: Giáo Dục Quốc Phòng An Ninh | H28: 450 | I28: =G28/H28 -> 0
A29: =A28+1 -> 2 | B29: Nguyễn Thuỷ Triều (TG) | C29: Nữ | D29: Khoa Khoa học cơ bản | E29: Đại học | F29: Giáo dục thể chất | H29: 450 | I29: =G29/H29 -> 0

Sheet 2021-2022 (QTM) in
A1: UBND THÀNH PHỐ HỒ CHÍ MINH | H1: CỘNG HÒA XÃ HỘI CHỦ NGHĨA VIỆT NAM
A2: TRƯỜNG CAO ĐẲNG LÝ TỰ TRỌNG | H2: Độc lập - Tự do - Hạnh phúc
A3: THÀNH PHỐ HỒ CHÍ MINH
A5: BẢNG THỐNG KÊ TỈ LỆ QUY ĐỔI NHÀ GIÁO NGÀNH QUẢN TRỊ MẠNG MÁY TÍNH - NĂM HỌC 2022 - 2023
A8: SỐ LƯỢNG GIẢNG VIÊN (tại thời điểm tháng 12/2022)
A9: TT | B9: Giảng viên | C9: Số lượng GV thực tế | D9: Chuẩn khối lượng giảng dạy | F9: Tổng KL giảng dạy trong năm học (tiết) | H9: Số lượng GV sau quy đổi | I9: Tổng số SV chưa quy đổi | J9: Tổng số SV sau quy đổi | K9: Tỷ lệ SV/GV sau quy đổi
D10: Chuẩn KL | E10: KL chuẩn/ GV | F10: Khối lượng | G10: Tỷ lệ
A11: 1 | B11: Giảng viên cơ hữu thuộc khoa Công nghệ thông tin | C11: ='GV 2022-2023'!A21 -> 10 | D11: ='GV 2022-2023'!G11 -> 4214 | E11: 430 | H11: ='GV 2022-2023'!I11 -> 9.8 | I11: 85 | J11: 61.8 | K11: =J11/H14 -> 6.3061224
A12: 2 | B12: Giảng viên môn chung (Chính trị, Ngoại ngữ, Tin học,…) | C12: ='GV 2022-2023'!A26 -> 4 | E12: 450 | F12: ='GV 2022-2023'!G22 -> 0 | H12: =ROUND(F12/E12,1) -> 0
A13: 3 | B13: Giảng viên thỉnh giảng (GDQP) | C13: ='GV 2022-2023'!A29 -> 2 | E13: 450 | F13: ='GV 2022-2023'!G27 -> 0 | H13: =ROUND(F13/E13,1) -> 0
B14: Tổng | C14: =SUM(C11:C13) -> 16 | F14: =SUM(F11:F13) -> 0 | H14: =SUM(H11:H13) -> 9.8 | I14: =SUM(I11:I13) -> 85 | J14: =SUM(J11:J13) -> 61.8 | K14: =SUM(K11:K13) -> 6.3061224
H16: TP. HCM, ngày tháng năm 2023
A17: HIỆU TRƯỞNG | C17: TRƯỞNG KHOA ĐIỆN - ĐIỆN TỬ | F17: TRƯỞNG PHÒNG TUYỂN SINH - ĐÀO TẠO | I17: TRƯỞNG PHÒNG TỔ CHỨC - HÀNH CHÍNH - TH

Sheet Sheet3
A7: Stt | B7: Số lượng giảng | D7: Khối lượng giảng dạy chuẩn theo quy định (tiết) năm học 2019-2020 | H7: Tổng KL giảng dạy thực tế của GV NH 2019-2020 | J7: Tổng số lượng GV giảng dạy trong NH | K7: Số lượng SV
B8: Giảng viên | C8: Số lượng | D8: Tổng khối lượng 1 GV thực hiện tối đa | H8: Tổng khối lượng giảng dạy | I8: Bình quân KL giảng dạy của 01 GV
D9: Khối lượng chuẩn của 1 GV giảng dạy | G9: KL vượt chuẩn (không quá 1,5 lần KL chuẩn theo NĐ 79)
D10: KL chuẩn | E10: KL công tác khác (NCKH, học tập BD) | F10: Tổng KL chuẩn
A11: 01 | B11: Giảng viên cơ hữu | C11: 206 | D11: 430 | E11: =54*2 -> 108 | F11: =D11+E11 -> 538 | G11: =F11*1.5 -> 807 | H11: 160359 | I11: =ROUND(H11/C11,1) -> 778.4
A12: 02 | B12: Giảng viên thỉnh giảng | C12: 124 | H12: 25090
