Workbook

Sheet CN
A1: ỦY BAN NHÂN DÂN TP.HCM | R1: CỘNG HÒA XÃ HỘI CHỦ NGHĨA VIỆT NAM
A2: TRƯỜNG CAO ĐẲNG LÝ TỰ TRỌNG | R2: Độc lập - Tự do - Hạnh phúc
A3: THÀNH PHỐ HỒ CHÍ MINH
A5: BẢNG THU NHẬP TĂNG THÊM - LƯƠNG THEO HỆ SỐ ĐIỀU CHỈNH THÁNG 12 NĂM 2023
A6: CÁN BỘ VIÊN CHỨC TRONG CHỈ TIÊU BIÊN CHẾ
A7: (Chi theo Chương II - "Những quy định cụ thể"/ Mục 2 - "Chi thanh toán cá nhân"/ Điều 17 - "Các khoản thanh toán cá nhân"/ Khoản b - "Thu nhập tăng thêm" trong Quy chế chi tiêu nội bộ năm 2023 ban hành kèm theo Quyết định số 739/QĐ-LTT-KHTC ngày 02 tháng 11 năm 2022)
A8: Mức lương tối thiểu hệ số 1 = 1.800.000 | C8: 1490000 | G8: 1800000 | V8: Đơn vị tính: đồng
A10: STT | B10: HỌ VÀ TÊN | D10: Số tài khoản thẻ ATM OCB | E10: Số tài khoản thẻ ATM AGRIBANK | F10: HS (hide) | G10: VK (hide) | H10: HS THỰC HƯỞNG (hide) | I10: HSPC (hide) | J10: HS LƯƠNG +PCCV | K10: CỘNG LƯƠNG (hide) | L10: XẾP LOẠI | M10: Mức lương theo hệ số điều chỉnh | N10: Số ngày công kế hoạch | O10: Số ngày công thực hiện | P10: Lương điều chỉnh tính theo ngày công thực hiện/tháng | Q10: HỆ SỐ TRUY LÃNH LƯƠNG (CỘT NÀY HIDE) | R10: Truy lãnh lương điều chỉnh do truy lãnh lương | S10: HỆ SỐ TRUY LÃNH PCCV (CỘT NÀY HIDE) | T10: Truy lãnh lương điều chỉnh do truy lãnh PCCV | U10: Trường hỗ trợ 1% BHYT | V10: THÀNH TIỀN | X10: GHI CHÚ
A11: 01 | B11: 02 | F11: 03 | G11: 04 | H11: 05 | I11: 06 | J11: 03 | K11: 08 | L11: 04 | M11: 05 | N11: 06 | O11: 07 | P11: 08 | Q11: 16 | R11: 09 | S11: 18 | T11: 10 | U11: 11 | V11: 12 | X11: 13
A12: =_xlfn.AGGREGATE(4,7,A$11:A11)+1 -> 1 | B12: Phạm Hữu Lộc | C12: LỘC | D12: 0016100006544007 | E12: 1603215001126 | F12: 5.76 | G12: 0 | H12: =F12+(F12*G12) -> 5.76 | I12: 0.9 | J12: =H12+I12 -> 6.66 | K12: =J12*$G$8 -> 11988000 | L12: =VLOOKUP(B12,'[1]Gui chi Quynh'!$B$7:$F$397,5,FALSE) -> A1 | M12: =IF(L12="A1",K12*1.6,IF(L12="A2",K12*1.4,IF(L12="A3",K12*1.2,IF(L12="A4",K12*1,IF(L12="B1",K12*0.7,IF(L12="B2",K12*0.5,IF(L12="C1",K12*0.3,IF(L12="C2",K12*0.2,0)))))))) -> 19180800 | N12: 21 | O12: =IFERROR(INDEX('[2]CN BC'!$J$10:$J$276,MATCH(B12,'[2]CN BC'!$H$10:$H$276,0)),"") -> 28 | P12: =IF(O12>=N12,M12,M12/N12*O12) -> 19180800 | R12: =Q12*$G$8*1.6 -> 0 | T12: =S12*$G$8*1 -> 0 | U12: =IF(OR(L12="A DN",L12="KXL", L12=""),"0",ROUND(J12*0.01*$G$8+Q12*1%*$G$8+S12*1%*$G$8,)) -> 119880 | V12: =(P12+R12+T12+U12) -> 19300680 | W12: 31 | X12: =A12 -> 1 | Y12: =IFERROR(INDEX('[2]CN BC'!$M$10:$M$276,MATCH(B12,'[2]CN BC'!$H$10:$H$276,0)),"") -> 0 | Z12: BGH
A13: =_xlfn.AGGREGATE(4,7,A$11:A12)+1 -> 2 | B13: Đinh Văn Đệ | C13: ĐỆ | D13: 0016100006699008 | E13: 1603215001371 | F13: 4.98 | G13: 0.07 | H13: =F13+(F13*G13) -> 5.3286 | I13: 0.7 | J13: =H13+I13 -> 6.0286 | K13: =J13*$G$8 -> 10851480 | L13: =VLOOKUP(B13,'[1]Gui chi Quynh'!$B$7:$F$397,5,FALSE) -> A1 | M13: =IF(L13="A1",K13*1.6,IF(L13="A2",K13*1.4,IF(L13="A3",K13*1.2,IF(L13="A4",K13*1,IF(L13="B1",K13*0.7,IF(L13="B2",K13*0.5,IF(L13="C1",K13*0.3,IF(L13="C2",K13*0.2,0)))))))) -> 17362368 | N13: 21 | O13: =IFERROR(INDEX('[2]CN BC'!$J$10:$J$276,MATCH(B13,'[2]CN BC'!$H$10:$H$276,0)),"") -> 28 | P13: =IF(O13>=N13,M13,M13/N13*O13) -> 17362368 | R13: =Q13*$G$8*1.6 -> 0 | T13: =S13*$G$8*1 -> 0 | U13: =IF(OR(L13="A DN",L13="KXL", L13=""),"0",ROUND(J13*0.01*$G$8+Q13*1%*$G$8+S13*1%*$G$8,)) -> 108515 | V13: =(P13+R13+T13+U13) -> 17470883 | W13: 29 | X13: =A13 -> 2 | Y13: =IFERROR(INDEX('[2]CN BC'!$M$10:$M$276,MATCH(B13,'[2]CN BC'!$H$10:$H$276,0)),"") -> 0 | Z13: BGH
A14: =_xlfn.AGGREGATE(4,7,A$11:A13)+1 -> 3 | B14: Đinh Hồng Minh | C14: MINH | D14: 0016100006543008 | E14: 1603205186191 | F14: 4.98 | G14: 0.08 | H14: =F14+(F14*G14) -> 5.3784 | I14: 0.7 | J14: =H14+I14 -> 6.0784 | K14: =J14*$G$8 -> 10941120 | L14: =VLOOKUP(B14,'[1]Gui chi Quynh'!$B$7:$F$397,5,FALSE) -> A1 | M14: =IF(L14="A1",K14*1.6,IF(L14="A2",K14*1.4,IF(L14="A3",K14*1.2,IF(L14="A4",K14*1,IF(L14="B1",K14*0.7,IF(L14="B2",K14*0.5,IF(L14="C1",K14*0.3,IF(L14="C2",K14*0.2,0)))))))) -> 17505792 | N14: 21 | O14: =IFERROR(INDEX('[2]CN BC'!$J$10:$J$276,MATCH(B14,'[2]CN BC'!$H$10:$H$276,0)),"") -> 25 | P14: =IF(O14>=N14,M14,M14/N14*O14) -> 17505792 | Q14: =(4.98*1%)*2 -> 0.0996 | R14: =Q14*$G$8*1.6 -> 286848 | T14: =S14*$G$8*1 -> 0 | U14: =IF(OR(L14="A DN",L14="KXL", L14=""),"0",ROUND(J14*0.01*$G$8+Q14*1%*$G$8+S14*1%*$G$8,)) -> 111204 | V14: =(P14+R14+T14+U14) -> 17903844 | W14: 29 | X14: =A14 -> 3 | Y14: - Trừ 1 ngày nghỉ phép 29/12 - Truy lãnh PCTN VK T10+11/23 | Z14: BGH
A15: =_xlfn.AGGREGATE(4,7,A$11:A14)+1 -> 4 | B15: Châu Văn Bảo | D15: 0016100006674008 | E15: 1603215001359 | F15: 4.65 | H15: =F15+(F15*G15) -> 4.65 | I15: 0.7 | J15: =H15+I15 -> 5.35 | K15: =J15*$G$8 -> 9630000 | L15: =VLOOKUP(B15,'[1]Gui chi Quynh'!$B$7:$F$397,5,FALSE) -> A1 | M15: =IF(L15="A1",K15*1.6,IF(L15="A2",K15*1.4,IF(L15="A3",K15*1.2,IF(L15="A4",K15*1,IF(L15="B1",K15*0.7,IF(L15="B2",K15*0.5,IF(L15="C1",K15*0.3,IF(L15="C2",K15*0.2,0)))))))) -> 15408000 | N15: 21 | O15: =IFERROR(INDEX('[2]CN BC'!$J$10:$J$276,MATCH(B15,'[2]CN BC'!$H$10:$H$276,0)),"") -> 27 | P15: =IF(O15>=N15,M15,M15/N15*O15) -> 15408000 | R15: =Q15*$G$8*1 -> 0 | T15: =S15*$G$8*1 -> 0 | U15: =IF(OR(L15="A DN",L15="KXL", L15=""),"0",ROUND(J15*0.01*$G$8+Q15*1%*$G$8+S15*1%*$G$8,)) -> 96300 | V15: =(P15+R15+T15+U15) -> 15504300 | W15: 30 | X15: =A15 -> 4 | Y15: =IFERROR(INDEX('[2]CN BC'!$M$10:$M$276,MATCH(B15,'[2]CN BC'!$H$10:$H$276,0)),"") -> 0 | Z15: BGH
A16: =_xlfn.AGGREGATE(4,7,A$11:A15)+1 -> 5 | B16: Lâm Viết Dũng | C16: DŨNG | D16: 0016106868686866 | E16: 1603215002237 | F16: 4.98 | G16: 0.05 | H16: =F16+(F16*G16) -> 5.229 | I16: 0.45 | J16: =H16+I16 -> 5.679 | K16: =J16*$G$8 -> 10222200 | L16: =VLOOKUP(B16,'[1]Gui chi Quynh'!$B$7:$F$397,5,FALSE) -> A1 | M16: =IF(L16="A1",K16*1.6,IF(L16="A2",K16*1.4,IF(L16="A3",K16*1.2,IF(L16="A4",K16*1,IF(L16="B1",K16*0.7,IF(L16="B2",K16*0.5,IF(L16="C1",K16*0.3,IF(L16="C2",K16*0.2,0)))))))) -> 16355520 | N16: 21 | O16: =IFERROR(INDEX('[2]CN BC'!$J$10:$J$276,MATCH(B16,'[2]CN BC'!$H$10:$H$276,0)),"") -> 29 | P16: =IF(O16>=N16,M16,M16/N16*O16) -> 16355520 | R16: =Q16*$G$8*1 -> 0 | T16: =S16*$G$8*1 -> 0 | U16: =IF(OR(L16="A DN",L16="KXL", L16=""),"0",ROUND(J16*0.01*$G$8+Q16*1%*$G$8+S16*1%*$G$8,)) -> 102222 | V16: =(P16+R16+T16+U16) -> 16457742 | W16: 30 | X16: =A16 -> 5 | Y16: =IFERROR(INDEX('[2]CN BC'!$M$10:$M$276,MATCH(B16,'[2]CN BC'!$H$10:$H$276,0)),"") -> 0 | Z16: TCHC
A17: =_xlfn.AGGREGATE(4,7,A$11:A16)+1 -> 6 | B17: Lưu Hoàng Hải Yến | C17: YẾN | D17: 0016100006799005 | E17: 1603205353720 | F17: 3.33 | H17: =F17+(F17*G17) -> 3.33 | I17: 0.35 | J17: =H17+I17 -> 3.68 | K17: =J17*$G$8 -> 6624000 | L17: =VLOOKUP(B17,'[1]Gui chi Quynh'!$B$7:$F$397,5,FALSE) -> A2 | M17: =IF(L17="A1",K17*1.6,IF(L17="A2",K17*1.4,IF(L17="A3",K17*1.2,IF(L17="A4",K17*1,IF(L17="B1",K17*0.7,IF(L17="B2",K17*0.5,IF(L17="C1",K17*0.3,IF(L17="C2",K17*0.2,0)))))))) -> 9273600 | N17: 21 | O17: =IFERROR(INDEX('[2]CN BC'!$J$10:$J$276,MATCH(B17,'[2]CN BC'!$H$10:$H$276,0)),"") -> 21 | P17: =IF(O17>=N17,M17,M17/N17*O17) -> 9273600 | R17: =Q17*$G$8*1 -> 0 | T17: =S17*$G$8*1 -> 0 | U17: =IF(OR(L17="A DN",L17="KXL", L17=""),"0",ROUND(J17*0.01*$G$8+Q17*1%*$G$8+S17*1%*$G$8,)) -> 66240 | V17: =(P17+R17+T17+U17) -> 9339840 | W17: 23.5 | X17: =A17 -> 6 | Y17: =IFERROR(INDEX('[2]CN BC'!$M$10:$M$276,MATCH(B17,'[2]CN BC'!$H$10:$H$276,0)),"") -> Trừ 1 ngày nghỉ phép 1/12 | Z17: TCHC
A18: =_xlfn.AGGREGATE(4,7,A$11:A17)+1 -> 7 | B18: Huỳnh Thị Minh Ly | C18: LY | D18: 0016100006518006 | E18: 1603205185719 | F18: 3 | H18: =F18+(F18*G18) -> 3 | I18: 0.35 | J18: =H18+I18 -> 3.35 | K18: =J18*$G$8 -> 6030000 | L18: =VLOOKUP(B18,'[1]Gui chi Quynh'!$B$7:$F$397,5,FALSE) -> A1 | M18: =IF(L18="A1",K18*1.6,IF(L18="A2",K18*1.4,IF(L18="A3",K18*1.2,IF(L18="A4",K18*1,IF(L18="B1",K18*0.7,IF(L18="B2",K18*0.5,IF(L18="C1",K18*0.3,IF(L18="C2",K18*0.2,0)))))))) -> 9648000 | N18: 21 | O18: =IFERROR(INDEX('[2]CN BC'!$J$10:$J$276,MATCH(B18,'[2]CN BC'!$H$10:$H$276,0)),"") -> 26.5 | P18: =IF(O18>=N18,M18,M18/N18*O18) -> 9648000 | R18: =Q18*$G$8*1 -> 0 | T18: =S18*$G$8*1 -> 0 | U18: =IF(OR(L18="A DN",L18="KXL", L18=""),"0",ROUND(J18*0.01*$G$8+Q18*1%*$G$8+S18*1%*$G$8,)) -> 60300 | V18: =(P18+R18+T18+U18) -> 9708300 | W18: 27.5 | X18: =A18 -> 7 | Y18: =IFERROR(INDEX('[2]CN BC'!$M$10:$M$276,MATCH(B18,'[2]CN BC'!$H$10:$H$276,0)),"") -> 0 | Z18: TCHC
A19: =_xlfn.AGGREGATE(4,7,A$11:A18)+1 -> 8 | B19: Phan Thị Ngọc Phượng | C19: PHƯỢNG | D19: 0016100006635002 | E19: 1603205186162 | F19: 3.66 | H19: =F19+(F19*G19) -> 3.66 | J19: =H19+I19 -> 3.66 | K19: =J19*$G$8 -> 6588000 | L19: =VLOOKUP(B19,'[1]Gui chi Quynh'!$B$7:$F$397,5,FALSE) -> A1 | M19: =IF(L19="A1",K19*1.6,IF(L19="A2",K19*1.4,IF(L19="A3",K19*1.2,IF(L19="A4",K19*1,IF(L19="B1",K19*0.7,IF(L19="B2",K19*0.5,IF(L19="C1",K19*0.3,IF(L19="C2",K19*0.2,0)))))))) -> 10540800 | N19: 21 | O19: =IFERROR(INDEX('[2]CN BC'!$J$10:$J$276,MATCH(B19,'[2]CN BC'!$H$10:$H$276,0)),"") -> 23 | P19: =IF(O19>=N19,M19,M19/N19*O19) -> 10540800 | R19: =Q19*$G$8*1 -> 0 | T19: =S19*$G$8*1 -> 0 | U19: =IF(OR(L19="A DN",L19="KXL", L19=""),"0",ROUND(J19*0.01*$G$8+Q19*1%*$G$8+S19*1%*$G$8,)) -> 65880 | V19: =(P19+R19+T19+U19) -> 10606680 | W19: 24.5 | X19: =A19 -> 8 | Y19: =IFERROR(INDEX('[2]CN BC'!$M$10:$M$276,MATCH(B19,'[2]CN BC'!$H$10:$H$276,0)),"") -> 0 | Z19: TCHC
A20: =_xlfn.AGGREGATE(4,7,A$11:A19)+1 -> 9 | B20: Vũ Như Quỳnh | C20: QUỲNH | D20: 0016100006771003 | E20: 1603205186127 | F20: 3.66 | H20: =F20+(F20*G20) -> 3.66 | J20: =H20+I20 -> 3.66 | K20: =J20*$G$8 -> 6588000 | L20: =VLOOKUP(B20,'[1]Gui chi Quynh'!$B$7:$F$397,5,FALSE) -> A1 | M20: =IF(L20="A1",K20*1.6,IF(L20="A2",K20*1.4,IF(L20="A3",K20*1.2,IF(L20="A4",K20*1,IF(L20="B1",K20*0.7,IF(L20="B2",K20*0.5,IF(L20="C1",K20*0.3,IF(L20="C2",K20*0.2,0)))))))) -> 10540800 | N20: 21 | O20: =IFERROR(INDEX('[2]CN BC'!$J$10:$J$276,MATCH(B20,'[2]CN BC'!$H$10:$H$276,0)),"") -> 23 | P20: =IF(O20>=N20,M20,M20/N20*O20) -> 10540800 | R20: =Q20*$G$8*1 -> 0 | T20: =S20*$G$8*1 -> 0 | U20: =IF(OR(L20="A DN",L20="KXL", L20=""),"0",ROUND(J20*0.01*$G$8+Q20*1%*$G$8+S20*1%*$G$8,)) -> 65880 | V20: =(P20+R20+T20+U20) -> 10606680 | W20: 24.5 | X20: =A20 -> 9 | Y20: =IFERROR(INDEX('[2]CN BC'!$M$10:$M$276,MATCH(B20,'[2]CN BC'!$H$10:$H$276,0)),"") -> 0 | Z20: TCHC
A21: =_xlfn.AGGREGATE(4,7,A$11:A20)+1 -> 10 | B21: Nguyễn Thị Bích Liễu | C21: LIỄU | D21: 0016100006663006 | E21: 1603205249292 | F21: 3.46 | H21: =F21+(F21*G21) -> 3.46 | J21: =H21+I21 -> 3.46 | K21: =J21*$G$8 -> 6228000 | L21: =VLOOKUP(B21,'[1]Gui chi Quynh'!$B$7:$F$397,5,FALSE) -> A2 | M21: =IF(L21="A1",K21*1.6,IF(L21="A2",K21*1.4,IF(L21="A3",K21*1.2,IF(L21="A4",K21*1,IF(L21="B1",K21*0.7,IF(L21="B2",K21*0.5,IF(L21="C1",K21*0.3,IF(L21="C2",K21*0.2,0)))))))) -> 8719200 | N21: 21 | O21: =IFERROR(INDEX('[2]CN BC'!$J$10:$J$276,MATCH(B21,'[2]CN BC'!$H$10:$H$276,0)),"") -> 22 | P21: =IF(O21>=N21,M21,M21/N21*O21) -> 8719200 | R21: =Q21*$G$8*1 -> 0 | T21: =S21*$G$8*1 -> 0 | U21: =IF(OR(L21="A DN",L21="KXL", L21=""),"0",ROUND(J21*0.01*$G$8+Q21*1%*$G$8+S21*1%*$G$8,)) -> 62280 | V21: =(P21+R21+T21+U21) -> 8781480 | W21: 24.5 | X21: =A21 -> 10 | Y21: =IFERROR(INDEX('[2]CN BC'!$M$10:$M$276,MATCH(B21,'[2]CN BC'!$H$10:$H$276,0)),"") -> Trừ 1 ngày nghỉ phép 25/12 | Z21: TCHC
A22: =_xlfn.AGGREGATE(4,7,A$11:A21)+1 -> 11 | B22: Nguyễn Văn Chì | C22: CHÌ | D22: 0016100006765003 | E22: 1603205280047 | F22: 3.66 | H22: =F22+(F22*G22) -> 3.66 | J22: =H22+I22 -> 3.66 | K22: =J22*$G$8 -> 6588000 | L22: =VLOOKUP(B22,'[1]Gui chi Quynh'!$B$7:$F$397,5,FALSE) -> A2 | M22: =IF(L22="A1",K22*1.6,IF(L22="A2",K22*1.4,IF(L22="A3",K22*1.2,IF(L22="A4",K22*1,IF(L22="B1",K22*0.7,IF(L22="B2",K22*0.5,IF(L22="C1",K22*0.3,IF(L22="C2",K22*0.2,0)))))))) -> 9223200 | N22: 21 | O22: =IFERROR(INDEX('[2]CN BC'!$J$10:$J$276,MATCH(B22,'[2]CN BC'!$H$10:$H$276,0)),"") -> 21 | P22: =IF(O22>=N22,M22,M22/N22*O22) -> 9223200 | R22: =Q22*$G$8*1 -> 0 | T22: =S22*$G$8*1 -> 0 | U22: =IF(OR(L22="A DN",L22="KXL", L22=""),"0",ROUND(J22*0.01*$G$8+Q22*1%*$G$8+S22*1%*$G$8,)) -> 65880 | V22: =(P22+R22+T22+U22) -> 9289080 | W22: 24 | X22: =A22 -> 11 | Y22: =IFERROR(INDEX('[2]CN BC'!$M$10:$M$276,MATCH(B22,'[2]CN BC'!$H$10:$H$276,0)),"") -> 0 | Z22: TCHC
A23: =_xlfn.AGGREGATE(4,7,A$11:A22)+1 -> 12 | B23: Trần Thị Ánh Phượng | C23: PHƯỢNG | D23: 0016100006767006 | E23: 1603205246134 | F23: 3.33 | H23: =F23+(F23*G23) -> 3.33 | J23: =H23+I23 -> 3.33 | K23: =J23*$G$8 -> 5994000 | L23: =VLOOKUP(B23,'[1]Gui chi Quynh'!$B$7:$F$397,5,FALSE) -> A1 | M23: =IF(L23="A1",K23*1.6,IF(L23="A2",K23*1.4,IF(L23="A3",K23*1.2,IF(L23="A4",K23*1,IF(L23="B1",K23*0.7,IF(L23="B2",K23*0.5,IF(L23="C1",K23*0.3,IF(L23="C2",K23*0.2,0)))))))) -> 9590400 | N23: 21 | O23: =IFERROR(INDEX('[2]CN BC'!$J$10:$J$276,MATCH(B23,'[2]CN BC'!$H$10:$H$276,0)),"") -> 21.5 | P23: =IF(O23>=N23,M23,M23/N23*O23) -> 9590400 | R23: =Q23*$G$8*1 -> 0 | T23: =S23*$G$8*1 -> 0 | U23: =IF(OR(L23="A DN",L23="KXL", L23=""),"0",ROUND(J23*0.01*$G$8+Q23*1%*$G$8+S23*1%*$G$8,)) -> 59940 | V23: =(P23+R23+T23+U23) -> 9650340 | W23: 23 | X23: =A23 -> 12 | Y23: =IFERROR(INDEX('[2]CN BC'!$M$10:$M$276,MATCH(B23,'[2]CN BC'!$H$10:$H$276,0)),"") -> 0 | Z23: TCHC
A24: =_xlfn.AGGREGATE(4,7,A$11:A23)+1 -> 13 | B24: Trần Thị Phương Oanh | C24: OANH | D24: 0016100006576006 | E24: 1603205178794 | F24: 3.66 | H24: =F24+(F24*G24) -> 3.66 | J24: =H24+I24 -> 3.66 | K24: =J24*$G$8 -> 6588000 | L24: =VLOOKUP(B24,'[1]Gui chi Quynh'!$B$7:$F$397,5,FALSE) -> A2 | M24: =IF(L24="A1",K24*1.6,IF(L24="A2",K24*1.4,IF(L24="A3",K24*1.2,IF(L24="A4",K24*1,IF(L24="B1",K24*0.7,IF(L24="B2",K24*0.5,IF(L24="C1",K24*0.3,IF(L24="C2",K24*0.2,0)))))))) -> 9223200 | N24: 21 | O24: =IFERROR(INDEX('[2]CN BC'!$J$10:$J$276,MATCH(B24,'[2]CN BC'!$H$10:$H$276,0)),"") -> 21.5 | P24: =IF(O24>=N24,M24,M24/N24*O24) -> 9223200 | R24: =Q24*$G$8*1.4 -> 0 | T24: =S24*$G$8*1 -> 0 | U24: =IF(OR(L24="A DN",L24="KXL", L24=""),"0",ROUND(J24*0.01*$G$8+Q24*1%*$G$8+S24*1%*$G$8,)) -> 65880 | V24: =(P24+R24+T24+U24) -> 9289080 | W24: 25.5 | X24: =A24 -> 13 | Y24: =IFERROR(INDEX('[2]CN BC'!$M$10:$M$276,MATCH(B24,'[2]CN BC'!$H$10:$H$276,0)),"") -> 0 | Z24: TCHC
A25: =_xlfn.AGGREGATE(4,7,A$11:A24)+1 -> 14 | B25: Thân Thị Nhung | C25: NHUNG | D25: 0016100006832002 | E25: 1603205360856 | F25: 3.33 | H25: =F25+(F25*G25) -> 3.33 | J25: =H25+I25 -> 3.33 | K25: =J25*$G$8 -> 5994000 | L25: =VLOOKUP(B25,'[1]Gui chi Quynh'!$B$7:$F$397,5,FALSE) -> A1 | M25: =IF(L25="A1",K25*1.6,IF(L25="A2",K25*1.4,IF(L25="A3",K25*1.2,IF(L25="A4",K25*1,IF(L25="B1",K25*0.7,IF(L25="B2",K25*0.5,IF(L25="C1",K25*0.3,IF(L25="C2",K25*0.2,0)))))))) -> 9590400 | N25: 21 | O25: =IFERROR(INDEX('[2]CN BC'!$J$10:$J$276,MATCH(B25,'[2]CN BC'!$H$10:$H$276,0)),"") -> 21.5 | P25: =IF(O25>=N25,M25,M25/N25*O25) -> 9590400 | R25: =Q25*$G$8*1 -> 0 | T25: =S25*$G$8*1 -> 0 | U25: =IF(OR(L25="A DN",L25="KXL", L25=""),"0",ROUND(J25*0.01*$G$8+Q25*1%*$G$8+S25*1%*$G$8,)) -> 59940 | V25: =(P25+R25+T25+U25) -> 9650340 | W25: 0 | X25: =A25 -> 14 | Y25: =IFERROR(INDEX('[2]CN BC'!$M$10:$M$276,MATCH(B25,'[2]CN BC'!$H$10:$H$276,0)),"") -> 0 | Z25: TCHC
A26: =_xlfn.AGGREGATE(4,7,A$11:A25)+1 -> 15 | B26: Nguyễn Thị Vân | C26: VÂN | D26: 0016100006864001 | E26: 1603205545491 | F26: 2.41 | H26: =F26+(F26*G26) -> 2.41 | J26: =H26+I26 -> 2.41 | K26: =J26*$G$8 -> 4338000 | L26: =VLOOKUP(B26,'[1]Gui chi Quynh'!$B$7:$F$397,5,FALSE) -> A2 | M26: =IF(L26="A1",K26*1.6,IF(L26="A2",K26*1.4,IF(L26="A3",K26*1.2,IF(L26="A4",K26*1,IF(L26="B1",K26*0.7,IF(L26="B2",K26*0.5,IF(L26="C1",K26*0.3,IF(L26="C2",K26*0.2,0)))))))) -> 6073200 | N26: 21 | O26: =IFERROR(INDEX('[2]CN BC'!$J$10:$J$276,MATCH(B26,'[2]CN BC'!$H$10:$H$276,0)),"") -> 24 | P26: =IF(O26>=N26,M26,M26/N26*O26) -> 6073200 | R26: =Q26*$G$8*1 -> 0 | T26: =S26*$G$8*1 -> 0 | U26: =IF(OR(L26="A DN",L26="KXL", L26=""),"0",ROUND(J26*0.01*$G$8+Q26*1%*$G$8+S26*1%*$G$8,)) -> 43380 | V26: =(P26+R26+T26+U26) -> 6116580 | W26: 26 | X26: =A26 -> 15 | Y26: =IFERROR(INDEX('[2]CN BC'!$M$10:$M$276,MATCH(B26,'[2]CN BC'!$H$10:$H$276,0)),"") -> 0
A27: =_xlfn.AGGREGATE(4,7,A$11:A26)+1 -> 16 | B27: Lê Thị Hải Đăng | F27: 3.66 | H27: =F27+(F27*G27) -> 3.66 | J27: =H27+I27 -> 3.66 | K27: =J27*$G$8 -> 6588000 | L27: =VLOOKUP(B27,'[1]Gui chi Quynh'!$B$7:$F$397,5,FALSE) -> A2 | M27: =IF(L27="A1",K27*1.6,IF(L27="A2",K27*1.4,IF(L27="A3",K27*1.2,IF(L27="A4",K27*1,IF(L27="B1",K27*0.7,IF(L27="B2",K27*0.5,IF(L27="C1",K27*0.3,IF(L27="C2",K27*0.2,0)))))))) -> 9223200 | N27: 21 | O27: =IFERROR(INDEX('[2]CN BC'!$J$10:$J$276,MATCH(B27,'[2]CN BC'!$H$10:$H$276,0)),"") -> 23 | P27: =IF(O27>=N27,M27,M27/N27*O27) -> 9223200 | R27: =Q27*$G$8*1 -> 0 | T27: =S27*$G$8*1 -> 0 | U27: =IF(OR(L27="A DN",L27="KXL", L27=""),"0",ROUND(J27*0.01*$G$8+Q27*1%*$G$8+S27*1%*$G$8,)) -> 65880 | V27: =(P27+R27+T27+U27) -> 9289080 | X27: =A27 -> 16 | Y27: =IFERROR(INDEX('[2]CN BC'!$M$10:$M$276,MATCH(B27,'[2]CN BC'!$H$10:$H$276,0)),"") -> 0
A28: =_xlfn.AGGREGATE(4,7,A$11:A27)+1 -> 17 | B28: Lê Quang Liêm | C28: LIÊM | D28: 0016100006806001 | E28: 1603215001365 | F28: 4.98 | G28: 0.05 | H28: =F28+(F28*G28) -> 5.229 | I28: 0.45 | J28: =H28+I28 -> 5.679 | K28: =J28*$G$8 -> 10222200 | L28: =VLOOKUP(B28,'[1]Gui chi Quynh'!$B$7:$F$397,5,FALSE) -> A2 | M28: =IF(L28="A1",K28*1.6,IF(L28="A2",K28*1.4,IF(L28="A3",K28*1.2,IF(L28="A4",K28*1,IF(L28="B1",K28*0.7,IF(L28="B2",K28*0.5,IF(L28="C1",K28*0.3,IF(L28="C2",K28*0.2,0)))))))) -> 14311080 | N28: 21 | O28: =IFERROR(INDEX('[2]CN BC'!$J$10:$J$276,MATCH(B28,'[2]CN BC'!$H$10:$H$276,0)),"") -> 26 | P28: =IF(O28>=N28,M28,M28/N28*O28) -> 14311080 | R28: =Q28*$G$8*1 -> 0 | T28: =S28*$G$8*1 -> 0 | U28: =IF(OR(L28="A DN",L28="KXL", L28=""),"0",ROUND(J28*0.01*$G$8+Q28*1%*$G$8+S28*1%*$G$8,)) -> 102222 | V28: =(P28+R28+T28+U28) -> 14413302 | W28: 27 | X28: =A28 -> 17 | Y28: =IFERROR(INDEX('[2]CN BC'!$M$10:$M$276,MATCH(B28,'[2]CN BC'!$H$10:$H$276,0)),"") -> 0
A29: =_xlfn.AGGREGATE(4,7,A$11:A28)+1 -> 18 | B29: Nguyễn Văn Thành | C29: THÀNH | D29: 0016100006495006 | E29: 1603205182190 | F29: 4.98 | G29: 0.07 | H29: =F29+(F29*G29) -> 5.3286 | I29: 0.35 | J29: =H29+I29 -> 5.6786 | K29: =J29*$G$8 -> 10221480 | L29: =VLOOKUP(B29,'[1]Gui chi Quynh'!$B$7:$F$397,5,FALSE) -> A2 | M29: =IF(L29="A1",K29*1.6,IF(L29="A2",K29*1.4,IF(L29="A3",K29*1.2,IF(L29="A4",K29*1,IF(L29="B1",K29*0.7,IF(L29="B2",K29*0.5,IF(L29="C1",K29*0.3,IF(L29="C2",K29*0.2,0)))))))) -> 14310072 | N29: 21 | O29: =IFERROR(INDEX('[2]CN BC'!$J$10:$J$276,MATCH(B29,'[2]CN BC'!$H$10:$H$276,0)),"") -> 26 | P29: =IF(O29>=N29,M29,M29/N29*O29) -> 14310072 | R29: =Q29*$G$8*1 -> 0 | T29: =S29*$G$8*1 -> 0 | U29: =IF(OR(L29="A DN",L29="KXL", L29=""),"0",ROUND(J29*0.01*$G$8+Q29*1%*$G$8+S29*1%*$G$8,)) -> 102215 | V29: =(P29+R29+T29+U29) -> 14412287 | W29: 26 | X29: =A29 -> 18 | Y29: =IFERROR(INDEX('[2]CN BC'!$M$10:$M$276,MATCH(B29,'[2]CN BC'!$H$10:$H$276,0)),"") -> 0
A30: =_xlfn.AGGREGATE(4,7,A$11:A29)+1 -> 19 | B30: Nguyễn Trọng Phú | C30: PHÚ | D30: 0016100006505001 | E30: 1603205185935 | F30: 3.65 | H30: =F30+(F30*G30) -> 3.65 | I30: 0.25 | J30: =H30+I30 -> 3.9 | K30: =J30*$G$8 -> 7020000 | L30: =VLOOKUP(B30,'[1]Gui chi Quynh'!$B$7:$F$397,5,FALSE) -> A1 | M30: =IF(L30="A1",K30*1.6,IF(L30="A2",K30*1.4,IF(L30="A3",K30*1.2,IF(L30="A4",K30*1,IF(L30="B1",K30*0.7,IF(L30="B2",K30*0.5,IF(L30="C1",K30*0.3,IF(L30="C2",K30*0.2,0)))))))) -> 11232000 | N30: 21 | O30: =IFERROR(INDEX('[2]CN BC'!$J$10:$J$276,MATCH(B30,'[2]CN BC'!$H$10:$H$276,0)),"") -> 23 | P30: =IF(O30>=N30,M30,M30/N30*O30) -> 11232000 | R30: =Q30*$G$8*1 -> 0 | T30: =S30*$G$8*1 -> 0 | U30: =IF(OR(L30="A DN",L30="KXL", L30=""),"0",ROUND(J30*0.01*$G$8+Q30*1%*$G$8+S30*1%*$G$8,)) -> 70200 | V30: =(P30+R30+T30+U30) -> 11302200 | W30: 27 | X30: =A30 -> 19 | Y30: =IFERROR(INDEX('[2]CN BC'!$M$10:$M$276,MATCH(B30,'[2]CN BC'!$H$10:$H$276,0)),"") -> 0
A31: =_xlfn.AGGREGATE(4,7,A$11:A30)+1 -> 20 | B31: Vũ Ngọc Quang | C31: QUANG | D31: 0016100006807008 | E31: 1603205185912 | F31: 3.26 | H31: =F31+(F31*G31) -> 3.26 | J31: =H31+I31 -> 3.26 | K31: =J31*$G$8 -> 5868000 | L31: =VLOOKUP(B31,'[1]Gui chi Quynh'!$B$7:$F$397,5,FALSE) -> A3 | M31: =IF(L31="A1",K31*1.6,IF(L31="A2",K31*1.4,IF(L31="A3",K31*1.2,IF(L31="A4",K31*1,IF(L31="B1",K31*0.7,IF(L31="B2",K31*0.5,IF(L31="C1",K31*0.3,IF(L31="C2",K31*0.2,0)))))))) -> 7041600 | N31: 21 | O31: =IFERROR(INDEX('[2]CN BC'!$J$10:$J$276,MATCH(B31,'[2]CN BC'!$H$10:$H$276,0)),"") -> 21 | P31: =IF(O31>=N31,M31,M31/N31*O31) -> 7041600 | R31: =Q31*$G$8*1 -> 0 | T31: =S31*$G$8*1 -> 0 | U31: =IF(OR(L31="A DN",L31="KXL", L31=""),"0",ROUND(J31*0.01*$G$8+Q31*1%*$G$8+S31*1%*$G$8,)) -> 58680 | V31: =(P31+R31+T31+U31) -> 7100280 | W31: 23 | X31: =A31 -> 20 | Y31: =IFERROR(INDEX('[2]CN BC'!$M$10:$M$276,MATCH(B31,'[2]CN BC'!$H$10:$H$276,0)),"") -> 0
A32: =_xlfn.AGGREGATE(4,7,A$11:A31)+1 -> 21 | B32: Giáp Văn Thịnh | C32: THỊNH | D32: 0016100006599006 | E32: 1603205246157 | F32: 3.46 | H32: =F32+(F32*G32) -> 3.46 | J32: =H32+I32 -> 3.46 | K32: =J32*$G$8 -> 6228000 | L32: =VLOOKUP(B32,'[1]Gui chi Quynh'!$B$7:$F$397,5,FALSE) -> A1 | M32: =IF(L32="A1",K32*1.6,IF(L32="A2",K32*1.4,IF(L32="A3",K32*1.2,IF(L32="A4",K32*1,IF(L32="B1",K32*0.7,IF(L32="B2",K32*0.5,IF(L32="C1",K32*0.3,IF(L32="C2",K32*0.2,0)))))))) -> 9964800 | N32: 21 | O32: =IFERROR(INDEX('[2]CN BC'!$J$10:$J$276,MATCH(B32,'[2]CN BC'!$H$10:$H$276,0)),"") -> 21 | P32: =IF(O32>=N32,M32,M32/N32*O32) -> 9964800 | R32: =Q32*$G$8*1 -> 0 | T32: =S32*$G$8*1 -> 0 | U32: =IF(OR(L32="A DN",L32="KXL", L32=""),"0",ROUND(J32*0.01*$G$8+Q32*1%*$G$8+S32*1%*$G$8,)) -> 62280 | V32: =(P32+R32+T32+U32) -> 10027080 | W32: 25 | X32: =A32 -> 21 | Y32: =IFERROR(INDEX('[2]CN BC'!$M$10:$M$276,MATCH(B32,'[2]CN BC'!$H$10:$H$276,0)),"") -> 0
A33: =_xlfn.AGGREGATE(4,7,A$11:A32)+1 -> 22 | B33: Lê Hồng Anh Tuấn | C33: TUẤN | D33: 0016100006493003 | E33: 1603205348129 | F33: 3.34 | H33: =F33+(F33*G33) -> 3.34 | J33: =H33+I33 -> 3.34 | K33: =J33*$G$8 -> 6012000 | L33: =VLOOKUP(B33,'[1]Gui chi Quynh'!$B$7:$F$397,5,FALSE) -> A2 | M33: =IF(L33="A1",K33*1.6,IF(L33="A2",K33*1.4,IF(L33="A3",K33*1.2,IF(L33="A4",K33*1,IF(L33="B1",K33*0.7,IF(L33="B2",K33*0.5,IF(L33="C1",K33*0.3,IF(L33="C2",K33*0.2,0)))))))) -> 8416800 | N33: 21 | O33: =IFERROR(INDEX('[2]CN BC'!$J$10:$J$276,MATCH(B33,'[2]CN BC'!$H$10:$H$276,0)),"") -> 22 | P33: =IF(O33>=N33,M33,M33/N33*O33) -> 8416800 | R33: =Q33*$G$8*1 -> 0 | T33: =S33*$G$8*1 -> 0 | U33: =IF(OR(L33="A DN",L33="KXL", L33=""),"0",ROUND(J33*0.01*$G$8+Q33*1%*$G$8+S33*1%*$G$8,)) -> 60120 | V33: =(P33+R33+T33+U33) -> 8476920 | W33: 25 | X33: =A33 -> 22 | Y33: =IFERROR(INDEX('[2]CN BC'!$M$10:$M$276,MATCH(B33,'[2]CN BC'!$H$10:$H$276,0)),"") -> 0
A34: =_xlfn.AGGREGATE(4,7,A$11:A33)+1 -> 23 | B34: Ninh Đỗ Hiệp | C34: HIỆP | D34: 0016100006690003 | E34: 1603205245965 | F34: 3.66 | H34: =F34+(F34*G34) -> 3.66 | J34: =H34+I34 -> 3.66 | K34: =J34*$G$8 -> 6588000 | L34: =VLOOKUP(B34,'[1]Gui chi Quynh'!$B$7:$F$397,5,FALSE) -> A3 | M34: =IF(L34="A1",K34*1.6,IF(L34="A2",K34*1.4,IF(L34="A3",K34*1.2,IF(L34="A4",K34*1,IF(L34="B1",K34*0.7,IF(L34="B2",K34*0.5,IF(L34="C1",K34*0.3,IF(L34="C2",K34*0.2,0)))))))) -> 7905600 | N34: 21 | O34: =IFERROR(INDEX('[2]CN BC'!$J$10:$J$276,MATCH(B34,'[2]CN BC'!$H$10:$H$276,0)),"") -> 21 | P34: =IF(O34>=N34,M34,M34/N34*O34) -> 7905600 | R34: =Q34*$G$8*1 -> 0 | T34: =S34*$G$8*1 -> 0 | U34: =IF(OR(L34="A DN",L34="KXL", L34=""),"0",ROUND(J34*0.01*$G$8+Q34*1%*$G$8+S34*1%*$G$8,)) -> 65880 | V34: =(P34+R34+T34+U34) -> 7971480 | W34: 23 | X34: =A34 -> 23 | Y34: =IFERROR(INDEX('[2]CN BC'!$M$10:$M$276,MATCH(B34,'[2]CN BC'!$H$10:$H$276,0)),"") -> 0
A35: =_xlfn.AGGREGATE(4,7,A$11:A34)+1 -> 24 | B35: Nguyễn Tiến Việt Dũng | C35: DŨNG | D35: 0016100006678003 | E35: 1603205357238 | F35: 3.03 | H35: =F35+(F35*G35) -> 3.03 | J35: =H35+I35 -> 3.03 | K35: =J35*$G$8 -> 5454000 | L35: =VLOOKUP(B35,'[1]Gui chi Quynh'!$B$7:$F$397,5,FALSE) -> A3 | M35: =IF(L35="A1",K35*1.6,IF(L35="A2",K35*1.4,IF(L35="A3",K35*1.2,IF(L35="A4",K35*1,IF(L35="B1",K35*0.7,IF(L35="B2",K35*0.5,IF(L35="C1",K35*0.3,IF(L35="C2",K35*0.2,0)))))))) -> 6544800 | N35: 21 | O35: =IFERROR(INDEX('[2]CN BC'!$J$10:$J$276,MATCH(B35,'[2]CN BC'!$H$10:$H$276,0)),"") -> 27 | P35: =IF(O35>=N35,M35,M35/N35*O35) -> 6544800 | R35: =Q35*$G$8*1 -> 0 | T35: =S35*$G$8*1 -> 0 | U35: =IF(OR(L35="A DN",L35="KXL", L35=""),"0",ROUND(J35*0.01*$G$8+Q35*1%*$G$8+S35*1%*$G$8,)) -> 54540 | V35: =(P35+R35+T35+U35) -> 6599340 | W35: 24 | X35: =A35 -> 24 | Y35: =IFERROR(INDEX('[2]CN BC'!$M$10:$M$276,MATCH(B35,'[2]CN BC'!$H$10:$H$276,0)),"") -> 0
A36: =_xlfn.AGGREGATE(4,7,A$11:A35)+1 -> 25 | B36: Bùi Đặng Hoàng Tuấn | C36: TUẤN | D36: 0016100006679007 | E36: 1603205302590 | F36: 3.34 | H36: =F36+(F36*G36) -> 3.34 | J36: =H36+I36 -> 3.34 | K36: =J36*$G$8 -> 6012000 | L36: =VLOOKUP(B36,'[1]Gui chi Quynh'!$B$7:$F$397,5,FALSE) -> A3 | M36: =IF(L36="A1",K36*1.6,IF(L36="A2",K36*1.4,IF(L36="A3",K36*1.2,IF(L36="A4",K36*1,IF(L36="B1",K36*0.7,IF(L36="B2",K36*0.5,IF(L36="C1",K36*0.3,IF(L36="C2",K36*0.2,0)))))))) -> 7214400 | N36: 21 | O36: =IFERROR(INDEX('[2]CN BC'!$J$10:$J$276,MATCH(B36,'[2]CN BC'!$H$10:$H$276,0)),"") -> 26 | P36: =IF(O36>=N36,M36,M36/N36*O36) -> 7214400 | R36: =Q36*$G$8*1 -> 0 | T36: =S36*$G$8*1 -> 0 | U36: =IF(OR(L36="A DN",L36="KXL", L36=""),"0",ROUND(J36*0.01*$G$8+Q36*1%*$G$8+S36*1%*$G$8,)) -> 60120 | V36: =(P36+R36+T36+U36) -> 7274520 | W36: 23 | X36: =A36 -> 25 | Y36: =IFERROR(INDEX('[2]CN BC'!$M$10:$M$276,MATCH(B36,'[2]CN BC'!$H$10:$H$276,0)),"") -> 0
A37: =_xlfn.AGGREGATE(4,7,A$11:A36)+1 -> 26 | B37: Nguyễn Cao Thắng | C37: THẮNG | D37: 0016100006770007 | E37: 1603205431614 | F37: 3 | H37: =F37+(F37*G37) -> 3 | I37: 0.35 | J37: =H37+I37 -> 3.35 | K37: =J37*$G$8 -> 6030000 | L37: =VLOOKUP(B37,'[1]Gui chi Quynh'!$B$7:$F$397,5,FALSE) -> A1 | M37: =IF(L37="A1",K37*1.6,IF(L37="A2",K37*1.4,IF(L37="A3",K37*1.2,IF(L37="A4",K37*1,IF(L37="B1",K37*0.7,IF(L37="B2",K37*0.5,IF(L37="C1",K37*0.3,IF(L37="C2",K37*0.2,0)))))))) -> 9648000 | N37: 21 | O37: =IFERROR(INDEX('[2]CN BC'!$J$10:$J$276,MATCH(B37,'[2]CN BC'!$H$10:$H$276,0)),"") -> 31 | P37: =IF(O37>=N37,M37,M37/N37*O37) -> 9648000 | R37: =Q37*$G$8*1.6 -> 0 | T37: =S37*$G$8*1 -> 0 | U37: =IF(OR(L37="A DN",L37="KXL", L37=""),"0",ROUND(J37*0.01*$G$8+Q37*1%*$G$8+S37*1%*$G$8,)) -> 60300 | V37: =(P37+R37+T37+U37) -> 9708300 | W37: 24 | X37: =A37 -> 26 | Y37: =IFERROR(INDEX('[2]CN BC'!$M$10:$M$276,MATCH(B37,'[2]CN BC'!$H$10:$H$276,0)),"") -> 0
A38: =_xlfn.AGGREGATE(4,7,A$11:A37)+1 -> 27 | B38: Võ Tấn Kiệt | D38: 0016100006511001 | E38: 1603215002809 | F38: 2.67 | H38: =F38+(F38*G38) -> 2.67 | J38: =H38+I38 -> 2.67 | K38: =J38*$G$8 -> 4806000 | L38: =VLOOKUP(B38,'[1]Gui chi Quynh'!$B$7:$F$397,5,FALSE) -> A1 | M38: =IF(L38="A1",K38*1.6,IF(L38="A2",K38*1.4,IF(L38="A3",K38*1.2,IF(L38="A4",K38*1,IF(L38="B1",K38*0.7,IF(L38="B2",K38*0.5,IF(L38="C1",K38*0.3,IF(L38="C2",K38*0.2,0)))))))) -> 7689600 | N38: 21 | O38: =IFERROR(INDEX('[2]CN BC'!$J$10:$J$276,MATCH(B38,'[2]CN BC'!$H$10:$H$276,0)),"") -> 24 | P38: =IF(O38>=N38,M38,M38/N38*O38) -> 7689600 | R38: =Q38*$G$8*1 -> 0 | T38: =S38*$G$8*1 -> 0 | U38: =IF(OR(L38="A DN",L38="KXL", L38=""),"0",ROUND(J38*0.01*$G$8+Q38*1%*$G$8+S38*1%*$G$8,)) -> 48060 | V38: =(P38+R38+T38+U38) -> 7737660 | W38: 24 | X38: =A38 -> 27 | Y38: =IFERROR(INDEX('[2]CN BC'!$M$10:$M$276,MATCH(B38,'[2]CN BC'!$H$10:$H$276,0)),"") -> 0
A39: =_xlfn.AGGREGATE(4,7,A$11:A38)+1 -> 28 | B39: Phan Đức Long | C39: LONG | D39: 0016100006708007 | E39: 1603205179180 | F39: 4.98 | G39: 0.05 | H39: =F39+(F39*G39) -> 5.229 | I39: 0.25 | J39: =H39+I39 -> 5.479 | K39: =J39*$G$8 -> 9862200 | L39: =VLOOKUP(B39,'[1]Gui chi Quynh'!$B$7:$F$397,5,FALSE) -> A3 | M39: =IF(L39="A1",K39*1.6,IF(L39="A2",K39*1.4,IF(L39="A3",K39*1.2,IF(L39="A4",K39*1,IF(L39="B1",K39*0.7,IF(L39="B2",K39*0.5,IF(L39="C1",K39*0.3,IF(L39="C2",K39*0.2,0)))))))) -> 11834640 | N39: 21 | O39: =IFERROR(INDEX('[2]CN BC'!$J$10:$J$276,MATCH(B39,'[2]CN BC'!$H$10:$H$276,0)),"") -> 26 | P39: =IF(O39>=N39,M39,M39/N39*O39) -> 11834640 | R39: =Q39*$G$8*1 -> 0 | T39: =S39*$G$8*1 -> 0 | U39: =IF(OR(L39="A DN",L39="KXL", L39=""),"0",ROUND(J39*0.01*$G$8+Q39*1%*$G$8+S39*1%*$G$8,)) -> 98622 | V39: =(P39+R39+T39+U39) -> 11933262 | W39: 27 | X39: =A39 -> 28 | Y39: =IFERROR(INDEX('[2]CN BC'!$M$10:$M$276,MATCH(B39,'[2]CN BC'!$H$10:$H$276,0)),"") -> 0
A40: =_xlfn.AGGREGATE(4,7,A$11:A39)+1 -> 29 | B40: Bùi Thị Dương | C40: DƯƠNG | D40: 0016100006716002 | E40: 1603205182619 | F40: 3.66 | H40: =F40+(F40*G40) -> 3.66 | J40: =H40+I40 -> 3.66 | K40: =J40*$G$8 -> 6588000 | L40: =VLOOKUP(B40,'[1]Gui chi Quynh'!$B$7:$F$397,5,FALSE) -> A4 | M40: =IF(L40="A1",K40*1.6,IF(L40="A2",K40*1.4,IF(L40="A3",K40*1.2,IF(L40="A4",K40*1,IF(L40="B1",K40*0.7,IF(L40="B2",K40*0.5,IF(L40="C1",K40*0.3,IF(L40="C2",K40*0.2,0)))))))) -> 6588000 | N40: 21 | O40: =IFERROR(INDEX('[2]CN BC'!$J$10:$J$276,MATCH(B40,'[2]CN BC'!$H$10:$H$276,0)),"") -> 23 | P40: =IF(O40>=N40,M40,M40/N40*O40) -> 6588000 | R40: =Q40*$G$8*0.8 -> 0 | T40: =S40*$G$8*1 -> 0 | U40: =IF(OR(L40="A DN",L40="KXL", L40=""),"0",ROUND(J40*0.01*$G$8+Q40*1%*$G$8+S40*1%*$G$8,)) -> 65880 | V40: =(P40+R40+T40+U40) -> 6653880 | W40: 23 | X40: =A40 -> 29 | Y40: =IFERROR(INDEX('[2]CN BC'!$M$10:$M$276,MATCH(B40,'[2]CN BC'!$H$10:$H$276,0)),"") -> 0
A41: =_xlfn.AGGREGATE(4,7,A$11:A40)+1 -> 30 | B41: Phan Hữu Tước | F41: 4.06 | G41: 0.1 | H41: =F41+(F41*G41) -> 4.466 | I41: 0.35 | J41: =H41+I41 -> 4.816 | K41: =J41*$G$8 -> 8668800 | L41: =VLOOKUP(B41,'[1]Gui chi Quynh'!$B$7:$F$397,5,FALSE) -> A3 | M41: =IF(L41="A1",K41*1.6,IF(L41="A2",K41*1.4,IF(L41="A3",K41*1.2,IF(L41="A4",K41*1,IF(L41="B1",K41*0.7,IF(L41="B2",K41*0.5,IF(L41="C1",K41*0.3,IF(L41="C2",K41*0.2,0)))))))) -> 10402560 | N41: 21 | O41: =IFERROR(INDEX('[2]CN BC'!$J$10:$J$276,MATCH(B41,'[2]CN BC'!$H$10:$H$276,0)),"") -> 25 | P41: =IF(O41>=N41,M41,M41/N41*O41) -> 10402560 | R41: =Q41*$G$8*0.8 -> 0 | T41: =S41*$G$8*1 -> 0 | U41: =IF(OR(L41="A DN",L41="KXL", L41=""),"0",ROUND(J41*0.01*$G$8+Q41*1%*$G$8+S41*1%*$G$8,)) -> 86688 | V41: =(P41+R41+T41+U41) -> 10489248 | X41: =A41 -> 30 | Y41: =IFERROR(INDEX('[2]CN BC'!$M$10:$M$276,MATCH(B41,'[2]CN BC'!$H$10:$H$276,0)),"") -> Cộng 4 ngày đi học
A42: =_xlfn.AGGREGATE(4,7,A$11:A41)+1 -> 31 | B42: Trang Thị Xuân Uyên | C42: UYÊN | D42: 0016100006567007 | E42: 1603205186156 | F42: 4.65 | H42: =F42+(F42*G42) -> 4.65 | I42: 0.45 | J42: =H42+I42 -> 5.1 | K42: =J42*$G$8 -> 9180000 | L42: =VLOOKUP(B42,'[1]Gui chi Quynh'!$B$7:$F$397,5,FALSE) -> A3 | M42: =IF(L42="A1",K42*1.6,IF(L42="A2",K42*1.4,IF(L42="A3",K42*1.2,IF(L42="A4",K42*1,IF(L42="B1",K42*0.7,IF(L42="B2",K42*0.5,IF(L42="C1",K42*0.3,IF(L42="C2",K42*0.2,0)))))))) -> 11016000 | N42: 21 | O42: =IFERROR(INDEX('[2]CN BC'!$J$10:$J$276,MATCH(B42,'[2]CN BC'!$H$10:$H$276,0)),"") -> 26 | P42: =IF(O42>=N42,M42,M42/N42*O42) -> 11016000 | R42: =Q42*$G$8*1 -> 0 | T42: =S42*$G$8*1 -> 0 | U42: =IF(OR(L42="A DN",L42="KXL", L42=""),"0",ROUND(J42*0.01*$G$8+Q42*1%*$G$8+S42*1%*$G$8,)) -> 91800 | V42: =(P42+R42+T42+U42) -> 11107800 | W42: 26 | X42: =A42 -> 31 | Y42: =IFERROR(INDEX('[2]CN BC'!$M$10:$M$276,MATCH(B42,'[2]CN BC'!$H$10:$H$276,0)),"") -> 0
...

Sheet NH
A1: ỦY BAN NHÂN DÂN TP.HCM | T1: CỘNG HÒA XÃ HỘI CHỦ NGHĨA VIỆT NAM
A2: TRƯỜNG CAO ĐẲNG LÝ TỰ TRỌNG | T2: Độc lập - Tự do - Hạnh phúc
A3: THÀNH PHỐ HỒ CHÍ MINH
A5: BẢNG THU NHẬP TĂNG THÊM - LƯƠNG THEO HỆ SỐ ĐIỀU CHỈNH THÁNG 9 NĂM 2023
A6: CÁN BỘ VIÊN CHỨC TRONG CHỈ TIÊU BIÊN CHẾ - TRUNG TÂM ĐÀO TẠO LÝ TỰ TRỌNG
A7: (Chi theo Chương II - "Những quy định cụ thể"/ Mục 2 - "Chi thanh toán cá nhân"/ Điều 17 - "Các khoản thanh toán cá nhân"/ Khoản b - "Thu nhập tăng thêm" trong Quy chế chi tiêu nội bộ năm 2022 ban hành kèm theo Quyết định số 739/QĐ-LTT-KHTC ngày 02 tháng 11 năm 2022)
A9: Mức lương tối thiểu có hệ số = | H9: 1800000 | J9: 1490000 | V9: Đơn vị tính: đồng
A11: STT | B11: HỌ VÀ TÊN | D11: Số tài khoản thẻ ATM OCB | E11: Số tài khoản thẻ ATM AGRIBANK | F11: HS (hide) | G11: VK (hide) | H11: HS THỰC HƯỞNG (hide) | I11: HSPC (hide) | J11: HS LƯƠNG +PCCV | K11: CỘNG LƯƠNG (hide) | L11: XẾP LOẠI | M11: Mức lương theo hệ số điều chỉnh | N11: Số ngày công kế hoạch | O11: Số ngày công thực hiện | P11: Lương điều chỉnh tính theo ngày công thực hiện/tháng | Q11: HỆ SỐ TRUY LÃNH LƯƠNG (CỘT NÀY HIDE) | R11: Truy lãnh lương điều chỉnh do nâng bậc lương | S11: HỆ SỐ TRUY LÃNH PCCV (CỘT NÀY HIDE) | T11: Truy lãnh lương điều chỉnh do truy lãnh PCCV | U11: Trường hỗ trợ 1% BHYT | V11: THÀNH TIỀN | X11: GHI CHÚ
A12: 01 | B12: 02 | F12: 03 | G12: 04 | H12: 05 | I12: 06 | J12: 03 | K12: 08 | L12: 04 | M12: 05 | N12: 06 | O12: 07 | P12: 08 | Q12: 16 | R12: 09 | S12: 18 | T12: 10 | U12: 11 | V12: 12 | X12: 13
A13: 01 | B13: Lương Xuân Thịnh | C13: THỊNH | D13: 0016100006540001 | E13: 1603205354978 | F13: 2.67 | H13: =F13+(F13*G13) -> 2.67 | I13: 0.45 | J13: =H13+I13 -> 3.12 | K13: =J13*CN!$G$8 -> 5616000 | M13: =IF(L13="A1",K13*1.6,IF(L13="A2",K13*1.4,IF(L13="A3",K13*1.2,IF(L13="A4",K13*1,IF(L13="B1",K13*0.7,IF(L13="B2",K13*0.5,IF(L13="C1",K13*0.3,IF(L13="C2",K13*0.2,0)))))))) -> 0 | P13: =IF(O13>=N13,M13,M13/N13*O13) -> 0 | R13: =Q13*CN!$G$8*1 -> 0 | T13: =S13*[3]CN!$G$8*0.65 -> 0 | U13: =IF(OR(L13="A DN",L13="KXL", L13=""),"0",ROUND(J13*0.01*CN!$G$8+Q13*1%*CN!$G$8+S13*1%*CN!$G$8,)) -> 0 | V13: =(P13+R13+T13+U13) -> 0 | W13: 17 | X13: =A13 -> 01
A14: 02 | B14: Đỗ Thị Tâm | C14: TÂM | D14: 0016100006552007 | E14: 1603205179059 | F14: 3.34 | H14: =F14+(F14*G14) -> 3.34 | I14: 0 | J14: =I14+H14 -> 3.34 | K14: =J14*$H$9 -> 6012000 | M14: =IF(L14="A1",K14*1.6,IF(L14="A2",K14*1.4,IF(L14="A3",K14*1.2,IF(L14="A4",K14*1,IF(L14="B1",K14*0.7,IF(L14="B2",K14*0.5,IF(L14="C1",K14*0.3,IF(L14="C2",K14*0.2,0)))))))) -> 0 | P14: =IF(O14>=N14,M14,M14/N14*O14) -> 0 | R14: =Q14*$H$9*0.65 -> 0 | T14: =S14*$H$9*0.65 -> 0 | U14: 0 | V14: =ROUND(P14+R14+T14+U14,0) -> 0 | W14: 21 | X14: =A14 -> 02
B15: CỘNG | F15: =SUM(F13:F14) -> 6.01 | G15: =SUM(G13:G14) -> 0 | H15: =SUM(H13:H14) -> 6.01 | I15: =SUM(I13:I14) -> 0.45 | J15: =SUM(J13:J14) -> 6.46 | K15: =J15*$H$9 -> 11628000 | M15: =SUM(M13:M14) -> 0 | N15: =SUM(N13:N14) -> 0 | O15: =SUM(O13:O14) -> 0 | P15: =SUM(P13:P14) -> 0 | Q15: =SUM(Q13:Q14) -> 0 | R15: =SUM(R13:R14) -> 0 | S15: =SUM(S13:S14) -> 0 | T15: =SUM(T13:T14) -> 0 | ... V15: =SUM(V13:V14) -> 0
B17: Bằng chữ: Mười lăm triệu một trăm mười ba ngàn tám trăm tám mươi đồng.
V18: Thành phố Hồ Chí Minh, ngày 16 tháng 10 năm 2023
A19: NGƯỜI LẬP BẢNG | C19: PHÓ CHỦ TỊCH HĐ THI ĐUA | P19: KẾ TOÁN TRƯỞNG | U19: HIỆU TRƯỞNG
A26: Vũ Như Quỳnh | C26: Lâm Viết Dũng | P26: Nguyễn Kính | U26: Phạm Hữu Lộc

Sheet CN mới
A1: ỦY BAN NHÂN DÂN TP.HCM | N1: CỘNG HÒA XÃ HỘI CHỦ NGHĨA VIỆT NAM
A2: TRƯỜNG CAO ĐẲNG KỸ THUẬT | N2: Độc lập - Tự do - Hạnh phúc
A3: LÝ TỰ TRỌNG
A4: BẢNG THU NHẬP TĂNG THÊM - LƯƠNG THEO HỆ SỐ ĐIỀU CHỈNH THÁNG 4 NĂM 2013
A5: CÁN BỘ VIÊN CHỨC TRONG CHỈ TIÊU BIÊN CHẾ - KHỐI CHUYÊN NGHIỆP
A6: (Chi theo Chương II - "Những quy định cụ thể"/ Mục 2 - "Chi thanh toán cá nhân"/ Điều 17 - "Các khoản thanh toán cá nhân"/ Khoản 1.2 - "Thu nhập tăng thêm" trong Quy chế chi tiêu nội bộ năm học 2012 - 2013 ban hành theo Quyết định số 521B/QĐ-LTT-KTTC ngày 10 tháng 04 năm 2013)
A7: Mức lương tối thiểu hệ số 1=1.050.000đ | H7: 1050000 | N7: Hsđc: | P7: A=0,50, B=0,30, C=0,10, D=0 | Y7: Đơn vị tính: đồng
A9: STT | B9: HỌ VÀ TÊN | E9: Số tài khoản thẻ ATM VIETINBANK | F9: Số tài khoản thẻ ATM AGRIBANK | G9: HS (hide) | H9: VK (hide) | I9: HS THỰC HƯỞNG (hide) | J9: HSPC (hide) | K9: HS LƯƠNG +PCCV | L9: CỘNG LƯƠNG (hide) | M9: XẾP LOẠI | N9: Mức lương theo hệ số điều chỉnh | O9: ABC MIN (hide) | P9: Số ngày công kế hoạch | Q9: Số ngày công thực hiện | R9: Số tiền thi đua không tính ngày (hide) | S9: Lương điều chỉnh tính theo ngày công thực hiện/tháng | T9: HỆ SỐ TRUY LÃNH LƯƠNG (CỘT NÀY HIDE) | U9: Truy lãnh lương điều chỉnh do truy lãnh lương | V9: HỆ SỐ TRUY LÃNH PCCV (CỘT NÀY HIDE) | W9: Truy lãnh lương điều chỉnh do truy lãnh PCCV | X9: Trường hỗ trợ 1% BHYT | Y9: THÀNH TIỀN | Z9: GHI CHÚ
A10: 01 | B10: 02 | G10: 03 | H10: 04 | I10: 05 | J10: 06 | K10: 03 | L10: 08 | M10: 04 | N10: 05 | O10: 11 | P10: 06 | Q10: 07 | R10: 14 | S10: 08 | T10: 16 | U10: 09 | V10: 18 | W10: 10 | X10: 11 | Y10: 12 | Z10: 13
A11: 01 | B11: Văn Công | C11: SANG | D11: BGH | E11: 711A40944441 | F11: 1603205361871 | G11: 6.44 | I11: =G11+(G11*H11) -> 6.44 | J11: 0.9 | K11: =I11+J11 -> 7.34 | L11: =K11*$H$7 -> 7707000 | M11: A | N11: =IF(M11="A",L11*0.5,IF(M11="B",L11*0.5*0.75,IF(M11="C",L11*0.5*0.75*0.75,0))) -> 3853500 | O11: =IF(M11="A",1050000,IF(M11="B",735000,IF(M11="C",514500,0))) -> 1050000 | P11: 21 | Q11: 26 | R11: =IF(N11>O11,N11,O11) -> 3853500 | S11: =IF(Q11>=P11,R11,R11/P11*Q11) -> 3853500 | U11: =T11*$H$7*0.5 -> 0 | W11: =V11*$H$7*0.5 -> 0 | X11: =(K11*0.01*$H$7)+(T11*1%*$H$7)+(V11*1%*$H$7) -> 77070 | Y11: =(S11+U11+W11+X11) -> 3930570 | Z11: =A11 -> 01 | AA11: Đi công tác tại miền Trung và 2N tham gia tập huấn Công tác triển khai thực hiện dự toán 2013…. 5N
A12: 02 | B12: Đỗ Văn | C12: HÙNG | E12: 711A26554199 | F12: 1603205182359 | G12: 6.04 | I12: =G12+(G12*H12) -> 6.04 | J12: 0.7 | K12: =I12+J12 -> 6.74 | L12: =K12*$H$7 -> 7077000 | M12: A | N12: =IF(M12="A",L12*0.5,IF(M12="B",L12*0.5*0.75,IF(M12="C",L12*0.5*0.75*0.75,0))) -> 3538500 | O12: =IF(M12="A",1050000,IF(M12="B",735000,IF(M12="C",514500,0))) -> 1050000 | P12: 21 | Q12: 26 | R12: =IF(N12>O12,N12,O12) -> 3538500 | S12: =IF(Q12>=P12,R12,R12/P12*Q12) -> 3538500 | U12: =T12*$H$7*0.5 -> 0 | W12: =V12*$H$7*0.5 -> 0 | X12: =(K12*0.01*$H$7)+(T12*1%*$H$7)+(V12*1%*$H$7) -> 70770 | Y12: =(S12+U12+W12+X12) -> 3609270 | Z12: =A12 -> 02 | AA12: Đi công tác tại miền Tây 6N
A13: 03 | B13: Nguyễn Văn | C13: DŨNG | E13: 711A22811849 | F13: 1603205182365 | G13: 4.98 | H13: 0.09 | I13: =G13+(G13*H13) -> 5.4282 | J13: 0.7 | K13: =I13+J13 -> 6.1282 | L13: =K13*$H$7 -> 6434610 | M13: A | N13: =IF(M13="A",L13*0.5,IF(M13="B",L13*0.5*0.75,IF(M13="C",L13*0.5*0.75*0.75,0))) -> 3217305 | O13: =IF(M13="A",1050000,IF(M13="B",735000,IF(M13="C",514500,0))) -> 1050000 | P13: 21 | Q13: 26 | R13: =IF(N13>O13,N13,O13) -> 3217305 | S13: =IF(Q13>=P13,R13,R13/P13*Q13) -> 3217305 | U13: =T13*$H$7*0.5 -> 0 | W13: =V13*$H$7*0.5 -> 0 | X13: =(K13*0.01*$H$7)+(T13*1%*$H$7)+(V13*1%*$H$7) -> 64346.1 | Y13: =(S13+U13+W13+X13) -> 3281651.1 | Z13: =A13 -> 03 | AB13: Tháng 3/2013 cập nhật PCTNVK từ 8% lên 9%
A14: 04 | B14: Lương Xuân | C14: CHỈNH | E14: 711A22129659 | F14: 1603205186206 | G14: 4.98 | I14: =G14+(G14*H14) -> 4.98 | J14: 0.7 | K14: =I14+J14 -> 5.68 | L14: =K14*$H$7 -> 5964000 | M14: A | N14: =IF(M14="A",L14*0.5,IF(M14="B",L14*0.5*0.75,IF(M14="C",L14*0.5*0.75*0.75,0))) -> 2982000 | O14: =IF(M14="A",1050000,IF(M14="B",735000,IF(M14="C",514500,0))) -> 1050000 | P14: 21 | Q14: 26 | R14: =IF(N14>O14,N14,O14) -> 2982000 | S14: =IF(Q14>=P14,R14,R14/P14*Q14) -> 2982000 | U14: =T14*$H$7*0.5 -> 0 | W14: =V14*$H$7*0.5 -> 0 | X14: =(K14*0.01*$H$7)+(T14*1%*$H$7)+(V14*1%*$H$7) -> 59640 | Y14: =(S14+U14+W14+X14) -> 3041640 | Z14: =A14 -> 04 | AB14: x
A15: 05 | B15: Đinh Hồng | C15: MINH | D15: TCHCTH | E15: 711A23232133 | F15: 1603205186191 | G15: 3.99 | I15: =G15+(G15*H15) -> 3.99 | J15: 0.45 | K15: =I15+J15 -> 4.44 | L15: =K15*$H$7 -> 4662000 | M15: A | N15: =IF(M15="A",L15*0.5,IF(M15="B",L15*0.5*0.75,IF(M15="C",L15*0.5*0.75*0.75,0))) -> 2331000 | O15: =IF(M15="A",1050000,IF(M15="B",735000,IF(M15="C",514500,0))) -> 1050000 | P15: 21 | Q15: 26 | R15: =IF(N15>O15,N15,O15) -> 2331000 | S15: =IF(Q15>=P15,R15,R15/P15*Q15) -> 2331000 | U15: =T15*$H$7*0.5 -> 0 | W15: =V15*$H$7*0.5 -> 0 | X15: =(K15*0.01*$H$7)+(T15*1%*$H$7)+(V15*1%*$H$7) -> 46620 | Y15: =(S15+U15+W15+X15) -> 2377620 | Z15: =A15 -> 05
A16: 06 | B16: Trần Văn Cu | C16: ANH | E16: 711A23232157 | F16: 1603205185970 | G16: 3.48 | H16: 0.06 | I16: =G16+(G16*H16) -> 3.6888 | J16: 0 | K16: =I16+J16 -> 3.6888 | L16: =K16*$H$7 -> 3873240 | M16: A | N16: =IF(M16="A",L16*0.5,IF(M16="B",L16*0.5*0.75,IF(M16="C",L16*0.5*0.75*0.75,0))) -> 1936620 | O16: =IF(M16="A",1050000,IF(M16="B",735000,IF(M16="C",514500,0))) -> 1050000 | P16: 21 | Q16: 30 | R16: =IF(N16>O16,N16,O16) -> 1936620 | S16: =IF(Q16>=P16,R16,R16/P16*Q16) -> 1936620 | U16: =T16*$H$7*0.5 -> 0 | W16: =V16*$H$7*0.5 -> 0 | X16: =(K16*0.01*$H$7)+(T16*1%*$H$7)+(V16*1%*$H$7) -> 38732.4 | Y16: =(S16+U16+W16+X16) -> 1975352.4 | Z16: =A16 -> 06
A17: 07 | B17: Trần Văn | C17: LÝ | E17: 711A23232023 | F17: 1603205185964 | G17: 3.48 | H17: 0.06 | I17: =G17+(G17*H17) -> 3.6888 | J17: 0.25 | K17: =I17+J17 -> 3.9388 | L17: =K17*$H$7 -> 4135740 | M17: A | N17: =IF(M17="A",L17*0.5,IF(M17="B",L17*0.5*0.75,IF(M17="C",L17*0.5*0.75*0.75,0))) -> 2067870 | O17: =IF(M17="A",1050000,IF(M17="B",735000,IF(M17="C",514500,0))) -> 1050000 | P17: 21 | Q17: 26 | R17: =IF(N17>O17,N17,O17) -> 2067870 | S17: =IF(Q17>=P17,R17,R17/P17*Q17) -> 2067870 | U17: =T17*$H$7*0.5 -> 0 | W17: =V17*$H$7*0.5 -> 0 | X17: =(K17*0.01*$H$7)+(T17*1%*$H$7)+(V17*1%*$H$7) -> 41357.4 | Y17: =(S17+U17+W17+X17) -> 2109227.4 | Z17: =A17 -> 07
A18: 08 | B18: Lê Hùng | C18: THANH | E18: 711A23232011 | F18: 1603205186185 | G18: 4.03 | H18: 0.1 | I18: =G18+(G18*H18) -> 4.433 | J18: 0 | K18: =I18+J18 -> 4.433 | L18: =K18*$H$7 -> 4654650 | M18: A | N18: =IF(M18="A",L18*0.5,IF(M18="B",L18*0.5*0.75,IF(M18="C",L18*0.5*0.75*0.75,0))) -> 2327325 | O18: =IF(M18="A",1050000,IF(M18="B",735000,IF(M18="C",514500,0))) -> 1050000 | P18: 21 | Q18: 26 | R18: =IF(N18>O18,N18,O18) -> 2327325 | S18: =IF(Q18>=P18,R18,R18/P18*Q18) -> 2327325 | U18: =T18*$H$7*0.5 -> 0 | W18: =V18*$H$7*0.5 -> 0 | X18: =(K18*0.01*$H$7)+(T18*1%*$H$7)+(V18*1%*$H$7) -> 46546.5 | Y18: =(S18+U18+W18+X18) -> 2373871.5 | Z18: =A18 -> 08 | AA18: Đi công tác vớ Sở GDĐT 5N
A19: 09 | B19: Lê Xuân | C19: THIỆN | E19: 711A23232205 | F19: 1603205185958 | G19: 3.99 | I19: =G19+(G19*H19) -> 3.99 | J19: 0.35 | K19: =I19+J19 -> 4.34 | L19: =K19*$H$7 -> 4557000 | M19: A | N19: =IF(M19="A",L19*0.5,IF(M19="B",L19*0.5*0.75,IF(M19="C",L19*0.5*0.75*0.75,0))) -> 2278500 | O19: =IF(M19="A",1050000,IF(M19="B",735000,IF(M19="C",514500,0))) -> 1050000 | P19: 21 | Q19: 26 | R19: =IF(N19>O19,N19,O19) -> 2278500 | S19: =IF(Q19>=P19,R19,R19/P19*Q19) -> 2278500 | U19: =T19*$H$7*0.5 -> 0 | W19: =V19*$H$7*0.5 -> 0 | X19: =(K19*0.01*$H$7)+(T19*1%*$H$7)+(V19*1%*$H$7) -> 45570 | Y19: =(S19+U19+W19+X19) -> 2324070 | Z19: =A19 -> 09
A20: 10 | B20: Đỗ Văn | C20: TRONG | E20: 711A23232078 | F20: 1603205186133 | G20: 2.06 | I20: =G20+(G20*H20) -> 2.06 | J20: 0 | K20: =I20+J20 -> 2.06 | L20: =K20*$H$7 -> 2163000 | M20: A | N20: =IF(M20="A",L20*0.5,IF(M20="B",L20*0.5*0.75,IF(M20="C",L20*0.5*0.75*0.75,0))) -> 1081500 | O20: =IF(M20="A",1050000,IF(M20="B",735000,IF(M20="C",514500,0))) -> 1050000 | P20: 21 | Q20: 19 | R20: =IF(N20>O20,N20,O20) -> 1081500 | S20: =IF(Q20>=P20,R20,R20/P20*Q20) -> 978500 | U20: =T20*$H$7*0.5 -> 0 | W20: =V20*$H$7*0.5 -> 0 | X20: =(K20*0.01*$H$7)+(T20*1%*$H$7)+(V20*1%*$H$7) -> 21630 | Y20: =(S20+U20+W20+X20) -> 1000130 | Z20: =A20 -> 10 | AA20: Trừ 3N nghỉ phép, cộng 1 ngày làm thứ 7
A21: 11 | B21: Trần Thị Thu | C21: HÀ | E21: 711A23232062 | F21: 1603205186179 | G21: 2.67 | I21: =G21+(G21*H21) -> 2.67 | J21: 0 | K21: =I21+J21 -> 2.67 | L21: =K21*$H$7 -> 2803500 | M21: A | N21: =IF(M21="A",L21*0.5,IF(M21="B",L21*0.5*0.75,IF(M21="C",L21*0.5*0.75*0.75,0))) -> 1401750 | O21: =IF(M21="A",1050000,IF(M21="B",735000,IF(M21="C",514500,0))) -> 1050000 | P21: 21 | Q21: 26 | R21: =IF(N21>O21,N21,O21) -> 1401750 | S21: =IF(Q21>=P21,R21,R21/P21*Q21) -> 1401750 | U21: =T21*$H$7*0.5 -> 0 | W21: =V21*$H$7*0.5 -> 0 | X21: =(K21*0.01*$H$7)+(T21*1%*$H$7)+(V21*1%*$H$7) -> 28035 | Y21: =(S21+U21+W21+X21) -> 1429785 | Z21: =A21 -> 11
A22: 12 | B22: Phan Thị Ngọc | C22: PHƯỢNG | E22: 711A23232121 | F22: 1603205186162 | G22: 2.26 | I22: =G22+(G22*H22) -> 2.26 | J22: 0 | K22: =I22+J22 -> 2.26 | L22: =K22*$H$7 -> 2373000 | M22: A | N22: =IF(M22="A",L22*0.5,IF(M22="B",L22*0.5*0.75,IF(M22="C",L22*0.5*0.75*0.75,0))) -> 1186500 | O22: =IF(M22="A",1050000,IF(M22="B",735000,IF(M22="C",514500,0))) -> 1050000 | P22: 21 | Q22: 25 | R22: =IF(N22>O22,N22,O22) -> 1186500 | S22: =IF(Q22>=P22,R22,R22/P22*Q22) -> 1186500 | U22: =T22*$H$7*0.5 -> 0 | W22: =V22*$H$7*0.5 -> 0 | X22: =(K22*0.01*$H$7)+(T22*1%*$H$7)+(V22*1%*$H$7) -> 23730 | Y22: =(S22+U22+W22+X22) -> 1210230 | Z22: =A22 -> 12 | AA22: Trừ 1N nghỉ bù
A23: 13 | B23: Vũ Như | C23: QUỲNH | E23: 711A23231908 | F23: 1603205186127 | G23: 2.04 | I23: =G23+(G23*H23) -> 2.04 | J23: 0 | K23: =I23+J23 -> 2.04 | L23: =K23*$H$7 -> 2142000 | M23: A DN | N23: =IF(M23="A",L23*0.5,IF(M23="B",L23*0.5*0.75,IF(M23="C",L23*0.5*0.75*0.75,0))) -> 0 | O23: =IF(M23="A",1050000,IF(M23="B",735000,IF(M23="C",514500,0))) -> 0 | P23: 21 | Q23: 0 | R23: =IF(N23>O23,N23,O23) -> 0 | S23: =IF(Q23>=P23,R23,R23/P23*Q23) -> 0 | U23: =T23*$H$7*0.5 -> 0 | W23: =V23*$H$7*0.5 -> 0 | X23: 0 | Y23: =(S23+U23+W23+X23) -> 0 | Z23: =A23 -> 13
A24: 14 | B24: Nguyễn Trọng | C24: PHÚ | E24: 711A23232248 | F24: 1603205185935 | G24: 2.01 | I24: =G24+(G24*H24) -> 2.01 | J24: 0 | K24: =I24+J24 -> 2.01 | L24: =K24*$H$7 -> 2110500 | M24: A | N24: =IF(M24="A",L24*0.5,IF(M24="B",L24*0.5*0.75,IF(M24="C",L24*0.5*0.75*0.75,0))) -> 1055250 | O24: =IF(M24="A",1050000,IF(M24="B",735000,IF(M24="C",514500,0))) -> 1050000 | P24: 21 | Q24: 25 | R24: =IF(N24>O24,N24,O24) -> 1055250 | S24: =IF(Q24>=P24,R24,R24/P24*Q24) -> 1055250 | U24: =T24*$H$7*0.5 -> 0 | W24: =V24*$H$7*0.5 -> 0 | X24: =(K24*0.01*$H$7)+(T24*1%*$H$7)+(V24*1%*$H$7) -> 21105 | Y24: =(S24+U24+W24+X24) -> 1076355 | Z24: =A24 -> 14
A25: 15 | B25: Vũ Ngọc | C25: QUANG | E25: 711A23231942 | F25: 1603205185912 | G25: 2.26 | I25: =G25+(G25*H25) -> 2.26 | J25: 0 | K25: =I25+J25 -> 2.26 | L25: =K25*$H$7 -> 2373000 | M25: A | N25: =IF(M25="A",L25*0.5,IF(M25="B",L25*0.5*0.75,IF(M25="C",L25*0.5*0.75*0.75,0))) -> 1186500 | O25: =IF(M25="A",1050000,IF(M25="B",735000,IF(M25="C",514500,0))) -> 1050000 | P25: 21 | Q25: 26 | R25: =IF(N25>O25,N25,O25) -> 1186500 | S25: =IF(Q25>=P25,R25,R25/P25*Q25) -> 1186500 | U25: =T25*$H$7*0.5 -> 0 | W25: =V25*$H$7*0.5 -> 0 | X25: =(K25*0.01*$H$7)+(T25*1%*$H$7)+(V25*1%*$H$7) -> 23730 | Y25: =(S25+U25+W25+X25) -> 1210230 | Z25: =A25 -> 15
A26: 16 | B26: Giáp Văn | C26: THỊNH | E26: 711A23231981 | F26: 1603205246157 | G26: 2.26 | I26: =G26+(G26*H26) -> 2.26 | J26: 0 | K26: =I26+J26 -> 2.26 | L26: =K26*$H$7 -> 2373000 | M26: A | N26: =IF(M26="A",L26*0.5,IF(M26="B",L26*0.5*0.75,IF(M26="C",L26*0.5*0.75*0.75,0))) -> 1186500 | O26: =IF(M26="A",1050000,IF(M26="B",735000,IF(M26="C",514500,0))) -> 1050000 | P26: 21 | Q26: 24 | R26: =IF(N26>O26,N26,O26) -> 1186500 | S26: =IF(Q26>=P26,R26,R26/P26*Q26) -> 1186500 | U26: =T26*$H$7*0.5 -> 0 | W26: =V26*$H$7*0.5 -> 0 | X26: =(K26*0.01*$H$7)+(T26*1%*$H$7)+(V26*1%*$H$7) -> 23730 | Y26: =(S26+U26+W26+X26) -> 1210230 | Z26: =A26 -> 16 | AA26: Trừ 1N nghỉ bù
A27: 17 | B27: Trang Thị Xuân | C27: UYÊN | D27: y tế | E27: 711A23235593 | F27: 1603205186156 | G27: 3.33 | I27: =G27+(G27*H27) -> 3.33 | J27: 0.45 | K27: =I27+J27 -> 3.78 | L27: =K27*$H$7 -> 3969000 | M27: A | N27: =IF(M27="A",L27*0.5,IF(M27="B",L27*0.5*0.75,IF(M27="C",L27*0.5*0.75*0.75,0))) -> 1984500 | O27: =IF(M27="A",1050000,IF(M27="B",735000,IF(M27="C",514500,0))) -> 1050000 | P27: 21 | Q27: 24 | R27: =IF(N27>O27,N27,O27) -> 1984500 | S27: =IF(Q27>=P27,R27,R27/P27*Q27) -> 1984500 | U27: =T27*$H$7*0.5 -> 0 | W27: =V27*$H$7*0.5 -> 0 | X27: =(K27*0.01*$H$7)+(T27*1%*$H$7)+(V27*1%*$H$7) -> 39690 | Y27: =(S27+U27+W27+X27) -> 2024190 | Z27: =A27 -> 17 | AB27: 1230390
A28: 18 | B28: Bùi Thị Lan | C28: ANH | E28: 711A23235581 | F28: 1603205247426 | G28: 2.46 | I28: =G28+(G28*H28) -> 2.46 | J28: 0 | K28: =I28+J28 -> 2.46 | L28: =K28*$H$7 -> 2583000 | M28: A | N28: =IF(M28="A",L28*0.5,IF(M28="B",L28*0.5*0.75,IF(M28="C",L28*0.5*0.75*0.75,0))) -> 1291500 | O28: =IF(M28="A",1050000,IF(M28="B",735000,IF(M28="C",514500,0))) -> 1050000 | P28: 21 | Q28: 24 | R28: =IF(N28>O28,N28,O28) -> 1291500 | S28: =IF(Q28>=P28,R28,R28/P28*Q28) -> 1291500 | U28: =T28*$H$7*0.5 -> 0 | W28: =V28*$H$7*0.5 -> 0 | X28: =(K28*0.01*$H$7)+(T28*1%*$H$7)+(V28*1%*$H$7) -> 25830 | Y28: =(S28+U28+W28+X28) -> 1317330 | Z28: =A28 -> 18
A29: 19 | B29: Phạm Ngọc | C29: LONG | D29: KTTC | E29: 711A12814549 | F29: 1603205178657 | G29: 4.32 | I29: =G29+(G29*H29) -> 4.32 | J29: 0.55 | K29: =I29+J29 -> 4.87 | L29: =K29*$H$7 -> 5113500 | M29: A | N29: =IF(M29="A",L29*0.5,IF(M29="B",L29*0.5*0.75,IF(M29="C",L29*0.5*0.75*0.75,0))) -> 2556750 | O29: =IF(M29="A",1050000,IF(M29="B",735000,IF(M29="C",514500,0))) -> 1050000 | P29: 21 | Q29: 26 | R29: =IF(N29>O29,N29,O29) -> 2556750 | S29: =IF(Q29>=P29,R29,R29/P29*Q29) -> 2556750 | U29: =T29*$H$7*0.5 -> 0 | W29: =V29*$H$7*0.5 -> 0 | X29: =(K29*0.01*$H$7)+(T29*1%*$H$7)+(V29*1%*$H$7) -> 51135 | Y29: =(S29+U29+W29+X29) -> 2607885 | Z29: =A29 -> 19 | AB29: x
A30: 20 | B30: Lâm Thị | C30: TRÁNH | E30: 711A23232327 | F30: 1603205182313 | G30: 3.33 | H30: 0.19 | I30: =G30+(G30*H30) -> 3.9627 | J30: 0 | K30: =I30+J30 -> 3.9627 | L30: =K30*$H$7 -> 4160835 | M30: A | N30: =IF(M30="A",L30*0.5,IF(M30="B",L30*0.5*0.75,IF(M30="C",L30*0.5*0.75*0.75,0))) -> 2080417.5 | O30: =IF(M30="A",1050000,IF(M30="B",735000,IF(M30="C",514500,0))) -> 1050000 | P30: 21 | Q30: 25 | R30: =IF(N30>O30,N30,O30) -> 2080417.5 | S30: =IF(Q30>=P30,R30,R30/P30*Q30) -> 2080417.5 | U30: =T30*$H$7*0.5 -> 0 | W30: =V30*$H$7*0.5 -> 0 | X30: =(K30*0.01*$H$7)+(T30*1%*$H$7)+(V30*1%*$H$7) -> 41608.35 | Y30: =(S30+U30+W30+X30) -> 2122025.9 | Z30: =A30 -> 20 | AB30: Tháng 4 chuyển Cô Tránh qua HĐ trường
A31: 21 | B31: Nguyễn Thị Kim | C31: DUNG | E31: 711A23232381 | F31: 1603205182336 | G31: 3 | I31: =G31+(G31*H31) -> 3 | J31: 0.35 | K31: =I31+J31 -> 3.35 | L31: =K31*$H$7 -> 3517500 | M31: A | N31: =IF(M31="A",L31*0.5,IF(M31="B",L31*0.5*0.75,IF(M31="C",L31*0.5*0.75*0.75,0))) -> 1758750 | O31: =IF(M31="A",1050000,IF(M31="B",735000,IF(M31="C",514500,0))) -> 1050000 | P31: 21 | Q31: 24 | R31: =IF(N31>O31,N31,O31) -> 1758750 | S31: =IF(Q31>=P31,R31,R31/P31*Q31) -> 1758750 | U31: =T31*$H$7*0.5 -> 0 | W31: =V31*$H$7*0.5 -> 0 | X31: =(K31*0.01*$H$7)+(T31*1%*$H$7)+(V31*1%*$H$7) -> 35175 | Y31: =(S31+U31+W31+X31) -> 1793925 | Z31: =A31 -> 21
A32: 22 | B32: Nguyễn Hải | C32: HÀ | E32: 711A22129623 | F32: 1603205182342 | G32: 3.99 | I32: =G32+(G32*H32) -> 3.99 | J32: 0.35 | K32: =I32+J32 -> 4.34 | L32: =K32*$H$7 -> 4557000 | M32: A | N32: =IF(M32="A",L32*0.5,IF(M32="B",L32*0.5*0.75,IF(M32="C",L32*0.5*0.75*0.75,0))) -> 2278500 | O32: =IF(M32="A",1050000,IF(M32="B",735000,IF(M32="C",514500,0))) -> 1050000 | P32: 21 | Q32: 24 | R32: =IF(N32>O32,N32,O32) -> 2278500 | S32: =IF(Q32>=P32,R32,R32/P32*Q32) -> 2278500 | U32: =T32*$H$7*0.5 -> 0 | W32: =V32*$H$7*0.5 -> 0 | X32: =(K32*0.01*$H$7)+(T32*1%*$H$7)+(V32*1%*$H$7) -> 45570 | Y32: =(S32+U32+W32+X32) -> 2324070 | Z32: =A32 -> 22
A33: 23 | B33: Hồng Mộng Tuyết | C33: DUNG | E33: 711A23232315 | F33: 1603205203183 | G33: 2.67 | I33: =G33+(G33*H33) -> 2.67 | J33: 0 | K33: =I33+J33 -> 2.67 | L33: =K33*$H$7 -> 2803500 | M33: A | N33: =IF(M33="A",L33*0.5,IF(M33="B",L33*0.5*0.75,IF(M33="C",L33*0.5*0.75*0.75,0))) -> 1401750 | O33: =IF(M33="A",1050000,IF(M33="B",735000,IF(M33="C",514500,0))) -> 1050000 | P33: 21 | Q33: 24 | R33: =IF(N33>O33,N33,O33) -> 1401750 | S33: =IF(Q33>=P33,R33,R33/P33*Q33) -> 1401750 | U33: =T33*$H$7*0.5 -> 0 | W33: =V33*$H$7*0.5 -> 0 | X33: =(K33*0.01*$H$7)+(T33*1%*$H$7)+(V33*1%*$H$7) -> 28035 | Y33: =(S33+U33+W33+X33) -> 1429785 | Z33: =A33 -> 23
A34: 24 | B34: Trần Thị Minh | C34: THOA | E34: 711A23232354 | F34: 1603205178873 | G34: 2.26 | I34: =G34+(G34*H34) -> 2.26 | K34: =I34+J34 -> 2.26 | L34: =K34*$H$7 -> 2373000 | M34: A | N34: =IF(M34="A",L34*0.5,IF(M34="B",L34*0.5*0.75,IF(M34="C",L34*0.5*0.75*0.75,0))) -> 1186500 | O34: =IF(M34="A",1050000,IF(M34="B",735000,IF(M34="C",514500,0))) -> 1050000 | P34: 21 | Q34: 24 | R34: =IF(N34>O34,N34,O34) -> 1186500 | S34: =IF(Q34>=P34,R34,R34/P34*Q34) -> 1186500 | U34: =T34*$H$7*0.5 -> 0 | W34: =V34*$H$7*0.5 -> 0 | X34: =(K34*0.01*$H$7)+(T34*1%*$H$7)+(V34*1%*$H$7) -> 23730 | Y34: =(S34+U34+W34+X34) -> 1210230 | Z34: =A34 -> 24
A35: 25 | B35: Hồ Minh | C35: LỢI | D35: KHVT | E35: 711A23232532 | F35: 1603205178809 | G35: 4.98 | I35: =G35+(G35*H35) -> 4.98 | J35: 0.45 | K35: =I35+J35 -> 5.43 | L35: =K35*$H$7 -> 5701500 | M35: A | N35: =IF(M35="A",L35*0.5,IF(M35="B",L35*0.5*0.75,IF(M35="C",L35*0.5*0.75*0.75,0))) -> 2850750 | O35: =IF(M35="A",1050000,IF(M35="B",735000,IF(M35="C",514500,0))) -> 1050000 | P35: 21 | Q35: 22 | R35: =IF(N35>O35,N35,O35) -> 2850750 | S35: =IF(Q35>=P35,R35,R35/P35*Q35) -> 2850750 | U35: =T35*$H$7*0.5 -> 0 | W35: =V35*$H$7*0.5 -> 0 | X35: =(K35*0.01*$H$7)+(T35*1%*$H$7)+(V35*1%*$H$7) -> 57015 | Y35: =(S35+U35+W35+X35) -> 2907765 | Z35: =A35 -> 25 | AA35: Dự hội nghị 1N, họp triển khai công tác kiểm tra, khảo sát…2N
A36: 26 | B36: Nguyễn Thị | C36: HOA | E36: 711A23232563 | F36: 1603205178815 | G36: 3.99 | I36: =G36+(G36*H36) -> 3.99 | J36: 0.35 | K36: =I36+J36 -> 4.34 | L36: =K36*$H$7 -> 4557000 | M36: A | N36: =IF(M36="A",L36*0.5,IF(M36="B",L36*0.5*0.75,IF(M36="C",L36*0.5*0.75*0.75,0))) -> 2278500 | O36: =IF(M36="A",1050000,IF(M36="B",735000,IF(M36="C",514500,0))) -> 1050000 | P36: 21 | Q36: 21 | R36: =IF(N36>O36,N36,O36) -> 2278500 | S36: =IF(Q36>=P36,R36,R36/P36*Q36) -> 2278500 | U36: =T36*$H$7*0.5 -> 0 | W36: =V36*$H$7*0.5 -> 0 | X36: =(K36*0.01*$H$7)+(T36*1%*$H$7)+(V36*1%*$H$7) -> 45570 | Y36: =(S36+U36+W36+X36) -> 2324070 | Z36: =A36 -> 26
A37: 27 | B37: Huỳnh Thị Xuân | C37: MAI | E37: 711A23232615 | F37: 1603205178850 | G37: 2.19 | I37: =G37+(G37*H37) -> 2.19 | J37: 0 | K37: =I37+J37 -> 2.19 | L37: =K37*$H$7 -> 2299500 | M37: A | N37: =IF(M37="A",L37*0.5,IF(M37="B",L37*0.5*0.75,IF(M37="C",L37*0.5*0.75*0.75,0))) -> 1149750 | O37: =IF(M37="A",1050000,IF(M37="B",735000,IF(M37="C",514500,0))) -> 1050000 | P37: 21 | Q37: 20 | R37: =IF(N37>O37,N37,O37) -> 1149750 | S37: =IF(Q37>=P37,R37,R37/P37*Q37) -> 1095000 | U37: =T37*$H$7*0.5 -> 0 | W37: =V37*$H$7*0.5 -> 0 | X37: =(K37*0.01*$H$7)+(T37*1%*$H$7)+(V37*1%*$H$7) -> 22995 | Y37: =(S37+U37+W37+X37) -> 1117995 | Z37: =A37 -> 27 | AA37: Trừ 1N nghỉ phép | AD37: =AD39-15343948 -> -15343948
A38: 28 | B38: Trần Thị Phương | C38: OANH | E38: 711A23234586 | F38: 1603205178794 | G38: 2.26 | I38: =G38+(G38*H38) -> 2.26 | J38: 0 | K38: =I38+J38 -> 2.26 | L38: =K38*$H$7 -> 2373000 | M38: A | N38: =IF(M38="A",L38*0.5,IF(M38="B",L38*0.5*0.75,IF(M38="C",L38*0.5*0.75*0.75,0))) -> 1186500 | O38: =IF(M38="A",1050000,IF(M38="B",735000,IF(M38="C",514500,0))) -> 1050000 | P38: 21 | Q38: 20 | R38: =IF(N38>O38,N38,O38) -> 1186500 | S38: =IF(Q38>=P38,R38,R38/P38*Q38) -> 1130000 | U38: =T38*$H$7*0.5 -> 0 | W38: =V38*$H$7*0.5 -> 0 | X38: =(K38*0.01*$H$7)+(T38*1%*$H$7)+(V38*1%*$H$7) -> 23730 | Y38: =(S38+U38+W38+X38) -> 1153730 | Z38: =A38 -> 28 | AA38: Trừ 1N nghỉ phép
A39: 29 | B39: Nguyễn Văn | C39: LÂM | E39: 711A23232599 | F39: 1603205178821 | G39: 4.98 | H39: 0.06 | I39: =G39+(G39*H39) -> 5.2788 | J39: 0.45 | K39: =I39+J39 -> 5.7288 | L39: =K39*$H$7 -> 6015240 | M39: A | N39: =IF(M39="A",L39*0.5,IF(M39="B",L39*0.5*0.75,IF(M39="C",L39*0.5*0.75*0.75,0))) -> 3007620 | O39: =IF(M39="A",1050000,IF(M39="B",735000,IF(M39="C",514500,0))) -> 1050000 | P39: 21 | Q39: 23 | R39: =IF(N39>O39,N39,O39) -> 3007620 | S39: =IF(Q39>=P39,R39,R39/P39*Q39) -> 3007620 | U39: =T39*$H$7*0.5 -> 0 | W39: =V39*$H$7*0.5 -> 0 | X39: =(K39*0.01*$H$7)+(T39*1%*$H$7)+(V39*1%*$H$7) -> 60152.4 | Y39: =(S39+U39+W39+X39) -> 3067772.4 | Z39: =A39 -> 29 | AA39: Trừ 2N nghỉ phép | AD39: =SUM(AC29:AC39) -> 0
A40: 30 | B40: Nguyễn Thanh | C40: LÂM | D40: T.TRA | E40: 711A23232757 | F40: 1603205179138 | G40: 4.98 | H40: 0.05 | I40: =G40+(G40*H40) -> 5.229 | J40: 0.45 | K40: =I40+J40 -> 5.679 | L40: =K40*$H$7 -> 5962950 | M40: A | N40: =IF(M40="A",L40*0.5,IF(M40="B",L40*0.5*0.75,IF(M40="C",L40*0.5*0.75*0.75,0))) -> 2981475 | O40: =IF(M40="A",1050000,IF(M40="B",735000,IF(M40="C",514500,0))) -> 1050000 | P40: 21 | Q40: 26 | R40: =IF(N40>O40,N40,O40) -> 2981475 | S40: =IF(Q40>=P40,R40,R40/P40*Q40) -> 2981475 | U40: =T40*$H$7*0.5 -> 0 | W40: =V40*$H$7*0.5 -> 0 | X40: =(K40*0.01*$H$7)+(T40*1%*$H$7)+(V40*1%*$H$7) -> 59629.5 | Y40: =(S40+U40+W40+X40) -> 3041104.5 | Z40: =A40 -> 30
A41: 31 | B41: Nguyễn Chí | C41: NHÂN | E41: 711A23233874 | F41: 1603205182184 | G41: 3 | I41: =G41+(G41*H41) -> 3 | J41: 0.35 | K41: =I41+J41 -> 3.35 | L41: =K41*$H$7 -> 3517500 | M41: A | N41: =IF(M41="A",L41*0.5,IF(M41="B",L41*0.5*0.75,IF(M41="C",L41*0.5*0.75*0.75,0))) -> 1758750 | O41: =IF(M41="A",1050000,IF(M41="B",735000,IF(M41="C",514500,0))) -> 1050000 | P41: 21 | Q41: 25 | R41: =IF(N41>O41,N41,O41) -> 1758750 | S41: =IF(Q41>=P41,R41,R41/P41*Q41) -> 1758750 | U41: =T41*$H$7*0.5 -> 0 | W41: =V41*$H$7*0.5 -> 0 | X41: =(K41*0.01*$H$7)+(T41*1%*$H$7)+(V41*1%*$H$7) -> 35175 | Y41: =(S41+U41+W41+X41) -> 1793925 | Z41: =A41 -> 31
...

Sheet THPT mới
A1: ỦY BAN NHÂN DÂN TP.HCM | M1: CỘNG HÒA XÃ HỘI CHỦ NGHĨA VIỆT NAM
A2: TRƯỜNG CAO ĐẲNG KỸ THUẬT | M2: Độc lập - Tự do - Hạnh phúc
A3: LÝ TỰ TRỌNG
A5: BẢNG THU NHẬP TĂNG THÊM - LƯƠNG THEO HỆ SỐ ĐIỀU CHỈNH THÁNG 02 (BỔ SUNG) NĂM 2013
A6: CÁN BỘ VIÊN CHỨC TRONG CHỈ TIÊU BIÊN CHẾ - TRƯỜNG TRUNG HỌC PHỔ THÔNG
A7: (Chi theo Chương II - "Những quy định cụ thể"/ Mục 2 - "Chi thanh toán cá nhân"/ Điều 17 - "Các khoản thanh toán cá nhân"/ Khoản 1.2 - "Tiền lương tăng thêm" trong Quy chế chi tiêu nội bộ năm học 2012 - 2013 ban hành theo Quyết định số 83/QĐ-LTT-KTTC ngày 23 tháng 01 năm 2013)
B8: Mức lương tối thiểu có hệ số 1 = 1 050 000đ | I8: 1050000 | O8: Hsđc: | P8: A=0,50, B=0,30, C=0,10, D=0 | X8: Đơn vị tính: đồng
A10: STT | B10: HỌ VÀ TÊN | D10: Số tài khoản thẻ ATM VIETINBANK | E10: Số tài khoản thẻ ATM AGRIBANK | F10: HS (hide) | G10: VK (hide) | H10: HS THỰC HƯỞNG (hide) | I10: HSPC (hide) | J10: HS LƯƠNG +PCCV | K10: CỘNG LƯƠNG (hide) | L10: XẾP LOẠI | M10: Mức lương theo hệ số điều chỉnh | N10: ABC MIN (hide) | O10: Số ngày công kế hoạch | P10: Số ngày công thực hiện | Q10: Số tiền thi đua không tính ngày (hide) | R10: Lương điều chỉnh tính theo ngày công thực hiện/tháng | S10: HỆ SỐ TRUY LÃNH LƯƠNG (HIDE) | T10: Truy lãnh lương điều chỉnh do truy lãnh lương | U10: HỆ SỐ TRUY LÃNH PCCV (HIDE) chia 2 | V10: Truy lãnh lương điều chỉnh do truy lãnh PCCV | W10: Trường hỗ trợ 1% BHYT | X10: THÀNH TIỀN | Y10: GHI CHÚ
A11: 01 | B11: 02 | F11: 03 | G11: 04 | H11: 05 | I11: 06 | J11: 03 | K11: 08 | L11: 04 | M11: 05 | N11: 11 | O11: 06 | P11: 07 | Q11: 14 | R11: 08 | S11: 16 | T11: 09 | U11: 18 | V11: 10 | W11: 11 | X11: 12 | Y11: 13
A12: 01 | B12: Phạm Thị Thu | C12: THẢO | D12: 711A22129662 | E12: 1603205186684 | F12: 5.7 | H12: =F12+(F12*G12) -> 5.7 | I12: 0.7 | J12: =H12+I12 -> 6.4 | K12: =J12*$I$8 -> 6720000 | L12: A | M12: =IF(L12="A",K12*0.5,IF(L12="B",K12*0.5*0.75,IF(L12="C",K12*0.5*0.75*0.75,0))) -> 3360000 | N12: =IF(L12="A",1050000,IF(L12="B",735000,IF(L12="C",514500,0))) -> 1050000 | O12: 26 | P12: 26 | Q12: =IF(M12>N12,M12,N12) -> 3360000 | R12: =ROUND(IF(P12>=O12,Q12,Q12/O12*P12),0) -> 3360000 | T12: =S12*$I$8*0.5 -> 0 | V12: =U12*$I$8*0.5 -> 0 | W12: =(J12*$I$8*0.01)+(S12*$I$8*1%)+(U12*1%*$I$8) -> 67200 | X12: =R12+T12+V12+W12 -> 3427200 | Y12: =A12 -> 01 | Z12: Tham gia tập huấn Công tác triển khai thực hiện dự toán 2013….2N
A13: 02 | B13: Trần Anh Nga | C13: MY | D13: 711A23234783 | E13: 1603205183418 | F13: 3.33 | H13: =F13+(F13*G13) -> 3.33 | I13: 0.15 | J13: =H13+I13 -> 3.48 | K13: =J13*$I$8 -> 3654000 | L13: A | M13: =IF(L13="A",K13*0.5,IF(L13="B",K13*0.5*0.75,IF(L13="C",K13*0.5*0.75*0.75,0))) -> 1827000 | N13: =IF(L13="A",1050000,IF(L13="B",735000,IF(L13="C",514500,0))) -> 1050000 | O13: 26 | P13: 26 | Q13: =IF(M13>N13,M13,N13) -> 1827000 | R13: =ROUND(IF(P13>=O13,Q13,Q13/O13*P13),0) -> 1827000 | T13: =S13*$I$8*0.5 -> 0 | V13: =U13*$I$8*0.5 -> 0 | W13: =(J13*$I$8*0.01)+(S13*$I$8*1%)+(U13*1%*$I$8) -> 36540 | X13: =R13+T13+V13+W13 -> 1863540 | Y13: =A13 -> 02
