Workbook

Sheet CN
A1: ỦY BAN NHÂN DÂN TP.HCM | R1: CỘNG HÒA XÃ HỘI CHỦ NGHĨA VIỆT NAM
A2: TRƯỜNG CAO ĐẲNG LÝ TỰ TRỌNG | R2: Độc lập - Tự do - Hạnh phúc
A3: THÀNH PHỐ HỒ CHÍ MINH
A5: BẢNG THU NHẬP TĂNG THÊM - LƯƠNG THEO HỆ SỐ ĐIỀU CHỈNH THÁNG 12 NĂM 2023
A6: CÁN BỘ VIÊN CHỨC TRONG CHỈ TIÊU BIÊN CHẾ
A7: (Chi theo Chương II - "Những quy định cụ thể"/ Mục 2 - "Chi thanh toán cá nhân"/ Điều 17 - "Các khoản thanh toán cá nhân"/ Khoản b - "Thu nhập tăng thêm" trong Quy chế chi tiêu nội bộ năm 2023 ban hành kèm theo Quyết định số 739/QĐ-LTT-KHTC ngày 02 tháng 11 năm 2022)
A8: Mức lương tối thiểu hệ số 1 = 1.800.000 | C8: 1490000 | G8: 1800000 | V8: Đơn vị tính: đồng
A10: STT | B10: HỌ VÀ TÊN | D10: Số tài khoản thẻ ATM OCB | E10: Số tài khoản thẻ ATM AGRIBANK | F10: HS (hide) | G10: VK (hide) | H10: HS THỰC HƯỞNG (hide) | I10: HSPC (hide) | J10: HS LƯƠNG +PCCV | K10: CỘNG LƯƠNG (hide) | L10: XẾP LOẠI | M10: Mức lương theo hệ số điều chỉnh | N10: Số ngày công kế hoạch | O10: Số ngày công thực hiện | P10: Lương điều chỉnh tính theo ngày công thực hiện/tháng | Q10: HỆ SỐ TRUY LÃNH LƯƠNG (CỘT NÀY HIDE) | R10: Truy lãnh lương điều chỉnh do truy lãnh lương | S10: HỆ SỐ TRUY LÃNH PCCV (CỘT NÀY HIDE) | T10: Truy lãnh lương điều chỉnh do truy lãnh PCCV | U10: Trường hỗ trợ 1% BHYT | V10: THÀNH TIỀN | X10: GHI CHÚ
A11: 01 | B11: 02 | F11: 03 | G11: 04 | H11: 05 | I11: 06 | J11: 03 | K11: 08 | L11: 04 | M11: 05 | N11: 06 | O11: 07 | P11: 08 | Q11: 16 | R11: 09 | S11: 18 | T11: 10 | U11: 11 | V11: 12 | X11: 13
A12: =_xlfn.AGGREGATE(4,7,A$11:A11)+1 -> 1 | B12: Phạm Hữu Lộc | C12: LỘC | D12: 0016100006544007 | E12: 1603215001126 | F12: 5.76 | G12: 0 | H12: =F12+(F12*G12) -> 5.76 | I12: 0.9 | J12: =H12+I12 -> 6.66 | K12: =J12*$G$8 -> 11988000 | L12: =VLOOKUP(B12,'[1]Gui chi Quynh'!$B$7:$F$397,5,FALSE) -> A1 | M12: =IF(L12="A1",K12*1.6,IF(L12="A2",K12*1.4,IF(L12="A3",K12*1.2,IF(L12="A4",K12*1,IF(L12="B1",K12*0.7,IF(L12="B2",K12*0.5,IF(L12="C1",K12*0.3,IF(L12="C2",K12*0.2,0)))))))) -> 19180800 | N12: 21 | O12: =IFERROR(INDEX('[2]CN BC'!$J$10:$J$276,MATCH(B12,'[2]CN BC'!$H$10:$H$276,0)),"") -> 28 | P12: =IF(O12>=N12,M12,M12/N12*O12) -> 19180800 | R12: =Q12*$G$8*1.6 -> 0 | T12: =S12*$G$8*1 -> 0 | U12: =IF(OR(L12="A DN",L12="KXL", L12=""),"0",ROUND(J12*0.01*$G$8+Q12*1%*$G$8+S12*1%*$G$8,)) -> 119880 | V12: =(P12+R12+T12+U12) -> 19300680 | W12: 31 | X12: =A12 -> 1 | Y12: =IFERROR(INDEX('[2]CN BC'!$M$10:$M$276,MATCH(B12,'[2]CN BC'!$H$10:$H$276,0)),"") -> 0 | Z12: BGH
A13: =_xlfn.AGGREGATE(4,7,A$11:A12)+1 -> 2 | B13: Đinh Văn Đệ | C13: ĐỆ | D13: 0016100006699008 | E13: 1603215001371 | F13: 4.98 | G13: 0.07 | H13: =F13+(F13*G13) -> 5.3286 | I13: 0.7 | J13: =H13+I13 -> 6.0286 | K13: =J13*$G$8 -> 10851480 | L13: =VLOOKUP(B13,'[1]Gui chi Quynh'!$B$7:$F$397,5,FALSE) -> A1 | M13: =IF(L13="A1",K13*1.6,IF(L13="A2",K13*1.4,IF(L13="A3",K13*1.2,IF(L13="A4",K13*1,IF(L13="B1",K13*0.7,IF(L13="B2",K13*0.5,IF(L13="C1",K13*0.3,IF(L13="C2",K13*0.2,0)))))))) -> 17362368 | N13: 21 | O13: =IFERROR(INDEX('[2]CN BC'!$J$10:$J$276,MATCH(B13,'[2]CN BC'!$H$10:$H$276,0)),"") -> 28 | P13: =IF(O13>=N13,M13,M13/N13*O13) -> 17362368 | R13: =Q13*$G$8*1.6 -> 0 | T13: =S13*$G$8*1 -> 0 | U13: =IF(OR(L13="A DN",L13="KXL", L13=""),"0",ROUND(J13*0.01*$G$8+Q13*1%*$G$8+S13*1%*$G$8,)) -> 108515 | V13: =(P13+R13+T13+U13) -> 17470883 | W13: 29 | X13: =A13 -> 2 | Y13: =IFERROR(INDEX('[2]CN BC'!$M$10:$M$276,MATCH(B13,'[2]CN BC'!$H$10:$H$276,0)),"") -> 0 | Z13: BGH
A14: =_xlfn.AGGREGATE(4,7,A$11:A13)+1 -> 3 | B14: Đinh Hồng Minh | C14: MINH | D14: 0016100006543008 | E14: 1603205186191 | F14: 4.98 | G14: 0.08 | H14: =F14+(F14*G14) -> 5.3784 | I14: 0.7 | J14: =H14+I14 -> 6.0784 | K14: =J14*$G$8 -> 10941120 | L14: =VLOOKUP(B14,'[1]Gui chi Quynh'!$B$7:$F$397,5,FALSE) -> A1 | M14: =IF(L14="A1",K14*1.6,IF(L14="A2",K14*1.4,IF(L14="A3",K14*1.2,IF(L14="A4",K14*1,IF(L14="B1",K14*0.7,IF(L14="B2",K14*0.5,IF(L14="C1",K14*0.3,IF(L14="C2",K14*0.2,0)))))))) -> 17505792 | N14: 21 | O14: =IFERROR(INDEX('[2]CN BC'!$J$10:$J$276,MATCH(B14,'[2]CN BC'!$H$10:$H$276,0)),"") -> 25 | P14: =IF(O14>=N14,M14,M14/N14*O14) -> 17505792 | Q14: =(4.98*1%)*2 -> 0.0996 | R14: =Q14*$G$8*1.6 -> 286848 | T14: =S14*$G$8*1 -> 0 | U14: =IF(OR(L14="A DN",L14="KXL", L14=""),"0",ROUND(J14*0.01*$G$8+Q14*1%*$G$8+S14*1%*$G$8,)) -> 111204 | V14: =(P14+R14+T14+U14) -> 17903844 | W14: 29 | X14: =A14 -> 3 | Y14: - Trừ 1 ngày nghỉ phép 29/12 - Truy lãnh PCTN VK T10+11/23 | Z14: BGH
A15: =_xlfn.AGGREGATE(4,7,A$11:A14)+1 -> 4 | B15: Châu Văn Bảo | D15: 0016100006674008 | E15: 1603215001359 | F15: 4.65 | H15: =F15+(F15*G15) -> 4.65 | I15: 0.7 | J15: =H15+I15 -> 5.35 | K15: =J15*$G$8 -> 9630000 | L15: =VLOOKUP(B15,'[1]Gui chi Quynh'!$B$7:$F$397,5,FALSE) -> A1 | M15: =IF(L15="A1",K15*1.6,IF(L15="A2",K15*1.4,IF(L15="A3",K15*1.2,IF(L15="A4",K15*1,IF(L15="B1",K15*0.7,IF(L15="B2",K15*0.5,IF(L15="C1",K15*0.3,IF(L15="C2",K15*0.2,0)))))))) -> 15408000 | N15: 21 | O15: =IFERROR(INDEX('[2]CN BC'!$J$10:$J$276,MATCH(B15,'[2]CN BC'!$H$10:$H$276,0)),"") -> 27 | P15: =IF(O15>=N15,M15,M15/N15*O15) -> 15408000 | R15: =Q15*$G$8*1 -> 0 | T15: =S15*$G$8*1 -> 0 | U15: =IF(OR(L15="A DN",L15="KXL", L15=""),"0",ROUND(J15*0.01*$G$8+Q15*1%*$G$8+S15*1%*$G$8,)) -> 96300 | V15: =(P15+R15+T15+U15) -> 15504300 | W15: 30 | X15: =A15 -> 4 | Y15: =IFERROR(INDEX('[2]CN BC'!$M$10:$M$276,MATCH(B15,'[2]CN BC'!$H$10:$H$276,0)),"") -> 0 | Z15: BGH
A16: =_xlfn.AGGREGATE(4,7,A$11:A15)+1 -> 5 | B16: Lâm Viết Dũng | C16: DŨNG | D16: 0016106868686866 | E16: 1603215002237 | F16: 4.98 | G16: 0.05 | H16: =F16+(F16*G16) -> 5.229 | I16: 0.45 | J16: =H16+I16 -> 5.679 | K16: =J16*$G$8 -> 10222200 | L16: =VLOOKUP(B16,'[1]Gui chi Quynh'!$B$7:$F$397,5,FALSE) -> A1 | M16: =IF(L16="A1",K16*1.6,IF(L16="A2",K16*1.4,IF(L16="A3",K16*1.2,IF(L16="A4",K16*1,IF(L16="B1",K16*0.7,IF(L16="B2",K16*0.5,IF(L16="C1",K16*0.3,IF(L16="C2",K16*0.2,0)))))))) -> 16355520 | N16: 21 | O16: =IFERROR(INDEX('[2]CN BC'!$J$10:$J$276,MATCH(B16,'[2]CN BC'!$H$10:$H$276,0)),"") -> 29 | P16: =IF(O16>=N16,M16,M16/N16*O16) -> 16355520 | R16: =Q16*$G$8*1 -> 0 | T16: =S16*$G$8*1 -> 0 | U16: =IF(OR(L16="A DN",L16="KXL", L16=""),"0",ROUND(J16*0.01*$G$8+Q16*1%*$G$8+S16*1%*$G$8,)) -> 102222 | V16: =(P16+R16+T16+U16) -> 16457742 | W16: 30 | X16: =A16 -> 5 | Y16: =IFERROR(INDEX('[2]CN BC'!$M$10:$M$276,MATCH(B16,'[2]CN BC'!$H$10:$H$276,0)),"") -> 0 | Z16: TCHC
A17: =_xlfn.AGGREGATE(4,7,A$11:A16)+1 -> 6 | B17: Lưu Hoàng Hải Yến | C17: YẾN | D17: 0016100006799005 | E17: 1603205353720 | F17: 3.33 | H17: =F17+(F17*G17) -> 3.33 | I17: 0.35 | J17: =H17+I17 -> 3.68 | K17: =J17*$G$8 -> 6624000 | L17: =VLOOKUP(B17,'[1]Gui chi Quynh'!$B$7:$F$397,5,FALSE) -> A2 | M17: =IF(L17="A1",K17*1.6,IF(L17="A2",K17*1.4,IF(L17="A3",K17*1.2,IF(L17="A4",K17*1,IF(L17="B1",K17*0.7,IF(L17="B2",K17*0.5,IF(L17="C1",K17*0.3,IF(L17="C2",K17*0.2,0)))))))) -> 9273600 | N17: 21 | O17: =IFERROR(INDEX('[2]CN BC'!$J$10:$J$276,MATCH(B17,'[2]CN BC'!$H$10:$H$276,0)),"") -> 21 | P17: =IF(O17>=N17,M17,M17/N17*O17) -> 9273600 | R17: =Q17*$G$8*1 -> 0 | T17: =S17*$G$8*1 -> 0 | U17: =IF(OR(L17="A DN",L17="KXL", L17=""),"0",ROUND(J17*0.01*$G$8+Q17*1%*$G$8+S17*1%*$G$8,)) -> 66240 | V17: =(P17+R17+T17+U17) -> 9339840 | W17: 23.5 | X17: =A17 -> 6 | Y17: =IFERROR(INDEX('[2]CN BC'!$M$10:$M$276,MATCH(B17,'[2]CN BC'!$H$10:$H$276,0)),"") -> Trừ 1 ngày nghỉ phép 1/12 | Z17: TCHC
A18: =_xlfn.AGGREGATE(4,7,A$11:A17)+1 -> 7 | B18: Huỳnh Thị Minh Ly | C18: LY | D18: 0016100006518006 | E18: 1603205185719 | F18: 3 | H18: =F18+(F18*G18) -> 3 | I18: 0.35 | J18: =H18+I18 -> 3.35 | K18: =J18*$G$8 -> 6030000 | L18: =VLOOKUP(B18,'[1]Gui chi Quynh'!$B$7:$F$397,5,FALSE) -> A1 | M18: =IF(L18="A1",K18*1.6,IF(L18="A2",K18*1.4,IF(L18="A3",K18*1.2,IF(L18="A4",K18*1,IF(L18="B1",K18*0.7,IF(L18="B2",K18*0.5,IF(L18="C1",K18*0.3,IF(L18="C2",K18*0.2,0)))))))) -> 9648000 | N18: 21 | O18: =IFERROR(INDEX('[2]CN BC'!$J$10:$J$276,MATCH(B18,'[2]CN BC'!$H$10:$H$276,0)),"") -> 26.5 | P18: =IF(O18>=N18,M18,M18/N18*O18) -> 9648000 | R18: =Q18*$G$8*1 -> 0 | T18: =S18*$G$8*1 -> 0 | U18: =IF(OR(L18="A DN",L18="KXL", L18=""),"0",ROUND(J18*0.01*$G$8+Q18*1%*$G$8+S18*1%*$G$8,)) -> 60300 | V18: =(P18+R18+T18+U18) -> 9708300 | W18: 27.5 | X18: =A18 -> 7 | Y18: =IFERROR(INDEX('[2]CN BC'!$M$10:$M$276,MATCH(B18,'[2]CN BC'!$H$10:$H$276,0)),"") -> 0 | Z18: TCHC
A19: =_xlfn.AGGREGATE(4,7,A$11:A18)+1 -> 8 | B19: Phan Thị Ngọc Phượng | C19: PHƯỢNG | D19: 0016100006635002 | E19: 1603205186162 | F19: 3.66 | H19: =F19+(F19*G19) -> 3.66 | J19: =H19+I19 -> 3.66 | K19: =J19*$G$8 -> 6588000 | L19: =VLOOKUP(B19,'[1]Gui chi Quynh'!$B$7:$F$397,5,FALSE) -> A1 | M19: =IF(L19="A1",K19*1.6,IF(L19="A2",K19*1.4,IF(L19="A3",K19*1.2,IF(L19="A4",K19*1,IF(L19="B1",K19*0.7,IF(L19="B2",K19*0.5,IF(L19="C1",K19*0.3,IF(L19="C2",K19*0.2,0)))))))) -> 10540800 | N19: 21 | O19: =IFERROR(INDEX('[2]CN BC'!$J$10:$J$276,MATCH(B19,'[2]CN BC'!$H$10:$H$276,0)),"") -> 23 | P19: =IF(O19>=N19,M19,M19/N19*O19) -> 10540800 | R19: =Q19*$G$8*1 -> 0 | T19: =S19*$G$8*1 -> 0 | U19: =IF(OR(L19="A DN",L19="KXL", L19=""),"0",ROUND(J19*0.01*$G$8+Q19*1%*$G$8+S19*1%*$G$8,)) -> 65880 | V19: =(P19+R19+T19+U19) -> 10606680 | W19: 24.5 | X19: =A19 -> 8 | Y19: =IFERROR(INDEX('[2]CN BC'!$M$10:$M$276,MATCH(B19,'[2]CN BC'!$H$10:$H$276,0)),"") -> 0 | Z19: TCHC
A20: =_xlfn.AGGREGATE(4,7,A$11:A19)+1 -> 9 | B20: Vũ Như Quỳnh | C20: QUỲNH | D20: 0016100006771003 | E20: 1603205186127 | F20: 3.66 | H20: =F20+(F20*G20) -> 3.66 | J20: =H20+I20 -> 3.66 | K20: =J20*$G$8 -> 6588000 | L20: =VLOOKUP(B20,'[1]Gui chi Quynh'!$B$7:$F$397,5,FALSE) -> A1 | M20: =IF(L20="A1",K20*1.6,IF(L20="A2",K20*1.4,IF(L20="A3",K20*1.2,IF(L20="A4",K20*1,IF(L20="B1",K20*0.7,IF(L20="B2",K20*0.5,IF(L20="C1",K20*0.3,IF(L20="C2",K20*0.2,0)))))))) -> 10540800 | N20: 21 | O20: =IFERROR(INDEX('[2]CN BC'!$J$10:$J$276,MATCH(B20,'[2]CN BC'!$H$10:$H$276,0)),"") -> 23 | P20: =IF(O20>=N20,M20,M20/N20*O20) -> 10540800 | R20: =Q20*$G$8*1 -> 0 | T20: =S20*$G$8*1 -> 0 | U20: =IF(OR(L20="A DN",L20="KXL", L20=""),"0",ROUND(J20*0.01*$G$8+Q20*1%*$G$8+S20*1%*$G$8,)) -> 65880 | V20: =(P20+R20+T20+U20) -> 10606680 | W20: 24.5 | X20: =A20 -> 9 | Y20: =IFERROR(INDEX('[2]CN BC'!$M$10:$M$276,MATCH(B20,'[2]CN BC'!$H$10:$H$276,0)),"") -> 0 | Z20: TCHC
A21: =_xlfn.AGGREGATE(4,7,A$11:A20)+1 -> 10 | B21: Nguyễn Thị Bích Liễu | C21: LIỄU | D21: 0016100006663006 | E21: 1603205249292 | F21: 3.46 | H21: =F21+(F21*G21) -> 3.46 | J21: =H21+I21 -> 3.46 | K21: =J21*$G$8 -> 6228000 | L21: =VLOOKUP(B21,'[1]Gui chi Quynh'!$B$7:$F$397,5,FALSE) -> A2 | M21: =IF(L21="A1",K21*1.6,IF(L21="A2",K21*1.4,IF(L21="A3",K21*1.2,IF(L21="A4",K21*1,IF(L21="B1",K21*0.7,IF(L21="B2",K21*0.5,IF(L21="C1",K21*0.3,IF(L21="C2",K21*0.2,0)))))))) -> 8719200 | N21: 21 | O21: =IFERROR(INDEX('[2]CN BC'!$J$10:$J$276,MATCH(B21,'[2]CN BC'!$H$10:$H$276,0)),"") -> 22 | P21: =IF(O21>=N21,M21,M21/N21*O21) -> 8719200 | R21: =Q21*$G$8*1 -> 0 | T21: =S21*$G$8*1 -> 0 | U21: =IF(OR(L21="A DN",L21="KXL", L21=""),"0",ROUND(J21*0.01*$G$8+Q21*1%*$G$8+S21*1%*$G$8,)) -> 62280 | V21: =(P21+R21+T21+U21) -> 8781480 | W21: 24.5 | X21: =A21 -> 10 | Y21: =IFERROR(INDEX('[2]CN BC'!$M$10:$M$276,MATCH(B21,'[2]CN BC'!$H$10:$H$276,0)),"") -> Trừ 1 ngày nghỉ phép 25/12 | Z21: TCHC
A22: =_xlfn.AGGREGATE(4,7,A$11:A21)+1 -> 11 | B22: Nguyễn Văn Chì | C22: CHÌ | D22: 0016100006765003 | E22: 1603205280047 | F22: 3.66 | H22: =F22+(F22*G22) -> 3.66 | J22: =H22+I22 -> 3.66 | K22: =J22*$G$8 -> 6588000 | L22: =VLOOKUP(B22,'[1]Gui chi Quynh'!$B$7:$F$397,5,FALSE) -> A2 | M22: =IF(L22="A1",K22*1.6,IF(L22="A2",K22*1.4,IF(L22="A3",K22*1.2,IF(L22="A4",K22*1,IF(L22="B1",K22*0.7,IF(L22="B2",K22*0.5,IF(L22="C1",K22*0.3,IF(L22="C2",K22*0.2,0)))))))) -> 9223200 | N22: 21 | O22: =IFERROR(INDEX('[2]CN BC'!$J$10:$J$276,MATCH(B22,'[2]CN BC'!$H$10:$H$276,0)),"") -> 21 | P22: =IF(O22>=N22,M22,M22/N22*O22) -> 9223200 | R22: =Q22*$G$8*1 -> 0 | T22: =S22*$G$8*1 -> 0 | U22: =IF(OR(L22="A DN",L22="KXL", L22=""),"0",ROUND(J22*0.01*$G$8+Q22*1%*$G$8+S22*1%*$G$8,)) -> 65880 | V22: =(P22+R22+T22+U22) -> 9289080 | W22: 24 | X22: =A22 -> 11 | Y22: =IFERROR(INDEX('[2]CN BC'!$M$10:$M$276,MATCH(B22,'[2]CN BC'!$H$10:$H$276,0)),"") -> 0 | Z22: TCHC
A23: =_xlfn.AGGREGATE(4,7,A$11:A22)+1 -> 12 | B23: Trần Thị Ánh Phượng | C23: PHƯỢNG | D23: 0016100006767006 | E23: 1603205246134 | F23: 3.33 | H23: =F23+(F23*G23) -> 3.33 | J23: =H23+I23 -> 3.33 | K23: =J23*$G$8 -> 5994000 | L23: =VLOOKUP(B23,'[1]Gui chi Quynh'!$B$7:$F$397,5,FALSE) -> A1 | M23: =IF(L23="A1",K23*1.6,IF(L23="A2",K23*1.4,IF(L23="A3",K23*1.2,IF(L23="A4",K23*1,IF(L23="B1",K23*0.7,IF(L23="B2",K23*0.5,IF(L23="C1",K23*0.3,IF(L23="C2",K23*0.2,0)))))))) -> 9590400 | N23: 21 | O23: =IFERROR(INDEX('[2]CN BC'!$J$10:$J$276,MATCH(B23,'[2]CN BC'!$H$10:$H$276,0)),"") -> 21.5 | P23: =IF(O23>=N23,M23,M23/N23*O23) -> 9590400 | R23: =Q23*$G$8*1 -> 0 | T23: =S23*$G$8*1 -> 0 | U23: =IF(OR(L23="A DN",L23="KXL", L23=""),"0",ROUND(J23*0.01*$G$8+Q23*1%*$G$8+S23*1%*$G$8,)) -> 59940 | V23: =(P23+R23+T23+U23) -> 9650340 | W23: 23 | X23: =A23 -> 12 | Y23: =IFERROR(INDEX('[2]CN BC'!$M$10:$M$276,MATCH(B23,'[2]CN BC'!$H$10:$H$276,0)),"") -> 0 | Z23: TCHC
A24: =_xlfn.AGGREGATE(4,7,A$11:A23)+1 -> 13 | B24: Trần Thị Phương Oanh | C24: OANH | D24: 0016100006576006 | E24: 1603205178794 | F24: 3.66 | H24: =F24+(F24*G24) -> 3.66 | J24: =H24+I24 -> 3.66 | K24: =J24*$G$8 -> 6588000 | L24: =VLOOKUP(B24,'[1]Gui chi Quynh'!$B$7:$F$397,5,FALSE) -> A2 | M24: =IF(L24="A1",K24*1.6,IF(L24="A2",K24*1.4,IF(L24="A3",K24*1.2,IF(L24="A4",K24*1,IF(L24="B1",K24*0.7,IF(L24="B2",K24*0.5,IF(L24="C1",K24*0.3,IF(L24="C2",K24*0.2,0)))))))) -> 9223200 | N24: 21 | O24: =IFERROR(INDEX('[2]CN BC'!$J$10:$J$276,MATCH(B24,'[2]CN BC'!$H$10:$H$276,0)),"") -> 21.5 | P24: =IF(O24>=N24,M24,M24/N24*O24) -> 9223200 | R24: =Q24*$G$8*1.4 -> 0 | T24: =S24*$G$8*1 -> 0 | U24: =IF(OR(L24="A DN",L24="KXL", L24=""),"0",ROUND(J24*0.01*$G$8+Q24*1%*$G$8+S24*1%*$G$8,)) -> 65880 | V24: =(P24+R24+T24+U24) -> 9289080 | W24: 25.5 | X24: =A24 -> 13 | Y24: =IFERROR(INDEX('[2]CN BC'!$M$10:$M$276,MATCH(B24,'[2]CN BC'!$H$10:$H$276,0)),"") -> 0 | Z24: TCHC
A25: =_xlfn.AGGREGATE(4,7,A$11:A24)+1 -> 14 | B25: Thân Thị Nhung | C25: NHUNG | D25: 0016100006832002 | E25: 1603205360856 | F25: 3.33 | H25: =F25+(F25*G25) -> 3.33 | J25: =H25+I25 -> 3.33 | K25: =J25*$G$8 -> 5994000 | L25: =VLOOKUP(B25,'[1]Gui chi Quynh'!$B$7:$F$397,5,FALSE) -> A1 | M25: =IF(L25="A1",K25*1.6,IF(L25="A2",K25*1.4,IF(L25="A3",K25*1.2,IF(L25="A4",K25*1,IF(L25="B1",K25*0.7,IF(L25="B2",K25*0.5,IF(L25="C1",K25*0.3,IF(L25="C2",K25*0.2,0)))))))) -> 9590400 | N25: 21 | O25: =IFERROR(INDEX('[2]CN BC'!$J$10:$J$276,MATCH(B25,'[2]CN BC'!$H$10:$H$276,0)),"") -> 21.5 | P25: =IF(O25>=N25,M25,M25/N25*O25) -> 9590400 | R25: =Q25*$G$8*1 -> 0 | T25: =S25*$G$8*1 -> 0 | U25: =IF(OR(L25="A DN",L25="KXL", L25=""),"0",ROUND(J25*0.01*$G$8+Q25*1%*$G$8+S25*1%*$G$8,)) -> 59940 | V25: =(P25+R25+T25+U25) -> 9650340 | W25: 0 | X25: =A25 -> 14 | Y25: =IFERROR(INDEX('[2]CN BC'!$M$10:$M$276,MATCH(B25,'[2]CN BC'!$H$10:$H$276,0)),"") -> 0 | Z25: TCHC
A26: =_xlfn.AGGREGATE(4,7,A$11:A25)+1 -> 15 | B26: Nguyễn Thị Vân | C26: VÂN | D26: 0016100006864001 | E26: 1603205545491 | F26: 2.41 | H26: =F26+(F26*G26) -> 2.41 | J26: =H26+I26 -> 2.41 | K26: =J26*$G$8 -> 4338000 | L26: =VLOOKUP(B26,'[1]Gui chi Quynh'!$B$7:$F$397,5,FALSE) -> A2 | M26: =IF(L26="A1",K26*1.6,IF(L26="A2",K26*1.4,IF(L26="A3",K26*1.2,IF(L26="A4",K26*1,IF(L26="B1",K26*0.7,IF(L26="B2",K26*0.5,IF(L26="C1",K26*0.3,IF(L26="C2",K26*0.2,0)))))))) -> 6073200 | N26: 21 | O26: =IFERROR(INDEX('[2]CN BC'!$J$10:$J$276,MATCH(B26,'[2]CN BC'!$H$10:$H$276,0)),"") -> 24 | P26: =IF(O26>=N26,M26,M26/N26*O26) -> 6073200 | R26: =Q26*$G$8*1 -> 0 | T26: =S26*$G$8*1 -> 0 | U26: =IF(OR(L26="A DN",L26="KXL", L26=""),"0",ROUND(J26*0.01*$G$8+Q26*1%*$G$8+S26*1%*$G$8,)) -> 43380 | V26: =(P26+R26+T26+U26) -> 6116580 | W26: 26 | X26: =A26 -> 15 | Y26: =IFERROR(INDEX('[2]CN BC'!$M$10:$M$276,MATCH(B26,'[2]CN BC'!$H$10:$H$276,0)),"") -> 0
A27: =_xlfn.AGGREGATE(4,7,A$11:A26)+1 -> 16 | B27: Lê Thị Hải Đăng | F27: 3.66 | H27: =F27+(F27*G27) -> 3.66 | J27: =H27+I27 -> 3.66 | K27: =J27*$G$8 -> 6588000 | L27: =VLOOKUP(B27,'[1]Gui chi Quynh'!$B$7:$F$397,5,FALSE) -> A2 | M27: =IF(L27="A1",K27*1.6,IF(L27="A2",K27*1.4,IF(L27="A3",K27*1.2,IF(L27="A4",K27*1,IF(L27="B1",K27*0.7,IF(L27="B2",K27*0.5,IF(L27="C1",K27*0.3,IF(L27="C2",K27*0.2,0)))))))) -> 9223200 | N27: 21 | O27: =IFERROR(INDEX('[2]CN BC'!$J$10:$J$276,MATCH(B27,'[2]CN BC'!$H$10:$H$276,0)),"") -> 23 | P27: =IF(O27>=N27,M27,M27/N27*O27) -> 9223200 | R27: =Q27*$G$8*1 -> 0 | T27: =S27*$G$8*1 -> 0 | U27: =IF(OR(L27="A DN",L27="KXL", L27=""),"0",ROUND(J27*0.01*$G$8+Q27*1%*$G$8+S27*1%*$G$8,)) -> 65880 | V27: =(P27+R27+T27+U27) -> 9289080 | X27: =A27 -> 16 | Y27: =IFERROR(INDEX('[2]CN BC'!$M$10:$M$276,MATCH(B27,'[2]CN BC'!$H$10:$H$276,0)),"") -> 0
A28: =_xlfn.AGGREGATE(4,7,A$11:A27)+1 -> 17 | B28: Lê Quang Liêm | C28: LIÊM | D28: 0016100006806001 | E28: 1603215001365 | F28: 4.98 | G28: 0.05 | H28: =F28+(F28*G28) -> 5.229 | I28: 0.45 | J28: =H28+I28 -> 5.679 | K28: =J28*$G$8 -> 10222200 | L28: =VLOOKUP(B28,'[1]Gui chi Quynh'!$B$7:$F$397,5,FALSE) -> A2 | M28: =IF(L28="A1",K28*1.6,IF(L28="A2",K28*1.4,IF(L28="A3",K28*1.2,IF(L28="A4",K28*1,IF(L28="B1",K28*0.7,IF(L28="B2",K28*0.5,IF(L28="C1",K28*0.3,IF(L28="C2",K28*0.2,0)))))))) -> 14311080 | N28: 21 | O28: =IFERROR(INDEX('[2]CN BC'!$J$10:$J$276,MATCH(B28,'[2]CN BC'!$H$10:$H$276,0)),"") -> 26 | P28: =IF(O28>=N28,M28,M28/N28*O28) -> 14311080 | R28: =Q28*$G$8*1 -> 0 | T28: =S28*$G$8*1 -> 0 | U28: =IF(OR(L28="A DN",L28="KXL", L28=""),"0",ROUND(J28*0.01*$G$8+Q28*1%*$G$8+S28*1%*$G$8,)) -> 102222 | V28: =(P28+R28+T28+U28) -> 14413302 | W28: 27 | X28: =A28 -> 17 | Y28: =IFERROR(INDEX('[2]CN BC'!$M$10:$M$276,MATCH(B28,'[2]CN BC'!$H$10:$H$276,0)),"") -> 0
A29: =_xlfn.AGGREGATE(4,7,A$11:A28)+1 -> 18 | B29: Nguyễn Văn Thành | C29: THÀNH | D29: 0016100006495006 | E29: 1603205182190 | F29: 4.98 | G29: 0.07 | H29: =F29+(F29*G29) -> 5.3286 | I29: 0.35 | J29: =H29+I29 -> 5.6786 | K29: =J29*$G$8 -> 10221480 | L29: =VLOOKUP(B29,'[1]Gui chi Quynh'!$B$7:$F$397,5,FALSE) -> A2 | M29: =IF(L29="A1",K29*1.6,IF(L29="A2",K29*1.4,IF(L29="A3",K29*1.2,IF(L29="A4",K29*1,IF(L29="B1",K29*0.7,IF(L29="B2",K29*0.5,IF(L29="C1",K29*0.3,IF(L29="C2",K29*0.2,0)))))))) -> 14310072 | N29: 21 | O29: =IFERROR(INDEX('[2]CN BC'!$J$10:$J$276,MATCH(B29,'[2]CN BC'!$H$10:$H$276,0)),"") -> 26 | P29: =IF(O29>=N29,M29,M29/N29*O29) -> 14310072 | R29: =Q29*$G$8*1 -> 0 | T29: =S29*$G$8*1 -> 0 | U29: =IF(OR(L29="A DN",L29="KXL", L29=""),"0",ROUND(J29*0.01*$G$8+Q29*1%*$G$8+S29*1%*$G$8,)) -> 102215 | V29: =(P29+R29+T29+U29) -> 14412287 | W29: 26 | X29: =A29 -> 18 | Y29: =IFERROR(INDEX('[2]CN BC'!$M$10:$M$276,MATCH(B29,'[2]CN BC'!$H$10:$H$276,0)),"") -> 0
A30: =_xlfn.AGGREGATE(4,7,A$11:A29)+1 -> 19 | B30: Nguyễn Trọng Phú | C30: PHÚ | D30: 0016100006505001 | E30: 1603205185935 | F30: 3.65 | H30: =F30+(F30*G30) -> 3.65 | I30: 0.25 | J30: =H30+I30 -> 3.9 | K30: =J30*$G$8 -> 7020000 | L30: =VLOOKUP(B30,'[1]Gui chi Quynh'!$B$7:$F$397,5,FALSE) -> A1 | M30: =IF(L30="A1",K30*1.6,IF(L30="A2",K30*1.4,IF(L30="A3",K30*1.2,IF(L30="A4",K30*1,IF(L30="B1",K30*0.7,IF(L30="B2",K30*0.5,IF(L30="C1",K30*0.3,IF(L30="C2",K30*0.2,0)))))))) -> 11232000 | N30: 21 | O30: =IFERROR(INDEX('[2]CN BC'!$J$10:$J$276,MATCH(B30,'[2]CN BC'!$H$10:$H$276,0)),"") -> 23 | P30: =IF(O30>=N30,M30,M30/N30*O30) -> 11232000 | R30: =Q30*$G$8*1 -> 0 | T30: =S30*$G$8*1 -> 0 | U30: =IF(OR(L30="A DN",L30="KXL", L30=""),"0",ROUND(J30*0.01*$G$8+Q30*1%*$G$8+S30*1%*$G$8,)) -> 70200 | V30: =(P30+R30+T30+U30) -> 11302200 | W30: 27 | X30: =A30 -> 19 | Y30: =IFERROR(INDEX('[2]CN BC'!$M$10:$M$276,MATCH(B30,'[2]CN BC'!$H$10:$H$276,0)),"") -> 0
A31: =_xlfn.AGGREGATE(4,7,A$11:A30)+1 -> 20 | B31: Vũ Ngọc Quang | C31: QUANG | D31: 0016100006807008 | E31: 1603205185912 | F31: 3.26 | H31: =F31+(F31*G31) -> 3.26 | J31: =H31+I31 -> 3.26 | K31: =J31*$G$8 -> 5868000 | L31: =VLOOKUP(B31,'[1]Gui chi Quynh'!$B$7:$F$397,5,FALSE) -> A3 | M31: =IF(L31="A1",K31*1.6,IF(L31="A2",K31*1.4,IF(L31="A3",K31*1.2,IF(L31="A4",K31*1,IF(L31="B1",K31*0.7,IF(L31="B2",K31*0.5,IF(L31="C1",K31*0.3,IF(L31="C2",K31*0.2,0)))))))) -> 7041600 | N31: 21 | O31: =IFERROR(INDEX('[2]CN BC'!$J$10:$J$276,MATCH(B31,'[2]CN BC'!$H$10:$H$276,0)),"") -> 21 | P31: =IF(O31>=N31,M31,M31/N31*O31) -> 7041600 | R31: =Q31*$G$8*1 -> 0 | T31: =S31*$G$8*1 -> 0 | U31: =IF(OR(L31="A DN",L31="KXL", L31=""),"0",ROUND(J31*0.01*$G$8+Q31*1%*$G$8+S31*1%*$G$8,)) -> 58680 | V31: =(P31+R31+T31+U31) -> 7100280 | W31: 23 | X31: =A31 -> 20 | Y31: =IFERROR(INDEX('[2]CN BC'!$M$10:$M$276,MATCH(B31,'[2]CN BC'!$H$10:$H$276,0)),"") -> 0
A32: =_xlfn.AGGREGATE(4,7,A$11:A31)+1 -> 21 | B32: Giáp Văn Thịnh | C32: THỊNH | D32: 0016100006599006 | E32: 1603205246157 | F32: 3.46 | H32: =F32+(F32*G32) -> 3.46 | J32: =H32+I32 -> 3.46 | K32: =J32*$G$8 -> 6228000 | L32: =VLOOKUP(B32,'[1]Gui chi Quynh'!$B$7:$F$397,5,FALSE) -> A1 | M32: =IF(L32="A1",K32*1.6,IF(L32="A2",K32*1.4,IF(L32="A3",K32*1.2,IF(L32="A4",K32*1,IF(L32="B1",K32*0.7,IF(L32="B2",K32*0.5,IF(L32="C1",K32*0.3,IF(L32="C2",K32*0.2,0)))))))) -> 9964800 | N32: 21 | O32: =IFERROR(INDEX('[2]CN BC'!$J$10:$J$276,MATCH(B32,'[2]CN BC'!$H$10:$H$276,0)),"") -> 21 | P32: =IF(O32>=N32,M32,M32/N32*O32) -> 9964800 | R32: =Q32*$G$8*1 -> 0 | T32: =S32*$G$8*1 -> 0 | U32: =IF(OR(L32="A DN",L32="KXL", L32=""),"0",ROUND(J32*0.01*$G$8+Q32*1%*$G$8+S32*1%*$G$8,)) -> 62280 | V32: =(P32+R32+T32+U32) -> 10027080 | W32: 25 | X32: =A32 -> 21 | Y32: =IFERROR(INDEX('[2]CN BC'!$M$10:$M$276,MATCH(B32,'[2]CN BC'!$H$10:$H$276,0)),"") -> 0
A33: =_xlfn.AGGREGATE(4,7,A$11:A32)+1 -> 22 | B33: Lê Hồng Anh Tuấn | C33: TUẤN | D33: 0016100006493003 | E33: 1603205348129 | F33: 3.34 | H33: =F33+(F33*G33) -> 3.34 | J33: =H33+I33 -> 3.34 | K33: =J33*$G$8 -> 6012000 | L33: =VLOOKUP(B33,'[1]Gui chi Quynh'!$B$7:$F$397,5,FALSE) -> A2 | M33: =IF(L33="A1",K33*1.6,IF(L33="A2",K33*1.4,IF(L33="A3",K33*1.2,IF(L33="A4",K33*1,IF(L33="B1",K33*0.7,IF(L33="B2",K33*0.5,IF(L33="C1",K33*0.3,IF(L33="C2",K33*0.2,0)))))))) -> 8416800 | N33: 21 | O33: =IFERROR(INDEX('[2]CN BC'!$J$10:$J$276,MATCH(B33,'[2]CN BC'!$H$10:$H$276,0)),"") -> 22 | P33: =IF(O33>=N33,M33,M33/N33*O33) -> 8416800 | R33: =Q33*$G$8*1 -> 0 | T33: =S33*$G$8*1 -> 0 | U33: =IF(OR(L33="A DN",L33="KXL", L33=""),"0",ROUND(J33*0.01*$G$8+Q33*1%*$G$8+S33*1%*$G$8,)) -> 60120 | V33: =(P33+R33+T33+U33) -> 8476920 | W33: 25 | X33: =A33 -> 22 | Y33: =IFERROR(INDEX('[2]CN BC'!$M$10:$M$276,MATCH(B33,'[2]CN BC'!$H$10:$H$276,0)),"") -> 0
A34: =_xlfn.AGGREGATE(4,7,A$11:A33)+1 -> 23 | B34: Ninh Đỗ Hiệp | C34: HIỆP | D34: 0016100006690003 | E34: 1603205245965 | F34: 3.66 | H34: =F34+(F34*G34) -> 3.66 | J34: =H34+I34 -> 3.66 | K34: =J34*$G$8 -> 6588000 | L34: =VLOOKUP(B34,'[1]Gui chi Quynh'!$B$7:$F$397,5,FALSE) -> A3 | M34: =IF(L34="A1",K34*1.6,IF(L34="A2",K34*1.4,IF(L34="A3",K34*1.2,IF(L34="A4",K34*1,IF(L34="B1",K34*0.7,IF(L34="B2",K34*0.5,IF(L34="C1",K34*0.3,IF(L34="C2",K34*0.2,0)))))))) -> 7905600 | N34: 21 | O34: =IFERROR(INDEX('[2]CN BC'!$J$10:$J$276,MATCH(B34,'[2]CN BC'!$H$10:$H$276,0)),"") -> 21 | P34: =IF(O34>=N34,M34,M34/N34*O34) -> 7905600 | R34: =Q34*$G$8*1 -> 0 | T34: =S34*$G$8*1 -> 0 | U34: =IF(OR(L34="A DN",L34="KXL", L34=""),"0",ROUND(J34*0.01*$G$8+Q34*1%*$G$8+S34*1%*$G$8,)) -> 65880 | V34: =(P34+R34+T34+U34) -> 7971480 | W34: 23 | X34: =A34 -> 23 | Y34: =IFERROR(INDEX('[2]CN BC'!$M$10:$M$276,MATCH(B34,'[2]CN BC'!$H$10:$H$276,0)),"") -> 0
A35: =_xlfn.AGGREGATE(4,7,A$11:A34)+1 -> 24 | B35: Nguyễn Tiến Việt Dũng | C35: DŨNG | D35: 0016100006678003 | E35: 1603205357238 | F35: 3.03 | H35: =F35+(F35*G35) -> 3.03 | J35: =H35+I35 -> 3.03 | K35: =J35*$G$8 -> 5454000 | L35: =VLOOKUP(B35,'[1]Gui chi Quynh'!$B$7:$F$397,5,FALSE) -> A3 | M35: =IF(L35="A1",K35*1.6,IF(L35="A2",K35*1.4,IF(L35="A3",K35*1.2,IF(L35="A4",K35*1,IF(L35="B1",K35*0.7,IF(L35="B2",K35*0.5,IF(L35="C1",K35*0.3,IF(L35="C2",K35*0.2,0)))))))) -> 6544800 | N35: 21 | O35: =IFERROR(INDEX('[2]CN BC'!$J$10:$J$276,MATCH(B35,'[2]CN BC'!$H$10:$H$276,0)),"") -> 27 | P35: =IF(O35>=N35,M35,M35/N35*O35) -> 6544800 | R35: =Q35*$G$8*1 -> 0 | T35: =S35*$G$8*1 -> 0 | U35: =IF(OR(L35="A DN",L35="KXL", L35=""),"0",ROUND(J35*0.01*$G$8+Q35*1%*$G$8+S35*1%*$G$8,)) -> 54540 | V35: =(P35+R35+T35+U35) -> 6599340 | W35: 24 | X35: =A35 -> 24 | Y35: =IFERROR(INDEX('[2]CN BC'!$M$10:$M$276,MATCH(B35,'[2]CN BC'!$H$10:$H$276,0)),"") -> 0
A36: =_xlfn.AGGREGATE(4,7,A$11:A35)+1 -> 25 | B36: Bùi Đặng Hoàng Tuấn | C36: TUẤN | D36: 0016100006679007 | E36: 1603205302590 | F36: 3.34 | H36: =F36+(F36*G36) -> 3.34 | J36: =H36+I36 -> 3.34 | K36: =J36*$G$8 -> 6012000 | L36: =VLOOKUP(B36,'[1]Gui chi Quynh'!$B$7:$F$397,5,FALSE) -> A3 | M36: =IF(L36="A1",K36*1.6,IF(L36="A2",K36*1.4,IF(L36="A3",K36*1.2,IF(L36="A4",K36*1,IF(L36="B1",K36*0.7,IF(L36="B2",K36*0.5,IF(L36="C1",K36*0.3,IF(L36="C2",K36*0.2,0)))))))) -> 7214400 | N36: 21 | O36: =IFERROR(INDEX('[2]CN BC'!$J$10:$J$276,MATCH(B36,'[2]CN BC'!$H$10:$H$276,0)),"") -> 26 | P36: =IF(O36>=N36,M36,M36/N36*O36) -> 7214400 | R36: =Q36*$G$8*1 -> 0 | T36: =S36*$G$8*1 -> 0 | U36: =IF(OR(L36="A DN",L36="KXL", L36=""),"0",ROUND(J36*0.01*$G$8+Q36*1%*$G$8+S36*1%*$G$8,)) -> 60120 | V36: =(P36+R36+T36+U36) -> 7274520 | W36: 23 | X36: =A36 -> 25 | Y36: =IFERROR(INDEX('[2]CN BC'!$M$10:$M$276,MATCH(B36,'[2]CN BC'!$H$10:$H$276,0)),"") -> 0
A37: =_xlfn.AGGREGATE(4,7,A$11:A36)+1 -> 26 | B37: Nguyễn Cao Thắng | C37: THẮNG | D37: 0016100006770007 | E37: 1603205431614 | F37: 3 | H37: =F37+(F37*G37) -> 3 | I37: 0.35 | J37: =H37+I37 -> 3.35 | K37: =J37*$G$8 -> 6030000 | L37: =VLOOKUP(B37,'[1]Gui chi Quynh'!$B$7:$F$397,5,FALSE) -> A1 | M37: =IF(L37="A1",K37*1.6,IF(L37="A2",K37*1.4,IF(L37="A3",K37*1.2,IF(L37="A4",K37*1,IF(L37="B1",K37*0.7,IF(L37="B2",K37*0.5,IF(L37="C1",K37*0.3,IF(L37="C2",K37*0.2,0)))))))) -> 9648000 | N37: 21 | O37: =IFERROR(INDEX('[2]CN BC'!$J$10:$J$276,MATCH(B37,'[2]CN BC'!$H$10:$H$276,0)),"") -> 31 | P37: =IF(O37>=N37,M37,M37/N37*O37) -> 9648000 | R37: =Q37*$G$8*1.6 -> 0 | T37: =S37*$G$8*1 -> 0 | U37: =IF(OR(L37="A DN",L37="KXL", L37=""),"0",ROUND(J37*0.01*$G$8+Q37*1%*$G$8+S37*1%*$G$8,)) -> 60300 | V37: =(P37+R37+T37+U37) -> 9708300 | W37: 24 | X37: =A37 -> 26 | Y37: =IFERROR(INDEX('[2]CN BC'!$M$10:$M$276,MATCH(B37,'[2]CN BC'!$H$10:$H$276,0)),"") -> 0
A38: =_xlfn.AGGREGATE(4,7,A$11:A37)+1 -> 27 | B38: Võ Tấn Kiệt | D38: 0016100006511001 | E38: 1603215002809 | F38: 2.67 | H38: =F38+(F38*G38) -> 2.67 | J38: =H38+I38 -> 2.67 | K38: =J38*$G$8 -> 4806000 | L38: =VLOOKUP(B38,'[1]Gui chi Quynh'!$B$7:$F$397,5,FALSE) -> A1 | M38: =IF(L38="A1",K38*1.6,IF(L38="A2",K38*1.4,IF(L38="A3",K38*1.2,IF(L38="A4",K38*1,IF(L38="B1",K38*0.7,IF(L38="B2",K38*0.5,IF(L38="C1",K38*0.3,IF(L38="C2",K38*0.2,0)))))))) -> 7689600 | N38: 21 | O38: =IFERROR(INDEX('[2]CN BC'!$J$10:$J$276,MATCH(B38,'[2]CN BC'!$H$10:$H$276,0)),"") -> 24 | P38: =IF(O38>=N38,M38,M38/N38*O38) -> 7689600 | R38: =Q38*$G$8*1 -> 0 | T38: =S38*$G$8*1 -> 0 | U38: =IF(OR(L38="A DN",L38="KXL", L38=""),"0",ROUND(J38*0.01*$G$8+Q38*1%*$G$8+S38*1%*$G$8,)) -> 48060 | V38: =(P38+R38+T38+U38) -> 7737660 | W38: 24 | X38: =A38 -> 27 | Y38: =IFERROR(INDEX('[2]CN BC'!$M$10:$M$276,MATCH(B38,'[2]CN BC'!$H$10:$H$276,0)),"") -> 0
A39: =_xlfn.AGGREGATE(4,7,A$11:A38)+1 -> 28 | B39: Phan Đức Long | C39: LONG | D39: 0016100006708007 | E39: 1603205179180 | F39: 4.98 | G39: 0.05 | H39: =F39+(F39*G39) -> 5.229 | I39: 0.25 | J39: =H39+I39 -> 5.479 | K39: =J39*$G$8 -> 9862200 | L39: =VLOOKUP(B39,'[1]Gui chi Quynh'!$B$7:$F$397,5,FALSE) -> A3 | M39: =IF(L39="A1",K39*1.6,IF(L39="A2",K39*1.4,IF(L39="A3",K39*1.2,IF(L39="A4",K39*1,IF(L39="B1",K39*0.7,IF(L39="B2",K39*0.5,IF(L39="C1",K39*0.3,IF(L39="C2",K39*0.2,0)))))))) -> 11834640 | N39: 21 | O39: =IFERROR(INDEX('[2]CN BC'!$J$10:$J$276,MATCH(B39,'[2]CN BC'!$H$10:$H$276,0)),"") -> 26 | P39: =IF(O39>=N39,M39,M39/N39*O39) -> 11834640 | R39: =Q39*$G$8*1 -> 0 | T39: =S39*$G$8*1 -> 0 | U39: =IF(OR(L39="A DN",L39="KXL", L39=""),"0",ROUND(J39*0.01*$G$8+Q39*1%*$G$8+S39*1%*$G$8,)) -> 98622 | V39: =(P39+R39+T39+U39) -> 11933262 | W39: 27 | X39: =A39 -> 28 | Y39: =IFERROR(INDEX('[2]CN BC'!$M$10:$M$276,MATCH(B39,'[2]CN BC'!$H$10:$H$276,0)),"") -> 0
A40: =_xlfn.AGGREGATE(4,7,A$11:A39)+1 -> 29 | B40: Bùi Thị Dương | C40: DƯƠNG | D40: 0016100006716002 | E40: 1603205182619 | F40: 3.66 | H40: =F40+(F40*G40) -> 3.66 | J40: =H40+I40 -> 3.66 | K40: =J40*$G$8 -> 6588000 | L40: =VLOOKUP(B40,'[1]Gui chi Quynh'!$B$7:$F$397,5,FALSE) -> A4 | M40: =IF(L40="A1",K40*1.6,IF(L40="A2",K40*1.4,IF(L40="A3",K40*1.2,IF(L40="A4",K40*1,IF(L40="B1",K40*0.7,IF(L40="B2",K40*0.5,IF(L40="C1",K40*0.3,IF(L40="C2",K40*0.2,0)))))))) -> 6588000 | N40: 21 | O40: =IFERROR(INDEX('[2]CN BC'!$J$10:$J$276,MATCH(B40,'[2]CN BC'!$H$10:$H$276,0)),"") -> 23 | P40: =IF(O40>=N40,M40,M40/N40*O40) -> 6588000 | R40: =Q40*$G$8*0.8 -> 0 | T40: =S40*$G$8*1 -> 0 | U40: =IF(OR(L40="A DN",L40="KXL", L40=""),"0",ROUND(J40*0.01*$G$8+Q40*1%*$G$8+S40*1%*$G$8,)) -> 65880 | V40: =(P40+R40+T40+U40) -> 6653880 | W40: 23 | X40: =A40 -> 29 | Y40: =IFERROR(INDEX('[2]CN BC'!$M$10:$M$276,MATCH(B40,'[2]CN BC'!$H$10:$H$276,0)),"") -> 0
A41: =_xlfn.AGGREGATE(4,7,A$11:A40)+1 -> 30 | B41: Phan Hữu Tước | F41: 4.06 | G41: 0.1 | H41: =F41+(F41*G41) -> 4.466 | I41: 0.35 | J41: =H41+I41 -> 4.816 | K41: =J41*$G$8 -> 8668800 | L41: =VLOOKUP(B41,'[1]Gui chi Quynh'!$B$7:$F$397,5,FALSE) -> A3 | M41: =IF(L41="A1",K41*1.6,IF(L41="A2",K41*1.4,IF(L41="A3",K41*1.2,IF(L41="A4",K41*1,IF(L41="B1",K41*0.7,IF(L41="B2",K41*0.5,IF(L41="C1",K41*0.3,IF(L41="C2",K41*0.2,0)))))))) -> 10402560 | N41: 21 | O41: =IFERROR(INDEX('[2]CN BC'!$J$10:$J$276,MATCH(B41,'[2]CN BC'!$H$10:$H$276,0)),"") -> 25 | P41: =IF(O41>=N41,M41,M41/N41*O41) -> 10402560 | R41: =Q41*$G$8*0.8 -> 0 | T41: =S41*$G$8*1 -> 0 | U41: =IF(OR(L41="A DN",L41="KXL", L41=""),"0",ROUND(J41*0.01*$G$8+Q41*1%*$G$8+S41*1%*$G$8,)) -> 86688 | V41: =(P41+R41+T41+U41) -> 10489248 | X41: =A41 -> 30 | Y41: =IFERROR(INDEX('[2]CN BC'!$M$10:$M$276,MATCH(B41,'[2]CN BC'!$H$10:$H$276,0)),"") -> Cộng 4 ngày đi học
A42: =_xlfn.AGGREGATE(4,7,A$11:A41)+1 -> 31 | B42: Trang Thị Xuân Uyên | C42: UYÊN | D42: 0016100006567007 | E42: 1603205186156 | F42: 4.65 | H42: =F42+(F42*G42) -> 4.65 | I42: 0.45 | J42: =H42+I42 -> 5.1 | K42: =J42*$G$8 -> 9180000 | L42: =VLOOKUP(B42,'[1]Gui chi Quynh'!$B$7:$F$397,5,FALSE) -> A3 | M42: =IF(L42="A1",K42*1.6,IF(L42="A2",K42*1.4,IF(L42="A3",K42*1.2,IF(L42="A4",K42*1,IF(L42="B1",K42*0.7,IF(L42="B2",K42*0.5,IF(L42="C1",K42*0.3,IF(L42="C2",K42*0.2,0)))))))) -> 11016000 | N42: 21 | O42: =IFERROR(INDEX('[2]CN BC'!$J$10:$J$276,MATCH(B42,'[2]CN BC'!$H$10:$H$276,0)),"") -> 26 | P42: =IF(O42>=N42,M42,M42/N42*O42) -> 11016000 | R42: =Q42*$G$8*1 -> 0 | T42: =S42*$G$8*1 -> 0 | U42: =IF(OR(L42="A DN",L42="KXL", L42=""),"0",ROUND(J42*0.01*$G$8+Q42*1%*$G$8+S42*1%*$G$8,)) -> 91800 | V42: =(P42+R42+T42+U42) -> 11107800 | W42: 26 | X42: =A42 -> 31 | Y42: =IFERROR(INDEX('[2]CN BC'!$M$10:$M$276,MATCH(B42,'[2]CN BC'!$H$10:$H$276,0)),"") -> 0
A43: =_xlfn.AGGREGATE(4,7,A$11:A42)+1 -> 32 | B43: Bùi Thị Lan Anh | C43: ANH | D43: 0016100006725001 | E43: 1603205247426 | F43: 3.66 | H43: =F43+(F43*G43) -> 3.66 | J43: =H43+I43 -> 3.66 | K43: =J43*$G$8 -> 6588000 | L43: =VLOOKUP(B43,'[1]Gui chi Quynh'!$B$7:$F$397,5,FALSE) -> A2 | M43: =IF(L43="A1",K43*1.6,IF(L43="A2",K43*1.4,IF(L43="A3",K43*1.2,IF(L43="A4",K43*1,IF(L43="B1",K43*0.7,IF(L43="B2",K43*0.5,IF(L43="C1",K43*0.3,IF(L43="C2",K43*0.2,0)))))))) -> 9223200 | N43: 21 | O43: =IFERROR(INDEX('[2]CN BC'!$J$10:$J$276,MATCH(B43,'[2]CN BC'!$H$10:$H$276,0)),"") -> 26 | P43: =IF(O43>=N43,M43,M43/N43*O43) -> 9223200 | R43: =Q43*$G$8*1 -> 0 | T43: =S43*$G$8*1 -> 0 | U43: =IF(OR(L43="A DN",L43="KXL", L43=""),"0",ROUND(J43*0.01*$G$8+Q43*1%*$G$8+S43*1%*$G$8,)) -> 65880 | V43: =(P43+R43+T43+U43) -> 9289080 | W43: 27 | X43: =A43 -> 32 | Y43: =IFERROR(INDEX('[2]CN BC'!$M$10:$M$276,MATCH(B43,'[2]CN BC'!$H$10:$H$276,0)),"") -> 0
A44: =_xlfn.AGGREGATE(4,7,A$11:A43)+1 -> 33 | B44: Nguyễn Kính | C44: KÍNH | D44: 0016100006705008 | E44: 1603205457393 | F44: 4.98 | G44: 0.37 | H44: =F44+(F44*G44) -> 6.8226 | I44: 0.45 | J44: =H44+I44 -> 7.2726 | K44: =J44*$G$8 -> 13090680 | L44: =VLOOKUP(B44,'[1]Gui chi Quynh'!$B$7:$F$397,5,FALSE) -> A1 | M44: =IF(L44="A1",K44*1.6,IF(L44="A2",K44*1.4,IF(L44="A3",K44*1.2,IF(L44="A4",K44*1,IF(L44="B1",K44*0.7,IF(L44="B2",K44*0.5,IF(L44="C1",K44*0.3,IF(L44="C2",K44*0.2,0)))))))) -> 20945088 | N44: 21 | O44: =IFERROR(INDEX('[2]CN BC'!$J$10:$J$276,MATCH(B44,'[2]CN BC'!$H$10:$H$276,0)),"") -> 26 | P44: =IF(O44>=N44,M44,M44/N44*O44) -> 20945088 | R44: =Q44*$G$8*1 -> 0 | T44: =S44*$G$8*1 -> 0 | U44: =IF(OR(L44="A DN",L44="KXL", L44=""),"0",ROUND(J44*0.01*$G$8+Q44*1%*$G$8+S44*1%*$G$8,)) -> 130907 | V44: =(P44+R44+T44+U44) -> 21075995 | W44: 29 | X44: =A44 -> 33 | Y44: =IFERROR(INDEX('[2]CN BC'!$M$10:$M$276,MATCH(B44,'[2]CN BC'!$H$10:$H$276,0)),"") -> 0
A45: =_xlfn.AGGREGATE(4,7,A$11:A44)+1 -> 34 | B45: Hồng Mộng Tuyết Dung | C45: DUNG | D45: 0016100006512008 | E45: 1603205203183 | F45: 3.99 | H45: =F45+(F45*G45) -> 3.99 | J45: =H45+I45 -> 3.99 | K45: =J45*$G$8 -> 7182000 | L45: =VLOOKUP(B45,'[1]Gui chi Quynh'!$B$7:$F$397,5,FALSE) -> A1 | M45: =IF(L45="A1",K45*1.6,IF(L45="A2",K45*1.4,IF(L45="A3",K45*1.2,IF(L45="A4",K45*1,IF(L45="B1",K45*0.7,IF(L45="B2",K45*0.5,IF(L45="C1",K45*0.3,IF(L45="C2",K45*0.2,0)))))))) -> 11491200 | N45: 21 | O45: =IFERROR(INDEX('[2]CN BC'!$J$10:$J$276,MATCH(B45,'[2]CN BC'!$H$10:$H$276,0)),"") -> 26 | P45: =IF(O45>=N45,M45,M45/N45*O45) -> 11491200 | R45: =Q45*$G$8*1 -> 0 | T45: =S45*$G$8*1 -> 0 | U45: =IF(OR(L45="A DN",L45="KXL", L45=""),"0",ROUND(J45*0.01*$G$8+Q45*1%*$G$8+S45*1%*$G$8,)) -> 71820 | V45: =(P45+R45+T45+U45) -> 11563020 | W45: 27 | X45: =A45 -> 34 | Y45: =IFERROR(INDEX('[2]CN BC'!$M$10:$M$276,MATCH(B45,'[2]CN BC'!$H$10:$H$276,0)),"") -> 0
A46: =_xlfn.AGGREGATE(4,7,A$11:A45)+1 -> 35 | B46: Trần Thị Minh Thoa | C46: THOA | D46: 0016100006515007 | E46: 1603205178873 | F46: 3.66 | H46: =F46+(F46*G46) -> 3.66 | J46: =H46+I46 -> 3.66 | K46: =J46*$G$8 -> 6588000 | L46: =VLOOKUP(B46,'[1]Gui chi Quynh'!$B$7:$F$397,5,FALSE) -> A1 | M46: =IF(L46="A1",K46*1.6,IF(L46="A2",K46*1.4,IF(L46="A3",K46*1.2,IF(L46="A4",K46*1,IF(L46="B1",K46*0.7,IF(L46="B2",K46*0.5,IF(L46="C1",K46*0.3,IF(L46="C2",K46*0.2,0)))))))) -> 10540800 | N46: 21 | O46: =IFERROR(INDEX('[2]CN BC'!$J$10:$J$276,MATCH(B46,'[2]CN BC'!$H$10:$H$276,0)),"") -> 25 | P46: =IF(O46>=N46,M46,M46/N46*O46) -> 10540800 | R46: =Q46*$G$8*1.6 -> 0 | T46: =S46*$G$8*1 -> 0 | U46: =IF(OR(L46="A DN",L46="KXL", L46=""),"0",ROUND(J46*0.01*$G$8+Q46*1%*$G$8+S46*1%*$G$8,)) -> 65880 | V46: =(P46+R46+T46+U46) -> 10606680 | W46: 27 | X46: =A46 -> 35 | Y46: =IFERROR(INDEX('[2]CN BC'!$M$10:$M$276,MATCH(B46,'[2]CN BC'!$H$10:$H$276,0)),"") -> 0
A47: =_xlfn.AGGREGATE(4,7,A$11:A46)+1 -> 36 | B47: Nguyễn Thị Hồng Thắm | C47: THẮM | D47: 0016100006681004 | E47: 1603205372861 | F47: 2.67 | H47: =F47+(F47*G47) -> 2.67 | J47: =H47+I47 -> 2.67 | K47: =J47*$G$8 -> 4806000 | L47: =VLOOKUP(B47,'[1]Gui chi Quynh'!$B$7:$F$397,5,FALSE) -> A1 | M47: =IF(L47="A1",K47*1.6,IF(L47="A2",K47*1.4,IF(L47="A3",K47*1.2,IF(L47="A4",K47*1,IF(L47="B1",K47*0.7,IF(L47="B2",K47*0.5,IF(L47="C1",K47*0.3,IF(L47="C2",K47*0.2,0)))))))) -> 7689600 | N47: 21 | O47: =IFERROR(INDEX('[2]CN BC'!$J$10:$J$276,MATCH(B47,'[2]CN BC'!$H$10:$H$276,0)),"") -> 25 | P47: =IF(O47>=N47,M47,M47/N47*O47) -> 7689600 | R47: =Q47*$G$8*1 -> 0 | T47: =S47*$G$8*1 -> 0 | U47: =IF(OR(L47="A DN",L47="KXL", L47=""),"0",ROUND(J47*0.01*$G$8+Q47*1%*$G$8+S47*1%*$G$8,)) -> 48060 | V47: =(P47+R47+T47+U47) -> 7737660 | W47: 24 | X47: =A47 -> 36 | Y47: =IFERROR(INDEX('[2]CN BC'!$M$10:$M$276,MATCH(B47,'[2]CN BC'!$H$10:$H$276,0)),"") -> 0
A48: =_xlfn.AGGREGATE(4,7,A$11:A47)+1 -> 37 | B48: Võ Thị Lệ Trân | C48: TRÂN | D48: 0016100006524006 | E48: 1603205185357 | F48: 3.66 | H48: =F48+(F48*G48) -> 3.66 | J48: =H48+I48 -> 3.66 | K48: =J48*$G$8 -> 6588000 | L48: =VLOOKUP(B48,'[1]Gui chi Quynh'!$B$7:$F$397,5,FALSE) -> A1 | M48: =IF(L48="A1",K48*1.6,IF(L48="A2",K48*1.4,IF(L48="A3",K48*1.2,IF(L48="A4",K48*1,IF(L48="B1",K48*0.7,IF(L48="B2",K48*0.5,IF(L48="C1",K48*0.3,IF(L48="C2",K48*0.2,0)))))))) -> 10540800 | N48: 21 | O48: =IFERROR(INDEX('[2]CN BC'!$J$10:$J$276,MATCH(B48,'[2]CN BC'!$H$10:$H$276,0)),"") -> 26 | P48: =IF(O48>=N48,M48,M48/N48*O48) -> 10540800 | R48: =Q48*$G$8*1 -> 0 | T48: =S48*$G$8*1 -> 0 | U48: =IF(OR(L48="A DN",L48="KXL", L48=""),"0",ROUND(J48*0.01*$G$8+Q48*1%*$G$8+S48*1%*$G$8,)) -> 65880 | V48: =(P48+R48+T48+U48) -> 10606680 | W48: 26 | X48: =A48 -> 37 | Y48: =IFERROR(INDEX('[2]CN BC'!$M$10:$M$276,MATCH(B48,'[2]CN BC'!$H$10:$H$276,0)),"") -> 0
A49: =_xlfn.AGGREGATE(4,7,A$11:A48)+1 -> 38 | B49: Nguyễn Văn Chiến | C49: CHIẾN | D49: 0016100006548002 | E49: 1603205341369 | F49: 4.32 | H49: =F49+(F49*G49) -> 4.32 | I49: 0.45 | J49: =H49+I49 -> 4.77 | K49: =J49*$G$8 -> 8586000 | L49: =VLOOKUP(B49,'[1]Gui chi Quynh'!$B$7:$F$397,5,FALSE) -> A3 | M49: =IF(L49="A1",K49*1.6,IF(L49="A2",K49*1.4,IF(L49="A3",K49*1.2,IF(L49="A4",K49*1,IF(L49="B1",K49*0.7,IF(L49="B2",K49*0.5,IF(L49="C1",K49*0.3,IF(L49="C2",K49*0.2,0)))))))) -> 10303200 | N49: 21 | O49: =IFERROR(INDEX('[2]CN BC'!$J$10:$J$276,MATCH(B49,'[2]CN BC'!$H$10:$H$276,0)),"") -> 25 | P49: =IF(O49>=N49,M49,M49/N49*O49) -> 10303200 | R49: 0 | T49: =S49*$G$8*1 -> 0 | U49: =IF(OR(L49="A DN",L49="KXL", L49=""),"0",ROUND(J49*0.01*$G$8+Q49*1%*$G$8+S49*1%*$G$8,)) -> 85860 | V49: =(P49+R49+T49+U49) -> 10389060 | W49: 25 | X49: =A49 -> 38 | Y49: =IFERROR(INDEX('[2]CN BC'!$M$10:$M$276,MATCH(B49,'[2]CN BC'!$H$10:$H$276,0)),"") -> 0
A50: =_xlfn.AGGREGATE(4,7,A$11:A49)+1 -> 39 | B50: Nguyễn Thùy Dương | C50: DƯƠNG | D50: 0016100006640006 | E50: 1603205356140 | F50: 3.99 | H50: =F50+(F50*G50) -> 3.99 | J50: =H50+I50 -> 3.99 | K50: =J50*$G$8 -> 7182000 | L50: =VLOOKUP(B50,'[1]Gui chi Quynh'!$B$7:$F$397,5,FALSE) -> A3 | M50: =IF(L50="A1",K50*1.6,IF(L50="A2",K50*1.4,IF(L50="A3",K50*1.2,IF(L50="A4",K50*1,IF(L50="B1",K50*0.7,IF(L50="B2",K50*0.5,IF(L50="C1",K50*0.3,IF(L50="C2",K50*0.2,0)))))))) -> 8618400 | N50: 21 | O50: =IFERROR(INDEX('[2]CN BC'!$J$10:$J$276,MATCH(B50,'[2]CN BC'!$H$10:$H$276,0)),"") -> 22 | P50: =IF(O50>=N50,M50,M50/N50*O50) -> 8618400 | R50: =Q50*$G$8*1 -> 0 | T50: =S50*$G$8*1 -> 0 | U50: =IF(OR(L50="A DN",L50="KXL", L50=""),"0",ROUND(J50*0.01*$G$8+Q50*1%*$G$8+S50*1%*$G$8,)) -> 71820 | V50: =(P50+R50+T50+U50) -> 8690220 | W50: 23 | X50: =A50 -> 39 | Y50: =IFERROR(INDEX('[2]CN BC'!$M$10:$M$276,MATCH(B50,'[2]CN BC'!$H$10:$H$276,0)),"") -> 0
A51: =_xlfn.AGGREGATE(4,7,A$11:A50)+1 -> 40 | B51: Nguyễn Thị Ngọc Anh | C51: ANH | D51: 0016100006654007 | E51: 1603205182727 | F51: 4.32 | H51: =F51+(F51*G51) -> 4.32 | J51: =H51+I51 -> 4.32 | K51: =J51*$G$8 -> 7776000 | L51: =VLOOKUP(B51,'[1]Gui chi Quynh'!$B$7:$F$397,5,FALSE) -> A3 | M51: =IF(L51="A1",K51*1.6,IF(L51="A2",K51*1.4,IF(L51="A3",K51*1.2,IF(L51="A4",K51*1,IF(L51="B1",K51*0.7,IF(L51="B2",K51*0.5,IF(L51="C1",K51*0.3,IF(L51="C2",K51*0.2,0)))))))) -> 9331200 | N51: 21 | O51: =IFERROR(INDEX('[2]CN BC'!$J$10:$J$276,MATCH(B51,'[2]CN BC'!$H$10:$H$276,0)),"") -> 22 | P51: =IF(O51>=N51,M51,M51/N51*O51) -> 9331200 | Q51: 0 | R51: =Q51*$G$8*1 -> 0 | T51: =S51*$G$8*1 -> 0 | U51: =IF(OR(L51="A DN",L51="KXL", L51=""),"0",ROUND(J51*0.01*$G$8+Q51*1%*$G$8+S51*1%*$G$8,)) -> 77760 | V51: =(P51+R51+T51+U51) -> 9408960 | W51: 24 | X51: =A51 -> 40 | Y51: =IFERROR(INDEX('[2]CN BC'!$M$10:$M$276,MATCH(B51,'[2]CN BC'!$H$10:$H$276,0)),"") -> Trừ 1 ngày nghỉ phép 13/11
A52: =_xlfn.AGGREGATE(4,7,A$11:A51)+1 -> 41 | B52: Lê Xuân Thiện | C52: THIỆN | D52: 0016100006766007 | E52: 1603205185958 | F52: 4.98 | G52: 0.07 | H52: =F52+(F52*G52) -> 5.3286 | I52: 0.45 | J52: =H52+I52 -> 5.7786 | K52: =J52*$G$8 -> 10401480 | L52: =VLOOKUP(B52,'[1]Gui chi Quynh'!$B$7:$F$397,5,FALSE) -> A4 | M52: =IF(L52="A1",K52*1.6,IF(L52="A2",K52*1.4,IF(L52="A3",K52*1.2,IF(L52="A4",K52*1,IF(L52="B1",K52*0.7,IF(L52="B2",K52*0.5,IF(L52="C1",K52*0.3,IF(L52="C2",K52*0.2,0)))))))) -> 10401480 | N52: 21 | O52: =IFERROR(INDEX('[2]CN BC'!$J$10:$J$276,MATCH(B52,'[2]CN BC'!$H$10:$H$276,0)),"") -> 23 | P52: =IF(O52>=N52,M52,M52/N52*O52) -> 10401480 | R52: =Q52*$G$8*1 -> 0 | T52: =S52*$G$8*1 -> 0 | U52: =IF(OR(L52="A DN",L52="KXL", L52=""),"0",ROUND(J52*0.01*$G$8+Q52*1%*$G$8+S52*1%*$G$8,)) -> 104015 | V52: =(P52+R52+T52+U52) -> 10505495 | W52: 28 | X52: =A52 -> 41 | Y52: =IFERROR(INDEX('[2]CN BC'!$M$10:$M$276,MATCH(B52,'[2]CN BC'!$H$10:$H$276,0)),"") -> Trừ 1 ngày nghỉ phép 25/12 | AC52: 5000000
A53: =_xlfn.AGGREGATE(4,7,A$11:A52)+1 -> 42 | B53: Nguyễn Thị Kim Anh | C53: ANH | D53: 0016100006719001 | E53: 1603205189653 | F53: 3.99 | H53: =F53+(F53*G53) -> 3.99 | J53: =H53+I53 -> 3.99 | K53: =J53*$G$8 -> 7182000 | L53: =VLOOKUP(B53,'[1]Gui chi Quynh'!$B$7:$F$397,5,FALSE) -> A2 | M53: =IF(L53="A1",K53*1.6,IF(L53="A2",K53*1.4,IF(L53="A3",K53*1.2,IF(L53="A4",K53*1,IF(L53="B1",K53*0.7,IF(L53="B2",K53*0.5,IF(L53="C1",K53*0.3,IF(L53="C2",K53*0.2,0)))))))) -> 10054800 | N53: 21 | O53: =IFERROR(INDEX('[2]CN BC'!$J$10:$J$276,MATCH(B53,'[2]CN BC'!$H$10:$H$276,0)),"") -> 22 | P53: =IF(O53>=N53,M53,M53/N53*O53) -> 10054800 | R53: =Q53*$G$8*1 -> 0 | T53: =S53*$G$8*1 -> 0 | U53: =IF(OR(L53="A DN",L53="KXL", L53=""),"0",ROUND(J53*0.01*$G$8+Q53*1%*$G$8+S53*1%*$G$8,)) -> 71820 | V53: =(P53+R53+T53+U53) -> 10126620 | W53: 25 | X53: =A53 -> 42 | Y53: =IFERROR(INDEX('[2]CN BC'!$M$10:$M$276,MATCH(B53,'[2]CN BC'!$H$10:$H$276,0)),"") -> Trừ 1 ngày nghỉ phép 5/12
A54: =_xlfn.AGGREGATE(4,7,A$11:A53)+1 -> 43 | B54: Nguyễn Ngọc Hiệp | C54: HIỆP | D54: 0016100006783001 | E54: 1603205179173 | F54: 4.98 | G54: 0.06 | H54: =F54+(F54*G54) -> 5.2788 | I54: 0.35 | J54: =H54+I54 -> 5.6288 | K54: =J54*$G$8 -> 10131840 | L54: =VLOOKUP(B54,'[1]Gui chi Quynh'!$B$7:$F$397,5,FALSE) -> A4 | M54: =IF(L54="A1",K54*1.6,IF(L54="A2",K54*1.4,IF(L54="A3",K54*1.2,IF(L54="A4",K54*1,IF(L54="B1",K54*0.7,IF(L54="B2",K54*0.5,IF(L54="C1",K54*0.3,IF(L54="C2",K54*0.2,0)))))))) -> 10131840 | N54: 21 | O54: =IFERROR(INDEX('[2]CN BC'!$J$10:$J$276,MATCH(B54,'[2]CN BC'!$H$10:$H$276,0)),"") -> 26 | P54: =IF(O54>=N54,M54,M54/N54*O54) -> 10131840 | R54: =Q54*$G$8*1 -> 0 | T54: =S54*$G$8*1 -> 0 | U54: =IF(OR(L54="A DN",L54="KXL", L54=""),"0",ROUND(J54*0.01*$G$8+Q54*1%*$G$8+S54*1%*$G$8,)) -> 101318 | V54: =(P54+R54+T54+U54) -> 10233158 | W54: 27 | X54: =A54 -> 43 | Y54: =IFERROR(INDEX('[2]CN BC'!$M$10:$M$276,MATCH(B54,'[2]CN BC'!$H$10:$H$276,0)),"") -> 0
A55: =_xlfn.AGGREGATE(4,7,A$11:A54)+1 -> 44 | B55: Phạm Thị Lê Chi | C55: CHI | D55: 0016100006714007 | E55: 1603205250618 | F55: 3.66 | H55: =F55+(F55*G55) -> 3.66 | J55: =H55+I55 -> 3.66 | K55: =J55*$G$8 -> 6588000 | L55: =VLOOKUP(B55,'[1]Gui chi Quynh'!$B$7:$F$397,5,FALSE) -> A3 | M55: =IF(L55="A1",K55*1.6,IF(L55="A2",K55*1.4,IF(L55="A3",K55*1.2,IF(L55="A4",K55*1,IF(L55="B1",K55*0.7,IF(L55="B2",K55*0.5,IF(L55="C1",K55*0.3,IF(L55="C2",K55*0.2,0)))))))) -> 7905600 | N55: 21 | O55: =IFERROR(INDEX('[2]CN BC'!$J$10:$J$276,MATCH(B55,'[2]CN BC'!$H$10:$H$276,0)),"") -> 21 | P55: =IF(O55>=N55,M55,M55/N55*O55) -> 7905600 | R55: =Q55*$G$8*1 -> 0 | T55: =S55*$G$8*1 -> 0 | U55: =IF(OR(L55="A DN",L55="KXL", L55=""),"0",ROUND(J55*0.01*$G$8+Q55*1%*$G$8+S55*1%*$G$8,)) -> 65880 | V55: =(P55+R55+T55+U55) -> 7971480 | W55: 24 | X55: =A55 -> 44 | Y55: =IFERROR(INDEX('[2]CN BC'!$M$10:$M$276,MATCH(B55,'[2]CN BC'!$H$10:$H$276,0)),"") -> 0
A56: =_xlfn.AGGREGATE(4,7,A$11:A55)+1 -> 45 | B56: Trần Thị Thu Hà | C56: HÀ | D56: 0016100006711008 | E56: 1603205186179 | F56: 4.32 | H56: =F56+(F56*G56) -> 4.32 | J56: =H56+I56 -> 4.32 | K56: =J56*$G$8 -> 7776000 | L56: =VLOOKUP(B56,'[1]Gui chi Quynh'!$B$7:$F$397,5,FALSE) -> A2 | M56: =IF(L56="A1",K56*1.6,IF(L56="A2",K56*1.4,IF(L56="A3",K56*1.2,IF(L56="A4",K56*1,IF(L56="B1",K56*0.7,IF(L56="B2",K56*0.5,IF(L56="C1",K56*0.3,IF(L56="C2",K56*0.2,0)))))))) -> 10886400 | N56: 21 | O56: =IFERROR(INDEX('[2]CN BC'!$J$10:$J$276,MATCH(B56,'[2]CN BC'!$H$10:$H$276,0)),"") -> 25 | P56: =IF(O56>=N56,M56,M56/N56*O56) -> 10886400 | R56: =Q56*$G$8*1 -> 0 | T56: =S56*$G$8*1 -> 0 | U56: =IF(OR(L56="A DN",L56="KXL", L56=""),"0",ROUND(J56*0.01*$G$8+Q56*1%*$G$8+S56*1%*$G$8,)) -> 77760 | V56: =(P56+R56+T56+U56) -> 10964160 | W56: 26 | X56: =A56 -> 45 | Y56: =IFERROR(INDEX('[2]CN BC'!$M$10:$M$276,MATCH(B56,'[2]CN BC'!$H$10:$H$276,0)),"") -> 0
A57: =_xlfn.AGGREGATE(4,7,A$11:A56)+1 -> 46 | B57: Nguyễn Tất Thắng | C57: THẮNG | D57: 0016100006715006 | E57: 1603205179109 | F57: 4.32 | H57: =F57+(F57*G57) -> 4.32 | J57: =H57+I57 -> 4.32 | K57: =J57*$G$8 -> 7776000 | L57: =VLOOKUP(B57,'[1]Gui chi Quynh'!$B$7:$F$397,5,FALSE) -> A4 | M57: =IF(L57="A1",K57*1.6,IF(L57="A2",K57*1.4,IF(L57="A3",K57*1.2,IF(L57="A4",K57*1,IF(L57="B1",K57*0.7,IF(L57="B2",K57*0.5,IF(L57="C1",K57*0.3,IF(L57="C2",K57*0.2,0)))))))) -> 7776000 | N57: 21 | O57: =IFERROR(INDEX('[2]CN BC'!$J$10:$J$276,MATCH(B57,'[2]CN BC'!$H$10:$H$276,0)),"") -> 22 | P57: =IF(O57>=N57,M57,M57/N57*O57) -> 7776000 | R57: =Q57*$G$8*1 -> 0 | T57: =S57*$G$8*1 -> 0 | U57: =IF(OR(L57="A DN",L57="KXL", L57=""),"0",ROUND(J57*0.01*$G$8+Q57*1%*$G$8+S57*1%*$G$8,)) -> 77760 | V57: =(P57+R57+T57+U57) -> 7853760 | W57: 25 | X57: =A57 -> 46 | Y57: =IFERROR(INDEX('[2]CN BC'!$M$10:$M$276,MATCH(B57,'[2]CN BC'!$H$10:$H$276,0)),"") -> 0
A58: =_xlfn.AGGREGATE(4,7,A$11:A57)+1 -> 47 | B58: Mai Thu Hương | C58: HƯƠNG | D58: 0016100006498005 | E58: 1603205273823 | F58: 3.66 | H58: =F58+(F58*G58) -> 3.66 | J58: =H58+I58 -> 3.66 | K58: =J58*$G$8 -> 6588000 | L58: =VLOOKUP(B58,'[1]Gui chi Quynh'!$B$7:$F$397,5,FALSE) -> A4 | M58: =IF(L58="A1",K58*1.6,IF(L58="A2",K58*1.4,IF(L58="A3",K58*1.2,IF(L58="A4",K58*1,IF(L58="B1",K58*0.7,IF(L58="B2",K58*0.5,IF(L58="C1",K58*0.3,IF(L58="C2",K58*0.2,0)))))))) -> 6588000 | N58: 21 | O58: =IFERROR(INDEX('[2]CN BC'!$J$10:$J$276,MATCH(B58,'[2]CN BC'!$H$10:$H$276,0)),"") -> 21 | P58: =IF(O58>=N58,M58,M58/N58*O58) -> 6588000 | R58: =Q58*$G$8*1 -> 0 | T58: =S58*$G$8*1 -> 0 | U58: =IF(OR(L58="A DN",L58="KXL", L58=""),"0",ROUND(J58*0.01*$G$8+Q58*1%*$G$8+S58*1%*$G$8,)) -> 65880 | V58: =(P58+R58+T58+U58) -> 6653880 | W58: 25 | X58: =A58 -> 47 | Y58: =IFERROR(INDEX('[2]CN BC'!$M$10:$M$276,MATCH(B58,'[2]CN BC'!$H$10:$H$276,0)),"") -> 0
A59: =_xlfn.AGGREGATE(4,7,A$11:A58)+1 -> 48 | B59: Huỳnh Thị Cẩm Hoa | C59: HOA | D59: 0016100006568003 | E59: 1603215003383 | F59: 3.66 | H59: =F59+(F59*G59) -> 3.66 | J59: =H59+I59 -> 3.66 | K59: =J59*$G$8 -> 6588000 | L59: =VLOOKUP(B59,'[1]Gui chi Quynh'!$B$7:$F$397,5,FALSE) -> A3 | M59: =IF(L59="A1",K59*1.6,IF(L59="A2",K59*1.4,IF(L59="A3",K59*1.2,IF(L59="A4",K59*1,IF(L59="B1",K59*0.7,IF(L59="B2",K59*0.5,IF(L59="C1",K59*0.3,IF(L59="C2",K59*0.2,0)))))))) -> 7905600 | N59: 21 | O59: =IFERROR(INDEX('[2]CN BC'!$J$10:$J$276,MATCH(B59,'[2]CN BC'!$H$10:$H$276,0)),"") -> 21 | P59: =IF(O59>=N59,M59,M59/N59*O59) -> 7905600 | R59: =Q59*$G$8*1 -> 0 | T59: =S59*$G$8*1 -> 0 | U59: =IF(OR(L59="A DN",L59="KXL", L59=""),"0",ROUND(J59*0.01*$G$8+Q59*1%*$G$8+S59*1%*$G$8,)) -> 65880 | V59: =(P59+R59+T59+U59) -> 7971480 | W59: 30 | X59: =A59 -> 48 | Y59: =IFERROR(INDEX('[2]CN BC'!$M$10:$M$276,MATCH(B59,'[2]CN BC'!$H$10:$H$276,0)),"") -> Trừ 1 ngày nghỉ phép 12/12
A60: =_xlfn.AGGREGATE(4,7,A$11:A59)+1 -> 49 | B60: Nguyễn Thành Nam | C60: NAM | D60: 0016100006648007 | E60: 1603215002713 | F60: 4.4 | H60: =F60+(F60*G60) -> 4.4 | I60: 0.45 | J60: =H60+I60 -> 4.85 | K60: =J60*$G$8 -> 8730000 | L60: =VLOOKUP(B60,'[1]Gui chi Quynh'!$B$7:$F$397,5,FALSE) -> A2 | M60: =IF(L60="A1",K60*1.6,IF(L60="A2",K60*1.4,IF(L60="A3",K60*1.2,IF(L60="A4",K60*1,IF(L60="B1",K60*0.7,IF(L60="B2",K60*0.5,IF(L60="C1",K60*0.3,IF(L60="C2",K60*0.2,0)))))))) -> 12222000 | N60: 21 | O60: =IFERROR(INDEX('[2]CN BC'!$J$10:$J$276,MATCH(B60,'[2]CN BC'!$H$10:$H$276,0)),"") -> 24.5 | P60: =IF(O60>=N60,M60,M60/N60*O60) -> 12222000 | R60: =Q60*$G$8*1.6 -> 0 | T60: =S60*$G$8*1 -> 0 | U60: =IF(OR(L60="A DN",L60="KXL", L60=""),"0",ROUND(J60*0.01*$G$8+Q60*1%*$G$8+S60*1%*$G$8,)) -> 87300 | V60: =(P60+R60+T60+U60) -> 12309300 | W60: 29 | X60: =A60 -> 49 | Y60: =IFERROR(INDEX('[2]CN BC'!$M$10:$M$276,MATCH(B60,'[2]CN BC'!$H$10:$H$276,0)),"") -> 0
A61: =_xlfn.AGGREGATE(4,7,A$11:A60)+1 -> 50 | B61: Quách Minh Thử | C61: THỬ | D61: 0016100006528001 | E61: 1603205182415 | F61: 4.32 | H61: =F61+(F61*G61) -> 4.32 | I61: 0.35 | J61: =H61+I61 -> 4.67 | K61: =J61*$G$8 -> 8406000 | L61: =VLOOKUP(B61,'[1]Gui chi Quynh'!$B$7:$F$397,5,FALSE) -> A2 | M61: =IF(L61="A1",K61*1.6,IF(L61="A2",K61*1.4,IF(L61="A3",K61*1.2,IF(L61="A4",K61*1,IF(L61="B1",K61*0.7,IF(L61="B2",K61*0.5,IF(L61="C1",K61*0.3,IF(L61="C2",K61*0.2,0)))))))) -> 11768400 | N61: 21 | O61: =IFERROR(INDEX('[2]CN BC'!$J$10:$J$276,MATCH(B61,'[2]CN BC'!$H$10:$H$276,0)),"") -> 24.5 | P61: =IF(O61>=N61,M61,M61/N61*O61) -> 11768400 | R61: =Q61*$G$8*1 -> 0 | T61: =S61*$G$8*1 -> 0 | U61: =IF(OR(L61="A DN",L61="KXL", L61=""),"0",ROUND(J61*0.01*$G$8+Q61*1%*$G$8+S61*1%*$G$8,)) -> 84060 | V61: =(P61+R61+T61+U61) -> 11852460 | W61: 28 | X61: =A61 -> 50 | Y61: =IFERROR(INDEX('[2]CN BC'!$M$10:$M$276,MATCH(B61,'[2]CN BC'!$H$10:$H$276,0)),"") -> 0
A62: =_xlfn.AGGREGATE(4,7,A$11:A61)+1 -> 51 | B62: Võ Thị Xuân Thơ | C62: THƠ | D62: 0016100006527005 | E62: 1603205185760 | F62: 4.65 | H62: =F62+(F62*G62) -> 4.65 | J62: =H62+I62 -> 4.65 | K62: =J62*$G$8 -> 8370000 | L62: =VLOOKUP(B62,'[1]Gui chi Quynh'!$B$7:$F$397,5,FALSE) -> A1 | M62: =IF(L62="A1",K62*1.6,IF(L62="A2",K62*1.4,IF(L62="A3",K62*1.2,IF(L62="A4",K62*1,IF(L62="B1",K62*0.7,IF(L62="B2",K62*0.5,IF(L62="C1",K62*0.3,IF(L62="C2",K62*0.2,0)))))))) -> 13392000 | N62: 21 | O62: =IFERROR(INDEX('[2]CN BC'!$J$10:$J$276,MATCH(B62,'[2]CN BC'!$H$10:$H$276,0)),"") -> 23.5 | P62: =IF(O62>=N62,M62,M62/N62*O62) -> 13392000 | R62: =Q62*$G$8*1 -> 0 | T62: =S62*$G$8*1 -> 0 | U62: =IF(OR(L62="A DN",L62="KXL", L62=""),"0",ROUND(J62*0.01*$G$8+Q62*1%*$G$8+S62*1%*$G$8,)) -> 83700 | V62: =(P62+R62+T62+U62) -> 13475700 | W62: 26 | X62: =A62 -> 51 | Y62: =IFERROR(INDEX('[2]CN BC'!$M$10:$M$276,MATCH(B62,'[2]CN BC'!$H$10:$H$276,0)),"") -> 0
A63: =_xlfn.AGGREGATE(4,7,A$11:A62)+1 -> 52 | B63: Nguyễn Thị Thanh Thảo | C63: THẢO | D63: 0016100006521007 | E63: 1603205182394 | F63: 3.99 | H63: =F63+(F63*G63) -> 3.99 | J63: =H63+I63 -> 3.99 | K63: =J63*$G$8 -> 7182000 | L63: =VLOOKUP(B63,'[1]Gui chi Quynh'!$B$7:$F$397,5,FALSE) -> A3 | M63: =IF(L63="A1",K63*1.6,IF(L63="A2",K63*1.4,IF(L63="A3",K63*1.2,IF(L63="A4",K63*1,IF(L63="B1",K63*0.7,IF(L63="B2",K63*0.5,IF(L63="C1",K63*0.3,IF(L63="C2",K63*0.2,0)))))))) -> 8618400 | N63: 21 | O63: =IFERROR(INDEX('[2]CN BC'!$J$10:$J$276,MATCH(B63,'[2]CN BC'!$H$10:$H$276,0)),"") -> 21 | P63: =IF(O63>=N63,M63,M63/N63*O63) -> 8618400 | R63: =Q63*$G$8*1 -> 0 | T63: =S63*$G$8*1 -> 0 | U63: =IF(OR(L63="A DN",L63="KXL", L63=""),"0",ROUND(J63*0.01*$G$8+Q63*1%*$G$8+S63*1%*$G$8,)) -> 71820 | V63: =(P63+R63+T63+U63) -> 8690220 | W63: 26 | X63: =A63 -> 52 | Y63: =IFERROR(INDEX('[2]CN BC'!$M$10:$M$276,MATCH(B63,'[2]CN BC'!$H$10:$H$276,0)),"") -> Trừ 2 ngày nghỉ phép 1+8/12
A64: =_xlfn.AGGREGATE(4,7,A$11:A63)+1 -> 53 | B64: Giáp Thị Vượng | C64: VƯỢNG | D64: 0016100006526009 | E64: 1603205246090 | F64: 3.33 | H64: =F64+(F64*G64) -> 3.33 | J64: =H64+I64 -> 3.33 | K64: =J64*$G$8 -> 5994000 | L64: =VLOOKUP(B64,'[1]Gui chi Quynh'!$B$7:$F$397,5,FALSE) -> A2 | M64: =IF(L64="A1",K64*1.6,IF(L64="A2",K64*1.4,IF(L64="A3",K64*1.2,IF(L64="A4",K64*1,IF(L64="B1",K64*0.7,IF(L64="B2",K64*0.5,IF(L64="C1",K64*0.3,IF(L64="C2",K64*0.2,0)))))))) -> 8391600 | N64: 21 | O64: =IFERROR(INDEX('[2]CN BC'!$J$10:$J$276,MATCH(B64,'[2]CN BC'!$H$10:$H$276,0)),"") -> 22.5 | P64: =IF(O64>=N64,M64,M64/N64*O64) -> 8391600 | Q64: 0 | R64: =Q64*$G$8*1 -> 0 | T64: =S64*$G$8*1 -> 0 | U64: =IF(OR(L64="A DN",L64="KXL", L64=""),"0",ROUND(J64*0.01*$G$8+Q64*1%*$G$8+S64*1%*$G$8,)) -> 59940 | V64: =(P64+R64+T64+U64) -> 8451540 | W64: 30 | X64: =A64 -> 53 | Y64: =IFERROR(INDEX('[2]CN BC'!$M$10:$M$276,MATCH(B64,'[2]CN BC'!$H$10:$H$276,0)),"") -> 0
A65: =_xlfn.AGGREGATE(4,7,A$11:A64)+1 -> 54 | B65: Nguyễn Thị Thùy | C65: THÙY | D65: 0016100006535008 | E65: 1603205182762 | F65: 3.96 | H65: =F65+(F65*G65) -> 3.96 | J65: =H65+I65 -> 3.96 | K65: =J65*$G$8 -> 7128000 | L65: =VLOOKUP(B65,'[1]Gui chi Quynh'!$B$7:$F$397,5,FALSE) -> A1 | M65: =IF(L65="A1",K65*1.6,IF(L65="A2",K65*1.4,IF(L65="A3",K65*1.2,IF(L65="A4",K65*1,IF(L65="B1",K65*0.7,IF(L65="B2",K65*0.5,IF(L65="C1",K65*0.3,IF(L65="C2",K65*0.2,0)))))))) -> 11404800 | N65: 21 | O65: =IFERROR(INDEX('[2]CN BC'!$J$10:$J$276,MATCH(B65,'[2]CN BC'!$H$10:$H$276,0)),"") -> 24 | P65: =IF(O65>=N65,M65,M65/N65*O65) -> 11404800 | R65: =Q65*$G$8*1 -> 0 | T65: =S65*$G$8*1 -> 0 | U65: =IF(OR(L65="A DN",L65="KXL", L65=""),"0",ROUND(J65*0.01*$G$8+Q65*1%*$G$8+S65*1%*$G$8,)) -> 71280 | V65: =(P65+R65+T65+U65) -> 11476080 | W65: 27 | X65: =A65 -> 54 | Y65: =IFERROR(INDEX('[2]CN BC'!$M$10:$M$276,MATCH(B65,'[2]CN BC'!$H$10:$H$276,0)),"") -> 0
A66: =_xlfn.AGGREGATE(4,7,A$11:A65)+1 -> 55 | B66: Nguyễn Thị Hải Hà | C66: HÀ | D66: 0016100006541008 | E66: 1603205182178 | F66: 3.66 | H66: =F66+(F66*G66) -> 3.66 | J66: =H66+I66 -> 3.66 | K66: =J66*$G$8 -> 6588000 | L66: =VLOOKUP(B66,'[1]Gui chi Quynh'!$B$7:$F$397,5,FALSE) -> A2 | M66: =IF(L66="A1",K66*1.6,IF(L66="A2",K66*1.4,IF(L66="A3",K66*1.2,IF(L66="A4",K66*1,IF(L66="B1",K66*0.7,IF(L66="B2",K66*0.5,IF(L66="C1",K66*0.3,IF(L66="C2",K66*0.2,0)))))))) -> 9223200 | N66: 21 | O66: =IFERROR(INDEX('[2]CN BC'!$J$10:$J$276,MATCH(B66,'[2]CN BC'!$H$10:$H$276,0)),"") -> 23 | P66: =IF(O66>=N66,M66,M66/N66*O66) -> 9223200 | R66: =Q66*$G$8*1.6 -> 0 | T66: =S66*$G$8*1 -> 0 | U66: =IF(OR(L66="A DN",L66="KXL", L66=""),"0",ROUND(J66*0.01*$G$8+Q66*1%*$G$8+S66*1%*$G$8,)) -> 65880 | V66: =(P66+R66+T66+U66) -> 9289080 | W66: 26 | X66: =A66 -> 55 | Y66: =IFERROR(INDEX('[2]CN BC'!$M$10:$M$276,MATCH(B66,'[2]CN BC'!$H$10:$H$276,0)),"") -> 0
A67: =_xlfn.AGGREGATE(4,7,A$11:A66)+1 -> 56 | B67: Thái Thị My Sa | C67: SA | D67: 0016100006768002 | E67: 1603205351697 | F67: 3.33 | H67: =F67+(F67*G67) -> 3.33 | J67: =H67+I67 -> 3.33 | K67: =J67*$G$8 -> 5994000 | L67: =VLOOKUP(B67,'[1]Gui chi Quynh'!$B$7:$F$397,5,FALSE) -> A2 | M67: =IF(L67="A1",K67*1.6,IF(L67="A2",K67*1.4,IF(L67="A3",K67*1.2,IF(L67="A4",K67*1,IF(L67="B1",K67*0.7,IF(L67="B2",K67*0.5,IF(L67="C1",K67*0.3,IF(L67="C2",K67*0.2,0)))))))) -> 8391600 | N67: 21 | O67: =IFERROR(INDEX('[2]CN BC'!$J$10:$J$276,MATCH(B67,'[2]CN BC'!$H$10:$H$276,0)),"") -> 22 | P67: =IF(O67>=N67,M67,M67/N67*O67) -> 8391600 | R67: =Q67*$G$8*1 -> 0 | T67: =S67*$G$8*1 -> 0 | U67: =IF(OR(L67="A DN",L67="KXL", L67=""),"0",ROUND(J67*0.01*$G$8+Q67*1%*$G$8+S67*1%*$G$8,)) -> 59940 | V67: =(P67+R67+T67+U67) -> 8451540 | W67: 28 | X67: =A67 -> 56 | Y67: =IFERROR(INDEX('[2]CN BC'!$M$10:$M$276,MATCH(B67,'[2]CN BC'!$H$10:$H$276,0)),"") -> 0
A68: =_xlfn.AGGREGATE(4,7,A$11:A67)+1 -> 57 | B68: Mai Nguyễn Hoàng Yến | C68: YẾN | D68: 0016100006652004 | E68: 1603205357194 | F68: 3.33 | H68: =F68+(F68*G68) -> 3.33 | J68: =H68+I68 -> 3.33 | K68: =J68*$G$8 -> 5994000 | L68: =VLOOKUP(B68,'[1]Gui chi Quynh'!$B$7:$F$397,5,FALSE) -> A2 | M68: =IF(L68="A1",K68*1.6,IF(L68="A2",K68*1.4,IF(L68="A3",K68*1.2,IF(L68="A4",K68*1,IF(L68="B1",K68*0.7,IF(L68="B2",K68*0.5,IF(L68="C1",K68*0.3,IF(L68="C2",K68*0.2,0)))))))) -> 8391600 | N68: 21 | O68: =IFERROR(INDEX('[2]CN BC'!$J$10:$J$276,MATCH(B68,'[2]CN BC'!$H$10:$H$276,0)),"") -> 23 | P68: =IF(O68>=N68,M68,M68/N68*O68) -> 8391600 | R68: =Q68*$G$8*1 -> 0 | T68: =S68*$G$8*1 -> 0 | U68: =IF(OR(L68="A DN",L68="KXL", L68=""),"0",ROUND(J68*0.01*$G$8+Q68*1%*$G$8+S68*1%*$G$8,)) -> 59940 | V68: =(P68+R68+T68+U68) -> 8451540 | W68: 28 | X68: =A68 -> 57 | Y68: =IFERROR(INDEX('[2]CN BC'!$M$10:$M$276,MATCH(B68,'[2]CN BC'!$H$10:$H$276,0)),"") -> 0
A69: =_xlfn.AGGREGATE(4,7,A$11:A68)+1 -> 58 | B69: Nguyễn Chí Nhân | C69: NHÂN | D69: 0016100006689005 | E69: 1603205182184 | F69: 4.65 | H69: =F69+(F69*G69) -> 4.65 | I69: 0.45 | J69: =H69+I69 -> 5.1 | K69: =J69*$G$8 -> 9180000 | L69: =VLOOKUP(B69,'[1]Gui chi Quynh'!$B$7:$F$397,5,FALSE) -> A2 | M69: =IF(L69="A1",K69*1.6,IF(L69="A2",K69*1.4,IF(L69="A3",K69*1.2,IF(L69="A4",K69*1,IF(L69="B1",K69*0.7,IF(L69="B2",K69*0.5,IF(L69="C1",K69*0.3,IF(L69="C2",K69*0.2,0)))))))) -> 12852000 | N69: 21 | O69: =IFERROR(INDEX('[2]CN BC'!$J$10:$J$276,MATCH(B69,'[2]CN BC'!$H$10:$H$276,0)),"") -> 25 | P69: =IF(O69>=N69,M69,M69/N69*O69) -> 12852000 | R69: =Q69*$G$8*1 -> 0 | T69: =S69*$G$8*1 -> 0 | U69: =IF(OR(L69="A DN",L69="KXL", L69=""),"0",ROUND(J69*0.01*$G$8+Q69*1%*$G$8+S69*1%*$G$8,)) -> 91800 | V69: =(P69+R69+T69+U69) -> 12943800 | W69: 27 | X69: =A69 -> 58 | Y69: =IFERROR(INDEX('[2]CN BC'!$M$10:$M$276,MATCH(B69,'[2]CN BC'!$H$10:$H$276,0)),"") -> 0
A70: =_xlfn.AGGREGATE(4,7,A$11:A69)+1 -> 59 | B70: Nguyễn Thị Kim Dung | C70: DUNG | D70: 0016100006682008 | E70: 1603205182336 | F70: 4.32 | H70: =F70+(F70*G70) -> 4.32 | I70: 0.35 | J70: =H70+I70 -> 4.67 | K70: =J70*$G$8 -> 8406000 | L70: =VLOOKUP(B70,'[1]Gui chi Quynh'!$B$7:$F$397,5,FALSE) -> A3 | M70: =IF(L70="A1",K70*1.6,IF(L70="A2",K70*1.4,IF(L70="A3",K70*1.2,IF(L70="A4",K70*1,IF(L70="B1",K70*0.7,IF(L70="B2",K70*0.5,IF(L70="C1",K70*0.3,IF(L70="C2",K70*0.2,0)))))))) -> 10087200 | N70: 21 | O70: =IFERROR(INDEX('[2]CN BC'!$J$10:$J$276,MATCH(B70,'[2]CN BC'!$H$10:$H$276,0)),"") -> 22 | P70: =IF(O70>=N70,M70,M70/N70*O70) -> 10087200 | R70: =Q70*$G$8*1 -> 0 | T70: =S70*$G$8*1 -> 0 | U70: =IF(OR(L70="A DN",L70="KXL", L70=""),"0",ROUND(J70*0.01*$G$8+Q70*1%*$G$8+S70*1%*$G$8,)) -> 84060 | V70: =(P70+R70+T70+U70) -> 10171260 | W70: 24 | X70: =A70 -> 59 | Y70: =IFERROR(INDEX('[2]CN BC'!$M$10:$M$276,MATCH(B70,'[2]CN BC'!$H$10:$H$276,0)),"") -> 0
A71: =_xlfn.AGGREGATE(4,7,A$11:A70)+1 -> 60 | B71: Nguyễn Thanh Sơn | C71: SƠN (B) | D71: 0016100006721006 | E71: 1603205303449 | F71: 4.98 | G71: 0.2 | H71: =F71+(F71*G71) -> 5.976 | J71: =H71+I71 -> 5.976 | K71: =J71*$G$8 -> 10756800 | L71: =VLOOKUP(B71,'[1]Gui chi Quynh'!$B$7:$F$397,5,FALSE) -> A3 | M71: =IF(L71="A1",K71*1.6,IF(L71="A2",K71*1.4,IF(L71="A3",K71*1.2,IF(L71="A4",K71*1,IF(L71="B1",K71*0.7,IF(L71="B2",K71*0.5,IF(L71="C1",K71*0.3,IF(L71="C2",K71*0.2,0)))))))) -> 12908160 | N71: 21 | O71: =IFERROR(INDEX('[2]CN BC'!$J$10:$J$276,MATCH(B71,'[2]CN BC'!$H$10:$H$276,0)),"") -> 21 | P71: =IF(O71>=N71,M71,M71/N71*O71) -> 12908160 | R71: =Q71*$G$8*1 -> 0 | T71: =S71*$G$8*1 -> 0 | U71: =IF(OR(L71="A DN",L71="KXL", L71=""),"0",ROUND(J71*0.01*$G$8+Q71*1%*$G$8+S71*1%*$G$8,)) -> 107568 | V71: =(P71+R71+T71+U71) -> 13015728 | W71: 23 | X71: =A71 -> 60 | Y71: =IFERROR(INDEX('[2]CN BC'!$M$10:$M$276,MATCH(B71,'[2]CN BC'!$H$10:$H$276,0)),"") -> 0
A72: =_xlfn.AGGREGATE(4,7,A$11:A71)+1 -> 61 | B72: Vũ Thị Thu Thủy | C72: THỦY | D72: 0016100006685007 | E72: 1603205182575 | F72: 3.66 | H72: =F72+(F72*G72) -> 3.66 | J72: =H72+I72 -> 3.66 | K72: =J72*$G$8 -> 6588000 | L72: =VLOOKUP(B72,'[1]Gui chi Quynh'!$B$7:$F$397,5,FALSE) -> A3 | M72: =IF(L72="A1",K72*1.6,IF(L72="A2",K72*1.4,IF(L72="A3",K72*1.2,IF(L72="A4",K72*1,IF(L72="B1",K72*0.7,IF(L72="B2",K72*0.5,IF(L72="C1",K72*0.3,IF(L72="C2",K72*0.2,0)))))))) -> 7905600 | N72: 21 | O72: =IFERROR(INDEX('[2]CN BC'!$J$10:$J$276,MATCH(B72,'[2]CN BC'!$H$10:$H$276,0)),"") -> 22 | P72: =IF(O72>=N72,M72,M72/N72*O72) -> 7905600 | R72: =Q72*$G$8*0.8 -> 0 | T72: =S72*$G$8*1 -> 0 | U72: =IF(OR(L72="A DN",L72="KXL", L72=""),"0",ROUND(J72*0.01*$G$8+Q72*1%*$G$8+S72*1%*$G$8,)) -> 65880 | V72: =(P72+R72+T72+U72) -> 7971480 | W72: 24 | X72: =A72 -> 61 | Y72: =IFERROR(INDEX('[2]CN BC'!$M$10:$M$276,MATCH(B72,'[2]CN BC'!$H$10:$H$276,0)),"") -> 0
A73: =_xlfn.AGGREGATE(4,7,A$11:A72)+1 -> 62 | B73: Nguyễn Thị Tuyết | C73: TUYẾT | D73: 0016100006733004 | E73: 1603205182756 | F73: 3.66 | H73: =F73+(F73*G73) -> 3.66 | J73: =H73+I73 -> 3.66 | K73: =J73*$G$8 -> 6588000 | L73: =VLOOKUP(B73,'[1]Gui chi Quynh'!$B$7:$F$397,5,FALSE) -> A2 | M73: =IF(L73="A1",K73*1.6,IF(L73="A2",K73*1.4,IF(L73="A3",K73*1.2,IF(L73="A4",K73*1,IF(L73="B1",K73*0.7,IF(L73="B2",K73*0.5,IF(L73="C1",K73*0.3,IF(L73="C2",K73*0.2,0)))))))) -> 9223200 | N73: 21 | O73: =IFERROR(INDEX('[2]CN BC'!$J$10:$J$276,MATCH(B73,'[2]CN BC'!$H$10:$H$276,0)),"") -> 21 | P73: =IF(O73>=N73,M73,M73/N73*O73) -> 9223200 | R73: =Q73*$G$8*0.8 -> 0 | T73: =S73*$G$8*1 -> 0 | U73: =IF(OR(L73="A DN",L73="KXL", L73=""),"0",ROUND(J73*0.01*$G$8+Q73*1%*$G$8+S73*1%*$G$8,)) -> 65880 | V73: =(P73+R73+T73+U73) -> 9289080 | W73: 21 | X73: =A73 -> 62 | Y73: =IFERROR(INDEX('[2]CN BC'!$M$10:$M$276,MATCH(B73,'[2]CN BC'!$H$10:$H$276,0)),"") -> 0
A74: =_xlfn.AGGREGATE(4,7,A$11:A73)+1 -> 63 | B74: Lương Minh Dũng | C74: DŨNG | D74: 0016100006792008 | E74: 1603205286752 | F74: 3.66 | H74: =F74+(F74*G74) -> 3.66 | J74: =H74+I74 -> 3.66 | K74: =J74*$G$8 -> 6588000 | L74: =VLOOKUP(B74,'[1]Gui chi Quynh'!$B$7:$F$397,5,FALSE) -> A2 | M74: =IF(L74="A1",K74*1.6,IF(L74="A2",K74*1.4,IF(L74="A3",K74*1.2,IF(L74="A4",K74*1,IF(L74="B1",K74*0.7,IF(L74="B2",K74*0.5,IF(L74="C1",K74*0.3,IF(L74="C2",K74*0.2,0)))))))) -> 9223200 | N74: 21 | O74: =IFERROR(INDEX('[2]CN BC'!$J$10:$J$276,MATCH(B74,'[2]CN BC'!$H$10:$H$276,0)),"") -> 22 | P74: =IF(O74>=N74,M74,M74/N74*O74) -> 9223200 | R74: =Q74*$G$8*0.8 -> 0 | T74: =S74*$G$8*1 -> 0 | U74: =IF(OR(L74="A DN",L74="KXL", L74=""),"0",ROUND(J74*0.01*$G$8+Q74*1%*$G$8+S74*1%*$G$8,)) -> 65880 | V74: =(P74+R74+T74+U74) -> 9289080 | W74: 25 | X74: =A74 -> 63 | Y74: =IFERROR(INDEX('[2]CN BC'!$M$10:$M$276,MATCH(B74,'[2]CN BC'!$H$10:$H$276,0)),"") -> 0
A75: =_xlfn.AGGREGATE(4,7,A$11:A74)+1 -> 64 | B75: Trương Thị Hồng | D75: 0016100006657006 | E75: 1603205186603 | F75: 3 | H75: =F75+(F75*G75) -> 3 | I75: 0.35 | J75: =H75+I75 -> 3.35 | K75: =J75*$G$8 -> 6030000 | L75: =VLOOKUP(B75,'[1]Gui chi Quynh'!$B$7:$F$397,5,FALSE) -> A1 | M75: =IF(L75="A1",K75*1.6,IF(L75="A2",K75*1.4,IF(L75="A3",K75*1.2,IF(L75="A4",K75*1,IF(L75="B1",K75*0.7,IF(L75="B2",K75*0.5,IF(L75="C1",K75*0.3,IF(L75="C2",K75*0.2,0)))))))) -> 9648000 | N75: 21 | O75: =IFERROR(INDEX('[2]CN BC'!$J$10:$J$276,MATCH(B75,'[2]CN BC'!$H$10:$H$276,0)),"") -> 26 | P75: =IF(O75>=N75,M75,M75/N75*O75) -> 9648000 | R75: =Q75*$G$8*1 -> 0 | T75: =S75*$G$8*1 -> 0 | U75: =IF(OR(L75="A DN",L75="KXL", L75=""),"0",ROUND(J75*0.01*$G$8+Q75*1%*$G$8+S75*1%*$G$8,)) -> 60300 | V75: =(P75+R75+T75+U75) -> 9708300 | W75: 23 | X75: =A75 -> 64 | Y75: =IFERROR(INDEX('[2]CN BC'!$M$10:$M$276,MATCH(B75,'[2]CN BC'!$H$10:$H$276,0)),"") -> 0
A76: =_xlfn.AGGREGATE(4,7,A$11:A75)+1 -> 65 | B76: Nguyễn Hữu Thiện | C76: THIỆN | D76: 0016100006563001 | E76: 1603205185147 | F76: 3.66 | H76: =F76+(F76*G76) -> 3.66 | I76: 0.45 | J76: =H76+I76 -> 4.11 | K76: =J76*$G$8 -> 7398000 | L76: =VLOOKUP(B76,'[1]Gui chi Quynh'!$B$7:$F$397,5,FALSE) -> A2 | M76: =IF(L76="A1",K76*1.6,IF(L76="A2",K76*1.4,IF(L76="A3",K76*1.2,IF(L76="A4",K76*1,IF(L76="B1",K76*0.7,IF(L76="B2",K76*0.5,IF(L76="C1",K76*0.3,IF(L76="C2",K76*0.2,0)))))))) -> 10357200 | N76: 21 | O76: =IFERROR(INDEX('[2]CN BC'!$J$10:$J$276,MATCH(B76,'[2]CN BC'!$H$10:$H$276,0)),"") -> 28 | P76: =IF(O76>=N76,M76,M76/N76*O76) -> 10357200 | R76: =Q76*$G$8*1 -> 0 | T76: =S76*$G$8*1 -> 0 | U76: =IF(OR(L76="A DN",L76="KXL", L76=""),"0",ROUND(J76*0.01*$G$8+Q76*1%*$G$8+S76*1%*$G$8,)) -> 73980 | V76: =(P76+R76+T76+U76) -> 10431180 | W76: 29 | X76: =A76 -> 65 | Y76: =IFERROR(INDEX('[2]CN BC'!$M$10:$M$276,MATCH(B76,'[2]CN BC'!$H$10:$H$276,0)),"") -> 0
A77: =_xlfn.AGGREGATE(4,7,A$11:A76)+1 -> 66 | B77: Trương Hữu Lộc | C77: LỘC | D77: 0016100006562005 | E77: 1603205246010 | F77: 3.66 | H77: =F77+(F77*G77) -> 3.66 | J77: =H77+I77 -> 3.66 | K77: =J77*$G$8 -> 6588000 | L77: =VLOOKUP(B77,'[1]Gui chi Quynh'!$B$7:$F$397,5,FALSE) -> A1 | M77: =IF(L77="A1",K77*1.6,IF(L77="A2",K77*1.4,IF(L77="A3",K77*1.2,IF(L77="A4",K77*1,IF(L77="B1",K77*0.7,IF(L77="B2",K77*0.5,IF(L77="C1",K77*0.3,IF(L77="C2",K77*0.2,0)))))))) -> 10540800 | N77: 21 | O77: =IFERROR(INDEX('[2]CN BC'!$J$10:$J$276,MATCH(B77,'[2]CN BC'!$H$10:$H$276,0)),"") -> 24 | P77: =IF(O77>=N77,M77,M77/N77*O77) -> 10540800 | R77: =Q77*$G$8*1 -> 0 | T77: =S77*$G$8*1 -> 0 | U77: =IF(OR(L77="A DN",L77="KXL", L77=""),"0",ROUND(J77*0.01*$G$8+Q77*1%*$G$8+S77*1%*$G$8,)) -> 65880 | V77: =(P77+R77+T77+U77) -> 10606680 | W77: 27 | X77: =A77 -> 66 | Y77: =IFERROR(INDEX('[2]CN BC'!$M$10:$M$276,MATCH(B77,'[2]CN BC'!$H$10:$H$276,0)),"") -> 0
A78: =_xlfn.AGGREGATE(4,7,A$11:A77)+1 -> 67 | B78: Vương Hội Khánh | C78: KHÁNH | D78: 0016100006542004 | E78: 1603205254263 | F78: 3.26 | H78: =F78+(F78*G78) -> 3.26 | J78: =H78+I78 -> 3.26 | K78: =J78*$G$8 -> 5868000 | L78: =VLOOKUP(B78,'[1]Gui chi Quynh'!$B$7:$F$397,5,FALSE) -> A2 | M78: =IF(L78="A1",K78*1.6,IF(L78="A2",K78*1.4,IF(L78="A3",K78*1.2,IF(L78="A4",K78*1,IF(L78="B1",K78*0.7,IF(L78="B2",K78*0.5,IF(L78="C1",K78*0.3,IF(L78="C2",K78*0.2,0)))))))) -> 8215200 | N78: 21 | O78: =IFERROR(INDEX('[2]CN BC'!$J$10:$J$276,MATCH(B78,'[2]CN BC'!$H$10:$H$276,0)),"") -> 23 | P78: =IF(O78>=N78,M78,M78/N78*O78) -> 8215200 | R78: =Q78*$G$8*1.2 -> 0 | T78: =S78*$G$8*1 -> 0 | U78: =IF(OR(L78="A DN",L78="KXL", L78=""),"0",ROUND(J78*0.01*$G$8+Q78*1%*$G$8+S78*1%*$G$8,)) -> 58680 | V78: =(P78+R78+T78+U78) -> 8273880 | W78: 27 | X78: =A78 -> 67 | Y78: =IFERROR(INDEX('[2]CN BC'!$M$10:$M$276,MATCH(B78,'[2]CN BC'!$H$10:$H$276,0)),"") -> 0
A79: =_xlfn.AGGREGATE(4,7,A$11:A78)+1 -> 68 | B79: Hồ Ngọc Chi | D79: 0016100007759007 | E79: 1603215005599 | F79: 3.66 | H79: =F79+(F79*G79) -> 3.66 | I79: 0.45 | J79: =H79+I79 -> 4.11 | K79: =J79*$G$8 -> 7398000 | L79: =VLOOKUP(B79,'[1]Gui chi Quynh'!$B$7:$F$397,5,FALSE) -> A2 | M79: =IF(L79="A1",K79*1.6,IF(L79="A2",K79*1.4,IF(L79="A3",K79*1.2,IF(L79="A4",K79*1,IF(L79="B1",K79*0.7,IF(L79="B2",K79*0.5,IF(L79="C1",K79*0.3,IF(L79="C2",K79*0.2,0)))))))) -> 10357200 | N79: 21 | O79: =IFERROR(INDEX('[2]CN BC'!$J$10:$J$276,MATCH(B79,'[2]CN BC'!$H$10:$H$276,0)),"") -> 20.5 | P79: =IF(O79>=N79,M79,M79/N79*O79) -> 10110600 | R79: =Q79*$G$8*1 -> 0 | T79: =S79*$G$8*1 -> 0 | U79: =IF(OR(L79="A DN",L79="KXL", L79=""),"0",ROUND(J79*0.01*$G$8+Q79*1%*$G$8+S79*1%*$G$8,)) -> 73980 | V79: =(P79+R79+T79+U79) -> 10184580 | W79: 22 | X79: =A79 -> 68 | Y79: =IFERROR(INDEX('[2]CN BC'!$M$10:$M$276,MATCH(B79,'[2]CN BC'!$H$10:$H$276,0)),"") -> Trừ 1,5 ngày nghỉ phép
A80: =_xlfn.AGGREGATE(4,7,A$11:A79)+1 -> 69 | B80: Đặng Thu Hà | C80: HÀ | D80: 0016100006633007 | E80: 1603205246400 | F80: 3.33 | H80: =F80+(F80*G80) -> 3.33 | J80: =H80+I80 -> 3.33 | K80: =J80*$G$8 -> 5994000 | L80: =VLOOKUP(B80,'[1]Gui chi Quynh'!$B$7:$F$397,5,FALSE) -> A3 | M80: =IF(L80="A1",K80*1.6,IF(L80="A2",K80*1.4,IF(L80="A3",K80*1.2,IF(L80="A4",K80*1,IF(L80="B1",K80*0.7,IF(L80="B2",K80*0.5,IF(L80="C1",K80*0.3,IF(L80="C2",K80*0.2,0)))))))) -> 7192800 | N80: 21 | O80: =IFERROR(INDEX('[2]CN BC'!$J$10:$J$276,MATCH(B80,'[2]CN BC'!$H$10:$H$276,0)),"") -> 22 | P80: =IF(O80>=N80,M80,M80/N80*O80) -> 7192800 | R80: =Q80*$G$8*1 -> 0 | T80: =S80*$G$8*1 -> 0 | U80: =IF(OR(L80="A DN",L80="KXL", L80=""),"0",ROUND(J80*0.01*$G$8+Q80*1%*$G$8+S80*1%*$G$8,)) -> 59940 | V80: =(P80+R80+T80+U80) -> 7252740 | W80: 25 | X80: =A80 -> 69 | Y80: =IFERROR(INDEX('[2]CN BC'!$M$10:$M$276,MATCH(B80,'[2]CN BC'!$H$10:$H$276,0)),"") -> 0
A81: =_xlfn.AGGREGATE(4,7,A$11:A80)+1 -> 70 | B81: Trần Thị Diễm Thúy | C81: THÚY | D81: 0016100006561009 | E81: 1603205185623 | F81: 3.33 | H81: =F81+(F81*G81) -> 3.33 | J81: =H81+I81 -> 3.33 | K81: =J81*$G$8 -> 5994000 | L81: =VLOOKUP(B81,'[1]Gui chi Quynh'!$B$7:$F$397,5,FALSE) -> A2 | M81: =IF(L81="A1",K81*1.6,IF(L81="A2",K81*1.4,IF(L81="A3",K81*1.2,IF(L81="A4",K81*1,IF(L81="B1",K81*0.7,IF(L81="B2",K81*0.5,IF(L81="C1",K81*0.3,IF(L81="C2",K81*0.2,0)))))))) -> 8391600 | N81: 21 | O81: =IFERROR(INDEX('[2]CN BC'!$J$10:$J$276,MATCH(B81,'[2]CN BC'!$H$10:$H$276,0)),"") -> 21 | P81: =IF(O81>=N81,M81,M81/N81*O81) -> 8391600 | R81: =Q81*$G$8*1 -> 0 | T81: =S81*$G$8*1 -> 0 | U81: =IF(OR(L81="A DN",L81="KXL", L81=""),"0",ROUND(J81*0.01*$G$8+Q81*1%*$G$8+S81*1%*$G$8,)) -> 59940 | V81: =(P81+R81+T81+U81) -> 8451540 | W81: 23 | X81: =A81 -> 70 | Y81: =IFERROR(INDEX('[2]CN BC'!$M$10:$M$276,MATCH(B81,'[2]CN BC'!$H$10:$H$276,0)),"") -> 0
A82: =_xlfn.AGGREGATE(4,7,A$11:A81)+1 -> 71 | B82: Nguyễn Tứ Cảnh | C82: CẢNH | D82: 0016100006501006 | E82: 1603205179013 | F82: 4.98 | G82: 0.05 | H82: =F82+(F82*G82) -> 5.229 | J82: =H82+I82 -> 5.229 | K82: =J82*$G$8 -> 9412200 | L82: =VLOOKUP(B82,'[1]Gui chi Quynh'!$B$7:$F$397,5,FALSE) -> A4 | M82: =IF(L82="A1",K82*1.6,IF(L82="A2",K82*1.4,IF(L82="A3",K82*1.2,IF(L82="A4",K82*1,IF(L82="B1",K82*0.7,IF(L82="B2",K82*0.5,IF(L82="C1",K82*0.3,IF(L82="C2",K82*0.2,0)))))))) -> 9412200 | N82: 21 | O82: =IFERROR(INDEX('[2]CN BC'!$J$10:$J$276,MATCH(B82,'[2]CN BC'!$H$10:$H$276,0)),"") -> 21 | P82: =IF(O82>=N82,M82,M82/N82*O82) -> 9412200 | R82: =Q82*$G$8*1 -> 0 | T82: =S82*$G$8*1 -> 0 | U82: =IF(OR(L82="A DN",L82="KXL", L82=""),"0",ROUND(J82*0.01*$G$8+Q82*1%*$G$8+S82*1%*$G$8,)) -> 94122 | V82: =(P82+R82+T82+U82) -> 9506322 | W82: 23 | X82: =A82 -> 71 | Y82: =IFERROR(INDEX('[2]CN BC'!$M$10:$M$276,MATCH(B82,'[2]CN BC'!$H$10:$H$276,0)),"") -> 0
A83: =_xlfn.AGGREGATE(4,7,A$11:A82)+1 -> 72 | B83: Nguyễn Trọng Nghĩa | C83: NGHĨA | D83: 0016100006639008 | E83: 1603215002243 | F83: 4.98 | H83: =F83+(F83*G83) -> 4.98 | I83: 0.45 | J83: =H83+I83 -> 5.43 | K83: =J83*$G$8 -> 9774000 | L83: =VLOOKUP(B83,'[1]Gui chi Quynh'!$B$7:$F$397,5,FALSE) -> A1 | M83: =IF(L83="A1",K83*1.6,IF(L83="A2",K83*1.4,IF(L83="A3",K83*1.2,IF(L83="A4",K83*1,IF(L83="B1",K83*0.7,IF(L83="B2",K83*0.5,IF(L83="C1",K83*0.3,IF(L83="C2",K83*0.2,0)))))))) -> 15638400 | N83: 21 | O83: =IFERROR(INDEX('[2]CN BC'!$J$10:$J$276,MATCH(B83,'[2]CN BC'!$H$10:$H$276,0)),"") -> 21 | P83: =IF(O83>=N83,M83,M83/N83*O83) -> 15638400 | R83: =Q83*$G$8*1 -> 0 | T83: =S83*$G$8*1 -> 0 | U83: =IF(OR(L83="A DN",L83="KXL", L83=""),"0",ROUND(J83*0.01*$G$8+Q83*1%*$G$8+S83*1%*$G$8,)) -> 97740 | V83: =(P83+R83+T83+U83) -> 15736140 | W83: 23 | X83: =A83 -> 72 | Y83: =IFERROR(INDEX('[2]CN BC'!$M$10:$M$276,MATCH(B83,'[2]CN BC'!$H$10:$H$276,0)),"") -> 0
A84: =_xlfn.AGGREGATE(4,7,A$11:A83)+1 -> 73 | B84: Lương Xuân Thịnh | C84: THỊNH | D84: 0016100006540001 | E84: 1603205354978 | F84: 2.67 | H84: =F84+(F84*G84) -> 2.67 | I84: 0.45 | J84: =H84+I84 -> 3.12 | K84: =J84*CN!$G$8 -> 5616000 | L84: =VLOOKUP(B84,'[1]Gui chi Quynh'!$B$7:$F$397,5,FALSE) -> A1 | M84: =IF(L84="A1",K84*1.6,IF(L84="A2",K84*1.4,IF(L84="A3",K84*1.2,IF(L84="A4",K84*1,IF(L84="B1",K84*0.7,IF(L84="B2",K84*0.5,IF(L84="C1",K84*0.3,IF(L84="C2",K84*0.2,0)))))))) -> 8985600 | N84: 21 | O84: =IFERROR(INDEX('[2]CN BC'!$J$10:$J$276,MATCH(B84,'[2]CN BC'!$H$10:$H$276,0)),"") -> 31 | P84: =IF(O84>=N84,M84,M84/N84*O84) -> 8985600 | R84: =Q84*CN!$G$8*1 -> 0 | T84: =S84*[3]CN!$G$8*0.65 -> 0 | U84: =IF(OR(L84="A DN",L84="KXL", L84=""),"0",ROUND(J84*0.01*CN!$G$8+Q84*1%*CN!$G$8+S84*1%*CN!$G$8,)) -> 56160 | V84: =(P84+R84+T84+U84) -> 9041760 | W84: 17 | X84: =A84 -> 73 | Y84: =IFERROR(INDEX('[2]CN BC'!$M$10:$M$276,MATCH(B84,'[2]CN BC'!$H$10:$H$276,0)),"") -> 0
A85: =_xlfn.AGGREGATE(4,7,A$11:A84)+1 -> 74 | B85: Đỗ Thị Tâm | C85: TÂM | D85: 0016100006552007 | E85: 1603205179059 | F85: 3.34 | H85: =F85+(F85*G85) -> 3.34 | I85: 0 | J85: =I85+H85 -> 3.34 | K85: =J85*CN!$G$8 -> 6012000 | L85: =VLOOKUP(B85,'[1]Gui chi Quynh'!$B$7:$F$397,5,FALSE) -> A4 | M85: =IF(L85="A1",K85*1.6,IF(L85="A2",K85*1.4,IF(L85="A3",K85*1.2,IF(L85="A4",K85*1,IF(L85="B1",K85*0.7,IF(L85="B2",K85*0.5,IF(L85="C1",K85*0.3,IF(L85="C2",K85*0.2,0)))))))) -> 6012000 | N85: 21 | O85: =IFERROR(INDEX('[2]CN BC'!$J$10:$J$276,MATCH(B85,'[2]CN BC'!$H$10:$H$276,0)),"") -> 27 | P85: =IF(O85>=N85,M85,M85/N85*O85) -> 6012000 | R85: =Q85*$H$9*0.65 -> 0 | T85: =S85*$H$9*0.65 -> 0 | U85: =K85*1% -> 60120 | V85: =ROUND(P85+R85+T85+U85,0) -> 6072120 | W85: 21 | X85: =A85 -> 74 | Y85: =IFERROR(INDEX('[2]CN BC'!$M$10:$M$276,MATCH(B85,'[2]CN BC'!$H$10:$H$276,0)),"") -> 0
A86: =_xlfn.AGGREGATE(4,7,A$11:A85)+1 -> 75 | B86: Phạm Quang Vũ | C86: VŨ | D86: 0016100007211001 | E86: 1603215003961 | F86: 3.66 | H86: =F86+(F86*G86) -> 3.66 | I86: 0.45 | J86: =H86+I86 -> 4.11 | K86: =J86*CN!$G$8 -> 7398000 | L86: =VLOOKUP(B86,'[1]Gui chi Quynh'!$B$7:$F$397,5,FALSE) -> A3 | M86: =IF(L86="A1",K86*1.6,IF(L86="A2",K86*1.4,IF(L86="A3",K86*1.2,IF(L86="A4",K86*1,IF(L86="B1",K86*0.7,IF(L86="B2",K86*0.5,IF(L86="C1",K86*0.3,IF(L86="C2",K86*0.2,0)))))))) -> 8877600 | N86: 21 | O86: =IFERROR(INDEX('[2]CN BC'!$J$10:$J$276,MATCH(B86,'[2]CN BC'!$H$10:$H$276,0)),"") -> 21 | P86: =IF(O86>=N86,M86,M86/N86*O86) -> 8877600 | R86: =Q86*$G$8*1 -> 0 | T86: =S86*$G$8*1 -> 0 | U86: =IF(OR(L86="A DN",L86="KXL", L86=""),"0",ROUND(J86*0.01*$G$8+Q86*1%*$G$8+S86*1%*$G$8,)) -> 73980 | V86: =(P86+R86+T86+U86) -> 8951580 | W86: 23 | X86: =A86 -> 75 | Y86: =IFERROR(INDEX('[2]CN BC'!$M$10:$M$276,MATCH(B86,'[2]CN BC'!$H$10:$H$276,0)),"") -> 0
A87: =_xlfn.AGGREGATE(4,7,A$11:A86)+1 -> 76 | B87: Trình Minh Phong | D87: 0004100004671006 | E87: 1603205634954 | F87: 2.67 | H87: =F87+(F87*G87) -> 2.67 | J87: =H87+I87 -> 2.67 | K87: =J87*$G$8 -> 4806000 | L87: =VLOOKUP(B87,'[1]Gui chi Quynh'!$B$7:$F$397,5,FALSE) -> A4 | M87: =IF(L87="A1",K87*1.6,IF(L87="A2",K87*1.4,IF(L87="A3",K87*1.2,IF(L87="A4",K87*1,IF(L87="B1",K87*0.7,IF(L87="B2",K87*0.5,IF(L87="C1",K87*0.3,IF(L87="C2",K87*0.2,0)))))))) -> 4806000 | N87: 21 | O87: =IFERROR(INDEX('[2]CN BC'!$J$10:$J$276,MATCH(B87,'[2]CN BC'!$H$10:$H$276,0)),"") -> 21 | P87: =IF(O87>=N87,M87,M87/N87*O87) -> 4806000 | R87: =Q87*$G$8*1 -> 0 | T87: =S87*$G$8*1 -> 0 | U87: =IF(OR(L87="A DN",L87="KXL", L87=""),"0",ROUND(J87*0.01*$G$8+Q87*1%*$G$8+S87*1%*$G$8,)) -> 48060 | V87: =(P87+R87+T87+U87) -> 4854060 | W87: 23 | X87: =A87 -> 76 | Y87: =IFERROR(INDEX('[2]CN BC'!$M$10:$M$276,MATCH(B87,'[2]CN BC'!$H$10:$H$276,0)),"") -> 0
A88: =_xlfn.AGGREGATE(4,7,A$11:A87)+1 -> 77 | B88: Trần Ngọc Tuấn | D88: 0016100029229001 | F88: 2.34 | H88: =F88+(F88*G88) -> 2.34 | J88: =H88+I88 -> 2.34 | K88: =J88*$G$8 -> 4212000 | L88: =VLOOKUP(B88,'[1]Gui chi Quynh'!$B$7:$F$397,5,FALSE) -> A3 | M88: =IF(L88="A1",K88*1.6,IF(L88="A2",K88*1.4,IF(L88="A3",K88*1.2,IF(L88="A4",K88*1,IF(L88="B1",K88*0.7,IF(L88="B2",K88*0.5,IF(L88="C1",K88*0.3,IF(L88="C2",K88*0.2,0)))))))) -> 5054400 | N88: 21 | O88: =IFERROR(INDEX('[2]CN BC'!$J$10:$J$276,MATCH(B88,'[2]CN BC'!$H$10:$H$276,0)),"") -> 21 | P88: =IF(O88>=N88,M88,M88/N88*O88) -> 5054400 | R88: =Q88*$G$8*1 -> 0 | T88: =S88*$G$8*1 -> 0 | U88: =IF(OR(L88="A DN",L88="KXL", L88=""),"0",ROUND(J88*0.01*$G$8+Q88*1%*$G$8+S88*1%*$G$8,)) -> 42120 | V88: =(P88+R88+T88+U88) -> 5096520 | W88: 23 | X88: =A88 -> 77 | Y88: =IFERROR(INDEX('[2]CN BC'!$M$10:$M$276,MATCH(B88,'[2]CN BC'!$H$10:$H$276,0)),"") -> 0
A89: =_xlfn.AGGREGATE(4,7,A$11:A88)+1 -> 78 | B89: Trịnh Hoàng Hiệp | C89: HIỆP | D89: 0016100006608005 | E89: 1603205458242 | F89: 3.99 | H89: =F89+(F89*G89) -> 3.99 | I89: 0.45 | J89: =H89+I89 -> 4.44 | K89: =J89*$G$8 -> 7992000 | L89: =VLOOKUP(B89,'[1]Gui chi Quynh'!$B$7:$F$397,5,FALSE) -> A1 | M89: =IF(L89="A1",K89*1.6,IF(L89="A2",K89*1.4,IF(L89="A3",K89*1.2,IF(L89="A4",K89*1,IF(L89="B1",K89*0.7,IF(L89="B2",K89*0.5,IF(L89="C1",K89*0.3,IF(L89="C2",K89*0.2,0)))))))) -> 12787200 | N89: 21 | O89: =IFERROR(INDEX('[2]CN BC'!$J$10:$J$276,MATCH(B89,'[2]CN BC'!$H$10:$H$276,0)),"") -> 21 | P89: =IF(O89>=N89,M89,M89/N89*O89) -> 12787200 | R89: =Q89*$G$8*1 -> 0 | T89: =S89*$G$8*1 -> 0 | U89: =IF(OR(L89="A DN",L89="KXL", L89=""),"0",ROUND(J89*0.01*$G$8+Q89*1%*$G$8+S89*1%*$G$8,)) -> 79920 | V89: =(P89+R89+T89+U89) -> 12867120 | W89: 23 | X89: =A89 -> 78 | Y89: =IFERROR(INDEX('[2]CN BC'!$M$10:$M$276,MATCH(B89,'[2]CN BC'!$H$10:$H$276,0)),"") -> 0 | Z89: 1
A90: =_xlfn.AGGREGATE(4,7,A$11:A89)+1 -> 79 | B90: Trần Thị Ngọc Dung | D90: 0016100006602007 | E90: 1603215003876 | F90: 3 | H90: =F90+(F90*G90) -> 3 | J90: =H90+I90 -> 3 | K90: =J90*$G$8 -> 5400000 | L90: =VLOOKUP(B90,'[1]Gui chi Quynh'!$B$7:$F$397,5,FALSE) -> A4 | M90: =IF(L90="A1",K90*1.6,IF(L90="A2",K90*1.4,IF(L90="A3",K90*1.2,IF(L90="A4",K90*1,IF(L90="B1",K90*0.7,IF(L90="B2",K90*0.5,IF(L90="C1",K90*0.3,IF(L90="C2",K90*0.2,0)))))))) -> 5400000 | N90: 21 | O90: =IFERROR(INDEX('[2]CN BC'!$J$10:$J$276,MATCH(B90,'[2]CN BC'!$H$10:$H$276,0)),"") -> 21 | P90: =IF(O90>=N90,M90,M90/N90*O90) -> 5400000 | R90: =Q90*$G$8*1 -> 0 | T90: =S90*$G$8*1 -> 0 | U90: =IF(OR(L90="A DN",L90="KXL", L90=""),"0",ROUND(J90*0.01*$G$8+Q90*1%*$G$8+S90*1%*$G$8,)) -> 54000 | V90: =(P90+R90+T90+U90) -> 5454000 | W90: 23 | X90: =A90 -> 79 | Y90: =IFERROR(INDEX('[2]CN BC'!$M$10:$M$276,MATCH(B90,'[2]CN BC'!$H$10:$H$276,0)),"") -> 0 | Z90: 2
A91: =_xlfn.AGGREGATE(4,7,A$11:A90)+1 -> 80 | B91: Cao Xuân Giang | D91: 0016100007755001 | E91: 1603215005603 | F91: 3 | H91: =F91+(F91*G91) -> 3 | J91: =H91+I91 -> 3 | K91: =J91*$G$8 -> 5400000 | L91: =VLOOKUP(B91,'[1]Gui chi Quynh'!$B$7:$F$397,5,FALSE) -> A4 | M91: =IF(L91="A1",K91*1.6,IF(L91="A2",K91*1.4,IF(L91="A3",K91*1.2,IF(L91="A4",K91*1,IF(L91="B1",K91*0.7,IF(L91="B2",K91*0.5,IF(L91="C1",K91*0.3,IF(L91="C2",K91*0.2,0)))))))) -> 5400000 | N91: 21 | O91: =IFERROR(INDEX('[2]CN BC'!$J$10:$J$276,MATCH(B91,'[2]CN BC'!$H$10:$H$276,0)),"") -> 21 | P91: =IF(O91>=N91,M91,M91/N91*O91) -> 5400000 | R91: =Q91*$G$8*1 -> 0 | T91: =S91*$G$8*1 -> 0 | U91: =IF(OR(L91="A DN",L91="KXL", L91=""),"0",ROUND(J91*0.01*$G$8+Q91*1%*$G$8+S91*1%*$G$8,)) -> 54000 | V91: =(P91+R91+T91+U91) -> 5454000 | W91: 23 | X91: =A91 -> 80 | Y91: =IFERROR(INDEX('[2]CN BC'!$M$10:$M$276,MATCH(B91,'[2]CN BC'!$H$10:$H$276,0)),"") -> 0 | Z91: 3
A92: =_xlfn.AGGREGATE(4,7,A$11:A91)+1 -> 81 | B92: Phạm Quỳnh Như | C92: NHƯ | D92: 0016100006603003 | E92: 1603205458417 | F92: 3.66 | H92: =F92+(F92*G92) -> 3.66 | I92: 0.35 | J92: =H92+I92 -> 4.01 | K92: =J92*$G$8 -> 7218000 | L92: =VLOOKUP(B92,'[1]Gui chi Quynh'!$B$7:$F$397,5,FALSE) -> A1 | M92: =IF(L92="A1",K92*1.6,IF(L92="A2",K92*1.4,IF(L92="A3",K92*1.2,IF(L92="A4",K92*1,IF(L92="B1",K92*0.7,IF(L92="B2",K92*0.5,IF(L92="C1",K92*0.3,IF(L92="C2",K92*0.2,0)))))))) -> 11548800 | N92: 21 | O92: =IFERROR(INDEX('[2]CN BC'!$J$10:$J$276,MATCH(B92,'[2]CN BC'!$H$10:$H$276,0)),"") -> 21 | P92: =IF(O92>=N92,M92,M92/N92*O92) -> 11548800 | R92: =Q92*$G$8*1 -> 0 | T92: =S92*$G$8*1 -> 0 | U92: =IF(OR(L92="A DN",L92="KXL", L92=""),"0",ROUND(J92*0.01*$G$8+Q92*1%*$G$8+S92*1%*$G$8,)) -> 72180 | V92: =(P92+R92+T92+U92) -> 11620980 | W92: 23 | X92: =A92 -> 81 | Y92: =IFERROR(INDEX('[2]CN BC'!$M$10:$M$276,MATCH(B92,'[2]CN BC'!$H$10:$H$276,0)),"") -> 0 | Z92: 4
A93: =_xlfn.AGGREGATE(4,7,A$11:A92)+1 -> 82 | B93: Lê Thị Thúy Oanh | D93: 0016100028104008 | E93: 1603205647197 | F93: 2.34 | H93: =F93+(F93*G93) -> 2.34 | J93: =H93+I93 -> 2.34 | K93: =J93*$G$8 -> 4212000 | L93: =VLOOKUP(B93,'[1]Gui chi Quynh'!$B$7:$F$397,5,FALSE) -> A3 | M93: =IF(L93="A1",K93*1.6,IF(L93="A2",K93*1.4,IF(L93="A3",K93*1.2,IF(L93="A4",K93*1,IF(L93="B1",K93*0.7,IF(L93="B2",K93*0.5,IF(L93="C1",K93*0.3,IF(L93="C2",K93*0.2,0)))))))) -> 5054400 | N93: 21 | O93: =IFERROR(INDEX('[2]CN BC'!$J$10:$J$276,MATCH(B93,'[2]CN BC'!$H$10:$H$276,0)),"") -> 21 | P93: =IF(O93>=N93,M93,M93/N93*O93) -> 5054400 | R93: =Q93*$G$8*1 -> 0 | T93: =S93*$G$8*1 -> 0 | U93: =IF(OR(L93="A DN",L93="KXL", L93=""),"0",ROUND(J93*0.01*$G$8+Q93*1%*$G$8+S93*1%*$G$8,)) -> 42120 | V93: =(P93+R93+T93+U93) -> 5096520 | W93: 23 | X93: =A93 -> 82 | Y93: =IFERROR(INDEX('[2]CN BC'!$M$10:$M$276,MATCH(B93,'[2]CN BC'!$H$10:$H$276,0)),"") -> 0 | Z93: 5
A94: =_xlfn.AGGREGATE(4,7,A$11:A93)+1 -> 83 | B94: Lê Thị Thu Thảo | C94: THẢO | D94: 0016100006606002 | E94: 1603205458481 | F94: 3.33 | H94: =F94+(F94*G94) -> 3.33 | J94: =H94+I94 -> 3.33 | K94: =J94*$G$8 -> 5994000 | L94: =VLOOKUP(B94,'[1]Gui chi Quynh'!$B$7:$F$397,5,FALSE) -> A4 | M94: =IF(L94="A1",K94*1.6,IF(L94="A2",K94*1.4,IF(L94="A3",K94*1.2,IF(L94="A4",K94*1,IF(L94="B1",K94*0.7,IF(L94="B2",K94*0.5,IF(L94="C1",K94*0.3,IF(L94="C2",K94*0.2,0)))))))) -> 5994000 | N94: 21 | O94: =IFERROR(INDEX('[2]CN BC'!$J$10:$J$276,MATCH(B94,'[2]CN BC'!$H$10:$H$276,0)),"") -> 21 | P94: =IF(O94>=N94,M94,M94/N94*O94) -> 5994000 | R94: =Q94*$G$8*1 -> 0 | T94: =S94*$G$8*1 -> 0 | U94: =IF(OR(L94="A DN",L94="KXL", L94=""),"0",ROUND(J94*0.01*$G$8+Q94*1%*$G$8+S94*1%*$G$8,)) -> 59940 | V94: =(P94+R94+T94+U94) -> 6053940 | W94: 23 | X94: =A94 -> 83 | Y94: =IFERROR(INDEX('[2]CN BC'!$M$10:$M$276,MATCH(B94,'[2]CN BC'!$H$10:$H$276,0)),"") -> 0 | Z94: 7
A95: =_xlfn.AGGREGATE(4,7,A$11:A94)+1 -> 84 | B95: Nguyễn Mỹ Tiên | D95: 0016100006638001 | E95: 1603215003882 | F95: 3 | H95: =F95+(F95*G95) -> 3 | J95: =H95+I95 -> 3 | K95: =J95*$G$8 -> 5400000 | L95: =VLOOKUP(B95,'[1]Gui chi Quynh'!$B$7:$F$397,5,FALSE) -> A4 | M95: =IF(L95="A1",K95*1.6,IF(L95="A2",K95*1.4,IF(L95="A3",K95*1.2,IF(L95="A4",K95*1,IF(L95="B1",K95*0.7,IF(L95="B2",K95*0.5,IF(L95="C1",K95*0.3,IF(L95="C2",K95*0.2,0)))))))) -> 5400000 | N95: 21 | O95: =IFERROR(INDEX('[2]CN BC'!$J$10:$J$276,MATCH(B95,'[2]CN BC'!$H$10:$H$276,0)),"") -> 21 | P95: =IF(O95>=N95,M95,M95/N95*O95) -> 5400000 | R95: =Q95*$G$8*1 -> 0 | T95: =S95*$G$8*1 -> 0 | U95: =IF(OR(L95="A DN",L95="KXL", L95=""),"0",ROUND(J95*0.01*$G$8+Q95*1%*$G$8+S95*1%*$G$8,)) -> 54000 | V95: =(P95+R95+T95+U95) -> 5454000 | W95: 23 | X95: =A95 -> 84 | Y95: =IFERROR(INDEX('[2]CN BC'!$M$10:$M$276,MATCH(B95,'[2]CN BC'!$H$10:$H$276,0)),"") -> 0 | Z95: 8
A96: =_xlfn.AGGREGATE(4,7,A$11:A95)+1 -> 85 | B96: Lưu Thị Thúy | C96: THÚY | D96: 0016100006605006 | E96: 1603205458367 | F96: 3.66 | H96: =F96+(F96*G96) -> 3.66 | J96: =H96+I96 -> 3.66 | K96: =J96*$G$8 -> 6588000 | L96: =VLOOKUP(B96,'[1]Gui chi Quynh'!$B$7:$F$397,5,FALSE) -> A4 | M96: =IF(L96="A1",K96*1.6,IF(L96="A2",K96*1.4,IF(L96="A3",K96*1.2,IF(L96="A4",K96*1,IF(L96="B1",K96*0.7,IF(L96="B2",K96*0.5,IF(L96="C1",K96*0.3,IF(L96="C2",K96*0.2,0)))))))) -> 6588000 | N96: 21 | O96: =IFERROR(INDEX('[2]CN BC'!$J$10:$J$276,MATCH(B96,'[2]CN BC'!$H$10:$H$276,0)),"") -> 21 | P96: =IF(O96>=N96,M96,M96/N96*O96) -> 6588000 | R96: =Q96*$G$8*1 -> 0 | T96: =S96*$G$8*1 -> 0 | U96: =IF(OR(L96="A DN",L96="KXL", L96=""),"0",ROUND(J96*0.01*$G$8+Q96*1%*$G$8+S96*1%*$G$8,)) -> 65880 | V96: =(P96+R96+T96+U96) -> 6653880 | W96: 23 | X96: =A96 -> 85 | Y96: =IFERROR(INDEX('[2]CN BC'!$M$10:$M$276,MATCH(B96,'[2]CN BC'!$H$10:$H$276,0)),"") -> 0 | Z96: 9
A97: =_xlfn.AGGREGATE(4,7,A$11:A96)+1 -> 86 | B97: Võ Thị Kim Thư | C97: THƯ | D97: 0016100006637005 | E97: 1603215002430 | F97: 3 | H97: =F97+(F97*G97) -> 3 | J97: =H97+I97 -> 3 | K97: =J97*$G$8 -> 5400000 | L97: =VLOOKUP(B97,'[1]Gui chi Quynh'!$B$7:$F$397,5,FALSE) -> A4 | M97: =IF(L97="A1",K97*1.6,IF(L97="A2",K97*1.4,IF(L97="A3",K97*1.2,IF(L97="A4",K97*1,IF(L97="B1",K97*0.7,IF(L97="B2",K97*0.5,IF(L97="C1",K97*0.3,IF(L97="C2",K97*0.2,0)))))))) -> 5400000 | N97: 21 | O97: =IFERROR(INDEX('[2]CN BC'!$J$10:$J$276,MATCH(B97,'[2]CN BC'!$H$10:$H$276,0)),"") -> 21 | P97: =IF(O97>=N97,M97,M97/N97*O97) -> 5400000 | R97: =Q97*$G$8*1 -> 0 | T97: =S97*$G$8*1 -> 0 | U97: =IF(OR(L97="A DN",L97="KXL", L97=""),"0",ROUND(J97*0.01*$G$8+Q97*1%*$G$8+S97*1%*$G$8,)) -> 54000 | V97: =(P97+R97+T97+U97) -> 5454000 | W97: 23 | X97: =A97 -> 86 | Y97: =IFERROR(INDEX('[2]CN BC'!$M$10:$M$276,MATCH(B97,'[2]CN BC'!$H$10:$H$276,0)),"") -> 0 | Z97: 10
A98: =_xlfn.AGGREGATE(4,7,A$11:A97)+1 -> 87 | B98: Lữ Xuân Trang | C98: TRANG | D98: 0016100006604007 | E98: 1603215002424 | F98: 3.66 | H98: =F98+(F98*G98) -> 3.66 | I98: 0.25 | J98: =H98+I98 -> 3.91 | K98: =J98*$G$8 -> 7038000 | L98: =VLOOKUP(B98,'[1]Gui chi Quynh'!$B$7:$F$397,5,FALSE) -> A2 | M98: =IF(L98="A1",K98*1.6,IF(L98="A2",K98*1.4,IF(L98="A3",K98*1.2,IF(L98="A4",K98*1,IF(L98="B1",K98*0.7,IF(L98="B2",K98*0.5,IF(L98="C1",K98*0.3,IF(L98="C2",K98*0.2,0)))))))) -> 9853200 | N98: 21 | O98: =IFERROR(INDEX('[2]CN BC'!$J$10:$J$276,MATCH(B98,'[2]CN BC'!$H$10:$H$276,0)),"") -> 21 | P98: =IF(O98>=N98,M98,M98/N98*O98) -> 9853200 | R98: =Q98*$G$8*1 -> 0 | T98: =S98*$G$8*1 -> 0 | U98: =IF(OR(L98="A DN",L98="KXL", L98=""),"0",ROUND(J98*0.01*$G$8+Q98*1%*$G$8+S98*1%*$G$8,)) -> 70380 | V98: =(P98+R98+T98+U98) -> 9923580 | W98: 23 | X98: =A98 -> 87 | Y98: =IFERROR(INDEX('[2]CN BC'!$M$10:$M$276,MATCH(B98,'[2]CN BC'!$H$10:$H$276,0)),"") -> 0 | Z98: 11
A99: =_xlfn.AGGREGATE(4,7,A$11:A98)+1 -> 88 | B99: Nguyễn Thị Minh Thùy | D99: 0016100006516003 | E99: 1603215003650 | F99: 3 | H99: =F99+(F99*G99) -> 3 | J99: =H99+I99 -> 3 | K99: =J99*$G$8 -> 5400000 | L99: =VLOOKUP(B99,'[1]Gui chi Quynh'!$B$7:$F$397,5,FALSE) -> A2 | M99: =IF(L99="A1",K99*1.6,IF(L99="A2",K99*1.4,IF(L99="A3",K99*1.2,IF(L99="A4",K99*1,IF(L99="B1",K99*0.7,IF(L99="B2",K99*0.5,IF(L99="C1",K99*0.3,IF(L99="C2",K99*0.2,0)))))))) -> 7560000 | N99: 21 | O99: =IFERROR(INDEX('[2]CN BC'!$J$10:$J$276,MATCH(B99,'[2]CN BC'!$H$10:$H$276,0)),"") -> 26 | P99: =IF(O99>=N99,M99,M99/N99*O99) -> 7560000 | R99: =Q99*$G$8*1 -> 0 | T99: =S99*$G$8*1 -> 0 | U99: =IF(OR(L99="A DN",L99="KXL", L99=""),"0",ROUND(J99*0.01*$G$8+Q99*1%*$G$8+S99*1%*$G$8,)) -> 54000 | V99: =(P99+R99+T99+U99) -> 7614000 | W99: 26 | X99: =A99 -> 88 | Y99: =IFERROR(INDEX('[2]CN BC'!$M$10:$M$276,MATCH(B99,'[2]CN BC'!$H$10:$H$276,0)),"") -> Hỗ trợ công việc phòng KHTC | Z99: 12
A100: =_xlfn.AGGREGATE(4,7,A$11:A99)+1 -> 89 | B100: Hồ Gia Bảo | D100: 0016100029650009 | E100: 1603205670790 | F100: 2.34 | H100: =F100+(F100*G100) -> 2.34 | I100: 0.45 | J100: =H100+I100 -> 2.79 | K100: =J100*$G$8 -> 5022000 | L100: =VLOOKUP(B100,'[1]Gui chi Quynh'!$B$7:$F$397,5,FALSE) -> A3 | M100: =IF(L100="A1",K100*1.6,IF(L100="A2",K100*1.4,IF(L100="A3",K100*1.2,IF(L100="A4",K100*1,IF(L100="B1",K100*0.7,IF(L100="B2",K100*0.5,IF(L100="C1",K100*0.3,IF(L100="C2",K100*0.2,0)))))))) -> 6026400 | N100: 21 | O100: =IFERROR(INDEX('[2]CN BC'!$J$10:$J$276,MATCH(B100,'[2]CN BC'!$H$10:$H$276,0)),"") -> 21 | P100: =IF(O100>=N100,M100,M100/N100*O100) -> 6026400 | R100: =Q100*$G$8*1 -> 0 | T100: =S100*$G$8*1 -> 0 | U100: =IF(OR(L100="A DN",L100="KXL", L100=""),"0",ROUND(J100*0.01*$G$8+Q100*1%*$G$8+S100*1%*$G$8,)) -> 50220 | V100: =(P100+R100+T100+U100) -> 6076620 | W100: 23 | X100: =A100 -> 89 | Y100: =IFERROR(INDEX('[2]CN BC'!$M$10:$M$276,MATCH(B100,'[2]CN BC'!$H$10:$H$276,0)),"") -> 0 | Z100: 13
A101: =_xlfn.AGGREGATE(4,7,A$11:A100)+1 -> 90 | B101: Nguyễn Hoàng Thanh Ngân | D101: 0016100029652001 | E101: 1603205670804 | F101: 2.34 | H101: =F101+(F101*G101) -> 2.34 | J101: =H101+I101 -> 2.34 | K101: =J101*$G$8 -> 4212000 | L101: =VLOOKUP(B101,'[1]Gui chi Quynh'!$B$7:$F$397,5,FALSE) -> A DN | M101: =IF(L101="A1",K101*1.6,IF(L101="A2",K101*1.4,IF(L101="A3",K101*1.2,IF(L101="A4",K101*1,IF(L101="B1",K101*0.7,IF(L101="B2",K101*0.5,IF(L101="C1",K101*0.3,IF(L101="C2",K101*0.2,0)))))))) -> 0 | N101: 21 | O101: =IFERROR(INDEX('[2]CN BC'!$J$10:$J$276,MATCH(B101,'[2]CN BC'!$H$10:$H$276,0)),"") -> 0 | P101: =IF(O101>=N101,M101,M101/N101*O101) -> 0 | R101: =Q101*$G$8*1 -> 0 | T101: =S101*$G$8*1 -> 0 | U101: =IF(OR(L101="A DN",L101="KXL", L101=""),"0",ROUND(J101*0.01*$G$8+Q101*1%*$G$8+S101*1%*$G$8,)) -> 0 | V101: =(P101+R101+T101+U101) -> 0 | W101: 0 | X101: =A101 -> 90 | Y101: =IFERROR(INDEX('[2]CN BC'!$M$10:$M$276,MATCH(B101,'[2]CN BC'!$H$10:$H$276,0)),"") -> Đi du học nước ngoài từ 28/2/2023 | Z101: 14
A102: =_xlfn.AGGREGATE(4,7,A$11:A101)+1 -> 91 | B102: Nguyễn Thị Thanh Hòa | F102: 2.34 | H102: =F102+(F102*G102) -> 2.34 | J102: =H102+I102 -> 2.34 | K102: =J102*$G$8 -> 4212000 | L102: =VLOOKUP(B102,'[1]Gui chi Quynh'!$B$7:$F$397,5,FALSE) -> A4 | M102: =IF(L102="A1",K102*1.6,IF(L102="A2",K102*1.4,IF(L102="A3",K102*1.2,IF(L102="A4",K102*1,IF(L102="B1",K102*0.7,IF(L102="B2",K102*0.5,IF(L102="C1",K102*0.3,IF(L102="C2",K102*0.2,0)))))))) -> 4212000 | N102: 21 | O102: =IFERROR(INDEX('[2]CN BC'!$J$10:$J$276,MATCH(B102,'[2]CN BC'!$H$10:$H$276,0)),"") -> 21 | P102: =IF(O102>=N102,M102,M102/N102*O102) -> 4212000 | R102: =Q102*$G$8*1.4 -> 0 | T102: =S102*$G$8*1 -> 0 | U102: =IF(OR(L102="A DN",L102="KXL", L102=""),"0",ROUND(J102*0.01*$G$8+Q102*1%*$G$8+S102*1%*$G$8,)) -> 42120 | V102: =(P102+R102+T102+U102) -> 4254120 | W102: 23 | X102: =A102 -> 91 | Y102: =IFERROR(INDEX('[2]CN BC'!$M$10:$M$276,MATCH(B102,'[2]CN BC'!$H$10:$H$276,0)),"") -> 0 | Z102: 15
...

Sheet NH
A1: ỦY BAN NHÂN DÂN TP.HCM | T1: CỘNG HÒA XÃ HỘI CHỦ NGHĨA VIỆT NAM
A2: TRƯỜNG CAO ĐẲNG LÝ TỰ TRỌNG | T2: Độc lập - Tự do - Hạnh phúc
A3: THÀNH PHỐ HỒ CHÍ MINH
A5: BẢNG THU NHẬP TĂNG THÊM - LƯƠNG THEO HỆ SỐ ĐIỀU CHỈNH THÁNG 9 NĂM 2023
A6: CÁN BỘ VIÊN CHỨC TRONG CHỈ TIÊU BIÊN CHẾ - TRUNG TÂM ĐÀO TẠO LÝ TỰ TRỌNG
A7: (Chi theo Chương II - "Những quy định cụ thể"/ Mục 2 - "Chi thanh toán cá nhân"/ Điều 17 - "Các khoản thanh toán cá nhân"/ Khoản b - "Thu nhập tăng thêm" trong Quy chế chi tiêu nội bộ năm 2022 ban hành kèm theo Quyết định số 739/QĐ-LTT-KHTC ngày 02 tháng 11 năm 2022)
A9: Mức lương tối thiểu có hệ số = | H9: 1800000 | J9: 1490000 | V9: Đơn vị tính: đồng
A11: STT | B11: HỌ VÀ TÊN | D11: Số tài khoản thẻ ATM OCB | E11: Số tài khoản thẻ ATM AGRIBANK | F11: HS (hide) | G11: VK (hide) | H11: HS THỰC HƯỞNG (hide) | I11: HSPC (hide) | J11: HS LƯƠNG +PCCV | K11: CỘNG LƯƠNG (hide) | L11: XẾP LOẠI | M11: Mức lương theo hệ số điều chỉnh | N11: Số ngày công kế hoạch | O11: Số ngày công thực hiện | P11: Lương điều chỉnh tính theo ngày công thực hiện/tháng | Q11: HỆ SỐ TRUY LÃNH LƯƠNG (CỘT NÀY HIDE) | R11: Truy lãnh lương điều chỉnh do nâng bậc lương | S11: HỆ SỐ TRUY LÃNH PCCV (CỘT NÀY HIDE) | T11: Truy lãnh lương điều chỉnh do truy lãnh PCCV | U11: Trường hỗ trợ 1% BHYT | V11: THÀNH TIỀN | X11: GHI CHÚ
A12: 01 | B12: 02 | F12: 03 | G12: 04 | H12: 05 | I12: 06 | J12: 03 | K12: 08 | L12: 04 | M12: 05 | N12: 06 | O12: 07 | P12: 08 | Q12: 16 | R12: 09 | S12: 18 | T12: 10 | U12: 11 | V12: 12 | X12: 13
A13: 01 | B13: Lương Xuân Thịnh | C13: THỊNH | D13: 0016100006540001 | E13: 1603205354978 | F13: 2.67 | H13: =F13+(F13*G13) -> 2.67 | I13: 0.45 | J13: =H13+I13 -> 3.12 | K13: =J13*CN!$G$8 -> 5616000 | M13: =IF(L13="A1",K13*1.6,IF(L13="A2",K13*1.4,IF(L13="A3",K13*1.2,IF(L13="A4",K13*1,IF(L13="B1",K13*0.7,IF(L13="B2",K13*0.5,IF(L13="C1",K13*0.3,IF(L13="C2",K13*0.2,0)))))))) -> 0 | P13: =IF(O13>=N13,M13,M13/N13*O13) -> 0 | R13: =Q13*CN!$G$8*1 -> 0 | T13: =S13*[3]CN!$G$8*0.65 -> 0 | U13: =IF(OR(L13="A DN",L13="KXL", L13=""),"0",ROUND(J13*0.01*CN!$G$8+Q13*1%*CN!$G$8+S13*1%*CN!$G$8,)) -> 0 | V13: =(P13+R13+T13+U13) -> 0 | W13: 17 | X13: =A13 -> 01
A14: 02 | B14: Đỗ Thị Tâm | C14: TÂM | D14: 0016100006552007 | E14: 1603205179059 | F14: 3.34 | H14: =F14+(F14*G14) -> 3.34 | I14: 0 | J14: =I14+H14 -> 3.34 | K14: =J14*$H$9 -> 6012000 | M14: =IF(L14="A1",K14*1.6,IF(L14="A2",K14*1.4,IF(L14="A3",K14*1.2,IF(L14="A4",K14*1,IF(L14="B1",K14*0.7,IF(L14="B2",K14*0.5,IF(L14="C1",K14*0.3,IF(L14="C2",K14*0.2,0)))))))) -> 0 | P14: =IF(O14>=N14,M14,M14/N14*O14) -> 0 | R14: =Q14*$H$9*0.65 -> 0 | T14: =S14*$H$9*0.65 -> 0 | U14: 0 | V14: =ROUND(P14+R14+T14+U14,0) -> 0 | W14: 21 | X14: =A14 -> 02
B15: CỘNG | F15: =SUM(F13:F14) -> 6.01 | G15: =SUM(G13:G14) -> 0 | H15: =SUM(H13:H14) -> 6.01 | I15: =SUM(I13:I14) -> 0.45 | J15: =SUM(J13:J14) -> 6.46 | K15: =J15*$H$9 -> 11628000 | M15: =SUM(M13:M14) -> 0 | N15: =SUM(N13:N14) -> 0 | O15: =SUM(O13:O14) -> 0 | P15: =SUM(P13:P14) -> 0 | Q15: =SUM(Q13:Q14) -> 0 | R15: =SUM(R13:R14) -> 0 | S15: =SUM(S13:S14) -> 0 | T15: =SUM(T13:T14) -> 0 | ... V15: =SUM(V13:V14) -> 0
B17: Bằng chữ: Mười lăm triệu một trăm mười ba ngàn tám trăm tám mươi đồng.
V18: Thành phố Hồ Chí Minh, ngày 16 tháng 10 năm 2023
A19: NGƯỜI LẬP BẢNG | C19: PHÓ CHỦ TỊCH HĐ THI ĐUA | P19: KẾ TOÁN TRƯỞNG | U19: HIỆU TRƯỞNG
A26: Vũ Như Quỳnh | C26: Lâm Viết Dũng | P26: Nguyễn Kính | U26: Phạm Hữu Lộc

Sheet CN mới
A1: ỦY BAN NHÂN DÂN TP.HCM | N1: CỘNG HÒA XÃ HỘI CHỦ NGHĨA VIỆT NAM
A2: TRƯỜNG CAO ĐẲNG KỸ THUẬT | N2: Độc lập - Tự do - Hạnh phúc
A3: LÝ TỰ TRỌNG
A4: BẢNG THU NHẬP TĂNG THÊM - LƯƠNG THEO HỆ SỐ ĐIỀU CHỈNH THÁNG 4 NĂM 2013
A5: CÁN BỘ VIÊN CHỨC TRONG CHỈ TIÊU BIÊN CHẾ - KHỐI CHUYÊN NGHIỆP
A6: (Chi theo Chương II - "Những quy định cụ thể"/ Mục 2 - "Chi thanh toán cá nhân"/ Điều 17 - "Các khoản thanh toán cá nhân"/ Khoản 1.2 - "Thu nhập tăng thêm" trong Quy chế chi tiêu nội bộ năm học 2012 - 2013 ban hành theo Quyết định số 521B/QĐ-LTT-KTTC ngày 10 tháng 04 năm 2013)
A7: Mức lương tối thiểu hệ số 1=1.050.000đ | H7: 1050000 | N7: Hsđc: | P7: A=0,50, B=0,30, C=0,10, D=0 | Y7: Đơn vị tính: đồng
A9: STT | B9: HỌ VÀ TÊN | E9: Số tài khoản thẻ ATM VIETINBANK | F9: Số tài khoản thẻ ATM AGRIBANK | G9: HS (hide) | H9: VK (hide) | I9: HS THỰC HƯỞNG (hide) | J9: HSPC (hide) | K9: HS LƯƠNG +PCCV | L9: CỘNG LƯƠNG (hide) | M9: XẾP LOẠI | N9: Mức lương theo hệ số điều chỉnh | O9: ABC MIN (hide) | P9: Số ngày công kế hoạch | Q9: Số ngày công thực hiện | R9: Số tiền thi đua không tính ngày (hide) | S9: Lương điều chỉnh tính theo ngày công thực hiện/tháng | T9: HỆ SỐ TRUY LÃNH LƯƠNG (CỘT NÀY HIDE) | U9: Truy lãnh lương điều chỉnh do truy lãnh lương | V9: HỆ SỐ TRUY LÃNH PCCV (CỘT NÀY HIDE) | W9: Truy lãnh lương điều chỉnh do truy lãnh PCCV | X9: Trường hỗ trợ 1% BHYT | Y9: THÀNH TIỀN | Z9: GHI CHÚ
A10: 01 | B10: 02 | G10: 03 | H10: 04 | I10: 05 | J10: 06 | K10: 03 | L10: 08 | M10: 04 | N10: 05 | O10: 11 | P10: 06 | Q10: 07 | R10: 14 | S10: 08 | T10: 16 | U10: 09 | V10: 18 | W10: 10 | X10: 11 | Y10: 12 | Z10: 13
A11: 01 | B11: Văn Công | C11: SANG | D11: BGH | E11: 711A40944441 | F11: 1603205361871 | G11: 6.44 | I11: =G11+(G11*H11) -> 6.44 | J11: 0.9 | K11: =I11+J11 -> 7.34 | L11: =K11*$H$7 -> 7707000 | M11: A | N11: =IF(M11="A",L11*0.5,IF(M11="B",L11*0.5*0.75,IF(M11="C",L11*0.5*0.75*0.75,0))) -> 3853500 | O11: =IF(M11="A",1050000,IF(M11="B",735000,IF(M11="C",514500,0))) -> 1050000 | P11: 21 | Q11: 26 | R11: =IF(N11>O11,N11,O11) -> 3853500 | S11: =IF(Q11>=P11,R11,R11/P11*Q11) -> 3853500 | U11: =T11*$H$7*0.5 -> 0 | W11: =V11*$H$7*0.5 -> 0 | X11: =(K11*0.01*$H$7)+(T11*1%*$H$7)+(V11*1%*$H$7) -> 77070 | Y11: =(S11+U11+W11+X11) -> 3930570 | Z11: =A11 -> 01 | AA11: Đi công tác tại miền Trung và 2N tham gia tập huấn Công tác triển khai thực hiện dự toán 2013…. 5N
A12: 02 | B12: Đỗ Văn | C12: HÙNG | E12: 711A26554199 | F12: 1603205182359 | G12: 6.04 | I12: =G12+(G12*H12) -> 6.04 | J12: 0.7 | K12: =I12+J12 -> 6.74 | L12: =K12*$H$7 -> 7077000 | M12: A | N12: =IF(M12="A",L12*0.5,IF(M12="B",L12*0.5*0.75,IF(M12="C",L12*0.5*0.75*0.75,0))) -> 3538500 | O12: =IF(M12="A",1050000,IF(M12="B",735000,IF(M12="C",514500,0))) -> 1050000 | P12: 21 | Q12: 26 | R12: =IF(N12>O12,N12,O12) -> 3538500 | S12: =IF(Q12>=P12,R12,R12/P12*Q12) -> 3538500 | U12: =T12*$H$7*0.5 -> 0 | W12: =V12*$H$7*0.5 -> 0 | X12: =(K12*0.01*$H$7)+(T12*1%*$H$7)+(V12*1%*$H$7) -> 70770 | Y12: =(S12+U12+W12+X12) -> 3609270 | Z12: =A12 -> 02 | AA12: Đi công tác tại miền Tây 6N
A13: 03 | B13: Nguyễn Văn | C13: DŨNG | E13: 711A22811849 | F13: 1603205182365 | G13: 4.98 | H13: 0.09 | I13: =G13+(G13*H13) -> 5.4282 | J13: 0.7 | K13: =I13+J13 -> 6.1282 | L13: =K13*$H$7 -> 6434610 | M13: A | N13: =IF(M13="A",L13*0.5,IF(M13="B",L13*0.5*0.75,IF(M13="C",L13*0.5*0.75*0.75,0))) -> 3217305 | O13: =IF(M13="A",1050000,IF(M13="B",735000,IF(M13="C",514500,0))) -> 1050000 | P13: 21 | Q13: 26 | R13: =IF(N13>O13,N13,O13) -> 3217305 | S13: =IF(Q13>=P13,R13,R13/P13*Q13) -> 3217305 | U13: =T13*$H$7*0.5 -> 0 | W13: =V13*$H$7*0.5 -> 0 | X13: =(K13*0.01*$H$7)+(T13*1%*$H$7)+(V13*1%*$H$7) -> 64346.1 | Y13: =(S13+U13+W13+X13) -> 3281651.1 | Z13: =A13 -> 03 | AB13: Tháng 3/2013 cập nhật PCTNVK từ 8% lên 9%
A14: 04 | B14: Lương Xuân | C14: CHỈNH | E14: 711A22129659 | F14: 1603205186206 | G14: 4.98 | I14: =G14+(G14*H14) -> 4.98 | J14: 0.7 | K14: =I14+J14 -> 5.68 | L14: =K14*$H$7 -> 5964000 | M14: A | N14: =IF(M14="A",L14*0.5,IF(M14="B",L14*0.5*0.75,IF(M14="C",L14*0.5*0.75*0.75,0))) -> 2982000 | O14: =IF(M14="A",1050000,IF(M14="B",735000,IF(M14="C",514500,0))) -> 1050000 | P14: 21 | Q14: 26 | R14: =IF(N14>O14,N14,O14) -> 2982000 | S14: =IF(Q14>=P14,R14,R14/P14*Q14) -> 2982000 | U14: =T14*$H$7*0.5 -> 0 | W14: =V14*$H$7*0.5 -> 0 | X14: =(K14*0.01*$H$7)+(T14*1%*$H$7)+(V14*1%*$H$7) -> 59640 | Y14: =(S14+U14+W14+X14) -> 3041640 | Z14: =A14 -> 04 | AB14: x
A15: 05 | B15: Đinh Hồng | C15: MINH | D15: TCHCTH | E15: 711A23232133 | F15: 1603205186191 | G15: 3.99 | I15: =G15+(G15*H15) -> 3.99 | J15: 0.45 | K15: =I15+J15 -> 4.44 | L15: =K15*$H$7 -> 4662000 | M15: A | N15: =IF(M15="A",L15*0.5,IF(M15="B",L15*0.5*0.75,IF(M15="C",L15*0.5*0.75*0.75,0))) -> 2331000 | O15: =IF(M15="A",1050000,IF(M15="B",735000,IF(M15="C",514500,0))) -> 1050000 | P15: 21 | Q15: 26 | R15: =IF(N15>O15,N15,O15) -> 2331000 | S15: =IF(Q15>=P15,R15,R15/P15*Q15) -> 2331000 | U15: =T15*$H$7*0.5 -> 0 | W15: =V15*$H$7*0.5 -> 0 | X15: =(K15*0.01*$H$7)+(T15*1%*$H$7)+(V15*1%*$H$7) -> 46620 | Y15: =(S15+U15+W15+X15) -> 2377620 | Z15: =A15 -> 05
A16: 06 | B16: Trần Văn Cu | C16: ANH | E16: 711A23232157 | F16: 1603205185970 | G16: 3.48 | H16: 0.06 | I16: =G16+(G16*H16) -> 3.6888 | J16: 0 | K16: =I16+J16 -> 3.6888 | L16: =K16*$H$7 -> 3873240 | M16: A | N16: =IF(M16="A",L16*0.5,IF(M16="B",L16*0.5*0.75,IF(M16="C",L16*0.5*0.75*0.75,0))) -> 1936620 | O16: =IF(M16="A",1050000,IF(M16="B",735000,IF(M16="C",514500,0))) -> 1050000 | P16: 21 | Q16: 30 | R16: =IF(N16>O16,N16,O16) -> 1936620 | S16: =IF(Q16>=P16,R16,R16/P16*Q16) -> 1936620 | U16: =T16*$H$7*0.5 -> 0 | W16: =V16*$H$7*0.5 -> 0 | X16: =(K16*0.01*$H$7)+(T16*1%*$H$7)+(V16*1%*$H$7) -> 38732.4 | Y16: =(S16+U16+W16+X16) -> 1975352.4 | Z16: =A16 -> 06
A17: 07 | B17: Trần Văn | C17: LÝ | E17: 711A23232023 | F17: 1603205185964 | G17: 3.48 | H17: 0.06 | I17: =G17+(G17*H17) -> 3.6888 | J17: 0.25 | K17: =I17+J17 -> 3.9388 | L17: =K17*$H$7 -> 4135740 | M17: A | N17: =IF(M17="A",L17*0.5,IF(M17="B",L17*0.5*0.75,IF(M17="C",L17*0.5*0.75*0.75,0))) -> 2067870 | O17: =IF(M17="A",1050000,IF(M17="B",735000,IF(M17="C",514500,0))) -> 1050000 | P17: 21 | Q17: 26 | R17: =IF(N17>O17,N17,O17) -> 2067870 | S17: =IF(Q17>=P17,R17,R17/P17*Q17) -> 2067870 | U17: =T17*$H$7*0.5 -> 0 | W17: =V17*$H$7*0.5 -> 0 | X17: =(K17*0.01*$H$7)+(T17*1%*$H$7)+(V17*1%*$H$7) -> 41357.4 | Y17: =(S17+U17+W17+X17) -> 2109227.4 | Z17: =A17 -> 07
A18: 08 | B18: Lê Hùng | C18: THANH | E18: 711A23232011 | F18: 1603205186185 | G18: 4.03 | H18: 0.1 | I18: =G18+(G18*H18) -> 4.433 | J18: 0 | K18: =I18+J18 -> 4.433 | L18: =K18*$H$7 -> 4654650 | M18: A | N18: =IF(M18="A",L18*0.5,IF(M18="B",L18*0.5*0.75,IF(M18="C",L18*0.5*0.75*0.75,0))) -> 2327325 | O18: =IF(M18="A",1050000,IF(M18="B",735000,IF(M18="C",514500,0))) -> 1050000 | P18: 21 | Q18: 26 | R18: =IF(N18>O18,N18,O18) -> 2327325 | S18: =IF(Q18>=P18,R18,R18/P18*Q18) -> 2327325 | U18: =T18*$H$7*0.5 -> 0 | W18: =V18*$H$7*0.5 -> 0 | X18: =(K18*0.01*$H$7)+(T18*1%*$H$7)+(V18*1%*$H$7) -> 46546.5 | Y18: =(S18+U18+W18+X18) -> 2373871.5 | Z18: =A18 -> 08 | AA18: Đi công tác vớ Sở GDĐT 5N
A19: 09 | B19: Lê Xuân | C19: THIỆN | E19: 711A23232205 | F19: 1603205185958 | G19: 3.99 | I19: =G19+(G19*H19) -> 3.99 | J19: 0.35 | K19: =I19+J19 -> 4.34 | L19: =K19*$H$7 -> 4557000 | M19: A | N19: =IF(M19="A",L19*0.5,IF(M19="B",L19*0.5*0.75,IF(M19="C",L19*0.5*0.75*0.75,0))) -> 2278500 | O19: =IF(M19="A",1050000,IF(M19="B",735000,IF(M19="C",514500,0))) -> 1050000 | P19: 21 | Q19: 26 | R19: =IF(N19>O19,N19,O19) -> 2278500 | S19: =IF(Q19>=P19,R19,R19/P19*Q19) -> 2278500 | U19: =T19*$H$7*0.5 -> 0 | W19: =V19*$H$7*0.5 -> 0 | X19: =(K19*0.01*$H$7)+(T19*1%*$H$7)+(V19*1%*$H$7) -> 45570 | Y19: =(S19+U19+W19+X19) -> 2324070 | Z19: =A19 -> 09
A20: 10 | B20: Đỗ Văn | C20: TRONG | E20: 711A23232078 | F20: 1603205186133 | G20: 2.06 | I20: =G20+(G20*H20) -> 2.06 | J20: 0 | K20: =I20+J20 -> 2.06 | L20: =K20*$H$7 -> 2163000 | M20: A | N20: =IF(M20="A",L20*0.5,IF(M20="B",L20*0.5*0.75,IF(M20="C",L20*0.5*0.75*0.75,0))) -> 1081500 | O20: =IF(M20="A",1050000,IF(M20="B",735000,IF(M20="C",514500,0))) -> 1050000 | P20: 21 | Q20: 19 | R20: =IF(N20>O20,N20,O20) -> 1081500 | S20: =IF(Q20>=P20,R20,R20/P20*Q20) -> 978500 | U20: =T20*$H$7*0.5 -> 0 | W20: =V20*$H$7*0.5 -> 0 | X20: =(K20*0.01*$H$7)+(T20*1%*$H$7)+(V20*1%*$H$7) -> 21630 | Y20: =(S20+U20+W20+X20) -> 1000130 | Z20: =A20 -> 10 | AA20: Trừ 3N nghỉ phép, cộng 1 ngày làm thứ 7
A21: 11 | B21: Trần Thị Thu | C21: HÀ | E21: 711A23232062 | F21: 1603205186179 | G21: 2.67 | I21: =G21+(G21*H21) -> 2.67 | J21: 0 | K21: =I21+J21 -> 2.67 | L21: =K21*$H$7 -> 2803500 | M21: A | N21: =IF(M21="A",L21*0.5,IF(M21="B",L21*0.5*0.75,IF(M21="C",L21*0.5*0.75*0.75,0))) -> 1401750 | O21: =IF(M21="A",1050000,IF(M21="B",735000,IF(M21="C",514500,0))) -> 1050000 | P21: 21 | Q21: 26 | R21: =IF(N21>O21,N21,O21) -> 1401750 | S21: =IF(Q21>=P21,R21,R21/P21*Q21) -> 1401750 | U21: =T21*$H$7*0.5 -> 0 | W21: =V21*$H$7*0.5 -> 0 | X21: =(K21*0.01*$H$7)+(T21*1%*$H$7)+(V21*1%*$H$7) -> 28035 | Y21: =(S21+U21+W21+X21) -> 1429785 | Z21: =A21 -> 11
A22: 12 | B22: Phan Thị Ngọc | C22: PHƯỢNG | E22: 711A23232121 | F22: 1603205186162 | G22: 2.26 | I22: =G22+(G22*H22) -> 2.26 | J22: 0 | K22: =I22+J22 -> 2.26 | L22: =K22*$H$7 -> 2373000 | M22: A | N22: =IF(M22="A",L22*0.5,IF(M22="B",L22*0.5*0.75,IF(M22="C",L22*0.5*0.75*0.75,0))) -> 1186500 | O22: =IF(M22="A",1050000,IF(M22="B",735000,IF(M22="C",514500,0))) -> 1050000 | P22: 21 | Q22: 25 | R22: =IF(N22>O22,N22,O22) -> 1186500 | S22: =IF(Q22>=P22,R22,R22/P22*Q22) -> 1186500 | U22: =T22*$H$7*0.5 -> 0 | W22: =V22*$H$7*0.5 -> 0 | X22: =(K22*0.01*$H$7)+(T22*1%*$H$7)+(V22*1%*$H$7) -> 23730 | Y22: =(S22+U22+W22+X22) -> 1210230 | Z22: =A22 -> 12 | AA22: Trừ 1N nghỉ bù
A23: 13 | B23: Vũ Như | C23: QUỲNH | E23: 711A23231908 | F23: 1603205186127 | G23: 2.04 | I23: =G23+(G23*H23) -> 2.04 | J23: 0 | K23: =I23+J23 -> 2.04 | L23: =K23*$H$7 -> 2142000 | M23: A DN | N23: =IF(M23="A",L23*0.5,IF(M23="B",L23*0.5*0.75,IF(M23="C",L23*0.5*0.75*0.75,0))) -> 0 | O23: =IF(M23="A",1050000,IF(M23="B",735000,IF(M23="C",514500,0))) -> 0 | P23: 21 | Q23: 0 | R23: =IF(N23>O23,N23,O23) -> 0 | S23: =IF(Q23>=P23,R23,R23/P23*Q23) -> 0 | U23: =T23*$H$7*0.5 -> 0 | W23: =V23*$H$7*0.5 -> 0 | X23: 0 | Y23: =(S23+U23+W23+X23) -> 0 | Z23: =A23 -> 13
A24: 14 | B24: Nguyễn Trọng | C24: PHÚ | E24: 711A23232248 | F24: 1603205185935 | G24: 2.01 | I24: =G24+(G24*H24) -> 2.01 | J24: 0 | K24: =I24+J24 -> 2.01 | L24: =K24*$H$7 -> 2110500 | M24: A | N24: =IF(M24="A",L24*0.5,IF(M24="B",L24*0.5*0.75,IF(M24="C",L24*0.5*0.75*0.75,0))) -> 1055250 | O24: =IF(M24="A",1050000,IF(M24="B",735000,IF(M24="C",514500,0))) -> 1050000 | P24: 21 | Q24: 25 | R24: =IF(N24>O24,N24,O24) -> 1055250 | S24: =IF(Q24>=P24,R24,R24/P24*Q24) -> 1055250 | U24: =T24*$H$7*0.5 -> 0 | W24: =V24*$H$7*0.5 -> 0 | X24: =(K24*0.01*$H$7)+(T24*1%*$H$7)+(V24*1%*$H$7) -> 21105 | Y24: =(S24+U24+W24+X24) -> 1076355 | Z24: =A24 -> 14
A25: 15 | B25: Vũ Ngọc | C25: QUANG | E25: 711A23231942 | F25: 1603205185912 | G25: 2.26 | I25: =G25+(G25*H25) -> 2.26 | J25: 0 | K25: =I25+J25 -> 2.26 | L25: =K25*$H$7 -> 2373000 | M25: A | N25: =IF(M25="A",L25*0.5,IF(M25="B",L25*0.5*0.75,IF(M25="C",L25*0.5*0.75*0.75,0))) -> 1186500 | O25: =IF(M25="A",1050000,IF(M25="B",735000,IF(M25="C",514500,0))) -> 1050000 | P25: 21 | Q25: 26 | R25: =IF(N25>O25,N25,O25) -> 1186500 | S25: =IF(Q25>=P25,R25,R25/P25*Q25) -> 1186500 | U25: =T25*$H$7*0.5 -> 0 | W25: =V25*$H$7*0.5 -> 0 | X25: =(K25*0.01*$H$7)+(T25*1%*$H$7)+(V25*1%*$H$7) -> 23730 | Y25: =(S25+U25+W25+X25) -> 1210230 | Z25: =A25 -> 15
A26: 16 | B26: Giáp Văn | C26: THỊNH | E26: 711A23231981 | F26: 1603205246157 | G26: 2.26 | I26: =G26+(G26*H26) -> 2.26 | J26: 0 | K26: =I26+J26 -> 2.26 | L26: =K26*$H$7 -> 2373000 | M26: A | N26: =IF(M26="A",L26*0.5,IF(M26="B",L26*0.5*0.75,IF(M26="C",L26*0.5*0.75*0.75,0))) -> 1186500 | O26: =IF(M26="A",1050000,IF(M26="B",735000,IF(M26="C",514500,0))) -> 1050000 | P26: 21 | Q26: 24 | R26: =IF(N26>O26,N26,O26) -> 1186500 | S26: =IF(Q26>=P26,R26,R26/P26*Q26) -> 1186500 | U26: =T26*$H$7*0.5 -> 0 | W26: =V26*$H$7*0.5 -> 0 | X26: =(K26*0.01*$H$7)+(T26*1%*$H$7)+(V26*1%*$H$7) -> 23730 | Y26: =(S26+U26+W26+X26) -> 1210230 | Z26: =A26 -> 16 | AA26: Trừ 1N nghỉ bù
A27: 17 | B27: Trang Thị Xuân | C27: UYÊN | D27: y tế | E27: 711A23235593 | F27: 1603205186156 | G27: 3.33 | I27: =G27+(G27*H27) -> 3.33 | J27: 0.45 | K27: =I27+J27 -> 3.78 | L27: =K27*$H$7 -> 3969000 | M27: A | N27: =IF(M27="A",L27*0.5,IF(M27="B",L27*0.5*0.75,IF(M27="C",L27*0.5*0.75*0.75,0))) -> 1984500 | O27: =IF(M27="A",1050000,IF(M27="B",735000,IF(M27="C",514500,0))) -> 1050000 | P27: 21 | Q27: 24 | R27: =IF(N27>O27,N27,O27) -> 1984500 | S27: =IF(Q27>=P27,R27,R27/P27*Q27) -> 1984500 | U27: =T27*$H$7*0.5 -> 0 | W27: =V27*$H$7*0.5 -> 0 | X27: =(K27*0.01*$H$7)+(T27*1%*$H$7)+(V27*1%*$H$7) -> 39690 | Y27: =(S27+U27+W27+X27) -> 2024190 | Z27: =A27 -> 17 | AB27: 1230390
A28: 18 | B28: Bùi Thị Lan | C28: ANH | E28: 711A23235581 | F28: 1603205247426 | G28: 2.46 | I28: =G28+(G28*H28) -> 2.46 | J28: 0 | K28: =I28+J28 -> 2.46 | L28: =K28*$H$7 -> 2583000 | M28: A | N28: =IF(M28="A",L28*0.5,IF(M28="B",L28*0.5*0.75,IF(M28="C",L28*0.5*0.75*0.75,0))) -> 1291500 | O28: =IF(M28="A",1050000,IF(M28="B",735000,IF(M28="C",514500,0))) -> 1050000 | P28: 21 | Q28: 24 | R28: =IF(N28>O28,N28,O28) -> 1291500 | S28: =IF(Q28>=P28,R28,R28/P28*Q28) -> 1291500 | U28: =T28*$H$7*0.5 -> 0 | W28: =V28*$H$7*0.5 -> 0 | X28: =(K28*0.01*$H$7)+(T28*1%*$H$7)+(V28*1%*$H$7) -> 25830 | Y28: =(S28+U28+W28+X28) -> 1317330 | Z28: =A28 -> 18
A29: 19 | B29: Phạm Ngọc | C29: LONG | D29: KTTC | E29: 711A12814549 | F29: 1603205178657 | G29: 4.32 | I29: =G29+(G29*H29) -> 4.32 | J29: 0.55 | K29: =I29+J29 -> 4.87 | L29: =K29*$H$7 -> 5113500 | M29: A | N29: =IF(M29="A",L29*0.5,IF(M29="B",L29*0.5*0.75,IF(M29="C",L29*0.5*0.75*0.75,0))) -> 2556750 | O29: =IF(M29="A",1050000,IF(M29="B",735000,IF(M29="C",514500,0))) -> 1050000 | P29: 21 | Q29: 26 | R29: =IF(N29>O29,N29,O29) -> 2556750 | S29: =IF(Q29>=P29,R29,R29/P29*Q29) -> 2556750 | U29: =T29*$H$7*0.5 -> 0 | W29: =V29*$H$7*0.5 -> 0 | X29: =(K29*0.01*$H$7)+(T29*1%*$H$7)+(V29*1%*$H$7) -> 51135 | Y29: =(S29+U29+W29+X29) -> 2607885 | Z29: =A29 -> 19 | AB29: x
A30: 20 | B30: Lâm Thị | C30: TRÁNH | E30: 711A23232327 | F30: 1603205182313 | G30: 3.33 | H30: 0.19 | I30: =G30+(G30*H30) -> 3.9627 | J30: 0 | K30: =I30+J30 -> 3.9627 | L30: =K30*$H$7 -> 4160835 | M30: A | N30: =IF(M30="A",L30*0.5,IF(M30="B",L30*0.5*0.75,IF(M30="C",L30*0.5*0.75*0.75,0))) -> 2080417.5 | O30: =IF(M30="A",1050000,IF(M30="B",735000,IF(M30="C",514500,0))) -> 1050000 | P30: 21 | Q30: 25 | R30: =IF(N30>O30,N30,O30) -> 2080417.5 | S30: =IF(Q30>=P30,R30,R30/P30*Q30) -> 2080417.5 | U30: =T30*$H$7*0.5 -> 0 | W30: =V30*$H$7*0.5 -> 0 | X30: =(K30*0.01*$H$7)+(T30*1%*$H$7)+(V30*1%*$H$7) -> 41608.35 | Y30: =(S30+U30+W30+X30) -> 2122025.9 | Z30: =A30 -> 20 | AB30: Tháng 4 chuyển Cô Tránh qua HĐ trường
A31: 21 | B31: Nguyễn Thị Kim | C31: DUNG | E31: 711A23232381 | F31: 1603205182336 | G31: 3 | I31: =G31+(G31*H31) -> 3 | J31: 0.35 | K31: =I31+J31 -> 3.35 | L31: =K31*$H$7 -> 3517500 | M31: A | N31: =IF(M31="A",L31*0.5,IF(M31="B",L31*0.5*0.75,IF(M31="C",L31*0.5*0.75*0.75,0))) -> 1758750 | O31: =IF(M31="A",1050000,IF(M31="B",735000,IF(M31="C",514500,0))) -> 1050000 | P31: 21 | Q31: 24 | R31: =IF(N31>O31,N31,O31) -> 1758750 | S31: =IF(Q31>=P31,R31,R31/P31*Q31) -> 1758750 | U31: =T31*$H$7*0.5 -> 0 | W31: =V31*$H$7*0.5 -> 0 | X31: =(K31*0.01*$H$7)+(T31*1%*$H$7)+(V31*1%*$H$7) -> 35175 | Y31: =(S31+U31+W31+X31) -> 1793925 | Z31: =A31 -> 21
A32: 22 | B32: Nguyễn Hải | C32: HÀ | E32: 711A22129623 | F32: 1603205182342 | G32: 3.99 | I32: =G32+(G32*H32) -> 3.99 | J32: 0.35 | K32: =I32+J32 -> 4.34 | L32: =K32*$H$7 -> 4557000 | M32: A | N32: =IF(M32="A",L32*0.5,IF(M32="B",L32*0.5*0.75,IF(M32="C",L32*0.5*0.75*0.75,0))) -> 2278500 | O32: =IF(M32="A",1050000,IF(M32="B",735000,IF(M32="C",514500,0))) -> 1050000 | P32: 21 | Q32: 24 | R32: =IF(N32>O32,N32,O32) -> 2278500 | S32: =IF(Q32>=P32,R32,R32/P32*Q32) -> 2278500 | U32: =T32*$H$7*0.5 -> 0 | W32: =V32*$H$7*0.5 -> 0 | X32: =(K32*0.01*$H$7)+(T32*1%*$H$7)+(V32*1%*$H$7) -> 45570 | Y32: =(S32+U32+W32+X32) -> 2324070 | Z32: =A32 -> 22
A33: 23 | B33: Hồng Mộng Tuyết | C33: DUNG | E33: 711A23232315 | F33: 1603205203183 | G33: 2.67 | I33: =G33+(G33*H33) -> 2.67 | J33: 0 | K33: =I33+J33 -> 2.67 | L33: =K33*$H$7 -> 2803500 | M33: A | N33: =IF(M33="A",L33*0.5,IF(M33="B",L33*0.5*0.75,IF(M33="C",L33*0.5*0.75*0.75,0))) -> 1401750 | O33: =IF(M33="A",1050000,IF(M33="B",735000,IF(M33="C",514500,0))) -> 1050000 | P33: 21 | Q33: 24 | R33: =IF(N33>O33,N33,O33) -> 1401750 | S33: =IF(Q33>=P33,R33,R33/P33*Q33) -> 1401750 | U33: =T33*$H$7*0.5 -> 0 | W33: =V33*$H$7*0.5 -> 0 | X33: =(K33*0.01*$H$7)+(T33*1%*$H$7)+(V33*1%*$H$7) -> 28035 | Y33: =(S33+U33+W33+X33) -> 1429785 | Z33: =A33 -> 23
A34: 24 | B34: Trần Thị Minh | C34: THOA | E34: 711A23232354 | F34: 1603205178873 | G34: 2.26 | I34: =G34+(G34*H34) -> 2.26 | K34: =I34+J34 -> 2.26 | L34: =K34*$H$7 -> 2373000 | M34: A | N34: =IF(M34="A",L34*0.5,IF(M34="B",L34*0.5*0.75,IF(M34="C",L34*0.5*0.75*0.75,0))) -> 1186500 | O34: =IF(M34="A",1050000,IF(M34="B",735000,IF(M34="C",514500,0))) -> 1050000 | P34: 21 | Q34: 24 | R34: =IF(N34>O34,N34,O34) -> 1186500 | S34: =IF(Q34>=P34,R34,R34/P34*Q34) -> 1186500 | U34: =T34*$H$7*0.5 -> 0 | W34: =V34*$H$7*0.5 -> 0 | X34: =(K34*0.01*$H$7)+(T34*1%*$H$7)+(V34*1%*$H$7) -> 23730 | Y34: =(S34+U34+W34+X34) -> 1210230 | Z34: =A34 -> 24
A35: 25 | B35: Hồ Minh | C35: LỢI | D35: KHVT | E35: 711A23232532 | F35: 1603205178809 | G35: 4.98 | I35: =G35+(G35*H35) -> 4.98 | J35: 0.45 | K35: =I35+J35 -> 5.43 | L35: =K35*$H$7 -> 5701500 | M35: A | N35: =IF(M35="A",L35*0.5,IF(M35="B",L35*0.5*0.75,IF(M35="C",L35*0.5*0.75*0.75,0))) -> 2850750 | O35: =IF(M35="A",1050000,IF(M35="B",735000,IF(M35="C",514500,0))) -> 1050000 | P35: 21 | Q35: 22 | R35: =IF(N35>O35,N35,O35) -> 2850750 | S35: =IF(Q35>=P35,R35,R35/P35*Q35) -> 2850750 | U35: =T35*$H$7*0.5 -> 0 | W35: =V35*$H$7*0.5 -> 0 | X35: =(K35*0.01*$H$7)+(T35*1%*$H$7)+(V35*1%*$H$7) -> 57015 | Y35: =(S35+U35+W35+X35) -> 2907765 | Z35: =A35 -> 25 | AA35: Dự hội nghị 1N, họp triển khai công tác kiểm tra, khảo sát…2N
A36: 26 | B36: Nguyễn Thị | C36: HOA | E36: 711A23232563 | F36: 1603205178815 | G36: 3.99 | I36: =G36+(G36*H36) -> 3.99 | J36: 0.35 | K36: =I36+J36 -> 4.34 | L36: =K36*$H$7 -> 4557000 | M36: A | N36: =IF(M36="A",L36*0.5,IF(M36="B",L36*0.5*0.75,IF(M36="C",L36*0.5*0.75*0.75,0))) -> 2278500 | O36: =IF(M36="A",1050000,IF(M36="B",735000,IF(M36="C",514500,0))) -> 1050000 | P36: 21 | Q36: 21 | R36: =IF(N36>O36,N36,O36) -> 2278500 | S36: =IF(Q36>=P36,R36,R36/P36*Q36) -> 2278500 | U36: =T36*$H$7*0.5 -> 0 | W36: =V36*$H$7*0.5 -> 0 | X36: =(K36*0.01*$H$7)+(T36*1%*$H$7)+(V36*1%*$H$7) -> 45570 | Y36: =(S36+U36+W36+X36) -> 2324070 | Z36: =A36 -> 26
A37: 27 | B37: Huỳnh Thị Xuân | C37: MAI | E37: 711A23232615 | F37: 1603205178850 | G37: 2.19 | I37: =G37+(G37*H37) -> 2.19 | J37: 0 | K37: =I37+J37 -> 2.19 | L37: =K37*$H$7 -> 2299500 | M37: A | N37: =IF(M37="A",L37*0.5,IF(M37="B",L37*0.5*0.75,IF(M37="C",L37*0.5*0.75*0.75,0))) -> 1149750 | O37: =IF(M37="A",1050000,IF(M37="B",735000,IF(M37="C",514500,0))) -> 1050000 | P37: 21 | Q37: 20 | R37: =IF(N37>O37,N37,O37) -> 1149750 | S37: =IF(Q37>=P37,R37,R37/P37*Q37) -> 1095000 | U37: =T37*$H$7*0.5 -> 0 | W37: =V37*$H$7*0.5 -> 0 | X37: =(K37*0.01*$H$7)+(T37*1%*$H$7)+(V37*1%*$H$7) -> 22995 | Y37: =(S37+U37+W37+X37) -> 1117995 | Z37: =A37 -> 27 | AA37: Trừ 1N nghỉ phép | AD37: =AD39-15343948 -> -15343948
A38: 28 | B38: Trần Thị Phương | C38: OANH | E38: 711A23234586 | F38: 1603205178794 | G38: 2.26 | I38: =G38+(G38*H38) -> 2.26 | J38: 0 | K38: =I38+J38 -> 2.26 | L38: =K38*$H$7 -> 2373000 | M38: A | N38: =IF(M38="A",L38*0.5,IF(M38="B",L38*0.5*0.75,IF(M38="C",L38*0.5*0.75*0.75,0))) -> 1186500 | O38: =IF(M38="A",1050000,IF(M38="B",735000,IF(M38="C",514500,0))) -> 1050000 | P38: 21 | Q38: 20 | R38: =IF(N38>O38,N38,O38) -> 1186500 | S38: =IF(Q38>=P38,R38,R38/P38*Q38) -> 1130000 | U38: =T38*$H$7*0.5 -> 0 | W38: =V38*$H$7*0.5 -> 0 | X38: =(K38*0.01*$H$7)+(T38*1%*$H$7)+(V38*1%*$H$7) -> 23730 | Y38: =(S38+U38+W38+X38) -> 1153730 | Z38: =A38 -> 28 | AA38: Trừ 1N nghỉ phép
A39: 29 | B39: Nguyễn Văn | C39: LÂM | E39: 711A23232599 | F39: 1603205178821 | G39: 4.98 | H39: 0.06 | I39: =G39+(G39*H39) -> 5.2788 | J39: 0.45 | K39: =I39+J39 -> 5.7288 | L39: =K39*$H$7 -> 6015240 | M39: A | N39: =IF(M39="A",L39*0.5,IF(M39="B",L39*0.5*0.75,IF(M39="C",L39*0.5*0.75*0.75,0))) -> 3007620 | O39: =IF(M39="A",1050000,IF(M39="B",735000,IF(M39="C",514500,0))) -> 1050000 | P39: 21 | Q39: 23 | R39: =IF(N39>O39,N39,O39) -> 3007620 | S39: =IF(Q39>=P39,R39,R39/P39*Q39) -> 3007620 | U39: =T39*$H$7*0.5 -> 0 | W39: =V39*$H$7*0.5 -> 0 | X39: =(K39*0.01*$H$7)+(T39*1%*$H$7)+(V39*1%*$H$7) -> 60152.4 | Y39: =(S39+U39+W39+X39) -> 3067772.4 | Z39: =A39 -> 29 | AA39: Trừ 2N nghỉ phép | AD39: =SUM(AC29:AC39) -> 0
A40: 30 | B40: Nguyễn Thanh | C40: LÂM | D40: T.TRA | E40: 711A23232757 | F40: 1603205179138 | G40: 4.98 | H40: 0.05 | I40: =G40+(G40*H40) -> 5.229 | J40: 0.45 | K40: =I40+J40 -> 5.679 | L40: =K40*$H$7 -> 5962950 | M40: A | N40: =IF(M40="A",L40*0.5,IF(M40="B",L40*0.5*0.75,IF(M40="C",L40*0.5*0.75*0.75,0))) -> 2981475 | O40: =IF(M40="A",1050000,IF(M40="B",735000,IF(M40="C",514500,0))) -> 1050000 | P40: 21 | Q40: 26 | R40: =IF(N40>O40,N40,O40) -> 2981475 | S40: =IF(Q40>=P40,R40,R40/P40*Q40) -> 2981475 | U40: =T40*$H$7*0.5 -> 0 | W40: =V40*$H$7*0.5 -> 0 | X40: =(K40*0.01*$H$7)+(T40*1%*$H$7)+(V40*1%*$H$7) -> 59629.5 | Y40: =(S40+U40+W40+X40) -> 3041104.5 | Z40: =A40 -> 30
A41: 31 | B41: Nguyễn Chí | C41: NHÂN | E41: 711A23233874 | F41: 1603205182184 | G41: 3 | I41: =G41+(G41*H41) -> 3 | J41: 0.35 | K41: =I41+J41 -> 3.35 | L41: =K41*$H$7 -> 3517500 | M41: A | N41: =IF(M41="A",L41*0.5,IF(M41="B",L41*0.5*0.75,IF(M41="C",L41*0.5*0.75*0.75,0))) -> 1758750 | O41: =IF(M41="A",1050000,IF(M41="B",735000,IF(M41="C",514500,0))) -> 1050000 | P41: 21 | Q41: 25 | R41: =IF(N41>O41,N41,O41) -> 1758750 | S41: =IF(Q41>=P41,R41,R41/P41*Q41) -> 1758750 | U41: =T41*$H$7*0.5 -> 0 | W41: =V41*$H$7*0.5 -> 0 | X41: =(K41*0.01*$H$7)+(T41*1%*$H$7)+(V41*1%*$H$7) -> 35175 | Y41: =(S41+U41+W41+X41) -> 1793925 | Z41: =A41 -> 31
A42: 32 | B42: Nguyễn Thị Kim | C42: ANH | E42: 711A23232287 | F42: 1603205189653 | G42: 2.67 | I42: =G42+(G42*H42) -> 2.67 | J42: 0 | K42: =I42+J42 -> 2.67 | L42: =K42*$H$7 -> 2803500 | M42: A | N42: =IF(M42="A",L42*0.5,IF(M42="B",L42*0.5*0.75,IF(M42="C",L42*0.5*0.75*0.75,0))) -> 1401750 | O42: =IF(M42="A",1050000,IF(M42="B",735000,IF(M42="C",514500,0))) -> 1050000 | P42: 21 | Q42: 24 | R42: =IF(N42>O42,N42,O42) -> 1401750 | S42: =IF(Q42>=P42,R42,R42/P42*Q42) -> 1401750 | U42: =T42*$H$7*0.5 -> 0 | W42: =V42*$H$7*0.5 -> 0 | X42: =(K42*0.01*$H$7)+(T42*1%*$H$7)+(V42*1%*$H$7) -> 28035 | Y42: =(S42+U42+W42+X42) -> 1429785 | Z42: =A42 -> 32
A43: 33 | B43: Phạm Minh | C43: NGHĨA | E43: 711A23234338 | F43: 1603205178896 | G43: 4.98 | H43: 0.05 | I43: =G43+(G43*H43) -> 5.229 | J43: 0.35 | K43: =I43+J43 -> 5.579 | L43: =K43*$H$7 -> 5857950 | M43: A | N43: =IF(M43="A",L43*0.5,IF(M43="B",L43*0.5*0.75,IF(M43="C",L43*0.5*0.75*0.75,0))) -> 2928975 | O43: =IF(M43="A",1050000,IF(M43="B",735000,IF(M43="C",514500,0))) -> 1050000 | P43: 21 | Q43: 26 | R43: =IF(N43>O43,N43,O43) -> 2928975 | S43: =IF(Q43>=P43,R43,R43/P43*Q43) -> 2928975 | U43: =T43*$H$7*0.5 -> 0 | W43: =V43*$H$7*0.5 -> 0 | X43: =(K43*0.01*$H$7)+(T43*1%*$H$7)+(V43*1%*$H$7) -> 58579.5 | Y43: =(S43+U43+W43+X43) -> 2987554.5 | Z43: =A43 -> 33 | AB43: Tháng 3 hết PCCV 0.35
A44: 34 | B44: Nguyễn Thị | C44: NHUẬN | D44: ĐOÀN | E44: 711A06639136 | F44: 1603205186786 | G44: 3.33 | I44: =G44+(G44*H44) -> 3.33 | K44: =I44+J44 -> 3.33 | L44: =K44*$H$7 -> 3496500 | M44: A | N44: =IF(M44="A",L44*0.5,IF(M44="B",L44*0.5*0.75,IF(M44="C",L44*0.5*0.75*0.75,0))) -> 1748250 | O44: =IF(M44="A",1050000,IF(M44="B",735000,IF(M44="C",514500,0))) -> 1050000 | P44: 21 | Q44: 21 | R44: =IF(N44>O44,N44,O44) -> 1748250 | S44: =IF(Q44>=P44,R44,R44/P44*Q44) -> 1748250 | U44: =T44*$H$7*0.5 -> 0 | W44: =V44*$H$7*0.5 -> 0 | X44: =(K44*0.01*$H$7)+(T44*1%*$H$7)+(V44*1%*$H$7) -> 34965 | Y44: =(S44+U44+W44+X44) -> 1783215 | Z44: =A44 -> 34 | AA44: Trừ 1N nghỉ bù
A45: 35 | B45: Nguyễn Ngọc | C45: TRANG | D45: QHQT | E45: 711A23232721 | F45: 1603205182270 | G45: 4.74 | I45: =G45+(G45*H45) -> 4.74 | J45: 0.45 | K45: =I45+J45 -> 5.19 | L45: =K45*$H$7 -> 5449500 | M45: A | N45: =IF(M45="A",L45*0.5,IF(M45="B",L45*0.5*0.75,IF(M45="C",L45*0.5*0.75*0.75,0))) -> 2724750 | O45: =IF(M45="A",1050000,IF(M45="B",735000,IF(M45="C",514500,0))) -> 1050000 | P45: 21 | Q45: 26 | R45: =IF(N45>O45,N45,O45) -> 2724750 | S45: =IF(Q45>=P45,R45,R45/P45*Q45) -> 2724750 | U45: =T45*$H$7*0.5 -> 0 | W45: =V45*$H$7*0.5 -> 0 | X45: =(K45*0.01*$H$7)+(T45*1%*$H$7)+(V45*1%*$H$7) -> 54495 | Y45: =(S45+U45+W45+X45) -> 2779245 | Z45: =A45 -> 35
A46: 36 | B46: Trần Liên Đoan | C46: TÚ | E46: 711A23232693 | F46: 1603205182292 | G46: 2.67 | I46: =G46+(G46*H46) -> 2.67 | J46: 0 | K46: =I46+J46 -> 2.67 | L46: =K46*$H$7 -> 2803500 | M46: A | N46: =IF(M46="A",L46*0.5,IF(M46="B",L46*0.5*0.75,IF(M46="C",L46*0.5*0.75*0.75,0))) -> 1401750 | O46: =IF(M46="A",1050000,IF(M46="B",735000,IF(M46="C",514500,0))) -> 1050000 | P46: 21 | Q46: 19 | R46: =IF(N46>O46,N46,O46) -> 1401750 | S46: =IF(Q46>=P46,R46,R46/P46*Q46) -> 1268250 | U46: =T46*$H$7*0.5 -> 0 | W46: =V46*$H$7*0.5 -> 0 | X46: =(K46*0.01*$H$7)+(T46*1%*$H$7)+(V46*1%*$H$7) -> 28035 | Y46: =(S46+U46+W46+X46) -> 1296285 | Z46: =A46 -> 36 | AA46: Trừ 2N nghỉ phép
A47: 37 | B47: Nguyễn Văn | C47: TẤN | D47: Đ.TẠO | E47: 711A23232469 | F47: 1603205185675 | G47: 4.98 | I47: =G47+(G47*H47) -> 4.98 | J47: 0.45 | K47: =I47+J47 -> 5.43 | L47: =K47*$H$7 -> 5701500 | M47: A | N47: =IF(M47="A",L47*0.5,IF(M47="B",L47*0.5*0.75,IF(M47="C",L47*0.5*0.75*0.75,0))) -> 2850750 | O47: =IF(M47="A",1050000,IF(M47="B",735000,IF(M47="C",514500,0))) -> 1050000 | P47: 21 | Q47: 24 | R47: =IF(N47>O47,N47,O47) -> 2850750 | S47: =IF(Q47>=P47,R47,R47/P47*Q47) -> 2850750 | U47: =T47*$H$7*0.5 -> 0 | W47: =V47*$H$7*0.5 -> 0 | X47: =(K47*0.01*$H$7)+(T47*1%*$H$7)+(V47*1%*$H$7) -> 57015 | Y47: =(S47+U47+W47+X47) -> 2907765 | Z47: =A47 -> 37 | AA47: 10N đi công tác miền Trung
A48: 38 | B48: Võ Thị Anh | C48: ĐÀO | E48: 711A23232496 | F48: 1603205185646 | G48: 4.65 | I48: =G48+(G48*H48) -> 4.65 | J48: 0.35 | K48: =I48+J48 -> 5 | L48: =K48*$H$7 -> 5250000 | M48: A | N48: =IF(M48="A",L48*0.5,IF(M48="B",L48*0.5*0.75,IF(M48="C",L48*0.5*0.75*0.75,0))) -> 2625000 | O48: =IF(M48="A",1050000,IF(M48="B",735000,IF(M48="C",514500,0))) -> 1050000 | P48: 21 | Q48: 24 | R48: =IF(N48>O48,N48,O48) -> 2625000 | S48: =IF(Q48>=P48,R48,R48/P48*Q48) -> 2625000 | U48: =T48*$H$7*0.5 -> 0 | W48: =V48*$H$7*0.5 -> 0 | X48: =(K48*0.01*$H$7)+(T48*1%*$H$7)+(V48*1%*$H$7) -> 52500 | Y48: =(S48+U48+W48+X48) -> 2677500 | Z48: =A48 -> 38
A49: 39 | B49: Hồ Văn | C49: SĨ | E49: 711A23232393 | F49: 1603205185681 | G49: 3.99 | I49: =G49+(G49*H49) -> 3.99 | J49: 0.35 | K49: =I49+J49 -> 4.34 | L49: =K49*$H$7 -> 4557000 | M49: A | N49: =IF(M49="A",L49*0.5,IF(M49="B",L49*0.5*0.75,IF(M49="C",L49*0.5*0.75*0.75,0))) -> 2278500 | O49: =IF(M49="A",1050000,IF(M49="B",735000,IF(M49="C",514500,0))) -> 1050000 | P49: 21 | Q49: 23 | R49: =IF(N49>O49,N49,O49) -> 2278500 | S49: =IF(Q49>=P49,R49,R49/P49*Q49) -> 2278500 | U49: =T49*$H$7*0.5 -> 0 | W49: =V49*$H$7*0.5 -> 0 | X49: =(K49*0.01*$H$7)+(T49*1%*$H$7)+(V49*1%*$H$7) -> 45570 | Y49: =(S49+U49+W49+X49) -> 2324070 | Z49: =A49 -> 39 | AA49: Đi công tác tại miền Tây 5N và 1N đi tư vấn tuyển sinh, trừ 1N nghỉ bù
A50: 40 | B50: Nguyễn Thị Ánh | C50: THU | E50: 711A23232421 | F50: 1603205185702 | G50: 4.98 | H50: 0.09 | I50: =G50+(G50*H50) -> 5.4282 | J50: 0 | K50: =I50+J50 -> 5.4282 | L50: =K50*$H$7 -> 5699610 | M50: A | N50: =IF(M50="A",L50*0.5,IF(M50="B",L50*0.5*0.75,IF(M50="C",L50*0.5*0.75*0.75,0))) -> 2849805 | O50: =IF(M50="A",1050000,IF(M50="B",735000,IF(M50="C",514500,0))) -> 1050000 | P50: 21 | Q50: 26 | R50: =IF(N50>O50,N50,O50) -> 2849805 | S50: =IF(Q50>=P50,R50,R50/P50*Q50) -> 2849805 | U50: =T50*$H$7*0.5 -> 0 | W50: =V50*$H$7*0.5 -> 0 | X50: =(K50*0.01*$H$7)+(T50*1%*$H$7)+(V50*1%*$H$7) -> 56996.1 | Y50: =(S50+U50+W50+X50) -> 2906801.1 | Z50: =A50 -> 40
A51: 41 | B51: Võ Thị Xuân | C51: THƠ | E51: 711A23232433 | F51: 1603205185760 | G51: 3.33 | I51: =G51+(G51*H51) -> 3.33 | J51: 0 | K51: =I51+J51 -> 3.33 | L51: =K51*$H$7 -> 3496500 | M51: A | N51: =IF(M51="A",L51*0.5,IF(M51="B",L51*0.5*0.75,IF(M51="C",L51*0.5*0.75*0.75,0))) -> 1748250 | O51: =IF(M51="A",1050000,IF(M51="B",735000,IF(M51="C",514500,0))) -> 1050000 | P51: 21 | Q51: 24 | R51: =IF(N51>O51,N51,O51) -> 1748250 | S51: =IF(Q51>=P51,R51,R51/P51*Q51) -> 1748250 | U51: =T51*$H$7*0.5 -> 0 | W51: =V51*$H$7*0.5 -> 0 | X51: =(K51*0.01*$H$7)+(T51*1%*$H$7)+(V51*1%*$H$7) -> 34965 | Y51: =(S51+U51+W51+X51) -> 1783215 | Z51: =A51 -> 41 | AB51: x
A52: 42 | B52: Nguyễn Văn | C52: SƠN | E52: 711A23232402 | F52: 1603205185698 | G52: 4.65 | I52: =G52+(G52*H52) -> 4.65 | J52: 0 | K52: =I52+J52 -> 4.65 | L52: =K52*$H$7 -> 4882500 | M52: A | N52: =IF(M52="A",L52*0.5,IF(M52="B",L52*0.5*0.75,IF(M52="C",L52*0.5*0.75*0.75,0))) -> 2441250 | O52: =IF(M52="A",1050000,IF(M52="B",735000,IF(M52="C",514500,0))) -> 1050000 | P52: 21 | Q52: 21 | R52: =IF(N52>O52,N52,O52) -> 2441250 | S52: =IF(Q52>=P52,R52,R52/P52*Q52) -> 2441250 | U52: =T52*$H$7*0.5 -> 0 | W52: =V52*$H$7*0.5 -> 0 | X52: =(K52*0.01*$H$7)+(T52*1%*$H$7)+(V52*1%*$H$7) -> 48825 | Y52: =(S52+U52+W52+X52) -> 2490075 | Z52: =A52 -> 42
A53: 43 | B53: Huỳnh Thị | C53: MAI | E53: 711A23232505 | F53: 1603205185652 | G53: 2.67 | I53: =G53+(G53*H53) -> 2.67 | K53: =I53+J53 -> 2.67 | L53: =K53*$H$7 -> 2803500 | M53: A | N53: =IF(M53="A",L53*0.5,IF(M53="B",L53*0.5*0.75,IF(M53="C",L53*0.5*0.75*0.75,0))) -> 1401750 | O53: =IF(M53="A",1050000,IF(M53="B",735000,IF(M53="C",514500,0))) -> 1050000 | P53: 21 | Q53: 12 | R53: =IF(N53>O53,N53,O53) -> 1401750 | S53: =IF(Q53>=P53,R53,R53/P53*Q53) -> 801000 | U53: =T53*$H$7*0.5 -> 0 | W53: =V53*$H$7*0.5 -> 0 | X53: =(K53*0.01*$H$7)+(T53*1%*$H$7)+(V53*1%*$H$7) -> 28035 | Y53: =(S53+U53+W53+X53) -> 829035 | Z53: =A53 -> 43 | AA53: Trừ 1N nghỉ bù và nghỉ HS từ ngày 18/3-17/9/2013
A54: 44 | B54: Huỳnh Thị Minh | C54: LY | E54: 711A23232418 | F54: 1603205185719 | G54: 2.46 | I54: =G54+(G54*H54) -> 2.46 | J54: 0 | K54: =I54+J54 -> 2.46 | L54: =K54*$H$7 -> 2583000 | M54: A | N54: =IF(M54="A",L54*0.5,IF(M54="B",L54*0.5*0.75,IF(M54="C",L54*0.5*0.75*0.75,0))) -> 1291500 | O54: =IF(M54="A",1050000,IF(M54="B",735000,IF(M54="C",514500,0))) -> 1050000 | P54: 21 | Q54: 24 | R54: =IF(N54>O54,N54,O54) -> 1291500 | S54: =IF(Q54>=P54,R54,R54/P54*Q54) -> 1291500 | U54: =T54*$H$7*0.5 -> 0 | W54: =V54*$H$7*0.5 -> 0 | X54: =(K54*0.01*$H$7)+(T54*1%*$H$7)+(V54*1%*$H$7) -> 25830 | Y54: =(S54+U54+W54+X54) -> 1317330 | Z54: =A54 -> 44
A55: 45 | B55: Giáp Thị | C55: VƯỢNG | E55: 711A23232524 | F55: 1603205246090 | G55: 2.06 | I55: =G55+(G55*H55) -> 2.06 | J55: 0 | K55: =I55+J55 -> 2.06 | L55: =K55*$H$7 -> 2163000 | M55: A DN | N55: =IF(M55="A",L55*0.5,IF(M55="B",L55*0.5*0.75,IF(M55="C",L55*0.5*0.75*0.75,0))) -> 0 | O55: =IF(M55="A",1050000,IF(M55="B",735000,IF(M55="C",514500,0))) -> 0 | P55: 21 | R55: =IF(N55>O55,N55,O55) -> 0 | S55: =IF(Q55>=P55,R55,R55/P55*Q55) -> 0 | U55: =T55*$H$7*0.5 -> 0 | W55: =V55*$H$7*0.5 -> 0 | X55: 0 | Y55: =(S55+U55+W55+X55) -> 0 | Z55: =A55 -> 45
A56: 46 | B56: Nguyễn Thị Thanh | C56: THẢO | E56: 711A23234223 | F56: 1603205182394 | G56: 2.46 | I56: =G56+(G56*H56) -> 2.46 | K56: =I56+J56 -> 2.46 | L56: =K56*$H$7 -> 2583000 | M56: A | N56: =IF(M56="A",L56*0.5,IF(M56="B",L56*0.5*0.75,IF(M56="C",L56*0.5*0.75*0.75,0))) -> 1291500 | O56: =IF(M56="A",1050000,IF(M56="B",735000,IF(M56="C",514500,0))) -> 1050000 | P56: 21 | Q56: 25 | R56: =IF(N56>O56,N56,O56) -> 1291500 | S56: =IF(Q56>=P56,R56,R56/P56*Q56) -> 1291500 | U56: =T56*$H$7*0.5 -> 0 | W56: =V56*$H$7*0.5 -> 0 | X56: =(K56*0.01*$H$7)+(T56*1%*$H$7)+(V56*1%*$H$7) -> 25830 | Y56: =(S56+U56+W56+X56) -> 1317330 | Z56: =A56 -> 46
A57: 47 | B57: Hoàng Ngọc | C57: CẢNH | D57: QLHS | E57: 711A12472729 | F57: 1603205179121 | G57: 4.89 | I57: =G57+(G57*H57) -> 4.89 | J57: 0.45 | K57: =I57+J57 -> 5.34 | L57: =K57*$H$7 -> 5607000 | M57: A | N57: =IF(M57="A",L57*0.5,IF(M57="B",L57*0.5*0.75,IF(M57="C",L57*0.5*0.75*0.75,0))) -> 2803500 | O57: =IF(M57="A",1050000,IF(M57="B",735000,IF(M57="C",514500,0))) -> 1050000 | P57: 21 | Q57: 26 | R57: =IF(N57>O57,N57,O57) -> 2803500 | S57: =IF(Q57>=P57,R57,R57/P57*Q57) -> 2803500 | U57: =T57*$H$7*0.5 -> 0 | W57: =V57*$H$7*0.5 -> 0 | X57: =(K57*0.01*$H$7)+(T57*1%*$H$7)+(V57*1%*$H$7) -> 56070 | Y57: =(S57+U57+W57+X57) -> 2859570 | Z57: =A57 -> 47
A58: 48 | B58: Bùi Hiền | C58: LƯƠNG | E58: 711A23232681 | F58: 1603205179167 | G58: 3.26 | I58: =G58+(G58*H58) -> 3.26 | J58: 0 | K58: =I58+J58 -> 3.26 | L58: =K58*$H$7 -> 3423000 | M58: A | N58: =IF(M58="A",L58*0.5,IF(M58="B",L58*0.5*0.75,IF(M58="C",L58*0.5*0.75*0.75,0))) -> 1711500 | O58: =IF(M58="A",1050000,IF(M58="B",735000,IF(M58="C",514500,0))) -> 1050000 | P58: 21 | Q58: 24 | R58: =IF(N58>O58,N58,O58) -> 1711500 | S58: =IF(Q58>=P58,R58,R58/P58*Q58) -> 1711500 | U58: =T58*$H$7*0.5 -> 0 | W58: =V58*$H$7*0.5 -> 0 | X58: =(K58*0.01*$H$7)+(T58*1%*$H$7)+(V58*1%*$H$7) -> 34230 | Y58: =(S58+U58+W58+X58) -> 1745730 | Z58: =A58 -> 48
A59: 49 | B59: Hà Nhật | C59: THANH | E59: 711A23232639 | F59: 1603205179150 | G59: 4.58 | I59: =G59+(G59*H59) -> 4.58 | J59: 0 | K59: =I59+J59 -> 4.58 | L59: =K59*$H$7 -> 4809000 | M59: A | N59: =IF(M59="A",L59*0.5,IF(M59="B",L59*0.5*0.75,IF(M59="C",L59*0.5*0.75*0.75,0))) -> 2404500 | O59: =IF(M59="A",1050000,IF(M59="B",735000,IF(M59="C",514500,0))) -> 1050000 | P59: 21 | Q59: 20 | R59: =IF(N59>O59,N59,O59) -> 2404500 | S59: =IF(Q59>=P59,R59,R59/P59*Q59) -> 2290000 | U59: =T59*$H$7*0.5 -> 0 | W59: =V59*$H$7*0.5 -> 0 | X59: =(K59*0.01*$H$7)+(T59*1%*$H$7)+(V59*1%*$H$7) -> 48090 | Y59: =(S59+U59+W59+X59) -> 2338090 | Z59: =A59 -> 49 | AA59: Trừ 2N nghỉ chế độ tang, cộng 1 ngày làm thứ 7 | AB59: x
A60: 50 | B60: Nguyễn Ngọc | C60: HIỆP | E60: 711A23232642 | F60: 1603205179173 | G60: 3.99 | I60: =G60+(G60*H60) -> 3.99 | J60: 0.35 | K60: =I60+J60 -> 4.34 | L60: =K60*$H$7 -> 4557000 | M60: A | N60: =IF(M60="A",L60*0.5,IF(M60="B",L60*0.5*0.75,IF(M60="C",L60*0.5*0.75*0.75,0))) -> 2278500 | O60: =IF(M60="A",1050000,IF(M60="B",735000,IF(M60="C",514500,0))) -> 1050000 | P60: 21 | Q60: 24 | R60: =IF(N60>O60,N60,O60) -> 2278500 | S60: =IF(Q60>=P60,R60,R60/P60*Q60) -> 2278500 | U60: =T60*$H$7*0.5 -> 0 | W60: =V60*$H$7*0.5 -> 0 | X60: =(K60*0.01*$H$7)+(T60*1%*$H$7)+(V60*1%*$H$7) -> 45570 | Y60: =(S60+U60+W60+X60) -> 2324070 | Z60: =A60 -> 50
A61: 51 | B61: Phan Đức | C61: LONG | E61: 711A23232654 | F61: 1603205179180 | G61: 3.66 | I61: =G61+(G61*H61) -> 3.66 | J61: 0 | K61: =I61+J61 -> 3.66 | L61: =K61*$H$7 -> 3843000 | M61: A | N61: =IF(M61="A",L61*0.5,IF(M61="B",L61*0.5*0.75,IF(M61="C",L61*0.5*0.75*0.75,0))) -> 1921500 | O61: =IF(M61="A",1050000,IF(M61="B",735000,IF(M61="C",514500,0))) -> 1050000 | P61: 21 | Q61: 22 | R61: =IF(N61>O61,N61,O61) -> 1921500 | S61: =IF(Q61>=P61,R61,R61/P61*Q61) -> 1921500 | U61: =T61*$H$7*0.5 -> 0 | W61: =V61*$H$7*0.5 -> 0 | X61: =(K61*0.01*$H$7)+(T61*1%*$H$7)+(V61*1%*$H$7) -> 38430 | Y61: =(S61+U61+W61+X61) -> 1959930 | Z61: =A61 -> 51
A62: 52 | B62: Lê Thị | C62: NỮ | E62: 711A12472547 | F62: 1603205179196 | G62: 1.89 | I62: =G62+(G62*H62) -> 1.89 | J62: 0 | K62: =I62+J62 -> 1.89 | L62: =K62*$H$7 -> 1984500 | M62: A | N62: =IF(M62="A",L62*0.5,IF(M62="B",L62*0.5*0.75,IF(M62="C",L62*0.5*0.75*0.75,0))) -> 992250 | O62: =IF(M62="A",1050000,IF(M62="B",735000,IF(M62="C",514500,0))) -> 1050000 | P62: 21 | Q62: 21 | R62: =IF(N62>O62,N62,O62) -> 1050000 | S62: =IF(Q62>=P62,R62,R62/P62*Q62) -> 1050000 | U62: =T62*$H$7*0.5 -> 0 | W62: =V62*$H$7*0.5 -> 0 | X62: =(K62*0.01*$H$7)+(T62*1%*$H$7)+(V62*1%*$H$7) -> 19845 | Y62: =(S62+U62+W62+X62) -> 1069845 | Z62: =A62 -> 52
A63: 53 | B63: Nguyễn Thùy | C63: DƯƠNG | E63: 711A74605287 | F63: 1603205356140 | G63: 3 | I63: =G63+(G63*H63) -> 3 | J63: 0 | K63: =I63+J63 -> 3 | L63: =K63*$H$7 -> 3150000 | M63: A | N63: =IF(M63="A",L63*0.5,IF(M63="B",L63*0.5*0.75,IF(M63="C",L63*0.5*0.75*0.75,0))) -> 1575000 | O63: =IF(M63="A",1050000,IF(M63="B",735000,IF(M63="C",514500,0))) -> 1050000 | P63: 21 | Q63: 21 | R63: =IF(N63>O63,N63,O63) -> 1575000 | S63: =IF(Q63>=P63,R63,R63/P63*Q63) -> 1575000 | U63: =T63*$H$7*0.5 -> 0 | W63: =V63*$H$7*0.5 -> 0 | X63: =(K63*0.01*$H$7)+(T63*1%*$H$7)+(V63*1%*$H$7) -> 31500 | Y63: =(S63+U63+W63+X63) -> 1606500 | Z63: =A63 -> 53
A64: 54 | B64: Đỗ Tuấn | C64: VIỆT | D64: B.TRÌ | E64: 711A23233504 | F64: 1603205185305 | G64: 2.67 | I64: =G64+(G64*H64) -> 2.67 | J64: 0.45 | K64: =I64+J64 -> 3.12 | L64: =K64*$H$7 -> 3276000 | M64: A | N64: =IF(M64="A",L64*0.5,IF(M64="B",L64*0.5*0.75,IF(M64="C",L64*0.5*0.75*0.75,0))) -> 1638000 | O64: =IF(M64="A",1050000,IF(M64="B",735000,IF(M64="C",514500,0))) -> 1050000 | P64: 21 | Q64: 26 | R64: =IF(N64>O64,N64,O64) -> 1638000 | S64: =IF(Q64>=P64,R64,R64/P64*Q64) -> 1638000 | U64: =T64*$H$7*0.5 -> 0 | W64: =V64*$H$7*0.5 -> 0 | X64: =(K64*0.01*$H$7)+(T64*1%*$H$7)+(V64*1%*$H$7) -> 32760 | Y64: =(S64+U64+W64+X64) -> 1670760 | Z64: =A64 -> 54 | AA64: Đi học SĐH 2N
A65: 55 | B65: Nguyễn Cao | C65: PHONG | E65: 711A23233471 | F65: 1603205185203 | G65: 2.67 | I65: =G65+(G65*H65) -> 2.67 | J65: 0.35 | K65: =I65+J65 -> 3.02 | L65: =K65*$H$7 -> 3171000 | M65: A | N65: =IF(M65="A",L65*0.5,IF(M65="B",L65*0.5*0.75,IF(M65="C",L65*0.5*0.75*0.75,0))) -> 1585500 | O65: =IF(M65="A",1050000,IF(M65="B",735000,IF(M65="C",514500,0))) -> 1050000 | P65: 21 | Q65: 26 | R65: =IF(N65>O65,N65,O65) -> 1585500 | S65: =IF(Q65>=P65,R65,R65/P65*Q65) -> 1585500 | U65: =T65*$H$7*0.5 -> 0 | W65: =V65*$H$7*0.5 -> 0 | X65: =(K65*0.01*$H$7)+(T65*1%*$H$7)+(V65*1%*$H$7) -> 31710 | Y65: =(S65+U65+W65+X65) -> 1617210 | Z65: =A65 -> 55 | AA65: Đi học SĐH 5N
A66: 56 | B66: Nguyễn Hữu | C66: THIỆN | E66: 711A23233594 | F66: 1603205185147 | G66: 2.34 | I66: =G66+(G66*H66) -> 2.34 | J66: 0.25 | K66: =I66+J66 -> 2.59 | L66: =K66*$H$7 -> 2719500 | M66: A | N66: =IF(M66="A",L66*0.5,IF(M66="B",L66*0.5*0.75,IF(M66="C",L66*0.5*0.75*0.75,0))) -> 1359750 | O66: =IF(M66="A",1050000,IF(M66="B",735000,IF(M66="C",514500,0))) -> 1050000 | P66: 21 | Q66: 26 | R66: =IF(N66>O66,N66,O66) -> 1359750 | S66: =IF(Q66>=P66,R66,R66/P66*Q66) -> 1359750 | U66: =T66*$H$7*0.5 -> 0 | W66: =V66*$H$7*0.5 -> 0 | X66: =(K66*0.01*$H$7)+(T66*1%*$H$7)+(V66*1%*$H$7) -> 27195 | Y66: =(S66+U66+W66+X66) -> 1386945 | Z66: =A66 -> 56
A67: 57 | B67: Dương Đức | C67: THỊNH | E67: 711A23233607 | F67: 1603205245942 | G67: 2.26 | I67: =G67+(G67*H67) -> 2.26 | J67: 0.25 | K67: =I67+J67 -> 2.51 | L67: =K67*$H$7 -> 2635500 | M67: A | N67: =IF(M67="A",L67*0.5,IF(M67="B",L67*0.5*0.75,IF(M67="C",L67*0.5*0.75*0.75,0))) -> 1317750 | O67: =IF(M67="A",1050000,IF(M67="B",735000,IF(M67="C",514500,0))) -> 1050000 | P67: 21 | Q67: 26 | R67: =IF(N67>O67,N67,O67) -> 1317750 | S67: =IF(Q67>=P67,R67,R67/P67*Q67) -> 1317750 | U67: =T67*$H$7*0.5 -> 0 | W67: =V67*$H$7*0.5 -> 0 | X67: =(K67*0.01*$H$7)+(T67*1%*$H$7)+(V67*1%*$H$7) -> 26355 | Y67: =(S67+U67+W67+X67) -> 1344105 | Z67: =A67 -> 57
A68: 58 | B68: Ninh Đỗ | C68: HIỆP | E68: 711A03770195 | F68: 1603205245965 | G68: 2.34 | I68: =G68+(G68*H68) -> 2.34 | K68: =I68+J68 -> 2.34 | L68: =K68*$H$7 -> 2457000 | M68: A | N68: =IF(M68="A",L68*0.5,IF(M68="B",L68*0.5*0.75,IF(M68="C",L68*0.5*0.75*0.75,0))) -> 1228500 | O68: =IF(M68="A",1050000,IF(M68="B",735000,IF(M68="C",514500,0))) -> 1050000 | P68: 21 | Q68: 26 | R68: =IF(N68>O68,N68,O68) -> 1228500 | S68: =IF(Q68>=P68,R68,R68/P68*Q68) -> 1228500 | U68: =T68*$H$7*0.5 -> 0 | W68: =V68*$H$7*0.5 -> 0 | X68: =(K68*0.01*$H$7)+(T68*1%*$H$7)+(V68*1%*$H$7) -> 24570 | Y68: =(S68+U68+W68+X68) -> 1253070 | Z68: =A68 -> 58
A69: 59 | B69: Lương Xuân | C69: ĐÔNG | E69: 711A23233737 | F69: 1603205251380 | G69: 2.06 | I69: =G69+(G69*H69) -> 2.06 | J69: 0.25 | K69: =I69+J69 -> 2.31 | L69: =K69*$H$7 -> 2425500 | M69: A | N69: =IF(M69="A",L69*0.5,IF(M69="B",L69*0.5*0.75,IF(M69="C",L69*0.5*0.75*0.75,0))) -> 1212750 | O69: =IF(M69="A",1050000,IF(M69="B",735000,IF(M69="C",514500,0))) -> 1050000 | P69: 21 | Q69: 26 | R69: =IF(N69>O69,N69,O69) -> 1212750 | S69: =IF(Q69>=P69,R69,R69/P69*Q69) -> 1212750 | U69: =T69*$H$7*0.5 -> 0 | W69: =V69*$H$7*0.5 -> 0 | X69: =(K69*0.01*$H$7)+(T69*1%*$H$7)+(V69*1%*$H$7) -> 24255 | Y69: =(S69+U69+W69+X69) -> 1237005 | Z69: =A69 -> 59 | AB69: x
A70: 60 | B70: Trần Thị Ánh | C70: PHƯỢNG | E70: 711A23233622 | F70: 1603205246134 | G70: 2.06 | I70: =G70+(G70*H70) -> 2.06 | K70: =I70+J70 -> 2.06 | L70: =K70*$H$7 -> 2163000 | M70: A | N70: =IF(M70="A",L70*0.5,IF(M70="B",L70*0.5*0.75,IF(M70="C",L70*0.5*0.75*0.75,0))) -> 1081500 | O70: =IF(M70="A",1050000,IF(M70="B",735000,IF(M70="C",514500,0))) -> 1050000 | P70: 21 | Q70: 26 | R70: =IF(N70>O70,N70,O70) -> 1081500 | S70: =IF(Q70>=P70,R70,R70/P70*Q70) -> 1081500 | U70: =T70*$H$7*0.5 -> 0 | W70: =V70*$H$7*0.5 -> 0 | X70: =(K70*0.01*$H$7)+(T70*1%*$H$7)+(V70*1%*$H$7) -> 21630 | Y70: =(S70+U70+W70+X70) -> 1103130 | Z70: =A70 -> 60
A71: 61 | B71: Hà Phước | C71: TUẤN | D71: K.ĐỊNH | E71: 711A23232769 | F71: 1603205189630 | G71: 4.98 | H71: 0.07 | I71: =G71+(G71*H71) -> 5.3286 | J71: 0.45 | K71: =I71+J71 -> 5.7786 | L71: =K71*$H$7 -> 6067530 | M71: A | N71: =IF(M71="A",L71*0.5,IF(M71="B",L71*0.5*0.75,IF(M71="C",L71*0.5*0.75*0.75,0))) -> 3033765 | O71: =IF(M71="A",1050000,IF(M71="B",735000,IF(M71="C",514500,0))) -> 1050000 | P71: 21 | Q71: 26 | R71: =IF(N71>O71,N71,O71) -> 3033765 | S71: =IF(Q71>=P71,R71,R71/P71*Q71) -> 3033765 | U71: =T71*$H$7*0.5 -> 0 | W71: =V71*$H$7*0.5 -> 0 | X71: =(K71*0.01*$H$7)+(T71*1%*$H$7)+(V71*1%*$H$7) -> 60675.3 | Y71: =(S71+U71+W71+X71) -> 3094440.3 | Z71: =A71 -> 61
A72: 62 | B72: Đàm Quang | C72: HIỆP | E72: 711A23232784 | F72: 1603205178742 | G72: 3.66 | I72: =G72+(G72*H72) -> 3.66 | K72: =I72+J72 -> 3.66 | L72: =K72*$H$7 -> 3843000 | M72: A | N72: =IF(M72="A",L72*0.5,IF(M72="B",L72*0.5*0.75,IF(M72="C",L72*0.5*0.75*0.75,0))) -> 1921500 | O72: =IF(M72="A",1050000,IF(M72="B",735000,IF(M72="C",514500,0))) -> 1050000 | P72: 21 | Q72: 19 | R72: =IF(N72>O72,N72,O72) -> 1921500 | S72: =IF(Q72>=P72,R72,R72/P72*Q72) -> 1738500 | U72: =T72*$H$7*0.5 -> 0 | W72: =V72*$H$7*0.5 -> 0 | X72: =(K72*0.01*$H$7)+(T72*1%*$H$7)+(V72*1%*$H$7) -> 38430 | Y72: =(S72+U72+W72+X72) -> 1776930 | Z72: =A72 -> 62 | AA72: Trừ 3N nghỉ phép, cộng 1 ngày làm thứ 7
A73: 63 | B73: Võ Thị Thu | C73: THỦY | E73: 711A23235273 | F73: 1603205183300 | G73: 3 | I73: =G73+(G73*H73) -> 3 | K73: =I73+J73 -> 3 | L73: =K73*$H$7 -> 3150000 | M73: A | N73: =IF(M73="A",L73*0.5,IF(M73="B",L73*0.5*0.75,IF(M73="C",L73*0.5*0.75*0.75,0))) -> 1575000 | O73: =IF(M73="A",1050000,IF(M73="B",735000,IF(M73="C",514500,0))) -> 1050000 | P73: 21 | Q73: 22 | R73: =IF(N73>O73,N73,O73) -> 1575000 | S73: =IF(Q73>=P73,R73,R73/P73*Q73) -> 1575000 | U73: =T73*$H$7*0.5 -> 0 | W73: =V73*$H$7*0.5 -> 0 | X73: =(K73*0.01*$H$7)+(T73*1%*$H$7)+(V73*1%*$H$7) -> 31500 | Y73: =(S73+U73+W73+X73) -> 1606500 | Z73: =A73 -> 63
A74: 64 | B74: Nguyễn Thanh | C74: SƠN (A) | E74: 711A23233859 | F74: 1603205182205 | G74: 4.58 | I74: =G74+(G74*H74) -> 4.58 | J74: 0 | K74: =I74+J74 -> 4.58 | L74: =K74*$H$7 -> 4809000 | M74: A | N74: =IF(M74="A",L74*0.5,IF(M74="B",L74*0.5*0.75,IF(M74="C",L74*0.5*0.75*0.75,0))) -> 2404500 | O74: =IF(M74="A",1050000,IF(M74="B",735000,IF(M74="C",514500,0))) -> 1050000 | P74: 21 | Q74: 22 | R74: =IF(N74>O74,N74,O74) -> 2404500 | S74: =IF(Q74>=P74,R74,R74/P74*Q74) -> 2404500 | U74: =T74*$H$7*0.5 -> 0 | W74: =V74*$H$7*0.5 -> 0 | X74: =(K74*0.01*$H$7)+(T74*1%*$H$7)+(V74*1%*$H$7) -> 48090 | Y74: =(S74+U74+W74+X74) -> 2452590 | Z74: =A74 -> 64
A75: 65 | B75: Nguyễn Thanh | C75: SƠN (B) | E75: 711A09517054 | F75: 1603205303449 | G75: 4.98 | H75: 0.09 | I75: =G75+(G75*H75) -> 5.4282 | K75: =I75+J75 -> 5.4282 | L75: =K75*$H$7 -> 5699610 | M75: A | N75: =IF(M75="A",L75*0.5,IF(M75="B",L75*0.5*0.75,IF(M75="C",L75*0.5*0.75*0.75,0))) -> 2849805 | O75: =IF(M75="A",1050000,IF(M75="B",735000,IF(M75="C",514500,0))) -> 1050000 | P75: 21 | Q75: 22 | R75: =IF(N75>O75,N75,O75) -> 2849805 | S75: =IF(Q75>=P75,R75,R75/P75*Q75) -> 2849805 | U75: =T75*$H$7*0.5 -> 0 | W75: =V75*$H$7*0.5 -> 0 | X75: =(K75*0.01*$H$7)+(T75*1%*$H$7)+(V75*1%*$H$7) -> 56996.1 | Y75: =(S75+U75+W75+X75) -> 2906801.1 | Z75: =A75 -> 65
A76: 66 | B76: Lê Hồng | C76: VÂN | D76: GTVL | E76: 711A23234077 | F76: 1603205182388 | G76: 4.98 | H76: 0.06 | I76: =G76+(G76*H76) -> 5.2788 | J76: 0.45 | K76: =I76+J76 -> 5.7288 | L76: =K76*$H$7 -> 6015240 | M76: A | N76: =IF(M76="A",L76*0.5,IF(M76="B",L76*0.5*0.75,IF(M76="C",L76*0.5*0.75*0.75,0))) -> 3007620 | O76: =IF(M76="A",1050000,IF(M76="B",735000,IF(M76="C",514500,0))) -> 1050000 | P76: 21 | Q76: 26 | R76: =IF(N76>O76,N76,O76) -> 3007620 | S76: =IF(Q76>=P76,R76,R76/P76*Q76) -> 3007620 | U76: =T76*$H$7*0.5 -> 0 | W76: =V76*$H$7*0.5 -> 0 | X76: =(K76*0.01*$H$7)+(T76*1%*$H$7)+(V76*1%*$H$7) -> 60152.4 | Y76: =(S76+U76+W76+X76) -> 3067772.4 | Z76: =A76 -> 66 | AB76: x
A77: 67 | B77: Phạm Thị Lê | C77: CHI | E77: 711A23232673 | F77: 1603205250618 | G77: 2.34 | I77: =G77+(G77*H77) -> 2.34 | K77: =I77+J77 -> 2.34 | L77: =K77*$H$7 -> 2457000 | N77: =IF(M77="A",L77*0.5,IF(M77="B",L77*0.5*0.75,IF(M77="C",L77*0.5*0.75*0.75,0))) -> 0 | O77: =IF(M77="A",1050000,IF(M77="B",735000,IF(M77="C",514500,0))) -> 0 | P77: 21 | Q77: 0 | R77: =IF(N77>O77,N77,O77) -> 0 | S77: =IF(Q77>=P77,R77,R77/P77*Q77) -> 0 | U77: =T77*$H$7*0.5 -> 0 | W77: =V77*$H$7*0.5 -> 0 | X77: 0 | Y77: =(S77+U77+W77+X77) -> 0 | Z77: =A77 -> 67 | AA77: Nghỉ không hưởng lương từ ngày 01/3-31/3/2013
A78: 68 | B78: Trương Việt Khánh | C78: TRANG | D78: MAY | E78: 711A23232796 | F78: 1603205182523 | G78: 4.32 | I78: =G78+(G78*H78) -> 4.32 | J78: 0.45 | K78: =I78+J78 -> 4.77 | L78: =K78*$H$7 -> 5008500 | M78: A | N78: =IF(M78="A",L78*0.5,IF(M78="B",L78*0.5*0.75,IF(M78="C",L78*0.5*0.75*0.75,0))) -> 2504250 | O78: =IF(M78="A",1050000,IF(M78="B",735000,IF(M78="C",514500,0))) -> 1050000 | P78: 26 | Q78: 26 | R78: =IF(N78>O78,N78,O78) -> 2504250 | S78: =IF(Q78>=P78,R78,R78/P78*Q78) -> 2504250 | U78: =T78*$H$7*0.5 -> 0 | W78: =V78*$H$7*0.5 -> 0 | X78: =(K78*0.01*$H$7)+(T78*1%*$H$7)+(V78*1%*$H$7) -> 50085 | Y78: =(S78+U78+W78+X78) -> 2554335 | Z78: =A78 -> 68
A79: 69 | B79: Lâm Thị Phương | C79: THÙY | E79: 711A23232824 | F79: 1603205246577 | G79: 2.34 | I79: =G79+(G79*H79) -> 2.34 | K79: =I79+J79 -> 2.34 | L79: =K79*$H$7 -> 2457000 | M79: A | N79: =IF(M79="A",L79*0.5,IF(M79="B",L79*0.5*0.75,IF(M79="C",L79*0.5*0.75*0.75,0))) -> 1228500 | O79: =IF(M79="A",1050000,IF(M79="B",735000,IF(M79="C",514500,0))) -> 1050000 | P79: 26 | Q79: 26 | R79: =IF(N79>O79,N79,O79) -> 1228500 | S79: =IF(Q79>=P79,R79,R79/P79*Q79) -> 1228500 | U79: =T79*$H$7*0.5 -> 0 | W79: =V79*$H$7*0.5 -> 0 | X79: =(K79*0.01*$H$7)+(T79*1%*$H$7)+(V79*1%*$H$7) -> 24570 | Y79: =(S79+U79+W79+X79) -> 1253070 | Z79: =A79 -> 69
A80: 70 | B80: Nguyễn Bạch Cẩm | C80: DUNG | E80: 711A23232809 | F80: 1603205246560 | G80: 2.34 | I80: =G80+(G80*H80) -> 2.34 | J80: 0.35 | K80: =I80+J80 -> 2.69 | L80: =K80*$H$7 -> 2824500 | M80: A | N80: =IF(M80="A",L80*0.5,IF(M80="B",L80*0.5*0.75,IF(M80="C",L80*0.5*0.75*0.75,0))) -> 1412250 | O80: =IF(M80="A",1050000,IF(M80="B",735000,IF(M80="C",514500,0))) -> 1050000 | P80: 26 | Q80: 26 | R80: =IF(N80>O80,N80,O80) -> 1412250 | S80: =IF(Q80>=P80,R80,R80/P80*Q80) -> 1412250 | U80: =T80*$H$7*0.5 -> 0 | W80: =V80*$H$7*0.5 -> 0 | X80: =(K80*0.01*$H$7)+(T80*1%*$H$7)+(V80*1%*$H$7) -> 28245 | Y80: =(S80+U80+W80+X80) -> 1440495 | Z80: =A80 -> 70
A81: 71 | B81: Nguyễn Ngọc | C81: THỌ | E81: 711A23234183 | F81: 1603205246373 | G81: =2.34*85% -> 1.989 | I81: =G81+(G81*H81) -> 1.989 | K81: =I81+J81 -> 1.989 | L81: =K81*$H$7 -> 2088450 | M81: A | N81: =IF(M81="A",L81*0.5,IF(M81="B",L81*0.5*0.75,IF(M81="C",L81*0.5*0.75*0.75,0))) -> 1044225 | O81: =IF(M81="A",1050000,IF(M81="B",735000,IF(M81="C",514500,0))) -> 1050000 | P81: 26 | Q81: 26 | R81: =IF(N81>O81,N81,O81) -> 1050000 | S81: =IF(Q81>=P81,R81,R81/P81*Q81) -> 1050000 | U81: =T81*$H$7*0.5 -> 0 | W81: =V81*$H$7*0.5 -> 0 | X81: =(K81*0.01*$H$7)+(T81*1%*$H$7)+(V81*1%*$H$7) -> 20884.5 | Y81: =(S81+U81+W81+X81) -> 1070884.5 | Z81: =A81 -> 71
A82: 72 | B82: Nguyễn Thị | C82: HIỀN | E82: 711A35869975 | F82: 1603205353742 | G82: =2.34*85% -> 1.989 | I82: =G82+(G82*H82) -> 1.989 | K82: =I82+J82 -> 1.989 | L82: =K82*$H$7 -> 2088450 | M82: A | N82: =IF(M82="A",L82*0.5,IF(M82="B",L82*0.5*0.75,IF(M82="C",L82*0.5*0.75*0.75,0))) -> 1044225 | O82: =IF(M82="A",1050000,IF(M82="B",735000,IF(M82="C",514500,0))) -> 1050000 | P82: 26 | Q82: 26 | R82: =IF(N82>O82,N82,O82) -> 1050000 | S82: =IF(Q82>=P82,R82,R82/P82*Q82) -> 1050000 | U82: =T82*$H$7*0.5 -> 0 | W82: =V82*$H$7*0.5 -> 0 | X82: =(K82*0.01*$H$7)+(T82*1%*$H$7)+(V82*1%*$H$7) -> 20884.5 | Y82: =(S82+U82+W82+X82) -> 1070884.5 | Z82: =A82 -> 72
A83: 73 | B83: Bùi Thị Ngọc | C83: SƯƠNG | E83: 711A75479276 | F83: 1603205357136 | G83: =2.34*85% -> 1.989 | I83: =G83+(G83*H83) -> 1.989 | K83: =I83+J83 -> 1.989 | L83: =K83*$H$7 -> 2088450 | M83: A | N83: =IF(M83="A",L83*0.5,IF(M83="B",L83*0.5*0.75,IF(M83="C",L83*0.5*0.75*0.75,0))) -> 1044225 | O83: =IF(M83="A",1050000,IF(M83="B",735000,IF(M83="C",514500,0))) -> 1050000 | P83: 26 | Q83: 26 | R83: =IF(N83>O83,N83,O83) -> 1050000 | S83: =IF(Q83>=P83,R83,R83/P83*Q83) -> 1050000 | U83: =T83*$H$7*0.5 -> 0 | W83: =V83*$H$7*0.5 -> 0 | X83: =(K83*0.01*$H$7)+(T83*1%*$H$7)+(V83*1%*$H$7) -> 20884.5 | Y83: =(S83+U83+W83+X83) -> 1070884.5 | Z83: =A83 -> 73
A84: 74 | B84: Võ Minh | C84: QUANG | E84: 711A23233862 | F84: 1603205182228 | G84: 4.58 | I84: =G84+(G84*H84) -> 4.58 | J84: 0.45 | K84: =I84+J84 -> 5.03 | L84: =K84*$H$7 -> 5281500 | M84: A | N84: =IF(M84="A",L84*0.5,IF(M84="B",L84*0.5*0.75,IF(M84="C",L84*0.5*0.75*0.75,0))) -> 2640750 | O84: =IF(M84="A",1050000,IF(M84="B",735000,IF(M84="C",514500,0))) -> 1050000 | P84: 21 | Q84: 25 | R84: =IF(N84>O84,N84,O84) -> 2640750 | S84: =IF(Q84>=P84,R84,R84/P84*Q84) -> 2640750 | U84: =T84*$H$7*0.5 -> 0 | W84: =V84*$H$7*0.5 -> 0 | X84: =(K84*0.01*$H$7)+(T84*1%*$H$7)+(V84*1%*$H$7) -> 52815 | Y84: =(S84+U84+W84+X84) -> 2693565 | Z84: =A84 -> 74
A85: 75 | B85: Nguyễn Văn | C85: THÀNH | E85: 711A23234014 | F85: 1603205182190 | G85: 3.99 | I85: =G85+(G85*H85) -> 3.99 | J85: 0 | K85: =I85+J85 -> 3.99 | L85: =K85*$H$7 -> 4189500 | M85: A | N85: =IF(M85="A",L85*0.5,IF(M85="B",L85*0.5*0.75,IF(M85="C",L85*0.5*0.75*0.75,0))) -> 2094750 | O85: =IF(M85="A",1050000,IF(M85="B",735000,IF(M85="C",514500,0))) -> 1050000 | P85: 21 | Q85: 25 | R85: =IF(N85>O85,N85,O85) -> 2094750 | S85: =IF(Q85>=P85,R85,R85/P85*Q85) -> 2094750 | U85: =T85*$H$7*0.5 -> 0 | W85: =V85*$H$7*0.5 -> 0 | X85: =(K85*0.01*$H$7)+(T85*1%*$H$7)+(V85*1%*$H$7) -> 41895 | Y85: =(S85+U85+W85+X85) -> 2136645 | Z85: =A85 -> 75
A86: 76 | B86: Giáp Đức | C86: NHẬN | E86: 711A23231978 | F86: 1603205186077 | G86: 1.86 | I86: =G86+(G86*H86) -> 1.86 | J86: 0 | K86: =I86+J86 -> 1.86 | L86: =K86*$H$7 -> 1953000 | M86: A | N86: =IF(M86="A",L86*0.5,IF(M86="B",L86*0.5*0.75,IF(M86="C",L86*0.5*0.75*0.75,0))) -> 976500 | O86: =IF(M86="A",1050000,IF(M86="B",735000,IF(M86="C",514500,0))) -> 1050000 | P86: 21 | Q86: 25 | R86: =IF(N86>O86,N86,O86) -> 1050000 | S86: =IF(Q86>=P86,R86,R86/P86*Q86) -> 1050000 | U86: =T86*$H$7*0.5 -> 0 | W86: =V86*$H$7*0.5 -> 0 | X86: =(K86*0.01*$H$7)+(T86*1%*$H$7)+(V86*1%*$H$7) -> 19530 | Y86: =(S86+U86+W86+X86) -> 1069530 | Z86: =A86 -> 76
A87: 77 | B87: Đỗ Ngọc | C87: MỸ | D87: KHCB | E87: 711A23232836 | F87: 1603205186308 | G87: 6.38 | H87: 0.06 | I87: =G87+(G87*H87) -> 6.7628 | J87: 0.45 | K87: =I87+J87 -> 7.2128 | L87: =K87*$H$7 -> 7573440 | M87: A | N87: =IF(M87="A",L87*0.5,IF(M87="B",L87*0.5*0.75,IF(M87="C",L87*0.5*0.75*0.75,0))) -> 3786720 | O87: =IF(M87="A",1050000,IF(M87="B",735000,IF(M87="C",514500,0))) -> 1050000 | P87: 26 | Q87: 26 | R87: =IF(N87>O87,N87,O87) -> 3786720 | S87: =IF(Q87>=P87,R87,R87/P87*Q87) -> 3786720 | U87: =T87*$H$7*0.5 -> 0 | W87: =V87*$H$7*0.5 -> 0 | X87: =(K87*0.01*$H$7)+(T87*1%*$H$7)+(V87*1%*$H$7) -> 75734.4 | Y87: =(S87+U87+W87+X87) -> 3862454.4 | Z87: =A87 -> 77 | AB87: 1
A88: 78 | B88: Trần Kim Thu | C88: LIỄU | D88: hóa-sinh | E88: 711A23233046 | F88: 1603205186337 | G88: 5.36 | I88: =G88+(G88*H88) -> 5.36 | J88: 0.35 | K88: =I88+J88 -> 5.71 | L88: =K88*$H$7 -> 5995500 | M88: A | N88: =IF(M88="A",L88*0.5,IF(M88="B",L88*0.5*0.75,IF(M88="C",L88*0.5*0.75*0.75,0))) -> 2997750 | O88: =IF(M88="A",1050000,IF(M88="B",735000,IF(M88="C",514500,0))) -> 1050000 | P88: 26 | Q88: 26 | R88: =IF(N88>O88,N88,O88) -> 2997750 | S88: =IF(Q88>=P88,R88,R88/P88*Q88) -> 2997750 | U88: =T88*$H$7*0.5 -> 0 | W88: =V88*$H$7*0.5 -> 0 | X88: =(K88*0.01*$H$7)+(T88*1%*$H$7)+(V88*1%*$H$7) -> 59955 | Y88: =(S88+U88+W88+X88) -> 3057705 | Z88: =A88 -> 78 | AB88: 2
A89: 79 | B89: Nguyễn Phương | C89: HÀ | E89: 711A23233073 | F89: 1603205186350 | G89: 3 | I89: =G89+(G89*H89) -> 3 | J89: 0 | K89: =I89+J89 -> 3 | L89: =K89*$H$7 -> 3150000 | M89: A | N89: =IF(M89="A",L89*0.5,IF(M89="B",L89*0.5*0.75,IF(M89="C",L89*0.5*0.75*0.75,0))) -> 1575000 | O89: =IF(M89="A",1050000,IF(M89="B",735000,IF(M89="C",514500,0))) -> 1050000 | P89: 26 | Q89: 26 | R89: =IF(N89>O89,N89,O89) -> 1575000 | S89: =IF(Q89>=P89,R89,R89/P89*Q89) -> 1575000 | U89: =T89*$H$7*0.5 -> 0 | W89: =V89*$H$7*0.5 -> 0 | X89: =(K89*0.01*$H$7)+(T89*1%*$H$7)+(V89*1%*$H$7) -> 31500 | Y89: =(S89+U89+W89+X89) -> 1606500 | Z89: =A89 -> 79 | AB89: 3
A90: 80 | B90: Nguyễn Thị Huyền | C90: NGA | E90: 711A23233152 | F90: 1603205189784 | G90: 3.99 | I90: =G90+(G90*H90) -> 3.99 | J90: 0.25 | K90: =I90+J90 -> 4.24 | L90: =K90*$H$7 -> 4452000 | M90: A | N90: =IF(M90="A",L90*0.5,IF(M90="B",L90*0.5*0.75,IF(M90="C",L90*0.5*0.75*0.75,0))) -> 2226000 | O90: =IF(M90="A",1050000,IF(M90="B",735000,IF(M90="C",514500,0))) -> 1050000 | P90: 26 | Q90: 26 | R90: =IF(N90>O90,N90,O90) -> 2226000 | S90: =IF(Q90>=P90,R90,R90/P90*Q90) -> 2226000 | U90: =T90*$H$7*0.5 -> 0 | W90: =V90*$H$7*0.5 -> 0 | X90: =(K90*0.01*$H$7)+(T90*1%*$H$7)+(V90*1%*$H$7) -> 44520 | Y90: =(S90+U90+W90+X90) -> 2270520 | Z90: =A90 -> 80 | AB90: 4
A91: 81 | B91: Nguyễn Huỳnh Mai | C91: HẠNH | E91: 711A06383464 | F91: 1603205235144 | G91: 3 | I91: =G91+(G91*H91) -> 3 | K91: =I91+J91 -> 3 | L91: =K91*$H$7 -> 3150000 | M91: A | N91: =IF(M91="A",L91*0.5,IF(M91="B",L91*0.5*0.75,IF(M91="C",L91*0.5*0.75*0.75,0))) -> 1575000 | O91: =IF(M91="A",1050000,IF(M91="B",735000,IF(M91="C",514500,0))) -> 1050000 | P91: 26 | Q91: 26 | R91: =IF(N91>O91,N91,O91) -> 1575000 | S91: =IF(Q91>=P91,R91,R91/P91*Q91) -> 1575000 | U91: =T91*$H$7*0.5 -> 0 | W91: =V91*$H$7*0.5 -> 0 | X91: =(K91*0.01*$H$7)+(T91*1%*$H$7)+(V91*1%*$H$7) -> 31500 | Y91: =(S91+U91+W91+X91) -> 1606500 | Z91: =A91 -> 81 | AB91: 5
A92: 82 | B92: Trịnh Khắc | C92: VŨ | E92: 711A23233341 | F92: 1603205246662 | G92: =2.67 -> 2.67 | I92: =G92+(G92*H92) -> 2.67 | K92: =I92+J92 -> 2.67 | L92: =K92*$H$7 -> 2803500 | M92: A | N92: =IF(M92="A",L92*0.5,IF(M92="B",L92*0.5*0.75,IF(M92="C",L92*0.5*0.75*0.75,0))) -> 1401750 | O92: =IF(M92="A",1050000,IF(M92="B",735000,IF(M92="C",514500,0))) -> 1050000 | P92: 26 | Q92: 26 | R92: =IF(N92>O92,N92,O92) -> 1401750 | S92: =IF(Q92>=P92,R92,R92/P92*Q92) -> 1401750 | U92: =T92*$H$7*0.5 -> 0 | W92: =V92*$H$7*0.5 -> 0 | X92: =(K92*0.01*$H$7)+(T92*1%*$H$7)+(V92*1%*$H$7) -> 28035 | Y92: =(S92+U92+W92+X92) -> 1429785 | Z92: =A92 -> 82 | AB92: 6
A93: 83 | B93: Nguyễn Quỳnh | C93: GIAO | D93: lý | E93: 711A23233003 | F93: 1603205186416 | G93: 5.42 | I93: =G93+(G93*H93) -> 5.42 | J93: 0.25 | K93: =I93+J93 -> 5.67 | L93: =K93*$H$7 -> 5953500 | M93: A | N93: =IF(M93="A",L93*0.5,IF(M93="B",L93*0.5*0.75,IF(M93="C",L93*0.5*0.75*0.75,0))) -> 2976750 | O93: =IF(M93="A",1050000,IF(M93="B",735000,IF(M93="C",514500,0))) -> 1050000 | P93: 26 | Q93: 26 | R93: =IF(N93>O93,N93,O93) -> 2976750 | S93: =IF(Q93>=P93,R93,R93/P93*Q93) -> 2976750 | U93: =T93*$H$7*0.5 -> 0 | W93: =V93*$H$7*0.5 -> 0 | X93: =(K93*0.01*$H$7)+(T93*1%*$H$7)+(V93*1%*$H$7) -> 59535 | Y93: =(S93+U93+W93+X93) -> 3036285 | Z93: =A93 -> 83 | AB93: 7
A94: 84 | B94: Nguyễn Văn | C94: ĐÔNG | E94: 711A23232903 | F94: 1603205189886 | G94: 3.33 | I94: =G94+(G94*H94) -> 3.33 | J94: 0 | K94: =I94+J94 -> 3.33 | L94: =K94*$H$7 -> 3496500 | M94: B | N94: =IF(M94="A",L94*0.5,IF(M94="B",L94*0.5*0.75,IF(M94="C",L94*0.5*0.75*0.75,0))) -> 1311187.5 | O94: =IF(M94="A",1050000,IF(M94="B",735000,IF(M94="C",514500,0))) -> 735000 | P94: 26 | Q94: 26 | R94: =IF(N94>O94,N94,O94) -> 1311187.5 | S94: =IF(Q94>=P94,R94,R94/P94*Q94) -> 1311187.5 | U94: =T94*$H$7*0.5 -> 0 | W94: =V94*$H$7*0.5 -> 0 | X94: =(K94*0.01*$H$7)+(T94*1%*$H$7)+(V94*1%*$H$7) -> 34965 | Y94: =(S94+U94+W94+X94) -> 1346152.5 | Z94: =A94 -> 84 | AA94: Lên lớp trễ | AB94: 8
A95: 85 | B95: Đặng Thị Kiến | C95: TRÚC | E95: 711A23233085 | F95: 1603205186501 | G95: 3 | I95: =G95+(G95*H95) -> 3 | J95: 0 | K95: =I95+J95 -> 3 | L95: =K95*$H$7 -> 3150000 | M95: A | N95: =IF(M95="A",L95*0.5,IF(M95="B",L95*0.5*0.75,IF(M95="C",L95*0.5*0.75*0.75,0))) -> 1575000 | O95: =IF(M95="A",1050000,IF(M95="B",735000,IF(M95="C",514500,0))) -> 1050000 | P95: 26 | Q95: 26 | R95: =IF(N95>O95,N95,O95) -> 1575000 | S95: =IF(Q95>=P95,R95,R95/P95*Q95) -> 1575000 | U95: =T95*$H$7*0.5 -> 0 | W95: =V95*$H$7*0.5 -> 0 | X95: =(K95*0.01*$H$7)+(T95*1%*$H$7)+(V95*1%*$H$7) -> 31500 | Y95: =(S95+U95+W95+X95) -> 1606500 | Z95: =A95 -> 85 | AB95: 9
A96: 86 | B96: Cao Đình Trung | C96: HẬU | E96: 711A23233164 | F96: 1603205189790 | G96: 4.74 | I96: =G96+(G96*H96) -> 4.74 | J96: 0 | K96: =I96+J96 -> 4.74 | L96: =K96*$H$7 -> 4977000 | M96: A | N96: =IF(M96="A",L96*0.5,IF(M96="B",L96*0.5*0.75,IF(M96="C",L96*0.5*0.75*0.75,0))) -> 2488500 | O96: =IF(M96="A",1050000,IF(M96="B",735000,IF(M96="C",514500,0))) -> 1050000 | P96: 26 | Q96: 26 | R96: =IF(N96>O96,N96,O96) -> 2488500 | S96: =IF(Q96>=P96,R96,R96/P96*Q96) -> 2488500 | U96: =T96*$H$7*0.5 -> 0 | W96: =V96*$H$7*0.5 -> 0 | X96: =(K96*0.01*$H$7)+(T96*1%*$H$7)+(V96*1%*$H$7) -> 49770 | Y96: =(S96+U96+W96+X96) -> 2538270 | Z96: =A96 -> 86 | AB96: 10
A97: 87 | B97: Nguyễn Thanh | C97: TÚ | E97: 711A23233353 | F97: 1603205185580 | G97: 3.99 | I97: =G97+(G97*H97) -> 3.99 | J97: 0 | K97: =I97+J97 -> 3.99 | L97: =K97*$H$7 -> 4189500 | M97: A | N97: =IF(M97="A",L97*0.5,IF(M97="B",L97*0.5*0.75,IF(M97="C",L97*0.5*0.75*0.75,0))) -> 2094750 | O97: =IF(M97="A",1050000,IF(M97="B",735000,IF(M97="C",514500,0))) -> 1050000 | P97: 26 | Q97: 26 | R97: =IF(N97>O97,N97,O97) -> 2094750 | S97: =IF(Q97>=P97,R97,R97/P97*Q97) -> 2094750 | U97: =T97*$H$7*0.5 -> 0 | W97: =V97*$H$7*0.5 -> 0 | X97: =(K97*0.01*$H$7)+(T97*1%*$H$7)+(V97*1%*$H$7) -> 41895 | Y97: =(S97+U97+W97+X97) -> 2136645 | Z97: =A97 -> 87 | AB97: 11
A98: 88 | B98: Trần Thị Ánh | C98: TUYẾT | E98: 711A23233216 | F98: 1603205186632 | G98: 2.67 | I98: =G98+(G98*H98) -> 2.67 | K98: =I98+J98 -> 2.67 | L98: =K98*$H$7 -> 2803500 | M98: A | N98: =IF(M98="A",L98*0.5,IF(M98="B",L98*0.5*0.75,IF(M98="C",L98*0.5*0.75*0.75,0))) -> 1401750 | O98: =IF(M98="A",1050000,IF(M98="B",735000,IF(M98="C",514500,0))) -> 1050000 | P98: 26 | Q98: 26 | R98: =IF(N98>O98,N98,O98) -> 1401750 | S98: =IF(Q98>=P98,R98,R98/P98*Q98) -> 1401750 | U98: =T98*$H$7*0.5 -> 0 | W98: =V98*$H$7*0.5 -> 0 | X98: =(K98*0.01*$H$7)+(T98*1%*$H$7)+(V98*1%*$H$7) -> 28035 | Y98: =(S98+U98+W98+X98) -> 1429785 | Z98: =A98 -> 88 | AB98: 12
A99: 89 | B99: Nguyễn Tiến | C99: DƯƠNG | D99: toán | E99: 711A23232973 | F99: 1603205186400 | G99: 4.98 | H99: 0.11 | I99: =G99+(G99*H99) -> 5.5278 | J99: 0.35 | K99: =I99+J99 -> 5.8778 | L99: =K99*$H$7 -> 6171690 | M99: A | N99: =IF(M99="A",L99*0.5,IF(M99="B",L99*0.5*0.75,IF(M99="C",L99*0.5*0.75*0.75,0))) -> 3085845 | O99: =IF(M99="A",1050000,IF(M99="B",735000,IF(M99="C",514500,0))) -> 1050000 | P99: 26 | Q99: 26 | R99: =IF(N99>O99,N99,O99) -> 3085845 | S99: =IF(Q99>=P99,R99,R99/P99*Q99) -> 3085845 | U99: =T99*$H$7*0.5 -> 0 | W99: =V99*$H$7*0.5 -> 0 | X99: =(K99*0.01*$H$7)+(T99*1%*$H$7)+(V99*1%*$H$7) -> 61716.9 | Y99: =(S99+U99+W99+X99) -> 3147561.9 | Z99: =A99 -> 89 | AB99: 13
A100: 90 | B100: Phạm Thị Thu | C100: NGA | E100: 711A23232894 | F100: 1603205186372 | G100: 3.33 | I100: =G100+(G100*H100) -> 3.33 | J100: 0.25 | K100: =I100+J100 -> 3.58 | L100: =K100*$H$7 -> 3759000 | M100: A | N100: =IF(M100="A",L100*0.5,IF(M100="B",L100*0.5*0.75,IF(M100="C",L100*0.5*0.75*0.75,0))) -> 1879500 | O100: =IF(M100="A",1050000,IF(M100="B",735000,IF(M100="C",514500,0))) -> 1050000 | P100: 26 | Q100: 26 | R100: =IF(N100>O100,N100,O100) -> 1879500 | S100: =IF(Q100>=P100,R100,R100/P100*Q100) -> 1879500 | U100: =T100*$H$7*0.5 -> 0 | W100: =V100*$H$7*0.5 -> 0 | X100: =(K100*0.01*$H$7)+(T100*1%*$H$7)+(V100*1%*$H$7) -> 37590 | Y100: =(S100+U100+W100+X100) -> 1917090 | Z100: =A100 -> 90 | AB100: 14
A101: 91 | B101: Cao Thị | C101: NGA | E101: 711A23232954 | F101: 1603205186582 | G101: 3.99 | I101: =G101+(G101*H101) -> 3.99 | J101: 0 | K101: =I101+J101 -> 3.99 | L101: =K101*$H$7 -> 4189500 | M101: A | N101: =IF(M101="A",L101*0.5,IF(M101="B",L101*0.5*0.75,IF(M101="C",L101*0.5*0.75*0.75,0))) -> 2094750 | O101: =IF(M101="A",1050000,IF(M101="B",735000,IF(M101="C",514500,0))) -> 1050000 | P101: 26 | Q101: 26 | R101: =IF(N101>O101,N101,O101) -> 2094750 | S101: =IF(Q101>=P101,R101,R101/P101*Q101) -> 2094750 | U101: =T101*$H$7*0.5 -> 0 | W101: =V101*$H$7*0.5 -> 0 | X101: =(K101*0.01*$H$7)+(T101*1%*$H$7)+(V101*1%*$H$7) -> 41895 | Y101: =(S101+U101+W101+X101) -> 2136645 | Z101: =A101 -> 91 | AB101: 15
...

Sheet THPT mới
A1: ỦY BAN NHÂN DÂN TP.HCM | M1: CỘNG HÒA XÃ HỘI CHỦ NGHĨA VIỆT NAM
A2: TRƯỜNG CAO ĐẲNG KỸ THUẬT | M2: Độc lập - Tự do - Hạnh phúc
A3: LÝ TỰ TRỌNG
A5: BẢNG THU NHẬP TĂNG THÊM - LƯƠNG THEO HỆ SỐ ĐIỀU CHỈNH THÁNG 02 (BỔ SUNG) NĂM 2013
A6: CÁN BỘ VIÊN CHỨC TRONG CHỈ TIÊU BIÊN CHẾ - TRƯỜNG TRUNG HỌC PHỔ THÔNG
A7: (Chi theo Chương II - "Những quy định cụ thể"/ Mục 2 - "Chi thanh toán cá nhân"/ Điều 17 - "Các khoản thanh toán cá nhân"/ Khoản 1.2 - "Tiền lương tăng thêm" trong Quy chế chi tiêu nội bộ năm học 2012 - 2013 ban hành theo Quyết định số 83/QĐ-LTT-KTTC ngày 23 tháng 01 năm 2013)
B8: Mức lương tối thiểu có hệ số 1 = 1 050 000đ | I8: 1050000 | O8: Hsđc: | P8: A=0,50, B=0,30, C=0,10, D=0 | X8: Đơn vị tính: đồng
A10: STT | B10: HỌ VÀ TÊN | D10: Số tài khoản thẻ ATM VIETINBANK | E10: Số tài khoản thẻ ATM AGRIBANK | F10: HS (hide) | G10: VK (hide) | H10: HS THỰC HƯỞNG (hide) | I10: HSPC (hide) | J10: HS LƯƠNG +PCCV | K10: CỘNG LƯƠNG (hide) | L10: XẾP LOẠI | M10: Mức lương theo hệ số điều chỉnh | N10: ABC MIN (hide) | O10: Số ngày công kế hoạch | P10: Số ngày công thực hiện | Q10: Số tiền thi đua không tính ngày (hide) | R10: Lương điều chỉnh tính theo ngày công thực hiện/tháng | S10: HỆ SỐ TRUY LÃNH LƯƠNG (HIDE) | T10: Truy lãnh lương điều chỉnh do truy lãnh lương | U10: HỆ SỐ TRUY LÃNH PCCV (HIDE) chia 2 | V10: Truy lãnh lương điều chỉnh do truy lãnh PCCV | W10: Trường hỗ trợ 1% BHYT | X10: THÀNH TIỀN | Y10: GHI CHÚ
A11: 01 | B11: 02 | F11: 03 | G11: 04 | H11: 05 | I11: 06 | J11: 03 | K11: 08 | L11: 04 | M11: 05 | N11: 11 | O11: 06 | P11: 07 | Q11: 14 | R11: 08 | S11: 16 | T11: 09 | U11: 18 | V11: 10 | W11: 11 | X11: 12 | Y11: 13
A12: 01 | B12: Phạm Thị Thu | C12: THẢO | D12: 711A22129662 | E12: 1603205186684 | F12: 5.7 | H12: =F12+(F12*G12) -> 5.7 | I12: 0.7 | J12: =H12+I12 -> 6.4 | K12: =J12*$I$8 -> 6720000 | L12: A | M12: =IF(L12="A",K12*0.5,IF(L12="B",K12*0.5*0.75,IF(L12="C",K12*0.5*0.75*0.75,0))) -> 3360000 | N12: =IF(L12="A",1050000,IF(L12="B",735000,IF(L12="C",514500,0))) -> 1050000 | O12: 26 | P12: 26 | Q12: =IF(M12>N12,M12,N12) -> 3360000 | R12: =ROUND(IF(P12>=O12,Q12,Q12/O12*P12),0) -> 3360000 | T12: =S12*$I$8*0.5 -> 0 | V12: =U12*$I$8*0.5 -> 0 | W12: =(J12*$I$8*0.01)+(S12*$I$8*1%)+(U12*1%*$I$8) -> 67200 | X12: =R12+T12+V12+W12 -> 3427200 | Y12: =A12 -> 01 | Z12: Tham gia tập huấn Công tác triển khai thực hiện dự toán 2013….2N
A13: 02 | B13: Trần Anh Nga | C13: MY | D13: 711A23234783 | E13: 1603205183418 | F13: 3.33 | H13: =F13+(F13*G13) -> 3.33 | I13: 0.15 | J13: =H13+I13 -> 3.48 | K13: =J13*$I$8 -> 3654000 | L13: A | M13: =IF(L13="A",K13*0.5,IF(L13="B",K13*0.5*0.75,IF(L13="C",K13*0.5*0.75*0.75,0))) -> 1827000 | N13: =IF(L13="A",1050000,IF(L13="B",735000,IF(L13="C",514500,0))) -> 1050000 | O13: 26 | P13: 26 | Q13: =IF(M13>N13,M13,N13) -> 1827000 | R13: =ROUND(IF(P13>=O13,Q13,Q13/O13*P13),0) -> 1827000 | T13: =S13*$I$8*0.5 -> 0 | V13: =U13*$I$8*0.5 -> 0 | W13: =(J13*$I$8*0.01)+(S13*$I$8*1%)+(U13*1%*$I$8) -> 36540 | X13: =R13+T13+V13+W13 -> 1863540 | Y13: =A13 -> 02
A14: 03 | B14: Nguyễn Hồng | C14: THANH | D14: 711A23234795 | E14: 1603205183316 | F14: 4.32 | H14: =F14+(F14*G14) -> 4.32 | J14: =H14+I14 -> 4.32 | K14: =J14*$I$8 -> 4536000 | L14: A | M14: =IF(L14="A",K14*0.5,IF(L14="B",K14*0.5*0.75,IF(L14="C",K14*0.5*0.75*0.75,0))) -> 2268000 | N14: =IF(L14="A",1050000,IF(L14="B",735000,IF(L14="C",514500,0))) -> 1050000 | O14: 26 | P14: 26 | Q14: =IF(M14>N14,M14,N14) -> 2268000 | R14: =ROUND(IF(P14>=O14,Q14,Q14/O14*P14),0) -> 2268000 | T14: =S14*$I$8*0.5 -> 0 | V14: =U14*$I$8*0.5 -> 0 | W14: =(J14*$I$8*0.01)+(S14*$I$8*1%)+(U14*1%*$I$8) -> 45360 | X14: =R14+T14+V14+W14 -> 2313360 | Y14: =A14 -> 03
A15: 04 | B15: Trần Thị Thúy | C15: NGA | D15: 711A23235045 | E15: 1603205183368 | F15: 4.32 | H15: =F15+(F15*G15) -> 4.32 | J15: =H15+I15 -> 4.32 | K15: =J15*$I$8 -> 4536000 | L15: A | M15: =IF(L15="A",K15*0.5,IF(L15="B",K15*0.5*0.75,IF(L15="C",K15*0.5*0.75*0.75,0))) -> 2268000 | N15: =IF(L15="A",1050000,IF(L15="B",735000,IF(L15="C",514500,0))) -> 1050000 | O15: 26 | P15: 26 | Q15: =IF(M15>N15,M15,N15) -> 2268000 | R15: =ROUND(IF(P15>=O15,Q15,Q15/O15*P15),0) -> 2268000 | T15: =S15*$I$8*0.5 -> 0 | V15: =U15*$I$8*0.5 -> 0 | W15: =(J15*$I$8*0.01)+(S15*$I$8*1%)+(U15*1%*$I$8) -> 45360 | X15: =R15+T15+V15+W15 -> 2313360 | Y15: =A15 -> 04
A16: 05 | B16: Trần Quốc | C16: TUẤN | D16: 711A23235281 | E16: 1603205183401 | F16: 3 | H16: =F16+(F16*G16) -> 3 | I16: 0.25 | J16: =H16+I16 -> 3.25 | K16: =J16*$I$8 -> 3412500 | L16: A | M16: =IF(L16="A",K16*0.5,IF(L16="B",K16*0.5*0.75,IF(L16="C",K16*0.5*0.75*0.75,0))) -> 1706250 | N16: =IF(L16="A",1050000,IF(L16="B",735000,IF(L16="C",514500,0))) -> 1050000 | O16: 26 | P16: 26 | Q16: =IF(M16>N16,M16,N16) -> 1706250 | R16: =ROUND(IF(P16>=O16,Q16,Q16/O16*P16),0) -> 1706250 | T16: =S16*$I$8*0.5 -> 0 | V16: =U16*$I$8*0.5 -> 0 | W16: =(J16*$I$8*0.01)+(S16*$I$8*1%)+(U16*1%*$I$8) -> 34125 | X16: =R16+T16+V16+W16 -> 1740375 | Y16: =A16 -> 05
A17: 06 | B17: Phạm Thị | C17: HÒA | D17: 711A23235293 | E17: 1603205183322 | F17: 3 | H17: =F17+(F17*G17) -> 3 | J17: =H17+I17 -> 3 | K17: =J17*$I$8 -> 3150000 | L17: A | M17: =IF(L17="A",K17*0.5,IF(L17="B",K17*0.5*0.75,IF(L17="C",K17*0.5*0.75*0.75,0))) -> 1575000 | N17: =IF(L17="A",1050000,IF(L17="B",735000,IF(L17="C",514500,0))) -> 1050000 | O17: 26 | P17: 25 | Q17: =IF(M17>N17,M17,N17) -> 1575000 | R17: =ROUND(IF(P17>=O17,Q17,Q17/O17*P17),0) -> 1514423 | T17: =S17*$I$8*0.5 -> 0 | V17: =U17*$I$8*0.5 -> 0 | W17: =(J17*$I$8*0.01)+(S17*$I$8*1%)+(U17*1%*$I$8) -> 31500 | X17: =R17+T17+V17+W17 -> 1545923 | Y17: =A17 -> 06 | Z17: Trừ 1N nghỉ phép
A18: 07 | B18: Phạm Thị | C18: ĐỨC | D18: 711A23235306 | E18: 1603205183339 | F18: 3 | H18: =F18+(F18*G18) -> 3 | I18: 0.25 | J18: =H18+I18 -> 3.25 | K18: =J18*$I$8 -> 3412500 | L18: A | M18: =IF(L18="A",K18*0.5,IF(L18="B",K18*0.5*0.75,IF(L18="C",K18*0.5*0.75*0.75,0))) -> 1706250 | N18: =IF(L18="A",1050000,IF(L18="B",735000,IF(L18="C",514500,0))) -> 1050000 | O18: 26 | P18: 26 | Q18: =IF(M18>N18,M18,N18) -> 1706250 | R18: =ROUND(IF(P18>=O18,Q18,Q18/O18*P18),0) -> 1706250 | T18: =S18*$I$8*0.5 -> 0 | V18: =U18*$I$8*0.5 -> 0 | W18: =(J18*$I$8*0.01)+(S18*$I$8*1%)+(U18*1%*$I$8) -> 34125 | X18: =R18+T18+V18+W18 -> 1740375 | Y18: =A18 -> 07
A19: 08 | B19: Ngô Thanh | C19: ĐIỀN | D19: 711A23235313 | E19: 1603205183266 | F19: 3 | H19: =F19+(F19*G19) -> 3 | I19: 0.25 | J19: =H19+I19 -> 3.25 | K19: =J19*$I$8 -> 3412500 | L19: A | M19: =IF(L19="A",K19*0.5,IF(L19="B",K19*0.5*0.75,IF(L19="C",K19*0.5*0.75*0.75,0))) -> 1706250 | N19: =IF(L19="A",1050000,IF(L19="B",735000,IF(L19="C",514500,0))) -> 1050000 | O19: 26 | P19: 26 | Q19: =IF(M19>N19,M19,N19) -> 1706250 | R19: =ROUND(IF(P19>=O19,Q19,Q19/O19*P19),0) -> 1706250 | T19: =S19*$I$8*0.5 -> 0 | V19: =U19*$I$8*0.5 -> 0 | W19: =(J19*$I$8*0.01)+(S19*$I$8*1%)+(U19*1%*$I$8) -> 34125 | X19: =R19+T19+V19+W19 -> 1740375 | Y19: =A19 -> 08
A20: 09 | B20: Trần Mỹ | C20: THANH | D20: 711A23235321 | E20: 1603205183272 | F20: 3 | H20: =F20+(F20*G20) -> 3 | I20: 0.15 | J20: =H20+I20 -> 3.15 | K20: =J20*$I$8 -> 3307500 | L20: A | M20: =IF(L20="A",K20*0.5,IF(L20="B",K20*0.5*0.75,IF(L20="C",K20*0.5*0.75*0.75,0))) -> 1653750 | N20: =IF(L20="A",1050000,IF(L20="B",735000,IF(L20="C",514500,0))) -> 1050000 | O20: 26 | P20: 26 | Q20: =IF(M20>N20,M20,N20) -> 1653750 | R20: =ROUND(IF(P20>=O20,Q20,Q20/O20*P20),0) -> 1653750 | T20: =S20*$I$8*0.5 -> 0 | V20: =U20*$I$8*0.5 -> 0 | W20: =(J20*$I$8*0.01)+(S20*$I$8*1%)+(U20*1%*$I$8) -> 33075 | X20: =R20+T20+V20+W20 -> 1686825 | Y20: =A20 -> 09
A21: 10 | B21: Lê Tấn | C21: LONG | D21: 711A23235573 | E21: 1603205183295 | F21: 4.32 | H21: =F21+(F21*G21) -> 4.32 | I21: 0 | J21: =H21+I21 -> 4.32 | K21: =J21*$I$8 -> 4536000 | L21: A | M21: =IF(L21="A",K21*0.5,IF(L21="B",K21*0.5*0.75,IF(L21="C",K21*0.5*0.75*0.75,0))) -> 2268000 | N21: =IF(L21="A",1050000,IF(L21="B",735000,IF(L21="C",514500,0))) -> 1050000 | O21: 26 | P21: 26 | Q21: =IF(M21>N21,M21,N21) -> 2268000 | R21: =ROUND(IF(P21>=O21,Q21,Q21/O21*P21),0) -> 2268000 | T21: =S21*$I$8*0.5 -> 0 | V21: =U21*$I$8*0.5 -> 0 | W21: =(J21*$I$8*0.01)+(S21*$I$8*1%)+(U21*1%*$I$8) -> 45360 | X21: =R21+T21+V21+W21 -> 2313360 | Y21: =A21 -> 10
A22: 11 | B22: Trương Thị | C22: HÒA | D22: 711A23234835 | E22: 1603205186690 | F22: 2.67 | H22: =F22+(F22*G22) -> 2.67 | J22: =H22+I22 -> 2.67 | K22: =J22*$I$8 -> 2803500 | L22: A | M22: =IF(L22="A",K22*0.5,IF(L22="B",K22*0.5*0.75,IF(L22="C",K22*0.5*0.75*0.75,0))) -> 1401750 | N22: =IF(L22="A",1050000,IF(L22="B",735000,IF(L22="C",514500,0))) -> 1050000 | O22: 26 | P22: 26 | Q22: =IF(M22>N22,M22,N22) -> 1401750 | R22: =ROUND(IF(P22>=O22,Q22,Q22/O22*P22),0) -> 1401750 | T22: =S22*$I$8*0.5 -> 0 | V22: =U22*$I$8*0.5 -> 0 | W22: =(J22*$I$8*0.01)+(S22*$I$8*1%)+(U22*1%*$I$8) -> 28035 | X22: =R22+T22+V22+W22 -> 1429785 | Y22: =A22 -> 11
A23: 12 | B23: Văn Trí | C23: LỢI | D23: 711A23234811 | E23: 1603205183250 | F23: 2.67 | H23: =F23+(F23*G23) -> 2.67 | J23: =H23+I23 -> 2.67 | K23: =J23*$I$8 -> 2803500 | L23: A | M23: =IF(L23="A",K23*0.5,IF(L23="B",K23*0.5*0.75,IF(L23="C",K23*0.5*0.75*0.75,0))) -> 1401750 | N23: =IF(L23="A",1050000,IF(L23="B",735000,IF(L23="C",514500,0))) -> 1050000 | O23: 26 | P23: 26 | Q23: =IF(M23>N23,M23,N23) -> 1401750 | R23: =ROUND(IF(P23>=O23,Q23,Q23/O23*P23),0) -> 1401750 | T23: =S23*$I$8*0.5 -> 0 | V23: =U23*$I$8*0.5 -> 0 | W23: =(J23*$I$8*0.01)+(S23*$I$8*1%)+(U23*1%*$I$8) -> 28035 | X23: =R23+T23+V23+W23 -> 1429785 | Y23: =A23 -> 12
A24: 13 | B24: Nguyễn Thị Thanh | C24: HÀ | D24: 711A23234842 | E24: 1603205183374 | F24: 2.67 | H24: =F24+(F24*G24) -> 2.67 | J24: =H24+I24 -> 2.67 | K24: =J24*$I$8 -> 2803500 | L24: B | M24: =IF(L24="A",K24*0.5,IF(L24="B",K24*0.5*0.75,IF(L24="C",K24*0.5*0.75*0.75,0))) -> 1051312.5 | N24: =IF(L24="A",1050000,IF(L24="B",735000,IF(L24="C",514500,0))) -> 735000 | O24: 26 | P24: 25 | Q24: =IF(M24>N24,M24,N24) -> 1051312.5 | R24: =ROUND(IF(P24>=O24,Q24,Q24/O24*P24),0) -> 1010877 | T24: =S24*$I$8*0.5 -> 0 | V24: =U24*$I$8*0.5 -> 0 | W24: =(J24*$I$8*0.01)+(S24*$I$8*1%)+(U24*1%*$I$8) -> 28035 | X24: =R24+T24+V24+W24 -> 1038912 | Y24: =A24 -> 13 | Z24: Trừ 1N nghỉ việc riêng Vắng coi thi
A25: 14 | B25: Nguyễn Thị Ngọc | C25: HUỆ | D25: 711A23235194 | E25: 1603205183345 | F25: 3.66 | H25: =F25+(F25*G25) -> 3.66 | I25: 0.25 | J25: =H25+I25 -> 3.91 | K25: =J25*$I$8 -> 4105500 | L25: A | M25: =IF(L25="A",K25*0.5,IF(L25="B",K25*0.5*0.75,IF(L25="C",K25*0.5*0.75*0.75,0))) -> 2052750 | N25: =IF(L25="A",1050000,IF(L25="B",735000,IF(L25="C",514500,0))) -> 1050000 | O25: 26 | P25: 26 | Q25: =IF(M25>N25,M25,N25) -> 2052750 | R25: =ROUND(IF(P25>=O25,Q25,Q25/O25*P25),0) -> 2052750 | T25: =S25*$I$8*0.5 -> 0 | V25: =U25*$I$8*0.5 -> 0 | W25: =(J25*$I$8*0.01)+(S25*$I$8*1%)+(U25*1%*$I$8) -> 41055 | X25: =R25+T25+V25+W25 -> 2093805 | Y25: =A25 -> 14
A26: 15 | B26: Phạm Dương Hoàng | C26: ANH | D26: 711A23235018 | E26: 1603205183351 | F26: 2.67 | H26: =F26+(F26*G26) -> 2.67 | J26: =H26+I26 -> 2.67 | K26: =J26*$I$8 -> 2803500 | L26: A DN | M26: =IF(L26="A",K26*0.5,IF(L26="B",K26*0.5*0.75,IF(L26="C",K26*0.5*0.75*0.75,0))) -> 0 | N26: =IF(L26="A",1050000,IF(L26="B",735000,IF(L26="C",514500,0))) -> 0 | O26: 0 | P26: 0 | Q26: =IF(M26>N26,M26,N26) -> 0 | R26: =ROUND(IF(P26>=O26,Q26,Q26/O26*P26),0) -> 0 | T26: =S26*$I$8*0.5 -> 0 | V26: =U26*$I$8*0.5 -> 0 | W26: 0 | X26: =R26+T26+V26+W26 -> 0 | Y26: =A26 -> 15 | Z26: Nghỉ HS từ ngày 25/10-24/03/2013, nghỉ không hưởng lương từ ngày 26/3-25/5/2013
A27: 16 | B27: Phan Thị Mai | C27: HƯƠNG | D27: 711A23235033 | E27: 1603205183289 | F27: 2.67 | H27: =F27+(F27*G27) -> 2.67 | I27: 0.25 | J27: =H27+I27 -> 2.92 | K27: =J27*$I$8 -> 3066000 | L27: A | M27: =IF(L27="A",K27*0.5,IF(L27="B",K27*0.5*0.75,IF(L27="C",K27*0.5*0.75*0.75,0))) -> 1533000 | N27: =IF(L27="A",1050000,IF(L27="B",735000,IF(L27="C",514500,0))) -> 1050000 | O27: 26 | P27: 26 | Q27: =IF(M27>N27,M27,N27) -> 1533000 | R27: =ROUND(IF(P27>=O27,Q27,Q27/O27*P27),0) -> 1533000 | T27: =S27*$I$8*0.5 -> 0 | V27: =U27*$I$8*0.5 -> 0 | W27: =(J27*$I$8*0.01)+(S27*$I$8*1%)+(U27*1%*$I$8) -> 30660 | X27: =R27+T27+V27+W27 -> 1563660 | Y27: =A27 -> 16
A28: 17 | B28: Lê Thị Ngọc | C28: DUNG | D28: 711A23234992 | E28: 1603205183040 | F28: 3 | H28: =F28+(F28*G28) -> 3 | I28: 0.15 | J28: =H28+I28 -> 3.15 | K28: =J28*$I$8 -> 3307500 | L28: A | M28: =IF(L28="A",K28*0.5,IF(L28="B",K28*0.5*0.75,IF(L28="C",K28*0.5*0.75*0.75,0))) -> 1653750 | N28: =IF(L28="A",1050000,IF(L28="B",735000,IF(L28="C",514500,0))) -> 1050000 | O28: 26 | P28: 26 | Q28: =IF(M28>N28,M28,N28) -> 1653750 | R28: =ROUND(IF(P28>=O28,Q28,Q28/O28*P28),0) -> 1653750 | T28: =S28*$I$8*0.5 -> 0 | V28: =U28*$I$8*0.5 -> 0 | W28: =(J28*$I$8*0.01)+(S28*$I$8*1%)+(U28*1%*$I$8) -> 33075 | X28: =R28+T28+V28+W28 -> 1686825 | Y28: =A28 -> 17
A29: 18 | B29: Trương Thị Thủy | C29: TIÊN | D29: 711A23235002 | E29: 1603205235121 | F29: 2.67 | H29: =F29+(F29*G29) -> 2.67 | J29: =H29+I29 -> 2.67 | K29: =J29*$I$8 -> 2803500 | L29: A | M29: =IF(L29="A",K29*0.5,IF(L29="B",K29*0.5*0.75,IF(L29="C",K29*0.5*0.75*0.75,0))) -> 1401750 | N29: =IF(L29="A",1050000,IF(L29="B",735000,IF(L29="C",514500,0))) -> 1050000 | O29: 26 | P29: 26 | Q29: =IF(M29>N29,M29,N29) -> 1401750 | R29: =ROUND(IF(P29>=O29,Q29,Q29/O29*P29),0) -> 1401750 | T29: =S29*$I$8*0.5 -> 0 | V29: =U29*$I$8*0.5 -> 0 | W29: =(J29*$I$8*0.01)+(S29*$I$8*1%)+(U29*1%*$I$8) -> 28035 | X29: =R29+T29+V29+W29 -> 1429785 | Y29: =A29 -> 18
A30: 19 | B30: Huỳnh Thị Kim | C30: HẰNG | D30: 711A23234902 | E30: 1603205224466 | F30: 3 | H30: =F30+(F30*G30) -> 3 | I30: 0.15 | J30: =H30+I30 -> 3.15 | K30: =J30*$I$8 -> 3307500 | L30: A | M30: =IF(L30="A",K30*0.5,IF(L30="B",K30*0.5*0.75,IF(L30="C",K30*0.5*0.75*0.75,0))) -> 1653750 | N30: =IF(L30="A",1050000,IF(L30="B",735000,IF(L30="C",514500,0))) -> 1050000 | O30: 26 | P30: 26 | Q30: =IF(M30>N30,M30,N30) -> 1653750 | R30: =ROUND(IF(P30>=O30,Q30,Q30/O30*P30),0) -> 1653750 | T30: =S30*$I$8*0.5 -> 0 | V30: =U30*$I$8*0.5 -> 0 | W30: =(J30*$I$8*0.01)+(S30*$I$8*1%)+(U30*1%*$I$8) -> 33075 | X30: =R30+T30+V30+W30 -> 1686825 | Y30: =A30 -> 19
A31: 20 | B31: Đinh Công | C31: BÌNH | D31: 711A23235242 | E31: 1603205224834 | F31: 2.67 | H31: =F31+(F31*G31) -> 2.67 | J31: =H31+I31 -> 2.67 | K31: =J31*$I$8 -> 2803500 | L31: A | M31: =IF(L31="A",K31*0.5,IF(L31="B",K31*0.5*0.75,IF(L31="C",K31*0.5*0.75*0.75,0))) -> 1401750 | N31: =IF(L31="A",1050000,IF(L31="B",735000,IF(L31="C",514500,0))) -> 1050000 | O31: 26 | P31: 26 | Q31: =IF(M31>N31,M31,N31) -> 1401750 | R31: =ROUND(IF(P31>=O31,Q31,Q31/O31*P31),0) -> 1401750 | T31: =S31*$I$8*0.5 -> 0 | V31: =U31*$I$8*0.5 -> 0 | W31: =(J31*$I$8*0.01)+(S31*$I$8*1%)+(U31*1%*$I$8) -> 28035 | X31: =R31+T31+V31+W31 -> 1429785 | Y31: =A31 -> 20
A32: 21 | B32: Nguyễn Thị Mỹ | C32: LIÊN | D32: 711A23234914 | E32: 1603205186649 | F32: 2.67 | H32: =F32+(F32*G32) -> 2.67 | I32: 0.15 | J32: =H32+I32 -> 2.82 | K32: =J32*$I$8 -> 2961000 | L32: A | M32: =IF(L32="A",K32*0.5,IF(L32="B",K32*0.5*0.75,IF(L32="C",K32*0.5*0.75*0.75,0))) -> 1480500 | N32: =IF(L32="A",1050000,IF(L32="B",735000,IF(L32="C",514500,0))) -> 1050000 | O32: 26 | P32: 26 | Q32: =IF(M32>N32,M32,N32) -> 1480500 | R32: =ROUND(IF(P32>=O32,Q32,Q32/O32*P32),0) -> 1480500 | T32: =S32*$I$8*0.5 -> 0 | V32: =U32*$I$8*0.5 -> 0 | W32: =(J32*$I$8*0.01)+(S32*$I$8*1%)+(U32*1%*$I$8) -> 29610 | X32: =R32+T32+V32+W32 -> 1510110 | Y32: =A32 -> 21
A33: 22 | B33: Đỗ Hiếu | C33: THẢO | D33: 711A06895699 | E33: 1603205235377 | F33: 2.67 | H33: =F33+(F33*G33) -> 2.67 | I33: 0.25 | J33: =H33+I33 -> 2.92 | K33: =J33*$I$8 -> 3066000 | L33: B | M33: =IF(L33="A",K33*0.5,IF(L33="B",K33*0.5*0.75,IF(L33="C",K33*0.5*0.75*0.75,0))) -> 1149750 | N33: =IF(L33="A",1050000,IF(L33="B",735000,IF(L33="C",514500,0))) -> 735000 | O33: 26 | P33: 26 | Q33: =IF(M33>N33,M33,N33) -> 1149750 | R33: =ROUND(IF(P33>=O33,Q33,Q33/O33*P33),0) -> 1149750 | T33: =S33*$I$8*0.5 -> 0 | V33: =U33*$I$8*0.5 -> 0 | W33: =(J33*$I$8*0.01)+(S33*$I$8*1%)+(U33*1%*$I$8) -> 30660 | X33: =R33+T33+V33+W33 -> 1180410 | Y33: =A33 -> 22 | Z33: Coi thi trễ | AA33: Tháng sau nhớ sửa lại PCCV thành 0,25
A34: 23 | B34: Trần Thị | C34: PHƯỢNG | D34: 711A23235254 | E34: 1603205186711 | F34: 2.67 | H34: =F34+(F34*G34) -> 2.67 | I34: 0.15 | J34: =H34+I34 -> 2.82 | K34: =J34*$I$8 -> 2961000 | L34: A | M34: =IF(L34="A",K34*0.5,IF(L34="B",K34*0.5*0.75,IF(L34="C",K34*0.5*0.75*0.75,0))) -> 1480500 | N34: =IF(L34="A",1050000,IF(L34="B",735000,IF(L34="C",514500,0))) -> 1050000 | O34: 26 | P34: 26 | Q34: =IF(M34>N34,M34,N34) -> 1480500 | R34: =ROUND(IF(P34>=O34,Q34,Q34/O34*P34),0) -> 1480500 | T34: =S34*$I$8*0.5 -> 0 | V34: =U34*$I$8*0.5 -> 0 | W34: =(J34*$I$8*0.01)+(S34*$I$8*1%)+(U34*1%*$I$8) -> 29610 | X34: =R34+T34+V34+W34 -> 1510110 | Y34: =A34 -> 23
A35: 24 | B35: Trần Ngọc | C35: TUẤN | D35: 711A23235215 | E35: 1603205183056 | F35: 2.67 | H35: =F35+(F35*G35) -> 2.67 | J35: =H35+I35 -> 2.67 | K35: =J35*$I$8 -> 2803500 | L35: A | M35: =IF(L35="A",K35*0.5,IF(L35="B",K35*0.5*0.75,IF(L35="C",K35*0.5*0.75*0.75,0))) -> 1401750 | N35: =IF(L35="A",1050000,IF(L35="B",735000,IF(L35="C",514500,0))) -> 1050000 | O35: 26 | P35: 26 | Q35: =IF(M35>N35,M35,N35) -> 1401750 | R35: =ROUND(IF(P35>=O35,Q35,Q35/O35*P35),0) -> 1401750 | T35: =S35*$I$8*0.5 -> 0 | V35: =U35*$I$8*0.5 -> 0 | W35: =(J35*$I$8*0.01)+(S35*$I$8*1%)+(U35*1%*$I$8) -> 28035 | X35: =R35+T35+V35+W35 -> 1429785 | Y35: =A35 -> 24
A36: 25 | B36: Đỗ Thị | C36: VÂN | D36: 711A23235239 | E36: 1603205224647 | F36: 2.67 | H36: =F36+(F36*G36) -> 2.67 | J36: =H36+I36 -> 2.67 | K36: =J36*$I$8 -> 2803500 | L36: A | M36: =IF(L36="A",K36*0.5,IF(L36="B",K36*0.5*0.75,IF(L36="C",K36*0.5*0.75*0.75,0))) -> 1401750 | N36: =IF(L36="A",1050000,IF(L36="B",735000,IF(L36="C",514500,0))) -> 1050000 | O36: 26 | P36: 26 | Q36: =IF(M36>N36,M36,N36) -> 1401750 | R36: =ROUND(IF(P36>=O36,Q36,Q36/O36*P36),0) -> 1401750 | T36: =S36*$I$8*0.5 -> 0 | V36: =U36*$I$8*0.5 -> 0 | W36: =(J36*$I$8*0.01)+(S36*$I$8*1%)+(U36*1%*$I$8) -> 28035 | X36: =R36+T36+V36+W36 -> 1429785 | Y36: =A36 -> 25
A37: 26 | B37: Lê Anh | C37: VĂN | D37: 711A23235266 | E37: 1603205224227 | F37: 3 | H37: =F37+(F37*G37) -> 3 | J37: =H37+I37 -> 3 | K37: =J37*$I$8 -> 3150000 | L37: A | M37: =IF(L37="A",K37*0.5,IF(L37="B",K37*0.5*0.75,IF(L37="C",K37*0.5*0.75*0.75,0))) -> 1575000 | N37: =IF(L37="A",1050000,IF(L37="B",735000,IF(L37="C",514500,0))) -> 1050000 | O37: 26 | P37: 26 | Q37: =IF(M37>N37,M37,N37) -> 1575000 | R37: =ROUND(IF(P37>=O37,Q37,Q37/O37*P37),0) -> 1575000 | T37: =S37*$I$8*0.5 -> 0 | V37: =U37*$I$8*0.5 -> 0 | W37: =(J37*$I$8*0.01)+(S37*$I$8*1%)+(U37*1%*$I$8) -> 31500 | X37: =R37+T37+V37+W37 -> 1606500 | Y37: =A37 -> 26
A38: 27 | B38: Nguyễn Thị Hiếu | C38: HẠNH | D38: 711A23235554 | E38: 1603205249313 | F38: 3.66 | H38: =F38+(F38*G38) -> 3.66 | J38: =H38+I38 -> 3.66 | K38: =J38*$I$8 -> 3843000 | L38: A DN | M38: =IF(L38="A",K38*0.5,IF(L38="B",K38*0.5*0.75,IF(L38="C",K38*0.5*0.75*0.75,0))) -> 0 | N38: =IF(L38="A",1050000,IF(L38="B",735000,IF(L38="C",514500,0))) -> 0 | O38: 0 | P38: 0 | Q38: =IF(M38>N38,M38,N38) -> 0 | R38: =ROUND(IF(P38>=O38,Q38,Q38/O38*P38),0) -> 0 | T38: =S38*$I$8*0.5 -> 0 | V38: =U38*$I$8*0.5 -> 0 | W38: 0 | X38: =R38+T38+V38+W38 -> 0 | Y38: =A38 -> 27 | Z38: Nghỉ HS từ ngày 7/01-6/7/2013
A39: 28 | B39: Lê Thị Phương | C39: THÚY | D39: 711A23235391 | E39: 1603205183170 | F39: 2.34 | H39: =F39+(F39*G39) -> 2.34 | J39: =H39+I39 -> 2.34 | K39: =J39*$I$8 -> 2457000 | L39: A | M39: =IF(L39="A",K39*0.5,IF(L39="B",K39*0.5*0.75,IF(L39="C",K39*0.5*0.75*0.75,0))) -> 1228500 | N39: =IF(L39="A",1050000,IF(L39="B",735000,IF(L39="C",514500,0))) -> 1050000 | O39: 26 | P39: 26 | Q39: =IF(M39>N39,M39,N39) -> 1228500 | R39: =ROUND(IF(P39>=O39,Q39,Q39/O39*P39),0) -> 1228500 | T39: =S39*$I$8*0.5 -> 0 | V39: =U39*$I$8*0.5 -> 0 | W39: =(J39*$I$8*0.01)+(S39*$I$8*1%)+(U39*1%*$I$8) -> 24570 | X39: =R39+T39+V39+W39 -> 1253070 | Y39: =A39 -> 28
A40: 29 | B40: Cao Hải | C40: CHÂU | D40: 711A23235424 | E40: 1603205183062 | F40: 2.34 | H40: =F40+(F40*G40) -> 2.34 | J40: =H40+I40 -> 2.34 | K40: =J40*$I$8 -> 2457000 | L40: A | M40: =IF(L40="A",K40*0.5,IF(L40="B",K40*0.5*0.75,IF(L40="C",K40*0.5*0.75*0.75,0))) -> 1228500 | N40: =IF(L40="A",1050000,IF(L40="B",735000,IF(L40="C",514500,0))) -> 1050000 | O40: 26 | P40: 25 | Q40: =IF(M40>N40,M40,N40) -> 1228500 | R40: =ROUND(IF(P40>=O40,Q40,Q40/O40*P40),0) -> 1181250 | T40: =S40*$I$8*0.5 -> 0 | V40: =U40*$I$8*0.5 -> 0 | W40: =(J40*$I$8*0.01)+(S40*$I$8*1%)+(U40*1%*$I$8) -> 24570 | X40: =R40+T40+V40+W40 -> 1205820 | Y40: =A40 -> 29 | Z40: Trừ 1N nghỉ phép
A41: 30 | B41: Lê Thị Thanh | C41: HÀ | D41: 711A23235412 | E41: 1603205246105 | F41: 2.34 | H41: =F41+(F41*G41) -> 2.34 | J41: =H41+I41 -> 2.34 | K41: =J41*$I$8 -> 2457000 | L41: A | M41: =IF(L41="A",K41*0.5,IF(L41="B",K41*0.5*0.75,IF(L41="C",K41*0.5*0.75*0.75,0))) -> 1228500 | N41: =IF(L41="A",1050000,IF(L41="B",735000,IF(L41="C",514500,0))) -> 1050000 | O41: 26 | P41: 26 | Q41: =IF(M41>N41,M41,N41) -> 1228500 | R41: =ROUND(IF(P41>=O41,Q41,Q41/O41*P41),0) -> 1228500 | T41: =S41*$I$8*0.5 -> 0 | V41: =U41*$I$8*0.5 -> 0 | W41: =(J41*$I$8*0.01)+(S41*$I$8*1%)+(U41*1%*$I$8) -> 24570 | X41: =R41+T41+V41+W41 -> 1253070 | Y41: =A41 -> 30
A42: 31 | B42: Nguyễn Thị Bảo | C42: LINH | D42: 711A23235409 | E42: 1603205183004 | F42: 2.34 | H42: =F42+(F42*G42) -> 2.34 | I42: 0.15 | J42: =H42+I42 -> 2.49 | K42: =J42*$I$8 -> 2614500 | L42: A | M42: =IF(L42="A",K42*0.5,IF(L42="B",K42*0.5*0.75,IF(L42="C",K42*0.5*0.75*0.75,0))) -> 1307250 | N42: =IF(L42="A",1050000,IF(L42="B",735000,IF(L42="C",514500,0))) -> 1050000 | O42: 26 | P42: 2 | Q42: =IF(M42>N42,M42,N42) -> 1307250 | R42: =ROUND(IF(P42>=O42,Q42,Q42/O42*P42),0) -> 100558 | T42: =S42*$I$8*0.5 -> 0 | V42: =U42*$I$8*0.5 -> 0 | W42: =(J42*$I$8*0.01)+(S42*$I$8*1%)+(U42*1%*$I$8) -> 26145 | X42: =R42+T42+V42+W42 -> 126703 | Y42: =A42 -> 31 | Z42: Hết thời gian nghỉ HS đi làm lại từ ngày 29/3/2013
A43: 32 | B43: Trần Đình | C43: PHAN | D43: 711A23235451 | E43: 1603205183079 | F43: 2.34 | H43: =F43+(F43*G43) -> 2.34 | J43: =H43+I43 -> 2.34 | K43: =J43*$I$8 -> 2457000 | L43: A | M43: =IF(L43="A",K43*0.5,IF(L43="B",K43*0.5*0.75,IF(L43="C",K43*0.5*0.75*0.75,0))) -> 1228500 | N43: =IF(L43="A",1050000,IF(L43="B",735000,IF(L43="C",514500,0))) -> 1050000 | O43: 26 | P43: 26 | Q43: =IF(M43>N43,M43,N43) -> 1228500 | R43: =ROUND(IF(P43>=O43,Q43,Q43/O43*P43),0) -> 1228500 | T43: =S43*$I$8*0.5 -> 0 | V43: =U43*$I$8*0.5 -> 0 | W43: =(J43*$I$8*0.01)+(S43*$I$8*1%)+(U43*1%*$I$8) -> 24570 | X43: =R43+T43+V43+W43 -> 1253070 | Y43: =A43 -> 32
A44: 33 | B44: Lâm Hải | C44: TRƯỜNG | D44: 711A23235479 | E44: 1603205250971 | F44: 2.34 | H44: =F44+(F44*G44) -> 2.34 | J44: =H44+I44 -> 2.34 | K44: =J44*$I$8 -> 2457000 | L44: A | M44: =IF(L44="A",K44*0.5,IF(L44="B",K44*0.5*0.75,IF(L44="C",K44*0.5*0.75*0.75,0))) -> 1228500 | N44: =IF(L44="A",1050000,IF(L44="B",735000,IF(L44="C",514500,0))) -> 1050000 | O44: 26 | P44: 26 | Q44: =IF(M44>N44,M44,N44) -> 1228500 | R44: =ROUND(IF(P44>=O44,Q44,Q44/O44*P44),0) -> 1228500 | T44: =S44*$I$8*0.5 -> 0 | V44: =U44*$I$8*0.5 -> 0 | W44: =(J44*$I$8*0.01)+(S44*$I$8*1%)+(U44*1%*$I$8) -> 24570 | X44: =R44+T44+V44+W44 -> 1253070 | Y44: =A44 -> 33
A45: 34 | B45: Nguyễn Văn | C45: KHẮC | D45: 711A23235376 | E45: 1603205250840 | F45: 2.34 | H45: =F45+(F45*G45) -> 2.34 | J45: =H45+I45 -> 2.34 | K45: =J45*$I$8 -> 2457000 | L45: A | M45: =IF(L45="A",K45*0.5,IF(L45="B",K45*0.5*0.75,IF(L45="C",K45*0.5*0.75*0.75,0))) -> 1228500 | N45: =IF(L45="A",1050000,IF(L45="B",735000,IF(L45="C",514500,0))) -> 1050000 | O45: 26 | P45: 26 | Q45: =IF(M45>N45,M45,N45) -> 1228500 | R45: =ROUND(IF(P45>=O45,Q45,Q45/O45*P45),0) -> 1228500 | T45: =S45*$I$8*0.5 -> 0 | V45: =U45*$I$8*0.5 -> 0 | W45: =(J45*$I$8*0.01)+(S45*$I$8*1%)+(U45*1%*$I$8) -> 24570 | X45: =R45+T45+V45+W45 -> 1253070 | Y45: =A45 -> 34
A46: 35 | B46: Trần Thị | C46: THAY | D46: 711A16769544 | E46: 1603205250761 | F46: 2.34 | H46: =F46+(F46*G46) -> 2.34 | J46: =H46+I46 -> 2.34 | K46: =J46*$I$8 -> 2457000 | L46: A | M46: =IF(L46="A",K46*0.5,IF(L46="B",K46*0.5*0.75,IF(L46="C",K46*0.5*0.75*0.75,0))) -> 1228500 | N46: =IF(L46="A",1050000,IF(L46="B",735000,IF(L46="C",514500,0))) -> 1050000 | O46: 26 | P46: 26 | Q46: =IF(M46>N46,M46,N46) -> 1228500 | R46: =ROUND(IF(P46>=O46,Q46,Q46/O46*P46),0) -> 1228500 | T46: =S46*$I$8*0.5 -> 0 | V46: =U46*$I$8*0.5 -> 0 | W46: =(J46*$I$8*0.01)+(S46*$I$8*1%)+(U46*1%*$I$8) -> 24570 | X46: =R46+T46+V46+W46 -> 1253070 | Y46: =A46 -> 35
A47: 36 | B47: Lê Phương | C47: NGỌC | D47: 711A23235349 | E47: 1603205250784 | F47: 2.67 | H47: =F47+(F47*G47) -> 2.67 | J47: =H47+I47 -> 2.67 | K47: =J47*$I$8 -> 2803500 | L47: A | M47: =IF(L47="A",K47*0.5,IF(L47="B",K47*0.5*0.75,IF(L47="C",K47*0.5*0.75*0.75,0))) -> 1401750 | N47: =IF(L47="A",1050000,IF(L47="B",735000,IF(L47="C",514500,0))) -> 1050000 | O47: 26 | P47: 26 | Q47: =IF(M47>N47,M47,N47) -> 1401750 | R47: =ROUND(IF(P47>=O47,Q47,Q47/O47*P47),0) -> 1401750 | T47: =S47*$I$8*0.5 -> 0 | V47: =U47*$I$8*0.5 -> 0 | W47: =(J47*$I$8*0.01)+(S47*$I$8*1%)+(U47*1%*$I$8) -> 28035 | X47: =R47+T47+V47+W47 -> 1429785 | Y47: =A47 -> 36
A48: 37 | B48: Lê Thị | C48: HÒA | D48: 711A23235352 | E48: 1603205250778 | F48: 2.34 | H48: =F48+(F48*G48) -> 2.34 | J48: =H48+I48 -> 2.34 | K48: =J48*$I$8 -> 2457000 | L48: A | M48: =IF(L48="A",K48*0.5,IF(L48="B",K48*0.5*0.75,IF(L48="C",K48*0.5*0.75*0.75,0))) -> 1228500 | N48: =IF(L48="A",1050000,IF(L48="B",735000,IF(L48="C",514500,0))) -> 1050000 | O48: 26 | P48: 26 | Q48: =IF(M48>N48,M48,N48) -> 1228500 | R48: =ROUND(IF(P48>=O48,Q48,Q48/O48*P48),0) -> 1228500 | T48: =S48*$I$8*0.5 -> 0 | V48: =U48*$I$8*0.5 -> 0 | W48: =(J48*$I$8*0.01)+(S48*$I$8*1%)+(U48*1%*$I$8) -> 24570 | X48: =R48+T48+V48+W48 -> 1253070 | Y48: =A48 -> 37
A49: 38 | B49: Phan Vũ Băng | C49: THẠCH | D49: 711A23235364 | E49: 1603205250857 | F49: 2.34 | H49: =F49+(F49*G49) -> 2.34 | J49: =H49+I49 -> 2.34 | K49: =J49*$I$8 -> 2457000 | L49: A | M49: =IF(L49="A",K49*0.5,IF(L49="B",K49*0.5*0.75,IF(L49="C",K49*0.5*0.75*0.75,0))) -> 1228500 | N49: =IF(L49="A",1050000,IF(L49="B",735000,IF(L49="C",514500,0))) -> 1050000 | O49: 26 | P49: 26 | Q49: =IF(M49>N49,M49,N49) -> 1228500 | R49: =ROUND(IF(P49>=O49,Q49,Q49/O49*P49),0) -> 1228500 | T49: =S49*$I$8*0.5 -> 0 | V49: =U49*$I$8*0.5 -> 0 | W49: =(J49*$I$8*0.01)+(S49*$I$8*1%)+(U49*1%*$I$8) -> 24570 | X49: =R49+T49+V49+W49 -> 1253070 | Y49: =A49 -> 38
A50: 39 | B50: Nguyễn Thị | C50: TƯƠI | D50: 711A23235333 | E50: 1603205250870 | F50: 2.34 | H50: =F50+(F50*G50) -> 2.34 | J50: =H50+I50 -> 2.34 | K50: =J50*$I$8 -> 2457000 | L50: A | M50: =IF(L50="A",K50*0.5,IF(L50="B",K50*0.5*0.75,IF(L50="C",K50*0.5*0.75*0.75,0))) -> 1228500 | N50: =IF(L50="A",1050000,IF(L50="B",735000,IF(L50="C",514500,0))) -> 1050000 | O50: 26 | P50: 26 | Q50: =IF(M50>N50,M50,N50) -> 1228500 | R50: =ROUND(IF(P50>=O50,Q50,Q50/O50*P50),0) -> 1228500 | T50: =S50*$I$8*0.5 -> 0 | V50: =U50*$I$8*0.5 -> 0 | W50: =(J50*$I$8*0.01)+(S50*$I$8*1%)+(U50*1%*$I$8) -> 24570 | X50: =R50+T50+V50+W50 -> 1253070 | Y50: =A50 -> 39
A51: 40 | B51: Lê Minh | C51: PHONG | D51: 711A23235482 | E51: 1603205186678 | F51: 2.34 | H51: =F51+(F51*G51) -> 2.34 | J51: =H51+I51 -> 2.34 | K51: =J51*$I$8 -> 2457000 | L51: A | M51: =IF(L51="A",K51*0.5,IF(L51="B",K51*0.5*0.75,IF(L51="C",K51*0.5*0.75*0.75,0))) -> 1228500 | N51: =IF(L51="A",1050000,IF(L51="B",735000,IF(L51="C",514500,0))) -> 1050000 | O51: 26 | P51: 26 | Q51: =IF(M51>N51,M51,N51) -> 1228500 | R51: =ROUND(IF(P51>=O51,Q51,Q51/O51*P51),0) -> 1228500 | T51: =S51*$I$8*0.5 -> 0 | V51: =U51*$I$8*0.5 -> 0 | W51: =(J51*$I$8*0.01)+(S51*$I$8*1%)+(U51*1%*$I$8) -> 24570 | X51: =R51+T51+V51+W51 -> 1253070 | Y51: =A51 -> 40
A52: 41 | B52: Trần Thị Mỹ | C52: HUYỀN | D52: 711A23235443 | E52: 1603205224601 | F52: 2.34 | H52: =F52+(F52*G52) -> 2.34 | J52: =H52+I52 -> 2.34 | K52: =J52*$I$8 -> 2457000 | L52: A | M52: =IF(L52="A",K52*0.5,IF(L52="B",K52*0.5*0.75,IF(L52="C",K52*0.5*0.75*0.75,0))) -> 1228500 | N52: =IF(L52="A",1050000,IF(L52="B",735000,IF(L52="C",514500,0))) -> 1050000 | O52: 26 | P52: 26 | Q52: =IF(M52>N52,M52,N52) -> 1228500 | R52: =ROUND(IF(P52>=O52,Q52,Q52/O52*P52),0) -> 1228500 | T52: =S52*$I$8*0.5 -> 0 | V52: =U52*$I$8*0.5 -> 0 | W52: =(J52*$I$8*0.01)+(S52*$I$8*1%)+(U52*1%*$I$8) -> 24570 | X52: =R52+T52+V52+W52 -> 1253070 | Y52: =A52 -> 41
A53: 42 | B53: Trần Thị Tuyết | C53: MAI | D53: 711A14513924 | E53: 1603205251010 | F53: 3.66 | H53: =F53+(F53*G53) -> 3.66 | J53: =H53+I53 -> 3.66 | K53: =J53*$I$8 -> 3843000 | L53: A | M53: =IF(L53="A",K53*0.5,IF(L53="B",K53*0.5*0.75,IF(L53="C",K53*0.5*0.75*0.75,0))) -> 1921500 | N53: =IF(L53="A",1050000,IF(L53="B",735000,IF(L53="C",514500,0))) -> 1050000 | O53: 26 | P53: 26 | Q53: =IF(M53>N53,M53,N53) -> 1921500 | R53: =ROUND(IF(P53>=O53,Q53,Q53/O53*P53),0) -> 1921500 | T53: =S53*$I$8*0.5 -> 0 | V53: =U53*$I$8*0.5 -> 0 | W53: =(J53*$I$8*0.01)+(S53*$I$8*1%)+(U53*1%*$I$8) -> 38430 | X53: =R53+T53+V53+W53 -> 1959930 | Y53: =A53 -> 42
A54: 43 | B54: Hoàng Thị | C54: LÊ | D54: 711A23235388 | E54: 1603205230627 | F54: 2.34 | H54: =F54+(F54*G54) -> 2.34 | J54: =H54+I54 -> 2.34 | K54: =J54*$I$8 -> 2457000 | L54: A | M54: =IF(L54="A",K54*0.5,IF(L54="B",K54*0.5*0.75,IF(L54="C",K54*0.5*0.75*0.75,0))) -> 1228500 | N54: =IF(L54="A",1050000,IF(L54="B",735000,IF(L54="C",514500,0))) -> 1050000 | O54: 26 | P54: 26 | Q54: =IF(M54>N54,M54,N54) -> 1228500 | R54: =ROUND(IF(P54>=O54,Q54,Q54/O54*P54),0) -> 1228500 | T54: =S54*$I$8*0.5 -> 0 | V54: =U54*$I$8*0.5 -> 0 | W54: =(J54*$I$8*0.01)+(S54*$I$8*1%)+(U54*1%*$I$8) -> 24570 | X54: =R54+T54+V54+W54 -> 1253070 | Y54: =A54 -> 43
A55: 44 | B55: Phạm Thị Song | C55: ĐÀO | D55: 711A24122832 | E55: 1603205250811 | F55: 3.66 | H55: =F55+(F55*G55) -> 3.66 | I55: 0.25 | J55: =H55+I55 -> 3.91 | K55: =J55*$I$8 -> 4105500 | L55: A | M55: =IF(L55="A",K55*0.5,IF(L55="B",K55*0.5*0.75,IF(L55="C",K55*0.5*0.75*0.75,0))) -> 2052750 | N55: =IF(L55="A",1050000,IF(L55="B",735000,IF(L55="C",514500,0))) -> 1050000 | O55: 26 | P55: 26 | Q55: =IF(M55>N55,M55,N55) -> 2052750 | R55: =ROUND(IF(P55>=O55,Q55,Q55/O55*P55),0) -> 2052750 | T55: =S55*$I$8*0.5 -> 0 | V55: =U55*$I$8*0.5 -> 0 | W55: =(J55*$I$8*0.01)+(S55*$I$8*1%)+(U55*1%*$I$8) -> 41055 | X55: =R55+T55+V55+W55 -> 2093805 | Y55: =A55 -> 44
A56: 45 | B56: Lữ Châu | C56: THI | D56: 711A34615102 | E56: 1603205275619 | F56: 3 | H56: =F56+(F56*G56) -> 3 | I56: 0.25 | J56: =H56+I56 -> 3.25 | K56: =J56*$I$8 -> 3412500 | L56: A | M56: =IF(L56="A",K56*0.5,IF(L56="B",K56*0.5*0.75,IF(L56="C",K56*0.5*0.75*0.75,0))) -> 1706250 | N56: =IF(L56="A",1050000,IF(L56="B",735000,IF(L56="C",514500,0))) -> 1050000 | O56: 26 | P56: 26.5 | Q56: =IF(M56>N56,M56,N56) -> 1706250 | R56: =ROUND(IF(P56>=O56,Q56,Q56/O56*P56),0) -> 1706250 | T56: =S56*$I$8*0.5 -> 0 | V56: =U56*$I$8*0.5 -> 0 | W56: =(J56*$I$8*0.01)+(S56*$I$8*1%)+(U56*1%*$I$8) -> 34125 | X56: =R56+T56+V56+W56 -> 1740375 | Y56: =A56 -> 45 | Z56: Cộng 1/2N chấm công T2
A57: 46 | B57: Trần Thị Hồng | C57: THU | D57: 711A34713613 | E57: 1603205275660 | F57: 3 | H57: =F57+(F57*G57) -> 3 | J57: =H57+I57 -> 3 | K57: =J57*$I$8 -> 3150000 | L57: A | M57: =IF(L57="A",K57*0.5,IF(L57="B",K57*0.5*0.75,IF(L57="C",K57*0.5*0.75*0.75,0))) -> 1575000 | N57: =IF(L57="A",1050000,IF(L57="B",735000,IF(L57="C",514500,0))) -> 1050000 | O57: 26 | P57: 26 | Q57: =IF(M57>N57,M57,N57) -> 1575000 | R57: =ROUND(IF(P57>=O57,Q57,Q57/O57*P57),0) -> 1575000 | T57: =S57*$I$8*0.5 -> 0 | V57: =U57*$I$8*0.5 -> 0 | W57: =(J57*$I$8*0.01)+(S57*$I$8*1%)+(U57*1%*$I$8) -> 31500 | X57: =R57+T57+V57+W57 -> 1606500 | Y57: =A57 -> 46
A58: 47 | B58: Viên Ngọc | C58: BẠCH | D58: 711A34171317 | E58: 1603205274826 | F58: 2.34 | H58: =F58+(F58*G58) -> 2.34 | J58: =H58+I58 -> 2.34 | K58: =J58*$I$8 -> 2457000 | L58: A | M58: =IF(L58="A",K58*0.5,IF(L58="B",K58*0.5*0.75,IF(L58="C",K58*0.5*0.75*0.75,0))) -> 1228500 | N58: =IF(L58="A",1050000,IF(L58="B",735000,IF(L58="C",514500,0))) -> 1050000 | O58: 26 | P58: 26 | Q58: =IF(M58>N58,M58,N58) -> 1228500 | R58: =ROUND(IF(P58>=O58,Q58,Q58/O58*P58),0) -> 1228500 | T58: =S58*$I$8*0.5 -> 0 | V58: =U58*$I$8*0.5 -> 0 | W58: =(J58*$I$8*0.01)+(S58*$I$8*1%)+(U58*1%*$I$8) -> 24570 | X58: =R58+T58+V58+W58 -> 1253070 | Y58: =A58 -> 47
A59: 48 | B59: Hoàng Anh | C59: TOÀN | D59: 711A34210005 | E59: 1603205274934 | F59: 2.34 | H59: =F59+(F59*G59) -> 2.34 | J59: =H59+I59 -> 2.34 | K59: =J59*$I$8 -> 2457000 | L59: A | M59: =IF(L59="A",K59*0.5,IF(L59="B",K59*0.5*0.75,IF(L59="C",K59*0.5*0.75*0.75,0))) -> 1228500 | N59: =IF(L59="A",1050000,IF(L59="B",735000,IF(L59="C",514500,0))) -> 1050000 | O59: 26 | P59: 26 | Q59: =IF(M59>N59,M59,N59) -> 1228500 | R59: =ROUND(IF(P59>=O59,Q59,Q59/O59*P59),0) -> 1228500 | T59: =S59*$I$8*0.5 -> 0 | V59: =U59*$I$8*0.5 -> 0 | W59: =(J59*$I$8*0.01)+(S59*$I$8*1%)+(U59*1%*$I$8) -> 24570 | X59: =R59+T59+V59+W59 -> 1253070 | Y59: =A59 -> 48
A60: 49 | B60: Thái Thị Thanh | C60: TRANG | D60: 711A34648402 | E60: 1603205275740 | F60: 2.34 | H60: =F60+(F60*G60) -> 2.34 | J60: =H60+I60 -> 2.34 | K60: =J60*$I$8 -> 2457000 | L60: A | M60: =IF(L60="A",K60*0.5,IF(L60="B",K60*0.5*0.75,IF(L60="C",K60*0.5*0.75*0.75,0))) -> 1228500 | N60: =IF(L60="A",1050000,IF(L60="B",735000,IF(L60="C",514500,0))) -> 1050000 | O60: 26 | P60: 26 | Q60: =IF(M60>N60,M60,N60) -> 1228500 | R60: =ROUND(IF(P60>=O60,Q60,Q60/O60*P60),0) -> 1228500 | T60: =S60*$I$8*0.5 -> 0 | V60: =U60*$I$8*0.5 -> 0 | W60: =(J60*$I$8*0.01)+(S60*$I$8*1%)+(U60*1%*$I$8) -> 24570 | X60: =R60+T60+V60+W60 -> 1253070 | Y60: =A60 -> 49
A61: 50 | B61: Lưu Thị Ngọc | C61: THÚY | D61: 711A29231332 | E61: 1603205275858 | F61: 2.34 | H61: =F61+(F61*G61) -> 2.34 | J61: =H61+I61 -> 2.34 | K61: =J61*$I$8 -> 2457000 | L61: A | M61: =IF(L61="A",K61*0.5,IF(L61="B",K61*0.5*0.75,IF(L61="C",K61*0.5*0.75*0.75,0))) -> 1228500 | N61: =IF(L61="A",1050000,IF(L61="B",735000,IF(L61="C",514500,0))) -> 1050000 | O61: 26 | P61: 26 | Q61: =IF(M61>N61,M61,N61) -> 1228500 | R61: =ROUND(IF(P61>=O61,Q61,Q61/O61*P61),0) -> 1228500 | T61: =S61*$I$8*0.5 -> 0 | V61: =U61*$I$8*0.5 -> 0 | W61: =(J61*$I$8*0.01)+(S61*$I$8*1%)+(U61*1%*$I$8) -> 24570 | X61: =R61+T61+V61+W61 -> 1253070 | Y61: =A61 -> 50
A62: 51 | B62: Nguyễn Thụy Hải | C62: YẾN | D62: 711A54880724 | E62: 1603205307801 | F62: 3.33 | H62: =F62+(F62*G62) -> 3.33 | J62: =H62+I62 -> 3.33 | K62: =J62*$I$8 -> 3496500 | L62: A | M62: =IF(L62="A",K62*0.5,IF(L62="B",K62*0.5*0.75,IF(L62="C",K62*0.5*0.75*0.75,0))) -> 1748250 | N62: =IF(L62="A",1050000,IF(L62="B",735000,IF(L62="C",514500,0))) -> 1050000 | O62: 26 | P62: 26 | Q62: =IF(M62>N62,M62,N62) -> 1748250 | R62: =ROUND(IF(P62>=O62,Q62,Q62/O62*P62),0) -> 1748250 | T62: =S62*$I$8*0.5 -> 0 | V62: =U62*$I$8*0.5 -> 0 | W62: =(J62*$I$8*0.01)+(S62*$I$8*1%)+(U62*1%*$I$8) -> 34965 | X62: =R62+T62+V62+W62 -> 1783215 | Y62: =A62 -> 51
A63: 52 | B63: Nguyễn Thị Ngọc | C63: TRANG | D63: 711A55150293 | E63: 1603205303200 | F63: 3.66 | H63: =F63+(F63*G63) -> 3.66 | J63: =H63+I63 -> 3.66 | K63: =J63*$I$8 -> 3843000 | L63: A | M63: =IF(L63="A",K63*0.5,IF(L63="B",K63*0.5*0.75,IF(L63="C",K63*0.5*0.75*0.75,0))) -> 1921500 | N63: =IF(L63="A",1050000,IF(L63="B",735000,IF(L63="C",514500,0))) -> 1050000 | O63: 26 | P63: 26 | Q63: =IF(M63>N63,M63,N63) -> 1921500 | R63: =ROUND(IF(P63>=O63,Q63,Q63/O63*P63),0) -> 1921500 | T63: =S63*$I$8*0.5 -> 0 | V63: =U63*$I$8*0.5 -> 0 | W63: =(J63*$I$8*0.01)+(S63*$I$8*1%)+(U63*1%*$I$8) -> 38430 | X63: =R63+T63+V63+W63 -> 1959930 | Y63: =A63 -> 52
A64: 53 | B64: Nguyễn Minh | C64: NHẬT | D64: 711A46433144 | E64: 1603205299879 | F64: =2.34 -> 2.34 | H64: =F64+(F64*G64) -> 2.34 | J64: =H64+I64 -> 2.34 | K64: =J64*$I$8 -> 2457000 | L64: A | M64: =IF(L64="A",K64*0.5,IF(L64="B",K64*0.5*0.75,IF(L64="C",K64*0.5*0.75*0.75,0))) -> 1228500 | N64: =IF(L64="A",1050000,IF(L64="B",735000,IF(L64="C",514500,0))) -> 1050000 | O64: 26 | P64: 26 | Q64: =IF(M64>N64,M64,N64) -> 1228500 | R64: =ROUND(IF(P64>=O64,Q64,Q64/O64*P64),0) -> 1228500 | T64: =S64*$I$8*0.5 -> 0 | V64: =U64*$I$8*0.5 -> 0 | W64: =(J64*$I$8*0.01)+(S64*$I$8*1%)+(U64*1%*$I$8) -> 24570 | X64: =R64+T64+V64+W64 -> 1253070 | Y64: =A64 -> 53
A65: 54 | B65: Lê Thị Kim | C65: NHÂN | D65: 711A55676578 | E65: 1603205183418 | F65: =2.34 -> 2.34 | H65: =F65+(F65*G65) -> 2.34 | J65: =H65+I65 -> 2.34 | K65: =J65*$I$8 -> 2457000 | L65: B | M65: =IF(L65="A",K65*0.5,IF(L65="B",K65*0.5*0.75,IF(L65="C",K65*0.5*0.75*0.75,0))) -> 921375 | N65: =IF(L65="A",1050000,IF(L65="B",735000,IF(L65="C",514500,0))) -> 735000 | O65: 26 | P65: 25 | Q65: =IF(M65>N65,M65,N65) -> 921375 | R65: =ROUND(IF(P65>=O65,Q65,Q65/O65*P65),0) -> 885938 | T65: =S65*$I$8*0.5 -> 0 | V65: =U65*$I$8*0.5 -> 0 | W65: =(J65*$I$8*0.01)+(S65*$I$8*1%)+(U65*1%*$I$8) -> 24570 | X65: =R65+T65+V65+W65 -> 910508 | Y65: =A65 -> 54 | Z65: Trừ 1N nghỉ phép Nghỉ 6 tiết, nghỉ tập huấn NCKHSPƯD
A66: 55 | B66: Phạm Minh | C66: ĐĂNG | D66: 711A55304931 | E66: 1603205186684 | F66: 3.33 | H66: =F66+(F66*G66) -> 3.33 | J66: =H66+I66 -> 3.33 | K66: =J66*$I$8 -> 3496500 | L66: A | M66: =IF(L66="A",K66*0.5,IF(L66="B",K66*0.5*0.75,IF(L66="C",K66*0.5*0.75*0.75,0))) -> 1748250 | N66: =IF(L66="A",1050000,IF(L66="B",735000,IF(L66="C",514500,0))) -> 1050000 | O66: 26 | P66: 26 | Q66: =IF(M66>N66,M66,N66) -> 1748250 | R66: =ROUND(IF(P66>=O66,Q66,Q66/O66*P66),0) -> 1748250 | T66: =S66*$I$8*0.5 -> 0 | V66: =U66*$I$8*0.5 -> 0 | W66: =(J66*$I$8*0.01)+(S66*$I$8*1%)+(U66*1%*$I$8) -> 34965 | X66: =R66+T66+V66+W66 -> 1783215 | Y66: =A66 -> 55
A67: 56 | B67: Trương Thành | C67: KHOA | D67: 711A55613135 | E67: 1603205183397 | F67: =2.34 -> 2.34 | H67: =F67+(F67*G67) -> 2.34 | J67: =H67+I67 -> 2.34 | K67: =J67*$I$8 -> 2457000 | L67: A | M67: =IF(L67="A",K67*0.5,IF(L67="B",K67*0.5*0.75,IF(L67="C",K67*0.5*0.75*0.75,0))) -> 1228500 | N67: =IF(L67="A",1050000,IF(L67="B",735000,IF(L67="C",514500,0))) -> 1050000 | O67: 26 | P67: 26 | Q67: =IF(M67>N67,M67,N67) -> 1228500 | R67: =ROUND(IF(P67>=O67,Q67,Q67/O67*P67),0) -> 1228500 | T67: =S67*$I$8*0.5 -> 0 | V67: =U67*$I$8*0.5 -> 0 | W67: =(J67*$I$8*0.01)+(S67*$I$8*1%)+(U67*1%*$I$8) -> 24570 | X67: =R67+T67+V67+W67 -> 1253070 | Y67: =A67 -> 56
A68: 57 | B68: Phạm Thị | C68: HÀ | D68: 711A55587351 | E68: 1603205183316 | F68: =2.34 -> 2.34 | H68: =F68+(F68*G68) -> 2.34 | J68: =H68+I68 -> 2.34 | K68: =J68*$I$8 -> 2457000 | L68: A | M68: =IF(L68="A",K68*0.5,IF(L68="B",K68*0.5*0.75,IF(L68="C",K68*0.5*0.75*0.75,0))) -> 1228500 | N68: =IF(L68="A",1050000,IF(L68="B",735000,IF(L68="C",514500,0))) -> 1050000 | O68: 26 | P68: 26 | Q68: =IF(M68>N68,M68,N68) -> 1228500 | R68: =ROUND(IF(P68>=O68,Q68,Q68/O68*P68),0) -> 1228500 | T68: =S68*$I$8*0.5 -> 0 | V68: =U68*$I$8*0.5 -> 0 | W68: =(J68*$I$8*0.01)+(S68*$I$8*1%)+(U68*1%*$I$8) -> 24570 | X68: =R68+T68+V68+W68 -> 1253070 | Y68: =A68 -> 57
A69: 58 | B69: Lý Hoàng | C69: NAM | D69: 711A21147529 | E69: 1603205183368 | F69: =2.34 -> 2.34 | H69: =F69+(F69*G69) -> 2.34 | J69: =H69+I69 -> 2.34 | K69: =J69*$I$8 -> 2457000 | L69: A | M69: =IF(L69="A",K69*0.5,IF(L69="B",K69*0.5*0.75,IF(L69="C",K69*0.5*0.75*0.75,0))) -> 1228500 | N69: =IF(L69="A",1050000,IF(L69="B",735000,IF(L69="C",514500,0))) -> 1050000 | O69: 26 | P69: 26 | Q69: =IF(M69>N69,M69,N69) -> 1228500 | R69: =ROUND(IF(P69>=O69,Q69,Q69/O69*P69),0) -> 1228500 | T69: =S69*$I$8*0.5 -> 0 | V69: =U69*$I$8*0.5 -> 0 | W69: =(J69*$I$8*0.01)+(S69*$I$8*1%)+(U69*1%*$I$8) -> 24570 | X69: =R69+T69+V69+W69 -> 1253070 | Y69: =A69 -> 58
A70: 59 | B70: Phương Kim | C70: CƯỜNG | D70: 711A74990261 | E70: 1603205356530 | F70: =2.34*85% -> 1.989 | H70: =F70+(F70*G70) -> 1.989 | J70: =H70+I70 -> 1.989 | K70: =J70*$I$8 -> 2088450 | L70: A | M70: =IF(L70="A",K70*0.5,IF(L70="B",K70*0.5*0.75,IF(L70="C",K70*0.5*0.75*0.75,0))) -> 1044225 | N70: =IF(L70="A",1050000,IF(L70="B",735000,IF(L70="C",514500,0))) -> 1050000 | O70: 26 | P70: 26 | Q70: =IF(M70>N70,M70,N70) -> 1050000 | R70: =ROUND(IF(P70>=O70,Q70,Q70/O70*P70),0) -> 1050000 | T70: =S70*$I$8*0.5 -> 0 | V70: =U70*$I$8*0.5 -> 0 | W70: =(J70*$I$8*0.01)+(S70*$I$8*1%)+(U70*1%*$I$8) -> 20884.5 | X70: =R70+T70+V70+W70 -> 1070884.5 | Y70: =A70 -> 59
A71: 60 | B71: Phạm Thế | C71: VINH | D71: 711A05930741 | E71: 1603205356451 | F71: =2.34*85% -> 1.989 | H71: =F71+(F71*G71) -> 1.989 | J71: =H71+I71 -> 1.989 | K71: =J71*$I$8 -> 2088450 | L71: B | M71: =IF(L71="A",K71*0.5,IF(L71="B",K71*0.5*0.75,IF(L71="C",K71*0.5*0.75*0.75,0))) -> 783168.75 | N71: =IF(L71="A",1050000,IF(L71="B",735000,IF(L71="C",514500,0))) -> 735000 | O71: 26 | P71: 23.5 | Q71: =IF(M71>N71,M71,N71) -> 783168.75 | R71: =ROUND(IF(P71>=O71,Q71,Q71/O71*P71),0) -> 707864 | T71: =S71*$I$8*0.5 -> 0 | V71: =U71*$I$8*0.5 -> 0 | W71: =(J71*$I$8*0.01)+(S71*$I$8*1%)+(U71*1%*$I$8) -> 20884.5 | X71: =R71+T71+V71+W71 -> 728748.5 | Y71: =A71 -> 60 | Z71: Nghỉ 10 tiết
B72: CỘNG | F72: =SUM(F12:F71) -> 169.458 | G72: =SUM(G12:G71) -> 0 | H72: =SUM(H12:H71) -> 169.458 | I72: =SUM(I12:I71) -> 3.75 | J72: =SUM(J12:J71) -> 173.208 | K72: =SUM(K12:K71) -> 181868400 | M72: =SUM(M12:M71) -> 86309081 | N72: =SUM(N12:N71) -> 59640000 | O72: =SUM(O12:O71) -> 1508 | P72: =SUM(P12:P71) -> 1478 | Q72: =SUM(Q12:Q71) -> 86314856 | R72: =SUM(R12:R71) -> 84849160 | S72: =SUM(S12:S71) -> 0 | T72: =SUM(T12:T71) -> 0 | ... X72: =SUM(X12:X71) -> 86601379
B74: ="Số tiền bằng chữ: "&[4]!DocSoUniH(X72)&" đồng." -> #NAME?
X76: TP. Hồ Chí Minh, ngày tháng năm 2013
A77: NGƯỜI LẬP BẢNG | L77: P. CHỦ TỊCH HĐ THI ĐUA | R77: KẾ TOÁN TRƯỞNG | W77: HIỆU TRƯỞNG
A84: Lê Thị Tuyết Trinh | L84: Phạm Minh Nghĩa | R84: Phạm Ngọc Long | W84: Văn Công Sang

Sheet NH mới
A1: ỦY BAN NHÂN DÂN TP.HCM | N1: CỘNG HÒA XÃ HỘI CHỦ NGHĨA VIỆT NAM
A2: TRƯỜNG CAO ĐẲNG KỸ THUẬT | N2: Độc lập - Tự do - Hạnh phúc
A3: LÝ TỰ TRỌNG
A5: BẢNG THU NHẬP TĂNG THÊM - LƯƠNG THEO HỆ SỐ ĐIỀU CHỈNH THÁNG 2 ( BỔ SUNG) NĂM 2013
A6: CÁN BỘ VIÊN CHỨC TRONG CHỈ TIÊU BIÊN CHẾ - TRUNG TÂM DẠY NGHỀ VÀ NBT
A7: (Chi theo Chương II - "Những quy định cụ thể"/ Mục 2 - "Chi thanh toán cá nhân"/ Điều 17 - "Các khoản thanh toán cá nhân"/ Khoản 1.2 - "Tiền lương tăng thêm" trong Quy chế chi tiêu nội bộ năm học 2012 - 2013 ban hành theo Quyết định số 83/QĐ-LTT-KTTC ngày 23 tháng 01 năm 2013
B9: Mức lương tối thiểu có hệ số 1 = 1 050 000đ | I9: 1050000 | N9: Hsđc: | P9: A=0,50, B=0,30, C=0,10, D=0 | W9: Đơn vị tính: đồng
A11: STT | B11: HỌ VÀ TÊN | E11: Số tài khoản thẻ ATM VIETINBANK | F11: Số tài khoản thẻ ATM AGRIBANK | G11: HS (hide) | H11: VK (hide) | I11: HS THỰC HƯỞNG (hide) | J11: HSPC (hide) | K11: HS LƯƠNG +PCCV | L11: CỘNG LƯƠNG (hide) | M11: XẾP LOẠI | N11: Mức lương theo hệ số điều chỉnh | O11: ABC MIN(hide) | P11: Số ngày công kế hoạch | Q11: Số ngày công thực hiện | R11: Số tiền thi đua không tính ngày (hide) | S11: Lương điều chỉnh tính theo ngày công thực hiện/tháng | T11: HỆ SỐ TRUY LÃNH LƯƠNG (CỘT NÀY HIDE) | U11: Truy lãnh lương điều chỉnh do truy lãnh lương | V11: HỆ SỐ TRUY LÃNH PCCV (CỘT NÀY HIDE) | W11: Truy lãnh lương điều chỉnh do truy lãnh PCCV | X11: Trường hỗ trợ 1% BHYT | Y11: THÀNH TIỀN | Z11: GHI CHÚ
A12: 01 | B12: 02 | G12: 03 | H12: 04 | I12: 05 | J12: 06 | K12: 03 | L12: 08 | M12: 04 | N12: 05 | O12: 11 | P12: 06 | Q12: 07 | R12: 14 | S12: 08 | T12: 16 | U12: 09 | V12: 18 | W12: 10 | X12: 11 | Y12: 12 | Z12: 13
A13: 01 | B13: Nguyễn Văn | C13: HÒA | E13: 711A23234732 | F13: 1603205179094 | G13: 6.1 | I13: =G13+(G13*H13) -> 6.1 | J13: 0.45 | K13: =I13+J13 -> 6.55 | L13: =K13*$I$9 -> 6877500 | M13: A | N13: =IF(M13="A",L13*0.5,IF(M13="B",L13*0.3,IF(M13="C",L13*0.1,0))) -> 3438750 | O13: =IF(M13="A",1050000,IF(M13="B",735000,IF(M13="C",514500,0))) -> 1050000 | P13: 21 | Q13: 19 | R13: =IF(N13>O13,N13,O13) -> 3438750 | S13: =IF(Q13>=P13,R13,R13/P13*Q13) -> 3111250 | U13: =T13*$I$9*0.42 -> 0 | W13: =V13*$I$9*0.42 -> 0 | X13: =(K13*$I$9*0.01)+(T13*1%*$I$9)+(V13*1%*$I$9) -> 68775 | Y13: =S13+U13+W13+X13 -> 3180025 | Z13: =A13 -> 01
A14: 02 | B14: Võ Thị Khánh | C14: VÂN | E14: 711A23234729 | F14: 1603205179088 | G14: 2.06 | I14: =G14+(G14*H14) -> 2.06 | K14: =I14+J14 -> 2.06 | L14: =K14*$I$9 -> 2163000 | M14: A | N14: =IF(M14="A",L14*0.5,IF(M14="B",L14*0.3,IF(M14="C",L14*0.1,0))) -> 1081500 | O14: =IF(M14="A",1050000,IF(M14="B",735000,IF(M14="C",514500,0))) -> 1050000 | P14: 21 | Q14: 21 | R14: =IF(N14>O14,N14,O14) -> 1081500 | S14: =IF(Q14>=P14,R14,R14/P14*Q14) -> 1081500 | U14: =T14*$I$9*0.42 -> 0 | W14: =V14*$I$9*0.42 -> 0 | X14: =(K14*$I$9*0.01)+(T14*1%*$I$9)+(V14*1%*$I$9) -> 21630 | Y14: =S14+U14+W14+X14 -> 1103130 | Z14: =A14 -> 02
A15: 03 | B15: Lương Thị | C15: THẮM | E15: 711A14784559 | F15: 1603205179071 | G15: 1.86 | I15: =G15+(G15*H15) -> 1.86 | J15: 0 | K15: =I15+J15 -> 1.86 | L15: =K15*$I$9 -> 1953000 | M15: A | N15: =IF(M15="A",L15*0.5,IF(M15="B",L15*0.3,IF(M15="C",L15*0.1,0))) -> 976500 | O15: =IF(M15="A",1050000,IF(M15="B",735000,IF(M15="C",514500,0))) -> 1050000 | P15: 21 | Q15: 21 | R15: =IF(N15>O15,N15,O15) -> 1050000 | S15: =IF(Q15>=P15,R15,R15/P15*Q15) -> 1050000 | U15: =T15*$I$9*0.42 -> 0 | W15: =V15*$I$9*0.42 -> 0 | X15: =(K15*$I$9*0.01)+(T15*1%*$I$9)+(V15*1%*$I$9) -> 19530 | Y15: =S15+U15+W15+X15 -> 1069530 | Z15: =A15 -> 03
A16: 04 | B16: Đỗ Thị | C16: TÂM | E16: 711A23234744 | F16: 1603205179059 | G16: 2.06 | I16: =G16+(G16*H16) -> 2.06 | J16: 0 | K16: 2.26 | L16: =K16*$I$9 -> 2373000 | M16: A | N16: =IF(M16="A",L16*0.5,IF(M16="B",L16*0.3,IF(M16="C",L16*0.1,0))) -> 1186500 | O16: =IF(M16="A",1050000,IF(M16="B",735000,IF(M16="C",514500,0))) -> 1050000 | P16: 21 | Q16: 16 | R16: =IF(N16>O16,N16,O16) -> 1186500 | S16: =IF(Q16>=P16,R16,R16/P16*Q16) -> 904000 | U16: =T16*$I$9*0.42 -> 0 | W16: =V16*$I$9*0.42 -> 0 | X16: =(K16*$I$9*0.01)+(T16*1%*$I$9)+(V16*1%*$I$9) -> 23730 | Y16: =S16+U16+W16+X16 -> 927730 | Z16: =A16 -> 04
B17: CỘNG | G17: =SUM(G13:G16) -> 12.08 | H17: =SUM(H13:H16) -> 0 | I17: =SUM(I13:I16) -> 12.08 | J17: =SUM(J13:J16) -> 0.45 | K17: =SUM(K13:K16) -> 12.73 | L17: =K17*$I$9 -> 13366500 | N17: =SUM(N13:N16) -> 6683250 | P17: =SUM(P13:P16) -> 84 | Q17: =SUM(Q13:Q16) -> 77 | S17: =SUM(S13:S16) -> 6146750 | T17: =SUM(T13:T16) -> 0 | U17: =SUM(U13:U16) -> 0 | V17: =SUM(V13:V16) -> 0 | W17: =SUM(W13:W16) -> 0 | X17: =SUM(X13:X16) -> 133665 | Y17: =SUM(Y13:Y16) -> 6280415
B19: ="Số tiền bằng chữ: "&[4]!DocSoUniH(Y17)&" đồng." -> #NAME?
Y20: TP. Hồ Chí Minh, ngày 13 tháng 3 năm 2013
A21: NGƯỜI LẬP BẢNG | M21: P. CHỦ TỊCH HĐ THI ĐUA | Q21: KẾ TOÁN TRƯỞNG | X21: HIỆU TRƯỞNG
A28: Lê Thị Tuyết Trinh | M28: Phạm Minh Nghĩa | Q28: Phạm Ngọc Long | X28: Văn Công Sang

Sheet Sheet1
B6: =CN!V279 -> 2271754974
B7: =NH!V15 -> 0
B8: =SUM(B5:B7) -> 2271754974

Sheet Sheet2
