Workbook

Sheet PCTN
A1: ỦY BAN NHÂN DÂN THÀNH PHỐ HỒ CHÍ MINH | AK1: Mẫu số C02a - HD
A2: ĐƠN VỊ: TRƯỜNG CAO ĐẲNG LÝ TỰ TRỌNG | AK2: (Ban hành kèm theo Thông tư số 107/2017-BTC
A3: MÃ ĐƠN VỊ: 1058083 | AK3: ngày 10/10/2017 của Bộ Tài chính)
U4: BẢNG THANH TOÁN TIỀN LƯƠNG
AQ5: Số: ……………………………………
U6: (Tháng 12 năm 2020) | AQ6: Nợ: ……………………………………
AQ7: Có: …………………………………….
D8: 1490000
A9: STT | C9: MÃ SỐ VIÊN CHỨC` | D9: HỌ VÀ TÊN | E9: CẤP BẬC - CHỨC VỤ | G9: NỮ | I9: CD | J9: MS CỐ ĐỊNH TỪ T8/2008 | K9: Số CMND | L9: Số tài khoản | M9: MÃ SỐ VIÊN CHỨC` | N9: MÃ SỐ NGẠCH LƯƠNG | O9: LOẠI VC | P9: BẬC | Q9: LƯƠNG HỆ SỐ | Y9: CỘNG HỆ SỐ | Z9: THÀNH TIỀN | AA9: SỐ NGÀY NGHỈ | AB9: Nghỉ việc không được hưởng lương | AC9: BHXH trả thay lương | AD9: Tổng cộng tiền lương và BHXH được hưởng | AE9: KHẤU TRỪ | AJ9: PC TRÁCH NHIỆM | AL9: PC ĐỘC HẠI | AN9: Hệ số lương +VK + PCCV (hide) | AO9: Tỷ lệ PCƯĐ (hide) | AP9: Hệ số PCƯĐ | AQ9: PC ƯU ĐÃI | AR9: Nộp 1 ngày lương | AS9: TỔNG CỘNG TIỀN LƯƠNG CÒN ĐƯỢC NHẬN | AT9: KÝ NHẬN
I10: CV | L10: thẻ ATM | Q10: HỆ SỐ LƯƠNG | R10: CỘNG HỆ SỐ PHỤ CẤP | S10: HỆ SỐ PC VƯỢT KHUNG | T10: HỆ SỐ PCTNVK | V10: HS PC CHỨC VỤ | W10: TỶ LỆ PCTNNG | X10: HS PCTN nhà giáo | AE10: BHXH 8% | AF10: BHYT 1.5% | AG10: BH THẤT NGHIỆP 1% | AH10: THUẾ THU NHẬP | AI10: CỘNG | AJ10: HỆ SỐ | AK10: THÀNH TIỀN | AL10: HỆ SỐ | AM10: THÀNH TIỀN
A11: 1 | C11: 2 | D11: 3 | E11: 4 | N11: 5 | O11: 4 | P11: 5 | Q11: 6 | R11: Hide | S11: Hide | T11: 7 | U11: Hide | V11: 8 | W11: Hide | X11: 9 | Y11: 10=6+7+8+9 | Z11: 11=10*1.490.000 | AA11: Hide | AB11: 12 | AC11: 13 | AD11: 14=11-12+13 | AE11: 15 | AF11: 16 | AG11: 17 | AH11: 18 | AI11: 19=15+16+17+18 | AJ11: 20 | AK11: 21=20*1.490.000 | AL11: 22 | AM11: 23=22*1.490.000 | AN11: Hide | AO11: Hide | AP11: 24=(6+7+8)* Tỷ lệ PCUĐ | AQ11: 25=24*1.490.000 | AR11: Hide | AS11: 26=14-19+21+23+25 | AT11: 27 | AX11: =(3.66+0.35)*1490000 -> 5974900 | AY11: =(3.66+0.35)*1600000 -> 6416000
U12: (9) = (8) x LTT | AE12: (17) = (16) x 7% | AF12: (18) = (16) x 1.5% | AG12: (19) = (16) x 1% | AK12: (21) = (20) x LTT | AQ12: (22) = (6) + (6 x 8) + (10) x % PCƯĐ x LTT
C13: A. BIÊN CHẾ | AX13: =AX11*10.5% -> 627364.5 | AY13: =AY11*10.5% -> 673680
A14: 01 | B14: =VLOOKUP(D14,[1]LuongBC_T01!$B$9:$C$292,2,FALSE) -> 0016100006544007 | C14: 41200001203 | D14: Phạm Hữu Lộc | E14: Hiệu trưởng | K14: =VLOOKUP(D14,[2]T3!$B$2:$D$328,3,FALSE) -> 022874945 | L14: 1603215001126 | M14: 41200001203 | N14: V.07.01.03 | O14: A1 | P14: 9 | Q14: 4.98 | R14: =T14+V14+X14 -> 3.569 | S14: 11 | T14: =ROUND(Q14*S14/100,4) -> 0.5478 | U14: =Q14*S14*$D$8/100 -> 816222 | V14: 0.9 | W14: =VLOOKUP(D14,[3]BC!$D$14:$X$294,20,FALSE) -> 0.33 | X14: =ROUND((Q14+T14+V14)*W14,4) -> 2.1212 | Y14: =ROUND(Q14+T14+V14+X14,4) -> 8.549 | Z14: =ROUND(Y14*$D$8,0) -> 12738010 | AB14: =Z14/24*AA14 -> 0 | AC14: =Z14/24*AA14*75% -> 0 | AD14: =ROUND(Z14-AB14+AC14,0) -> 12738010 | AE14: =Z14*8% -> 1019040.8 | AF14: =Z14*1.5% -> 191070.15 | AG14: =Z14*1% -> 127380.1 | AI14: =SUM(AE14:AH14) -> 1337491.1 | AJ14: 0.3 | AK14: =AJ14*$D$8 -> 447000 | AN14: =Q14+T14+V14 -> 6.4278 | AO14: 0.25 | AP14: =ROUND(AN14*AO14,4) -> 1.607 | AQ14: =ROUND(AP14*$D$8,0) -> 2394430 | AS14: =ROUND(AD14-AI14+AK14+AM14+AQ14,0) -> 14241949 | AT14: =A14 -> 01 | AU14: Hưởng PCTN cấp ủy viên HS 0,3 trên MLTT từ T1/2015. | AX14: =AX11-AX13 -> 5347535.5 | AY14: =AY11-AY13 -> 5742320
A15: 02 | B15: =VLOOKUP(D15,[1]LuongBC_T01!$B$9:$C$292,2,FALSE) -> 0016100006699008 | C15: 50200000021 | D15: Đinh Văn Đệ | E15: Phó Hiệu trưởng | K15: =VLOOKUP(D15,[2]T3!$B$2:$D$328,3,FALSE) -> 025372149 | L15: 1603215001371 | M15: 50200000021 | N15: V.09.02.03 | O15: A1 | P15: 8 | Q15: 4.98 | R15: =T15+V15+X15 -> 1.7792 | T15: =ROUND(Q15*S15/100,4) -> 0 | U15: =Q15*S15*$D$8/100 -> 0 | V15: 0.7 | W15: 0.19 | X15: =ROUND((Q15+T15+V15)*W15,4) -> 1.0792 | Y15: =ROUND(Q15+T15+V15+X15,4) -> 6.7592 | Z15: =ROUND(Y15*$D$8,0) -> 10071208 | AB15: =Z15/24*AA15 -> 0 | AC15: =Z15/24*AA15*75% -> 0 | AD15: =ROUND(Z15-AB15+AC15,0) -> 10071208 | AE15: =Z15*8% -> 805696.64 | AF15: =Z15*1.5% -> 151068.12 | AG15: =Z15*1% -> 100712.08 | AI15: =SUM(AE15:AH15) -> 1057476.8 | AJ15: 0.3 | AK15: =AJ15*$D$8 -> 447000 | AN15: =Q15+T15+V15 -> 5.68 | AO15: 0.25 | AP15: =ROUND(AN15*AO15,4) -> 1.42 | AQ15: =ROUND(AP15*$D$8,0) -> 2115800 | AS15: =ROUND(AD15-AI15+AK15+AM15+AQ15,0) -> 11576531 | AT15: =A15 -> 02 | AU15: PCTN cấp ủy viên HS 0,3 trên MLTT từ 15/4/15. | AV15: QĐ Thuyên chuyển từ ĐH Công nghiệp về trường T01/2015. | AX15: =AY14-AX14 -> 394784.5
A16: 03 | B16: =VLOOKUP(D16,[1]LuongBC_T01!$B$9:$C$292,2,FALSE) -> 0016100006543008 | C16: 11100000791 | D16: Đinh Hồng Minh | E16: Phó Hiệu trưởng | F16: ĐH | G16: x | I16: PPK | J16: PPK023 | K16: =VLOOKUP(D16,[2]T3!$B$2:$D$328,3,FALSE) -> 022077198 | L16: 1603205186191 | M16: 11100000791 | N16: 01.003 | O16: A1 | P16: 8 | Q16: 4.98 | R16: =T16+V16+X16 -> 0.949 | S16: 5 | T16: =ROUND(Q16*S16/100,4) -> 0.249 | U16: =Q16*S16*$D$8/100 -> 371010 | V16: 0.7 | W16: =VLOOKUP(D16,[3]BC!$D$14:$X$294,20,FALSE) -> 0 | X16: =ROUND((Q16+T16+V16)*W16,4) -> 0 | Y16: =ROUND(Q16+T16+V16+X16,4) -> 5.929 | Z16: =ROUND(Y16*$D$8,0) -> 8834210 | AB16: =Z16/24*AA16 -> 0 | AC16: =Z16/24*AA16*75% -> 0 | AD16: =ROUND(Z16-AB16+AC16,0) -> 8834210 | AE16: =Z16*8% -> 706736.8 | AF16: =Z16*1.5% -> 132513.15 | AG16: =Z16*1% -> 88342.1 | AI16: =SUM(AE16:AH16) -> 927592.05 | AJ16: 0.3 | AK16: =AJ16*$D$8 -> 447000 | AN16: =Q16+T16+V16 -> 5.929 | AP16: =ROUND(AN16*AO16,4) -> 0 | AQ16: =ROUND(AP16*$D$8,0) -> 0 | AS16: =ROUND(AD16-AI16+AK16+AM16+AQ16,0) -> 8353618 | AT16: =A16 -> 03 | AU16: PCTN cấp ủy viên HS 0,3 trên MLTT từ 15/4/15.
A17: 04 | B17: =VLOOKUP(D17,[1]LuongBC_T01!$B$9:$C$292,2,FALSE) -> 0016100006674008 | C17: 50200000102 | D17: Châu Văn Bảo | E17: Phó Hiệu trưởng | K17: =VLOOKUP(D17,[2]T3!$B$2:$D$328,3,FALSE) -> 025661153 | L17: 1603215001359 | M17: 50200000102 | N17: V.09.02.03 | O17: A1 | P17: 6 | Q17: 4.32 | R17: =T17+V17+X17 -> 1.6036 | T17: =ROUND(Q17*S17/100,4) -> 0 | U17: =Q17*S17*$D$8/100 -> 0 | V17: 0.7 | W17: 0.18 | X17: =ROUND((Q17+T17+V17)*W17,4) -> 0.9036 | Y17: =ROUND(Q17+T17+V17+X17,4) -> 5.9236 | Z17: =ROUND(Y17*$D$8,0) -> 8826164 | AB17: =Z17/24*AA17 -> 0 | AC17: =Z17/24*AA17*75% -> 0 | AD17: =ROUND(Z17-AB17+AC17,0) -> 8826164 | AE17: =Z17*8% -> 706093.12 | AF17: =Z17*1.5% -> 132392.46 | AG17: =Z17*1% -> 88261.64 | AI17: =SUM(AE17:AH17) -> 926747.22 | AJ17: 0.3 | AK17: =AJ17*$D$8 -> 447000 | AN17: =Q17+T17+V17 -> 5.02 | AO17: 0.25 | AP17: =ROUND(AN17*AO17,4) -> 1.255 | AQ17: =ROUND(AP17*$D$8,0) -> 1869950 | AS17: =ROUND(AD17-AI17+AK17+AM17+AQ17,0) -> 10216367 | AT17: =A17 -> 04 | AV17: QĐ Bổ nhiệm Phó Hiệu trưởng từ 15/4/2019
A18: 05 | B18: =VLOOKUP(D18,[1]LuongBC_T01!$B$9:$C$292,2,FALSE) -> 0016100006705008 | C18: 50800000800 | D18: Nguyễn Kính | E18: TP. Kế hoạch - Tài chính | K18: =VLOOKUP(D18,[2]T3!$B$2:$D$328,3,FALSE) -> 023147526 | M18: 50800000800 | N18: 06.031 | O18: A1 | P18: 9 | Q18: 4.98 | R18: =T18+V18+X18 -> 3.0692 | S18: 34 | T18: =ROUND(Q18*S18/100,4) -> 1.6932 | U18: =Q18*S18*$D$8/100 -> 2522868 | V18: 0.45 | W18: =VLOOKUP(D18,[3]BC!$D$14:$X$294,20,FALSE) -> 0.13 | X18: =ROUND((Q18+T18+V18)*W18,4) -> 0.926 | Y18: =ROUND(Q18+T18+V18+X18,4) -> 8.0492 | Z18: =ROUND(Y18*$D$8,0) -> 11993308 | AB18: =Z18/24*AA18 -> 0 | AC18: =Z18/24*AA18*75% -> 0 | AD18: =ROUND(Z18-AB18+AC18,0) -> 11993308 | AE18: =Z18*8% -> 959464.64 | AF18: =Z18*1.5% -> 179899.62 | AG18: =Z18*1% -> 119933.08 | AI18: =SUM(AE18:AH18) -> 1259297.3 | AJ18: 0.2 | AK18: =AJ18*$D$8 -> 298000 | AN18: =Q18+T18+V18 -> 7.1232 | AO18: 0.25 | AP18: =ROUND(AN18*AO18,4) -> 1.7808 | AQ18: =ROUND(AP18*$D$8,0) -> 2653392 | AS18: =ROUND(AD18-AI18+AK18+AM18+AQ18,0) -> 13685403 | AT18: =A18 -> 05 | AU18: PCTN kế toán trưởng HS 0,2 trên MLTT từ 06/02/2017.
A19: 06 | B19: =VLOOKUP(D19,[1]LuongBC_T01!$B$9:$C$292,2,FALSE) -> 0016100006546007 | C19: 11100000746 | D19: Nguyễn Ngọc Trang | E19: TP. QLKH & HTQT | F19: Th.S | G19: x | I19: QL | J19: QL015 | K19: =VLOOKUP(D19,[2]T3!$B$2:$D$328,3,FALSE) -> 021609851 | L19: 1603205182270 | M19: 11100000746 | N19: V.09.02.02 | O19: A2.1 | P19: 3 | Q19: 5.76 | R19: =T19+V19+X19 -> 2.1267 | T19: =ROUND(Q19*S19/100,4) -> 0 | U19: =Q19*S19*$D$8/100 -> 0 | V19: 0.45 | W19: =VLOOKUP(D19,[3]BC!$D$14:$X$294,20,FALSE) -> 0.27 | X19: =ROUND((Q19+T19+V19)*W19,4) -> 1.6767 | Y19: =ROUND(Q19+T19+V19+X19,4) -> 7.8867 | Z19: =ROUND(Y19*$D$8,0) -> 11751183 | AB19: =Z19/24*AA19 -> 0 | AC19: =Z19/24*AA19*75% -> 0 | AD19: =ROUND(Z19-AB19+AC19,0) -> 11751183 | AE19: =Z19*8% -> 940094.64 | AF19: =Z19*1.5% -> 176267.74 | AG19: =Z19*1% -> 117511.83 | AI19: =SUM(AE19:AH19) -> 1233874.2 | AK19: =AJ19*$D$8 -> 0 | AN19: =Q19+T19+V19 -> 6.21 | AO19: 0.25 | AP19: =ROUND(AN19*AO19,4) -> 1.5525 | AQ19: =ROUND(AP19*$D$8,0) -> 2313225 | AS19: =ROUND(AD19-AI19+AK19+AM19+AQ19,0) -> 12830534 | AT19: =A19 -> 06 | AV19: QHQT
A20: 07 | B20: =VLOOKUP(D20,[1]LuongBC_T01!$B$9:$C$292,2,FALSE) -> 0016100006806001 | C20: 50200000160 | D20: Lê Quang Liêm | E20: Trưởng phòng Quản trị - Dịch vụ | K20: =VLOOKUP(D20,[2]T3!$B$2:$D$328,3,FALSE) -> 024891110 | L20: 1603215001365 | M20: 50200000160 | N20: V.07.01.03 | O20: A1 | P20: 7 | Q20: 4.98 | R20: =T20+V20+X20 -> 1.536 | T20: =ROUND(Q20*S20/100,4) -> 0 | U20: =Q20*S20*$D$8/100 -> 0 | V20: 0.45 | W20: 0.2 | X20: =ROUND((Q20+T20+V20)*W20,4) -> 1.086 | Y20: =ROUND(Q20+T20+V20+X20,4) -> 6.516 | Z20: =ROUND(Y20*$D$8,0) -> 9708840 | AB20: =Z20/24*AA20 -> 0 | AC20: =Z20/24*AA20*75% -> 0 | AD20: =ROUND(Z20-AB20+AC20,0) -> 9708840 | AE20: =Z20*8% -> 776707.2 | AF20: =Z20*1.5% -> 145632.6 | AG20: =Z20*1% -> 97088.4 | AI20: =SUM(AE20:AH20) -> 1019428.2 | AK20: =AJ20*$D$8 -> 0 | AN20: =Q20+T20+V20 -> 5.43 | AO20: 0.25 | AP20: =ROUND(AN20*AO20,4) -> 1.3575 | AQ20: =ROUND(AP20*$D$8,0) -> 2022675 | AS20: =ROUND(AD20-AI20+AK20+AM20+AQ20,0) -> 10712087 | AT20: =A20 -> 07
A21: 08 | B21: =VLOOKUP(D21,[1]LuongBC_T01!$B$9:$C$292,2,FALSE) -> 0016100006550007 | C21: 50800000104 | D21: Lâm Viết Dũng | E21: Trưởng phòng Tổ chức - Hành chính - Tổng hợp | K21: 079076001426 | M21: 50800000104 | N21: V.07.01.03 | O21: A1 | P21: 7 | Q21: 4.98 | R21: =T21+V21+X21 -> 1.4817 | T21: =ROUND(Q21*S21/100,4) -> 0 | U21: =Q21*S21*$D$8/100 -> 0 | V21: 0.45 | W21: 0.19 | X21: =ROUND((Q21+T21+V21)*W21,4) -> 1.0317 | Y21: =ROUND(Q21+T21+V21+X21,4) -> 6.4617 | Z21: =ROUND(Y21*$D$8,0) -> 9627933 | AB21: =Z21/24*AA21 -> 0 | AC21: =Z21/24*AA21*75% -> 0 | AD21: =ROUND(Z21-AB21+AC21,0) -> 9627933 | AE21: =Z21*8% -> 770234.64 | AF21: =Z21*1.5% -> 144418.99 | AG21: =Z21*1% -> 96279.33 | AI21: =SUM(AE21:AH21) -> 1010933 | AJ21: 0.3 | AK21: =AJ21*$D$8 -> 447000 | AN21: =Q21+T21+V21 -> 5.43 | AO21: 0.25 | AP21: =ROUND(AN21*AO21,4) -> 1.3575 | AQ21: =ROUND(AP21*$D$8,0) -> 2022675 | AS21: =ROUND(AD21-AI21+AK21+AM21+AQ21,0) -> 11086675 | AT21: =A21 -> 08
A22: 09 | B22: =VLOOKUP(D22,[1]LuongBC_T01!$B$9:$C$292,2,FALSE) -> 0016100006639008 | C22: 50800000001 | D22: Nguyễn Trọng Nghĩa | E22: Trưởng khoa Kinh tế | K22: 079072011875 | M22: 50800000001 | N22: V.09.02.03 | O22: A1 | P22: 7 | Q22: 4.65 | R22: =T22+V22+X22 -> 1.164 | T22: =ROUND(Q22*S22/100,4) -> 0 | U22: =Q22*S22*$D$8/100 -> 0 | V22: 0.45 | W22: 0.14 | X22: =ROUND((Q22+T22+V22)*W22,4) -> 0.714 | Y22: =ROUND(Q22+T22+V22+X22,4) -> 5.814 | Z22: =ROUND(Y22*$D$8,0) -> 8662860 | AB22: =Z22/24*AA22 -> 0 | AC22: =Z22/24*AA22*75% -> 0 | AD22: =ROUND(Z22-AB22+AC22,0) -> 8662860 | AE22: =Z22*8% -> 693028.8 | AF22: =Z22*1.5% -> 129942.9 | AG22: =Z22*1% -> 86628.6 | AI22: =SUM(AE22:AH22) -> 909600.3 | AK22: =AJ22*$D$8 -> 0 | AN22: =Q22+T22+V22 -> 5.1 | AO22: 0.25 | AP22: =ROUND(AN22*AO22,4) -> 1.275 | AQ22: =ROUND(AP22*$D$8,0) -> 1899750 | AS22: =ROUND(AD22-AI22+AK22+AM22+AQ22,0) -> 9653010 | AT22: =A22 -> 09
A23: 10 | B23: =VLOOKUP(D23,[1]LuongBC_T01!$B$9:$C$292,2,FALSE) -> 0016100006567007 | C23: 11100000785 | D23: Trang Thị Xuân Uyên | E23: Trưởng Trung tâm Y tế | F23: Th.S | G23: x | I23: QL | J23: QL022 | K23: 079170004279 | L23: 1603205186156 | M23: 11100000785 | N23: V.08.01.03 | O23: A1 | P23: 6 | Q23: 4.32 | R23: =T23+V23+X23 -> 0.45 | T23: =ROUND(Q23*S23/100,4) -> 0 | U23: =Q23*S23*$D$8/100 -> 0 | V23: 0.45 | W23: =VLOOKUP(D23,[3]BC!$D$14:$X$294,20,FALSE) -> 0 | X23: =ROUND((Q23+T23+V23)*W23,4) -> 0 | Y23: =ROUND(Q23+T23+V23+X23,4) -> 4.77 | Z23: =ROUND(Y23*$D$8,0) -> 7107300 | AB23: =Z23/24*AA23 -> 0 | AC23: =Z23/24*AA23*75% -> 0 | AD23: =ROUND(Z23-AB23+AC23,0) -> 7107300 | AE23: =Z23*8% -> 568584 | AF23: =Z23*1.5% -> 106609.5 | AG23: =Z23*1% -> 71073 | AI23: =SUM(AE23:AH23) -> 746266.5 | AK23: =AJ23*$D$8 -> 0 | AN23: =Q23+T23+V23 -> 4.77 | AO23: 0.2 | AP23: =ROUND(AN23*AO23,4) -> 0.954 | AQ23: =ROUND(AP23*$D$8,0) -> 1421460 | AS23: =ROUND(AD23-AI23+AK23+AM23+AQ23,0) -> 7782494 | AT23: =A23 -> 10 | AU23: Hưởng PCUĐ nghề 20% (trên hệ số lương hiện hưởng). | AV23: YT
A24: 11 | B24: =VLOOKUP(D24,[1]LuongBC_T01!$B$9:$C$292,2,FALSE) -> 0016100006766007 | C24: 11100000742 | D24: Lê Xuân Thiện | E24: Trưởng phòng Thanh tra giáo dục - CT Sinh viên | F24: ĐH | I24: NV | J24: NV063 | K24: 048065000101 | L24: 1603205185958 | M24: 11100000742 | N24: 01.003 | O24: A1 | P24: 8 | Q24: 4.98 | R24: =T24+V24+X24 -> 0.45 | T24: =ROUND(Q24*S24/100,4) -> 0 | U24: =Q24*S24*$D$8/100 -> 0 | V24: 0.45 | W24: =VLOOKUP(D24,[3]BC!$D$14:$X$294,20,FALSE) -> 0 | X24: =ROUND((Q24+T24+V24)*W24,4) -> 0 | Y24: =ROUND(Q24+T24+V24+X24,4) -> 5.43 | Z24: =ROUND(Y24*$D$8,0) -> 8090700 | AB24: =Z24/24*AA24 -> 0 | AC24: =Z24/24*AA24*75% -> 0 | AD24: =ROUND(Z24-AB24+AC24,0) -> 8090700 | AE24: =Z24*8% -> 647256 | AF24: =Z24*1.5% -> 121360.5 | AG24: =Z24*1% -> 80907 | AI24: =SUM(AE24:AH24) -> 849523.5 | AK24: =AJ24*$D$8 -> 0 | AN24: =Q24+T24+V24 -> 5.43 | AP24: =ROUND(AN24*AO24,4) -> 0 | AQ24: =ROUND(AP24*$D$8,0) -> 0 | AS24: =ROUND(AD24-AI24+AK24+AM24+AQ24,0) -> 7241177 | AT24: =A24 -> 11
A25: 12 | B25: =VLOOKUP(D25,[1]LuongBC_T01!$B$9:$C$292,2,FALSE) -> 0016100006660007 | C25: 11100000702 | D25: Phạm Minh Nghĩa | E25: Phó Trưởng khoa Điện - Điện tử | F25: ĐH | H25: GV | I25: PPK | J25: PPK028 | K25: 079064008054 | L25: 1603205178896 | M25: 11100000702 | N25: V.09.02.03 | O25: A1 | P25: 9 | Q25: 4.98 | R25: =T25+V25+X25 -> 2.8504 | S25: 13 | T25: =ROUND(Q25*S25/100,4) -> 0.6474 | U25: =Q25*S25*$D$8/100 -> 964626 | V25: 0.35 | W25: 0.31 | X25: =ROUND((Q25+T25+V25)*W25,4) -> 1.853 | Y25: =ROUND(Q25+T25+V25+X25,4) -> 7.8304 | Z25: =ROUND(Y25*$D$8,0) -> 11667296 | AB25: =Z25/24*AA25 -> 0 | AC25: =Z25/24*AA25*75% -> 0 | AD25: =ROUND(Z25-AB25+AC25,0) -> 11667296 | AE25: =Z25*8% -> 933383.68 | AF25: =Z25*1.5% -> 175009.44 | AG25: =Z25*1% -> 116672.96 | AI25: =SUM(AE25:AH25) -> 1225066.1 | AK25: =AJ25*$D$8 -> 0 | AN25: =Q25+T25+V25 -> 5.9774 | AO25: 0.25 | AP25: =ROUND(AN25*AO25,4) -> 1.4944 | AQ25: =ROUND(AP25*$D$8,0) -> 2226656 | AS25: =ROUND(AD25-AI25+AK25+AM25+AQ25,0) -> 12668886 | AT25: =A25 -> 12 | AV25: CD
A26: 13 | B26: =VLOOKUP(D26,[1]LuongBC_T01!$B$9:$C$292,2,FALSE) -> 0016100006537008 | C26: 11100000732 | D26: Nguyễn Văn Tấn | E26: Phó TP Tuyển sinh - Đào tạo | F26: Th.S | I26: QL | J26: QL012 | K26: =VLOOKUP(D26,[2]T3!$B$2:$D$328,3,FALSE) -> 020505708 | L26: 1603205185675 | M26: 11100000732 | N26: V.09.02.03 | O26: A1 | P26: 9 | Q26: 4.98 | R26: =T26+V26+X26 -> 0.9476 | S26: 12 | T26: =ROUND(Q26*S26/100,4) -> 0.5976 | U26: =Q26*S26*$D$8/100 -> 890424 | V26: 0.35 | W26: =VLOOKUP(D26,[3]BC!$D$14:$X$294,20,FALSE) -> 0 | X26: =ROUND((Q26+T26+V26)*W26,4) -> 0 | Y26: =ROUND(Q26+T26+V26+X26,4) -> 5.9276 | Z26: =ROUND(Y26*$D$8,0) -> 8832124 | AB26: =Z26/24*AA26 -> 0 | AC26: 0 | AD26: =ROUND(Z26-AB26+AC26,0) -> 8832124 | AE26: =Z26*8% -> 706569.92 | AF26: =Z26*1.5% -> 132481.86 | AG26: =Z26*1% -> 88321.24 | AI26: =SUM(AE26:AH26) -> 927373.02 | AK26: =AJ26*$D$8 -> 0 | AN26: =Q26+T26+V26 -> 5.9276 | AP26: =ROUND(AN26*AO26,4) -> 0 | AQ26: =ROUND(AP26*$D$8,0) -> 0 | AS26: =ROUND(AD26-AI26+AK26+AM26+AQ26,0) -> 7904751 | AT26: =A26 -> 13 | AV26: DT
A27: 14 | B27: =VLOOKUP(D27,[1]LuongBC_T01!$B$9:$C$292,2,FALSE) -> 0016100006781009 | C27: 11100000704 | D27: Hồ Minh Lợi | E27: Phó trưởng phòng Thanh tra giáo dục - CT Sinh viên | F27: ĐH | I27: QL | J27: QL020 | K27: =VLOOKUP(D27,[2]T3!$B$2:$D$328,3,FALSE) -> 001062010054 | L27: 1603205178809 | M27: 11100000704 | N27: 01.003 | O27: A1 | P27: 9 | Q27: 4.98 | R27: =T27+V27+X27 -> 0.7982 | S27: 9 | T27: =ROUND(Q27*S27/100,4) -> 0.4482 | U27: =Q27*S27*$D$8/100 -> 667818 | V27: 0.35 | W27: =VLOOKUP(D27,[3]BC!$D$14:$X$294,20,FALSE) -> 0 | X27: =ROUND((Q27+T27+V27)*W27,4) -> 0 | Y27: =ROUND(Q27+T27+V27+X27,4) -> 5.7782 | Z27: =ROUND(Y27*$D$8,0) -> 8609518 | AB27: =Z27/24*AA27 -> 0 | AC27: 0 | AD27: =ROUND(Z27-AB27+AC27,0) -> 8609518 | AE27: =Z27*8% -> 688761.44 | AF27: =Z27*1.5% -> 129142.77 | AG27: =Z27*1% -> 86095.18 | AI27: =SUM(AE27:AH27) -> 903999.39 | AK27: =AJ27*$D$8 -> 0 | AN27: =Q27+T27+V27 -> 5.7782 | AP27: =ROUND(AN27*AO27,4) -> 0 | AQ27: =ROUND(AP27*$D$8,0) -> 0 | AS27: =ROUND(AD27-AI27+AK27+AM27+AQ27,0) -> 7705519 | AT27: =A27 -> 14 | AV27: KHVT
A28: 15 | B28: =VLOOKUP(D28,[1]LuongBC_T01!$B$9:$C$292,2,FALSE) -> 0016100006495006 | C28: 11100000723 | D28: Nguyễn Văn Thành | E28: Phó Trưởng phòng Quản trị - Dịch vụ | F28: ĐH | I28: GV | J28: GV087 | K28: =VLOOKUP(D28,[2]T3!$B$2:$D$328,3,FALSE) -> 079074000549 | L28: 1603205182190 | M28: 11100000723 | N28: V.09.02.03 | O28: A1 | P28: 8 | Q28: 4.98 | R28: =T28+V28+X28 -> 1.3094 | T28: =ROUND(Q28*S28/100,4) -> 0 | U28: =Q28*S28*$D$8/100 -> 0 | V28: 0.35 | W28: =VLOOKUP(D28,[3]BC!$D$14:$X$294,20,FALSE) -> 0.18 | X28: =ROUND((Q28+T28+V28)*W28,4) -> 0.9594 | Y28: =ROUND(Q28+T28+V28+X28,4) -> 6.2894 | Z28: =ROUND(Y28*$D$8,0) -> 9371206 | AB28: =Z28/24*AA28 -> 0 | AC28: =Z28/24*AA28*75% -> 0 | AD28: =ROUND(Z28-AB28+AC28,0) -> 9371206 | AE28: =Z28*8% -> 749696.48 | AF28: =Z28*1.5% -> 140568.09 | AG28: =Z28*1% -> 93712.06 | AI28: =SUM(AE28:AH28) -> 983976.63 | AK28: =AJ28*$D$8 -> 0 | AN28: =Q28+T28+V28 -> 5.33 | AO28: 0.25 | AP28: =ROUND(AN28*AO28,4) -> 1.3325 | AQ28: =ROUND(AP28*$D$8,0) -> 1985425 | AS28: =ROUND(AD28-AI28+AK28+AM28+AQ28,0) -> 10372654 | AT28: =A28 -> 15 | AV28: TO
A29: 16 | B29: =VLOOKUP(D29,[1]LuongBC_T01!$B$9:$C$292,2,FALSE) -> 0016100006538007 | C29: 11100000707 | D29: Hồ Văn Sĩ | E29: Trưởng phòng Tuyển sinh - Đào tạo | F29: Th.S | I29: PPK | J29: PPK029 | K29: =VLOOKUP(D29,[2]T3!$B$2:$D$328,3,FALSE) -> 022764854 | L29: 1603205185681 | M29: 11100000707 | N29: V.09.02.03 | O29: A1 | P29: 8 | Q29: 4.98 | R29: =T29+V29+X29 -> 1.536 | T29: =ROUND(Q29*S29/100,4) -> 0 | U29: =Q29*S29*$D$8/100 -> 0 | V29: 0.45 | W29: =VLOOKUP(D29,[3]BC!$D$14:$X$294,20,FALSE) -> 0.2 | X29: =ROUND((Q29+T29+V29)*W29,4) -> 1.086 | Y29: =ROUND(Q29+T29+V29+X29,4) -> 6.516 | Z29: =ROUND(Y29*$D$8,0) -> 9708840 | AB29: =Z29/24*AA29 -> 0 | AC29: =Z29/24*AA29*75% -> 0 | AD29: =ROUND(Z29-AB29+AC29,0) -> 9708840 | AE29: =Z29*8% -> 776707.2 | AF29: =Z29*1.5% -> 145632.6 | AG29: =Z29*1% -> 97088.4 | AI29: =SUM(AE29:AH29) -> 1019428.2 | AK29: =AJ29*$D$8 -> 0 | AN29: =Q29+T29+V29 -> 5.43 | AO29: 0.25 | AP29: =ROUND(AN29*AO29,4) -> 1.3575 | AQ29: =ROUND(AP29*$D$8,0) -> 2022675 | AS29: =ROUND(AD29-AI29+AK29+AM29+AQ29,0) -> 10712087 | AT29: =A29 -> 16 | AV29: DT
A30: 17 | B30: =VLOOKUP(D30,[1]LuongBC_T01!$B$9:$C$292,2,FALSE) -> 0016100006783001 | C30: 11100000751 | D30: Nguyễn Ngọc Hiệp | E30: Phó Trưởng phòng Thanh tra giáo dục - CT Sinh viên | F30: ĐH | I30: GV | J30: GV089 | K30: =VLOOKUP(D30,[2]T3!$B$2:$D$328,3,FALSE) -> 022776286 | L30: 1603205179173 | M30: 11100000751 | N30: V.09.02.03 | O30: A1 | P30: 8 | Q30: 4.98 | R30: =T30+V30+X30 -> 1.416 | T30: =ROUND(Q30*S30/100,4) -> 0 | U30: =Q30*S30*$D$8/100 -> 0 | V30: 0.35 | W30: =VLOOKUP(D30,[3]BC!$D$14:$X$294,20,FALSE) -> 0.2 | X30: =ROUND((Q30+T30+V30)*W30,4) -> 1.066 | Y30: =ROUND(Q30+T30+V30+X30,4) -> 6.396 | Z30: =ROUND(Y30*$D$8,0) -> 9530040 | AB30: =Z30/24*AA30 -> 0 | AC30: =Z30/24*AA30*75% -> 0 | AD30: =ROUND(Z30-AB30+AC30,0) -> 9530040 | AE30: =Z30*8% -> 762403.2 | AF30: =Z30*1.5% -> 142950.6 | AG30: =Z30*1% -> 95300.4 | AI30: =SUM(AE30:AH30) -> 1000654.2 | AK30: =AJ30*$D$8 -> 0 | AN30: =Q30+T30+V30 -> 5.33 | AO30: 0.25 | AP30: =ROUND(AN30*AO30,4) -> 1.3325 | AQ30: =ROUND(AP30*$D$8,0) -> 1985425 | AS30: =ROUND(AD30-AI30+AK30+AM30+AQ30,0) -> 10514811 | AT30: =A30 -> 17 | AV30: QS
A31: 18 | B31: =VLOOKUP(D31,[1]LuongBC_T01!$B$9:$C$292,2,FALSE) -> 0016100006617004 | C31: 11100000722 | D31: Huỳnh Ngọc Mai | E31: Phó Trưởng khoa Điện - Điện tử | F31: Th.S | H31: GV | I31: TT | J31: TT050 | K31: =VLOOKUP(D31,[2]T3!$B$2:$D$328,3,FALSE) -> 023230246 | L31: 1603205179042 | M31: 11100000722 | N31: V.09.02.03 | O31: A1 | P31: 9 | Q31: 4.98 | R31: =T31+V31+X31 -> 1.8264 | S31: 5 | T31: =ROUND(Q31*S31/100,4) -> 0.249 | U31: =Q31*S31*$D$8/100 -> 371010 | V31: 0.35 | W31: =VLOOKUP(D31,[3]BC!$D$14:$X$294,20,FALSE) -> 0.22 | X31: =ROUND((Q31+T31+V31)*W31,4) -> 1.2274 | Y31: =ROUND(Q31+T31+V31+X31,4) -> 6.8064 | Z31: =ROUND(Y31*$D$8,0) -> 10141536 | AB31: =Z31/24*AA31 -> 0 | AC31: =Z31/24*AA31*75% -> 0 | AD31: =ROUND(Z31-AB31+AC31,0) -> 10141536 | AE31: =Z31*8% -> 811322.88 | AF31: =Z31*1.5% -> 152123.04 | AG31: =Z31*1% -> 101415.36 | AI31: =SUM(AE31:AH31) -> 1064861.3 | AK31: =AJ31*$D$8 -> 0 | AN31: =Q31+T31+V31 -> 5.579 | AO31: 0.25 | AP31: =ROUND(AN31*AO31,4) -> 1.3948 | AQ31: =ROUND(AP31*$D$8,0) -> 2078252 | AS31: =ROUND(AD31-AI31+AK31+AM31+AQ31,0) -> 11154927 | AT31: =A31 -> 18 | AV31: DDT
A32: 19 | B32: =VLOOKUP(D32,[1]LuongBC_T01!$B$9:$C$292,2,FALSE) -> 0016100006810009 | C32: 11100000799 | D32: Phạm Thị Thu Nga | E32: Phó Trưởng khoa KHCB | F32: Th.S | G32: x | H32: GV | I32: TT | J32: TT055 | K32: =VLOOKUP(D32,[2]T3!$B$2:$D$328,3,FALSE) -> 040176000521 | L32: 1603205186372 | M32: 11100000799 | N32: V.07.01.03 | O32: A1 | P32: 6 | Q32: 4.65 | R32: =T32+V32+X32 -> 1.25 | T32: =ROUND(Q32*S32/100,4) -> 0 | U32: =Q32*S32*$D$8/100 -> 0 | V32: 0.35 | W32: 0.18 | X32: =ROUND((Q32+T32+V32)*W32,4) -> 0.9 | Y32: =ROUND(Q32+T32+V32+X32,4) -> 5.9 | Z32: =ROUND(Y32*$D$8,0) -> 8791000 | AB32: =Z32/24*AA32 -> 0 | AC32: 0 | AD32: =ROUND(Z32-AB32+AC32,0) -> 8791000 | AE32: =Z32*8% -> 703280 | AF32: =Z32*1.5% -> 131865 | AG32: =Z32*1% -> 87910 | AI32: =SUM(AE32:AH32) -> 923055 | AK32: =AJ32*$D$8 -> 0 | AN32: =Q32+T32+V32 -> 5 | AO32: 0.25 | AP32: =ROUND(AN32*AO32,4) -> 1.25 | AQ32: =ROUND(AP32*$D$8,0) -> 1862500 | AS32: =ROUND(AD32-AI32+AK32+AM32+AQ32,0) -> 9730445 | AT32: =A32 -> 19 | AV32: KHCB
A33: 20 | B33: =VLOOKUP(D33,[1]LuongBC_T01!$B$9:$C$292,2,FALSE) -> 0016100006509007 | C33: 11100000802 | D33: Nguyễn Khoa | E33: Phó Trưởng khoa CNTT | F33: ĐH | H33: GV | I33: PPK | J33: PPK031 | K33: =VLOOKUP(D33,[2]T3!$B$2:$D$328,3,FALSE) -> 020634880 | L33: 1603205185311 | M33: 11100000802 | N33: V.09.02.03 | O33: A1 | P33: 6 | Q33: 4.32 | R33: =T33+V33+X33 -> 1.1906 | T33: =ROUND(Q33*S33/100,4) -> 0 | U33: =Q33*S33*$D$8/100 -> 0 | V33: 0.35 | W33: 0.18 | X33: =ROUND((Q33+T33+V33)*W33,4) -> 0.8406 | Y33: =ROUND(Q33+T33+V33+X33,4) -> 5.5106 | Z33: =ROUND(Y33*$D$8,0) -> 8210794 | AB33: =Z33/24*AA33 -> 0 | AC33: =Z33/24*AA33*75% -> 0 | AD33: =ROUND(Z33-AB33+AC33,0) -> 8210794 | AE33: =Z33*8% -> 656863.52 | AF33: =Z33*1.5% -> 123161.91 | AG33: =Z33*1% -> 82107.94 | AI33: =SUM(AE33:AH33) -> 862133.37 | AK33: =AJ33*$D$8 -> 0 | AN33: =Q33+T33+V33 -> 4.67 | AO33: 0.25 | AP33: =ROUND(AN33*AO33,4) -> 1.1675 | AQ33: =ROUND(AP33*$D$8,0) -> 1739575 | AS33: =ROUND(AD33-AI33+AK33+AM33+AQ33,0) -> 9088236 | AT33: =A33 -> 20 | AV33: CNTT
A34: 21 | B34: =VLOOKUP(D34,[1]LuongBC_T01!$B$9:$C$292,2,FALSE) -> 0016100006694009 | C34: 11100000776 | D34: Võ Đắc Thịnh | E34: Phó Trưởng khoa Động lực | F34: ĐH | H34: GV | I34: PPK | J34: PPK035 | K34: =VLOOKUP(D34,[2]T3!$B$2:$D$328,3,FALSE) -> 079079003245 | L34: 1603205178692 | M34: 11100000776 | N34: V.09.02.03 | O34: A1 | P34: 6 | Q34: 4.32 | R34: =T34+V34+X34 -> 1.1439 | T34: =ROUND(Q34*S34/100,4) -> 0 | U34: =Q34*S34*$D$8/100 -> 0 | V34: 0.35 | W34: 0.17 | X34: =ROUND((Q34+T34+V34)*W34,4) -> 0.7939 | Y34: =ROUND(Q34+T34+V34+X34,4) -> 5.4639 | Z34: =ROUND(Y34*$D$8,0) -> 8141211 | AB34: =Z34/24*AA34 -> 0 | AC34: =Z34/24*AA34*75% -> 0 | AD34: =ROUND(Z34-AB34+AC34,0) -> 8141211 | AE34: =Z34*8% -> 651296.88 | AF34: =Z34*1.5% -> 122118.16 | AG34: =Z34*1% -> 81412.11 | AI34: =SUM(AE34:AH34) -> 854827.16 | AK34: =AJ34*$D$8 -> 0 | AN34: =Q34+T34+V34 -> 4.67 | AO34: 0.25 | AP34: =ROUND(AN34*AO34,4) -> 1.1675 | AQ34: =ROUND(AP34*$D$8,0) -> 1739575 | AS34: =ROUND(AD34-AI34+AK34+AM34+AQ34,0) -> 9025959 | AT34: =A34 -> 21 | AV34: DLUC
A35: 22 | B35: =VLOOKUP(D35,[1]LuongBC_T01!$B$9:$C$292,2,FALSE) -> 0016100006592001 | C35: 11100000713 | D35: Tạ Minh Cường | E35: Trưởng khoa Công nghệ Điện - Điện tử | F35: ĐH | H35: GV | I35: TT | J35: TT056 | K35: =VLOOKUP(D35,[2]T3!$B$2:$D$328,3,FALSE) -> 024257826 | L35: 1603205182517 | M35: 11100000713 | N35: V.09.02.03 | O35: A1 | P35: 6 | Q35: 4.32 | R35: =T35+V35+X35 -> 1.6902 | T35: =ROUND(Q35*S35/100,4) -> 0 | U35: =Q35*S35*$D$8/100 -> 0 | V35: 0.45 | W35: 0.26 | X35: =ROUND((Q35+T35+V35)*W35,4) -> 1.2402 | Y35: =ROUND(Q35+T35+V35+X35,4) -> 6.0102 | Z35: =ROUND(Y35*$D$8,0) -> 8955198 | AB35: =Z35/24*AA35 -> 0 | AC35: =Z35/24*AA35*75% -> 0 | AD35: =ROUND(Z35-AB35+AC35,0) -> 8955198 | AE35: =Z35*8% -> 716415.84 | AF35: =Z35*1.5% -> 134327.97 | AG35: =Z35*1% -> 89551.98 | AI35: =SUM(AE35:AH35) -> 940295.79 | AK35: =AJ35*$D$8 -> 0 | AN35: =Q35+T35+V35 -> 4.77 | AO35: 0.25 | AP35: =ROUND(AN35*AO35,4) -> 1.1925 | AQ35: =ROUND(AP35*$D$8,0) -> 1776825 | AS35: =ROUND(AD35-AI35+AK35+AM35+AQ35,0) -> 9791727 | AT35: =A35 -> 22 | AV35: DDT
A36: 23 | B36: =VLOOKUP(D36,[1]LuongBC_T01!$B$9:$C$292,2,FALSE) -> 0016100006689005 | C36: 11100066861 | D36: Nguyễn Chí Nhân | E36: Tưởng phòng Khảo thí và KĐCL | F36: ĐH | I36: PPK | J36: PPK034 | K36: =VLOOKUP(D36,[2]T3!$B$2:$D$328,3,FALSE) -> 023176396 | L36: 1603205182184 | M36: 11100066861 | N36: V.07.01.03 | O36: A1 | P36: 5 | Q36: 4.32 | R36: =T36+V36+X36 -> 1.2132 | T36: =ROUND(Q36*S36/100,4) -> 0 | U36: =Q36*S36*$D$8/100 -> 0 | V36: 0.45 | W36: 0.16 | X36: =ROUND((Q36+T36+V36)*W36,4) -> 0.7632 | Y36: =ROUND(Q36+T36+V36+X36,4) -> 5.5332 | Z36: =ROUND(Y36*$D$8,0) -> 8244468 | AB36: =Z36/24*AA36 -> 0 | AC36: =Z36/24*AA36*75% -> 0 | AD36: =ROUND(Z36-AB36+AC36,0) -> 8244468 | AE36: =Z36*8% -> 659557.44 | AF36: =Z36*1.5% -> 123667.02 | AG36: =Z36*1% -> 82444.68 | AI36: =SUM(AE36:AH36) -> 865669.14 | AK36: =AJ36*$D$8 -> 0 | AN36: =Q36+T36+V36 -> 4.77 | AO36: 0.25 | AP36: =ROUND(AN36*AO36,4) -> 1.1925 | AQ36: =ROUND(AP36*$D$8,0) -> 1776825 | AS36: =ROUND(AD36-AI36+AK36+AM36+AQ36,0) -> 9155624 | AT36: =A36 -> 23 | AV36: TTR
A37: 24 | B37: =VLOOKUP(D37,[1]LuongBC_T01!$B$9:$C$292,2,FALSE) -> 0016100006510005 | C37: 11100000727 | D37: Nguyễn Vân Giang | E37: Giảng viên khoa CNTT | F37: Th.S | G37: x | H37: GV | I37: QL | J37: QL019 | K37: =VLOOKUP(D37,[2]T3!$B$2:$D$328,3,FALSE) -> 022157496 | L37: 1603205185051 | M37: 11100000727 | N37: V.09.02.02 | O37: A2.2 | P37: 7 | Q37: 6.44 | R37: =T37+V37+X37 -> 1.932 | T37: =ROUND(Q37*S37/100,4) -> 0 | U37: =Q37*S37*$D$8/100 -> 0 | W37: 0.3 | X37: =ROUND((Q37+T37+V37)*W37,4) -> 1.932 | Y37: =ROUND(Q37+T37+V37+X37,4) -> 8.372 | Z37: =ROUND(Y37*$D$8,0) -> 12474280 | AB37: =Z37/24*AA37 -> 0 | AC37: =Z37/24*AA37*75% -> 0 | AD37: =ROUND(Z37-AB37+AC37,0) -> 12474280 | AE37: =Z37*8% -> 997942.4 | AF37: =Z37*1.5% -> 187114.2 | AG37: =Z37*1% -> 124742.8 | AI37: =SUM(AE37:AH37) -> 1309799.4 | AK37: =AJ37*$D$8 -> 0 | AN37: =Q37+T37+V37 -> 6.44 | AO37: 0.25 | AP37: =ROUND(AN37*AO37,4) -> 1.61 | AQ37: =ROUND(AP37*$D$8,0) -> 2398900 | AS37: =ROUND(AD37-AI37+AK37+AM37+AQ37,0) -> 13563381 | AT37: =A37 -> 24 | AV37: CNTT
A38: 25 | B38: =VLOOKUP(D38,[1]LuongBC_T01!$B$9:$C$292,2,FALSE) -> 0016100006615001 | C38: 11100067878 | D38: Nguyễn Thị Huyền Nga | E38: Trưởng BM Hóa khoa KHCB | F38: ĐH | G38: x | H38: GV | I38: GV | J38: GV091 | K38: =VLOOKUP(D38,[2]T3!$B$2:$D$328,3,FALSE) -> 040174000144 | L38: 1603205189784 | M38: 11100067878 | N38: V.07.01.03 | O38: A1 | P38: 8 | Q38: 4.98 | R38: =T38+V38+X38 -> 1.3483 | T38: =ROUND(Q38*S38/100,4) -> 0 | U38: =Q38*S38*$D$8/100 -> 0 | V38: 0.25 | W38: 0.21 | X38: =ROUND((Q38+T38+V38)*W38,4) -> 1.0983 | Y38: =ROUND(Q38+T38+V38+X38,4) -> 6.3283 | Z38: =ROUND(Y38*$D$8,0) -> 9429167 | AB38: =Z38/24*AA38 -> 0 | AC38: =Z38/24*AA38*75% -> 0 | AD38: =ROUND(Z38-AB38+AC38,0) -> 9429167 | AE38: =Z38*8% -> 754333.36 | AF38: =Z38*1.5% -> 141437.51 | AG38: =Z38*1% -> 94291.67 | AI38: =SUM(AE38:AH38) -> 990062.54 | AK38: =AJ38*$D$8 -> 0 | AN38: =Q38+T38+V38 -> 5.23 | AO38: 0.25 | AP38: =ROUND(AN38*AO38,4) -> 1.3075 | AQ38: =ROUND(AP38*$D$8,0) -> 1948175 | AS38: =ROUND(AD38-AI38+AK38+AM38+AQ38,0) -> 10387279 | AT38: =A38 -> 25 | AV38: KHCB
A39: 26 | B39: =VLOOKUP(D39,[1]LuongBC_T01!$B$9:$C$292,2,FALSE) -> 0016100006708007 | C39: 11100000789 | D39: Phan Đức Long | E39: Tổ trưởng Tổ QL Ký túc xá SV | F39: ĐH | H39: GV | I39: GV | J39: GV094 | K39: =VLOOKUP(D39,[2]T3!$B$2:$D$328,3,FALSE) -> 022688264 | L39: 1603205179180 | M39: 11100000789 | N39: V.07.01.03 | O39: A1 | P39: 7 | Q39: 4.98 | R39: =T39+V39+X39 -> 1.2437 | T39: =ROUND(Q39*S39/100,4) -> 0 | U39: =Q39*S39*$D$8/100 -> 0 | V39: 0.25 | W39: 0.19 | X39: =ROUND((Q39+T39+V39)*W39,4) -> 0.9937 | Y39: =ROUND(Q39+T39+V39+X39,4) -> 6.2237 | Z39: =ROUND(Y39*$D$8,0) -> 9273313 | AA39: 4 | AB39: =Z39/24*AA39 -> 1545552.2 | AC39: 0 | AD39: =ROUND(Z39-AB39+AC39,0) -> 7727761 | AE39: =Z39*8% -> 741865.04 | AF39: =Z39*1.5% -> 139099.7 | AG39: =Z39*1% -> 92733.13 | AI39: =SUM(AE39:AH39) -> 973697.87 | AK39: =AJ39*$D$8 -> 0 | AN39: =Q39+T39+V39 -> 5.23 | AO39: 0.25 | AP39: =ROUND(AN39*AO39,4) -> 1.3075 | AQ39: =ROUND(AP39*$D$8,0) -> 1948175 | AS39: =ROUND(AD39-AI39+AK39+AM39+AQ39,0) -> 8702238 | AT39: =A39 -> 26 | AU39: Nghỉ bệnh hưởng BHXH từ 24/10 đến 29/10 | AV39: QS
A40: 27 | B40: =VLOOKUP(D40,[1]LuongBC_T01!$B$9:$C$292,2,FALSE) -> 0016100006611006 | C40: 11100000775 | D40: Võ Cường | E40: Trưởng BM khoa Điện - Điện tử | F40: ĐH | H40: GV | I40: TT | J40: TT057 | K40: =VLOOKUP(D40,[2]T3!$B$2:$D$328,3,FALSE) -> 079066001159 | L40: 1603205179036 | M40: 11100000775 | N40: V.09.02.03 | O40: A1 | P40: 6 | Q40: 4.32 | R40: =T40+V40+X40 -> 1.0269 | T40: =ROUND(Q40*S40/100,4) -> 0 | U40: =Q40*S40*$D$8/100 -> 0 | V40: 0.25 | W40: 0.17 | X40: =ROUND((Q40+T40+V40)*W40,4) -> 0.7769 | Y40: =ROUND(Q40+T40+V40+X40,4) -> 5.3469 | Z40: =ROUND(Y40*$D$8,0) -> 7966881 | AB40: =Z40/24*AA40 -> 0 | AC40: =Z40/24*AA40*75% -> 0 | AD40: =ROUND(Z40-AB40+AC40,0) -> 7966881 | AE40: =Z40*8% -> 637350.48 | AF40: =Z40*1.5% -> 119503.21 | AG40: =Z40*1% -> 79668.81 | AI40: =SUM(AE40:AH40) -> 836522.5 | AK40: =AJ40*$D$8 -> 0 | AN40: =Q40+T40+V40 -> 4.57 | AO40: 0.25 | AP40: =ROUND(AN40*AO40,4) -> 1.1425 | AQ40: =ROUND(AP40*$D$8,0) -> 1702325 | AS40: =ROUND(AD40-AI40+AK40+AM40+AQ40,0) -> 8832683 | AT40: =A40 -> 27 | AV40: DDT
...

Sheet HD
A1: ỦY BAN NHÂN DÂN THÀNH PHỐ HỒ CHÍ MINH | AL1: Mẫu số C02a - HD
A2: ĐƠN VỊ: TRƯỜNG CAO ĐẲNG LÝ TỰ TRỌNG | AL2: (Ban hành kèm theo Thông tư số 107/2017-BTC
A3: MÃ ĐƠN VỊ: 1058083 | AL3: ngày 10/10/2017 của Bộ Tài chính)
U4: BẢNG THANH TOÁN TIỀN LƯƠNG
AR5: Số: ……………………………………
U6: (Tháng 10 năm 2021) | AR6: Nợ: …………………………………… | AZ6: =#REF!-#REF!-#REF!-#REF! -> #REF!
AR7: Có: …………………………………….
D8: 1490000 | AZ8: =AZ6/26 -> #REF!
A9: STT | C9: MÃ SỐ VIÊN CHỨC` | D9: HỌ VÀ TÊN | E9: CẤP BẬC - CHỨC VỤ | G9: NỮ | I9: CD | J9: MS CỐ ĐỊNH TỪ T8/2008 | K9: Số CMND | L9: Số tài khoản | M9: MÃ SỐ VIÊN CHỨC` | N9: MÃ SỐ NGẠCH LƯƠNG | O9: LOẠI VC | P9: BẬC | Q9: LƯƠNG HỆ SỐ | Y9: CỘNG HỆ SỐ | Z9: THÀNH TIỀN | AA9: SỐ NGÀY NGHỈ | AB9: Nghỉ việc không được hưởng lương | AC9: BHXH trả thay lương | AD9: Tổng cộng tiền lương và BHXH được hưởng | AE9: CỘNG | AF9: KHẤU TRỪ | AK9: PC TRÁCH NHIỆM | AM9: PC ĐỘC HẠI | AO9: Hệ số lương +VK + PCCV (hide) | AP9: Tỷ lệ PCƯĐ (hide) | AQ9: Hệ số PCƯĐ | AR9: PC ƯU ĐÃI | AS9: HS | AT9: Nộp 1 ngày lương | AU9: TỔNG CỘNG TIỀN LƯƠNG CÒN ĐƯỢC NHẬN | AV9: KÝ NHẬN | AZ9: =AZ8*16 -> #REF!
I10: CV | L10: thẻ ATM | Q10: HỆ SỐ LƯƠNG | R10: CỘNG HỆ SỐ PHỤ CẤP | S10: HỆ SỐ PC VƯỢT KHUNG | T10: HỆ SỐ PCTNVK | V10: HS PC CHỨC VỤ | W10: TỶ LỆ PCTNNG | X10: HS PCTN nhà giáo | AF10: BHXH 8% | AG10: BHYT 1.5% | AH10: BH THẤT NGHIỆP 1% | AI10: THUẾ THU NHẬP | AJ10: CỘNG | AK10: HỆ SỐ | AL10: THÀNH TIỀN | AM10: HỆ SỐ | AN10: THÀNH TIỀN | AS10: TC VÙNG KK (hide)
A11: 1 | C11: 2 | D11: 3 | E11: 4 | N11: 5 | O11: 4 | P11: 5 | Q11: 6 | R11: Hide | S11: Hide | T11: 7 | U11: Hide | V11: 8 | W11: Hide | X11: 9 | Y11: 10=6+7+8+9 | Z11: 11=10*1.490.000 | AA11: Hide | AB11: 12 | AC11: 13 | AD11: 14=11-12+13 | AE11: 16 | AF11: 15 | AG11: 16 | AH11: 17 | AI11: 18 | AJ11: 19=15+16+17+18 | AK11: 20 | AL11: 21=20*1.490.000 | AM11: 22 | AN11: 23=22*1.490.000 | AO11: Hide | AP11: Hide | AQ11: 24=(6+7+8)* Tỷ lệ PCUĐ | AR11: 25=24*1.490.000 | AS11: Hide | AT11: Hide | AU11: 26=14-19+21+23+25 | AV11: 27
U12: (9) = (8) x LTT | AE12: (16) = (7) + (9) + (11) + (13) + (14) + (15) | AF12: (17) = (16) x 7% | AG12: (18) = (16) x 1.5% | AH12: (19) = (16) x 1% | AL12: (21) = (20) x LTT | AR12: (22) = (6) + (6 x 8) + (10) x % PCƯĐ x LTT
D13: HỢP ĐỒNG LAO ĐỘNG
A14: 01 | B14: =INDEX([4]DS!$C$6:$C$343,MATCH(D14,[4]DS!$B$6:$B$343,0)) -> 0016100006551003 | C14: 11100083298 | D14: Lương Thị Thắm | E14: Nhân viên Trung tâm Dạy nghề Lý Tự Trọng | G14: x | I14: NV | J14: NV190 | K14: =VLOOKUP(D14,[2]T3!$B$2:$D$328,3,FALSE) -> 024834589 | L14: 1603205179071 | M14: 11100083298 | N14: 01.006 | O14: N3 | P14: 6 | Q14: 2.58 | R14: =T14+V14+X14 -> 0 | T14: =ROUND(Q14*S14/100,4) -> 0 | U14: =Q14*S14*$D$8/100 -> 0 | X14: =ROUND((Q14+T14+V14)*W14,4) -> 0 | Y14: =Q14+T14+V14+X14 -> 2.58 | Z14: =ROUND(Y14*$D$8,0) -> 3844200 | AB14: =Z14/24*AA14 -> 0 | AC14: =Z14/24*AA14*75% -> 0 | AD14: =ROUND(Z14-AB14+AC14,0) -> 3844200 | AE14: =#REF!+U14+#REF!+#REF!+#REF!+#REF! -> #REF! | AF14: =Z14*8% -> 307536 | AG14: =Z14*1.5% -> 57663 | AH14: =Z14*1% -> 38442 | AJ14: =SUM(AF14:AI14) -> 403641 | AL14: =AK14*$D$8 -> 0 | AO14: =Q14+T14+V14 -> 2.58 | AQ14: =ROUND(AO14*AP14,4) -> 0 | AR14: =ROUND(AQ14*$D$8,0) -> 0 | AU14: =ROUND(AD14-AJ14+AL14+AN14+AR14,0) -> 3440559 | AV14: =A14 -> 01 | AX14: NH
A15: 02 | B15: =INDEX([4]DS!$C$6:$C$343,MATCH(D15,[4]DS!$B$6:$B$343,0)) -> 0016100006575007 | C15: 11100071597 | D15: Huỳnh Thị Xuân Mai | E15: Nhân viên phòng Tổ chức - Hành chính - Tổng hợp | F15: SC | G15: x | I15: NV | J15: NV193 | K15: =VLOOKUP(D15,[2]T3!$B$2:$D$328,3,FALSE) -> 022537221 | L15: 1603205178850 | M15: 11100071597 | N15: 01.007 | O15: N2 | P15: 6 | Q15: 3.09 | R15: =T15+V15+X15 -> 0 | T15: =ROUND(Q15*S15/100,4) -> 0 | U15: =Q15*S15*$D$8/100 -> 0 | X15: =ROUND((Q15+T15+V15)*W15,4) -> 0 | Y15: =Q15+T15+V15+X15 -> 3.09 | Z15: =ROUND(Y15*$D$8,0) -> 4604100 | AB15: =Z15/24*AA15 -> 0 | AC15: =Z15/24*AA15*75% -> 0 | AD15: =ROUND(Z15-AB15+AC15,0) -> 4604100 | AE15: =#REF!+U15+#REF!+#REF!+#REF!+#REF! -> #REF! | AF15: =Z15*8% -> 368328 | AG15: =Z15*1.5% -> 69061.5 | AH15: =Z15*1% -> 46041 | AJ15: =SUM(AF15:AI15) -> 483430.5 | AL15: =AK15*$D$8 -> 0 | AO15: =Q15+T15+V15 -> 3.09 | AQ15: =ROUND(AO15*AP15,4) -> 0 | AR15: =ROUND(AQ15*$D$8,0) -> 0 | AU15: =ROUND(AD15-AJ15+AL15+AN15+AR15,0) -> 4120670 | AV15: =A15 -> 02 | AX15: KHVT | AZ15: =3.33*1490000 -> 4961700 | BA15: =3*1390000 -> 4170000 | BB15: =0.33*1390000 -> 458700
A16: 03 | B16: =INDEX([4]DS!$C$6:$C$343,MATCH(D16,[4]DS!$B$6:$B$343,0)) -> 0016100006709006 | C16: 11100071602 | D16: Lê Thị Nữ | E16: Nhân viên phòng Công tác Chính trị - HSSV | F16: TC | G16: x | I16: NV | J16: NV197 | K16: =VLOOKUP(D16,[2]T3!$B$2:$D$328,3,FALSE) -> 021987251 | L16: 1603205179196 | M16: 11100071602 | N16: 01.008 | O16: N3 | P16: 7 | Q16: 2.61 | R16: =T16+V16+X16 -> 0 | T16: =ROUND(Q16*S16/100,4) -> 0 | U16: =Q16*S16*$D$8/100 -> 0 | X16: =ROUND((Q16+T16+V16)*W16,4) -> 0 | Y16: =Q16+T16+V16+X16 -> 2.61 | Z16: =ROUND(Y16*$D$8,0) -> 3888900 | AB16: =Z16/24*AA16 -> 0 | AC16: =Z16/24*AA16*75% -> 0 | AD16: =ROUND(Z16-AB16+AC16,0) -> 3888900 | AE16: =#REF!+U16+#REF!+#REF!+#REF!+#REF! -> #REF! | AF16: =Z16*8% -> 311112 | AG16: =Z16*1.5% -> 58333.5 | AH16: =Z16*1% -> 38889 | AJ16: =SUM(AF16:AI16) -> 408334.5 | AL16: =AK16*$D$8 -> 0 | AO16: =Q16+T16+V16 -> 2.61 | AQ16: =ROUND(AO16*AP16,4) -> 0 | AR16: =ROUND(AQ16*$D$8,0) -> 0 | AU16: =ROUND(AD16-AJ16+AL16+AN16+AR16,0) -> 3480566 | AV16: =A16 -> 03 | AX16: QS | AZ16: =AZ15*10.5% -> 520978.5 | BA16: =BA15*10.5% -> 437850 | BB16: =BB15*10.5% -> 48163.5
A17: 04 | B17: =INDEX([4]DS!$C$6:$C$343,MATCH(D17,[4]DS!$B$6:$B$343,0)) -> 0016100006718005 | C17: 11100000812 | D17: Trần Văn Lý | E17: Nhân viên phòng Quản trị - Dịch vụ | I17: NV | J17: NV200 | K17: 072065001832 | L17: 1603205185964 | M17: 11100000812 | N17: 01.011 | O17: N3 | P17: 12 | Q17: 3.48 | R17: =T17+V17+X17 -> 0.4524 | S17: 13 | T17: =ROUND(Q17*S17/100,4) -> 0.4524 | U17: =Q17*S17*$D$8/100 -> 674076 | X17: =ROUND((Q17+T17+V17)*W17,4) -> 0 | Y17: =Q17+T17+V17+X17 -> 3.9324 | Z17: =ROUND(Y17*$D$8,0) -> 5859276 | AB17: =Z17/24*AA17 -> 0 | AC17: =Z17/24*AA17*75% -> 0 | AD17: =ROUND(Z17-AB17+AC17,0) -> 5859276 | AE17: =#REF!+U17+#REF!+#REF!+#REF!+#REF! -> #REF! | AF17: =Z17*8% -> 468742.08 | AG17: =Z17*1.5% -> 87889.14 | AH17: =Z17*1% -> 58592.76 | AJ17: =SUM(AF17:AI17) -> 615223.98 | AL17: =AK17*$D$8 -> 0 | AO17: =Q17+T17+V17 -> 3.9324 | AQ17: =ROUND(AO17*AP17,4) -> 0 | AR17: =ROUND(AQ17*$D$8,0) -> 0 | AU17: =ROUND(AD17-AJ17+AL17+AN17+AR17,0) -> 5244052 | AV17: =A17 -> 04 | AZ17: =#REF!+AZ15+800000+1000000 -> #REF! | BA17: =#REF!+BA15 -> #REF!
A18: 05 | B18: =INDEX([4]DS!$C$6:$C$343,MATCH(D18,[4]DS!$B$6:$B$343,0)) -> 0016100006649003 | C18: 11100000805 | D18: Trần Văn Cu Anh | E18: Nhân viên Bảo vệ phòng Tổ chức - Hành chính - Tổng hợp | I18: NV | J18: NV199 | K18: =VLOOKUP(D18,[2]T3!$B$2:$D$328,3,FALSE) -> 079064004299 | L18: 1603205185970 | M18: 11100000805 | N18: 01.011 | O18: N3 | P18: 12 | Q18: 3.48 | R18: =T18+V18+X18 -> 0.4872 | S18: 14 | T18: =ROUND(Q18*S18/100,4) -> 0.4872 | U18: =Q18*S18*$D$8/100 -> 725928 | X18: =ROUND((Q18+T18+V18)*W18,4) -> 0 | Y18: =Q18+T18+V18+X18 -> 3.9672 | Z18: =ROUND(Y18*$D$8,0) -> 5911128 | AB18: =Z18/24*AA18 -> 0 | AC18: =Z18/24*AA18*75% -> 0 | AD18: =ROUND(Z18-AB18+AC18,0) -> 5911128 | AE18: =#REF!+U18+#REF!+#REF!+#REF!+#REF! -> #REF! | AF18: =Z18*8% -> 472890.24 | AG18: =Z18*1.5% -> 88666.92 | AH18: =Z18*1% -> 59111.28 | AJ18: =SUM(AF18:AI18) -> 620668.44 | AL18: =AK18*$D$8 -> 0 | AO18: =Q18+T18+V18 -> 3.9672 | AQ18: =ROUND(AO18*AP18,4) -> 0 | AR18: =ROUND(AQ18*$D$8,0) -> 0 | AU18: =ROUND(AD18-AJ18+AL18+AN18+AR18,0) -> 5290460 | AV18: =A18 -> 05 | AZ18: =AZ15*1.2 -> 5954040 | BA18: =BA17+800000 -> #REF!
D19: CỘNG HỢP ĐỒNG LAO ĐỘNG | Q19: =SUM(Q13:Q18) -> 15.24 | R19: =SUM(R13:R18) -> 0.9396 | T19: =SUM(T13:T18) -> 0.9396 | U19: =SUM(U13:U18) -> 1400004 | V19: =SUM(V13:V18) -> 0 | X19: =SUM(X13:X18) -> 0 | Y19: =SUM(Y13:Y18) -> 16.1796 | Z19: =SUM(Z13:Z18) -> 24107604 | AA19: =SUM(AA13:AA18) -> 0 | AB19: =SUM(AB13:AB18) -> 0 | AC19: =SUM(AC13:AC18) -> 0 | AD19: =SUM(AD13:AD18) -> 24107604 | AE19: =SUM(AE13:AE18) -> #REF! | ... AT19: =SUM(AT13:AT18) -> 0 | AU19: =SUM(AU13:AU18)-1 -> 21576306
D21: Bằng chữ: | E21: Hai mươi mốt triệu năm trăm sáu mươi bảy ngàn ba trăm lẻ sáu đồng.
E23: =[5]!VND(#REF!,,"đồng","ảo",3) -> #VALUE! | AL23: Thành phố Hồ Chí Minh, ngày 01 tháng 10 năm 2021
D24: NGƯỜI LẬP BẢNG | V24: KẾ TOÁN TRƯỞNG | AL24: HIỆU TRƯỞNG
D32: Vũ Như Quỳnh | V32: Nguyễn Kính | AL32: Phạm Hữu Lộc
G61: GV288

Sheet BC
A1: ỦY BAN NHÂN DÂN THÀNH PHỐ HỒ CHÍ MINH | AL1: Mẫu số C02a - HD
A2: ĐƠN VỊ: TRƯỜNG CAO ĐẲNG LÝ TỰ TRỌNG | AL2: (Ban hành kèm theo Thông tư số 107/2017-BTC
A3: MÃ ĐƠN VỊ: 1058083 | AL3: ngày 10/10/2017 của Bộ Tài chính)
V4: BẢNG THANH TOÁN TIỀN LƯƠNG
AR5: Số: ……………………………………
V6: (Tháng 04 năm 2024) | AR6: Nợ: ……………………………………
AR7: Có: …………………………………….
D8: 1800000
A9: STT | C9: MÃ SỐ VIÊN CHỨC` | D9: HỌ VÀ TÊN | E9: CẤP BẬC - CHỨC VỤ | G9: NỮ | I9: CD | J9: MS CỐ ĐỊNH TỪ T8/2008 | K9: Số CMND | L9: Số tài khoản | M9: MÃ SỐ VIÊN CHỨC` | N9: CHỨC DANH NGHỀ NGHIỆP | O9: MÃ SỐ NGẠCH LƯƠNG | P9: LOẠI VC | Q9: BẬC | R9: LƯƠNG HỆ SỐ | Z9: CỘNG HỆ SỐ | AA9: THÀNH TIỀN | AB9: SỐ NGÀY NGHỈ | AC9: Nghỉ việc không được hưởng lương | AD9: BHXH trả thay lương | AE9: Tổng cộng tiền lương và BHXH được hưởng | AF9: KHẤU TRỪ | AK9: PC TRÁCH NHIỆM | AM9: PC ĐỘC HẠI | AO9: Hệ số lương +VK + PCCV (hide) | AP9: Tỷ lệ PCƯĐ (hide) | AQ9: Hệ số PCƯĐ | AR9: PC ƯU ĐÃI | AS9: Nộp 1 ngày lương | AT9: TỔNG CỘNG TIỀN LƯƠNG CÒN ĐƯỢC NHẬN | AU9: KÝ NHẬN
I10: CV | L10: thẻ ATM | R10: HỆ SỐ LƯƠNG | S10: CỘNG HỆ SỐ PHỤ CẤP | T10: HỆ SỐ PC VƯỢT KHUNG | U10: HỆ SỐ PCTNVK | W10: HS PC CHỨC VỤ | X10: TỶ LỆ PCTNNG | Y10: HS PCTN nhà giáo | AF10: BHXH 8% | AG10: BHYT 1.5% | AH10: BH THẤT NGHIỆP 1% | AI10: THUẾ THU NHẬP | AJ10: CỘNG | AK10: HỆ SỐ | AL10: THÀNH TIỀN | AM10: HỆ SỐ | AN10: THÀNH TIỀN
A11: 1 | C11: 2 | D11: 3 | E11: 4 | O11: 5 | P11: 4 | Q11: 5 | R11: 6 | S11: Hide | T11: Hide | U11: 7 | V11: Hide | W11: 8 | X11: Hide | Y11: 9 | Z11: 10=6+7+8+9 | AA11: 11=10*1.800.000 | AB11: Hide | AC11: 12 | AD11: 13 | AE11: 14=11-12+13 | AF11: 15 | AG11: 16 | AH11: 17 | AI11: 18 | AJ11: 19=15+16+17+18 | AK11: 20 | AL11: 21=20*1.800.000 | AM11: 22 | AN11: 23=22*1.800.000 | AO11: Hide | AP11: Hide | AQ11: 24=(6+7+8)* Tỷ lệ PCUĐ | AR11: 25=24*1.800.000 | AS11: Hide | AT11: 26=14-19+21+23+25 | AU11: 27
V12: (9) = (8) x LTT | AF12: (17) = (16) x 7% | AG12: (18) = (16) x 1.5% | AH12: (19) = (16) x 1% | AL12: (21) = (20) x LTT | AR12: (22) = (6) + (6 x 8) + (10) x % PCƯĐ x LTT
C13: A. BIÊN CHẾ
A14: =_xlfn.AGGREGATE(4,7,A$13:A13)+1 -> 1 | B14: =VLOOKUP(D14,[1]LuongBC_T01!$B$9:$C$292,2,FALSE) -> 0016100006544007 | C14: 41200001203 | D14: Phạm Hữu Lộc | E14: Hiệu trưởng | K14: =VLOOKUP(D14,[2]T3!$B$2:$D$328,3,FALSE) -> 022874945 | L14: 1603215001126 | M14: 41200001203 | N14: Giảng viên chính (Hạng 2) | O14: V.07.01.02 | P14: A1 | Q14: 9 | R14: 5.76 | S14: =U14+W14+Y14 -> 3.3642 | U14: =ROUND(R14*T14/100,4) -> 0 | V14: =R14*T14*$D$8/100 -> 0 | W14: 0.9 | X14: 0.37 | Y14: =ROUND((R14+U14+W14)*X14,4) -> 2.4642 | Z14: =ROUND(R14+U14+W14+Y14,4) -> 9.1242 | AA14: =ROUND(Z14*$D$8,0) -> 16423560 | AC14: =AA14/24*AB14 -> 0 | AD14: =AA14/24*AB14*75% -> 0 | AE14: =ROUND(AA14-AC14+AD14,0) -> 16423560 | AF14: =AA14*8% -> 1313884.8 | AG14: =AA14*1.5% -> 246353.4 | AH14: =AA14*1% -> 164235.6 | AJ14: =SUM(AF14:AI14) -> 1724473.8 | AL14: =AK14*$D$8 -> 0 | AO14: =R14+U14+W14 -> 6.66 | AP14: 0.25 | AQ14: =ROUND(AO14*AP14,4) -> 1.665 | AR14: =ROUND(AQ14*$D$8,0) -> 2997000 | AT14: =ROUND(AE14-AJ14+AL14+AN14+AR14,0) -> 17696086 | AU14: =A14 -> 1
A15: =_xlfn.AGGREGATE(4,7,A$13:A14)+1 -> 2 | B15: =VLOOKUP(D15,[1]LuongBC_T01!$B$9:$C$292,2,FALSE) -> 0016100006699008 | C15: 50200000021 | D15: Đinh Văn Đệ | E15: Phó Hiệu trưởng | K15: =VLOOKUP(D15,[2]T3!$B$2:$D$328,3,FALSE) -> 025372149 | L15: 1603215001371 | M15: 50200000021 | N15: =VLOOKUP(D15,'[6]Bao cao So GDDT'!$D$14:$S$282,11,FALSE) -> Giảng viên GDNN LT (hạng III) | O15: V.09.02.03 | P15: A1 | Q15: 8 | R15: 4.98 | S15: =U15+W15+Y15 -> 2.3749 | T15: 7 | U15: =ROUND(R15*T15/100,4) -> 0.3486 | V15: =R15*T15*$D$8/100 -> 627480 | W15: 0.7 | X15: 0.22 | Y15: =ROUND((R15+U15+W15)*X15,4) -> 1.3263 | Z15: =ROUND(R15+U15+W15+Y15,4) -> 7.3549 | AA15: =ROUND(Z15*$D$8,0) -> 13238820 | AC15: =AA15/24*AB15 -> 0 | AD15: =AA15/24*AB15*75% -> 0 | AE15: =ROUND(AA15-AC15+AD15,0) -> 13238820 | AF15: =AA15*8% -> 1059105.6 | AG15: =AA15*1.5% -> 198582.3 | AH15: =AA15*1% -> 132388.2 | AJ15: =SUM(AF15:AI15) -> 1390076.1 | AL15: =AK15*$D$8 -> 0 | AO15: =R15+U15+W15 -> 6.0286 | AP15: 0.25 | AQ15: =ROUND(AO15*AP15,4) -> 1.5072 | AR15: =ROUND(AQ15*$D$8,0) -> 2712960 | AT15: =ROUND(AE15-AJ15+AL15+AN15+AR15,0) -> 14561704 | AU15: =A15 -> 2 | AW15: QĐ Thuyên chuyển từ ĐH Công nghiệp về trường T01/2015.
A16: =_xlfn.AGGREGATE(4,7,A$13:A15)+1 -> 3 | B16: =VLOOKUP(D16,[1]LuongBC_T01!$B$9:$C$292,2,FALSE) -> 0016100006543008 | C16: 11100000791 | D16: Đinh Hồng Minh | E16: Phó Hiệu trưởng | F16: ĐH | G16: x | I16: PPK | J16: PPK023 | K16: =VLOOKUP(D16,[2]T3!$B$2:$D$328,3,FALSE) -> 022077198 | L16: 1603205186191 | M16: 11100000791 | N16: =VLOOKUP(D16,'[6]Bao cao So GDDT'!$D$14:$S$282,11,FALSE) -> Giảng viên GDNN LT (hạng III) | O16: 01.003 | P16: A1 | Q16: 8 | R16: 4.98 | S16: =U16+W16+Y16 -> 1.0984 | T16: 8 | U16: =ROUND(R16*T16/100,4) -> 0.3984 | V16: =R16*T16*$D$8/100 -> 717120 | W16: 0.7 | X16: =VLOOKUP(D16,PCTN!D16:W283,20,FALSE) -> 0 | Y16: =ROUND((R16+U16+W16)*X16,4) -> 0 | Z16: =ROUND(R16+U16+W16+Y16,4) -> 6.0784 | AA16: =ROUND(Z16*$D$8,0) -> 10941120 | AC16: =AA16/24*AB16 -> 0 | AD16: =AA16/24*AB16*75% -> 0 | AE16: =ROUND(AA16-AC16+AD16,0) -> 10941120 | AF16: =AA16*8% -> 875289.6 | AG16: =AA16*1.5% -> 164116.8 | AH16: =AA16*1% -> 109411.2 | AJ16: =SUM(AF16:AI16) -> 1148817.6 | AL16: =AK16*$D$8 -> 0 | AO16: =R16+U16+W16 -> 6.0784 | AQ16: =ROUND(AO16*AP16,4) -> 0 | AR16: =ROUND(AQ16*$D$8,0) -> 0 | AT16: =ROUND(AE16-AJ16+AL16+AN16+AR16,0) -> 9792302 | AU16: =A16 -> 3
A17: =_xlfn.AGGREGATE(4,7,A$13:A16)+1 -> 4 | B17: =VLOOKUP(D17,[1]LuongBC_T01!$B$9:$C$292,2,FALSE) -> 0016100006674008 | C17: 50200000102 | D17: Châu Văn Bảo | E17: Phó Hiệu trưởng | K17: =VLOOKUP(D17,[2]T3!$B$2:$D$328,3,FALSE) -> 025661153 | L17: 1603215001359 | M17: 50200000102 | N17: =VLOOKUP(D17,'[6]Bao cao So GDDT'!$D$14:$S$282,11,FALSE) -> Giảng viên GDNN LT (hạng III) | O17: V.09.02.03 | P17: A1 | Q17: 6 | R17: 4.65 | S17: =U17+W17+Y17 -> 1.8235 | U17: =ROUND(R17*T17/100,4) -> 0 | V17: =R17*T17*$D$8/100 -> 0 | W17: 0.7 | X17: 0.21 | Y17: =ROUND((R17+U17+W17)*X17,4) -> 1.1235 | Z17: =ROUND(R17+U17+W17+Y17,4) -> 6.4735 | AA17: =ROUND(Z17*$D$8,0) -> 11652300 | AC17: =AA17/24*AB17 -> 0 | AD17: =AA17/24*AB17*75% -> 0 | AE17: =ROUND(AA17-AC17+AD17,0) -> 11652300 | AF17: =AA17*8% -> 932184 | AG17: =AA17*1.5% -> 174784.5 | AH17: =AA17*1% -> 116523 | AJ17: =SUM(AF17:AI17) -> 1223491.5 | AL17: =AK17*$D$8 -> 0 | AO17: =R17+U17+W17 -> 5.35 | AP17: 0.25 | AQ17: =ROUND(AO17*AP17,4) -> 1.3375 | AR17: =ROUND(AQ17*$D$8,0) -> 2407500 | AT17: =ROUND(AE17-AJ17+AL17+AN17+AR17,0) -> 12836309 | AU17: =A17 -> 4 | AW17: QĐ Bổ nhiệm Phó Hiệu trưởng từ 15/4/2019
A18: =_xlfn.AGGREGATE(4,7,A$13:A17)+1 -> 5 | B18: 0016106868686866 | C18: 50800000104 | D18: Lâm Viết Dũng | E18: Trưởng phòng Tổ chức - Hành chính - Tổng hợp | K18: 079076001426 | M18: 50800000104 | N18: =VLOOKUP(D18,'[6]Bao cao So GDDT'!$D$14:$S$282,11,FALSE) -> Giảng viên GDNN LT (hạng III) | O18: V.09.02.03 | P18: A1 | Q18: 7 | R18: 4.98 | S18: =U18+W18+Y18 -> 1.9484 | T18: 5 | U18: =ROUND(R18*T18/100,4) -> 0.249 | V18: =R18*T18*$D$8/100 -> 448200 | W18: 0.45 | X18: 0.22 | Y18: =ROUND((R18+U18+W18)*X18,4) -> 1.2494 | Z18: =ROUND(R18+U18+W18+Y18,4) -> 6.9284 | AA18: =ROUND(Z18*$D$8,0) -> 12471120 | AC18: =AA18/24*AB18 -> 0 | AD18: =AA18/24*AB18*75% -> 0 | AE18: =ROUND(AA18-AC18+AD18,0) -> 12471120 | AF18: =AA18*8% -> 997689.6 | AG18: =AA18*1.5% -> 187066.8 | AH18: =AA18*1% -> 124711.2 | AJ18: =SUM(AF18:AI18) -> 1309467.6 | AL18: =AK18*$D$8 -> 0 | AO18: =R18+U18+W18 -> 5.679 | AP18: 0.25 | AQ18: =ROUND(AO18*AP18,4) -> 1.4198 | AR18: =ROUND(AQ18*$D$8,0) -> 2555640 | AT18: =ROUND(AE18-AJ18+AL18+AN18+AR18,0) -> 13717292 | AU18: =A18 -> 5
A19: =_xlfn.AGGREGATE(4,7,A$13:A18)+1 -> 6 | B19: =VLOOKUP(D19,[1]LuongBC_T01!$B$9:$C$292,2,FALSE) -> 0016100006806001 | C19: 50200000160 | D19: Lê Quang Liêm | E19: Trưởng phòng Quản trị - Dịch vụ | K19: =VLOOKUP(D19,[2]T3!$B$2:$D$328,3,FALSE) -> 024891110 | L19: 1603215001365 | M19: 50200000160 | N19: =VLOOKUP(D19,'[6]Bao cao So GDDT'!$D$14:$S$282,11,FALSE) -> Giảng viên GDNN LT (hạng III) | O19: V.09.02.03 | P19: A1 | Q19: 7 | R19: 4.98 | S19: =U19+W19+Y19 -> 2.0052 | T19: 5 | U19: =ROUND(R19*T19/100,4) -> 0.249 | V19: =R19*T19*$D$8/100 -> 448200 | W19: 0.45 | X19: 0.23 | Y19: =ROUND((R19+U19+W19)*X19,4) -> 1.3062 | Z19: =ROUND(R19+U19+W19+Y19,4) -> 6.9852 | AA19: =ROUND(Z19*$D$8,0) -> 12573360 | AC19: =AA19/24*AB19 -> 0 | AD19: =AA19/24*AB19*75% -> 0 | AE19: =ROUND(AA19-AC19+AD19,0) -> 12573360 | AF19: =AA19*8% -> 1005868.8 | AG19: =AA19*1.5% -> 188600.4 | AH19: =AA19*1% -> 125733.6 | AJ19: =SUM(AF19:AI19) -> 1320202.8 | AL19: =AK19*$D$8 -> 0 | AO19: =R19+U19+W19 -> 5.679 | AP19: 0.25 | AQ19: =ROUND(AO19*AP19,4) -> 1.4198 | AR19: =ROUND(AQ19*$D$8,0) -> 2555640 | AT19: =ROUND(AE19-AJ19+AL19+AN19+AR19,0) -> 13808797 | AU19: =A19 -> 6
A20: =_xlfn.AGGREGATE(4,7,A$13:A19)+1 -> 7 | B20: =VLOOKUP(D20,[1]LuongBC_T01!$B$9:$C$292,2,FALSE) -> 0016100006495006 | C20: 11100000723 | D20: Nguyễn Văn Thành | E20: Phó Trưởng phòng Quản trị - Dịch vụ | F20: ĐH | I20: GV | J20: GV087 | K20: =VLOOKUP(D20,[2]T3!$B$2:$D$328,3,FALSE) -> 079074000549 | L20: 1603205182190 | M20: 11100000723 | N20: =VLOOKUP(D20,'[6]Bao cao So GDDT'!$D$14:$S$282,11,FALSE) -> Giảng viên GDNN LT (hạng III) | O20: V.09.02.03 | P20: A1 | Q20: 8 | R20: 4.98 | S20: =U20+W20+Y20 -> 1.9479 | T20: 7 | U20: =ROUND(R20*T20/100,4) -> 0.3486 | V20: =R20*T20*$D$8/100 -> 627480 | W20: 0.35 | X20: 0.22 | Y20: =ROUND((R20+U20+W20)*X20,4) -> 1.2493 | Z20: =ROUND(R20+U20+W20+Y20,4) -> 6.9279 | AA20: =ROUND(Z20*$D$8,0) -> 12470220 | AC20: =AA20/24*AB20 -> 0 | AD20: 0 | AE20: =ROUND(AA20-AC20+AD20,0) -> 12470220 | AF20: =AA20*8% -> 997617.6 | AG20: =AA20*1.5% -> 187053.3 | AH20: =AA20*1% -> 124702.2 | AJ20: =SUM(AF20:AI20) -> 1309373.1 | AL20: =AK20*$D$8 -> 0 | AO20: =R20+U20+W20 -> 5.6786 | AP20: 0.25 | AQ20: =ROUND(AO20*AP20,4) -> 1.4197 | AR20: =ROUND(AQ20*$D$8,0) -> 2555460 | AT20: =ROUND(AE20-AJ20+AL20+AN20+AR20,0) -> 13716307 | AU20: =A20 -> 7 | AW20: TO
A21: =_xlfn.AGGREGATE(4,7,A$13:A20)+1 -> 8 | B21: =VLOOKUP(D21,[1]LuongBC_T01!$B$9:$C$292,2,FALSE) -> 0016100006708007 | C21: 11100000789 | D21: Phan Đức Long | E21: Tổ trưởng Tổ QL Ký túc xá SV | F21: ĐH | H21: GV | I21: GV | J21: GV094 | K21: =VLOOKUP(D21,[2]T3!$B$2:$D$328,3,FALSE) -> 022688264 | L21: 1603205179180 | M21: 11100000789 | N21: =VLOOKUP(D21,'[6]Bao cao So GDDT'!$D$14:$S$282,11,FALSE) -> Giảng viên GDNN LT (hạng III) | O21: V.09.02.03 | P21: A1 | Q21: 7 | R21: 4.98 | S21: =U21+W21+Y21 -> 1.7044 | T21: 5 | U21: =ROUND(R21*T21/100,4) -> 0.249 | V21: =R21*T21*$D$8/100 -> 448200 | W21: 0.25 | X21: 0.22 | Y21: =ROUND((R21+U21+W21)*X21,4) -> 1.2054 | Z21: =ROUND(R21+U21+W21+Y21,4) -> 6.6844 | AA21: =ROUND(Z21*$D$8,0) -> 12031920 | AC21: =AA21/24*AB21 -> 0 | AD21: 0 | AE21: =ROUND(AA21-AC21+AD21,0) -> 12031920 | AF21: =AA21*8% -> 962553.6 | AG21: =AA21*1.5% -> 180478.8 | AH21: =AA21*1% -> 120319.2 | AJ21: =SUM(AF21:AI21) -> 1263351.6 | AL21: =AK21*$D$8 -> 0 | AO21: =R21+U21+W21 -> 5.479 | AP21: 0.25 | AQ21: =ROUND(AO21*AP21,4) -> 1.3698 | AR21: =ROUND(AQ21*$D$8,0) -> 2465640 | AT21: =ROUND(AE21-AJ21+AL21+AN21+AR21,0) -> 13234208 | AU21: =A21 -> 8 | AW21: QS
A22: =_xlfn.AGGREGATE(4,7,A$13:A21)+1 -> 9 | D22: Phan Hữu Tước | E22: Phó Trưởng phòng Quản trị - Dịch vụ | O22: 01.005 | R22: 4.06 | S22: =U22+W22+Y22 -> 0.756 | T22: 10 | U22: =ROUND(R22*T22/100,4) -> 0.406 | V22: =R22*T22*$D$8/100 -> 730800 | W22: 0.35 | Y22: =ROUND((R22+U22+W22)*X22,4) -> 0 | Z22: =ROUND(R22+U22+W22+Y22,4) -> 4.816 | AA22: =ROUND(Z22*$D$8,0) -> 8668800 | AC22: =AA22/24*AB22 -> 0 | AD22: 0 | AE22: =ROUND(AA22-AC22+AD22,0) -> 8668800 | AF22: =AA22*8% -> 693504 | AG22: =AA22*1.5% -> 130032 | AH22: =AA22*1% -> 86688 | AJ22: =SUM(AF22:AI22) -> 910224 | AL22: =AK22*$D$8 -> 0 | AO22: =R22+U22+W22 -> 4.816 | AQ22: =ROUND(AO22*AP22,4) -> 0 | AR22: =ROUND(AQ22*$D$8,0) -> 0 | AT22: =ROUND(AE22-AJ22+AL22+AN22+AR22,0) -> 7758576 | AU22: =A22 -> 9
A23: =_xlfn.AGGREGATE(4,7,A$13:A22)+1 -> 10 | B23: =VLOOKUP(D23,[1]LuongBC_T01!$B$9:$C$292,2,FALSE) -> 0016100006567007 | C23: 11100000785 | D23: Trang Thị Xuân Uyên | E23: Trưởng Trung tâm Y tế | F23: Th.S | G23: x | I23: QL | J23: QL022 | K23: 079170004279 | L23: 1603205186156 | M23: 11100000785 | N23: =VLOOKUP(D23,'[6]Bao cao So GDDT'!$D$14:$S$282,11,FALSE) -> Bác sĩ (hạng III) | O23: V.08.01.03 | P23: A1 | Q23: 6 | R23: 4.65 | S23: =U23+W23+Y23 -> 0.45 | U23: =ROUND(R23*T23/100,4) -> 0 | V23: =R23*T23*$D$8/100 -> 0 | W23: 0.45 | X23: =VLOOKUP(D23,PCTN!D23:W290,20,FALSE) -> 0 | Y23: =ROUND((R23+U23+W23)*X23,4) -> 0 | Z23: =ROUND(R23+U23+W23+Y23,4) -> 5.1 | AA23: =ROUND(Z23*$D$8,0) -> 9180000 | AC23: =AA23/24*AB23 -> 0 | AD23: =AA23/24*AB23*75% -> 0 | AE23: =ROUND(AA23-AC23+AD23,0) -> 9180000 | AF23: =AA23*8% -> 734400 | AG23: =AA23*1.5% -> 137700 | AH23: =AA23*1% -> 91800 | AJ23: =SUM(AF23:AI23) -> 963900 | AL23: =AK23*$D$8 -> 0 | AO23: =R23+U23+W23 -> 5.1 | AP23: 0.2 | AQ23: =ROUND(AO23*AP23,4) -> 1.02 | AR23: =ROUND(AQ23*$D$8,0) -> 1836000 | AT23: =ROUND(AE23-AJ23+AL23+AN23+AR23,0) -> 10052100 | AU23: =A23 -> 10 | AV23: Hưởng PCUĐ nghề 20% (trên hệ số lương hiện hưởng). | AW23: YT
A24: =_xlfn.AGGREGATE(4,7,A$13:A23)+1 -> 11 | B24: =VLOOKUP(D24,[1]LuongBC_T01!$B$9:$C$292,2,FALSE) -> 0016100006705008 | C24: 50800000800 | D24: Nguyễn Kính | E24: TP. Kế hoạch - Tài chính | K24: =VLOOKUP(D24,[2]T3!$B$2:$D$328,3,FALSE) -> 023147526 | M24: 50800000800 | N24: =VLOOKUP(D24,'[6]Bao cao So GDDT'!$D$14:$S$282,11,FALSE) -> Kế toán viên | O24: 06.031 | P24: A1 | Q24: 9 | R24: 4.98 | S24: =U24+W24+Y24 -> 2.2926 | T24: 37 | U24: =ROUND(R24*T24/100,4) -> 1.8426 | V24: =R24*T24*$D$8/100 -> 3316680 | W24: 0.45 | X24: 0 | Y24: =ROUND((R24+U24+W24)*X24,4) -> 0 | Z24: =ROUND(R24+U24+W24+Y24,4) -> 7.2726 | AA24: =ROUND(Z24*$D$8,0) -> 13090680 | AC24: =AA24/24*AB24 -> 0 | AD24: =AA24/24*AB24*75% -> 0 | AE24: =ROUND(AA24-AC24+AD24,0) -> 13090680 | AF24: =AA24*8% -> 1047254.4 | AG24: =AA24*1.5% -> 196360.2 | AH24: =AA24*1% -> 130906.8 | AJ24: =SUM(AF24:AI24) -> 1374521.4 | AK24: 0.2 | AL24: =AK24*$D$8 -> 360000 | AO24: =R24+U24+W24 -> 7.2726 | AP24: 0 | AQ24: =ROUND(AO24*AP24,4) -> 0 | AR24: =ROUND(AQ24*$D$8,0) -> 0 | AT24: =ROUND(AE24-AJ24+AL24+AN24+AR24,0) -> 12076159 | AU24: =A24 -> 11 | AV24: PCTN kế toán trưởng HS 0,2 trên MLTT từ 06/02/2017.
A25: =_xlfn.AGGREGATE(4,7,A$13:A24)+1 -> 12 | B25: =VLOOKUP(D25,[1]LuongBC_T01!$B$9:$C$292,2,FALSE) -> 0016100006766007 | C25: 11100000742 | D25: Lê Xuân Thiện | E25: Nhân viên phòng Thanh tra giáo dục - QHDN | F25: ĐH | I25: NV | J25: NV063 | K25: 048065000101 | L25: 1603205185958 | M25: 11100000742 | N25: =VLOOKUP(D25,'[6]Bao cao So GDDT'!$D$14:$S$282,11,FALSE) -> Chuyên viên | O25: 01.003 | P25: A1 | Q25: 8 | R25: 4.98 | S25: =U25+W25+Y25 -> 0.7986 | T25: 7 | U25: =ROUND(R25*T25/100,4) -> 0.3486 | V25: =R25*T25*$D$8/100 -> 627480 | W25: 0.45 | X25: =VLOOKUP(D25,PCTN!D24:W291,20,FALSE) -> 0 | Y25: =ROUND((R25+U25+W25)*X25,4) -> 0 | Z25: =ROUND(R25+U25+W25+Y25,4) -> 5.7786 | AA25: =ROUND(Z25*$D$8,0) -> 10401480 | AC25: =AA25/24*AB25 -> 0 | AD25: =AA25/24*AB25*75% -> 0 | AE25: =ROUND(AA25-AC25+AD25,0) -> 10401480 | AF25: =AA25*8% -> 832118.4 | AG25: =AA25*1.5% -> 156022.2 | AH25: =AA25*1% -> 104014.8 | AJ25: =SUM(AF25:AI25) -> 1092155.4 | AL25: =AK25*$D$8 -> 0 | AO25: =R25+U25+W25 -> 5.7786 | AQ25: =ROUND(AO25*AP25,4) -> 0 | AR25: =ROUND(AQ25*$D$8,0) -> 0 | AT25: =ROUND(AE25-AJ25+AL25+AN25+AR25,0) -> 9309325 | AU25: =A25 -> 12 | AV25: QĐ Thôi giữ chức vụ TP. Thanh tra -GD từ 01/3/2024. HS PCCV 0,45 được bảo lưu hết T8/2024
A26: =_xlfn.AGGREGATE(4,7,A$13:A25)+1 -> 13 | B26: =VLOOKUP(D26,[1]LuongBC_T01!$B$9:$C$292,2,FALSE) -> 0016100006783001 | C26: 11100000751 | D26: Nguyễn Ngọc Hiệp | E26: Giảng viên khoa Cơ khí | F26: ĐH | I26: GV | J26: GV089 | K26: =VLOOKUP(D26,[2]T3!$B$2:$D$328,3,FALSE) -> 022776286 | L26: 1603205179173 | M26: 11100000751 | N26: =VLOOKUP(D26,'[6]Bao cao So GDDT'!$D$14:$S$282,11,FALSE) -> Giảng viên GDNN LT (hạng III) | O26: V.09.02.03 | P26: A1 | Q26: 8 | R26: 4.98 | S26: =U26+W26+Y26 -> 1.6275 | T26: 7 | U26: =ROUND(R26*T26/100,4) -> 0.3486 | V26: =R26*T26*$D$8/100 -> 627480 | X26: 0.24 | Y26: =ROUND((R26+U26+W26)*X26,4) -> 1.2789 | Z26: =ROUND(R26+U26+W26+Y26,4) -> 6.6075 | AA26: =ROUND(Z26*$D$8,0) -> 11893500 | AC26: =AA26/24*AB26 -> 0 | AD26: =AA26/24*AB26*75% -> 0 | AE26: =ROUND(AA26-AC26+AD26,0) -> 11893500 | AF26: =AA26*8% -> 951480 | AG26: =AA26*1.5% -> 178402.5 | AH26: =AA26*1% -> 118935 | AJ26: =SUM(AF26:AI26) -> 1248817.5 | AL26: =AK26*$D$8 -> 0 | AO26: =R26+U26+W26 -> 5.3286 | AP26: 0.25 | AQ26: =ROUND(AO26*AP26,4) -> 1.3322 | AR26: =ROUND(AQ26*$D$8,0) -> 2397960 | AT26: =ROUND(AE26-AJ26+AL26+AN26+AR26,0) -> 13042643 | AU26: =A26 -> 13 | AW26: QS
A27: =_xlfn.AGGREGATE(4,7,A$13:A26)+1 -> 14 | B27: =VLOOKUP(D27,[1]LuongBC_T01!$B$9:$C$292,2,FALSE) -> 0016100006715006 | C27: 11100000772 | D27: Nguyễn Tất Thắng | E27: Nhân viên phòng Thanh tra giáo dục - QHDN | F27: ĐH | I27: NV | J27: NV109 | K27: =VLOOKUP(D27,[2]T3!$B$2:$D$328,3,FALSE) -> 023181301 | L27: 1603205179109 | M27: 11100000772 | N27: =VLOOKUP(D27,'[6]Bao cao So GDDT'!$D$14:$S$282,11,FALSE) -> Chuyên viên | O27: 01.003 | P27: A1 | Q27: 5 | R27: 4.32 | S27: =U27+W27+Y27 -> 0 | U27: =ROUND(R27*T27/100,4) -> 0 | V27: =R27*T27*$D$8/100 -> 0 | X27: =VLOOKUP(D27,PCTN!D75:W342,20,FALSE) -> 0 | Y27: =ROUND((R27+U27+W27)*X27,4) -> 0 | Z27: =ROUND(R27+U27+W27+Y27,4) -> 4.32 | AA27: =ROUND(Z27*$D$8,0) -> 7776000 | AC27: =AA27/24*AB27 -> 0 | AD27: 0 | AE27: =ROUND(AA27-AC27+AD27,0) -> 7776000 | AF27: =AA27*8% -> 622080 | AG27: =AA27*1.5% -> 116640 | AH27: =AA27*1% -> 77760 | AJ27: =SUM(AF27:AI27) -> 816480 | AL27: =AK27*$D$8 -> 0 | AO27: =R27+U27+W27 -> 4.32 | AQ27: =ROUND(AO27*AP27,4) -> 0 | AR27: =ROUND(AQ27*$D$8,0) -> 0 | AT27: =ROUND(AE27-AJ27+AL27+AN27+AR27,0) -> 6959520 | AU27: =A27 -> 14 | AW27: CNTT
A28: =_xlfn.AGGREGATE(4,7,A$13:A27)+1 -> 15 | B28: =VLOOKUP(D28,[1]LuongBC_T01!$B$9:$C$292,2,FALSE) -> 0016100006527005 | C28: 11100000782 | D28: Võ Thị Xuân Thơ | E28: Nhân viên phòng Tuyển sinh - Đào tạo | F28: ĐH | G28: x | I28: NV | J28: NV110 | K28: =VLOOKUP(D28,[2]T3!$B$2:$D$328,3,FALSE) -> 024734659 | L28: 1603205185760 | M28: 11100000782 | N28: =VLOOKUP(D28,'[6]Bao cao So GDDT'!$D$14:$S$282,11,FALSE) -> Chuyên viên | O28: 01.003 | P28: A1 | Q28: 6 | R28: 4.65 | S28: =U28+W28+Y28 -> 0 | U28: =ROUND(R28*T28/100,4) -> 0 | V28: =R28*T28*$D$8/100 -> 0 | X28: =VLOOKUP(D28,PCTN!D74:W341,20,FALSE) -> 0 | Y28: =ROUND((R28+U28+W28)*X28,4) -> 0 | Z28: =ROUND(R28+U28+W28+Y28,4) -> 4.65 | AA28: =ROUND(Z28*$D$8,0) -> 8370000 | AC28: =AA28/24*AB28 -> 0 | AD28: =AA28/24*AB28*75% -> 0 | AE28: =ROUND(AA28-AC28+AD28,0) -> 8370000 | AF28: =AA28*8% -> 669600 | AG28: =AA28*1.5% -> 125550 | AH28: =AA28*1% -> 83700 | AJ28: =SUM(AF28:AI28) -> 878850 | AL28: =AK28*$D$8 -> 0 | AO28: =R28+U28+W28 -> 4.65 | AQ28: =ROUND(AO28*AP28,4) -> 0 | AR28: =ROUND(AQ28*$D$8,0) -> 0 | AT28: =ROUND(AE28-AJ28+AL28+AN28+AR28,0) -> 7491150 | AU28: =A28 -> 15 | AW28: DT
A29: =_xlfn.AGGREGATE(4,7,A$13:A28)+1 -> 16 | B29: =VLOOKUP(D29,[1]LuongBC_T01!$B$9:$C$292,2,FALSE) -> 0016100006689005 | C29: 11100066861 | D29: Nguyễn Chí Nhân | E29: Trưởng phòng Khảo thí và KĐCL | F29: ĐH | I29: PPK | J29: PPK034 | K29: =VLOOKUP(D29,[2]T3!$B$2:$D$328,3,FALSE) -> 023176396 | L29: 1603205182184 | M29: 11100066861 | N29: =VLOOKUP(D29,'[6]Bao cao So GDDT'!$D$14:$S$282,11,FALSE) -> Giảng viên GDNN LT (hạng III) | O29: V.09.02.03 | P29: A1 | Q29: 5 | R29: 4.65 | S29: =U29+W29+Y29 -> 1.419 | U29: =ROUND(R29*T29/100,4) -> 0 | V29: =R29*T29*$D$8/100 -> 0 | W29: 0.45 | X29: 0.19 | Y29: =ROUND((R29+U29+W29)*X29,4) -> 0.969 | Z29: =ROUND(R29+U29+W29+Y29,4) -> 6.069 | AA29: =ROUND(Z29*$D$8,0) -> 10924200 | AC29: =AA29/24*AB29 -> 0 | AD29: =AA29/24*AB29*75% -> 0 | AE29: =ROUND(AA29-AC29+AD29,0) -> 10924200 | AF29: =AA29*8% -> 873936 | AG29: =AA29*1.5% -> 163863 | AH29: =AA29*1% -> 109242 | AJ29: =SUM(AF29:AI29) -> 1147041 | AL29: =AK29*$D$8 -> 0 | AO29: =R29+U29+W29 -> 5.1 | AP29: 0.25 | AQ29: =ROUND(AO29*AP29,4) -> 1.275 | AR29: =ROUND(AQ29*$D$8,0) -> 2295000 | AT29: =ROUND(AE29-AJ29+AL29+AN29+AR29,0) -> 12072159 | AU29: =A29 -> 16 | AW29: TTR
