Workbook

Sheet Diem
A2: A1 | B2: 10
A3: A2 | B3: 9
A4: A3 | B4: 8
A5: A4 | B5: 7
A7: B1 | B7: 6
A8: B2 | B8: 5
A9: C1 | B9: 4
A10: C2 | B10: 3
A11: D | B11: 1
A12: E | B12: 0

Sheet HK1
A1: TRƯỜNG CAO ĐẲNG LÝ TỰ TRỌNG | M1: CỘNG HÒA XÃ HỘI CHỦ NGHĨA VIỆT NAM
A2: THÀNH PHỐ HỒ CHÍ MINH | M2: Độc lập - Tự do - Hạnh phúc
A3: ĐƠN VỊ: KHOA LÝ LUẬN CHÍNH TRỊ
A5: DANH SÁCH XÉT THI ĐUA HỌC KÌ I NĂM HỌC 2023 - 2024 (TÍNH TỪ THÁNG 7/2023)
A7: TT | B7: Họ và tên | C7: Mã số E-office | D7: Tháng 07/2023 | F7: Tháng 8/2023 | H7: Tháng 9/2023 | J7: Tháng 10/2023 | L7: Tháng 11/2023 | N7: Tháng 12/2023 | P7: Tháng 01/2024 | R7: Điểm K | S7: Hệ số trừ bậc (C, D, E) | T7: Xếp loại HK1 | U7: Ghi chú
D8: Xếp loại | E8: Điểm | F8: Xếp loại | G8: Điểm | H8: Xếp loại | I8: Điểm | J8: Xếp loại | K8: Điểm | L8: Xếp loại | M8: Điểm | N8: Xếp loại | O8: Điểm | P8: Xếp loại | Q8: Điểm
B9: Viên chức
A10: 1 | B10: Lê Thị Hồng Vân | C10: 01011002 | D10: A2 | E10: =VLOOKUP(D10,Diem!$A$2:$B$12,2,0) -> 9 | F10: A4 | G10: =VLOOKUP(F10,Diem!$A$2:$B$12,2,0) -> 7 | H10: A1 | I10: =VLOOKUP(H10,Diem!$A$2:$B$12,2,0) -> 10 | J10: A1 | K10: =VLOOKUP(J10,Diem!$A$2:$B$12,2,0) -> 10 | L10: A1 | M10: =VLOOKUP(L10,Diem!$A$2:$B$12,2,0) -> 10 | N10: A1 | O10: =VLOOKUP(N10,Diem!$A$2:$B$12,2,0) -> 10 | P10: A3 | Q10: =VLOOKUP(P10,Diem!$A$2:$B$12,2,0) -> 8 | R10: =ROUND(AVERAGE(E10,G10,I10,K10,M10,O10,Q10),2) -> 9.14 | S10: =COUNTIF(D10:O10,"C*")*1+COUNTIF(D10:O10,"D")*2+COUNTIF(D10:O10,"E")*3 -> 0 | T10: =IF(S10>=3,"Không hoàn thành nhiệm vụ",IF(AND($R10>=8,$R10<=10,S10=0),"Hoàn thành xuất sắc nhiệm vụ",IF(AND($R10>=8,$R10<=10,S10=1),"Hoàn thành tốt nhiệm vụ",IF(AND($R10>=8,$R10<=10,S10=2),"Hoàn thành nhiệm vụ",IF(AND($R10>6,$R10<8,S10<=1),"Hoàn thành tốt nhiệm vụ",IF(AND($R10>6,$R10<8,S10=2),"Hoàn thành nhiệm vụ",IF(AND($R10>=5,$R10<=6,S10<=2),"Hoàn thành nhiệm vụ",IF(AND($R10<5,S10>3),"Không hoàn thành nhiệm vụ","")))))))) -> Hoàn thành xuất sắc nhiệm vụ
A11: 2 | B11: Nguyễn Ngọc Quỳnh | C11: 01011012 | D11: A2 | E11: =VLOOKUP(D11,Diem!$A$2:$B$12,2,0) -> 9 | F11: A4 | G11: =VLOOKUP(F11,Diem!$A$2:$B$12,2,0) -> 7 | H11: A4 | I11: =VLOOKUP(H11,Diem!$A$2:$B$12,2,0) -> 7 | J11: A4 | K11: =VLOOKUP(J11,Diem!$A$2:$B$12,2,0) -> 7 | L11: A4 | M11: =VLOOKUP(L11,Diem!$A$2:$B$12,2,0) -> 7 | N11: A4 | O11: =VLOOKUP(N11,Diem!$A$2:$B$12,2,0) -> 7 | P11: A3 | Q11: =VLOOKUP(P11,Diem!$A$2:$B$12,2,0) -> 8 | R11: =ROUND(AVERAGE(E11,G11,I11,K11,M11,O11,Q11),2) -> 7.43 | S11: =COUNTIF(D11:O11,"C*")*1+COUNTIF(D11:O11,"D")*2+COUNTIF(D11:O11,"E")*3 -> 0 | T11: =IF(S11>=3,"Không hoàn thành nhiệm vụ",IF(AND($R11>=8,$R11<=10,S11=0),"Hoàn thành xuất sắc nhiệm vụ",IF(AND($R11>=8,$R11<=10,S11=1),"Hoàn thành tốt nhiệm vụ",IF(AND($R11>=8,$R11<=10,S11=2),"Hoàn thành nhiệm vụ",IF(AND($R11>6,$R11<8,S11<=1),"Hoàn thành tốt nhiệm vụ",IF(AND($R11>6,$R11<8,S11=2),"Hoàn thành nhiệm vụ",IF(AND($R11>=5,$R11<=6,S11<=2),"Hoàn thành nhiệm vụ",IF(AND($R11<5,S11>3),"Không hoàn thành nhiệm vụ","")))))))) -> Hoàn thành tốt nhiệm vụ
A12: 3 | B12: Nguyễn Thị Dinh | C12: 01011005 | D12: A3 | E12: =VLOOKUP(D12,Diem!$A$2:$B$12,2,0) -> 8 | F12: A4 | G12: =VLOOKUP(F12,Diem!$A$2:$B$12,2,0) -> 7 | H12: A3 | I12: =VLOOKUP(H12,Diem!$A$2:$B$12,2,0) -> 8 | J12: A4 | K12: =VLOOKUP(J12,Diem!$A$2:$B$12,2,0) -> 7 | L12: A3 | M12: =VLOOKUP(L12,Diem!$A$2:$B$12,2,0) -> 8 | N12: A3 | O12: =VLOOKUP(N12,Diem!$A$2:$B$12,2,0) -> 8 | P12: A3 | Q12: =VLOOKUP(P12,Diem!$A$2:$B$12,2,0) -> 8 | R12: =ROUND(AVERAGE(E12,G12,I12,K12,M12,O12,Q12),2) -> 7.71 | T12: =IF(S12>=3,"Không hoàn thành nhiệm vụ",IF(AND($R12>=8,$R12<=10,S12=0),"Hoàn thành xuất sắc nhiệm vụ",IF(AND($R12>=8,$R12<=10,S12=1),"Hoàn thành tốt nhiệm vụ",IF(AND($R12>=8,$R12<=10,S12=2),"Hoàn thành nhiệm vụ",IF(AND($R12>6,$R12<8,S12<=1),"Hoàn thành tốt nhiệm vụ",IF(AND($R12>6,$R12<8,S12=2),"Hoàn thành nhiệm vụ",IF(AND($R12>=5,$R12<=6,S12<=2),"Hoàn thành nhiệm vụ",IF(AND($R12<5,S12>3),"Không hoàn thành nhiệm vụ","")))))))) -> Hoàn thành tốt nhiệm vụ
A13: 4 | B13: Bùi Thành Dũng | C13: 01011011 | D13: A3 | E13: =VLOOKUP(D13,Diem!$A$2:$B$12,2,0) -> 8 | F13: A4 | G13: =VLOOKUP(F13,Diem!$A$2:$B$12,2,0) -> 7 | H13: A3 | I13: =VLOOKUP(H13,Diem!$A$2:$B$12,2,0) -> 8 | J13: A4 | K13: =VLOOKUP(J13,Diem!$A$2:$B$12,2,0) -> 7 | L13: A3 | M13: =VLOOKUP(L13,Diem!$A$2:$B$12,2,0) -> 8 | N13: A4 | O13: =VLOOKUP(N13,Diem!$A$2:$B$12,2,0) -> 7 | P13: A4 | Q13: =VLOOKUP(P13,Diem!$A$2:$B$12,2,0) -> 7 | R13: =ROUND(AVERAGE(E13,G13,I13,K13,M13,O13,Q13),2) -> 7.43 | T13: =IF(S13>=3,"Không hoàn thành nhiệm vụ",IF(AND($R13>=8,$R13<=10,S13=0),"Hoàn thành xuất sắc nhiệm vụ",IF(AND($R13>=8,$R13<=10,S13=1),"Hoàn thành tốt nhiệm vụ",IF(AND($R13>=8,$R13<=10,S13=2),"Hoàn thành nhiệm vụ",IF(AND($R13>6,$R13<8,S13<=1),"Hoàn thành tốt nhiệm vụ",IF(AND($R13>6,$R13<8,S13=2),"Hoàn thành nhiệm vụ",IF(AND($R13>=5,$R13<=6,S13<=2),"Hoàn thành nhiệm vụ",IF(AND($R13<5,S13>3),"Không hoàn thành nhiệm vụ","")))))))) -> Hoàn thành tốt nhiệm vụ
A14: 5 | B14: Lê Thị Mai Hường | C14: 01011013 | D14: A3 | E14: =VLOOKUP(D14,Diem!$A$2:$B$12,2,0) -> 8 | F14: A4 | G14: =VLOOKUP(F14,Diem!$A$2:$B$12,2,0) -> 7 | H14: A3 | I14: =VLOOKUP(H14,Diem!$A$2:$B$12,2,0) -> 8 | J14: A3 | K14: =VLOOKUP(J14,Diem!$A$2:$B$12,2,0) -> 8 | L14: A3 | M14: =VLOOKUP(L14,Diem!$A$2:$B$12,2,0) -> 8 | N14: A3 | O14: =VLOOKUP(N14,Diem!$A$2:$B$12,2,0) -> 8 | P14: A3 | Q14: =VLOOKUP(P14,Diem!$A$2:$B$12,2,0) -> 8 | R14: =ROUND(AVERAGE(E14,G14,I14,K14,M14,O14,Q14),2) -> 7.86 | T14: =IF(S14>=3,"Không hoàn thành nhiệm vụ",IF(AND($R14>=8,$R14<=10,S14=0),"Hoàn thành xuất sắc nhiệm vụ",IF(AND($R14>=8,$R14<=10,S14=1),"Hoàn thành tốt nhiệm vụ",IF(AND($R14>=8,$R14<=10,S14=2),"Hoàn thành nhiệm vụ",IF(AND($R14>6,$R14<8,S14<=1),"Hoàn thành tốt nhiệm vụ",IF(AND($R14>6,$R14<8,S14=2),"Hoàn thành nhiệm vụ",IF(AND($R14>=5,$R14<=6,S14<=2),"Hoàn thành nhiệm vụ",IF(AND($R14<5,S14>3),"Không hoàn thành nhiệm vụ","")))))))) -> Hoàn thành tốt nhiệm vụ
A15: 6 | B15: Đinh Thị Huyên | C15: 01011009 | D15: A2 | E15: =VLOOKUP(D15,Diem!$A$2:$B$12,2,0) -> 9 | F15: A4 | G15: =VLOOKUP(F15,Diem!$A$2:$B$12,2,0) -> 7 | H15: A3 | I15: =VLOOKUP(H15,Diem!$A$2:$B$12,2,0) -> 8 | J15: A3 | K15: =VLOOKUP(J15,Diem!$A$2:$B$12,2,0) -> 8 | L15: A3 | M15: =VLOOKUP(L15,Diem!$A$2:$B$12,2,0) -> 8 | N15: A3 | O15: =VLOOKUP(N15,Diem!$A$2:$B$12,2,0) -> 8 | P15: A3 | Q15: =VLOOKUP(P15,Diem!$A$2:$B$12,2,0) -> 8 | R15: =ROUND(AVERAGE(E15,G15,I15,K15,M15,O15,Q15),2) -> 8 | T15: =IF(S15>=3,"Không hoàn thành nhiệm vụ",IF(AND($R15>=8,$R15<=10,S15=0),"Hoàn thành xuất sắc nhiệm vụ",IF(AND($R15>=8,$R15<=10,S15=1),"Hoàn thành tốt nhiệm vụ",IF(AND($R15>=8,$R15<=10,S15=2),"Hoàn thành nhiệm vụ",IF(AND($R15>6,$R15<8,S15<=1),"Hoàn thành tốt nhiệm vụ",IF(AND($R15>6,$R15<8,S15=2),"Hoàn thành nhiệm vụ",IF(AND($R15>=5,$R15<=6,S15<=2),"Hoàn thành nhiệm vụ",IF(AND($R15<5,S15>3),"Không hoàn thành nhiệm vụ","")))))))) -> Hoàn thành xuất sắc nhiệm vụ
A16: 7 | B16: Nguyễn Anh Kiệt | C16: 01011001 | D16: A3 | E16: =VLOOKUP(D16,Diem!$A$2:$B$12,2,0) -> 8 | F16: A4 | G16: =VLOOKUP(F16,Diem!$A$2:$B$12,2,0) -> 7 | H16: A3 | I16: =VLOOKUP(H16,Diem!$A$2:$B$12,2,0) -> 8 | J16: A4 | K16: =VLOOKUP(J16,Diem!$A$2:$B$12,2,0) -> 7 | L16: A3 | M16: =VLOOKUP(L16,Diem!$A$2:$B$12,2,0) -> 8 | N16: A4 | O16: =VLOOKUP(N16,Diem!$A$2:$B$12,2,0) -> 7 | P16: A4 | Q16: =VLOOKUP(P16,Diem!$A$2:$B$12,2,0) -> 7 | R16: =ROUND(AVERAGE(E16,G16,I16,K16,M16,O16,Q16),2) -> 7.43 | T16: =IF(S16>=3,"Không hoàn thành nhiệm vụ",IF(AND($R16>=8,$R16<=10,S16=0),"Hoàn thành xuất sắc nhiệm vụ",IF(AND($R16>=8,$R16<=10,S16=1),"Hoàn thành tốt nhiệm vụ",IF(AND($R16>=8,$R16<=10,S16=2),"Hoàn thành nhiệm vụ",IF(AND($R16>6,$R16<8,S16<=1),"Hoàn thành tốt nhiệm vụ",IF(AND($R16>6,$R16<8,S16=2),"Hoàn thành nhiệm vụ",IF(AND($R16>=5,$R16<=6,S16<=2),"Hoàn thành nhiệm vụ",IF(AND($R16<5,S16>3),"Không hoàn thành nhiệm vụ","")))))))) -> Hoàn thành tốt nhiệm vụ
A17: 8 | B17: Trần Văn Lượng | C17: 01011014 | D17: A3 | E17: =VLOOKUP(D17,Diem!$A$2:$B$12,2,0) -> 8 | F17: A4 | G17: =VLOOKUP(F17,Diem!$A$2:$B$12,2,0) -> 7 | H17: A3 | I17: =VLOOKUP(H17,Diem!$A$2:$B$12,2,0) -> 8 | J17: A4 | K17: =VLOOKUP(J17,Diem!$A$2:$B$12,2,0) -> 7 | L17: A3 | M17: =VLOOKUP(L17,Diem!$A$2:$B$12,2,0) -> 8 | N17: A4 | O17: =VLOOKUP(N17,Diem!$A$2:$B$12,2,0) -> 7 | P17: A3 | Q17: =VLOOKUP(P17,Diem!$A$2:$B$12,2,0) -> 8 | R17: =ROUND(AVERAGE(E17,G17,I17,K17,M17,O17,Q17),2) -> 7.57 | T17: =IF(S17>=3,"Không hoàn thành nhiệm vụ",IF(AND($R17>=8,$R17<=10,S17=0),"Hoàn thành xuất sắc nhiệm vụ",IF(AND($R17>=8,$R17<=10,S17=1),"Hoàn thành tốt nhiệm vụ",IF(AND($R17>=8,$R17<=10,S17=2),"Hoàn thành nhiệm vụ",IF(AND($R17>6,$R17<8,S17<=1),"Hoàn thành tốt nhiệm vụ",IF(AND($R17>6,$R17<8,S17=2),"Hoàn thành nhiệm vụ",IF(AND($R17>=5,$R17<=6,S17<=2),"Hoàn thành nhiệm vụ",IF(AND($R17<5,S17>3),"Không hoàn thành nhiệm vụ","")))))))) -> Hoàn thành tốt nhiệm vụ
A18: 10 | B18: Đỗ Thị Ngát | C18: 01011016 | D18: A3 | E18: =VLOOKUP(D18,Diem!$A$2:$B$12,2,0) -> 8 | F18: A4 | G18: =VLOOKUP(F18,Diem!$A$2:$B$12,2,0) -> 7 | H18: A3 | I18: =VLOOKUP(H18,Diem!$A$2:$B$12,2,0) -> 8 | J18: A4 | K18: =VLOOKUP(J18,Diem!$A$2:$B$12,2,0) -> 7 | L18: A3 | M18: =VLOOKUP(L18,Diem!$A$2:$B$12,2,0) -> 8 | N18: A4 | O18: =VLOOKUP(N18,Diem!$A$2:$B$12,2,0) -> 7 | P18: A3 | Q18: =VLOOKUP(P18,Diem!$A$2:$B$12,2,0) -> 8 | R18: =ROUND(AVERAGE(E18,G18,I18,K18,M18,O18,Q18),2) -> 7.57 | T18: =IF(S18>=3,"Không hoàn thành nhiệm vụ",IF(AND($R18>=8,$R18<=10,S18=0),"Hoàn thành xuất sắc nhiệm vụ",IF(AND($R18>=8,$R18<=10,S18=1),"Hoàn thành tốt nhiệm vụ",IF(AND($R18>=8,$R18<=10,S18=2),"Hoàn thành nhiệm vụ",IF(AND($R18>6,$R18<8,S18<=1),"Hoàn thành tốt nhiệm vụ",IF(AND($R18>6,$R18<8,S18=2),"Hoàn thành nhiệm vụ",IF(AND($R18>=5,$R18<=6,S18<=2),"Hoàn thành nhiệm vụ",IF(AND($R18<5,S18>3),"Không hoàn thành nhiệm vụ","")))))))) -> Hoàn thành tốt nhiệm vụ
A19: 11 | B19: Cao Thị Hồng Thắm | C19: 01011007 | D19: A3 | E19: =VLOOKUP(D19,Diem!$A$2:$B$12,2,0) -> 8 | F19: A4 | G19: =VLOOKUP(F19,Diem!$A$2:$B$12,2,0) -> 7 | H19: A3 | I19: =VLOOKUP(H19,Diem!$A$2:$B$12,2,0) -> 8 | J19: A3 | K19: =VLOOKUP(J19,Diem!$A$2:$B$12,2,0) -> 8 | L19: A3 | M19: =VLOOKUP(L19,Diem!$A$2:$B$12,2,0) -> 8 | N19: A4 | O19: =VLOOKUP(N19,Diem!$A$2:$B$12,2,0) -> 7 | P19: AND | Q19: =VLOOKUP(P19,Diem!$A$2:$B$12,2,0) -> #N/A | R19: =ROUND(AVERAGE(E19,G19,I19,K19,M19,O19,Q19),2) -> #N/A | T19: Hoàn thành tốt nhiệm vụ | U19: phòng TCHC ĐÁNH GIÁ
A20: 12 | B20: Đỗ Thị Thơm | C20: 01011008 | D20: A2 | E20: =VLOOKUP(D20,Diem!$A$2:$B$12,2,0) -> 9 | F20: A4 | G20: =VLOOKUP(F20,Diem!$A$2:$B$12,2,0) -> 7 | H20: A3 | I20: =VLOOKUP(H20,Diem!$A$2:$B$12,2,0) -> 8 | J20: A4 | K20: =VLOOKUP(J20,Diem!$A$2:$B$12,2,0) -> 7 | L20: A2 | M20: =VLOOKUP(L20,Diem!$A$2:$B$12,2,0) -> 9 | N20: A2 | O20: =VLOOKUP(N20,Diem!$A$2:$B$12,2,0) -> 9 | P20: A3 | Q20: =VLOOKUP(P20,Diem!$A$2:$B$12,2,0) -> 8 | R20: =ROUND(AVERAGE(E20,G20,I20,K20,M20,O20,Q20),2) -> 8.14 | T20: =IF(S20>=3,"Không hoàn thành nhiệm vụ",IF(AND($R20>=8,$R20<=10,S20=0),"Hoàn thành xuất sắc nhiệm vụ",IF(AND($R20>=8,$R20<=10,S20=1),"Hoàn thành tốt nhiệm vụ",IF(AND($R20>=8,$R20<=10,S20=2),"Hoàn thành nhiệm vụ",IF(AND($R20>6,$R20<8,S20<=1),"Hoàn thành tốt nhiệm vụ",IF(AND($R20>6,$R20<8,S20=2),"Hoàn thành nhiệm vụ",IF(AND($R20>=5,$R20<=6,S20<=2),"Hoàn thành nhiệm vụ",IF(AND($R20<5,S20>3),"Không hoàn thành nhiệm vụ","")))))))) -> Hoàn thành xuất sắc nhiệm vụ
A21: 13 | B21: Trần Thị Hồng Thu | C21: 01011015 | D21: A1 | E21: =VLOOKUP(D21,Diem!$A$2:$B$12,2,0) -> 10 | F21: A4 | G21: =VLOOKUP(F21,Diem!$A$2:$B$12,2,0) -> 7 | H21: A2 | J21: A4 | K21: =VLOOKUP(J21,Diem!$A$2:$B$12,2,0) -> 7 | L21: A1 | M21: =VLOOKUP(L21,Diem!$A$2:$B$12,2,0) -> 10 | N21: A3 | O21: =VLOOKUP(N21,Diem!$A$2:$B$12,2,0) -> 8 | P21: A3 | Q21: =VLOOKUP(P21,Diem!$A$2:$B$12,2,0) -> 8 | R21: =ROUND(AVERAGE(E21,G21,I21,K21,M21,O21,Q21),2) -> 8.33 | T21: =IF(S21>=3,"Không hoàn thành nhiệm vụ",IF(AND($R21>=8,$R21<=10,S21=0),"Hoàn thành xuất sắc nhiệm vụ",IF(AND($R21>=8,$R21<=10,S21=1),"Hoàn thành tốt nhiệm vụ",IF(AND($R21>=8,$R21<=10,S21=2),"Hoàn thành nhiệm vụ",IF(AND($R21>6,$R21<8,S21<=1),"Hoàn thành tốt nhiệm vụ",IF(AND($R21>6,$R21<8,S21=2),"Hoàn thành nhiệm vụ",IF(AND($R21>=5,$R21<=6,S21<=2),"Hoàn thành nhiệm vụ",IF(AND($R21<5,S21>3),"Không hoàn thành nhiệm vụ","")))))))) -> Hoàn thành xuất sắc nhiệm vụ
A22: 14 | B22: Phan Thị Thùy Trang | C22: 01011010 | D22: A2 | E22: =VLOOKUP(D22,Diem!$A$2:$B$12,2,0) -> 9 | F22: A4 | G22: =VLOOKUP(F22,Diem!$A$2:$B$12,2,0) -> 7 | H22: A3 | I22: =VLOOKUP(H22,Diem!$A$2:$B$12,2,0) -> 8 | J22: A4 | K22: =VLOOKUP(J22,Diem!$A$2:$B$12,2,0) -> 7 | L22: A3 | M22: =VLOOKUP(L22,Diem!$A$2:$B$12,2,0) -> 8 | N22: A3 | O22: =VLOOKUP(N22,Diem!$A$2:$B$12,2,0) -> 8 | P22: A3 | Q22: =VLOOKUP(P22,Diem!$A$2:$B$12,2,0) -> 8 | R22: =ROUND(AVERAGE(E22,G22,I22,K22,M22,O22,Q22),2) -> 7.86 | T22: =IF(S22>=3,"Không hoàn thành nhiệm vụ",IF(AND($R22>=8,$R22<=10,S22=0),"Hoàn thành xuất sắc nhiệm vụ",IF(AND($R22>=8,$R22<=10,S22=1),"Hoàn thành tốt nhiệm vụ",IF(AND($R22>=8,$R22<=10,S22=2),"Hoàn thành nhiệm vụ",IF(AND($R22>6,$R22<8,S22<=1),"Hoàn thành tốt nhiệm vụ",IF(AND($R22>6,$R22<8,S22=2),"Hoàn thành nhiệm vụ",IF(AND($R22>=5,$R22<=6,S22<=2),"Hoàn thành nhiệm vụ",IF(AND($R22<5,S22>3),"Không hoàn thành nhiệm vụ","")))))))) -> Hoàn thành tốt nhiệm vụ
A23: 15 | B23: Hoàng Thị Trang | C23: 01011018 | D23: A1 | E23: =VLOOKUP(D23,Diem!$A$2:$B$12,2,0) -> 10 | F23: A4 | G23: =VLOOKUP(F23,Diem!$A$2:$B$12,2,0) -> 7 | H23: A1 | I23: =VLOOKUP(H23,Diem!$A$2:$B$12,2,0) -> 10 | J23: A3 | K23: =VLOOKUP(J23,Diem!$A$2:$B$12,2,0) -> 8 | L23: A3 | M23: =VLOOKUP(L23,Diem!$A$2:$B$12,2,0) -> 8 | N23: A3 | O23: =VLOOKUP(N23,Diem!$A$2:$B$12,2,0) -> 8 | P23: A3 | Q23: =VLOOKUP(P23,Diem!$A$2:$B$12,2,0) -> 8 | R23: =ROUND(AVERAGE(E23,G23,I23,K23,M23,O23,Q23),2) -> 8.43 | T23: =IF(S23>=3,"Không hoàn thành nhiệm vụ",IF(AND($R23>=8,$R23<=10,S23=0),"Hoàn thành xuất sắc nhiệm vụ",IF(AND($R23>=8,$R23<=10,S23=1),"Hoàn thành tốt nhiệm vụ",IF(AND($R23>=8,$R23<=10,S23=2),"Hoàn thành nhiệm vụ",IF(AND($R23>6,$R23<8,S23<=1),"Hoàn thành tốt nhiệm vụ",IF(AND($R23>6,$R23<8,S23=2),"Hoàn thành nhiệm vụ",IF(AND($R23>=5,$R23<=6,S23<=2),"Hoàn thành nhiệm vụ",IF(AND($R23<5,S23>3),"Không hoàn thành nhiệm vụ","")))))))) -> Hoàn thành xuất sắc nhiệm vụ
A24: 16 | B24: Phạm Thị Vinh | C24: 01011006 | D24: A3 | E24: =VLOOKUP(D24,Diem!$A$2:$B$12,2,0) -> 8 | F24: A4 | G24: =VLOOKUP(F24,Diem!$A$2:$B$12,2,0) -> 7 | H24: A3 | I24: =VLOOKUP(H24,Diem!$A$2:$B$12,2,0) -> 8 | J24: A4 | K24: =VLOOKUP(J24,Diem!$A$2:$B$12,2,0) -> 7 | L24: A3 | M24: =VLOOKUP(L24,Diem!$A$2:$B$12,2,0) -> 8 | N24: A3 | O24: =VLOOKUP(N24,Diem!$A$2:$B$12,2,0) -> 8 | P24: A3 | Q24: =VLOOKUP(P24,Diem!$A$2:$B$12,2,0) -> 8 | R24: =ROUND(AVERAGE(E24,G24,I24,K24,M24,O24,Q24),2) -> 7.71 | T24: =IF(S24>=3,"Không hoàn thành nhiệm vụ",IF(AND($R24>=8,$R24<=10,S24=0),"Hoàn thành xuất sắc nhiệm vụ",IF(AND($R24>=8,$R24<=10,S24=1),"Hoàn thành tốt nhiệm vụ",IF(AND($R24>=8,$R24<=10,S24=2),"Hoàn thành nhiệm vụ",IF(AND($R24>6,$R24<8,S24<=1),"Hoàn thành tốt nhiệm vụ",IF(AND($R24>6,$R24<8,S24=2),"Hoàn thành nhiệm vụ",IF(AND($R24>=5,$R24<=6,S24<=2),"Hoàn thành nhiệm vụ",IF(AND($R24<5,S24>3),"Không hoàn thành nhiệm vụ","")))))))) -> Hoàn thành tốt nhiệm vụ
M26: Thành phố Hồ Chí Minh, ngày tháng năm 2024
M27: TRƯỞNG ĐƠN VỊ
M31: LÊ THỊ HỒNG VÂN

Sheet HK2
A1: TRƯỜNG CAO ĐẲNG LÝ TỰ TRỌNG | I1: CỘNG HÒA XÃ HỘI CHỦ NGHĨA VIỆT NAM
A2: THÀNH PHỐ HỒ CHÍ MINH | I2: Độc lập - Tự do - Hạnh phúc
A3: ĐƠN VỊ:
A5: DANH SÁCH TẠM XÉT THI ĐUA HỌC KÌ II NĂM HỌC 2023 - 2024
A7: TT | B7: Họ và tên | C7: Mã số E-office | D7: Tháng 02/2024 | F7: Tháng 03/2024 | H7: Tháng 04/2024 | J7: Tháng 05/2024 | L7: Tháng 06/2024 | N7: Điểm K | O7: Hệ số trừ bậc (C, D, E) | P7: Xếp loại HK2 | Q7: Ghi chú
D8: Xếp loại | E8: Điểm | F8: Xếp loại | G8: Điểm | H8: Xếp loại | I8: Điểm | J8: Xếp loại | K8: Điểm | L8: Xếp loại | M8: Điểm
B9: Viên chức
A10: 1 | B10: Lê Thị Hồng Vân | C10: 01011002 | D10: A4 | E10: =VLOOKUP(D10,Diem!$A$2:$B$12,2,0) -> 7 | F10: A3 | G10: =VLOOKUP(F10,Diem!$A$2:$B$12,2,0) -> 8 | H10: A3 | I10: =VLOOKUP(H10,Diem!$A$2:$B$12,2,0) -> 8 | J10: A1 | K10: =VLOOKUP(J10,Diem!$A$2:$B$12,2,0) -> 10 | L10: A3 | M10: =VLOOKUP(L10,Diem!$A$2:$B$12,2,0) -> 8 | N10: =ROUND(AVERAGE(E10,G10,I10,K10,M10),2) -> 8.2 | O10: =COUNTIF(D10:M10,"C*")*1+COUNTIF(D10:M10,"D")*2+COUNTIF(D10:M10,"E")*3 -> 0 | P10: =IF(O10>=3,"Không hoàn thành nhiệm vụ",IF(AND($N10>=8,$N10<=10,O10=0),"Hoàn thành xuất sắc nhiệm vụ",IF(AND($N10>=8,$N10<=10,O10=1),"Hoàn thành tốt nhiệm vụ",IF(AND($N10>=8,$N10<=10,O10=2),"Hoàn thành nhiệm vụ",IF(AND($N10>6,$N10<8,O10<=1),"Hoàn thành tốt nhiệm vụ",IF(AND($N10>6,$N10<8,O10=2),"Hoàn thành nhiệm vụ",IF(AND($N10>=5,$N10<=6,O10<=2),"Hoàn thành nhiệm vụ",IF(AND($N10<5,O10>3),"Không hoàn thành nhiệm vụ","")))))))) -> Hoàn thành xuất sắc nhiệm vụ
A11: 2 | B11: Nguyễn Ngọc Quỳnh | C11: 01011012 | D11: A4 | E11: =VLOOKUP(D11,Diem!$A$2:$B$12,2,0) -> 7 | F11: A3 | G11: =VLOOKUP(F11,Diem!$A$2:$B$12,2,0) -> 8 | H11: A4 | I11: =VLOOKUP(H11,Diem!$A$2:$B$12,2,0) -> 7 | J11: A2 | K11: =VLOOKUP(J11,Diem!$A$2:$B$12,2,0) -> 9 | L11: A4 | M11: =VLOOKUP(L11,Diem!$A$2:$B$12,2,0) -> 7 | N11: =ROUND(AVERAGE(E11,G11,I11,K11,M11),2) -> 7.6 | O11: =COUNTIF(D11:M11,"C*")*1+COUNTIF(D11:M11,"D")*2+COUNTIF(D11:M11,"E")*3 -> 0 | P11: =IF(O11>=3,"Không hoàn thành nhiệm vụ",IF(AND($N11>=8,$N11<=10,O11=0),"Hoàn thành xuất sắc nhiệm vụ",IF(AND($N11>=8,$N11<=10,O11=1),"Hoàn thành tốt nhiệm vụ",IF(AND($N11>=8,$N11<=10,O11=2),"Hoàn thành nhiệm vụ",IF(AND($N11>6,$N11<8,O11<=1),"Hoàn thành tốt nhiệm vụ",IF(AND($N11>6,$N11<8,O11=2),"Hoàn thành nhiệm vụ",IF(AND($N11>=5,$N11<=6,O11<=2),"Hoàn thành nhiệm vụ",IF(AND($N11<5,O11>3),"Không hoàn thành nhiệm vụ","")))))))) -> Hoàn thành tốt nhiệm vụ
A12: 3 | B12: Nguyễn Thị Dinh | C12: 01011005 | D12: A4 | E12: =VLOOKUP(D12,Diem!$A$2:$B$12,2,0) -> 7 | F12: A3 | G12: =VLOOKUP(F12,Diem!$A$2:$B$12,2,0) -> 8 | H12: A4 | I12: =VLOOKUP(H12,Diem!$A$2:$B$12,2,0) -> 7 | J12: A3 | K12: =VLOOKUP(J12,Diem!$A$2:$B$12,2,0) -> 8 | L12: A4 | M12: =VLOOKUP(L12,Diem!$A$2:$B$12,2,0) -> 7 | N12: =ROUND(AVERAGE(E12,G12,I12,K12,M12),2) -> 7.4 | P12: =IF(O12>=3,"Không hoàn thành nhiệm vụ",IF(AND($N12>=8,$N12<=10,O12=0),"Hoàn thành xuất sắc nhiệm vụ",IF(AND($N12>=8,$N12<=10,O12=1),"Hoàn thành tốt nhiệm vụ",IF(AND($N12>=8,$N12<=10,O12=2),"Hoàn thành nhiệm vụ",IF(AND($N12>6,$N12<8,O12<=1),"Hoàn thành tốt nhiệm vụ",IF(AND($N12>6,$N12<8,O12=2),"Hoàn thành nhiệm vụ",IF(AND($N12>=5,$N12<=6,O12<=2),"Hoàn thành nhiệm vụ",IF(AND($N12<5,O12>3),"Không hoàn thành nhiệm vụ","")))))))) -> Hoàn thành tốt nhiệm vụ
A13: 4 | B13: Bùi Thành Dũng | C13: 01011011 | D13: A4 | E13: =VLOOKUP(D13,Diem!$A$2:$B$12,2,0) -> 7 | F13: A4 | G13: =VLOOKUP(F13,Diem!$A$2:$B$12,2,0) -> 7 | H13: A2 | I13: =VLOOKUP(H13,Diem!$A$2:$B$12,2,0) -> 9 | J13: A3 | K13: =VLOOKUP(J13,Diem!$A$2:$B$12,2,0) -> 8 | L13: A4 | M13: =VLOOKUP(L13,Diem!$A$2:$B$12,2,0) -> 7 | N13: =ROUND(AVERAGE(E13,G13,I13,K13,M13),2) -> 7.6 | P13: =IF(O13>=3,"Không hoàn thành nhiệm vụ",IF(AND($N13>=8,$N13<=10,O13=0),"Hoàn thành xuất sắc nhiệm vụ",IF(AND($N13>=8,$N13<=10,O13=1),"Hoàn thành tốt nhiệm vụ",IF(AND($N13>=8,$N13<=10,O13=2),"Hoàn thành nhiệm vụ",IF(AND($N13>6,$N13<8,O13<=1),"Hoàn thành tốt nhiệm vụ",IF(AND($N13>6,$N13<8,O13=2),"Hoàn thành nhiệm vụ",IF(AND($N13>=5,$N13<=6,O13<=2),"Hoàn thành nhiệm vụ",IF(AND($N13<5,O13>3),"Không hoàn thành nhiệm vụ","")))))))) -> Hoàn thành tốt nhiệm vụ
A14: 5 | B14: Lê Thị Mai Hường | C14: 01011013 | D14: A3 | E14: =VLOOKUP(D14,Diem!$A$2:$B$12,2,0) -> 8 | F14: A4 | G14: =VLOOKUP(F14,Diem!$A$2:$B$12,2,0) -> 7 | H14: A3 | I14: =VLOOKUP(H14,Diem!$A$2:$B$12,2,0) -> 8 | J14: A3 | K14: =VLOOKUP(J14,Diem!$A$2:$B$12,2,0) -> 8 | L14: A4 | N14: =ROUND(AVERAGE(E14,G14,I14,K14,M14),2) -> 7.75 | P14: =IF(O14>=3,"Không hoàn thành nhiệm vụ",IF(AND($N14>=8,$N14<=10,O14=0),"Hoàn thành xuất sắc nhiệm vụ",IF(AND($N14>=8,$N14<=10,O14=1),"Hoàn thành tốt nhiệm vụ",IF(AND($N14>=8,$N14<=10,O14=2),"Hoàn thành nhiệm vụ",IF(AND($N14>6,$N14<8,O14<=1),"Hoàn thành tốt nhiệm vụ",IF(AND($N14>6,$N14<8,O14=2),"Hoàn thành nhiệm vụ",IF(AND($N14>=5,$N14<=6,O14<=2),"Hoàn thành nhiệm vụ",IF(AND($N14<5,O14>3),"Không hoàn thành nhiệm vụ","")))))))) -> Hoàn thành tốt nhiệm vụ
A15: 6 | B15: Đinh Thị Huyên | C15: 01011009 | D15: A4 | E15: =VLOOKUP(D15,Diem!$A$2:$B$12,2,0) -> 7 | F15: A3 | G15: =VLOOKUP(F15,Diem!$A$2:$B$12,2,0) -> 8 | H15: A4 | I15: =VLOOKUP(H15,Diem!$A$2:$B$12,2,0) -> 7 | J15: A2 | K15: =VLOOKUP(J15,Diem!$A$2:$B$12,2,0) -> 9 | L15: A3 | M15: =VLOOKUP(L15,Diem!$A$2:$B$12,2,0) -> 8 | N15: =ROUND(AVERAGE(E15,G15,I15,K15,M15),2) -> 7.8 | P15: =IF(O15>=3,"Không hoàn thành nhiệm vụ",IF(AND($N15>=8,$N15<=10,O15=0),"Hoàn thành xuất sắc nhiệm vụ",IF(AND($N15>=8,$N15<=10,O15=1),"Hoàn thành tốt nhiệm vụ",IF(AND($N15>=8,$N15<=10,O15=2),"Hoàn thành nhiệm vụ",IF(AND($N15>6,$N15<8,O15<=1),"Hoàn thành tốt nhiệm vụ",IF(AND($N15>6,$N15<8,O15=2),"Hoàn thành nhiệm vụ",IF(AND($N15>=5,$N15<=6,O15<=2),"Hoàn thành nhiệm vụ",IF(AND($N15<5,O15>3),"Không hoàn thành nhiệm vụ","")))))))) -> Hoàn thành tốt nhiệm vụ
A16: 7 | B16: Nguyễn Anh Kiệt | C16: 01011001 | D16: A4 | E16: =VLOOKUP(D16,Diem!$A$2:$B$12,2,0) -> 7 | F16: A4 | G16: =VLOOKUP(F16,Diem!$A$2:$B$12,2,0) -> 7 | H16: A4 | I16: =VLOOKUP(H16,Diem!$A$2:$B$12,2,0) -> 7 | J16: A4 | K16: =VLOOKUP(J16,Diem!$A$2:$B$12,2,0) -> 7 | L16: A4 | M16: =VLOOKUP(L16,Diem!$A$2:$B$12,2,0) -> 7 | N16: =ROUND(AVERAGE(E16,G16,I16,K16,M16),2) -> 7 | P16: =IF(O16>=3,"Không hoàn thành nhiệm vụ",IF(AND($N16>=8,$N16<=10,O16=0),"Hoàn thành xuất sắc nhiệm vụ",IF(AND($N16>=8,$N16<=10,O16=1),"Hoàn thành tốt nhiệm vụ",IF(AND($N16>=8,$N16<=10,O16=2),"Hoàn thành nhiệm vụ",IF(AND($N16>6,$N16<8,O16<=1),"Hoàn thành tốt nhiệm vụ",IF(AND($N16>6,$N16<8,O16=2),"Hoàn thành nhiệm vụ",IF(AND($N16>=5,$N16<=6,O16<=2),"Hoàn thành nhiệm vụ",IF(AND($N16<5,O16>3),"Không hoàn thành nhiệm vụ","")))))))) -> Hoàn thành tốt nhiệm vụ
A17: 8 | B17: Trần Văn Lượng | C17: 01011014 | D17: A4 | E17: =VLOOKUP(D17,Diem!$A$2:$B$12,2,0) -> 7 | F17: A4 | G17: =VLOOKUP(F17,Diem!$A$2:$B$12,2,0) -> 7 | H17: A4 | I17: =VLOOKUP(H17,Diem!$A$2:$B$12,2,0) -> 7 | J17: A4 | K17: =VLOOKUP(J17,Diem!$A$2:$B$12,2,0) -> 7 | L17: A4 | M17: =VLOOKUP(L17,Diem!$A$2:$B$12,2,0) -> 7 | N17: =ROUND(AVERAGE(E17,G17,I17,K17,M17),2) -> 7 | P17: =IF(O17>=3,"Không hoàn thành nhiệm vụ",IF(AND($N17>=8,$N17<=10,O17=0),"Hoàn thành xuất sắc nhiệm vụ",IF(AND($N17>=8,$N17<=10,O17=1),"Hoàn thành tốt nhiệm vụ",IF(AND($N17>=8,$N17<=10,O17=2),"Hoàn thành nhiệm vụ",IF(AND($N17>6,$N17<8,O17<=1),"Hoàn thành tốt nhiệm vụ",IF(AND($N17>6,$N17<8,O17=2),"Hoàn thành nhiệm vụ",IF(AND($N17>=5,$N17<=6,O17<=2),"Hoàn thành nhiệm vụ",IF(AND($N17<5,O17>3),"Không hoàn thành nhiệm vụ","")))))))) -> Hoàn thành tốt nhiệm vụ
A18: 10 | B18: Đỗ Thị Ngát | C18: 01011016 | D18: A4 | E18: =VLOOKUP(D18,Diem!$A$2:$B$12,2,0) -> 7 | F18: A3 | G18: =VLOOKUP(F18,Diem!$A$2:$B$12,2,0) -> 8 | H18: A4 | I18: =VLOOKUP(H18,Diem!$A$2:$B$12,2,0) -> 7 | J18: A4 | K18: =VLOOKUP(J18,Diem!$A$2:$B$12,2,0) -> 7 | L18: A4 | M18: =VLOOKUP(L18,Diem!$A$2:$B$12,2,0) -> 7 | N18: =ROUND(AVERAGE(E18,G18,I18,K18,M18),2) -> 7.2 | P18: =IF(O18>=3,"Không hoàn thành nhiệm vụ",IF(AND($N18>=8,$N18<=10,O18=0),"Hoàn thành xuất sắc nhiệm vụ",IF(AND($N18>=8,$N18<=10,O18=1),"Hoàn thành tốt nhiệm vụ",IF(AND($N18>=8,$N18<=10,O18=2),"Hoàn thành nhiệm vụ",IF(AND($N18>6,$N18<8,O18<=1),"Hoàn thành tốt nhiệm vụ",IF(AND($N18>6,$N18<8,O18=2),"Hoàn thành nhiệm vụ",IF(AND($N18>=5,$N18<=6,O18<=2),"Hoàn thành nhiệm vụ",IF(AND($N18<5,O18>3),"Không hoàn thành nhiệm vụ","")))))))) -> Hoàn thành tốt nhiệm vụ
A19: 11 | B19: Cao Thị Hồng Thắm | C19: 01011007 | D19: AND | E19: AND | F19: AND | G19: AND | H19: AND | I19: AND | J19: AND | K19: AND | L19: A4 | M19: =VLOOKUP(L19,Diem!$A$2:$B$12,2,0) -> 7 | N19: =ROUND(AVERAGE(E19,G19,I19,K19,M19),2) -> 7 | P19: =IF(O19>=3,"Không hoàn thành nhiệm vụ",IF(AND($N19>=8,$N19<=10,O19=0),"Hoàn thành xuất sắc nhiệm vụ",IF(AND($N19>=8,$N19<=10,O19=1),"Hoàn thành tốt nhiệm vụ",IF(AND($N19>=8,$N19<=10,O19=2),"Hoàn thành nhiệm vụ",IF(AND($N19>6,$N19<8,O19<=1),"Hoàn thành tốt nhiệm vụ",IF(AND($N19>6,$N19<8,O19=2),"Hoàn thành nhiệm vụ",IF(AND($N19>=5,$N19<=6,O19<=2),"Hoàn thành nhiệm vụ",IF(AND($N19<5,O19>3),"Không hoàn thành nhiệm vụ","")))))))) -> Hoàn thành tốt nhiệm vụ | Q19: TẠM XẾP
A20: 12 | B20: Đỗ Thị Thơm | C20: 01011008 | D20: A3 | E20: =VLOOKUP(D20,Diem!$A$2:$B$12,2,0) -> 8 | F20: A3 | G20: =VLOOKUP(F20,Diem!$A$2:$B$12,2,0) -> 8 | H20: A3 | I20: =VLOOKUP(H20,Diem!$A$2:$B$12,2,0) -> 8 | J20: A2 | K20: =VLOOKUP(J20,Diem!$A$2:$B$12,2,0) -> 9 | L20: A4 | M20: =VLOOKUP(L20,Diem!$A$2:$B$12,2,0) -> 7 | N20: =ROUND(AVERAGE(E20,G20,I20,K20,M20),2) -> 8 | P20: =IF(O20>=3,"Không hoàn thành nhiệm vụ",IF(AND($N20>=8,$N20<=10,O20=0),"Hoàn thành xuất sắc nhiệm vụ",IF(AND($N20>=8,$N20<=10,O20=1),"Hoàn thành tốt nhiệm vụ",IF(AND($N20>=8,$N20<=10,O20=2),"Hoàn thành nhiệm vụ",IF(AND($N20>6,$N20<8,O20<=1),"Hoàn thành tốt nhiệm vụ",IF(AND($N20>6,$N20<8,O20=2),"Hoàn thành nhiệm vụ",IF(AND($N20>=5,$N20<=6,O20<=2),"Hoàn thành nhiệm vụ",IF(AND($N20<5,O20>3),"Không hoàn thành nhiệm vụ","")))))))) -> Hoàn thành xuất sắc nhiệm vụ
A21: 13 | B21: Trần Thị Hồng Thu | C21: 01011015 | D21: A3 | E21: =VLOOKUP(D21,Diem!$A$2:$B$12,2,0) -> 8 | F21: A3 | G21: =VLOOKUP(F21,Diem!$A$2:$B$12,2,0) -> 8 | H21: A3 | I21: =VLOOKUP(H21,Diem!$A$2:$B$12,2,0) -> 8 | J21: A1 | K21: =VLOOKUP(J21,Diem!$A$2:$B$12,2,0) -> 10 | L21: A4 | M21: =VLOOKUP(L21,Diem!$A$2:$B$12,2,0) -> 7 | N21: =ROUND(AVERAGE(E21,G21,I21,K21,M21),2) -> 8.2 | P21: =IF(O21>=3,"Không hoàn thành nhiệm vụ",IF(AND($N21>=8,$N21<=10,O21=0),"Hoàn thành xuất sắc nhiệm vụ",IF(AND($N21>=8,$N21<=10,O21=1),"Hoàn thành tốt nhiệm vụ",IF(AND($N21>=8,$N21<=10,O21=2),"Hoàn thành nhiệm vụ",IF(AND($N21>6,$N21<8,O21<=1),"Hoàn thành tốt nhiệm vụ",IF(AND($N21>6,$N21<8,O21=2),"Hoàn thành nhiệm vụ",IF(AND($N21>=5,$N21<=6,O21<=2),"Hoàn thành nhiệm vụ",IF(AND($N21<5,O21>3),"Không hoàn thành nhiệm vụ","")))))))) -> Hoàn thành xuất sắc nhiệm vụ
A22: 14 | B22: Phan Thị Thùy Trang | C22: 01011010 | D22: A4 | E22: =VLOOKUP(D22,Diem!$A$2:$B$12,2,0) -> 7 | F22: A4 | G22: =VLOOKUP(F22,Diem!$A$2:$B$12,2,0) -> 7 | H22: A4 | I22: =VLOOKUP(H22,Diem!$A$2:$B$12,2,0) -> 7 | J22: A1 | K22: =VLOOKUP(J22,Diem!$A$2:$B$12,2,0) -> 10 | L22: A4 | M22: =VLOOKUP(L22,Diem!$A$2:$B$12,2,0) -> 7 | N22: =ROUND(AVERAGE(E22,G22,I22,K22,M22),2) -> 7.6 | P22: =IF(O22>=3,"Không hoàn thành nhiệm vụ",IF(AND($N22>=8,$N22<=10,O22=0),"Hoàn thành xuất sắc nhiệm vụ",IF(AND($N22>=8,$N22<=10,O22=1),"Hoàn thành tốt nhiệm vụ",IF(AND($N22>=8,$N22<=10,O22=2),"Hoàn thành nhiệm vụ",IF(AND($N22>6,$N22<8,O22<=1),"Hoàn thành tốt nhiệm vụ",IF(AND($N22>6,$N22<8,O22=2),"Hoàn thành nhiệm vụ",IF(AND($N22>=5,$N22<=6,O22<=2),"Hoàn thành nhiệm vụ",IF(AND($N22<5,O22>3),"Không hoàn thành nhiệm vụ","")))))))) -> Hoàn thành tốt nhiệm vụ
A23: 15 | B23: Hoàng Thị Trang | C23: 01011018 | D23: A4 | E23: =VLOOKUP(D23,Diem!$A$2:$B$12,2,0) -> 7 | F23: A3 | G23: =VLOOKUP(F23,Diem!$A$2:$B$12,2,0) -> 8 | H23: A3 | I23: =VLOOKUP(H23,Diem!$A$2:$B$12,2,0) -> 8 | J23: A2 | K23: =VLOOKUP(J23,Diem!$A$2:$B$12,2,0) -> 9 | L23: A3 | M23: =VLOOKUP(L23,Diem!$A$2:$B$12,2,0) -> 8 | N23: =ROUND(AVERAGE(E23,G23,I23,K23,M23),2) -> 8 | P23: =IF(O23>=3,"Không hoàn thành nhiệm vụ",IF(AND($N23>=8,$N23<=10,O23=0),"Hoàn thành xuất sắc nhiệm vụ",IF(AND($N23>=8,$N23<=10,O23=1),"Hoàn thành tốt nhiệm vụ",IF(AND($N23>=8,$N23<=10,O23=2),"Hoàn thành nhiệm vụ",IF(AND($N23>6,$N23<8,O23<=1),"Hoàn thành tốt nhiệm vụ",IF(AND($N23>6,$N23<8,O23=2),"Hoàn thành nhiệm vụ",IF(AND($N23>=5,$N23<=6,O23<=2),"Hoàn thành nhiệm vụ",IF(AND($N23<5,O23>3),"Không hoàn thành nhiệm vụ","")))))))) -> Hoàn thành xuất sắc nhiệm vụ
A24: 16 | B24: Phạm Thị Vinh | C24: 01011006 | D24: A4 | E24: 7 | F24: A4 | G24: =VLOOKUP(F24,Diem!$A$2:$B$12,2,0) -> 7 | H24: A4 | I24: =VLOOKUP(H24,Diem!$A$2:$B$12,2,0) -> 7 | J24: A3 | K24: =VLOOKUP(J24,Diem!$A$2:$B$12,2,0) -> 8 | L24: A4 | M24: =VLOOKUP(L24,Diem!$A$2:$B$12,2,0) -> 7 | N24: =ROUND(AVERAGE(E24,G24,I24,K24,M24),2) -> 7.2 | P24: =IF(O24>=3,"Không hoàn thành nhiệm vụ",IF(AND($N24>=8,$N24<=10,O24=0),"Hoàn thành xuất sắc nhiệm vụ",IF(AND($N24>=8,$N24<=10,O24=1),"Hoàn thành tốt nhiệm vụ",IF(AND($N24>=8,$N24<=10,O24=2),"Hoàn thành nhiệm vụ",IF(AND($N24>6,$N24<8,O24<=1),"Hoàn thành tốt nhiệm vụ",IF(AND($N24>6,$N24<8,O24=2),"Hoàn thành nhiệm vụ",IF(AND($N24>=5,$N24<=6,O24<=2),"Hoàn thành nhiệm vụ",IF(AND($N24<5,O24>3),"Không hoàn thành nhiệm vụ","")))))))) -> Hoàn thành tốt nhiệm vụ
I27: Thành phố Hồ Chí Minh, ngày tháng năm 2024
I28: TRƯỞNG ĐƠN VỊ
I34: LÊ THỊ HỒNG VÂN

Sheet NH
A1: TRƯỜNG CAO ĐẲNG LÝ TỰ TRỌNG | G1: CỘNG HÒA XÃ HỘI CHỦ NGHĨA VIỆT NAM
A2: THÀNH PHỐ HỒ CHÍ MINH | G2: Độc lập - Tự do - Hạnh phúc
A3: ĐƠN VỊ: KHOA LÝ LUẬN CHÍNH TRỊ
A5: DANH SÁCH XÉT THI ĐUA NĂM HỌC 2023 - 2024
A7: TT | B7: Họ tên | C7: Mã số E-office | D7: Học kỳ 1 | F7: Học kỳ 2 | H7: Cả năm | J7: Danh hiệu | K7: GHI CHÚ
D8: Điểm K | E8: Xếp loại | F8: Điểm K | G8: Xếp loại | H8: Điểm X | I8: Xếp loại
B9: Viên chức
A10: 1 | B10: Lê Thị Hồng Vân | C10: 01011002 | D10: 9.14 | E10: Hoàn thành xuất sắc nhiệm vụ | F10: 8.2 | G10: ='HK2'!P10 -> Hoàn thành xuất sắc nhiệm vụ | H10: =ROUND(AVERAGE(D10,F10),2) -> 8.67 | I10: =IF(AND(8<=$H10,$H10<=10),"Hoàn thành xuất sắc nhiệm vụ",IF(AND(6<$H10,$H10<8),"Hoàn thành tốt nhiệm vụ",IF(AND(5<$H10,$H10<6),"Hoàn thành nhiệm vụ","Không hoàn thành nhiệm vụ"))) -> Hoàn thành xuất sắc nhiệm vụ | J10: =IF(G10="Hoàn thành nhiệm vụ","Không đạt LĐTT",IF(OR(I10="Hoàn thành xuất sắc nhiệm vụ",I10="Hoàn thành tốt nhiệm vụ"),"Đạt LĐTT","Không đạt LĐTT")) -> Đạt LĐTT | N10: =NH!D10=ROUND(AVERAGE(E10,G10,I10,K10,M10),2) -> #DIV/0!
A11: 2 | B11: Nguyễn Ngọc Quỳnh | C11: 01011012 | D11: 7.43 | E11: Hoàn thành tốt nhiệm vụ | F11: 7.4 | G11: ='HK2'!P11 -> Hoàn thành tốt nhiệm vụ | H11: =ROUND(AVERAGE(D11,F11),2) -> 7.42 | I11: =IF(AND(8<=$H11,$H11<=10),"Hoàn thành xuất sắc nhiệm vụ",IF(AND(6<$H11,$H11<8),"Hoàn thành tốt nhiệm vụ",IF(AND(5<$H11,$H11<6),"Hoàn thành nhiệm vụ","Không hoàn thành nhiệm vụ"))) -> Hoàn thành tốt nhiệm vụ | J11: =IF(G11="Hoàn thành NV","Không đạt LĐTT",IF(OR(I11="Hoàn thành xuất sắc nhiệm vụ",I11="Hoàn thành tốt nhiệm vụ"),"Đạt LĐTT","Không đạt LĐTT")) -> Đạt LĐTT
A12: 3 | B12: Nguyễn Thị Dinh | C12: 01011005 | D12: 7.71 | E12: Hoàn thành tốt nhiệm vụ | F12: 7.6 | G12: ='HK2'!P12 -> Hoàn thành tốt nhiệm vụ | H12: =ROUND(AVERAGE(D12,F12),2) -> 7.66 | I12: =IF(AND(8<=$H12,$H12<=10),"Hoàn thành xuất sắc nhiệm vụ",IF(AND(6<$H12,$H12<8),"Hoàn thành tốt nhiệm vụ",IF(AND(5<$H12,$H12<6),"Hoàn thành nhiệm vụ","Không hoàn thành nhiệm vụ"))) -> Hoàn thành tốt nhiệm vụ | J12: =IF(G12="Hoàn thành NV","Không đạt LĐTT",IF(OR(I12="Hoàn thành xuất sắc nhiệm vụ",I12="Hoàn thành tốt nhiệm vụ"),"Đạt LĐTT","Không đạt LĐTT")) -> Đạt LĐTT
A13: 4 | B13: Bùi Thành Dũng | C13: 01011011 | D13: 7.43 | E13: Hoàn thành tốt nhiệm vụ | F13: ='HK2'!N13 -> 7.6 | G13: ='HK2'!P13 -> Hoàn thành tốt nhiệm vụ | H13: =ROUND(AVERAGE(D13,F13),2) -> 7.52 | I13: =IF(AND(8<=$H13,$H13<=10),"Hoàn thành xuất sắc nhiệm vụ",IF(AND(6<$H13,$H13<8),"Hoàn thành tốt nhiệm vụ",IF(AND(5<$H13,$H13<6),"Hoàn thành nhiệm vụ","Không hoàn thành nhiệm vụ"))) -> Hoàn thành tốt nhiệm vụ | J13: =IF(G13="Hoàn thành NV","Không đạt LĐTT",IF(OR(I13="Hoàn thành xuất sắc nhiệm vụ",I13="Hoàn thành tốt nhiệm vụ"),"Đạt LĐTT","Không đạt LĐTT")) -> Đạt LĐTT
A14: 5 | B14: Lê Thị Mai Hường | C14: 01011013 | D14: 7.86 | E14: Hoàn thành tốt nhiệm vụ | F14: ='HK2'!N14 -> 7.75 | G14: ='HK2'!P14 -> Hoàn thành tốt nhiệm vụ | H14: =ROUND(AVERAGE(D14,F14),2) -> 7.81 | I14: =IF(AND(8<=$H14,$H14<=10),"Hoàn thành xuất sắc nhiệm vụ",IF(AND(6<$H14,$H14<8),"Hoàn thành tốt nhiệm vụ",IF(AND(5<$H14,$H14<6),"Hoàn thành nhiệm vụ","Không hoàn thành nhiệm vụ"))) -> Hoàn thành tốt nhiệm vụ | J14: Đạt LĐTT
A15: 6 | B15: Đinh Thị Huyên | C15: 01011009 | D15: 8 | E15: Hoàn thành tốt nhiệm vụ | F15: ='HK2'!N15 -> 7.8 | G15: ='HK2'!P15 -> Hoàn thành tốt nhiệm vụ | H15: =ROUND(AVERAGE(D15,F15),2) -> 7.9 | I15: =IF(AND(8<=$H15,$H15<=10),"Hoàn thành xuất sắc nhiệm vụ",IF(AND(6<$H15,$H15<8),"Hoàn thành tốt nhiệm vụ",IF(AND(5<$H15,$H15<6),"Hoàn thành nhiệm vụ","Không hoàn thành nhiệm vụ"))) -> Hoàn thành tốt nhiệm vụ | J15: =IF(G15="Hoàn thành NV","Không đạt LĐTT",IF(OR(I15="Hoàn thành xuất sắc nhiệm vụ",I15="Hoàn thành tốt nhiệm vụ"),"Đạt LĐTT","Không đạt LĐTT")) -> Đạt LĐTT
A16: 7 | B16: Nguyễn Anh Kiệt | C16: 01011001 | D16: 7.43 | E16: Hoàn thành tốt nhiệm vụ | F16: ='HK2'!N16 -> 7 | G16: ='HK2'!P16 -> Hoàn thành tốt nhiệm vụ | H16: =ROUND(AVERAGE(D16,F16),2) -> 7.22 | I16: =IF(AND(8<=$H16,$H16<=10),"Hoàn thành xuất sắc nhiệm vụ",IF(AND(6<$H16,$H16<8),"Hoàn thành tốt nhiệm vụ",IF(AND(5<$H16,$H16<6),"Hoàn thành nhiệm vụ","Không hoàn thành nhiệm vụ"))) -> Hoàn thành tốt nhiệm vụ | J16: =IF(G16="Hoàn thành NV","Không đạt LĐTT",IF(OR(I16="Hoàn thành xuất sắc nhiệm vụ",I16="Hoàn thành tốt nhiệm vụ"),"Đạt LĐTT","Không đạt LĐTT")) -> Đạt LĐTT
A17: 8 | B17: Trần Văn Lượng | C17: 01011014 | D17: 7.57 | E17: Hoàn thành tốt nhiệm vụ | F17: ='HK2'!N17 -> 7 | G17: ='HK2'!P17 -> Hoàn thành tốt nhiệm vụ | H17: =ROUND(AVERAGE(D17,F17),2) -> 7.29 | I17: =IF(AND(8<=$H17,$H17<=10),"Hoàn thành xuất sắc nhiệm vụ",IF(AND(6<$H17,$H17<8),"Hoàn thành tốt nhiệm vụ",IF(AND(5<$H17,$H17<6),"Hoàn thành nhiệm vụ","Không hoàn thành nhiệm vụ"))) -> Hoàn thành tốt nhiệm vụ | J17: =IF(G17="Hoàn thành NV","Không đạt LĐTT",IF(OR(I17="Hoàn thành xuất sắc nhiệm vụ",I17="Hoàn thành tốt nhiệm vụ"),"Đạt LĐTT","Không đạt LĐTT")) -> Đạt LĐTT
A18: 9 | B18: Đỗ Thị Ngát | C18: 01011016 | D18: 7.57 | E18: Hoàn thành tốt nhiệm vụ | F18: ='HK2'!N18 -> 7.2 | G18: ='HK2'!P18 -> Hoàn thành tốt nhiệm vụ | H18: =ROUND(AVERAGE(D18,F18),2) -> 7.39 | I18: =IF(AND(8<=$H18,$H18<=10),"Hoàn thành xuất sắc nhiệm vụ",IF(AND(6<$H18,$H18<8),"Hoàn thành tốt nhiệm vụ",IF(AND(5<$H18,$H18<6),"Hoàn thành nhiệm vụ","Không hoàn thành nhiệm vụ"))) -> Hoàn thành tốt nhiệm vụ | J18: =IF(G18="Hoàn thành NV","Không đạt LĐTT",IF(OR(I18="Hoàn thành xuất sắc nhiệm vụ",I18="Hoàn thành tốt nhiệm vụ"),"Đạt LĐTT","Không đạt LĐTT")) -> Đạt LĐTT
A19: 10 | B19: Cao Thị Hồng Thắm | C19: 01011007 | D19: 7 | E19: Hoàn thành tốt nhiệm vụ | F19: ='HK2'!N19 -> 7 | G19: ='HK2'!P19 -> Hoàn thành tốt nhiệm vụ | H19: =ROUND(AVERAGE(D19,F19),2) -> 7 | I19: =IF(AND(8<=$H19,$H19<=10),"Hoàn thành xuất sắc nhiệm vụ",IF(AND(6<$H19,$H19<8),"Hoàn thành tốt nhiệm vụ",IF(AND(5<$H19,$H19<6),"Hoàn thành nhiệm vụ","Không hoàn thành nhiệm vụ"))) -> Hoàn thành tốt nhiệm vụ
A20: 11 | B20: Đỗ Thị Thơm | C20: 01011008 | D20: 8.14 | E20: Hoàn thành xuất sắc nhiệm vụ | F20: ='HK2'!N20 -> 8 | G20: ='HK2'!P20 -> Hoàn thành xuất sắc nhiệm vụ | H20: =ROUND(AVERAGE(D20,F20),2) -> 8.07 | I20: =IF(AND(8<=$H20,$H20<=10),"Hoàn thành xuất sắc nhiệm vụ",IF(AND(6<$H20,$H20<8),"Hoàn thành tốt nhiệm vụ",IF(AND(5<$H20,$H20<6),"Hoàn thành nhiệm vụ","Không hoàn thành nhiệm vụ"))) -> Hoàn thành xuất sắc nhiệm vụ | J20: =IF(G20="Hoàn thành NV","Không đạt LĐTT",IF(OR(I20="Hoàn thành xuất sắc nhiệm vụ",I20="Hoàn thành tốt nhiệm vụ"),"Đạt LĐTT","Không đạt LĐTT")) -> Đạt LĐTT
A21: 12 | B21: Trần Thị Hồng Thu | C21: 01011015 | D21: 8.33 | E21: Hoàn thành xuất sắc nhiệm vụ | F21: ='HK2'!N21 -> 8.2 | G21: ='HK2'!P21 -> Hoàn thành xuất sắc nhiệm vụ | H21: =ROUND(AVERAGE(D21,F21),2) -> 8.27 | I21: =IF(AND(8<=$H21,$H21<=10),"Hoàn thành xuất sắc nhiệm vụ",IF(AND(6<$H21,$H21<8),"Hoàn thành tốt nhiệm vụ",IF(AND(5<$H21,$H21<6),"Hoàn thành nhiệm vụ","Không hoàn thành nhiệm vụ"))) -> Hoàn thành xuất sắc nhiệm vụ | J21: =IF(G21="Hoàn thành NV","Không đạt LĐTT",IF(OR(I21="Hoàn thành xuất sắc nhiệm vụ",I21="Hoàn thành tốt nhiệm vụ"),"Đạt LĐTT","Không đạt LĐTT")) -> Đạt LĐTT
A22: 13 | B22: Phan Thị Thùy Trang | C22: 01011010 | D22: 7.86 | E22: Hoàn thành tốt nhiệm vụ | F22: ='HK2'!N22 -> 7.6 | G22: ='HK2'!P22 -> Hoàn thành tốt nhiệm vụ | H22: =ROUND(AVERAGE(D22,F22),2) -> 7.73 | I22: =IF(AND(8<=$H22,$H22<=10),"Hoàn thành xuất sắc nhiệm vụ",IF(AND(6<$H22,$H22<8),"Hoàn thành tốt nhiệm vụ",IF(AND(5<$H22,$H22<6),"Hoàn thành nhiệm vụ","Không hoàn thành nhiệm vụ"))) -> Hoàn thành tốt nhiệm vụ | J22: =IF(G22="Hoàn thành NV","Không đạt LĐTT",IF(OR(I22="Hoàn thành xuất sắc nhiệm vụ",I22="Hoàn thành tốt nhiệm vụ"),"Đạt LĐTT","Không đạt LĐTT")) -> Đạt LĐTT
A23: 14 | B23: Hoàng Thị Trang | C23: 01011018 | D23: 8.43 | E23: Hoàn thành xuất sắc nhiệm vụ | F23: ='HK2'!N23 -> 8 | G23: ='HK2'!P23 -> Hoàn thành xuất sắc nhiệm vụ | H23: =ROUND(AVERAGE(D23,F23),2) -> 8.22 | I23: =IF(AND(8<=$H23,$H23<=10),"Hoàn thành xuất sắc nhiệm vụ",IF(AND(6<$H23,$H23<8),"Hoàn thành tốt nhiệm vụ",IF(AND(5<$H23,$H23<6),"Hoàn thành nhiệm vụ","Không hoàn thành nhiệm vụ"))) -> Hoàn thành xuất sắc nhiệm vụ | J23: =IF(G23="Hoàn thành NV","Không đạt LĐTT",IF(OR(I23="Hoàn thành xuất sắc nhiệm vụ",I23="Hoàn thành tốt nhiệm vụ"),"Đạt LĐTT","Không đạt LĐTT")) -> Đạt LĐTT
A24: 15 | B24: Phạm Thị Vinh | C24: 01011006 | D24: 7.71 | E24: Hoàn thành tốt nhiệm vụ | F24: ='HK2'!N24 -> 7.2 | G24: ='HK2'!P24 -> Hoàn thành tốt nhiệm vụ | H24: =ROUND(AVERAGE(D24,F24),2) -> 7.46 | I24: =IF(AND(8<=$H24,$H24<=10),"Hoàn thành xuất sắc nhiệm vụ",IF(AND(6<$H24,$H24<8),"Hoàn thành tốt nhiệm vụ",IF(AND(5<$H24,$H24<6),"Hoàn thành nhiệm vụ","Không hoàn thành nhiệm vụ"))) -> Hoàn thành tốt nhiệm vụ | J24: =IF(G24="Hoàn thành NV","Không đạt LĐTT",IF(OR(I24="Hoàn thành xuất sắc nhiệm vụ",I24="Hoàn thành tốt nhiệm vụ"),"Đạt LĐTT","Không đạt LĐTT")) -> Đạt LĐTT
B28: Đạt LĐTT:
B29: Không đạt LĐTT: | C29: =COUNTIF($J$10:$J$26,"Không đạt LĐTT") -> 0
B30: Không xét LĐTT (Tuyển dụng dưới 10 tháng) | C30: =COUNTIF($J$10:$J$26,"Không xét LĐTT") -> 0
H32: Thành phố Hồ Chí Minh, ngày tháng năm 2024
H33: TRƯỞNG ĐƠN VỊ
H39: LÊ THỊ HỒNG VÂN
