Workbook

Sheet Mau 1
A1: TRƯỜNG CAO ĐẲNG LÝ TỰ TRỌNG THÀNH PHỐ HỒ CHÍ MINH KHOA CƠ KHÍ | F1: CỘNG HÒA XÃ HỘI CHỦ NGHĨA VIỆT NAM Độc lập - Tự do - Hạnh phúc
G2: Mẫu 1
A3: BẢNG TỔNG HỢP CÔNG VIỆC ĐỘT XUẤT ĐÃ THỰC HIỆN THÁNG 5/2024
A6: TT | B6: Nội dung công việc | C6: Số lượng người tham gia thực hiện | D6: Tên người tham gia thực hiện | E6: Thời gian thực hiện | F6: Kết quả thực hiện | G6: Ghi chú
A7: I. | B7: Công việc đột xuất của Trường
A8: Nhiệm vụ 1 | B8: Xây dựng chương trình CDIO ngành Công nghệ Kỹ thuật Cơ khí | C8: 5 | D8: Vinh, Tuấn, Đình Khải | F8: tốt
A9: Nhiệm vụ 2 | B9: Hỗ trợ tư vấn tuyển sinh 03 trường (đợt 1) | C9: 8 | D9: Hoài Sơn, Pháp, Khanh, Giang, Dũng, Huy, Yến Vũ, Thông. | F9: tốt | G9: 02 trường của phòng TS-ĐT và 1 trường ở Hóc Môn
A10: Nhiệm vụ 3 | B10: Hỗ trợ tư vấn tuyển sinh 03 trường (đợt 2) | C10: 15 | D10: Vinh, Đình Khải, Tuấn, Hiệp, Hồng Phúc, Hoài Sơn, Pháp, Khanh, Giang, Dũng, Huy, Yến Vũ, Thông, Quang Khải, Phương Hồng | F10: tốt | G10: 04 trường ở Hóc Môn
A11: Nhiệm vụ 4 | B11: Vận động tài trợ 5 triệu mua quà tặng các trường tuyển sinh ở Hóc Môn | C11: 1 | D11: Hồng Phúc | F11: tốt
A12: Nhiệm vụ 5 | B12: Vận động tài trợ 5 triệu chi phí xe đi tuyển sinh các trường ở Hóc Môn | C12: 1 | D12: Phương Hồng | F12: tốt
A13: Nhiệm vụ 6 | B13: Tổ chức Giải bóng đá cúp Hawel kết nối các DN | C13: 1 | D13: Vinh, Hiệp
A14: Nhiệm vụ 7 | B14: Thanm gia thi Trang trí bánh kem | C14: 4 | D14: Huy, Chung, Khanh, Dương Hồng
A15: Nhiệm vụ 8
A16: Nhiệm vụ 9
A17: Nhiệm vụ 10
A18: II. | B18: Công việc đột xuất của đơn vị
A19: Nhiệm vụ 1 | B19: Cập nhật thông tin trang Facebook giới thiệu các ngành nghề đào tạo của khoa năm 2024 | C19: 4 | D19: Vinh, Tuấn, Huy, Dương Hồng, Yến Vũ | F19: tốt
A20: Nhiệm vụ 2 | B20: Sửa chữa, bảo trì máy Tiện và máy Phay vạn năng | C20: 4 | D20: Vinh, Hồng Phúc, Dũng, Thông, Giang | F20: tốt
A21: Nhiệm vụ 3 | B21: Sửa chữa bảo trì máy Tiện, Phay CNC | C21: 3 | D21: Hoài Sơn, Tuấn, Phương Hồng | F21: tốt
A22: Nhiệm vụ 4 | B22: Sửa chữa, bảo trì ổ dao các máy Tiện ở xưởng Tiện 2 | C22: 5 | D22: Dũng, Thông, Hồng Phúc, Đình Khải, Pháp | F22: tốt
A23: Nhiệm vụ 5 | B23: Sơn kẻ vạch màu vàng theo tiêu chuẩn 5S ở xưởng CNC 1, 2, Cơ Điện | C23: 3 | D23: Đình Khải, Pháp, Hiệp, Hoài Sơn | F23: tốt
A24: Nhiệm vụ 6 | B24: Chủ trì CLB thiết kế Cơ khí vào chủ nhật hàng tuần | C24: 1 | D24: P. Hồng | F24: tốt
A25: Nhiệm vụ 7 | B25: Liên hệ các trường TPHT ở Hóc Môn | C25: 2 | D25: Khanh, Yến Vũ | F25: tốt
A26: Nhiệm vụ 8 | B26: Hỗ trợ tổ chức Giải bóng đá | C26: 9 | D26: Huy, Phương Hồng, Tuấn, Hồng Phúc, Thanh Vũ, Vĩnh Phúc, Dũng, Dương Hồng, Khanh | F26: tốt
A27: Nhiệm vụ 9 | B27: Ban kiểm tra vệ sinh các xưởng thực hành ở khu L (hàng tháng) | C27: 7 | D27: Vinh, Hiệp, Tuấn, Phương Hồng, Pháp, Quang Khải, Chung | F27: tốt
A28: Nhiệm vụ 10 | B28: Làm mô hình học cụ (đồ gá kẹp chặt, bàn hàn). | C28: 3 | D28: Thanh Vũ, Vĩnh Phúc, Giang | F28: tốt
A30: Lưu ý: - Không ghi nhận nhiệm vụ đột xuất đối với những công việc có tính thường xuyên thuộc chức năng của đơn vị mà cá nhân được phân công phụ trách hoặc những việc mà cá nhân đã nhận được chi trả chi phí, bồi dưỡng riêng. - Các đơn vị gửi file điện tử về phòng TC-HC-TH (Cô Trần Thị Ánh Phượng) qua hệ thống điện tử E-Office (không gửi văn bản giấy)./.
E31: Thành phố Hồ Chí Minh, ngày …. tháng…. năm 2024
E32: TRƯỞNG ĐƠN VỊ
E37: CHUNG TRẦN THẾ VINH

Sheet Mau 2
A1: TRƯỜNG CAO ĐẲNG LÝ TỰ TRỌNG | T1: CỘNG HÒA XÃ HỘI CHỦ NGHĨA VIỆT NAM
A2: THÀNH PHỐ HỒ CHÍ MINH | T2: Độc lập - Tự do - Hạnh phúc
A3: KHOA CƠ KHÍ
AE4: Mẫu 2
A5: THỐNG KÊ CHI TIẾT KHỐI LƯỢNG CÔNG VIỆC THỰC HIỆN THÁNG 5/2024
A7: TT | B7: Tên nội dung công việc | D7: Công việc chung của trường | T7: Công việc chung của đơn vị | AE7: Ghi chú
B8: Họ và tên | C8: Mã E-office | D8: Nhiệm vụ 1 | E8: Nhiệm vụ 2 | F8: Nhiệm vụ 3 | G8: Nhiệm vụ 4 | H8: Nhiệm vụ 5 | I8: Nhiệm vụ 6 | J8: Nhiệm vụ 7 | K8: Nhiệm vụ 8 | L8: Nhiệm vụ 9 | M8: Nhiệm vụ 10 | N8: Nhiệm vụ 11 | O8: Nhiệm vụ 12 | P8: Nhiệm vụ 13 | Q8: Nhiệm vụ 14 | R8: Nhiệm vụ 15 | S8: Tổng cộng | T8: Nhiệm vụ 1 | U8: Nhiệm vụ 2 | V8: Nhiệm vụ 3 | W8: Nhiệm vụ 4 | X8: Nhiệm vụ 5 | Y8: Nhiệm vụ 6 | Z8: Nhiệm vụ 7 | AA8: Nhiệm vụ 8 | AB8: Nhiệm vụ 9 | AC8: Nhiệm vụ 10 | AD8: Tổng cộng
C9: -1 | D9: -2 | E9: -3 | F9: -4 | G9: -5 | H9: -6 | I9: -7 | J9: -8 | K9: -9 | L9: -10 | M9: -11 | N9: -12 | O9: -13 | P9: -14 | Q9: -15 | R9: -16 | S9: -17 | T9: -18 | U9: -19 | V9: -20 | W9: -21 | X9: -22 | Y9: -23 | Z9: -24 | AA9: -25 | AB9: -26 | AC9: -27 | AD9: -28
A10: I. Cán bộ quản lý (Trưởng, Phó đơn vị)
A11: 01 | B11: Chung Trần Thế Vinh | C11: 01012003 | D11: X | F11: X | I11: X | S11: =COUNTIF(D11:R11,"X") -> 3 | T11: X | U11: X | AB11: X | AD11: =COUNTIF(T11:AC11,"X") -> 3
A12: 02 | B12: Trần Đình Khải | C12: 01012008 | D12: X | F12: X | S12: =COUNTIF(D12:R12,"X") -> 2 | W12: X | X12: X | AD12: =COUNTIF(T12:AC12,"X") -> 2
A13: II. Giảng viên/nhân viên
A14: 1 | B14: Vũ Quang Khải | C14: 01012007 | F14: X | S14: =COUNTIF(D14:R14,"X") -> 1 | AB14: X | AD14: =COUNTIF(T14:AC14,"X") -> 1
A15: 2 | B15: Vũ Đức Pháp | C15: 01012013 | E15: X | F15: X | S15: =COUNTIF(D15:R15,"X") -> 2 | W15: X | X15: X | AB15: X | AD15: =COUNTIF(T15:AC15,"X") -> 3
A16: 3 | B16: Bùi Anh Tuấn | C16: 01012023 | D16: X | F16: X | S16: =COUNTIF(D16:R16,"X") -> 2 | T16: X | V16: X | AA16: X | AB16: X | AD16: =COUNTIF(T16:AC16,"X") -> 4
A17: 4 | B17: Dương Minh Chung | C17: 01012014 | J17: X | S17: =COUNTIF(D17:R17,"X") -> 1 | AB17: X | AD17: =COUNTIF(T17:AC17,"X") -> 1
A18: 5 | B18: Đỗ Thị Phương Khanh | C18: 01012005 | E18: X | F18: X | J18: X | S18: =COUNTIF(D18:R18,"X") -> 3 | Z18: X | AA18: X | AD18: =COUNTIF(T18:AC18,"X") -> 2
A19: 6 | B19: Trương Thị Phương Hồng | C19: 01012006 | F19: X | H19: X | S19: =COUNTIF(D19:R19,"X") -> 2 | V19: X | Y19: X | AA19: X | AB19: X | AD19: =COUNTIF(T19:AC19,"X") -> 4
A20: 7 | B20: Phan Văn Thành | C20: 01012004 | S20: =COUNTIF(D20:R20,"X") -> 0 | AD20: =COUNTIF(T20:AC20,"X") -> 0
A21: 8 | B21: Phan Thị Xuân Trang | C21: 01012012 | S21: =COUNTIF(D21:R21,"X") -> 0 | AD21: =COUNTIF(T21:AC21,"X") -> 0
A22: 9 | B22: Lư Thị Yến Vũ | C22: 01012016 | E22: X | F22: X | S22: =COUNTIF(D22:R22,"X") -> 2 | T22: X | Z22: X | AD22: =COUNTIF(T22:AC22,"X") -> 2
A23: 10 | B23: Nguyễn Thanh Vũ | C23: 01012015 | S23: =COUNTIF(D23:R23,"X") -> 0 | AA23: X | AC23: X | AD23: =COUNTIF(T23:AC23,"X") -> 2
A24: 11 | B24: Nguyễn Tiến Dũng | C24: 01012019 | E24: X | F24: X | S24: =COUNTIF(D24:R24,"X") -> 2 | U24: X | W24: X | AA24: X | AD24: =COUNTIF(T24:AC24,"X") -> 3
A25: 12 | B25: Nguyễn Thành Long | C25: 01012018 | S25: =COUNTIF(D25:R25,"X") -> 0 | AD25: =COUNTIF(T25:AC25,"X") -> 0
A26: 13 | B26: Nguyễn Ngọc Quỳnh | C26: 01012017 | S26: =COUNTIF(D26:R26,"X") -> 0 | AD26: =COUNTIF(T26:AC26,"X") -> 0
A27: 14 | B27: Nguyễn Duy Hải | C27: 01012022 | S27: =COUNTIF(D27:R27,"X") -> 0 | AD27: =COUNTIF(T27:AC27,"X") -> 0
A28: 15 | B28: Trần Minh Thông | C28: 01012020 | E28: X | F28: X | S28: =COUNTIF(D28:R28,"X") -> 2 | U28: X | W28: X | AD28: =COUNTIF(T28:AC28,"X") -> 2
A29: 16 | B29: Trần Thị Hương | C29: 01012021 | S29: =COUNTIF(D29:R29,"X") -> 0 | AD29: =COUNTIF(T29:AC29,"X") -> 0
A30: 17 | B30: Nguyễn Thanh Vĩnh Phúc | C30: 01012011 | S30: =COUNTIF(D30:R30,"X") -> 0 | AA30: X | AC30: X | AD30: =COUNTIF(T30:AC30,"X") -> 2
A31: 18 | B31: Võ Minh Quang | C31: 01017002 | S31: =COUNTIF(D31:R31,"X") -> 0 | AD31: =COUNTIF(T31:AC31,"X") -> 0
A32: 19 | B32: Dương Thị Hồng | C32: 01012028 | J32: X | S32: =COUNTIF(D32:R32,"X") -> 1 | T32: X | AA32: X | AD32: =COUNTIF(T32:AC32,"X") -> 2
A33: 20 | B33: Nguyễn Thanh Giang | C33: 01012032 | E33: X | F33: X | S33: =COUNTIF(D33:R33,"X") -> 2 | U33: X | AC33: X | AD33: =COUNTIF(T33:AC33,"X") -> 2
A34: 21 | B34: Nguyễn Hồng Phúc | C34: 01025017 | F34: X | G34: X | S34: =COUNTIF(D34:R34,"X") -> 2 | U34: X | W34: X | AA34: X | AD34: =COUNTIF(T34:AA34,"X") -> 3
A35: 22 | B35: Nguyễn Văn Sơn | C35: 01006004 | S35: =COUNTIF(D35:R35,"X") -> 0 | AD35: =COUNTIF(T35:AC35,"X") -> 0
A36: 23 | B36: Nguyễn Khắc Huy | C36: 01013068 | E36: X | F36: X | J36: X | S36: =COUNTIF(D36:R36,"X") -> 3 | T36: X | AA36: X | AD36: =COUNTIF(T36:AC36,"X") -> 2
A37: 24 | B37: Võ Hoài Sơn | C37: 01012048 | E37: X | F37: X | S37: =COUNTIF(D37:R37,"X") -> 2 | V37: X | X37: X | AD37: =COUNTIF(T37:AC37,"X") -> 2
A38: 25 | B38: Nguyễn Thị Xuân Chinh | C38: 01012049 | S38: =COUNTIF(D38:R38,"X") -> 0 | AD38: =COUNTIF(T38:AC38,"X") -> 0
A39: 26 | B39: Nguyễn Duy Tân | C39: 01012050 | S39: =COUNTIF(D39:R39,"X") -> 0 | AD39: =COUNTIF(T39:AC39,"X") -> 0
A40: 27 | B40: Nguyễn Ngọc Hiệp | C40: 01009006 | F40: X | I40: X | S40: =COUNTIF(D40:R40,"X") -> 2 | X40: X | AB40: X | AD40: =COUNTIF(T40:AC40,"X") -> 2
A42: Lưu ý: Các đơn vị gửi file điện tử về phòng TC-HC-TH (Cô Trần Thị Ánh Phượng) qua hệ thống điện tử E-Office (không gửi văn bản giấy).
T43: TPHCM, ngày …... tháng …… năm 2024
T44: TRƯỞNG ĐƠN VỊ
X49: CHUNG TRẦN THẾ VINH

Sheet Mau 3 
A1: TRƯỜNG CAO ĐẲNG LÝ TỰ TRỌNG | F1: CỘNG HÒA XÃ HỘI CHỦ NGHĨA VIỆT NAM
A2: THÀNH PHỐ HỒ CHÍ MINH | F2: Độc lập - Tự do - Hạnh phúc
A3: KHOA CƠ KHÍ
J4: Mẫu 3
A5: DANH SÁCH XẾP LOẠI THI ĐUA THÁNG 5/2024
A7: TT | B7: Họ tên | C7: Mã E-Office | D7: Đơn vị xếp loại thi đua theo quy định | H7: Số ngày nghỉ/ tiết nghỉ | I7: Đơn vị đề nghị mức xếp loại thi đua A1, A2 và sắp xếp danh sách cá nhân theo thứ tự ưu tiên
D8: Xếp loại | E8: Lý do | F8: Số lượng công việc chung của trường | G8: Số lượng công việc chung của đơn vị | I8: Xếp loại | J8: Lý do đề nghị
A9: -1 | B9: -2 | C9: -3 | D9: -4 | E9: -5 | F9: -6 | G9: -7 | H9: -8 | I9: -9 | J9: -10
A10: I. Cán bộ quản lý | D10: 2
A11: 01 | B11: Chung Trần Thế Vinh | C11: 01012003 | D11: A1 | F11: =VLOOKUP(C11,'Mau 2'!$C$11:$AE$40,17,0) -> 3 | G11: =VLOOKUP($C11,'Mau 2'!$C$11:$AE$40,28,0) -> 3
A12: 02 | B12: Trần Đình Khải | C12: 01012008 | D12: A2 | E12: Ngày 06/05/2024 Tiết 1-5, 23T2-CNÔ1, E1.2 - 01 dạy Thực hành Hàn, GV không đeo thẻ trong giờ dạy. Nhắc nhở GV lên lớp thực hiện đúng qui định. | F12: =VLOOKUP(C12,'Mau 2'!$C$11:$AE$40,17,0) -> 2 | G12: =VLOOKUP($C12,'Mau 2'!$C$11:$AE$40,28,0) -> 2
A13: II. Giảng viên/nhân viên | D13: 27
A14: 1 | B14: Vũ Quang Khải | C14: 01012007 | D14: A3 | F14: =VLOOKUP(C14,'Mau 2'!$C$11:$AE$40,17,0) -> 1 | G14: =VLOOKUP($C14,'Mau 2'!$C$11:$AE$40,28,0) -> 1
A15: 2 | B15: Vũ Đức Pháp | C15: 01012013 | D15: A1 | F15: =VLOOKUP(C15,'Mau 2'!$C$11:$AE$40,17,0) -> 2 | G15: =VLOOKUP($C15,'Mau 2'!$C$11:$AE$40,28,0) -> 3
A16: 3 | B16: Bùi Anh Tuấn | C16: 01012023 | D16: A1 | F16: =VLOOKUP(C16,'Mau 2'!$C$11:$AE$40,17,0) -> 2 | G16: =VLOOKUP($C16,'Mau 2'!$C$11:$AE$40,28,0) -> 4
A17: 4 | B17: Dương Minh Chung | C17: 01012014 | D17: A3 | F17: =VLOOKUP(C17,'Mau 2'!$C$11:$AE$40,17,0) -> 1 | G17: =VLOOKUP($C17,'Mau 2'!$C$11:$AE$40,28,0) -> 1
A18: 5 | B18: Đỗ Thị Phương Khanh | C18: 01012005 | D18: A1 | F18: =VLOOKUP(C18,'Mau 2'!$C$11:$AE$40,17,0) -> 3 | G18: =VLOOKUP($C18,'Mau 2'!$C$11:$AE$40,28,0) -> 2
A19: 6 | B19: Trương Thị Phương Hồng | C19: 01012006 | D19: A1 | F19: =VLOOKUP(C19,'Mau 2'!$C$11:$AE$40,17,0) -> 2 | G19: =VLOOKUP($C19,'Mau 2'!$C$11:$AE$40,28,0) -> 4
A20: 7 | B20: Phan Văn Thành | C20: 01012004 | D20: A4 | F20: =VLOOKUP(C20,'Mau 2'!$C$11:$AE$40,17,0) -> 0 | G20: =VLOOKUP($C20,'Mau 2'!$C$11:$AE$40,28,0) -> 0
A21: 8 | B21: Phan Thị Xuân Trang | C21: 01012012 | D21: A4 | F21: =VLOOKUP(C21,'Mau 2'!$C$11:$AE$40,17,0) -> 0 | G21: =VLOOKUP($C21,'Mau 2'!$C$11:$AE$40,28,0) -> 0
A22: 9 | B22: Lư Thị Yến Vũ | C22: 01012016 | D22: A2 | F22: =VLOOKUP(C22,'Mau 2'!$C$11:$AE$40,17,0) -> 2 | G22: =VLOOKUP($C22,'Mau 2'!$C$11:$AE$40,28,0) -> 2
A23: 10 | B23: Nguyễn Thanh Vũ | C23: 01012015 | D23: A3 | F23: =VLOOKUP(C23,'Mau 2'!$C$11:$AE$40,17,0) -> 0 | G23: =VLOOKUP($C23,'Mau 2'!$C$11:$AE$40,28,0) -> 2
A24: 11 | B24: Nguyễn Tiến Dũng | C24: 01012019 | D24: A2 | F24: =VLOOKUP(C24,'Mau 2'!$C$11:$AE$40,17,0) -> 2 | G24: =VLOOKUP($C24,'Mau 2'!$C$11:$AE$40,28,0) -> 3
A25: 12 | B25: Nguyễn Thành Long | C25: 01012018 | D25: A4 | F25: =VLOOKUP(C25,'Mau 2'!$C$11:$AE$40,17,0) -> 0 | G25: =VLOOKUP($C25,'Mau 2'!$C$11:$AE$40,28,0) -> 0
... A28: 15 | B28: Trần Minh Thông | C28: 01012020 | D28: A2 | F28: =VLOOKUP(C28,'Mau 2'!$C$11:$AE$40,17,0) -> 2 | G28: =VLOOKUP($C28,'Mau 2'!$C$11:$AE$40,28,0) -> 2
A29: 16 | B29: Trần Thị Hương | C29: 01012021 | D29: A4 | E29: Ngày 5/16/2024, Sinh Hoạt Chủ Nhiệm lớp 22T4-CCK1. GV không điểm danh. Khoa nhắc nhở GV | F29: =VLOOKUP(C29,'Mau 2'!$C$11:$AE$40,17,0) -> 0 | G29: =VLOOKUP($C29,'Mau 2'!$C$11:$AE$40,28,0) -> 0
A30: 17 | B30: Nguyễn Thanh Vĩnh Phúc | C30: 01012011 | D30: A3 | F30: =VLOOKUP(C30,'Mau 2'!$C$11:$AE$40,17,0) -> 0 | G30: =VLOOKUP($C30,'Mau 2'!$C$11:$AE$40,28,0) -> 2
A31: 18 | B31: Võ Minh Quang | C31: 01017002 | D31: A4 | F31: =VLOOKUP(C31,'Mau 2'!$C$11:$AE$40,17,0) -> 0 | G31: =VLOOKUP($C31,'Mau 2'!$C$11:$AE$40,28,0) -> 0
A32: 19 | B32: Dương Thị Hồng | C32: 01012028 | D32: A3 | F32: =VLOOKUP(C32,'Mau 2'!$C$11:$AE$40,17,0) -> 1 | G32: =VLOOKUP($C32,'Mau 2'!$C$11:$AE$40,28,0) -> 2
A33: 20 | B33: Nguyễn Thanh Giang | C33: 01012032 | D33: A2 | F33: =VLOOKUP(C33,'Mau 2'!$C$11:$AE$40,17,0) -> 2 | G33: =VLOOKUP($C33,'Mau 2'!$C$11:$AE$40,28,0) -> 2
A34: 21 | B34: Nguyễn Hồng Phúc | C34: 01025017 | D34: A2 | F34: =VLOOKUP(C34,'Mau 2'!$C$11:$AE$40,17,0) -> 2 | G34: =VLOOKUP($C34,'Mau 2'!$C$11:$AE$40,28,0) -> 3
A35: 22 | B35: Nguyễn Văn Sơn | C35: 01006004 | D35: A4 | F35: =VLOOKUP(C35,'Mau 2'!$C$11:$AE$40,17,0) -> 0 | G35: =VLOOKUP($C35,'Mau 2'!$C$11:$AE$40,28,0) -> 0
A36: 23 | B36: Nguyễn Khắc Huy | C36: 01013068 | D36: A1 | F36: =VLOOKUP(C36,'Mau 2'!$C$11:$AE$40,17,0) -> 3 | G36: =VLOOKUP($C36,'Mau 2'!$C$11:$AE$40,28,0) -> 2
A37: 24 | B37: Võ Hoài Sơn | C37: 01012048 | D37: A2 | F37: =VLOOKUP(C37,'Mau 2'!$C$11:$AE$40,17,0) -> 2 | G37: =VLOOKUP($C37,'Mau 2'!$C$11:$AE$40,28,0) -> 2
A38: 25 | B38: Nguyễn Thị Xuân Chinh | C38: 01012049 | D38: A4 | F38: =VLOOKUP(C38,'Mau 2'!$C$11:$AE$40,17,0) -> 0 | G38: =VLOOKUP($C38,'Mau 2'!$C$11:$AE$40,28,0) -> 0
A39: 26 | B39: Nguyễn Duy Tân | C39: 01012050 | D39: A4 | F39: =VLOOKUP(C39,'Mau 2'!$C$11:$AE$40,17,0) -> 0 | G39: =VLOOKUP($C39,'Mau 2'!$C$11:$AE$40,28,0) -> 0
A40: 27 | B40: Nguyễn Ngọc Hiệp | C40: 01009006 | D40: A2 | F40: =VLOOKUP(C40,'Mau 2'!$C$11:$AE$40,17,0) -> 2 | G40: =VLOOKUP($C40,'Mau 2'!$C$11:$AE$40,28,0) -> 2
B42: Kết quả xếp loại | D42: Cán bộ quản lý | F42: Giảng viên/Nhân viên
D43: Số lượng | E43: Tỷ lệ (%) | F43: Số lượng | G43: Tỷ lệ (%)
B44: Xếp loại A1 | D44: =COUNTIF($D$11:$D$12,"A1") -> 1 | E44: =ROUND(D44/$D$10,2) -> 0.5 | F44: =COUNTIF($D$14:$D$40,"A1") -> 5 | G44: =ROUND(F44/$D$13,2) -> 0.19
B45: Xếp loại A2 | D45: =COUNTIF($D$11:$D$12,"A2") -> 1 | E45: =ROUND(D45/$D$10,2) -> 0.5 | F45: =COUNTIF($D$14:$D$40,"A2") -> 7 | G45: =ROUND(F45/$D$13,2) -> 0.26
B46: Xếp loại A3 | D46: =COUNTIF($D$11:$D$12,"A3") -> 0 | E46: =ROUND(D46/$D$10,2) -> 0 | F46: =COUNTIF($D$14:$D$40,"A3") -> 5 | G46: =ROUND(F46/$D$13,2) -> 0.19
B47: Xếp loại A4 | D47: =COUNTIF($D$11:$D$12,"A4") -> 0 | E47: =ROUND(D47/$D$10,2) -> 0 | F47: =COUNTIF($D$14:$D$40,"A4") -> 10 | G47: =ROUND(F47/$D$13,2) -> 0.37
B48: Xếp loại A DN | D48: =COUNTIF($D$11:$D$12,"A DN") -> 0 | E48: =ROUND(D48/$D$10,2) -> 0 | F48: =COUNTIF($D$14:$D$40,"A DN") -> 0 | G48: =ROUND(F48/$D$13,2) -> 0
B49: Xếp loại B1 | D49: =COUNTIF($D$11:$D$12,"B1") -> 0 | E49: =ROUND(D49/$D$10,2) -> 0 | F49: =COUNTIF($D$14:$D$40,"B1") -> 0 | G49: =ROUND(F49/$D$13,2) -> 0
B50: Xếp loại B2 | D50: =COUNTIF($D$11:$D$12,"B2") -> 0 | E50: =ROUND(D50/$D$10,2) -> 0 | F50: =COUNTIF($D$14:$D$40,"B2") -> 0 | G50: =ROUND(F50/$D$13,2) -> 0
B51: Xếp loại C1 | D51: =COUNTIF($D$11:$D$12,"C1") -> 0 | E51: =ROUND(D51/$D$10,2) -> 0 | F51: =COUNTIF($D$14:$D$40,"C1") -> 0 | G51: =ROUND(F51/$D$13,2) -> 0
B52: Xếp loại C2 | D52: =COUNTIF($D$11:$D$12,"C2") -> 0 | E52: =ROUND(D52/$D$10,2) -> 0 | F52: =COUNTIF($D$14:$D$40,"C2") -> 0 | G52: =ROUND(F52/$D$13,2) -> 0
B53: Xếp loại D | D53: =COUNTIF($D$11:$D$12,"D") -> 0 | E53: =ROUND(D53/$D$10,2) -> 0 | F53: =COUNTIF($D$14:$D$40,"D") -> 0 | G53: =ROUND(F53/$D$13,2) -> 0
B54: Không xếp loại (Loại E) | D54: =COUNTIF($D$11:$D$12,"E") -> 0 | E54: =ROUND(D54/$D$10,2) -> 0 | F54: =COUNTIF($D$14:$D$40,"KXL") -> 0 | G54: =ROUND(F54/$D$13,2) -> 0
B55: Tổng số nhân sự: | D55: =SUM(D44:D54) -> 2 | F55: =SUM(F44:F54) -> 27
A57: Lưu ý: - Tỷ lệ xếp loại thi đua mức A1 không quá 20%, mức A2 không quá 30% trên tổng số nhân sự (trừ Trưởng, Phó đơn vị). Trưởng đơn vị đánh giá mức độ hoàn thành nhiệm vụ được giao đối với từng cá nhân và xếp loại thi đua không vượt quá tỷ lệ quy định; trường hợp có nhiều cá nhân hoàn thành xuất sắc nhiệm vụ, đơn vị đề nghị xếp loại A1, A2 với tổng tỷ lệ không vượt quá 60% và sắp xếp danh sách theo thứ tự ưu tiên từ cao xuống thấp. - Giảng viên/ Nhân viên (bao gồm Trưởng bộ môn, Tổ trưởng, Phụ trách Tổ, ...) - Các đơn vị gửi file mềm qua hệ thống điện tử E-Office và văn bản giấy về phòng TC-HC-TH (Cô Trần Thị Ánh Phượng).
F58: TPHCM, ngày …... tháng …… năm 2024
F59: TRƯỞNG ĐƠN VỊ
F64: CHUNG TRẦN THẾ VINH
