Workbook

Sheet Mau 1
A1: TRƯỜNG CAO ĐẲNG LÝ TỰ TRỌNG THÀNH PHỐ HỒ CHÍ MINH PHÒNG THANH TRA GIÁO DỤC - QUAN HỆ DOANH NGHIỆP | F1: CỘNG HÒA XÃ HỘI CHỦ NGHĨA VIỆT NAM Độc lập - Tự do - Hạnh phúc
G2: Mẫu 1
A3: BẢNG TỔNG HỢP CÔNG VIỆC ĐỘT XUẤT ĐÃ THỰC HIỆN THÁNG 7/2024
A6: TT | B6: Nội dung công việc | C6: Số lượng người tham gia thực hiện | D6: Tên người tham gia thực hiện | E6: Thời gian thực hiện | F6: Kết quả thực hiện | G6: Ghi chú
A7: I. | B7: Công việc đột xuất của Trường
A8: Nhiệm vụ 1 | B8: - Hỗ trợ, phối hợp với Công an Quận 12 xác minh lý lịch sinh viên | C8: 2 | D8: Chiến, Thiện | E8: 01/7/2024 | F8: Tốt
A9: Nhiệm vụ 2 | B9: - Thực hiện Công văn số 14534/SLĐTBXH-GDNN ngày 20 tháng 6 năm 2024 của Sở Lao động - Thương binh và Xã hội về việc giới thiệu đại biểu tham dự Diễn đàn “Học sinh, sinh viên giáo dục nghề nghiệp sống đẹp, sống có ích” năm 2024; | C9: 2 | D9: Chiến, Kim Anh | E9: từ ngày 26/6-đến ngày 6/72024 | F9: Tốt
A10: Nhiệm vụ 3 | B10: - Thực hiện báo cáo theo nghị định 81 xét học bổng và miễn giảm học phí năm học 2023-2024 | C10: 2 | D10: Thiện, Hà | E10: 'từ ngày 25/6-đến ngày 6/72024 | F10: Tốt
A11: Nhiệm vụ 4 | B11: - Tích cực tham gia viết bài khoa học năm 2024 và báo cáo chuyên đề tại Hội nghị Sơ kết khối thi đua 1 | C11: 1 | D11: Dương | E11: 25/6/2024 -03/7/2024 | F11: Tốt
A12: Nhiệm vụ 5 | B12: - Thực hiện công văn số 17337/SLĐTBXH-GDNN ngày 17 tháng 7 năm 2024 của Sở Lao động - Thương binh và Xã hội về việc xét chọn Tuyên dương học sinh, sinh viên giáo dục nghề nghiệp xuất sắc,tiêu biểu năm 2024 | C12: 2 | D12: Thiện, Châu | E12: 'từ ngày 17/7-đến ngày 30/7/2024 | F12: Tốt
A13: Nhiệm vụ 6 | B13: Phối hợp với các đơn vị trong và ngoài trường lập thời khóa biểu, mời báo cáo viên và tổ chức thực hiện tuần giáo dục định hướng cho SV khoá 24-T4, đợt 1 năm học 2024-2025 | C13: 3 | D13: Chiến, Thiện, Hiếu | E13: Từ ngày 10 đến 30/7/2024 | F13: Tốt
A14: II. | B14: Công việc đột xuất của đơn vị
A15: Nhiệm vụ 1 | B15: - Hỗ trợ tuần giáo dục định hướng năm 2024 | C15: 11 | D15: Dương, Hương, Phước, Dũng, Mỹ, Thảo, Việt Anh, Chi, Thắng, Kim Anh, Hoàng | E15: Từ ngày 22/7 đến 30/7/2024 | F15: Tốt
A16: Nhiệm vụ 2 | B16: Tích cực viết bài khoa học năm 2024 + đóng góp ý kiến cho các bài viết | C16: 2 | D16: Thiện, Hà | F16: Tốt
A17: Nhiệm vụ 3 | B17: Đảm bảo tiến độ thực hiện + Hỗ trợ Trưởng đơn vị trong công tác kiểm tra, giám sát kết quả đánh giá kết quả rèn luyện HK2/2023-2024 cho SV | C17: 5 | D17: Thiện, Kim Anh, Dũng, Hoàng, Phước | E17: 25/6/2024 - 13/7/2024 | F17: Tốt
A18: Nhiệm vụ 4 | B18: Thống kê, lập danh mục hồ sơ lưu trữ tại đơn vị đã hết và gần hết thời gian bảo quản nộp về lưu trữ Trường | C18: 1 | D18: Hà | E18: Tháng 3/2024 - 08/7/2024 | F18: Tốt
A19: Nhiệm vụ 5 | B19: Lập kế hoạch điều tra lần vết sinh viên tốt nghiệp năm 2024 | C19: 2 | D19: Chiến, Hà | E19: 09/7/2024 - 12/7/2024 | F19: Tốt
A20: Lưu ý: - Không ghi nhận nhiệm vụ đột xuất đối với những công việc có tính thường xuyên thuộc chức năng của đơn vị mà cá nhân được phân công phụ trách hoặc những việc mà cá nhân đã nhận được chi trả chi phí, bồi dưỡng riêng. - Các đơn vị gửi file điện tử về phòng TC-HC-TH (Cô Trần Thị Ánh Phượng) qua hệ thống điện tử E-Office (không gửi văn bản giấy)./.
E21: Thành phố Hồ Chí Minh, ngày 22 tháng 7 năm 2024
E22: TRƯỞNG ĐƠN VỊ
E26: Nguyễn Văn Chiến

Sheet Mau 2
B1: TRƯỜNG CAO ĐẲNG LÝ TỰ TRỌNG
B2: THÀNH PHỐ HỒ CHÍ MINH
B3: PHÒNG THANH TRA GIÁO DỤC - QUAN HỆ DOANH NGHIỆP
AF4: Mẫu 2
A5: THỐNG KÊ CHI TIẾT KHỐI LƯỢNG CÔNG VIỆC THỰC HIỆN THÁNG 7/2024
A7: TT | B7: Tên nội dung công việc | D7: Công việc chung của trường | AF7: Ghi chú
B8: Họ và tên | C8: Mã E-office | D8: Nhiệm vụ 1 | E8: Nhiệm vụ 2 | F8: Nhiệm vụ 3 | G8: Nhiệm vụ 4 | H8: Nhiệm vụ 5 | I8: Nhiệm vụ 6 | J8: Nhiệm vụ 7 | K8: Nhiệm vụ 8 | L8: Nhiệm vụ 9 | M8: Nhiệm vụ 10 | N8: Nhiệm vụ 11 | O8: Nhiệm vụ 12 | P8: Nhiệm vụ 13 | Q8: Nhiệm vụ 14 | R8: Nhiệm vụ 15 | S8: Tổng cộng | T8: Nhiệm vụ 1 | U8: Nhiệm vụ 2 | V8: Nhiệm vụ 3 | W8: Nhiệm vụ 5 | X8: Nhiệm vụ 5 | Y8: Nhiệm vụ 5 | Z8: Nhiệm vụ 6 | AA8: Nhiệm vụ 7 | AB8: Nhiệm vụ 8 | AC8: Nhiệm vụ 9 | AD8: Nhiệm vụ 10 | AE8: Tổng cộng
C9: -1 | D9: -2 | E9: -3 | F9: -4 | G9: -5 | H9: -6 | I9: -7 | J9: -8 | K9: -9 | L9: -10 | M9: -11 | N9: -12 | O9: -13 | P9: -14 | Q9: -15 | R9: -16 | S9: -17 | T9: -19 | U9: -20 | X9: -21 | Y9: -22 | Z9: -23 | AA9: -24 | AB9: -25 | AC9: -26 | AD9: -27 | AE9: -28
A10: I. Cán bộ quản lý (Trưởng, Phó đơn vị)
A11: 01 | B11: Nguyễn Văn Chiến | C11: 01007008 | D11: x | E11: x | I11: x | S11: =COUNTIF(D11:R11,"X") -> 3 | X11: x | AE11: =COUNTIF(T11:AD11,"X") -> 1
A12: II. Giảng viên/nhân viên
A13: 01 | B13: Lê Xuân Thiện | C13: 01002002 | D13: x | F13: x | H13: x | I13: x | S13: =COUNTIF(D13:R13,"X") -> 4 | U13: x | V13: x | AE13: =COUNTIF(T13:AD13,"X") -> 2
A14: 02 | B14: Nguyễn Thị Kim Anh | C14: 01009018 | E14: x | S14: =COUNTIF(D14:R14,"X") -> 1 | T14: x | V14: x | AE14: =COUNTIF(T14:AD14,"X") -> 2
A15: 03 | B15: Phạm Thị Lê Chi | C15: 01009010 | S15: =COUNTIF(D15:R15,"X") -> 0 | T15: x | AE15: =COUNTIF(T15:AD15,"X") -> 1
A16: 04 | B16: Trần Thị Thu Hà | C16: 01002004 | F16: x | S16: =COUNTIF(D16:R16,"X") -> 1 | U16: x | W16: x | X16: x | AE16: =COUNTIF(T16:AD16,"X") -> 3
A17: 05 | B17: Nguyễn Tất Thắng | C17: 01009008 | S17: =COUNTIF(D17:R17,"X") -> 0 | T17: x | AE17: =COUNTIF(T17:AD17,"X") -> 1
A18: 06 | B18: Mai Thu Hương | C18: 01007004 | S18: =COUNTIF(D18:R18,"X") -> 0 | T18: x | AE18: =COUNTIF(T18:AD18,"X") -> 1
A19: 07 | B19: Nguyễn Thùy Dương | C19: 01014012 | G19: x | S19: =COUNTIF(D19:R19,"X") -> 1 | T19: x | AE19: =COUNTIF(T19:AD19,"X") -> 1
A20: 08 | B20: Nguyễn Trung Dũng | C20: 01002008 | S20: =COUNTIF(D20:R20,"X") -> 0 | T20: x | W20: x | AE20: =COUNTIF(T20:AD20,"X") -> 2
A21: 09 | B21: Phạm Huy Hoàng | C21: 01009011 | S21: =COUNTIF(D21:R21,"X") -> 0 | T21: x | V21: x | AE21: =COUNTIF(T21:AD21,"X") -> 2
A22: 10 | B22: Huỳnh Văn Hiếu | C22: 01009019 | I22: x | S22: =COUNTIF(D22:R22,"X") -> 1 | AE22: =COUNTIF(T22:AD22,"X") -> 0
A23: 11 | B23: Trần Anh Mỹ | C23: 01009028 | S23: =COUNTIF(D23:R23,"X") -> 0 | T23: x | AE23: =COUNTIF(T23:AD23,"X") -> 1
A24: 12 | B24: Bùi Đức Phước | C24: 01009026 | S24: =COUNTIF(D24:R24,"X") -> 0 | T24: x | W24: x | AE24: =COUNTIF(T24:AD24,"X") -> 2
A25: 13 | B25: Nguyễn Thị Thảo | C25: 01007003 | S25: =COUNTIF(D25:R25,"X") -> 0 | T25: x | AE25: =COUNTIF(T25:AD25,"X") -> 1
A26: 14 | B26: Lưu Hoàng Bảo Châu | C26: 01009029 | H26: x | S26: =COUNTIF(D26:R26,"X") -> 1 | AE26: =COUNTIF(T26:AD26,"X") -> 0
A27: 15 | B27: Trần Việt Anh | C27: 01002038 | S27: =COUNTIF(D27:R27,"X") -> 0 | T27: x | AE27: =COUNTIF(T27:AD27,"X") -> 1
A29: Lưu ý: Các đơn vị gửi file điện tử về phòng TC-HC-TH (Cô Trần Thị Ánh Phượng) qua hệ thống điện tử E-Office (không gửi văn bản giấy).
U35: Nguyễn Văn Chiến

Sheet Mau 3 
A1: TRƯỜNG CAO ĐẲNG LÝ TỰ TRỌNG | F1: CỘNG HÒA XÃ HỘI CHỦ NGHĨA VIỆT NAM
A2: THÀNH PHỐ HỒ CHÍ MINH | F2: Độc lập - Tự do - Hạnh phúc
A3: PHÒNG THANH TRA GIÁO DỤC - QUAN HỆ DOANH NGHIỆP
J4: Mẫu 3
A5: DANH SÁCH DỰ KIẾN XẾP LOẠI THI ĐUA THÁNG 7/2024
A7: TT | B7: Họ tên | C7: Mã E-Office | D7: Đơn vị xếp loại thi đua theo quy định | H7: Số ngày nghỉ/ tiết nghỉ | I7: Đơn vị đề nghị mức xếp loại thi đua A1, A2 và sắp xếp danh sách cá nhân theo thứ tự ưu tiên
D8: Xếp loại | E8: Lý do | F8: Số lượng công việc chung của trường | G8: Số lượng công việc chung của đơn vị | I8: Xếp loại | J8: Lý do đề nghị
A9: -1 | B9: -2 | C9: -3 | D9: -4 | E9: -5 | F9: -6 | G9: -7 | H9: -8 | I9: -9 | J9: -10
A10: I. Cán bộ quản lý | D10: 1
A11: 01 | B11: Nguyễn Văn Chiến | C11: 01007008 | D11: A2 | F11: =VLOOKUP(C11,'Mau 2'!$C$11:$AF$27,17,0) -> 3 | G11: 1 | H11: 01 ngày (5/7/2024)
A12: II. Giảng viên/nhân viên | D12: 15
A13: 01 | B13: Lê Xuân Thiện | C13: 01002002 | D13: A2 | F13: =VLOOKUP(C13,'Mau 2'!$C$11:$AF$27,17,0) -> 4 | G13: 2
A14: 02 | B14: Nguyễn Thị Kim Anh | C14: 01009018 | D14: A3 | F14: =VLOOKUP(C14,'Mau 2'!$C$11:$AF$27,17,0) -> 1 | G14: 2 | H14: 02 ngày (12 và 19/7/2024)
A15: 03 | B15: Phạm Thị Lê Chi | C15: 01009010 | D15: A4 | F15: =VLOOKUP(C15,'Mau 2'!$C$11:$AF$27,17,0) -> 0 | G15: 1
A16: 04 | B16: Trần Thị Thu Hà | C16: 01002004 | D16: A2 | F16: =VLOOKUP(C16,'Mau 2'!$C$11:$AF$27,17,0) -> 1 | G16: 3
A17: 05 | B17: Nguyễn Tất Thắng | C17: 01009008 | D17: A4 | F17: =VLOOKUP(C17,'Mau 2'!$C$11:$AF$27,17,0) -> 0 | G17: 1
A18: 06 | B18: Mai Thu Hương | C18: 01007004 | D18: A3 | F18: =VLOOKUP(C18,'Mau 2'!$C$11:$AF$27,17,0) -> 0 | G18: 2
A19: 07 | B19: Nguyễn Thùy Dương | C19: 01014012 | D19: A3 | F19: =VLOOKUP(C19,'Mau 2'!$C$11:$AF$27,17,0) -> 1 | G19: 1 | H19: 01 ngày (16/7/2024)
A20: 08 | B20: Nguyễn Trung Dũng | C20: 01002008 | D20: A3 | F20: =VLOOKUP(C20,'Mau 2'!$C$11:$AF$27,17,0) -> 0 | G20: 2
A21: 09 | B21: Phạm Huy Hoàng | C21: 01009011 | D21: A3 | F21: =VLOOKUP(C21,'Mau 2'!$C$11:$AF$27,17,0) -> 0 | G21: 2
A22: 10 | B22: Huỳnh Văn Hiếu | C22: 01009019 | D22: D | F22: =VLOOKUP(C22,'Mau 2'!$C$11:$AF$27,17,0) -> 1 | H22: 06 ngày (22-27/7/2024) | J22: Đề nghị lên B2
A23: 11 | B23: Trần Anh Mỹ | C23: 01009028 | D23: A3 | F23: =VLOOKUP(C23,'Mau 2'!$C$11:$AF$27,17,0) -> 0 | G23: 2 | H23: 03 ngày (8-9 và ngày 28/7/2024)
A24: 12 | B24: Bùi Đức Phước | C24: 01009026 | D24: A3 | F24: =VLOOKUP(C24,'Mau 2'!$C$11:$AF$27,17,0) -> 0 | G24: 2
A25: 13 | B25: Nguyễn Thị Thảo | C25: 01007003 | D25: A3 | F25: =VLOOKUP(C25,'Mau 2'!$C$11:$AF$27,17,0) -> 0 | G25: 2 | H25: 01 ngày (19/7/2024)
A26: 14 | B26: Lưu Hoàng Bảo Châu | C26: 01009029 | D26: A3 | F26: =VLOOKUP(C26,'Mau 2'!$C$11:$AF$27,17,0) -> 1 | H26: 01 ngày (20/7/2024)
A27: 15 | B27: Trần Việt Anh | C27: 01002038 | D27: B1 | F27: =VLOOKUP(C27,'Mau 2'!$C$11:$AF$27,17,0) -> 0 | G27: 2 | H27: Nghỉ hết phép năm học 2023-2024 và ứng 03 ngày phép ngày 10-12/7; NH 2024-2025
B29: Kết quả xếp loại | D29: Cán bộ quản lý | F29: Giảng viên/Nhân viên
D30: Số lượng | E30: Tỷ lệ (%) | F30: Số lượng | G30: Tỷ lệ (%)
B31: Xếp loại A1 | D31: =COUNTIF($D$11:$D$11,"A1") -> 0 | E31: =ROUND(D31/$D$10,2) -> 0 | F31: =COUNTIF($D$13:$D$27,"A1") -> 0 | G31: =ROUND(F31/$D$12,2) -> 0
B32: Xếp loại A2 | D32: =COUNTIF($D$11:$D$11,"A2") -> 1 | E32: =ROUND(D32/$D$10,2) -> 1 | F32: =COUNTIF($D$13:$D$27,"A2") -> 2 | G32: =ROUND(F32/$D$12,2) -> 0.13
B33: Xếp loại A3 | D33: =COUNTIF($D$11:$D$11,"A3") -> 0 | E33: =ROUND(D33/$D$10,2) -> 0 | F33: =COUNTIF($D$13:$D$27,"A3") -> 9 | G33: =ROUND(F33/$D$12,2) -> 0.6
B34: Xếp loại A4 | D34: =COUNTIF($D$11:$D$11,"A4") -> 0 | E34: =ROUND(D34/$D$10,2) -> 0 | F34: =COUNTIF($D$13:$D$27,"A4") -> 2 | G34: =ROUND(F34/$D$12,2) -> 0.13
B35: Xếp loại A DN | D35: =COUNTIF($D$11:$D$11,"A DN") -> 0 | E35: =ROUND(D35/$D$10,2) -> 0 | F35: =COUNTIF($D$13:$D$27,"A DN") -> 0 | G35: =ROUND(F35/$D$12,2) -> 0
B36: Xếp loại B1 | D36: =COUNTIF($D$11:$D$11,"B1") -> 0 | E36: =ROUND(D36/$D$10,2) -> 0 | F36: =COUNTIF($D$13:$D$27,"B1") -> 1 | G36: =ROUND(F36/$D$12,2) -> 0.07
B37: Xếp loại B2 | D37: =COUNTIF($D$11:$D$11,"B2") -> 0 | E37: =ROUND(D37/$D$10,2) -> 0 | F37: =COUNTIF($D$13:$D$27,"B2") -> 0 | G37: =ROUND(F37/$D$12,2) -> 0
B38: Xếp loại C1 | D38: =COUNTIF($D$11:$D$11,"C1") -> 0 | E38: =ROUND(D38/$D$10,2) -> 0 | F38: =COUNTIF($D$13:$D$27,"C1") -> 0 | G38: =ROUND(F38/$D$12,2) -> 0
B39: Xếp loại C2 | D39: =COUNTIF($D$11:$D$11,"C2") -> 0 | E39: =ROUND(D39/$D$10,2) -> 0 | F39: =COUNTIF($D$13:$D$27,"C2") -> 0 | G39: =ROUND(F39/$D$12,2) -> 0
B40: Xếp loại D | D40: =COUNTIF($D$11:$D$11,"D") -> 0 | E40: =ROUND(D40/$D$10,2) -> 0 | F40: =COUNTIF($D$13:$D$27,"D") -> 1 | G40: =ROUND(F40/$D$12,2) -> 0.07
B41: Không xếp loại (Loại E) | D41: =COUNTIF($D$11:$D$11,"E") -> 0 | E41: =ROUND(D41/$D$10,2) -> 0 | F41: =COUNTIF($D$13:$D$27,"KXL") -> 0 | G41: =ROUND(F41/$D$12,2) -> 0
B42: Tổng số nhân sự: | D42: =SUM(D31:D41) -> 1 | F42: =SUM(F31:F41) -> 15
A44: Lưu ý: - Tỷ lệ xếp loại thi đua mức A1 không quá 20%, mức A2 không quá 30% trên tổng số nhân sự (trừ Trưởng, Phó đơn vị). Trưởng đơn vị đánh giá mức độ hoàn thành nhiệm vụ được giao đối với từng cá nhân và xếp loại thi đua không vượt quá tỷ lệ quy định; trường hợp có nhiều cá nhân hoàn thành xuất sắc nhiệm vụ, đơn vị đề nghị xếp loại A1, A2 với tổng tỷ lệ không vượt quá 60% và sắp xếp danh sách theo thứ tự ưu tiên từ cao xuống thấp. - Giảng viên/ Nhân viên (bao gồm Trưởng bộ môn, Tổ trưởng, Phụ trách Tổ, ...) - Các đơn vị gửi file mềm qua hệ thống điện tử E-Office và văn bản giấy về phòng TC-HC-TH (Cô Trần Thị Ánh Phượng).
F45: TPHCM, ngày 22 tháng 7 năm 2024
F46: TRƯỞNG ĐƠN VỊ
F51: Nguyễn Văn Chiến
