Workbook

Sheet nhom nganh capIII va so lieu TS
A1: UBND THÀNH PHỐ HỒ CHÍ MINH | E1: CỘNG HÒA XÃ HỘI CHỦ NGHĨA VIỆT NAM
A2: TRƯỜNG CAO ĐẲNG LÝ TỰ TRỌNG | E2: Độc lập - Tự do - Hạnh phúc
A3: THÀNH PHỐ HỒ CHÍ MINH
A5: TỔNG HỢP NGÀNH NGHỀ ĐÀO TẠO THEO NHÓM MÃ NGÀNH CẤP III THÔNG TƯ 26/2020 CỦA BỘ LAO ĐỘNG - THƯƠNG BINH VÀ XÃ HỘI
A6: TT | B6: TÊN NGÀNH CẤP IV | C6: MÃ NGÀNH/NGHỀ CẤP IV | E6: TÊN NGÀNH CẤP III | F6: Chỉ tiêu tuyển sinh 2021 | H6: TỔNG CỘNG CHỈ TIÊU 2021
C7: Trung cấp | D7: Cao đẳng | F7: Trung cấp | G7: Cao đẳng
A8: 1 | B8: Công nghệ kỹ thuật cơ khí | C8: 5510201 | D8: 6510201 | E8: Công nghệ kỹ thuật cơ khí | F8: 90 | G8: 280 | H8: =F8+G8 -> 370
A9: 2 | B9: Công nghệ kỹ thuật nhiệt | C9: 5510211 | D9: 6510211 | E9: Công nghệ kỹ thuật cơ khí | F9: 65 | G9: 150 | H9: =F9+G9 -> 215
A10: 3 | B10: Công nghệ chế tạo máy | C10: 5510212 | D10: 6510212 | E10: Công nghệ kỹ thuật cơ khí | F10: 100 | G10: 140 | H10: =F10+G10 -> 240
A11: 4 | B11: Công nghệ ô tô | C11: 5510216 | D11: 6510216 | E11: Công nghệ kỹ thuật cơ khí | F11: 205 | G11: 520 | H11: =F11+G11 -> 725
A12: 1. CHỈ TIÊU TỔNG CỘNG CỦA NHÓM | H12: =SUM(H8:H11) -> 1550
A13: 5 | B13: Công nghệ kỹ thuật điện, điện tử | C13: 5510303 | D13: 6510303 | E13: Công nghệ kỹ thuật điện, điện tử và viễn thông | F13: 85 | G13: 190 | H13: =F13+G13 -> 275
A14: 6 | B14: Công nghệ kỹ thuật điều khiển và tự động hóa | D14: 6510305 | E14: Công nghệ kỹ thuật điện, điện tử và viễn thông | G14: 120 | H14: =F14+G14 -> 120
A15: 7 | B15: Công nghệ kỹ thuật điều khiển tự động | C15: 5510305 | E15: Công nghệ kỹ thuật điện, điện tử và viễn thông | F15: 70 | H15: =F15+G15 -> 70
A16: 8 | B16: Công nghệ kỹ thuật điện tử, truyền thông | C16: 5510312 | D16: 6510312 | E16: Công nghệ kỹ thuật điện, điện tử và viễn thông | F16: 85 | G16: 115 | H16: =F16+G16 -> 200
A17: 2. CHỈ TIÊU TỔNG CỘNG CỦA NHÓM | H17: =SUM(H13:H16) -> 665
A18: 9 | B18: Quản trị lữ hành | C18: 5810104 | D18: 6810104 | E18: Du lịch | F18: 50 | G18: 50 | H18: =F18+G18 -> 100
A19: 10 | B19: Quản trị du lịch MICE | C19: 5810105 | D19: 6810105 | E19: Du lịch | F19: 50 | G19: 50 | H19: =F19+G19 -> 100
A20: 3. CHỈ TIÊU TỔNG CỘNG CỦA NHÓM | H20: =SUM(H18:H19) -> 200
A21: 11 | B21: Quản trị khách sạn | C21: 5810201 | D21: 6810201 | E21: Khách sạn, nhà hàng | F21: 35 | G21: 35 | H21: =F21+G21 -> 70
A22: 12 | B22: Quản trị nhà hàng | D22: 6810206 | E22: Khách sạn, nhà hàng | G22: 35 | H22: =F22+G22 -> 35
A23: 13 | B23: Nghiệp vụ nhà hàng | C23: 5810206 | E23: Khách sạn, nhà hàng | F23: 35 | H23: =F23+G23 -> 35
A24: 14 | B24: Kỹ thuật làm bánh | C24: 5810210 | D24: 6810210 | E24: Khách sạn, nhà hàng | F24: 50 | G24: 50 | H24: =F24+G24 -> 100
A25: 4. CHỈ TIÊU TỔNG CỘNG CỦA NHÓM | H25: =SUM(H21:H24) -> 240
A26: 15 | B26: Quản lý xây dựng | D26: 6580301 | E26: Quản lý xây dựng | G26: 70 | H26: =F26+G26 -> 70
A27: 5. CHỈ TIÊU TỔNG CỘNG CỦA NHÓM | H27: =SUM(H26) -> 70
A28: 16 | B28: Kỹ thuật xây dựng | C28: 5580201 | D28: 6580201 | E28: Xây dựng | F28: 60 | G28: 60 | H28: =F28+G28 -> 120
A29: 6. CHỈ TIÊU TỔNG CỘNG CỦA NHÓM | H29: =SUM(H28) -> 120
A30: 17 | B30: Kế toán doanh nghiệp | C30: 5340302 | D30: 6340302 | E30: Kế toán - Kiểm toán | F30: 65 | G30: 160 | H30: =F30+G30 -> 225
A31: 7. CHỈ TIÊU TỔNG CỘNG CỦA NHÓM | H31: =SUM(H30) -> 225
A32: 18 | B32: Logistics | C32: 5340113 | D32: 6340113 | E32: Kinh doanh | F32: 30 | G32: 60 | H32: =F32+G32 -> 90
A33: 19 | B33: Thương mại điện tử | C33: 5340122 | D33: 6340122 | E33: Kinh doanh | F33: 50 | G33: 75 | H33: =F33+G33 -> 125
A34: 8. CHỈ TIÊU TỔNG CỘNG CỦA NHÓM | H34: =SUM(H32:H33) -> 215
A35: 20 | B35: Quản trị doanh nghiệp vừa và nhỏ | C35: 5340417 | D35: 6340417 | E35: Quản trị - Quản lý | F35: 65 | G35: 160 | H35: =F35+G35 -> 225
A36: 9. CHỈ TIÊU TỔNG CỘNG CỦA NHÓM | H36: =SUM(H35) -> 225
A37: 21 | B37: Tài chính doanh nghiệp | C37: 5340201 | D37: 6340201 | E37: Tài chính - Ngân hàng - Bảo hiểm | F37: 65 | G37: 160 | H37: =F37+G37 -> 225
A38: 10. CHỈ TIÊU TỔNG CỘNG CỦA NHÓM | H38: =SUM(H37) -> 225
A39: 22 | B39: Chế tạo khuôn mẫu | C39: 5520105 | D39: 6520105 | E39: Kỹ thuật cơ khí và cơ kỹ thuật | F39: 30 | G39: 60 | H39: =F39+G39 -> 90
A40: 23 | B40: Lắp đặt thiết bị lạnh | C40: 5520114 | D40: 6520114 | E40: Kỹ thuật cơ khí và cơ kỹ thuật | F40: 75 | G40: 110 | H40: =F40+G40 -> 185
A41: 24 | B41: Cắt gọt kim loại | C41: 5520121 | D41: 6520121 | E41: Kỹ thuật cơ khí và cơ kỹ thuật | F41: 65 | G41: 110 | H41: =F41+G41 -> 175
A42: 25 | B42: Sửa chữa máy tàu thủy | C42: 5520131 | D42: 6520131 | E42: Kỹ thuật cơ khí và cơ kỹ thuật | F42: 35 | G42: 35 | H42: =F42+G42 -> 70
A43: 26 | B43: Sửa chữa máy nâng chuyển | C43: 5520145 | D43: 6520145 | E43: Kỹ thuật cơ khí và cơ kỹ thuật | F43: 50 | G43: 50 | H43: =F43+G43 -> 100
A44: 27 | B44: Bảo trì hệ thống thiết bị công nghiệp | C44: 5520155 | D44: 6520155 | E44: Kỹ thuật cơ khí và cơ kỹ thuật | F44: 65 | G44: 120 | H44: =F44+G44 -> 185
A45: 28 | B45: Cơ khí chế tạo | C45: 5520117 | E45: Kỹ thuật cơ khí và cơ kỹ thuật | F45: 100 | H45: =F45+G45 -> 100
A46: 11. CHỈ TIÊU TỔNG CỘNG CỦA NHÓM | H46: =SUM(H39:H45) -> 905
A47: 29 | B47: Kỹ thuật máy lạnh và điều hòa không khí | C47: 5520205 | D47: 6520205 | E47: Kỹ thuật điện, điện tử và viễn thông | F47: 65 | G47: 125 | H47: =F47+G47 -> 190
A48: 30 | B48: Điện tử công nghiệp | C48: 5520225 | D48: 6520225 | E48: Kỹ thuật điện, điện tử và viễn thông | F48: 115 | G48: 165 | H48: =F48+G48 -> 280
A49: 31 | B49: Điện công nghiệp | C49: 5520227 | D49: 6520227 | E49: Kỹ thuật điện, điện tử và viễn thông | F49: 135 | G49: 230 | H49: =F49+G49 -> 365
A50: 32 | B50: Vận hành, sửa chữa thiết bị lạnh | C50: 5520255 | D50: 6520255 | E50: Kỹ thuật điện, điện tử và viễn thông | F50: 95 | G50: 115 | H50: =F50+G50 -> 210
A51: 33 | B51: Cơ điện tử | C51: 5520263 | D51: 6520263 | E51: Kỹ thuật điện, điện tử và viễn thông | F51: 85 | G51: 170 | H51: =F51+G51 -> 255
A52: 12. CHỈ TIÊU TỔNG CỘNG CỦA NHÓM | H52: =SUM(H47:H51) -> 1300
A53: 34 | B53: Tin học ứng dụng | C53: 5480205 | D53: 6480205 | E53: Công nghệ thông tin | F53: 65 | G53: 75 | H53: =F53+G53 -> 140
A54: 35 | B54: Lập trình máy tính | C54: 5480207 | D54: 6480207 | E54: Công nghệ thông tin | F54: 85 | G54: 150 | H54: =F54+G54 -> 235
A55: 36 | B55: Quản trị mạng máy tính | C55: 5480209 | D55: 6480209 | E55: Công nghệ thông tin | F55: 65 | G55: 150 | H55: =F55+G55 -> 215
A56: 37 | B56: Thiết kế trang Web | C56: 5480214 | D56: 6480214 | E56: Công nghệ thông tin | F56: 65 | G56: 85 | H56: =F56+G56 -> 150
A57: 38 | B57: An ninh mạng | C57: 5480216 | D57: 6480216 | E57: Công nghệ thông tin | F57: 65 | G57: 85 | H57: =F57+G57 -> 150
A58: 13. CHỈ TIÊU TỔNG CỘNG CỦA NHÓM | H58: =SUM(H53:H57) -> 890
A59: 39 | B59: Truyền thông mạng máy tính | C59: 5480104 | D59: 6480104 | E59: Máy tính | F59: 50 | G59: 50 | H59: =F59+G59 -> 100
A60: 40 | B60: Công nghệ kỹ thuật máy tính | D60: 6480105 | E60: Máy tính | G60: 110 | H60: =F60+G60 -> 110
A61: 41 | B61: Công nghệ kỹ thuật phần cứng máy tính | C61: 5480105 | E61: Máy tính | F61: 85 | H61: =F61+G61 -> 85
A62: 42 | B62: Đồ họa đa phương tiện | C62: 5480108 | D62: 6480108 | E62: Máy tính | F62: 50 | G62: 50 | H62: =F62+G62 -> 100
A63: 14. CHỈ TIÊU TỔNG CỘNG CỦA NHÓM | H63: =SUM(H59:H62) -> 395
A64: 43 | B64: Thiết kế đồ họa | C64: 5210402 | D64: 6210402 | E64: Mỹ thuật ứng dụng | F64: 90 | G64: 130 | H64: =F64+G64 -> 220
A65: 15. CHỈ TIÊU TỔNG CỘNG CỦA NHÓM | H65: =SUM(H64) -> 220
A66: 44 | B66: Tiếng Anh | C66: 5220206 | D66: 6220206 | E66: Ngôn ngữ, văn học và văn hóa nước ngoài | F66: 150 | G66: 320 | H66: =F66+G66 -> 470
A67: 45 | B67: Tiếng Hàn quốc | C67: 5220211 | D67: 6220211 | E67: Ngôn ngữ, văn học và văn hóa nước ngoài | F67: 50 | G67: 50 | H67: =F67+G67 -> 100
A68: 46 | B68: Tiếng Nhật | C68: 5220212 | D68: 6220212 | E68: Ngôn ngữ, văn học và văn hóa nước ngoài | F68: 35 | G68: 35 | H68: =F68+G68 -> 70
A69: 16. CHỈ TIÊU TỔNG CỘNG CỦA NHÓM | H69: =SUM(H66:H68) -> 640
A70: 47 | B70: Công nghệ may | C70: 5540204 | D70: 6540204 | E70: Sản xuất, chế biến sợi, vải, giày, da | F70: 100 | G70: 150 | H70: =F70+G70 -> 250
A71: 48 | B71: May thời trang | C71: 5540205 | D71: 6540205 | E71: Sản xuất, chế biến sợi, vải, giày, da | F71: 65 | G71: 150 | H71: =F71+G71 -> 215
A72: 49 | B72: Công nghệ may Veston | C72: 5540207 | D72: 6540207 | E72: Sản xuất, chế biến sợi, vải, giày, da | F72: 45 | G72: 80 | H72: =F72+G72 -> 125
A73: 17. CHỈ TIÊU TỔNG CỘNG CỦA NHÓM | H73: =SUM(H70:H72) -> 590
A74: TỔNG CỘNG | F74: =SUM(F8:F72) -> 3235 | G74: =SUM(G8:G72) -> 5440 | H74: =H73+H69+H65+H63+H58+H52+H46+H38+H36+H34+H31+H29+H27+H25+H20+H17+H12 -> 8675
F75: 45 ngành | G75: 45 ngành | H75: 49 ngành

Sheet 15-16
A1: UBND THÀNH PHỐ HỒ CHÍ MINH | E1: CỘNG HÒA XÃ HỘI CHỦ NGHĨA VIỆT NAM
A2: TRƯỜNG CAO ĐẲNG LÝ TỰ TRỌNG | E2: Độc lập - Tự do - Hạnh phúc
A3: THÀNH PHỐ HỒ CHÍ MINH
A5: TỔNG HỢP NGÀNH NGHỀ ĐÀO TẠO THEO NHÓM MÃ NGÀNH CẤP III THÔNG TƯ 26/2020 CỦA BỘ LAO ĐỘNG - THƯƠNG BINH VÀ XÃ HỘI
A6: TT | B6: TÊN NGÀNH CẤP IV | C6: MÃ NGÀNH/NGHỀ CẤP IV | E6: TÊN NGÀNH CẤP III | F6: Chỉ tiêu tuyển sinh 2015 | H6: TỔNG CỘNG CHỈ TIÊU 2015
C7: Trung cấp | D7: Cao đẳng | F7: Trung cấp | G7: Cao đẳng
A8: 1 | B8: Công nghệ ô tô | C8: 5510216 | D8: 6510216 | E8: Công nghệ kỹ thuật cơ khí | F8: 60 | G8: 35 | H8: =F8+G8 -> 95
A9: 1. CHỈ TIÊU TỔNG CỘNG CỦA NHÓM | F9: =SUM(F8:F8) -> 60 | G9: =SUM(G8:G8) -> 35 | H9: =SUM(H8:H8) -> 95
A10: 2 | B10: Kỹ thuật mạng ngoại vi và thiết bị đầu cuối | C10: 5520217 | D10: 6520217 | E10: Công nghệ kỹ thuật điện, điện tử và viễn thông | F10: 70 | G10: 90 | H10: =F10+G10 -> 160
A11: 2. CHỈ TIÊU TỔNG CỘNG CỦA NHÓM | F11: =SUM(F10:F10) -> 70 | G11: =SUM(G10:G10) -> 90 | H11: =SUM(H10:H10) -> 160
A12: 3 | B12: Kế toán doanh nghiệp | C12: 5340302 | D12: 6340302 | E12: Kế toán - Kiểm toán | F12: 35 | G12: 60 | H12: =F12+G12 -> 95
A13: 3. CHỈ TIÊU TỔNG CỘNG CỦA NHÓM | F13: =SUM(F12) -> 35 | G13: =SUM(G12) -> 60 | H13: =SUM(H12) -> 95
A14: 4 | B14: Quản trị doanh nghiệp vừa và nhỏ | C14: 5340417 | D14: 6340417 | E14: Quản trị - Quản lý | F14: 35 | G14: 60 | H14: =F14+G14 -> 95
A15: 4. CHỈ TIÊU TỔNG CỘNG CỦA NHÓM | F15: =SUM(F14) -> 35 | G15: =SUM(G14) -> 60 | H15: =SUM(H14) -> 95
A16: 5 | B16: Tài chính doanh nghiệp | C16: 5340201 | D16: 6340201 | E16: Tài chính - Ngân hàng - Bảo hiểm | F16: 35 | G16: 60 | H16: =F16+G16 -> 95
A17: 5. CHỈ TIÊU TỔNG CỘNG CỦA NHÓM | F17: =SUM(F16) -> 35 | G17: =SUM(G16) -> 60 | H17: =SUM(H16) -> 95
A18: 6 | B18: Lắp đặt thiết bị lạnh | C18: 5520114 | D18: 6520114 | E18: Kỹ thuật cơ khí và cơ kỹ thuật | F18: 60 | G18: 90 | H18: =F18+G18 -> 150
A19: 7 | B19: Cắt gọt kim loại | C19: 5520121 | D19: 6520121 | E19: Kỹ thuật cơ khí và cơ kỹ thuật | F19: 50 | G19: 70 | H19: =F19+G19 -> 120
A20: 6. CHỈ TIÊU TỔNG CỘNG CỦA NHÓM | F20: =SUM(F18:F19) -> 110 | G20: =SUM(G18:G19) -> 160 | H20: =SUM(H18:H19) -> 270
A21: 8 | B21: Điện tử công nghiệp | C21: 5520225 | D21: 6520225 | E21: Kỹ thuật điện, điện tử và viễn thông | F21: 50 | G21: 90 | H21: =F21+G21 -> 140
A22: 9 | B22: Điện công nghiệp | C22: 5520227 | D22: 6520227 | E22: Kỹ thuật điện, điện tử và viễn thông | F22: 50 | G22: 90 | H22: =F22+G22 -> 140
A23: 10 | B23: Cơ điện tử | C23: 5520263 | D23: 6520263 | E23: Kỹ thuật điện, điện tử và viễn thông | F23: 60 | G23: 105 | H23: =F23+G23 -> 165
A24: 7. CHỈ TIÊU TỔNG CỘNG CỦA NHÓM | F24: =SUM(F21:F23) -> 160 | G24: =SUM(G21:G23) -> 285 | H24: =SUM(H21:H23) -> 445
A25: 11 | B25: Quản trị mạng máy tính | C25: 5480209 | D25: 6480209 | E25: Công nghệ thông tin | F25: 50 | G25: 120 | H25: =F25+G25 -> 170
A26: 8. CHỈ TIÊU TỔNG CỘNG CỦA NHÓM | F26: =SUM(F25:F25) -> 50 | G26: =SUM(G25:G25) -> 120 | H26: =SUM(H25:H25) -> 170
A27: 12 | B27: May thời trang | C27: 5540205 | D27: 6540205 | E27: Sản xuất, chế biến sợi, vải, giày, da | F27: 50 | G27: 90 | H27: =F27+G27 -> 140
A28: 13 | B28: Công nghệ may Veston | C28: 5540207 | D28: 6540207 | E28: Sản xuất, chế biến sợi, vải, giày, da | F28: 35 | G28: 35 | H28: =F28+G28 -> 70
A29: 9. CHỈ TIÊU TỔNG CỘNG CỦA NHÓM | F29: =SUM(F27:F28) -> 85 | G29: =SUM(G27:G28) -> 125 | H29: =SUM(H27:H28) -> 210
A30: 14 | B30: Công nghệ sinh học | C30: 40420201 | D30: 50420201 | E30: Sinh học ứng dụng | F30: 20 | G30: 35 | H30: =F30+G30 -> 55
A31: 10. CHỈ TIÊU TỔNG CỘNG CỦA NHÓM | F31: =F30 -> 20 | G31: =G30 -> 35 | H31: =F31+G31 -> 55
A32: TỔNG CỘNG | F32: =F9+F11+F13+F15+F17+F20+F24+F26+F29+F31 -> 660 | G32: =G9+G11+G13+G15+G17+G20+G24+G26+G29+G31 -> 1030 | H32: =F32+G32 -> 1690
F33: 14 ngành | G33: 14 ngành | H33: 14 ngành

Sheet 17
A1: UBND THÀNH PHỐ HỒ CHÍ MINH | E1: CỘNG HÒA XÃ HỘI CHỦ NGHĨA VIỆT NAM
A2: TRƯỜNG CAO ĐẲNG LÝ TỰ TRỌNG | E2: Độc lập - Tự do - Hạnh phúc
A3: THÀNH PHỐ HỒ CHÍ MINH
A5: TỔNG HỢP NGÀNH NGHỀ ĐÀO TẠO THEO NHÓM MÃ NGÀNH CẤP III THÔNG TƯ 26/2020 CỦA BỘ LAO ĐỘNG - THƯƠNG BINH VÀ XÃ HỘI
A6: TT | B6: TÊN NGÀNH CẤP IV | C6: MÃ NGÀNH/NGHỀ CẤP IV | E6: TÊN NGÀNH CẤP III | F6: Chỉ tiêu tuyển sinh 2017 | H6: TỔNG CỘNG CHỈ TIÊU 2017 | I6: Tuyển sinh 2017
C7: Trung cấp | D7: Cao đẳng | F7: Trung cấp | G7: Cao đẳng | I7: T2 | J7: T4 | K7: C1 | L7: C2 | M7: TỔNG
A8: 1 | B8: Công nghệ kỹ thuật cơ khí | C8: 5510201 | D8: 6510201 | E8: Công nghệ kỹ thuật cơ khí | F8: 35 | G8: 50 | H8: =F8+G8 -> 85 | J8: 103 | K8: 555 | L8: 20 | M8: =SUM(I8:L8) -> 678
A9: 2 | B9: Công nghệ kỹ thuật nhiệt | C9: 5510211 | D9: 6510211 | E9: Công nghệ kỹ thuật cơ khí | F9: 50 | G9: 70 | H9: =F9+G9 -> 120 | J9: 58 | K9: 64 | M9: =SUM(I9:L9) -> 122
A10: 3 | B10: Công nghệ chế tạo máy | D10: 6510212 | E10: Công nghệ kỹ thuật cơ khí | G10: 35 | H10: =F10+G10 -> 35 | K10: 153 | M10: =SUM(I10:L10) -> 153
A11: 4 | B11: Công nghệ chế tạo dụng cụ | C11: 5510212 | E11: Công nghệ kỹ thuật cơ khí | F11: 35 | H11: =F11+G11 -> 35 | M11: =SUM(I11:L11) -> 0
A12: 5 | B12: Công nghệ ô tô | C12: 5510216 | D12: 6510216 | E12: Công nghệ kỹ thuật cơ khí | F12: 50 | G12: 150 | H12: =F12+G12 -> 200 | J12: 229 | K12: 927 | L12: 21 | M12: =SUM(I12:L12) -> 1177
A13: 1. CHỈ TIÊU TỔNG CỘNG CỦA NHÓM | F13: =SUM(F8:F12) -> 170 | G13: =SUM(G8:G12) -> 305 | H13: =SUM(H8:H12) -> 475 | I13: =SUM(I8:I12) -> 0 | J13: =SUM(J8:J12) -> 390 | K13: =SUM(K8:K12) -> 1699 | L13: =SUM(L8:L12) -> 41 | M13: =SUM(M8:M12) -> 2130
A14: 6 | B14: Công nghệ kỹ thuật điện, điện tử | C14: 5510303 | D14: 6510303 | E14: Công nghệ kỹ thuật điện, điện tử và viễn thông | F14: 30 | G14: 50 | H14: =F14+G14 -> 80 | J14: 65 | K14: 245 | L14: 29 | M14: =SUM(I14:L14) -> 339
A15: 7 | B15: Công nghệ kỹ thuật điều khiển và tự động hóa | D15: 6510305 | E15: Công nghệ kỹ thuật điện, điện tử và viễn thông | G15: 30 | H15: =F15+G15 -> 30 | K15: 68 | M15: =SUM(I15:L15) -> 68
A16: 8 | B16: Công nghệ kỹ thuật điều khiển tự động | C16: 5510305 | E16: Công nghệ kỹ thuật điện, điện tử và viễn thông | F16: 30 | H16: =F16+G16 -> 30 | M16: =SUM(I16:L16) -> 0
A17: 9 | B17: Kỹ thuật mạng ngoại vi và thiết bị đầu cuối | C17: 5520217 | D17: 6520217 | E17: Công nghệ kỹ thuật điện, điện tử và viễn thông | F17: 70 | G17: 50 | H17: =F17+G17 -> 120 | M17: =SUM(I17:L17) -> 0
A18: 2. CHỈ TIÊU TỔNG CỘNG CỦA NHÓM | F18: =SUM(F14:F17) -> 130 | G18: =SUM(G14:G17) -> 130 | H18: =SUM(H14:H17) -> 260 | I18: =SUM(I14:I17) -> 0 | J18: =SUM(J14:J17) -> 65 | K18: =SUM(K14:K17) -> 313 | L18: =SUM(L14:L17) -> 29 | M18: =SUM(M14:M17) -> 407
A19: 10 | B19: Kế toán doanh nghiệp | C19: 5340302 | D19: 6340302 | E19: Kế toán - Kiểm toán | F19: 35 | G19: 70 | H19: =F19+G19 -> 105 | J19: 57 | K19: 67 | M19: =SUM(I19:L19) -> 124
A20: 7. CHỈ TIÊU TỔNG CỘNG CỦA NHÓM | F20: =SUM(F19) -> 35 | G20: =SUM(G19) -> 70 | H20: =SUM(H19) -> 105 | I20: =SUM(I19) -> 0 | J20: =SUM(J19) -> 57 | K20: =SUM(K19) -> 67 | L20: =SUM(L19) -> 0 | M20: =M19 -> 124
A21: 11 | B21: Quản trị doanh nghiệp vừa và nhỏ | C21: 5340417 | D21: 6340417 | E21: Quản trị - Quản lý | F21: 35 | G21: 70 | H21: =F21+G21 -> 105 | J21: 73 | K21: 71 | M21: =SUM(I21:L21) -> 144
A22: 9. CHỈ TIÊU TỔNG CỘNG CỦA NHÓM | F22: =SUM(F21) -> 35 | G22: =SUM(G21) -> 70 | H22: =SUM(H21) -> 105 | I22: =SUM(I21) -> 0 | J22: =SUM(J21) -> 73 | K22: =SUM(K21) -> 71 | L22: =SUM(L21) -> 0 | M22: =M21 -> 144
A23: 12 | B23: Tài chính doanh nghiệp | C23: 5340201 | D23: 6340201 | E23: Tài chính - Ngân hàng - Bảo hiểm | F23: 35 | G23: 70 | H23: =F23+G23 -> 105 | M23: =SUM(I23:L23) -> 0
A24: 10. CHỈ TIÊU TỔNG CỘNG CỦA NHÓM | F24: =SUM(F23) -> 35 | G24: =SUM(G23) -> 70 | H24: =SUM(H23) -> 105 | I24: =SUM(I23) -> 0 | M24: =M23 -> 0
A25: 13 | B25: Lắp đặt thiết bị lạnh | C25: 5520114 | D25: 6520114 | E25: Kỹ thuật cơ khí và cơ kỹ thuật | F25: 60 | G25: 50 | H25: =F25+G25 -> 110 | J25: 85 | M25: =SUM(I25:L25) -> 85
A26: 14 | B26: Cắt gọt kim loại | C26: 5520121 | D26: 6520121 | E26: Kỹ thuật cơ khí và cơ kỹ thuật | F26: 50 | G26: 50 | H26: =F26+G26 -> 100 | J26: 37 | K26: 22 | M26: =SUM(I26:L26) -> 59
A27: 15 | B27: Bảo trì hệ thống thiết bị công nghiệp | C27: 5520155 | D27: 6520155 | E27: Kỹ thuật cơ khí và cơ kỹ thuật | F27: 35 | G27: 35 | H27: =F27+G27 -> 70 | K27: 44 | M27: =SUM(I27:L27) -> 44
A28: 11. CHỈ TIÊU TỔNG CỘNG CỦA NHÓM | F28: =SUM(F25:F27) -> 145 | G28: =SUM(G25:G27) -> 135 | H28: =SUM(H25:H27) -> 280 | I28: =SUM(I25:I27) -> 0 | J28: =SUM(J25:J27) -> 122 | K28: =SUM(K25:K27) -> 66 | L28: =SUM(L25:L27) -> 0 | M28: =SUM(M25:M27) -> 188
A29: 16 | B29: Kỹ thuật máy lạnh và điều hòa không khí | C29: 5520205 | D29: 6520205 | E29: Kỹ thuật điện, điện tử và viễn thông | H29: =F29+G29 -> 0 | K29: 107 | M29: =SUM(I29:L29) -> 107
A30: 17 | B30: Điện tử công nghiệp | C30: 5520225 | D30: 6520225 | E30: Kỹ thuật điện, điện tử và viễn thông | F30: 50 | G30: 50 | H30: =F30+G30 -> 100 | J30: 44 | K30: 38 | M30: =SUM(I30:L30) -> 82
A31: 18 | B31: Điện công nghiệp | C31: 5520227 | D31: 6520227 | E31: Kỹ thuật điện, điện tử và viễn thông | F31: 50 | G31: 50 | H31: =F31+G31 -> 100 | I31: 32 | J31: 86 | K31: 273 | M31: =SUM(I31:L31) -> 391
A32: 19 | B32: Vận hành, sửa chữa thiết bị lạnh | C32: 5520255 | D32: 6520255 | E32: Kỹ thuật điện, điện tử và viễn thông | H32: =F32+G32 -> 0 | K32: 115 | M32: =SUM(I32:L32) -> 115
A33: 20 | B33: Cơ điện tử | C33: 5520263 | D33: 6520263 | E33: Kỹ thuật điện, điện tử và viễn thông | F33: 70 | G33: 50 | H33: =F33+G33 -> 120 | K33: 72 | M33: =SUM(I33:L33) -> 72
A34: 12. CHỈ TIÊU TỔNG CỘNG CỦA NHÓM | F34: =SUM(F29:F33) -> 170 | G34: =SUM(G29:G33) -> 150 | H34: =SUM(H29:H33) -> 320 | I34: =SUM(I29:I33) -> 32 | J34: =SUM(J29:J33) -> 130 | K34: =SUM(K29:K33) -> 605 | L34: =SUM(L29:L33) -> 0 | M34: =SUM(M29:M33) -> 767
A35: 21 | B35: Tin học ứng dụng | C35: 5480205 | D35: 6480205 | E35: Công nghệ thông tin | F35: 30 | G35: 35 | H35: =F35+G35 -> 65 | J35: 78 | K35: 39 | M35: =SUM(I35:L35) -> 117
A36: 22 | B36: Lập trình máy tính | C36: 5480207 | D36: 6480207 | E36: Công nghệ thông tin | F36: 50 | G36: 35 | H36: =F36+G36 -> 85 | J36: 71 | K36: 106 | M36: =SUM(I36:L36) -> 177
A37: 23 | B37: Quản trị mạng máy tính | C37: 5480209 | D37: 6480209 | E37: Công nghệ thông tin | F37: 50 | G37: 70 | H37: =F37+G37 -> 120 | I37: 45 | J37: 88 | K37: 70 | L37: 13 | M37: =SUM(I37:L37) -> 216
A38: 24 | B38: Thiết kế trang Web | C38: 5480214 | D38: 6480214 | E38: Công nghệ thông tin | F38: 30 | G38: 35 | H38: =F38+G38 -> 65 | J38: 31 | K38: 41 | M38: =SUM(I38:L38) -> 72
A39: 25 | B39: An ninh mạng | C39: 5480216 | D39: 6480216 | E39: Công nghệ thông tin | F39: 30 | G39: 35 | H39: =F39+G39 -> 65 | K39: 26 | M39: =SUM(I39:L39) -> 26
A40: 13. CHỈ TIÊU TỔNG CỘNG CỦA NHÓM | F40: =SUM(F35:F39) -> 190 | G40: =SUM(G35:G39) -> 210 | H40: =SUM(H35:H39) -> 400 | I40: =SUM(I35:I39) -> 45 | J40: =SUM(J35:J39) -> 268 | K40: =SUM(K35:K39) -> 282 | L40: =SUM(L35:L39) -> 13 | M40: =SUM(M35:M39) -> 608
A41: 26 | B41: Công nghệ kỹ thuật máy tính | D41: 6480105 | E41: Máy tính | G41: 35 | H41: =F41+G41 -> 35 | K41: 110 | M41: =SUM(I41:L41) -> 110
A42: 27 | B42: Công nghệ kỹ thuật phần cứng máy tính | C42: 5480105 | E42: Máy tính | F42: 30 | H42: =F42+G42 -> 30 | J42: 54 | M42: =SUM(I42:L42) -> 54
A43: 14. CHỈ TIÊU TỔNG CỘNG CỦA NHÓM | F43: =SUM(F41:F42) -> 30 | G43: =SUM(G41:G42) -> 35 | H43: =SUM(H41:H42) -> 65 | I43: =SUM(I41:I42) -> 0 | J43: =SUM(J41:J42) -> 54 | K43: =SUM(K41:K42) -> 110 | L43: =SUM(L41:L42) -> 0 | M43: =SUM(M41:M42) -> 164
A44: 28 | B44: Tiếng Anh | C44: 5220206 | D44: 6220206 | E44: Ngôn ngữ, văn học và văn hóa nước ngoài | F44: 50 | G44: 120 | H44: =F44+G44 -> 170 | J44: 96 | K44: 104 | M44: =SUM(I44:L44) -> 200
A45: 16. CHỈ TIÊU TỔNG CỘNG CỦA NHÓM | F45: =SUM(F44) -> 50 | G45: =SUM(G44) -> 120 | H45: =SUM(H44) -> 170 | I45: =SUM(I44) -> 0 | J45: =SUM(J44) -> 96 | K45: =SUM(K44) -> 104 | L45: =SUM(L44) -> 0 | M45: =M44 -> 200
A46: 29 | B46: Công nghệ may | D46: 6540204 | E46: Sản xuất, chế biến sợi, vải, giày, da | G46: 70 | H46: =F46+G46 -> 70 | K46: 116 | M46: =SUM(I46:L46) -> 116
A47: 30 | B47: Công nghệ may và thời trang | C47: 5540204 | E47: Sản xuất, chế biến sợi, vải, giày, da | F47: 50 | H47: =F47+G47 -> 50 | J47: 49 | M47: =SUM(I47:L47) -> 49
A48: 31 | B48: May thời trang | C48: 5540205 | D48: 6540205 | E48: Sản xuất, chế biến sợi, vải, giày, da | F48: 50 | G48: 50 | H48: =F48+G48 -> 100 | M48: =SUM(I48:L48) -> 0
A49: 32 | B49: Công nghệ may Veston | C49: 5540207 | D49: 6540207 | E49: Sản xuất, chế biến sợi, vải, giày, da | F49: 35 | G49: 35 | H49: =F49+G49 -> 70 | M49: =SUM(I49:L49) -> 0
A50: 17. CHỈ TIÊU TỔNG CỘNG CỦA NHÓM | F50: =SUM(F46:F49) -> 135 | G50: =SUM(G46:G49) -> 155 | H50: =SUM(H46:H49) -> 290 | I50: =SUM(I46:I49) -> 0 | J50: =SUM(J46:J49) -> 49 | K50: =SUM(K46:K49) -> 116 | L50: =SUM(L46:L49) -> 0 | M50: =SUM(M46:M49) -> 165
A51: TỔNG CỘNG | F51: =F50+F45+F43+F40+F34+F28+F24+F22+F20+F18+F13 -> 1125 | G51: =G50+G45+G43+G40+G34+G28+G24+G22+G20+G18+G13 -> 1450 | H51: =H50+H45+H43+H40+H34+H28+H24+H22+H20+H18+H13 -> 2575 | I51: =I13+I18+I20+I22+I24+I28+I34+I40+I43+I45+I50 -> 77 | J51: =J13+J18+J20+J22+J24+J28+J34+J40+J43+J45+J50 -> 1304 | K51: =K13+K18+K20+K22+K24+K28+K34+K40+K43+K45+K50 -> 3433 | L51: =L13+L18+L20+L22+L24+L28+L34+L40+L43+L45+L50 -> 83 | M51: =M13+M18+M20+M22+M24+M28+M34+M40+M43+M45+M50 -> 4897
F52: 26 ngành | G52: 26 ngành | H52: 32 ngành | I52: Trung cấp: 1381 | K52: Cao đẳng: 3516
J55: =378+33 -> 411

Sheet 18
A1: ỦY BAN NHÂN DÂN THÀNH PHỐ HỒ CHÍ MINH | H1: CỘNG HÒA XÃ HỘI CHỦ NGHĨA VIỆT NAM
A2: TRƯỜNG CAO ĐẲNG LÝ TỰ TRỌNG THÀNH PHỐ HỒ CHÍ MINH | H2: Độc lập - Tự do - Hạnh phúc
A4: THỐNG KÊ TUYỂN SINH NĂM 2018
A5: TT | B5: TÊN NGÀNH CẤP IV | C5: MÃ NGÀNH/NGHỀ CẤP IV | E5: TÊN NGÀNH CẤP III | F5: Chỉ tiêu tuyển sinh 2018 | H5: TỔNG CỘNG CHỈ TIÊU 2018 | I5: Tuyển sinh 2018
C6: Trung cấp | D6: Cao đẳng | F6: Trung cấp | G6: Cao đẳng | I6: T2 | J6: T4 | K6: T5 | L6: T6 | M6: T7 | N6: C1 | O6: C2 | P6: TỔNG | Q6: TC | R6: CĐ
A7: 1 | B7: Công nghệ kỹ thuật cơ khí | C7: 5510201 | D7: 6510201 | E7: Công nghệ kỹ thuật cơ khí | F7: 50 | G7: 180 | H7: =F7+G7 -> 230 | J7: 77 | N7: 548 | O7: 17 | P7: =SUM(I7:O7) -> 642 | Q7: =SUM(I7:M7) -> 77 | R7: =SUM(N7:O7) -> 565
A8: 2 | B8: Công nghệ kỹ thuật nhiệt | C8: 5510211 | D8: 6510211 | E8: Công nghệ kỹ thuật cơ khí | F8: 50 | G8: 120 | H8: =F8+G8 -> 170 | N8: 66 | O8: 18 | P8: =SUM(I8:O8) -> 84 | Q8: =SUM(I8:M8) -> 0 | R8: =SUM(N8:O8) -> 84
A9: 3 | B9: Công nghệ chế tạo máy | D9: 6510212 | E9: Công nghệ kỹ thuật cơ khí | G9: 110 | H9: =F9+G9 -> 110 | N9: 85 | P9: =SUM(I9:O9) -> 85 | Q9: =SUM(I9:M9) -> 0 | R9: =SUM(N9:O9) -> 85
A10: 4 | B10: Công nghệ chế tạo dụng cụ | C10: 5510212 | E10: Công nghệ kỹ thuật cơ khí | F10: 80 | H10: =F10+G10 -> 80 | Q10: =SUM(I10:M10) -> 0 | R10: =SUM(N10:O10) -> 0
A11: 5 | B11: Công nghệ ô tô | C11: 5510216 | D11: 6510216 | E11: Công nghệ kỹ thuật cơ khí | F11: 145 | G11: 400 | H11: =F11+G11 -> 545 | I11: 72 | J11: 330 | N11: 1128 | O11: 46 | P11: =SUM(I11:O11) -> 1576 | Q11: =SUM(I11:M11) -> 402 | R11: =SUM(N11:O11) -> 1174
A12: 1. CHỈ TIÊU TỔNG CỘNG CỦA NHÓM | F12: =SUM(F7:F11) -> 325 | G12: =SUM(G7:G11) -> 810 | H12: =SUM(H7:H11) -> 1135 | I12: =SUM(I7:I11) -> 72 | J12: =SUM(J7:J11) -> 407 | K12: =SUM(K7:K11) -> 0 | L12: =SUM(L7:L11) -> 0 | M12: =SUM(M7:M11) -> 0 | ... P12: =SUM(P7:P11) -> 2387 | Q12: =SUM(I12:M12) -> 479 | R12: =SUM(N12:O12) -> 1908
A13: 6 | B13: Công nghệ kỹ thuật điện, điện tử | C13: 5510303 | D13: 6510303 | E13: Công nghệ kỹ thuật điện, điện tử và viễn thông | F13: 55 | G13: 130 | H13: =F13+G13 -> 185 | J13: 58 | N13: 201 | O13: 70 | P13: =SUM(I13:O13) -> 329 | Q13: =SUM(I13:M13) -> 58 | R13: =SUM(N13:O13) -> 271
A14: 7 | B14: Công nghệ kỹ thuật điều khiển và tự động hóa | D14: 6510305 | E14: Công nghệ kỹ thuật điện, điện tử và viễn thông | G14: 95 | H14: =F14+G14 -> 95 | N14: 102 | P14: =SUM(I14:O14) -> 102 | Q14: =SUM(I14:M14) -> 0 | R14: =SUM(N14:O14) -> 102
A15: 8 | B15: Công nghệ kỹ thuật điều khiển tự động | C15: 5510305 | E15: Công nghệ kỹ thuật điện, điện tử và viễn thông | F15: 55 | H15: =F15+G15 -> 55 | P15: =SUM(I15:O15) -> 0 | Q15: =SUM(I15:M15) -> 0 | R15: =SUM(N15:O15) -> 0
A16: 9 | B16: Kỹ thuật mạng ngoại vi và thiết bị đầu cuối | C16: 5520217 | D16: 6520217 | E16: Công nghệ kỹ thuật điện, điện tử và viễn thông | F16: 70 | G16: 90 | H16: =F16+G16 -> 160 | Q16: =SUM(I16:M16) -> 0 | R16: =SUM(N16:O16) -> 0
A17: 2. CHỈ TIÊU TỔNG CỘNG CỦA NHÓM | F17: =SUM(F13:F16) -> 180 | G17: =SUM(G13:G16) -> 315 | H17: =SUM(H13:H16) -> 495 | I17: =SUM(I13:I16) -> 0 | J17: =SUM(J13:J16) -> 58 | K17: =SUM(K13:K16) -> 0 | L17: =SUM(L13:L16) -> 0 | M17: =SUM(M13:M16) -> 0 | ... P17: =SUM(P13:P16) -> 431 | Q17: =SUM(I17:M17) -> 58 | R17: =SUM(N17:O17) -> 373
A18: 10 | B18: Kỹ thuật xây dựng | C18: 5580201 | D18: 6580201 | E18: Xây dựng | F18: 30 | G18: 30 | H18: =F18+G18 -> 60 | J18: 24 | N18: 68 | P18: =SUM(I18:O18) -> 92 | Q18: =SUM(I18:M18) -> 24 | R18: =SUM(N18:O18) -> 68
A19: 3. CHỈ TIÊU TỔNG CỘNG CỦA NHÓM | F19: =SUM(F18) -> 30 | G19: =SUM(G18) -> 30 | H19: =SUM(H18) -> 60 | I19: =SUM(I18) -> 0 | J19: =SUM(J18) -> 24 | K19: =SUM(K18) -> 0 | L19: =SUM(L18) -> 0 | M19: =SUM(M18) -> 0 | ... O19: =SUM(O18) -> 0 | P19: =P18 -> 92 | Q19: =SUM(I19:M19) -> 24 | R19: =SUM(N19:O19) -> 68
A20: 11 | B20: Kế toán doanh nghiệp | C20: 5340302 | D20: 6340302 | E20: Kế toán - Kiểm toán | F20: 50 | G20: 130 | H20: =F20+G20 -> 180 | J20: 69 | N20: 102 | O20: 13 | P20: =SUM(I20:O20) -> 184 | Q20: =SUM(I20:M20) -> 69 | R20: =SUM(N20:O20) -> 115
A21: 4. CHỈ TIÊU TỔNG CỘNG CỦA NHÓM | F21: =SUM(F20) -> 50 | G21: =SUM(G20) -> 130 | H21: =SUM(H20) -> 180 | I21: =SUM(I20) -> 0 | J21: =SUM(J20) -> 69 | K21: =SUM(K20) -> 0 | L21: =SUM(L20) -> 0 | M21: =SUM(M20) -> 0 | ... O21: =SUM(O20) -> 13 | P21: =P20 -> 184 | Q21: =SUM(I21:M21) -> 69 | R21: =SUM(N21:O21) -> 115
A22: 12 | B22: Thương mại điện tử | C22: 5340122 | D22: 6340122 | E22: Kinh doanh | F22: 40 | G22: 60 | H22: =F22+G22 -> 100 | N22: 17 | P22: =SUM(I22:O22) -> 17 | Q22: =SUM(I22:M22) -> 0 | R22: =SUM(N22:O22) -> 17
A23: 5. CHỈ TIÊU TỔNG CỘNG CỦA NHÓM | F23: =SUM(F22:F22) -> 40 | G23: =SUM(G22:G22) -> 60 | H23: =SUM(H22:H22) -> 100 | I23: =SUM(I22:I22) -> 0 | J23: =SUM(J22:J22) -> 0 | K23: =SUM(K22:K22) -> 0 | L23: =SUM(L22:L22) -> 0 | M23: =SUM(M22:M22) -> 0 | ... P23: =SUM(P22:P22) -> 17 | Q23: =SUM(I23:M23) -> 0 | R23: =SUM(N23:O23) -> 17
A24: 13 | B24: Quản trị doanh nghiệp vừa và nhỏ | C24: 5340417 | D24: 6340417 | E24: Quản trị - Quản lý | F24: 50 | G24: 130 | H24: =F24+G24 -> 180 | J24: 102 | N24: 96 | P24: =SUM(I24:O24) -> 198 | Q24: =SUM(I24:M24) -> 102 | R24: =SUM(N24:O24) -> 96
A25: 6. CHỈ TIÊU TỔNG CỘNG CỦA NHÓM | F25: =SUM(F24) -> 50 | G25: =SUM(G24) -> 130 | H25: =SUM(H24) -> 180 | I25: =SUM(I24) -> 0 | J25: =SUM(J24) -> 102 | K25: =SUM(K24) -> 0 | L25: =SUM(L24) -> 0 | M25: =SUM(M24) -> 0 | ... O25: =SUM(O24) -> 0 | P25: =P24 -> 198 | Q25: =SUM(I25:M25) -> 102 | R25: =SUM(N25:O25) -> 96
A26: 14 | B26: Tài chính doanh nghiệp | C26: 5340201 | D26: 6340201 | E26: Tài chính - Ngân hàng - Bảo hiểm | F26: 50 | G26: 130 | H26: =F26+G26 -> 180 | J26: 19 | P26: =SUM(I26:O26) -> 19 | Q26: =SUM(I26:M26) -> 19 | R26: =SUM(N26:O26) -> 0
A27: 7. CHỈ TIÊU TỔNG CỘNG CỦA NHÓM | F27: =SUM(F26) -> 50 | G27: =SUM(G26) -> 130 | H27: =SUM(H26) -> 180 | I27: =SUM(I26) -> 0 | J27: =SUM(J26) -> 19 | K27: =SUM(K26) -> 0 | L27: =SUM(L26) -> 0 | M27: =SUM(M26) -> 0 | N27: =SUM(N26) -> 0 | P27: =P26 -> 19 | Q27: =SUM(I27:M27) -> 19 | R27: =SUM(N27:O27) -> 0
A28: 15 | B28: Lắp đặt thiết bị lạnh | C28: 5520114 | D28: 6520114 | E28: Kỹ thuật cơ khí và cơ kỹ thuật | F28: 60 | G28: 90 | H28: =F28+G28 -> 150 | P28: =SUM(I28:O28) -> 0 | Q28: =SUM(I28:M28) -> 0 | R28: =SUM(N28:O28) -> 0
A29: 16 | B29: Cắt gọt kim loại | C29: 5520121 | D29: 6520121 | E29: Kỹ thuật cơ khí và cơ kỹ thuật | F29: 50 | G29: 90 | H29: =F29+G29 -> 140 | N29: 40 | P29: =SUM(I29:O29) -> 40 | Q29: =SUM(I29:M29) -> 0 | R29: =SUM(N29:O29) -> 40
A30: 17 | B30: Bảo trì hệ thống thiết bị công nghiệp | C30: 5520155 | D30: 6520155 | E30: Kỹ thuật cơ khí và cơ kỹ thuật | F30: 50 | G30: 95 | H30: =F30+G30 -> 145 | N30: 38 | P30: =SUM(I30:O30) -> 38 | Q30: =SUM(I30:M30) -> 0 | R30: =SUM(N30:O30) -> 38
A31: 18 | B31: Cơ khí chế tạo | C31: 5520117 | E31: Kỹ thuật cơ khí và cơ kỹ thuật | F31: 80 | H31: =F31+G31 -> 80 | J31: 48 | P31: =SUM(I31:O31) -> 48 | Q31: =SUM(I31:M31) -> 48 | R31: =SUM(N31:O31) -> 0
A32: 8. CHỈ TIÊU TỔNG CỘNG CỦA NHÓM | F32: =SUM(F28:F31) -> 240 | G32: =SUM(G28:G31) -> 275 | H32: =SUM(H28:H31) -> 515 | I32: =SUM(I28:I31) -> 0 | J32: =SUM(J28:J31) -> 48 | K32: =SUM(K28:K31) -> 0 | L32: =SUM(L28:L31) -> 0 | M32: =SUM(M28:M31) -> 0 | ... P32: =SUM(P28:P31) -> 126 | Q32: =SUM(I32:M32) -> 48 | R32: =SUM(N32:O32) -> 78
A33: 19 | B33: Kỹ thuật máy lạnh và điều hòa không khí | C33: 5520205 | D33: 6520205 | E33: Kỹ thuật điện, điện tử và viễn thông | F33: 50 | G33: 75 | H33: =F33+G33 -> 125 | J33: 46 | N33: 109 | P33: =SUM(I33:O33) -> 155 | Q33: =SUM(I33:M33) -> 46 | R33: =SUM(N33:O33) -> 109
A34: 20 | B34: Điện tử công nghiệp | C34: 5520225 | D34: 6520225 | E34: Kỹ thuật điện, điện tử và viễn thông | F34: 90 | G34: 130 | H34: =F34+G34 -> 220 | P34: =SUM(I34:O34) -> 0 | Q34: =SUM(I34:M34) -> 0 | R34: =SUM(N34:O34) -> 0
A35: 21 | B35: Điện công nghiệp | C35: 5520227 | D35: 6520227 | E35: Kỹ thuật điện, điện tử và viễn thông | F35: 95 | G35: 150 | H35: =F35+G35 -> 245 | J35: 73 | K35: 23 | L35: 8 | M35: 43 | N35: 250 | P35: =SUM(I35:O35) -> 397 | Q35: =SUM(I35:M35) -> 147 | R35: =SUM(N35:O35) -> 250
A36: 22 | B36: Vận hành, sửa chữa thiết bị lạnh | C36: 5520255 | D36: 6520255 | E36: Kỹ thuật điện, điện tử và viễn thông | F36: 55 | G36: 75 | H36: =F36+G36 -> 130 | J36: 131 | N36: 178 | P36: =SUM(I36:O36) -> 309 | Q36: =SUM(I36:M36) -> 131 | R36: =SUM(N36:O36) -> 178
A37: 23 | B37: Cơ điện tử | C37: 5520263 | D37: 6520263 | E37: Kỹ thuật điện, điện tử và viễn thông | F37: 70 | G37: 135 | H37: =F37+G37 -> 205 | J37: 47 | N37: 117 | P37: =SUM(I37:O37) -> 164 | Q37: =SUM(I37:M37) -> 47 | R37: =SUM(N37:O37) -> 117
A38: 9. CHỈ TIÊU TỔNG CỘNG CỦA NHÓM | F38: =SUM(F33:F37) -> 360 | G38: =SUM(G33:G37) -> 565 | H38: =SUM(H33:H37) -> 925 | I38: =SUM(I33:I37) -> 0 | J38: =SUM(J33:J37) -> 297 | K38: =SUM(K33:K37) -> 23 | L38: =SUM(L33:L37) -> 8 | M38: =SUM(M33:M37) -> 43 | ... P38: =SUM(P33:P37) -> 1025 | Q38: =SUM(I38:M38) -> 371 | R38: =SUM(N38:O38) -> 654
A39: 24 | B39: Tin học ứng dụng | C39: 5480205 | D39: 6480205 | E39: Công nghệ thông tin | F39: 50 | G39: 60 | H39: =F39+G39 -> 110 | J39: 75 | N39: 32 | P39: =SUM(I39:O39) -> 107 | Q39: =SUM(I39:M39) -> 75 | R39: =SUM(N39:O39) -> 32
A40: 25 | B40: Lập trình máy tính | C40: 5480207 | D40: 6480207 | E40: Công nghệ thông tin | F40: 50 | G40: 80 | H40: =F40+G40 -> 130 | J40: 87 | N40: 112 | P40: =SUM(I40:O40) -> 199 | Q40: =SUM(I40:M40) -> 87 | R40: =SUM(N40:O40) -> 112
A41: 26 | B41: Quản trị mạng máy tính | C41: 5480209 | D41: 6480209 | E41: Công nghệ thông tin | F41: 50 | G41: 120 | H41: =F41+G41 -> 170 | J41: 60 | N41: 64 | O41: 45 | P41: =SUM(I41:O41) -> 169 | Q41: =SUM(I41:M41) -> 60 | R41: =SUM(N41:O41) -> 109
A42: 27 | B42: Thiết kế trang Web | C42: 5480214 | D42: 6480214 | E42: Công nghệ thông tin | F42: 50 | G42: 70 | H42: =F42+G42 -> 120 | J42: 47 | P42: =SUM(I42:O42) -> 47 | Q42: =SUM(I42:M42) -> 47 | R42: =SUM(N42:O42) -> 0
A43: 28 | B43: An ninh mạng | C43: 5480216 | D43: 6480216 | E43: Công nghệ thông tin | F43: 50 | G43: 70 | H43: =F43+G43 -> 120 | J43: 39 | P43: =SUM(I43:O43) -> 39 | Q43: =SUM(I43:M43) -> 39 | R43: =SUM(N43:O43) -> 0
A44: 10. CHỈ TIÊU TỔNG CỘNG CỦA NHÓM | F44: =SUM(F39:F43) -> 250 | G44: =SUM(G39:G43) -> 400 | H44: =SUM(H39:H43) -> 650 | I44: =SUM(I39:I43) -> 0 | J44: =SUM(J39:J43) -> 308 | K44: =SUM(K39:K43) -> 0 | L44: =SUM(L39:L43) -> 0 | M44: =SUM(M39:M43) -> 0 | ... P44: =SUM(P39:P43) -> 561 | Q44: =SUM(I44:M44) -> 308 | R44: =SUM(N44:O44) -> 253
A45: 29 | B45: Công nghệ kỹ thuật máy tính | D45: 6480105 | E45: Máy tính | G45: 90 | H45: =F45+G45 -> 90 | N45: 79 | P45: =SUM(I45:O45) -> 79 | Q45: =SUM(I45:M45) -> 0 | R45: =SUM(N45:O45) -> 79
A46: 30 | B46: Công nghệ kỹ thuật phần cứng máy tính | C46: 5480105 | E46: Máy tính | F46: 70 | H46: =F46+G46 -> 70 | J46: 72 | P46: =SUM(I46:O46) -> 72 | Q46: =SUM(I46:M46) -> 72 | R46: =SUM(N46:O46) -> 0
A47: 11. CHỈ TIÊU TỔNG CỘNG CỦA NHÓM | F47: =SUM(F45:F46) -> 70 | G47: =SUM(G45:G46) -> 90 | H47: =SUM(H45:H46) -> 160 | I47: =SUM(I45:I46) -> 0 | J47: =SUM(J45:J46) -> 72 | K47: =SUM(K45:K46) -> 0 | L47: =SUM(L45:L46) -> 0 | M47: =SUM(M45:M46) -> 0 | ... P47: =SUM(P45:P46) -> 151 | Q47: =SUM(I47:M47) -> 72 | R47: =SUM(N47:O47) -> 79
A48: 31 | B48: Thiết kế đồ họa | C48: 5210402 | D48: 6210402 | E48: Mỹ thuật ứng dụng | F48: 55 | G48: 60 | H48: =F48+G48 -> 115 | J48: 92 | N48: 71 | P48: =SUM(I48:O48) -> 163 | Q48: =SUM(I48:M48) -> 92 | R48: =SUM(N48:O48) -> 71
A49: 12. CHỈ TIÊU TỔNG CỘNG CỦA NHÓM | F49: =SUM(F48) -> 55 | G49: =SUM(G48) -> 60 | H49: =SUM(H48) -> 115 | I49: =SUM(I48) -> 0 | J49: =SUM(J48) -> 92 | K49: =SUM(K48) -> 0 | L49: =SUM(L48) -> 0 | M49: =SUM(M48) -> 0 | ... O49: =SUM(O48) -> 0 | P49: =P48 -> 163 | Q49: =SUM(I49:M49) -> 92 | R49: =SUM(N49:O49) -> 71
A50: 32 | B50: Tiếng Anh | C50: 5220206 | D50: 6220206 | E50: Ngôn ngữ, văn học và văn hóa nước ngoài | F50: 110 | G50: 200 | H50: =F50+G50 -> 310 | J50: 179 | N50: 95 | P50: =SUM(I50:O50) -> 274 | Q50: =SUM(I50:M50) -> 179 | R50: =SUM(N50:O50) -> 95
A51: 13. CHỈ TIÊU TỔNG CỘNG CỦA NHÓM | F51: =SUM(F50) -> 110 | G51: =SUM(G50) -> 200 | H51: =SUM(H50) -> 310 | I51: =SUM(I50) -> 0 | J51: =SUM(J50) -> 179 | K51: =SUM(K50) -> 0 | L51: =SUM(L50) -> 0 | M51: =SUM(M50) -> 0 | ... O51: =SUM(O50) -> 0 | P51: =P50 -> 274 | Q51: =SUM(I51:M51) -> 179 | R51: =SUM(N51:O51) -> 95
A52: 33 | B52: Công nghệ may | D52: 6540204 | E52: Sản xuất, chế biến sợi, vải, giày, da | G52: 120 | H52: =F52+G52 -> 120 | N52: 74 | O52: 9 | P52: =SUM(I52:O52) -> 83 | Q52: =SUM(I52:M52) -> 0 | R52: =SUM(N52:O52) -> 83
A53: 34 | B53: Công nghệ may và thời trang | C53: 5540204 | E53: Sản xuất, chế biến sợi, vải, giày, da | F53: 80 | H53: =F53+G53 -> 80 | J53: 63 | P53: =SUM(I53:O53) -> 63 | Q53: =SUM(I53:M53) -> 63 | R53: =SUM(N53:O53) -> 0
A54: 35 | B54: May thời trang | C54: 5540205 | D54: 6540205 | E54: Sản xuất, chế biến sợi, vải, giày, da | F54: 50 | G54: 120 | H54: =F54+G54 -> 170 | P54: =SUM(I54:O54) -> 0 | Q54: =SUM(I54:M54) -> 0 | R54: =SUM(N54:O54) -> 0
A55: 36 | B55: Công nghệ may Veston | C55: 5540207 | D55: 6540207 | E55: Sản xuất, chế biến sợi, vải, giày, da | F55: 35 | G55: 65 | H55: =F55+G55 -> 100 | P55: =SUM(I55:O55) -> 0 | Q55: =SUM(I55:M55) -> 0 | R55: =SUM(N55:O55) -> 0
A56: 14. CHỈ TIÊU TỔNG CỘNG CỦA NHÓM | F56: =SUM(F52:F55) -> 165 | G56: =SUM(G52:G55) -> 305 | H56: =SUM(H52:H55) -> 470 | I56: =SUM(I52:I55) -> 0 | J56: =SUM(J52:J55) -> 63 | K56: =SUM(K52:K55) -> 0 | L56: =SUM(L52:L55) -> 0 | M56: =SUM(M52:M55) -> 0 | ... P56: =SUM(P52:P55) -> 146 | Q56: =SUM(I56:M56) -> 63 | R56: =SUM(N56:O56) -> 83
A57: TỔNG CỘNG | F57: =F56+F51+F49+F47+F44+F38+F32+F27+F25+F23+F21+F19+F17+F12 -> 1975 | G57: =G56+G51+G49+G47+G44+G38+G32+G27+G25+G23+G21+G19+G17+G12 -> 3500 | H57: =H56+H51+H49+H47+H44+H38+H32+H27+H25+H23+H21+H19+H17+H12 -> 5475 | I57: =I12+I17+I19+I21+I23+I25+I27+I32+I38+I44+I47+I49+I51+I56 -> 72 | J57: =J12+J17+J19+J21+J23+J25+J27+J32+J38+J44+J47+J49+J51+J56 -> 1738 | K57: =K12+K17+K19+K21+K23+K25+K27+K32+K38+K44+K47+K49+K51+K56 -> 23 | L57: =L12+L17+L19+L21+L23+L25+L27+L32+L38+L44+L47+L49+L51+L56 -> 8 | M57: =M12+M17+M19+M21+M23+M25+M27+M32+M38+M44+M47+M49+M51+M56 -> 43 | N57: =N12+N17+N19+N21+N23+N25+N27+N32+N38+N44+N47+N49+N51+N56 -> 3672 | O57: =O12+O17+O19+O21+O23+O25+O27+O32+O38+O44+O47+O49+O51+O56 -> 218 | P57: =P12+P17+P19+P21+P23+P25+P27+P32+P38+P44+P47+P49+P51+P56 -> 5774 | Q57: =SUM(I57:M57) -> 1884 | R57: =SUM(N57:O57) -> 3890
F58: 32 ngành | G58: 31 ngành | H58: 36 ngành | I58: Trung cấp: 1884 | N58: Cao đẳng: 3890 | P58: =1884+3890 -> 5774
A59: T2: QĐ số 1315/QĐ-LTT-ĐT ngày 30/11/2018 v/v học sinh trúng tuyển nhập học trung cấp hệ chính quy khoá 2018
A60: T4: QĐ số 1315/QĐ-LTT-ĐT ngày 30/11/2018 v/v học sinh trúng tuyển nhập học trung cấp hệ chính quy khoá 2018
A61: T5: QĐ 1085/QĐ-LTT-ĐT ngày 08/10/2018 v/v học sinh trúng tuyển nhập học trung cấp hệ chính quy khoá 2018 (khoá đào tạo cho Tổng Công ty Điện lực Tp.HCM)
A62: T6: QĐ 1085/QĐ-LTT-ĐT ngày 08/10/2018 v/v học sinh trúng tuyển nhập học trung cấp hệ chính quy khoá 2018 (khoá đào tạo cho Tổng Công ty Điện lực Tp.HCM)
A63: T7: QĐ 1085/QĐ-LTT-ĐT ngày 08/10/2018 v/v học sinh trúng tuyển nhập học trung cấp hệ chính quy khoá 2018 (khoá đào tạo cho Tổng Công ty Điện lực Tp.HCM)
A64: C1: QĐ 1316/QĐ-LTT-ĐT ngày 30/11/2018 v/v sinh viên trúng tuyển nhập học cao đẳng hệ chính quy khoá 2018
A65: C2: QĐ 142/QĐ-LTT-ĐT ngày 31/01/2019 v/v sinh viên trúng tuyển nhập học liên thông cao đẳng hệ chính quy khoá 2018 - đợt A QĐ 208A/QĐ-LTT-ĐT ngày 07/3/2019 v/v sinh viên trúng tuyển nhập học liên thông cao đẳng hệ chính quy khoá 2018 - đợt B
E67: Thành phố Hồ Chí Minh, ngày 30 tháng 12 năm 2021
A68: NGƯỜI LẬP BIỂU | E68: TRƯỞNG PHÒNG TUYỂN SINH ĐÀO TẠO
A75: Thái Thị My Sa | E75: Hồ Văn Sĩ

Sheet 19
A1: ỦY BAN NHÂN DÂN THÀNH PHỐ HỒ CHÍ MINH | G1: CỘNG HÒA XÃ HỘI CHỦ NGHĨA VIỆT NAM
A2: TRƯỜNG CAO ĐẲNG LÝ TỰ TRỌNG THÀNH PHỐ HỒ CHÍ MINH | G2: Độc lập - Tự do - Hạnh phúc
A4: THỐNG KÊ TUYỂN SINH NĂM 2019
A5: TT | B5: TÊN NGÀNH CẤP IV | C5: MÃ NGÀNH/NGHỀ CẤP IV | E5: TÊN NGÀNH CẤP III | F5: Chỉ tiêu tuyển sinh 2019 | H5: TỔNG CỘNG CHỈ TIÊU 2019 | I5: Tuyển sinh 2019
C6: Trung cấp | D6: Cao đẳng | F6: Trung cấp | G6: Cao đẳng | I6: T2 | J6: T4 | K6: T5 | L6: C1 | M6: C2 | N6: C3 | O6: C4 | P6: TỔNG | Q6: TC | R6: CĐ
A7: 1 | B7: Công nghệ kỹ thuật cơ khí | C7: 5510201 | D7: 6510201 | E7: Công nghệ kỹ thuật cơ khí | F7: 90 | G7: 280 | H7: =F7+G7 -> 370 | I7: 26 | J7: 67 | L7: 316 | M7: 46 | N7: 33 | P7: =SUM(I7:O7) -> 488 | Q7: =SUM(I7:K7) -> 93 | R7: =SUM(L7:O7) -> 395
A8: 2 | B8: Công nghệ kỹ thuật nhiệt | C8: 5510211 | D8: 6510211 | E8: Công nghệ kỹ thuật cơ khí | F8: 65 | G8: 150 | H8: =F8+G8 -> 215 | L8: 54 | M8: 33 | P8: =SUM(I8:O8) -> 87 | Q8: =SUM(I8:K8) -> 0 | R8: =SUM(L8:O8) -> 87
A9: 3 | B9: Công nghệ chế tạo máy | D9: 6510212 | E9: Công nghệ kỹ thuật cơ khí | G9: 140 | H9: =F9+G9 -> 140 | L9: 66 | P9: =SUM(I9:O9) -> 66 | Q9: =SUM(I9:K9) -> 0 | R9: =SUM(L9:O9) -> 66
A10: 4 | B10: Công nghệ chế tạo dụng cụ | C10: 5510212 | E10: Công nghệ kỹ thuật cơ khí | F10: 100 | H10: =F10+G10 -> 100 | Q10: =SUM(I10:K10) -> 0 | R10: =SUM(L10:O10) -> 0
A11: 5 | B11: Công nghệ ô tô | C11: 5510216 | D11: 6510216 | E11: Công nghệ kỹ thuật cơ khí | F11: 205 | G11: 520 | H11: =F11+G11 -> 725 | I11: 64 | J11: 315 | L11: 774 | M11: 103 | N11: 60 | O11: 18 | P11: =SUM(I11:O11) -> 1334 | Q11: =SUM(I11:K11) -> 379 | R11: =SUM(L11:O11) -> 955
A12: 1. CHỈ TIÊU TỔNG CỘNG CỦA NHÓM | F12: =SUM(F7:F11) -> 460 | G12: =SUM(G7:G11) -> 1090 | H12: =SUM(H7:H11) -> 1550 | I12: =SUM(I7:I11) -> 90 | J12: =SUM(J7:J11) -> 382 | K12: =SUM(K7:K11) -> 0 | L12: =SUM(L7:L11) -> 1210 | M12: =SUM(M7:M11) -> 182 | ... P12: =SUM(P7:P11) -> 1975
A13: 6 | B13: Công nghệ kỹ thuật điện, điện tử | C13: 5510303 | D13: 6510303 | E13: Công nghệ kỹ thuật điện, điện tử và viễn thông | F13: 85 | G13: 190 | H13: =F13+G13 -> 275 | J13: 73 | L13: 160 | M13: 85 | P13: =SUM(I13:O13) -> 318 | Q13: =SUM(I13:K13) -> 73 | R13: =SUM(L13:O13) -> 245
A14: 7 | B14: Công nghệ kỹ thuật điều khiển và tự động hóa | D14: 6510305 | E14: Công nghệ kỹ thuật điện, điện tử và viễn thông | G14: 120 | H14: =F14+G14 -> 120 | L14: 63 | P14: =SUM(I14:O14) -> 63 | Q14: =SUM(I14:K14) -> 0 | R14: =SUM(L14:O14) -> 63
A15: 8 | B15: Công nghệ kỹ thuật điều khiển tự động | C15: 5510305 | E15: Công nghệ kỹ thuật điện, điện tử và viễn thông | F15: 70 | H15: =F15+G15 -> 70 | P15: =SUM(I15:O15) -> 0 | Q15: =SUM(I15:K15) -> 0 | R15: =SUM(L15:O15) -> 0
A16: 9 | B16: Kỹ thuật mạng ngoại vi và thiết bị đầu cuối | C16: 5520217 | D16: 6520217 | E16: Công nghệ kỹ thuật điện, điện tử và viễn thông | F16: 85 | G16: 115 | H16: =F16+G16 -> 200 | Q16: =SUM(I16:K16) -> 0 | R16: =SUM(L16:O16) -> 0
A17: 2. CHỈ TIÊU TỔNG CỘNG CỦA NHÓM | F17: =SUM(F13:F16) -> 240 | G17: =SUM(G13:G16) -> 425 | H17: =SUM(H13:H16) -> 665 | I17: =SUM(I13:I16) -> 0 | J17: =SUM(J13:J16) -> 73 | K17: =SUM(K13:K16) -> 0 | L17: =SUM(L13:L16) -> 223 | M17: =SUM(M13:M16) -> 85 | ... P17: =SUM(P13:P16) -> 381
A18: 10 | B18: Quản lý xây dựng | D18: 6580301 | E18: Quản lý xây dựng | G18: 70 | H18: =F18+G18 -> 70 | P18: =SUM(I18:O18) -> 0 | Q18: =SUM(I18:K18) -> 0 | R18: =SUM(L18:O18) -> 0
A19: 3. CHỈ TIÊU TỔNG CỘNG CỦA NHÓM | G19: =SUM(G18) -> 70 | H19: =SUM(H18) -> 70 | I19: =SUM(I18) -> 0 | J19: =SUM(J18) -> 0 | K19: =SUM(K18) -> 0 | L19: =SUM(L18) -> 0 | M19: =SUM(M18) -> 0 | N19: =SUM(N18) -> 0 | O19: =SUM(O18) -> 0 | P19: =P18 -> 0
A20: 11 | B20: Kỹ thuật xây dựng | C20: 5580201 | D20: 6580201 | E20: Xây dựng | F20: 60 | G20: 60 | H20: =F20+G20 -> 120 | J20: 36 | L20: 32 | P20: =SUM(I20:O20) -> 68 | Q20: =SUM(I20:K20) -> 36 | R20: =SUM(L20:O20) -> 32
A21: 4. CHỈ TIÊU TỔNG CỘNG CỦA NHÓM | F21: =SUM(F20) -> 60 | G21: =SUM(G20) -> 60 | H21: =SUM(H20) -> 120 | I21: =SUM(I20) -> 0 | J21: =SUM(J20) -> 36 | K21: =SUM(K20) -> 0 | L21: =SUM(L20) -> 32 | M21: =SUM(M20) -> 0 | ... O21: =SUM(O20) -> 0 | P21: =P20 -> 68
A22: 12 | B22: Kế toán doanh nghiệp | C22: 5340302 | D22: 6340302 | E22: Kế toán - Kiểm toán | F22: 65 | G22: 160 | H22: =F22+G22 -> 225 | J22: 115 | L22: 75 | M22: 19 | P22: =SUM(I22:O22) -> 209 | Q22: =SUM(I22:K22) -> 115 | R22: =SUM(L22:O22) -> 94
A23: 5. CHỈ TIÊU TỔNG CỘNG CỦA NHÓM | F23: =SUM(F22) -> 65 | G23: =SUM(G22) -> 160 | H23: =SUM(H22) -> 225 | I23: =SUM(I22) -> 0 | J23: =SUM(J22) -> 115 | K23: =SUM(K22) -> 0 | L23: =SUM(L22) -> 75 | M23: =SUM(M22) -> 19 | ... O23: =SUM(O22) -> 0 | P23: =P22 -> 209
A24: 13 | B24: Logistics | C24: 5340113 | D24: 6340113 | E24: Kinh doanh | F24: 30 | G24: 60 | H24: =F24+G24 -> 90 | J24: 33 | L24: 28 | P24: =SUM(I24:O24) -> 61 | Q24: =SUM(I24:K24) -> 33 | R24: =SUM(L24:O24) -> 28
A25: 14 | B25: Thương mại điện tử | C25: 5340122 | D25: 6340122 | E25: Kinh doanh | F25: 50 | G25: 75 | H25: =F25+G25 -> 125 | J25: 27 | P25: =SUM(I25:O25) -> 27 | Q25: =SUM(I25:K25) -> 27 | R25: =SUM(L25:O25) -> 0
A26: 6. CHỈ TIÊU TỔNG CỘNG CỦA NHÓM | F26: =SUM(F24:F25) -> 80 | G26: =SUM(G24:G25) -> 135 | H26: =SUM(H24:H25) -> 215 | I26: =SUM(I24:I25) -> 0 | J26: =SUM(J24:J25) -> 60 | K26: =SUM(K24:K25) -> 0 | L26: =SUM(L24:L25) -> 28 | M26: =SUM(M24:M25) -> 0 | ... P26: =SUM(P24:P25) -> 88
A27: 15 | B27: Quản trị doanh nghiệp vừa và nhỏ | C27: 5340417 | D27: 6340417 | E27: Quản trị - Quản lý | F27: 65 | G27: 160 | H27: =F27+G27 -> 225 | J27: 63 | L27: 82 | M27: 21 | P27: =SUM(I27:O27) -> 166 | Q27: =SUM(I27:K27) -> 63 | R27: =SUM(L27:O27) -> 103
A28: 7. CHỈ TIÊU TỔNG CỘNG CỦA NHÓM | F28: =SUM(F27) -> 65 | G28: =SUM(G27) -> 160 | H28: =SUM(H27) -> 225 | I28: =SUM(I27) -> 0 | J28: =SUM(J27) -> 63 | K28: =SUM(K27) -> 0 | L28: =SUM(L27) -> 82 | M28: =SUM(M27) -> 21 | ... O28: =SUM(O27) -> 0 | P28: =P27 -> 166
A29: 16 | B29: Tài chính doanh nghiệp | C29: 5340201 | D29: 6340201 | E29: Tài chính - Ngân hàng - Bảo hiểm | F29: 65 | G29: 160 | H29: =F29+G29 -> 225 | J29: 42 | P29: =SUM(I29:O29) -> 42 | Q29: =SUM(I29:K29) -> 42 | R29: =SUM(L29:O29) -> 0
A30: 8. CHỈ TIÊU TỔNG CỘNG CỦA NHÓM | F30: =SUM(F29) -> 65 | G30: =SUM(G29) -> 160 | H30: =SUM(H29) -> 225 | I30: =SUM(I29) -> 0 | J30: =SUM(J29) -> 42 | K30: =SUM(K29) -> 0 | L30: =SUM(L29) -> 0 | M30: =SUM(M29) -> 0 | ... O30: =SUM(O29) -> 0 | P30: =P29 -> 42
A31: 17 | B31: Chế tạo khuôn mẫu | C31: 5520105 | D31: 6520105 | E31: Kỹ thuật cơ khí và cơ kỹ thuật | F31: 30 | G31: 60 | H31: =F31+G31 -> 90 | P31: =SUM(I31:O31) -> 0 | Q31: =SUM(I31:K31) -> 0 | R31: =SUM(L31:O31) -> 0
A32: 18 | B32: Lắp đặt thiết bị lạnh | C32: 5520114 | D32: 6520114 | E32: Kỹ thuật cơ khí và cơ kỹ thuật | F32: 75 | G32: 110 | H32: =F32+G32 -> 185 | J32: 57 | L32: 28 | P32: =SUM(I32:O32) -> 85 | Q32: =SUM(I32:K32) -> 57 | R32: =SUM(L32:O32) -> 28
A33: 19 | B33: Cắt gọt kim loại | C33: 5520121 | D33: 6520121 | E33: Kỹ thuật cơ khí và cơ kỹ thuật | F33: 65 | G33: 110 | H33: =F33+G33 -> 175 | P33: =SUM(I33:O33) -> 0 | Q33: =SUM(I33:K33) -> 0 | R33: =SUM(L33:O33) -> 0
A34: 20 | B34: Bảo trì hệ thống thiết bị công nghiệp | C34: 5520155 | D34: 6520155 | E34: Kỹ thuật cơ khí và cơ kỹ thuật | F34: 65 | G34: 120 | H34: =F34+G34 -> 185 | L34: 35 | P34: =SUM(I34:O34) -> 35 | Q34: =SUM(I34:K34) -> 0 | R34: =SUM(L34:O34) -> 35
A35: 21 | B35: Cơ khí chế tạo | C35: 5520117 | E35: Kỹ thuật cơ khí và cơ kỹ thuật | F35: 100 | H35: =F35+G35 -> 100 | J35: 93 | P35: =SUM(I35:O35) -> 93 | Q35: =SUM(I35:K35) -> 93 | R35: =SUM(L35:O35) -> 0
A36: 9. CHỈ TIÊU TỔNG CỘNG CỦA NHÓM | F36: =SUM(F31:F35) -> 335 | G36: =SUM(G31:G35) -> 400 | H36: =SUM(H31:H35) -> 735 | I36: =SUM(I31:I35) -> 0 | J36: =SUM(J31:J35) -> 150 | K36: =SUM(K31:K35) -> 0 | L36: =SUM(L31:L35) -> 63 | M36: =SUM(M31:M35) -> 0 | ... P36: =SUM(P31:P35) -> 213
A37: 22 | B37: Kỹ thuật máy lạnh và điều hòa không khí | C37: 5520205 | D37: 6520205 | E37: Kỹ thuật điện, điện tử và viễn thông | F37: 65 | G37: 125 | H37: =F37+G37 -> 190 | J37: 63 | L37: 92 | P37: =SUM(I37:O37) -> 155 | Q37: =SUM(I37:K37) -> 63 | R37: =SUM(L37:O37) -> 92
A38: 23 | B38: Điện tử công nghiệp | C38: 5520225 | D38: 6520225 | E38: Kỹ thuật điện, điện tử và viễn thông | F38: 115 | G38: 165 | H38: =F38+G38 -> 280 | P38: =SUM(I38:O38) -> 0 | Q38: =SUM(I38:K38) -> 0 | R38: =SUM(L38:O38) -> 0
A39: 24 | B39: Điện công nghiệp | C39: 5520227 | D39: 6520227 | E39: Kỹ thuật điện, điện tử và viễn thông | F39: 135 | G39: 230 | H39: =F39+G39 -> 365 | I39: 35 | J39: 85 | L39: 148 | P39: =SUM(I39:O39) -> 268 | Q39: =SUM(I39:K39) -> 120 | R39: =SUM(L39:O39) -> 148
A40: 25 | B40: Vận hành, sửa chữa thiết bị lạnh | C40: 5520255 | D40: 6520255 | E40: Kỹ thuật điện, điện tử và viễn thông | F40: 95 | G40: 115 | H40: =F40+G40 -> 210 | J40: 77 | L40: 113 | P40: =SUM(I40:O40) -> 190 | Q40: =SUM(I40:K40) -> 77 | R40: =SUM(L40:O40) -> 113
A41: 26 | B41: Cơ điện tử | C41: 5520263 | D41: 6520263 | E41: Kỹ thuật điện, điện tử và viễn thông | F41: 85 | G41: 170 | H41: =F41+G41 -> 255 | J41: 45 | L41: 51 | P41: =SUM(I41:O41) -> 96 | Q41: =SUM(I41:K41) -> 45 | R41: =SUM(L41:O41) -> 51
A42: 10. CHỈ TIÊU TỔNG CỘNG CỦA NHÓM | F42: =SUM(F37:F41) -> 495 | G42: =SUM(G37:G41) -> 805 | H42: =SUM(H37:H41) -> 1300 | I42: =SUM(I37:I41) -> 35 | J42: =SUM(J37:J41) -> 270 | K42: =SUM(K37:K41) -> 0 | L42: =SUM(L37:L41) -> 404 | M42: =SUM(M37:M41) -> 0 | ... P42: =SUM(P37:P41) -> 709
A43: 27 | B43: Tin học ứng dụng | C43: 5480205 | D43: 6480205 | E43: Công nghệ thông tin | F43: 65 | G43: 75 | H43: =F43+G43 -> 140 | J43: 57 | K43: 110 | P43: =SUM(I43:O43) -> 167 | Q43: =SUM(I43:K43) -> 167 | R43: =SUM(L43:O43) -> 0
A44: 28 | B44: Lập trình máy tính | C44: 5480207 | D44: 6480207 | E44: Công nghệ thông tin | F44: 85 | G44: 150 | H44: =F44+G44 -> 235 | J44: 124 | L44: 65 | P44: =SUM(I44:O44) -> 189 | Q44: =SUM(I44:K44) -> 124 | R44: =SUM(L44:O44) -> 65
A45: 29 | B45: Quản trị mạng máy tính | C45: 5480209 | D45: 6480209 | E45: Công nghệ thông tin | F45: 65 | G45: 150 | H45: =F45+G45 -> 215 | I45: 53 | J45: 61 | L45: 50 | M45: 85 | P45: =SUM(I45:O45) -> 249 | Q45: =SUM(I45:K45) -> 114 | R45: =SUM(L45:O45) -> 135
A46: 30 | B46: Thiết kế trang Web | C46: 5480214 | D46: 6480214 | E46: Công nghệ thông tin | F46: 65 | G46: 85 | H46: =F46+G46 -> 150 | J46: 61 | L46: 35 | P46: =SUM(I46:O46) -> 96 | Q46: =SUM(I46:K46) -> 61 | R46: =SUM(L46:O46) -> 35
A47: 31 | B47: An ninh mạng | C47: 5480216 | D47: 6480216 | E47: Công nghệ thông tin | F47: 65 | G47: 85 | H47: =F47+G47 -> 150 | J47: 71 | L47: 19 | P47: =SUM(I47:O47) -> 90 | Q47: =SUM(I47:K47) -> 71 | R47: =SUM(L47:O47) -> 19
A48: 11. CHỈ TIÊU TỔNG CỘNG CỦA NHÓM | F48: =SUM(F43:F47) -> 345 | G48: =SUM(G43:G47) -> 545 | H48: =SUM(H43:H47) -> 890 | I48: =SUM(I43:I47) -> 53 | J48: =SUM(J43:J47) -> 374 | K48: =SUM(K43:K47) -> 110 | L48: =SUM(L43:L47) -> 169 | M48: =SUM(M43:M47) -> 85 | ... P48: =SUM(P43:P47) -> 791
A49: 32 | B49: Công nghệ kỹ thuật máy tính | D49: 6480105 | E49: Máy tính | G49: 110 | H49: =F49+G49 -> 110 | L49: 43 | P49: =SUM(I49:O49) -> 43 | Q49: =SUM(I49:K49) -> 0 | R49: =SUM(L49:O49) -> 43
A50: 33 | B50: Công nghệ kỹ thuật phần cứng máy tính | C50: 5480105 | E50: Máy tính | F50: 85 | H50: =F50+G50 -> 85 | J50: 94 | P50: =SUM(I50:O50) -> 94 | Q50: =SUM(I50:K50) -> 94 | R50: =SUM(L50:O50) -> 0
A51: 12. CHỈ TIÊU TỔNG CỘNG CỦA NHÓM | F51: =SUM(F49:F50) -> 85 | G51: =SUM(G49:G50) -> 110 | H51: =SUM(H49:H50) -> 195 | I51: =SUM(I49:I50) -> 0 | J51: =SUM(J49:J50) -> 94 | K51: =SUM(K49:K50) -> 0 | L51: =SUM(L49:L50) -> 43 | M51: =SUM(M49:M50) -> 0 | ... P51: =SUM(P49:P50) -> 137
A52: 34 | B52: Thiết kế đồ họa | C52: 5210402 | D52: 6210402 | E52: Mỹ thuật ứng dụng | F52: 90 | G52: 130 | H52: =F52+G52 -> 220 | J52: 132 | L52: 105 | P52: =SUM(I52:O52) -> 237 | Q52: =SUM(I52:K52) -> 132 | R52: =SUM(L52:O52) -> 105
A53: 13. CHỈ TIÊU TỔNG CỘNG CỦA NHÓM | F53: =SUM(F52) -> 90 | G53: =SUM(G52) -> 130 | H53: =SUM(H52) -> 220 | I53: =SUM(I52) -> 0 | J53: =SUM(J52) -> 132 | K53: =SUM(K52) -> 0 | L53: =SUM(L52) -> 105 | M53: =SUM(M52) -> 0 | ... O53: =SUM(O52) -> 0 | P53: =P52 -> 237
A54: 35 | B54: Tiếng Anh | C54: 5220206 | D54: 6220206 | E54: Ngôn ngữ, văn học và văn hóa nước ngoài | F54: 150 | G54: 320 | H54: =F54+G54 -> 470 | J54: 175 | L54: 69 | P54: =SUM(I54:O54) -> 244 | Q54: =SUM(I54:K54) -> 175 | R54: =SUM(L54:O54) -> 69
A55: 14. CHỈ TIÊU TỔNG CỘNG CỦA NHÓM | F55: =SUM(F54) -> 150 | G55: =SUM(G54) -> 320 | H55: =SUM(H54) -> 470 | I55: =SUM(I54) -> 0 | J55: =SUM(J54) -> 175 | K55: =SUM(K54) -> 0 | L55: =SUM(L54) -> 69 | M55: =SUM(M54) -> 0 | ... O55: =SUM(O54) -> 0 | P55: =P54 -> 244
A56: 36 | B56: Công nghệ may | D56: 6540204 | E56: Sản xuất, chế biến sợi, vải, giày, da | G56: 150 | H56: =F56+G56 -> 150 | L56: 40 | M56: 19 | P56: =SUM(I56:O56) -> 59 | Q56: =SUM(I56:K56) -> 0 | R56: =SUM(L56:O56) -> 59
A57: 37 | B57: Công nghệ may và thời trang | C57: 5540204 | E57: Sản xuất, chế biến sợi, vải, giày, da | F57: 100 | H57: =F57+G57 -> 100 | J57: 58 | P57: =SUM(I57:O57) -> 58 | Q57: =SUM(I57:K57) -> 58 | R57: =SUM(L57:O57) -> 0
A58: 38 | B58: May thời trang | C58: 5540205 | D58: 6540205 | E58: Sản xuất, chế biến sợi, vải, giày, da | F58: 65 | G58: 150 | H58: =F58+G58 -> 215 | P58: =SUM(I58:O58) -> 0 | Q58: =SUM(I58:K58) -> 0 | R58: =SUM(L58:O58) -> 0
A59: 39 | B59: Công nghệ may Veston | C59: 5540207 | D59: 6540207 | E59: Sản xuất, chế biến sợi, vải, giày, da | F59: 45 | G59: 80 | H59: =F59+G59 -> 125 | P59: =SUM(I59:O59) -> 0 | Q59: =SUM(I59:K59) -> 0 | R59: =SUM(L59:O59) -> 0
A60: 15. CHỈ TIÊU TỔNG CỘNG CỦA NHÓM | F60: =SUM(F56:F59) -> 210 | G60: =SUM(G56:G59) -> 380 | H60: =SUM(H56:H59) -> 590 | I60: =SUM(I56:I59) -> 0 | J60: =SUM(J56:J59) -> 58 | K60: =SUM(K56:K59) -> 0 | L60: =SUM(L56:L59) -> 40 | M60: =SUM(M56:M59) -> 19 | ... P60: =SUM(P56:P59) -> 117
A61: TỔNG CỘNG | F61: =F60+F55+F53+F51+F48+F42+F36+F30+F28+F26+F23+F21+F19+F17+F12 -> 2745 | G61: =G60+G55+G53+G51+G48+G42+G36+G30+G28+G26+G23+G21+G19+G17+G12 -> 4950 | H61: =H60+H55+H53+H51+H48+H42+H36+H30+H28+H26+H23+H21+H19+H17+H12 -> 7695 | I61: =I12+I17+I19+I21+I23+I26+I28+I30+I36+I42+I48+I51+I53+I55+I60 -> 178 | J61: =J12+J17+J19+J21+J23+J26+J28+J30+J36+J42+J48+J51+J53+J55+J60 -> 2024 | K61: =K12+K17+K19+K21+K23+K26+K28+K30+K36+K42+K48+K51+K53+K55+K60 -> 110 | L61: =L12+L17+L19+L21+L23+L26+L28+L30+L36+L42+L48+L51+L53+L55+L60 -> 2543 | M61: =M12+M17+M19+M21+M23+M26+M28+M30+M36+M42+M48+M51+M53+M55+M60 -> 411 | N61: =N12+N17+N19+N21+N23+N26+N28+N30+N36+N42+N48+N51+N53+N55+N60 -> 93 | O61: =O12+O17+O19+O21+O23+O26+O28+O30+O36+O42+O48+O51+O53+O55+O60 -> 18 | P61: =P12+P17+P19+P21+P23+P26+P28+P30+P36+P42+P48+P51+P53+P55+P60 -> 5377 | Q61: =SUM(I61:K61) -> 2312 | R61: =SUM(L61:O61) -> 3065
F62: 34 ngành | G62: 34 ngành | H62: 39 ngành | I62: Trung cấp: 2312 | L62: Cao đẳng: 3065 | P62: =2312+3065 -> 5377 | Q62: =Q61+R61 -> 5377
A63: T2: QĐ 1151/QĐ-LTT-ĐT ngày 03/10/2019 v/v học sinh trúng tuyển nhập học trung cấp hệ chính quy khoá 2019
A64: T4: QĐ 1151/QĐ-LTT-ĐT ngày 03/10/2019 v/v học sinh trúng tuyển nhập học trung cấp hệ chính quy khoá 2019
A65: T5: QĐ 1151/QĐ-LTT-ĐT ngày 03/10/2019 v/v học sinh trúng tuyển nhập học trung cấp hệ chính quy khoá 2019
A66: C1: QĐ 1222/QĐ-LTT-ĐT ngày 14/10/2019 v/v sinh viên trúng tuyển nhập học cao đẳng hệ chính quy khoá 2019
A67: C2: QĐ 1222/QĐ-LTT-ĐT ngày 14/10/2019 v/v sinh viên trúng tuyển nhập học cao đẳng hệ chính quy khoá 2019 QĐ 394/QĐ-LTT-ĐT ngày 11/5/2020 v/v sinh viên trúng tuyển nhập học liên thông cao đẳng, hệ chính quy khoá 2019 - đợt B
A68: C3: QĐ 1222/QĐ-LTT-ĐT ngày 14/10/2019 v/v sinh viên trúng tuyển nhập học cao đẳng hệ chính quy khoá 2019
A69: C4: QĐ 1313/QĐ-LTT-ĐT ngày 28/10/2019 v/v sinh viên trúng tuyển nhập học nghề công nghệ ô tô trình độ cao đẳng, cấp độ quốc tế theo bộ chương trình chuyển giao từ Công hoà Liên bang Đức
E71: Thành phố Hồ Chí Minh, ngày 30 tháng 12 năm 2021
A72: NGƯỜI LẬP BIỂU | E72: TRƯỞNG PHÒNG TUYỂN SINH ĐÀO TẠO
A76: Thái Thị My Sa | E76: Hồ Văn Sĩ

Sheet 20
A1: ỦY BAN NHÂN DÂN THÀNH PHỐ HỒ CHÍ MINH | G1: CỘNG HÒA XÃ HỘI CHỦ NGHĨA VIỆT NAM
A2: TRƯỜNG CAO ĐẲNG LÝ TỰ TRỌNG THÀNH PHỐ HỒ CHÍ MINH | G2: Độc lập - Tự do - Hạnh phúc
A4: THỐNG KÊ TUYỂN SINH NĂM 2020
A5: TT | B5: TÊN NGÀNH CẤP IV | C5: MÃ NGÀNH/NGHỀ CẤP IV | E5: TÊN NGÀNH CẤP III | F5: Chỉ tiêu tuyển sinh 2020 | H5: TỔNG CỘNG CHỈ TIÊU 2020 | I5: Tuyển sinh 2020
C6: Trung cấp | D6: Cao đẳng | F6: Trung cấp | G6: Cao đẳng | I6: T2 | J6: T3 | K6: T4 | L6: T5 | M6: C1 | N6: C2 | O6: C3 | P6: C5 | Q6: C6 | R6: TỔNG | S6: TC | T6: CĐ
A7: 1 | B7: Công nghệ kỹ thuật cơ khí | C7: 5510201 | D7: 6510201 | E7: Công nghệ kỹ thuật cơ khí | F7: 90 | G7: 280 | H7: =F7+G7 -> 370 | K7: 113 | M7: 294 | N7: 52 | O7: 42 | R7: =SUM(I7:Q7) -> 501 | S7: =I7+K7+L7 -> 113 | T7: =SUM(M7:Q7) -> 388
A8: 2 | B8: Công nghệ kỹ thuật nhiệt | C8: 5510211 | D8: 6510211 | E8: Công nghệ kỹ thuật cơ khí | F8: 65 | G8: 150 | H8: =F8+G8 -> 215 | K8: 27 | M8: 120 | N8: 34 | R8: =SUM(I8:Q8) -> 181 | S8: =I8+K8+L8 -> 27 | T8: =SUM(M8:Q8) -> 154
A9: 3 | B9: Công nghệ chế tạo máy | D9: 6510212 | E9: Công nghệ kỹ thuật cơ khí | G9: 140 | H9: =F9+G9 -> 140 | M9: 148 | O9: 21 | R9: =SUM(I9:Q9) -> 169 | S9: =I9+K9+L9 -> 0 | T9: =SUM(M9:Q9) -> 169
A10: 4 | B10: Công nghệ chế tạo dụng cụ | C10: 5510212 | E10: Công nghệ kỹ thuật cơ khí | F10: 100 | H10: =F10+G10 -> 100 | S10: =I10+K10+L10 -> 0 | T10: =SUM(M10:Q10) -> 0
A11: 5 | B11: Công nghệ ô tô | C11: 5510216 | D11: 6510216 | E11: Công nghệ kỹ thuật cơ khí | F11: 205 | G11: 520 | H11: =F11+G11 -> 725 | J11: 99 | K11: 291 | M11: 817 | N11: 158 | O11: 120 | P11: 30 | Q11: 127 | R11: =SUM(I11:Q11) -> 1642 | S11: =I11+K11+L11 -> 291 | T11: =SUM(M11:Q11) -> 1252
A12: 1. CHỈ TIÊU TỔNG CỘNG CỦA NHÓM | F12: =SUM(F7:F11) -> 460 | G12: =SUM(G7:G11) -> 1090 | H12: =SUM(H7:H11) -> 1550 | I12: =SUM(I7:I11) -> 0 | J12: =SUM(J7:J11) -> 99 | K12: =SUM(K7:K11) -> 431 | L12: =SUM(L7:L11) -> 0 | M12: =SUM(M7:M11) -> 1379 | ... R12: =SUM(R7:R11) -> 2493
A13: 6 | B13: Công nghệ kỹ thuật điện, điện tử | C13: 5510303 | D13: 6510303 | E13: Công nghệ kỹ thuật điện, điện tử và viễn thông | F13: 85 | G13: 190 | H13: =F13+G13 -> 275 | K13: 54 | M13: 125 | N13: 47 | O13: 20 | R13: =SUM(I13:Q13) -> 246 | S13: =I13+K13+L13 -> 54 | T13: =SUM(M13:Q13) -> 192
A14: 7 | B14: Công nghệ kỹ thuật điều khiển và tự động hóa | D14: 6510305 | E14: Công nghệ kỹ thuật điện, điện tử và viễn thông | G14: 120 | H14: =F14+G14 -> 120 | K14: 40 | M14: 91 | R14: =SUM(I14:Q14) -> 131 | T14: =SUM(M14:Q14) -> 91
A15: 8 | B15: Công nghệ kỹ thuật điều khiển tự động | C15: 5510305 | E15: Công nghệ kỹ thuật điện, điện tử và viễn thông | F15: 70 | H15: =F15+G15 -> 70 | R15: =SUM(I15:Q15) -> 0 | S15: 40 | T15: =SUM(M15:Q15) -> 0
A16: 9 | B16: Công nghệ kỹ thuật điện tử, truyền thông | D16: 6510312 | E16: Công nghệ kỹ thuật điện, điện tử và viễn thông | G16: 115 | H16: =F16+G16 -> 115 | R16: =SUM(I16:Q16) -> 0 | S16: =I16+K16+L16 -> 0 | T16: =SUM(M16:Q16) -> 0
A17: 10 | B17: Công nghệ kỹ thuật điện tử - viễn thông | C17: 5510312 | E17: Công nghệ kỹ thuật điện, điện tử và viễn thông | F17: 85 | H17: =F17+G17 -> 85 | R17: =SUM(I17:Q17) -> 0 | S17: =I17+K17+L17 -> 0 | T17: =SUM(M17:Q17) -> 0
A18: 2. CHỈ TIÊU TỔNG CỘNG CỦA NHÓM | F18: =SUM(F13:F17) -> 240 | G18: =SUM(G13:G17) -> 425 | H18: =SUM(H13:H17) -> 665 | I18: =SUM(I13:I17) -> 0 | J18: =SUM(J13:J17) -> 0 | K18: =SUM(K13:K17) -> 94 | L18: =SUM(L13:L17) -> 0 | M18: =SUM(M13:M17) -> 216 | ... R18: =SUM(R13:R17) -> 377
A19: 11 | B19: Quản trị lữ hành | C19: 5810104 | D19: 6810104 | E19: Du lịch | F19: 50 | G19: 50 | H19: =F19+G19 -> 100 | K19: 28 | R19: =SUM(I19:Q19) -> 28 | S19: =I19+K19+L19 -> 28 | T19: =SUM(M19:Q19) -> 0
A20: 12 | B20: Quản trị du lịch MICE | C20: 5810105 | D20: 6810105 | E20: Du lịch | F20: 50 | G20: 50 | H20: =F20+G20 -> 100 | K20: 60 | R20: =SUM(I20:Q20) -> 60 | S20: =I20+K20+L20 -> 60 | T20: =SUM(M20:Q20) -> 0
A21: 3. CHỈ TIÊU TỔNG CỘNG CỦA NHÓM | F21: =SUM(F19:F20) -> 100 | G21: =SUM(G19:G20) -> 100 | H21: =SUM(H19:H20) -> 200 | I21: =SUM(I19:I20) -> 0 | J21: =SUM(J19:J20) -> 0 | K21: =SUM(K19:K20) -> 88 | L21: =SUM(L19:L20) -> 0 | M21: =SUM(M19:M20) -> 0 | ... R21: =SUM(R19:R20) -> 88
A22: 13 | B22: Quản trị khách sạn | C22: 5810201 | D22: 6810201 | E22: Khách sạn, nhà hàng | F22: 35 | G22: 35 | H22: =F22+G22 -> 70 | J22: 106 | K22: 64 | M22: 40 | R22: =SUM(I22:Q22) -> 210 | S22: =I22+K22+L22 -> 64 | T22: =SUM(M22:Q22) -> 40
A23: 14 | B23: Quản trị nhà hàng | D23: 6810206 | E23: Khách sạn, nhà hàng | G23: 35 | H23: =F23+G23 -> 35 | M23: 26 | R23: =SUM(I23:Q23) -> 26 | S23: =I23+K23+L23 -> 0 | T23: =SUM(M23:Q23) -> 26
A24: 15 | B24: Nghiệp vụ nhà hàng | C24: 5810206 | E24: Khách sạn, nhà hàng | F24: 35 | H24: =F24+G24 -> 35 | K24: 56 | R24: =SUM(I24:Q24) -> 56 | S24: =I24+K24+L24 -> 56 | T24: =SUM(M24:Q24) -> 0
A25: 16 | B25: Kỹ thuật làm bánh | C25: 5810210 | D25: 6810210 | E25: Khách sạn, nhà hàng | F25: 50 | G25: 50 | H25: =F25+G25 -> 100 | J25: 183 | K25: 62 | M25: 12 | R25: =SUM(I25:Q25) -> 257 | S25: =I25+K25+L25 -> 62 | T25: =SUM(M25:Q25) -> 12
A26: 4. CHỈ TIÊU TỔNG CỘNG CỦA NHÓM | F26: =SUM(F22:F25) -> 120 | G26: =SUM(G22:G25) -> 120 | H26: =SUM(H22:H25) -> 240 | I26: =SUM(I22:I25) -> 0 | J26: =SUM(J22:J25) -> 289 | K26: =SUM(K22:K25) -> 182 | L26: =SUM(L22:L25) -> 0 | M26: =SUM(M22:M25) -> 78 | ... R26: =SUM(R22:R25) -> 549
A27: 17 | B27: Quản lý xây dựng | D27: 6580301 | E27: Quản lý xây dựng | G27: 70 | H27: =F27+G27 -> 70 | M27: 16 | R27: =SUM(I27:Q27) -> 16 | S27: =I27+K27+L27 -> 0 | T27: =SUM(M27:Q27) -> 16
A28: 5. CHỈ TIÊU TỔNG CỘNG CỦA NHÓM | G28: =SUM(G27) -> 70 | H28: =SUM(H27) -> 70 | I28: =SUM(I27) -> 0 | J28: =SUM(J27) -> 0 | K28: =SUM(K27) -> 0 | L28: =SUM(L27) -> 0 | M28: =SUM(M27) -> 16 | N28: =SUM(N27) -> 0 | ... Q28: =SUM(Q27) -> 0 | R28: =R27 -> 16
A29: 18 | B29: Kỹ thuật xây dựng | C29: 5580201 | D29: 6580201 | E29: Xây dựng | F29: 60 | G29: 60 | H29: =F29+G29 -> 120 | K29: 47 | M29: 36 | R29: =SUM(I29:Q29) -> 83 | S29: =I29+K29+L29 -> 47 | T29: =SUM(M29:Q29) -> 36
A30: 6. CHỈ TIÊU TỔNG CỘNG CỦA NHÓM | F30: =SUM(F29) -> 60 | G30: =SUM(G29) -> 60 | H30: =SUM(H29) -> 120 | I30: =SUM(I29) -> 0 | J30: =SUM(J29) -> 0 | K30: =SUM(K29) -> 47 | L30: =SUM(L29) -> 0 | M30: =SUM(M29) -> 36 | ... Q30: =SUM(Q29) -> 0 | R30: =R29 -> 83
A31: 19 | B31: Kế toán doanh nghiệp | C31: 5340302 | D31: 6340302 | E31: Kế toán - Kiểm toán | F31: 65 | G31: 160 | H31: =F31+G31 -> 225 | J31: 39 | K31: 77 | M31: 78 | N31: 39 | R31: =SUM(I31:Q31) -> 233 | S31: =I31+K31+L31 -> 77 | T31: =SUM(M31:Q31) -> 117
A32: 7. CHỈ TIÊU TỔNG CỘNG CỦA NHÓM | F32: =SUM(F31) -> 65 | G32: =SUM(G31) -> 160 | H32: =SUM(H31) -> 225 | I32: =SUM(I31) -> 0 | J32: =SUM(J31) -> 39 | K32: =SUM(K31) -> 77 | L32: =SUM(L31) -> 0 | M32: =SUM(M31) -> 78 | ... Q32: =SUM(Q31) -> 0 | R32: =R31 -> 233
A33: 20 | B33: Logistics | C33: 5340113 | D33: 6340113 | E33: Kinh doanh | F33: 30 | G33: 60 | H33: =F33+G33 -> 90 | K33: 45 | M33: 28 | R33: =SUM(I33:Q33) -> 73 | S33: =I33+K33+L33 -> 45 | T33: =SUM(M33:Q33) -> 28
A34: 21 | B34: Thương mại điện tử | C34: 5340122 | D34: 6340122 | E34: Kinh doanh | F34: 50 | G34: 75 | H34: =F34+G34 -> 125 | K34: 38 | M34: 24 | R34: =SUM(I34:Q34) -> 62 | S34: =I34+K34+L34 -> 38 | T34: =SUM(M34:Q34) -> 24
A35: 8. CHỈ TIÊU TỔNG CỘNG CỦA NHÓM | F35: =SUM(F33:F34) -> 80 | G35: =SUM(G33:G34) -> 135 | H35: =SUM(H33:H34) -> 215 | I35: =SUM(I33:I34) -> 0 | J35: =SUM(J33:J34) -> 0 | K35: =SUM(K33:K34) -> 83 | L35: =SUM(L33:L34) -> 0 | M35: =SUM(M33:M34) -> 52 | ... R35: =SUM(R33:R34) -> 135
A36: 22 | B36: Quản trị doanh nghiệp vừa và nhỏ | C36: 5340417 | D36: 6340417 | E36: Quản trị - Quản lý | F36: 65 | G36: 160 | H36: =F36+G36 -> 225 | K36: 93 | M36: 72 | N36: 46 | R36: =SUM(I36:Q36) -> 211 | S36: =I36+K36+L36 -> 93 | T36: =SUM(M36:Q36) -> 118
A37: 9. CHỈ TIÊU TỔNG CỘNG CỦA NHÓM | F37: =SUM(F36) -> 65 | G37: =SUM(G36) -> 160 | H37: =SUM(H36) -> 225 | I37: =SUM(I36) -> 0 | J37: =SUM(J36) -> 0 | K37: =SUM(K36) -> 93 | L37: =SUM(L36) -> 0 | M37: =SUM(M36) -> 72 | ... Q37: =SUM(Q36) -> 0 | R37: =R36 -> 211
A38: 23 | B38: Tài chính doanh nghiệp | C38: 5340201 | D38: 6340201 | E38: Tài chính - Ngân hàng - Bảo hiểm | F38: 65 | G38: 160 | H38: =F38+G38 -> 225 | K38: 65 | M38: 26 | R38: =SUM(I38:Q38) -> 91 | S38: =I38+K38+L38 -> 65 | T38: =SUM(M38:Q38) -> 26
A39: 10. CHỈ TIÊU TỔNG CỘNG CỦA NHÓM | F39: =SUM(F38) -> 65 | G39: =SUM(G38) -> 160 | H39: =SUM(H38) -> 225 | I39: =SUM(I38) -> 0 | J39: =SUM(J38) -> 0 | K39: =SUM(K38) -> 65 | L39: =SUM(L38) -> 0 | M39: =SUM(M38) -> 26 | ... Q39: =SUM(Q38) -> 0 | R39: =R38 -> 91
A40: 24 | B40: Chế tạo khuôn mẫu | C40: 5520105 | D40: 6520105 | E40: Kỹ thuật cơ khí và cơ kỹ thuật | F40: 30 | G40: 60 | H40: =F40+G40 -> 90 | M40: 20 | R40: =SUM(I40:Q40) -> 20 | S40: =I40+K40+L40 -> 0 | T40: =SUM(M40:Q40) -> 20
A41: 25 | B41: Lắp đặt thiết bị lạnh | C41: 5520114 | D41: 6520114 | E41: Kỹ thuật cơ khí và cơ kỹ thuật | F41: 75 | G41: 110 | H41: =F41+G41 -> 185 | K41: 50 | M41: 41 | N41: 43 | R41: =SUM(I41:Q41) -> 134 | S41: =I41+K41+L41 -> 50 | T41: =SUM(M41:Q41) -> 84
A42: 26 | B42: Cắt gọt kim loại | C42: 5520121 | D42: 6520121 | E42: Kỹ thuật cơ khí và cơ kỹ thuật | F42: 65 | G42: 110 | H42: =F42+G42 -> 175 | K42: 25 | M42: 23 | N42: 30 | R42: =SUM(I42:Q42) -> 78 | S42: =I42+K42+L42 -> 25 | T42: =SUM(M42:Q42) -> 53
A43: 27 | B43: Sửa chữa máy tàu thủy | C43: 5520131 | D43: 6520131 | E43: Kỹ thuật cơ khí và cơ kỹ thuật | F43: 35 | G43: 35 | H43: =F43+G43 -> 70 | R43: =SUM(I43:Q43) -> 0 | S43: =I43+K43+L43 -> 0 | T43: =SUM(M43:Q43) -> 0
A44: 28 | B44: Sửa chữa máy nâng chuyển | C44: 5520145 | D44: 6520145 | E44: Kỹ thuật cơ khí và cơ kỹ thuật | F44: 50 | G44: 50 | H44: =F44+G44 -> 100 | R44: =SUM(I44:Q44) -> 0 | S44: =I44+K44+L44 -> 0 | T44: =SUM(M44:Q44) -> 0
A45: 29 | B45: Bảo trì hệ thống thiết bị công nghiệp | C45: 5520155 | D45: 6520155 | E45: Kỹ thuật cơ khí và cơ kỹ thuật | F45: 65 | G45: 120 | H45: =F45+G45 -> 185 | M45: 25 | R45: =SUM(I45:Q45) -> 25 | S45: =I45+K45+L45 -> 0 | T45: =SUM(M45:Q45) -> 25
A46: 30 | B46: Cơ khí chế tạo | C46: 5520117 | E46: Kỹ thuật cơ khí và cơ kỹ thuật | F46: 100 | H46: =F46+G46 -> 100 | K46: 97 | R46: =SUM(I46:Q46) -> 97 | S46: =I46+K46+L46 -> 97 | T46: =SUM(M46:Q46) -> 0
A47: 11. CHỈ TIÊU TỔNG CỘNG CỦA NHÓM | F47: =SUM(F40:F46) -> 420 | G47: =SUM(G40:G46) -> 485 | H47: =SUM(H40:H46) -> 905 | I47: =SUM(I40:I46) -> 0 | J47: =SUM(J40:J46) -> 0 | K47: =SUM(K40:K46) -> 172 | L47: =SUM(L40:L46) -> 0 | M47: =SUM(M40:M46) -> 109 | ... R47: =SUM(R40:R46) -> 354
A48: 31 | B48: Kỹ thuật máy lạnh và điều hòa không khí | C48: 5520205 | D48: 6520205 | E48: Kỹ thuật điện, điện tử và viễn thông | F48: 65 | G48: 125 | H48: =F48+G48 -> 190 | K48: 66 | M48: 81 | R48: =SUM(I48:Q48) -> 147 | S48: =I48+K48+L48 -> 66 | T48: =SUM(M48:Q48) -> 81
A49: 32 | B49: Điện tử công nghiệp | C49: 5520225 | D49: 6520225 | E49: Kỹ thuật điện, điện tử và viễn thông | F49: 115 | G49: 165 | H49: =F49+G49 -> 280 | R49: =SUM(I49:Q49) -> 0 | S49: =I49+K49+L49 -> 0 | T49: =SUM(M49:Q49) -> 0
A50: 33 | B50: Điện công nghiệp | C50: 5520227 | D50: 6520227 | E50: Kỹ thuật điện, điện tử và viễn thông | F50: 135 | G50: 230 | H50: =F50+G50 -> 365 | I50: 48 | J50: 27 | K50: 89 | M50: 131 | N50: 76 | R50: =SUM(I50:Q50) -> 371 | S50: =I50+K50+L50 -> 137 | T50: =SUM(M50:Q50) -> 207
A51: 34 | B51: Vận hành, sửa chữa thiết bị lạnh | C51: 5520255 | D51: 6520255 | E51: Kỹ thuật điện, điện tử và viễn thông | F51: 95 | G51: 115 | H51: =F51+G51 -> 210 | K51: 92 | M51: 74 | R51: =SUM(I51:Q51) -> 166 | S51: =I51+K51+L51 -> 92 | T51: =SUM(M51:Q51) -> 74
A52: 35 | B52: Cơ điện tử | C52: 5520263 | D52: 6520263 | E52: Kỹ thuật điện, điện tử và viễn thông | F52: 85 | G52: 170 | H52: =F52+G52 -> 255 | K52: 79 | M52: 70 | P52: 31 | Q52: 19 | R52: =SUM(I52:Q52) -> 199 | S52: =I52+K52+L52 -> 79 | T52: =SUM(M52:Q52) -> 120
A53: 12. CHỈ TIÊU TỔNG CỘNG CỦA NHÓM | F53: =SUM(F48:F52) -> 495 | G53: =SUM(G48:G52) -> 805 | H53: =SUM(H48:H52) -> 1300 | I53: =SUM(I48:I52) -> 48 | J53: =SUM(J48:J52) -> 27 | K53: =SUM(K48:K52) -> 326 | L53: =SUM(L48:L52) -> 0 | M53: =SUM(M48:M52) -> 356 | ... R53: =SUM(R48:R52) -> 883
A54: 36 | B54: Tin học ứng dụng | C54: 5480205 | D54: 6480205 | E54: Công nghệ thông tin | F54: 65 | G54: 75 | H54: =F54+G54 -> 140 | J54: 160 | K54: 64 | L54: 35 | N54: 48 | R54: =SUM(I54:Q54) -> 307 | S54: =I54+K54+L54 -> 99 | T54: =SUM(M54:Q54) -> 48
A55: 37 | B55: Lập trình máy tính | C55: 5480207 | D55: 6480207 | E55: Công nghệ thông tin | F55: 85 | G55: 150 | H55: =F55+G55 -> 235 | K55: 98 | M55: 109 | N55: 31 | R55: =SUM(I55:Q55) -> 238 | S55: =I55+K55+L55 -> 98 | T55: =SUM(M55:Q55) -> 140
A56: 38 | B56: Quản trị mạng máy tính | C56: 5480209 | D56: 6480209 | E56: Công nghệ thông tin | F56: 65 | G56: 150 | H56: =F56+G56 -> 215 | J56: 70 | K56: 87 | M56: 51 | N56: 51 | R56: =SUM(I56:Q56) -> 259 | S56: =I56+K56+L56 -> 87 | T56: =SUM(M56:Q56) -> 102
A57: 39 | B57: Thiết kế trang Web | C57: 5480214 | D57: 6480214 | E57: Công nghệ thông tin | F57: 65 | G57: 85 | H57: =F57+G57 -> 150 | K57: 62 | M57: 43 | N57: 20 | R57: =SUM(I57:Q57) -> 125 | S57: =I57+K57+L57 -> 62 | T57: =SUM(M57:Q57) -> 63
A58: 40 | B58: An ninh mạng | C58: 5480216 | D58: 6480216 | E58: Công nghệ thông tin | F58: 65 | G58: 85 | H58: =F58+G58 -> 150 | K58: 37 | R58: =SUM(I58:Q58) -> 37 | S58: =I58+K58+L58 -> 37 | T58: =SUM(M58:Q58) -> 0
A59: 13. CHỈ TIÊU TỔNG CỘNG CỦA NHÓM | F59: =SUM(F54:F58) -> 345 | G59: =SUM(G54:G58) -> 545 | H59: =SUM(H54:H58) -> 890 | I59: =SUM(I54:I58) -> 0 | J59: =SUM(J54:J58) -> 230 | K59: =SUM(K54:K58) -> 348 | L59: =SUM(L54:L58) -> 35 | M59: =SUM(M54:M58) -> 203 | ... R59: =SUM(R54:R58) -> 966
A60: 41 | B60: Truyền thông mạng máy tính | C60: 5480104 | D60: 6480104 | E60: Máy tính | F60: 50 | G60: 50 | H60: =F60+G60 -> 100 | R60: =SUM(I60:Q60) -> 0 | S60: =I60+K60+L60 -> 0 | T60: =SUM(M60:Q60) -> 0
A61: 42 | B61: Công nghệ kỹ thuật máy tính | D61: 6480105 | E61: Máy tính | G61: 110 | H61: =F61+G61 -> 110 | M61: 55 | N61: 21 | R61: =SUM(I61:Q61) -> 76 | S61: =I61+K61+L61 -> 0 | T61: =SUM(M61:Q61) -> 76
A62: 43 | B62: Công nghệ kỹ thuật phần cứng máy tính | C62: 5480105 | E62: Máy tính | F62: 85 | H62: =F62+G62 -> 85 | K62: 77 | R62: =SUM(I62:Q62) -> 77 | S62: =I62+K62+L62 -> 77 | T62: =SUM(M62:Q62) -> 0
A63: 44 | B63: Đồ họa đa phương tiện | C63: 5480108 | D63: 6480108 | E63: Máy tính | F63: 50 | G63: 50 | H63: =F63+G63 -> 100 | K63: 67 | M63: 30 | R63: =SUM(I63:Q63) -> 97 | S63: =I63+K63+L63 -> 67 | T63: =SUM(M63:Q63) -> 30
A64: 14. CHỈ TIÊU TỔNG CỘNG CỦA NHÓM | F64: =SUM(F60:F63) -> 185 | G64: =SUM(G60:G63) -> 210 | H64: =SUM(H60:H63) -> 395 | I64: =SUM(I60:I63) -> 0 | J64: =SUM(J60:J63) -> 0 | K64: =SUM(K60:K63) -> 144 | L64: =SUM(L60:L63) -> 0 | M64: =SUM(M60:M63) -> 85 | ... R64: =SUM(R60:R63) -> 250
A65: 45 | B65: Thiết kế đồ họa | C65: 5210402 | D65: 6210402 | E65: Mỹ thuật ứng dụng | F65: 90 | G65: 130 | H65: =F65+G65 -> 220 | K65: 147 | M65: 128 | R65: =SUM(I65:Q65) -> 275 | S65: =I65+K65+L65 -> 147 | T65: =SUM(M65:Q65) -> 128
A66: 15. CHỈ TIÊU TỔNG CỘNG CỦA NHÓM | F66: =SUM(F65) -> 90 | G66: =SUM(G65) -> 130 | H66: =SUM(H65) -> 220 | I66: =SUM(I65) -> 0 | J66: =SUM(J65) -> 0 | K66: =SUM(K65) -> 147 | L66: =SUM(L65) -> 0 | M66: =SUM(M65) -> 128 | ... Q66: =SUM(Q65) -> 0 | R66: =R65 -> 275
A67: 46 | B67: Tiếng Anh | C67: 5220206 | D67: 6220206 | E67: Ngôn ngữ, văn học và văn hóa nước ngoài | F67: 150 | G67: 320 | H67: =F67+G67 -> 470 | K67: 149 | M67: 74 | N67: 51 | R67: =SUM(I67:Q67) -> 274 | S67: =I67+K67+L67 -> 149 | T67: =SUM(M67:Q67) -> 125
A68: 16. CHỈ TIÊU TỔNG CỘNG CỦA NHÓM | F68: =SUM(F67) -> 150 | G68: =SUM(G67) -> 320 | H68: =SUM(H67) -> 470 | I68: =SUM(I67) -> 0 | J68: =SUM(J67) -> 0 | K68: =SUM(K67) -> 149 | L68: =SUM(L67) -> 0 | M68: =SUM(M67) -> 74 | ... Q68: =SUM(Q67) -> 0 | R68: =R67 -> 274
A69: 47 | B69: Công nghệ may | D69: 6540204 | E69: Sản xuất, chế biến sợi, vải, giày, da | G69: 150 | H69: =F69+G69 -> 150 | M69: 42 | N69: 28 | R69: =SUM(I69:Q69) -> 70 | S69: =I69+K69+L69 -> 0 | T69: =SUM(M69:Q69) -> 70
A70: 48 | B70: Công nghệ may và thời trang | C70: 5540204 | E70: Sản xuất, chế biến sợi, vải, giày, da | F70: 100 | H70: =F70+G70 -> 100 | K70: 50 | R70: =SUM(I70:Q70) -> 50 | S70: =I70+K70+L70 -> 50 | T70: =SUM(M70:Q70) -> 0
A71: 49 | B71: May thời trang | C71: 5540205 | D71: 6540205 | E71: Sản xuất, chế biến sợi, vải, giày, da | F71: 65 | G71: 150 | H71: =F71+G71 -> 215 | R71: =SUM(I71:Q71) -> 0 | S71: =I71+K71+L71 -> 0 | T71: =SUM(M71:Q71) -> 0
A72: 50 | B72: Công nghệ may Veston | C72: 5540207 | D72: 6540207 | E72: Sản xuất, chế biến sợi, vải, giày, da | F72: 45 | G72: 80 | H72: =F72+G72 -> 125 | R72: =SUM(I72:Q72) -> 0 | S72: =I72+K72+L72 -> 0 | T72: =SUM(M72:Q72) -> 0
A73: 17. CHỈ TIÊU TỔNG CỘNG CỦA NHÓM | F73: =SUM(F69:F72) -> 210 | G73: =SUM(G69:G72) -> 380 | H73: =SUM(H69:H72) -> 590 | I73: =SUM(I69:I72) -> 0 | J73: =SUM(J69:J72) -> 0 | K73: =SUM(K69:K72) -> 50 | L73: =SUM(L69:L72) -> 0 | M73: =SUM(M69:M72) -> 42 | ... R73: =SUM(R69:R72) -> 120
A74: TỔNG CỘNG | F74: =F73+F68+F66+F64+F59+F53+F47+F39+F37+F35+F32+F30+F28+F26+F21+F18+F12 -> 3150 | G74: =G73+G68+G66+G64+G59+G53+G47+G39+G37+G35+G32+G30+G28+G26+G21+G18+G12 -> 5355 | H74: =H73+H68+H66+H64+H59+H53+H47+H39+H37+H35+H32+H30+H28+H26+H21+H18+H12 -> 8505 | I74: =I12+I18+I21+I26+I28+I30+I32+I35+I37+I39+I47+I53+I59+I64+I66+I68+I73 -> 48 | J74: =J12+J18+J21+J26+J28+J30+J32+J35+J37+J39+J47+J53+J59+J64+J66+J68+J73 -> 684 | K74: =K12+K18+K21+K26+K28+K30+K32+K35+K37+K39+K47+K53+K59+K64+K66+K68+K73 -> 2496 | L74: =L12+L18+L21+L26+L28+L30+L32+L35+L37+L39+L47+L53+L59+L64+L66+L68+L73 -> 35 | M74: =M12+M18+M21+M26+M28+M30+M32+M35+M37+M39+M47+M53+M59+M64+M66+M68+M73 -> 2950 | N74: =N12+N18+N21+N26+N28+N30+N32+N35+N37+N39+N47+N53+N59+N64+N66+N68+N73 -> 775 | O74: =O12+O18+O21+O26+O28+O30+O32+O35+O37+O39+O47+O53+O59+O64+O66+O68+O73 -> 203 | P74: =P12+P18+P21+P26+P28+P30+P32+P35+P37+P39+P47+P53+P59+P64+P66+P68+P73 -> 61 | ... R74: =R12+R18+R21+R26+R28+R30+R32+R35+R37+R39+R47+R53+R59+R64+R66+R68+R73 -> 7398 | S74: =I74+K74+L74 -> 2579 | T74: =SUM(M74:Q74) -> 4135
F75: 43 ngành | G75: 43 ngành | H75: 50 ngành | I75: Trung cấp: 3263 | M75: Cao đẳng: 4135 | R75: =3263+4135 -> 7398 | S75: =S74+T74 -> 6714
I76: Trung cấp: 2579 (Trừ T3) | M76: Cao đẳng: 4135 | R76: =2579+4135 -> 6714
A77: T2: QĐ 1205/QĐ-LTT-ĐT ngày 23/10/2020 v/v sinh viên trúng tuyển nhập học cao đẳng khoá 2020
A78: T3: QĐ 1652/QĐ-LTT-ĐT ngày 21/12/2020 v/v sinh viên trúng tuyển nhập học trung cấp 20T3 (TN THCS học tiếp lên trình độ trung cấp)
A79: T4: QĐ 1205/QĐ-LTT-ĐT ngày 23/10/2020 v/v sinh viên trúng tuyển nhập học cao đẳng khoá 2020
A80: T5: QĐ 188/QĐ-LTT-ĐT ngày 08/3/2021 v/v sinh viên trúng tuyển nhập học trung cấp hệ 01 năm khoá 2020
A81: C1: QĐ 1205/QĐ-LTT-ĐT ngày 23/10/2020 v/v sinh viên trúng tuyển nhập học cao đẳng khoá 2020
A82: C2: QĐ 1390/QĐ-LTT-ĐT ngày 25/11/2020 v/v sinh viên trúng tuyển nhập học cao đẳng liên thông khoá 2020
A83: C3: QĐ 1205/QĐ-LTT-ĐT ngày 23/10/2020 v/v sinh viên trúng tuyển nhập học cao đẳng khoá 2020
A84: C5: QĐ 1205/QĐ-LTT-ĐT ngày 23/10/2020 v/v sinh viên trúng tuyển nhập học cao đẳng khoá 2020
A85: C6: QĐ 1205/QĐ-LTT-ĐT ngày 23/10/2020 v/v sinh viên trúng tuyển nhập học cao đẳng khoá 2020
E87: Thành phố Hồ Chí Minh, ngày 30 tháng 12 năm 2021
A88: NGƯỜI LẬP BIỂU | E88: TRƯỞNG PHÒNG TUYỂN SINH ĐÀO TẠO
A94: Thái Thị My Sa | E94: Hồ Văn Sĩ

Sheet 21
A1: UBND THÀNH PHỐ HỒ CHÍ MINH | E1: CỘNG HÒA XÃ HỘI CHỦ NGHĨA VIỆT NAM
A2: TRƯỜNG CAO ĐẲNG LÝ TỰ TRỌNG | E2: Độc lập - Tự do - Hạnh phúc
A3: THÀNH PHỐ HỒ CHÍ MINH
A5: TỔNG HỢP NGÀNH NGHỀ ĐÀO TẠO THEO NHÓM MÃ NGÀNH CẤP III THÔNG TƯ 26/2020 CỦA BỘ LAO ĐỘNG - THƯƠNG BINH VÀ XÃ HỘI
A6: TT | B6: TÊN NGÀNH CẤP IV | C6: MÃ NGÀNH/NGHỀ CẤP IV | E6: TÊN NGÀNH CẤP III | F6: Chỉ tiêu tuyển sinh 2021 | H6: TỔNG CỘNG CHỈ TIÊU 2021 | I6: Tuyển sinh 2021
C7: Trung cấp | D7: Cao đẳng | F7: Trung cấp | G7: Cao đẳng | I7: T2 | J7: T4 | K7: C1 | L7: C2 | M7: C3 | N7: C5 | O7: C6 | P7: C7 | Q7: TỔNG | R7: TC | S7: CĐ
A8: 1 | B8: Công nghệ kỹ thuật cơ khí | C8: 5510201 | D8: 6510201 | E8: Công nghệ kỹ thuật cơ khí | F8: 90 | G8: 280 | H8: =F8+G8 -> 370 | J8: 72 | K8: 240 | M8: 43 | P8: 33 | Q8: =SUM(I8:P8) -> 388 | R8: =SUM(I8:J8) -> 72 | S8: =K8+M8+N8+O8+P8 -> 316 | T8: =S8 -> 316
A9: 2 | B9: Công nghệ kỹ thuật nhiệt | C9: 5510211 | D9: 6510211 | E9: Công nghệ kỹ thuật cơ khí | F9: 65 | G9: 150 | H9: =F9+G9 -> 215 | K9: 56 | Q9: =SUM(I9:P9) -> 56 | R9: =SUM(I9:J9) -> 0 | S9: =K9+M9+N9+O9+P9 -> 56 | T9: =S9 -> 56
A10: 3 | B10: Công nghệ chế tạo máy | C10: 5510212 | D10: 6510212 | E10: Công nghệ kỹ thuật cơ khí | F10: 100 | G10: 140 | H10: =F10+G10 -> 240 | J10: 36 | K10: 40 | Q10: =SUM(I10:P10) -> 76 | R10: =SUM(I10:J10) -> 36 | S10: =K10+M10+N10+O10+P10 -> 40 | T10: =S10 -> 40
A11: 4 | B11: Công nghệ ô tô | C11: 5510216 | D11: 6510216 | E11: Công nghệ kỹ thuật cơ khí | F11: 205 | G11: 520 | H11: =F11+G11 -> 725 | J11: 212 | K11: 599 | L11: 33 | M11: 126 | N11: 25 | O11: 80 | Q11: =SUM(I11:P11) -> 1075 | R11: =SUM(I11:J11) -> 212 | S11: =K11+M11+N11+O11+P11+33 -> 863 | T11: =S11+33 -> 896
A12: 1. CHỈ TIÊU TỔNG CỘNG CỦA NHÓM | F12: =SUM(F8:F11) -> 460 | G12: =SUM(G8:G11) -> 1090 | H12: =SUM(H8:H11) -> 1550 | I12: =SUM(I8:I11) -> 0 | J12: =SUM(J8:J11) -> 320 | K12: =SUM(K8:K11) -> 935 | L12: =SUM(L8:L11) -> 33 | M12: =SUM(M8:M11) -> 169 | ... Q12: =SUM(Q8:Q11) -> 1595
A13: 5 | B13: Công nghệ kỹ thuật điện, điện tử | C13: 5510303 | D13: 6510303 | E13: Công nghệ kỹ thuật điện, điện tử và viễn thông | F13: 85 | G13: 190 | H13: =F13+G13 -> 275 | J13: 66 | K13: 75 | Q13: =SUM(I13:P13) -> 141 | R13: =SUM(I13:J13) -> 66 | S13: =K13+M13+N13+O13+P13 -> 75 | T13: =S13 -> 75
A14: 6 | B14: Công nghệ kỹ thuật điều khiển và tự động hóa | D14: 6510305 | E14: Công nghệ kỹ thuật điện, điện tử và viễn thông | G14: 120 | H14: =F14+G14 -> 120 | K14: 51 | Q14: =SUM(I14:P14) -> 51 | R14: =SUM(I14:J14) -> 0 | S14: =K14+M14+N14+O14+P14 -> 51 | T14: =S14 -> 51
A15: 7 | B15: Công nghệ kỹ thuật điều khiển tự động | C15: 5510305 | E15: Công nghệ kỹ thuật điện, điện tử và viễn thông | F15: 70 | H15: =F15+G15 -> 70 | J15: 26 | Q15: =SUM(I15:P15) -> 26 | R15: =SUM(I15:J15) -> 26 | S15: =K15+M15+N15+O15+P15 -> 0 | T15: =S15 -> 0
A16: 8 | B16: Công nghệ kỹ thuật điện tử, truyền thông | C16: 5510312 | D16: 6510312 | E16: Công nghệ kỹ thuật điện, điện tử và viễn thông | F16: 85 | G16: 115 | H16: =F16+G16 -> 200 | Q16: =SUM(I16:P16) -> 0 | R16: =SUM(I16:J16) -> 0 | S16: =K16+M16+N16+O16+P16 -> 0 | T16: =S16 -> 0
A17: 2. CHỈ TIÊU TỔNG CỘNG CỦA NHÓM | F17: =SUM(F13:F16) -> 240 | G17: =SUM(G13:G16) -> 425 | H17: =SUM(H13:H16) -> 665 | I17: =SUM(I13:I16) -> 0 | J17: =SUM(J13:J16) -> 92 | K17: =SUM(K13:K16) -> 126 | L17: =SUM(L13:L16) -> 0 | M17: =SUM(M13:M16) -> 0 | ... Q17: =SUM(Q13:Q16) -> 218
A18: 9 | B18: Quản trị lữ hành | C18: 5810104 | D18: 6810104 | E18: Du lịch | F18: 50 | G18: 50 | H18: =F18+G18 -> 100 | J18: 17 | Q18: =SUM(I18:P18) -> 17 | R18: =SUM(I18:J18) -> 17 | S18: =K18+M18+N18+O18+P18 -> 0 | T18: =S18 -> 0
A19: 10 | B19: Quản trị du lịch MICE | C19: 5810105 | D19: 6810105 | E19: Du lịch | F19: 50 | G19: 50 | H19: =F19+G19 -> 100 | J19: 29 | Q19: =SUM(I19:P19) -> 29 | R19: =SUM(I19:J19) -> 29 | S19: =K19+M19+N19+O19+P19 -> 0 | T19: =S19 -> 0
A20: 3. CHỈ TIÊU TỔNG CỘNG CỦA NHÓM | F20: =SUM(F18:F19) -> 100 | G20: =SUM(G18:G19) -> 100 | H20: =SUM(H18:H19) -> 200 | I20: =SUM(I18:I19) -> 0 | J20: =SUM(J18:J19) -> 46 | K20: =SUM(K18:K19) -> 0 | L20: =SUM(L18:L19) -> 0 | M20: =SUM(M18:M19) -> 0 | ... Q20: =SUM(Q18:Q19) -> 46
A21: 11 | B21: Quản trị khách sạn | C21: 5810201 | D21: 6810201 | E21: Khách sạn, nhà hàng | F21: 35 | G21: 35 | H21: =F21+G21 -> 70 | J21: 76 | K21: 30 | Q21: =SUM(I21:P21) -> 106 | R21: =SUM(I21:J21) -> 76 | S21: =K21+M21+N21+O21+P21 -> 30 | T21: =S21 -> 30
A22: 12 | B22: Quản trị nhà hàng | D22: 6810206 | E22: Khách sạn, nhà hàng | G22: 35 | H22: =F22+G22 -> 35 | K22: 23 | Q22: =SUM(I22:P22) -> 23 | R22: =SUM(I22:J22) -> 0 | S22: =K22+M22+N22+O22+P22 -> 23 | T22: =S22 -> 23
A23: 13 | B23: Nghiệp vụ nhà hàng | C23: 5810206 | E23: Khách sạn, nhà hàng | F23: 35 | H23: =F23+G23 -> 35 | J23: 34 | Q23: =SUM(I23:P23) -> 34 | R23: =SUM(I23:J23) -> 34 | S23: =K23+M23+N23+O23+P23 -> 0 | T23: =S23 -> 0
A24: 14 | B24: Kỹ thuật làm bánh | C24: 5810210 | D24: 6810210 | E24: Khách sạn, nhà hàng | F24: 50 | G24: 50 | H24: =F24+G24 -> 100 | J24: 73 | K24: 14 | Q24: =SUM(I24:P24) -> 87 | R24: =SUM(I24:J24) -> 73 | S24: =K24+M24+N24+O24+P24 -> 14 | T24: =S24 -> 14
A25: 4. CHỈ TIÊU TỔNG CỘNG CỦA NHÓM | F25: =SUM(F21:F24) -> 120 | G25: =SUM(G21:G24) -> 120 | H25: =SUM(H21:H24) -> 240 | I25: =SUM(I21:I24) -> 0 | J25: =SUM(J21:J24) -> 183 | K25: =SUM(K21:K24) -> 67 | L25: =SUM(L21:L24) -> 0 | M25: =SUM(M21:M24) -> 0 | ... Q25: =SUM(Q21:Q24) -> 250
A26: 15 | B26: Quản lý xây dựng | D26: 6580301 | E26: Quản lý xây dựng | G26: 70 | H26: =F26+G26 -> 70 | Q26: =SUM(I26:P26) -> 0 | R26: =SUM(I26:J26) -> 0 | S26: =K26+M26+N26+O26+P26 -> 0 | T26: =S26 -> 0
A27: 5. CHỈ TIÊU TỔNG CỘNG CỦA NHÓM | G27: =SUM(G26) -> 70 | H27: =SUM(H26) -> 70 | I27: =SUM(I26) -> 0 | J27: =SUM(J26) -> 0 | K27: =SUM(K26) -> 0 | L27: =SUM(L26) -> 0 | M27: =SUM(M26) -> 0 | N27: =SUM(N26) -> 0 | ... P27: =SUM(P26) -> 0 | Q27: =Q26 -> 0
A28: 16 | B28: Kỹ thuật xây dựng | C28: 5580201 | D28: 6580201 | E28: Xây dựng | F28: 60 | G28: 60 | H28: =F28+G28 -> 120 | J28: 18 | K28: 46 | Q28: =SUM(I28:P28) -> 64 | R28: =SUM(I28:J28) -> 18 | S28: =K28+M28+N28+O28+P28 -> 46 | T28: =S28 -> 46
A29: 6. CHỈ TIÊU TỔNG CỘNG CỦA NHÓM | F29: =SUM(F28) -> 60 | G29: =SUM(G28) -> 60 | H29: =SUM(H28) -> 120 | I29: =SUM(I28) -> 0 | J29: =SUM(J28) -> 18 | K29: =SUM(K28) -> 46 | L29: =SUM(L28) -> 0 | M29: =SUM(M28) -> 0 | ... P29: =SUM(P28) -> 0 | Q29: =Q28 -> 64
A30: 17 | B30: Kế toán doanh nghiệp | C30: 5340302 | D30: 6340302 | E30: Kế toán - Kiểm toán | F30: 65 | G30: 160 | H30: =F30+G30 -> 225 | J30: 64 | K30: 60 | Q30: =SUM(I30:P30) -> 124 | R30: =SUM(I30:J30) -> 64 | S30: =K30+M30+N30+O30+P30 -> 60 | T30: =S30 -> 60
A31: 7. CHỈ TIÊU TỔNG CỘNG CỦA NHÓM | F31: =SUM(F30) -> 65 | G31: =SUM(G30) -> 160 | H31: =SUM(H30) -> 225 | I31: =SUM(I30) -> 0 | J31: =SUM(J30) -> 64 | K31: =SUM(K30) -> 60 | L31: =SUM(L30) -> 0 | M31: =SUM(M30) -> 0 | ... P31: =SUM(P30) -> 0 | Q31: =Q30 -> 124
A32: 18 | B32: Logistics | C32: 5340113 | D32: 6340113 | E32: Kinh doanh | F32: 30 | G32: 60 | H32: =F32+G32 -> 90 | J32: 34 | K32: 36 | Q32: =SUM(I32:P32) -> 70 | R32: =SUM(I32:J32) -> 34 | S32: =K32+M32+N32+O32+P32 -> 36 | T32: =S32 -> 36
A33: 19 | B33: Thương mại điện tử | C33: 5340122 | D33: 6340122 | E33: Kinh doanh | F33: 50 | G33: 75 | H33: =F33+G33 -> 125 | J33: 47 | K33: 17 | Q33: =SUM(I33:P33) -> 64 | R33: =SUM(I33:J33) -> 47 | S33: =K33+M33+N33+O33+P33 -> 17 | T33: =S33 -> 17
A34: 8. CHỈ TIÊU TỔNG CỘNG CỦA NHÓM | F34: =SUM(F32:F33) -> 80 | G34: =SUM(G32:G33) -> 135 | H34: =SUM(H32:H33) -> 215 | I34: =SUM(I32:I33) -> 0 | J34: =SUM(J32:J33) -> 81 | K34: =SUM(K32:K33) -> 53 | L34: =SUM(L32:L33) -> 0 | M34: =SUM(M32:M33) -> 0 | ... Q34: =SUM(Q32:Q33) -> 134
A35: 20 | B35: Quản trị doanh nghiệp vừa và nhỏ | C35: 5340417 | D35: 6340417 | E35: Quản trị - Quản lý | F35: 65 | G35: 160 | H35: =F35+G35 -> 225 | J35: 83 | K35: 123 | Q35: =SUM(I35:P35) -> 206 | R35: =SUM(I35:J35) -> 83 | S35: =K35+M35+N35+O35+P35 -> 123 | T35: =S35 -> 123
A36: 9. CHỈ TIÊU TỔNG CỘNG CỦA NHÓM | F36: =SUM(F35) -> 65 | G36: =SUM(G35) -> 160 | H36: =SUM(H35) -> 225 | I36: =SUM(I35) -> 0 | J36: =SUM(J35) -> 83 | K36: =SUM(K35) -> 123 | L36: =SUM(L35) -> 0 | M36: =SUM(M35) -> 0 | ... P36: =SUM(P35) -> 0 | Q36: =Q35 -> 206
A37: 21 | B37: Tài chính doanh nghiệp | C37: 5340201 | D37: 6340201 | E37: Tài chính - Ngân hàng - Bảo hiểm | F37: 65 | G37: 160 | H37: =F37+G37 -> 225 | J37: 30 | K37: 21 | Q37: =SUM(I37:P37) -> 51 | R37: =SUM(I37:J37) -> 30 | S37: =K37+M37+N37+O37+P37 -> 21 | T37: =S37 -> 21
A38: 10. CHỈ TIÊU TỔNG CỘNG CỦA NHÓM | F38: =SUM(F37) -> 65 | G38: =SUM(G37) -> 160 | H38: =SUM(H37) -> 225 | I38: =SUM(I37) -> 0 | J38: =SUM(J37) -> 30 | K38: =SUM(K37) -> 21 | L38: =SUM(L37) -> 0 | M38: =SUM(M37) -> 0 | ... P38: =SUM(P37) -> 0 | Q38: =Q37 -> 51
A39: 22 | B39: Chế tạo khuôn mẫu | C39: 5520105 | D39: 6520105 | E39: Kỹ thuật cơ khí và cơ kỹ thuật | F39: 30 | G39: 60 | H39: =F39+G39 -> 90 | Q39: =SUM(I39:P39) -> 0 | R39: =SUM(I39:J39) -> 0 | S39: =K39+M39+N39+O39+P39 -> 0 | T39: =S39 -> 0
A40: 23 | B40: Lắp đặt thiết bị lạnh | C40: 5520114 | D40: 6520114 | E40: Kỹ thuật cơ khí và cơ kỹ thuật | F40: 75 | G40: 110 | H40: =F40+G40 -> 185 | Q40: =SUM(I40:P40) -> 0 | R40: =SUM(I40:J40) -> 0 | S40: =K40+M40+N40+O40+P40 -> 0 | T40: =S40 -> 0
A41: 24 | B41: Cắt gọt kim loại | C41: 5520121 | D41: 6520121 | E41: Kỹ thuật cơ khí và cơ kỹ thuật | F41: 65 | G41: 110 | H41: =F41+G41 -> 175 | Q41: =SUM(I41:P41) -> 0 | R41: =SUM(I41:J41) -> 0 | S41: =K41+M41+N41+O41+P41 -> 0 | T41: =S41 -> 0
A42: 25 | B42: Sửa chữa máy tàu thủy | C42: 5520131 | D42: 6520131 | E42: Kỹ thuật cơ khí và cơ kỹ thuật | F42: 35 | G42: 35 | H42: =F42+G42 -> 70 | Q42: =SUM(I42:P42) -> 0 | R42: =SUM(I42:J42) -> 0 | S42: =K42+M42+N42+O42+P42 -> 0 | T42: =S42 -> 0
A43: 26 | B43: Sửa chữa máy nâng chuyển | C43: 5520145 | D43: 6520145 | E43: Kỹ thuật cơ khí và cơ kỹ thuật | F43: 50 | G43: 50 | H43: =F43+G43 -> 100 | Q43: =SUM(I43:P43) -> 0 | R43: =SUM(I43:J43) -> 0 | S43: =K43+M43+N43+O43+P43 -> 0 | T43: =S43 -> 0
A44: 27 | B44: Bảo trì hệ thống thiết bị công nghiệp | C44: 5520155 | D44: 6520155 | E44: Kỹ thuật cơ khí và cơ kỹ thuật | F44: 65 | G44: 120 | H44: =F44+G44 -> 185 | Q44: =SUM(I44:P44) -> 0 | R44: =SUM(I44:J44) -> 0 | S44: =K44+M44+N44+O44+P44 -> 0 | T44: =S44 -> 0
A45: 28 | B45: Cơ khí chế tạo | C45: 5520117 | E45: Kỹ thuật cơ khí và cơ kỹ thuật | F45: 100 | H45: =F45+G45 -> 100 | J45: 40 | Q45: =SUM(I45:P45) -> 40 | R45: =SUM(I45:J45) -> 40 | S45: =K45+M45+N45+O45+P45 -> 0 | T45: =S45 -> 0
A46: 11. CHỈ TIÊU TỔNG CỘNG CỦA NHÓM | F46: =SUM(F39:F45) -> 420 | G46: =SUM(G39:G45) -> 485 | H46: =SUM(H39:H45) -> 905 | I46: =SUM(I39:I45) -> 0 | J46: =SUM(J39:J45) -> 40 | K46: =SUM(K39:K45) -> 0 | L46: =SUM(L39:L45) -> 0 | M46: =SUM(M39:M45) -> 0 | ... Q46: =SUM(Q39:Q45) -> 40
A47: 29 | B47: Kỹ thuật máy lạnh và điều hòa không khí | C47: 5520205 | D47: 6520205 | E47: Kỹ thuật điện, điện tử và viễn thông | F47: 65 | G47: 125 | H47: =F47+G47 -> 190 | J47: 69 | K47: 61 | Q47: =SUM(I47:P47) -> 130 | R47: =SUM(I47:J47) -> 69 | S47: =K47+M47+N47+O47+P47 -> 61 | T47: =S47 -> 61
A48: 30 | B48: Điện tử công nghiệp | C48: 5520225 | D48: 6520225 | E48: Kỹ thuật điện, điện tử và viễn thông | F48: 115 | G48: 165 | H48: =F48+G48 -> 280 | Q48: =SUM(I48:P48) -> 0 | R48: =SUM(I48:J48) -> 0 | S48: =K48+M48+N48+O48+P48 -> 0 | T48: =S48 -> 0
A49: 31 | B49: Điện công nghiệp | C49: 5520227 | D49: 6520227 | E49: Kỹ thuật điện, điện tử và viễn thông | F49: 135 | G49: 230 | H49: =F49+G49 -> 365 | I49: 46 | J49: 51 | K49: 120 | P49: 13 | Q49: =SUM(I49:P49) -> 230 | R49: =SUM(I49:J49) -> 97 | S49: =K49+M49+N49+O49+P49 -> 133 | T49: =S49 -> 133
A50: 32 | B50: Vận hành, sửa chữa thiết bị lạnh | C50: 5520255 | D50: 6520255 | E50: Kỹ thuật điện, điện tử và viễn thông | F50: 95 | G50: 115 | H50: =F50+G50 -> 210 | J50: 72 | K50: 50 | Q50: =SUM(I50:P50) -> 122 | R50: =SUM(I50:J50) -> 72 | S50: =K50+M50+N50+O50+P50 -> 50 | T50: =S50 -> 50
A51: 33 | B51: Cơ điện tử | C51: 5520263 | D51: 6520263 | E51: Kỹ thuật điện, điện tử và viễn thông | F51: 85 | G51: 170 | H51: =F51+G51 -> 255 | J51: 55 | K51: 42 | M51: 17 | N51: 23 | Q51: =SUM(I51:P51) -> 137 | R51: =SUM(I51:J51) -> 55 | S51: =K51+M51+N51+O51+P51 -> 82 | T51: =S51 -> 82
A52: 12. CHỈ TIÊU TỔNG CỘNG CỦA NHÓM | F52: =SUM(F47:F51) -> 495 | G52: =SUM(G47:G51) -> 805 | H52: =SUM(H47:H51) -> 1300 | I52: =SUM(I47:I51) -> 46 | J52: =SUM(J47:J51) -> 247 | K52: =SUM(K47:K51) -> 273 | L52: =SUM(L47:L51) -> 0 | M52: =SUM(M47:M51) -> 17 | ... Q52: =SUM(Q47:Q51) -> 619
A53: 34 | B53: Tin học ứng dụng | C53: 5480205 | D53: 6480205 | E53: Công nghệ thông tin | F53: 65 | G53: 75 | H53: =F53+G53 -> 140 | J53: 49 | Q53: =SUM(I53:P53) -> 49 | R53: =SUM(I53:J53) -> 49 | S53: =K53+M53+N53+O53+P53 -> 0 | T53: =S53 -> 0
A54: 35 | B54: Lập trình máy tính | C54: 5480207 | D54: 6480207 | E54: Công nghệ thông tin | F54: 85 | G54: 150 | H54: =F54+G54 -> 235 | J54: 181 | K54: 82 | M54: 31 | P54: 14 | Q54: =SUM(I54:P54) -> 308 | R54: =SUM(I54:J54) -> 181 | S54: =K54+M54+N54+O54+P54 -> 127 | T54: =S54 -> 127
A55: 36 | B55: Quản trị mạng máy tính | C55: 5480209 | D55: 6480209 | E55: Công nghệ thông tin | F55: 65 | G55: 150 | H55: =F55+G55 -> 215 | J55: 68 | K55: 36 | Q55: =SUM(I55:P55) -> 104 | R55: =SUM(I55:J55) -> 68 | S55: =K55+M55+N55+O55+P55 -> 36 | T55: =S55 -> 36
A56: 37 | B56: Thiết kế trang Web | C56: 5480214 | D56: 6480214 | E56: Công nghệ thông tin | F56: 65 | G56: 85 | H56: =F56+G56 -> 150 | J56: 40 | K56: 43 | Q56: =SUM(I56:P56) -> 83 | R56: =SUM(I56:J56) -> 40 | S56: =K56+M56+N56+O56+P56 -> 43 | T56: =S56 -> 43
A57: 38 | B57: An ninh mạng | C57: 5480216 | D57: 6480216 | E57: Công nghệ thông tin | F57: 65 | G57: 85 | H57: =F57+G57 -> 150 | J57: 38 | Q57: =SUM(I57:P57) -> 38 | R57: =SUM(I57:J57) -> 38 | S57: =K57+M57+N57+O57+P57 -> 0 | T57: =S57 -> 0
A58: 13. CHỈ TIÊU TỔNG CỘNG CỦA NHÓM | F58: =SUM(F53:F57) -> 345 | G58: =SUM(G53:G57) -> 545 | H58: =SUM(H53:H57) -> 890 | I58: =SUM(I53:I57) -> 0 | J58: =SUM(J53:J57) -> 376 | K58: =SUM(K53:K57) -> 161 | L58: =SUM(L53:L57) -> 0 | M58: =SUM(M53:M57) -> 31 | ... Q58: =SUM(Q53:Q57) -> 582
A59: 39 | B59: Truyền thông mạng máy tính | C59: 5480104 | D59: 6480104 | E59: Máy tính | F59: 50 | G59: 50 | H59: =F59+G59 -> 100 | Q59: =SUM(I59:P59) -> 0 | R59: =SUM(I59:J59) -> 0 | S59: =K59+M59+N59+O59+P59 -> 0 | T59: =S59 -> 0
A60: 40 | B60: Công nghệ kỹ thuật máy tính | D60: 6480105 | E60: Máy tính | G60: 110 | H60: =F60+G60 -> 110 | K60: 66 | Q60: =SUM(I60:P60) -> 66 | R60: =SUM(I60:J60) -> 0 | S60: =K60+M60+N60+O60+P60 -> 66 | T60: =S60 -> 66
A61: 41 | B61: Công nghệ kỹ thuật phần cứng máy tính | C61: 5480105 | E61: Máy tính | F61: 85 | H61: =F61+G61 -> 85 | J61: 54 | Q61: =SUM(I61:P61) -> 54 | R61: =SUM(I61:J61) -> 54 | S61: =K61+M61+N61+O61+P61 -> 0 | T61: =S61 -> 0
A62: 42 | B62: Đồ họa đa phương tiện | C62: 5480108 | D62: 6480108 | E62: Máy tính | F62: 50 | G62: 50 | H62: =F62+G62 -> 100 | J62: 63 | Q62: =SUM(I62:P62) -> 63 | R62: =SUM(I62:J62) -> 63 | S62: =K62+M62+N62+O62+P62 -> 0 | T62: =S62 -> 0
A63: 14. CHỈ TIÊU TỔNG CỘNG CỦA NHÓM | F63: =SUM(F59:F62) -> 185 | G63: =SUM(G59:G62) -> 210 | H63: =SUM(H59:H62) -> 395 | I63: =SUM(I59:I62) -> 0 | J63: =SUM(J59:J62) -> 117 | K63: =SUM(K59:K62) -> 66 | L63: =SUM(L59:L62) -> 0 | M63: =SUM(M59:M62) -> 0 | ... Q63: =SUM(Q59:Q62) -> 183
A64: 43 | B64: Thiết kế đồ họa | C64: 5210402 | D64: 6210402 | E64: Mỹ thuật ứng dụng | F64: 90 | G64: 130 | H64: =F64+G64 -> 220 | J64: 148 | K64: 116 | Q64: =SUM(I64:P64) -> 264 | R64: =SUM(I64:J64) -> 148 | S64: =K64+M64+N64+O64+P64 -> 116 | T64: =S64 -> 116
A65: 15. CHỈ TIÊU TỔNG CỘNG CỦA NHÓM | F65: =SUM(F64) -> 90 | G65: =SUM(G64) -> 130 | H65: =SUM(H64) -> 220 | I65: =SUM(I64) -> 0 | J65: =SUM(J64) -> 148 | K65: =SUM(K64) -> 116 | L65: =SUM(L64) -> 0 | M65: =SUM(M64) -> 0 | ... P65: =SUM(P64) -> 0 | Q65: =Q64 -> 264
A66: 44 | B66: Tiếng Anh | C66: 5220206 | D66: 6220206 | E66: Ngôn ngữ, văn học và văn hóa nước ngoài | F66: 150 | G66: 320 | H66: =F66+G66 -> 470 | J66: 91 | K66: 65 | P66: 10 | Q66: =SUM(I66:P66) -> 166 | R66: =SUM(I66:J66) -> 91 | S66: =K66+M66+N66+O66+P66 -> 75 | T66: =S66 -> 75
A67: 45 | B67: Tiếng Hàn Quốc | C67: 5220211 | D67: 6220211 | E67: Ngôn ngữ, văn học và văn hóa nước ngoài | F67: 50 | G67: 50 | H67: =F67+G67 -> 100 | J67: 19 | Q67: =SUM(I67:P67) -> 19 | R67: =SUM(I67:J67) -> 19 | S67: =K67+M67+N67+O67+P67 -> 0 | T67: =S67 -> 0
A68: 46 | B68: Tiếng Nhật | C68: 5220212 | D68: 6220212 | E68: Ngôn ngữ, văn học và văn hóa nước ngoài | F68: 35 | G68: 35 | H68: =F68+G68 -> 70 | J68: 8 | Q68: =SUM(I68:P68) -> 8 | R68: =SUM(I68:J68) -> 8 | S68: =K68+M68+N68+O68+P68 -> 0 | T68: =S68 -> 0
A69: 16. CHỈ TIÊU TỔNG CỘNG CỦA NHÓM | F69: =SUM(F66:F68) -> 235 | G69: =SUM(G66:G68) -> 405 | H69: =SUM(H66:H68) -> 640 | I69: =SUM(I66:I68) -> 0 | J69: =SUM(J66:J68) -> 118 | K69: =SUM(K66:K68) -> 65 | L69: =SUM(L66:L68) -> 0 | M69: =SUM(M66:M68) -> 0 | ... Q69: =SUM(Q66:Q68) -> 193
A70: 47 | B70: Công nghệ may | C70: 5540204 | D70: 6540204 | E70: Sản xuất, chế biến sợi, vải, giày, da | F70: 100 | G70: 150 | H70: =F70+G70 -> 250 | J70: 33 | K70: 16 | Q70: =SUM(I70:P70) -> 49 | R70: =SUM(I70:J70) -> 33 | S70: =K70+M70+N70+O70+P70 -> 16 | T70: =S70 -> 16
A71: 48 | B71: May thời trang | C71: 5540205 | D71: 6540205 | E71: Sản xuất, chế biến sợi, vải, giày, da | F71: 65 | G71: 150 | H71: =F71+G71 -> 215 | Q71: =SUM(I71:P71) -> 0 | R71: =SUM(I71:J71) -> 0 | S71: =K71+M71+N71+O71+P71 -> 0 | T71: =S71 -> 0
A72: 49 | B72: Công nghệ may Veston | C72: 5540207 | D72: 6540207 | E72: Sản xuất, chế biến sợi, vải, giày, da | F72: 45 | G72: 80 | H72: =F72+G72 -> 125 | Q72: =SUM(I72:P72) -> 0 | R72: =SUM(I72:J72) -> 0 | S72: =K72+M72+N72+O72+P72 -> 0 | T72: =S72 -> 0
A73: 17. CHỈ TIÊU TỔNG CỘNG CỦA NHÓM | F73: =SUM(F70:F72) -> 210 | G73: =SUM(G70:G72) -> 380 | H73: =SUM(H70:H72) -> 590 | I73: =SUM(I70:I72) -> 0 | J73: =SUM(J70:J72) -> 33 | K73: =SUM(K70:K72) -> 16 | L73: =SUM(L70:L72) -> 0 | M73: =SUM(M70:M72) -> 0 | ... Q73: =SUM(Q70:Q72) -> 49
A74: TỔNG CỘNG | F74: =F73+F69+F65+F63+F58+F52+F46+F38+F36+F34+F31+F29+F27+F25+F20+F17+F12 -> 3235 | G74: =G73+G69+G65+G63+G58+G52+G46+G38+G36+G34+G31+G29+G27+G25+G20+G17+G12 -> 5440 | H74: =H73+H69+H65+H63+H58+H52+H46+H38+H36+H34+H31+H29+H27+H25+H20+H17+H12 -> 8675 | I74: =I12+I17+I20+I25+I27+I29+I31+I34+I36+I38+I46+I52+I58+I63+I65+I69+I73 -> 46 | J74: =J12+J17+J20+J25+J27+J29+J31+J34+J36+J38+J46+J52+J58+J63+J65+J69+J73 -> 1996 | K74: =K12+K17+K20+K25+K27+K29+K31+K34+K36+K38+K46+K52+K58+K63+K65+K69+K73 -> 2128 | L74: =L12+L17+L20+L25+L27+L29+L31+L34+L36+L38+L46+L52+L58+L63+L65+L69+L73 -> 33 | M74: =M12+M17+M20+M25+M27+M29+M31+M34+M36+M38+M46+M52+M58+M63+M65+M69+M73 -> 217 | N74: =N12+N17+N20+N25+N27+N29+N31+N34+N36+N38+N46+N52+N58+N63+N65+N69+N73 -> 48 | O74: =O12+O17+O20+O25+O27+O29+O31+O34+O36+O38+O46+O52+O58+O63+O65+O69+O73 -> 80 | P74: =P12+P17+P20+P25+P27+P29+P31+P34+P36+P38+P46+P52+P58+P63+P65+P69+P73 -> 70 | Q74: =Q12+Q17+Q20+Q25+Q27+Q29+Q31+Q34+Q36+Q38+Q46+Q52+Q58+Q63+Q65+Q69+Q73 -> 4618 | R74: =SUM(I74:J74) -> 2042 | S74: =K74+M74+N74+O74+P74+33 -> 2576 | T74: =SUM(T8:T73) -> 2609
F75: 45 ngành | G75: 45 ngành | H75: 49 ngành | I75: Trung cấp: 2042 | K75: Cao đẳng: 2576 | Q75: =2042+2576 -> 4618 | R75: =R74+S74 -> 4618 | T75: =S75 -> 0
L76: =147-33 -> 114
A77: T2: QĐ 1269/QĐ-LTT-ĐT ngày 11/11/2021 v/v sinh viên trúng tuyển nhập học cao đẳng, trung cấp khoá 2021
A78: T4: QĐ 1269/QĐ-LTT-ĐT ngày 11/11/2021 v/v sinh viên trúng tuyển nhập học cao đẳng, trung cấp khoá 2021
A79: C1: QĐ 1269/QĐ-LTT-ĐT ngày 11/11/2021 v/v sinh viên trúng tuyển nhập học cao đẳng, trung cấp khoá 2021
A80: C2: QĐ 24/QĐ-LTT-ĐT ngày 25/01/2022 v/v sinh viên trúng tuyển nhập học cao đẳng liên thông khoá 2021 - đợt A
A81: C3: QĐ 1269/QĐ-LTT-ĐT ngày 11/11/2021 v/v sinh viên trúng tuyển nhập học cao đẳng, trung cấp khoá 2021
A82: C5: QĐ 1269/QĐ-LTT-ĐT ngày 11/11/2021 v/v sinh viên trúng tuyển nhập học cao đẳng, trung cấp khoá 2021
A83: C6: QĐ 1269/QĐ-LTT-ĐT ngày 11/11/2021 v/v sinh viên trúng tuyển nhập học cao đẳng, trung cấp khoá 2021
A84: C7: QĐ 1271/QĐ-LTT-ĐT ngày 11/11/2021 v/v sinh viên trúng tuyển nhập học Cao đẳng Liên kết Quốc tế khoá 2021 (21C7)
E86: Thành phố Hồ Chí Minh, ngày 11 tháng 6 năm 2022
A87: NGƯỜI LẬP BIỂU | E87: TRƯỞNG PHÒNG TUYỂN SINH ĐÀO TẠO
A93: Thái Thị My Sa | E93: Hồ Văn Sĩ

Sheet 22
A1: UBND THÀNH PHỐ HỒ CHÍ MINH | E1: CỘNG HÒA XÃ HỘI CHỦ NGHĨA VIỆT NAM
A2: TRƯỜNG CAO ĐẲNG LÝ TỰ TRỌNG | E2: Độc lập - Tự do - Hạnh phúc
A3: THÀNH PHỐ HỒ CHÍ MINH
A5: TỔNG HỢP NGÀNH NGHỀ ĐÀO TẠO THEO NHÓM MÃ NGÀNH CẤP III THÔNG TƯ 26/2020 CỦA BỘ LAO ĐỘNG - THƯƠNG BINH VÀ XÃ HỘI
A6: TT | B6: TÊN NGÀNH CẤP IV | C6: MÃ NGÀNH/NGHỀ CẤP IV | E6: TÊN NGÀNH CẤP III | F6: Chỉ tiêu tuyển sinh 2022 | H6: TỔNG CỘNG CHỈ TIÊU 2022 | I6: Tuyển sinh 2022
C7: Trung cấp | D7: Cao đẳng | F7: Trung cấp | G7: Cao đẳng | I7: T2 | J7: T4 | K7: C1 | L7: C2 | M7: C2 | N7: C2B | O7: C3 | P7: C5 | Q7: C6 | R7: C7 | S7: TỔNG | T7: TC | U7: CĐ
A8: 1 | B8: Công nghệ kỹ thuật cơ khí | C8: 5510201 | D8: 6510201 | E8: Công nghệ kỹ thuật cơ khí | F8: 90 | G8: 280 | H8: =F8+G8 -> 370 | J8: 73 | K8: 242 | L8: 51 | M8: 52 | N8: 39 | O8: 19 | R8: 20 | S8: =I8+J8+K8+M8+N8+O8+Q8+R8 -> 445 | T8: =SUM(I8:J8) -> 73 | U8: =K8+M8+N8+O8+P8+Q8+R8 -> 372
A9: 2 | B9: Công nghệ kỹ thuật nhiệt | C9: 5510211 | D9: 6510211 | E9: Công nghệ kỹ thuật cơ khí | F9: 65 | G9: 150 | H9: =F9+G9 -> 215 | J9: 0 | K9: 20 | S9: =I9+J9+K9+M9+N9+O9+Q9+R9 -> 20 | T9: =SUM(I9:J9) -> 0 | U9: =K9+M9+N9+O9+P9+Q9+R9 -> 20
A10: 3 | B10: Công nghệ chế tạo máy | C10: 5510212 | D10: 6510212 | E10: Công nghệ kỹ thuật cơ khí | F10: 100 | G10: 140 | H10: =F10+G10 -> 240 | J10: 33 | K10: 54 | N10: 32 | S10: =I10+J10+K10+M10+N10+O10+Q10+R10 -> 119 | T10: =SUM(I10:J10) -> 33 | U10: =K10+M10+N10+O10+P10+Q10+R10 -> 86
A11: 4 | B11: Công nghệ ô tô | C11: 5510216 | D11: 6510216 | E11: Công nghệ kỹ thuật cơ khí | F11: 205 | G11: 520 | H11: =F11+G11 -> 725 | I11: 32 | J11: 330 | K11: 566 | L11: 62 | M11: 64 | N11: 144 | O11: 116 | Q11: 18 | S11: =I11+J11+K11+M11+N11+O11+Q11+R11 -> 1270 | T11: =SUM(I11:J11) -> 362 | U11: =K11+M11+N11+O11+P11+Q11+R11 -> 908
A12: 1. CHỈ TIÊU TỔNG CỘNG CỦA NHÓM | F12: =SUM(F8:F11) -> 460 | G12: =SUM(G8:G11) -> 1090 | H12: =SUM(H8:H11) -> 1550 | I12: =SUM(I8:I11) -> 32 | J12: =SUM(J8:J11) -> 436 | K12: =SUM(K8:K11) -> 882 | L12: =SUM(L8:L11) -> 113 | M12: =SUM(M8:M11) -> 116 | ... S12: =SUM(S8:S11) -> 1854
A13: 5 | B13: Công nghệ kỹ thuật điện, điện tử | C13: 5510303 | D13: 6510303 | E13: Công nghệ kỹ thuật điện, điện tử và viễn thông | F13: 85 | G13: 190 | H13: =F13+G13 -> 275 | J13: 52 | K13: 58 | N13: 27 | S13: =I13+J13+K13+M13+N13+O13+Q13+R13 -> 137 | T13: =SUM(I13:J13) -> 52 | U13: =K13+M13+N13+O13+P13+Q13+R13 -> 85
A14: 6 | B14: Công nghệ kỹ thuật điều khiển và tự động hóa | D14: 6510305 | E14: Công nghệ kỹ thuật điện, điện tử và viễn thông | G14: 120 | H14: =F14+G14 -> 120 | K14: 45 | S14: =I14+J14+K14+M14+N14+O14+Q14+R14 -> 45 | T14: =SUM(I14:J14) -> 0 | U14: =K14+M14+N14+O14+P14+Q14+R14 -> 45
A15: 7 | B15: Công nghệ kỹ thuật điều khiển tự động | C15: 5510305 | E15: Công nghệ kỹ thuật điện, điện tử và viễn thông | F15: 70 | H15: =F15+G15 -> 70 | J15: 27 | S15: =I15+J15+K15+M15+N15+O15+Q15+R15 -> 27 | T15: =SUM(I15:J15) -> 27 | U15: =K15+M15+N15+O15+P15+Q15+R15 -> 0
A16: 8 | B16: Công nghệ kỹ thuật điện tử, truyền thông | C16: 5510312 | D16: 6510312 | E16: Công nghệ kỹ thuật điện, điện tử và viễn thông | F16: 85 | G16: 115 | H16: =F16+G16 -> 200 | J16: 0 | S16: =I16+J16+K16+M16+N16+O16+Q16+R16 -> 0 | T16: =SUM(I16:J16) -> 0 | U16: =K16+M16+N16+O16+P16+Q16+R16 -> 0
A17: 2. CHỈ TIÊU TỔNG CỘNG CỦA NHÓM | F17: =SUM(F13:F16) -> 240 | G17: =SUM(G13:G16) -> 425 | H17: =SUM(H13:H16) -> 665 | I17: =SUM(I13:I16) -> 0 | J17: =SUM(J13:J16) -> 79 | K17: =SUM(K13:K16) -> 103 | L17: =SUM(L13:L16) -> 0 | M17: =SUM(M13:M16) -> 0 | ... S17: =SUM(S13:S16) -> 209
A18: 9 | B18: Quản trị lữ hành | C18: 5810104 | D18: 6810104 | E18: Du lịch | F18: 50 | G18: 50 | H18: =F18+G18 -> 100 | J18: 0 | K18: 17 | S18: =I18+J18+K18+M18+N18+O18+Q18+R18 -> 17 | T18: =SUM(I18:J18) -> 0 | U18: =K18+M18+N18+O18+P18+Q18+R18 -> 17
A19: 10 | B19: Quản trị du lịch MICE | C19: 5810105 | D19: 6810105 | E19: Du lịch | F19: 50 | G19: 50 | H19: =F19+G19 -> 100 | J19: 28 | S19: =I19+J19+K19+M19+N19+O19+Q19+R19 -> 28 | T19: =SUM(I19:J19) -> 28 | U19: =K19+M19+N19+O19+P19+Q19+R19 -> 0
A20: 3. CHỈ TIÊU TỔNG CỘNG CỦA NHÓM | F20: =SUM(F18:F19) -> 100 | G20: =SUM(G18:G19) -> 100 | H20: =SUM(H18:H19) -> 200 | I20: =SUM(I18:I19) -> 0 | J20: =SUM(J18:J19) -> 28 | K20: =SUM(K18:K19) -> 17 | L20: =SUM(L18:L19) -> 0 | M20: =SUM(M18:M19) -> 0 | ... S20: =SUM(S18:S19) -> 45
A21: 11 | B21: Quản trị khách sạn | C21: 5810201 | D21: 6810201 | E21: Khách sạn, nhà hàng | F21: 35 | G21: 35 | H21: =F21+G21 -> 70 | J21: 45 | K21: 33 | S21: =I21+J21+K21+M21+N21+O21+Q21+R21 -> 78 | T21: =SUM(I21:J21) -> 45 | U21: =K21+M21+N21+O21+P21+Q21+R21 -> 33
A22: 12 | B22: Quản trị nhà hàng | D22: 6810206 | E22: Khách sạn, nhà hàng | G22: 35 | H22: =F22+G22 -> 35 | K22: 29 | S22: =I22+J22+K22+M22+N22+O22+Q22+R22 -> 29 | T22: =SUM(I22:J22) -> 0 | U22: =K22+M22+N22+O22+P22+Q22+R22 -> 29
A23: 13 | B23: Nghiệp vụ nhà hàng | C23: 5810206 | E23: Khách sạn, nhà hàng | F23: 35 | H23: =F23+G23 -> 35 | J23: 51 | S23: =I23+J23+K23+M23+N23+O23+Q23+R23 -> 51 | T23: =SUM(I23:J23) -> 51 | U23: =K23+M23+N23+O23+P23+Q23+R23 -> 0
A24: 14 | B24: Kỹ thuật làm bánh | C24: 5810210 | D24: 6810210 | E24: Khách sạn, nhà hàng | F24: 50 | G24: 50 | H24: =F24+G24 -> 100 | J24: 99 | K24: 18 | S24: =I24+J24+K24+M24+N24+O24+Q24+R24 -> 117 | T24: =SUM(I24:J24) -> 99 | U24: =K24+M24+N24+O24+P24+Q24+R24 -> 18
A25: 4. CHỈ TIÊU TỔNG CỘNG CỦA NHÓM | F25: =SUM(F21:F24) -> 120 | G25: =SUM(G21:G24) -> 120 | H25: =SUM(H21:H24) -> 240 | I25: =SUM(I21:I24) -> 0 | J25: =SUM(J21:J24) -> 195 | K25: =SUM(K21:K24) -> 80 | L25: =SUM(L21:L24) -> 0 | M25: =SUM(M21:M24) -> 0 | ... S25: =SUM(S21:S24) -> 275
A26: 15 | B26: Quản lý xây dựng | D26: 6580301 | E26: Quản lý xây dựng | G26: 70 | H26: =F26+G26 -> 70 | S26: =I26+J26+K26+M26+N26+O26+Q26+R26 -> 0 | T26: =SUM(I26:J26) -> 0 | U26: =K26+M26+N26+O26+P26+Q26+R26 -> 0
A27: 5. CHỈ TIÊU TỔNG CỘNG CỦA NHÓM | G27: =SUM(G26) -> 70 | H27: =SUM(H26) -> 70 | I27: =SUM(I26) -> 0 | J27: =SUM(J26) -> 0 | K27: =SUM(K26) -> 0 | L27: =SUM(L26) -> 0 | M27: =SUM(M26) -> 0 | N27: =SUM(N26) -> 0 | ... R27: =SUM(R26) -> 0 | S27: =S26 -> 0
A28: 16 | B28: Kỹ thuật xây dựng | C28: 5580201 | D28: 6580201 | E28: Xây dựng | F28: 60 | G28: 60 | H28: =F28+G28 -> 120 | J28: 22 | K28: 35 | L28: 1 | N28: (10) | S28: =I28+J28+K28+M28+O28+Q28+R28 -> 57 | T28: =SUM(I28:J28) -> 22 | U28: =K28+M28+O28+P28+Q28+R28 -> 35
A29: 6. CHỈ TIÊU TỔNG CỘNG CỦA NHÓM | F29: =SUM(F28) -> 60 | G29: =SUM(G28) -> 60 | H29: =SUM(H28) -> 120 | I29: =SUM(I28) -> 0 | J29: =SUM(J28) -> 22 | K29: =SUM(K28) -> 35 | L29: =SUM(L28) -> 1 | M29: =SUM(M28) -> 0 | ... R29: =SUM(R28) -> 0 | S29: =S28 -> 57
A30: 17 | B30: Kế toán doanh nghiệp | C30: 5340302 | D30: 6340302 | E30: Kế toán - Kiểm toán | F30: 65 | G30: 160 | H30: =F30+G30 -> 225 | J30: 54 | K30: 60 | L30: 34 | M30: 36 | N30: 57 | S30: =I30+J30+K30+M30+N30+O30+Q30+R30 -> 207 | T30: =SUM(I30:J30) -> 54 | U30: =K30+M30+N30+O30+P30+Q30+R30 -> 153
A31: 7. CHỈ TIÊU TỔNG CỘNG CỦA NHÓM | F31: =SUM(F30) -> 65 | G31: =SUM(G30) -> 160 | H31: =SUM(H30) -> 225 | I31: =SUM(I30) -> 0 | J31: =SUM(J30) -> 54 | K31: =SUM(K30) -> 60 | L31: =SUM(L30) -> 34 | M31: =SUM(M30) -> 36 | ... R31: =SUM(R30) -> 0 | S31: =S30 -> 207
A32: 18 | B32: Logistics | C32: 5340113 | D32: 6340113 | E32: Kinh doanh | F32: 30 | G32: 60 | H32: =F32+G32 -> 90 | J32: 45 | K32: 47 | N32: 18 | S32: =I32+J32+K32+M32+N32+O32+Q32+R32 -> 110 | T32: =SUM(I32:J32) -> 45 | U32: =K32+M32+N32+O32+P32+Q32+R32 -> 65
A33: 19 | B33: Thương mại điện tử | C33: 5340122 | D33: 6340122 | E33: Kinh doanh | F33: 50 | G33: 75 | H33: =F33+G33 -> 125 | J33: 30 | K33: 39 | N33: (7) | S33: =I33+J33+K33+M33+N33+O33+Q33+R33 -> 62 | T33: =SUM(I33:J33) -> 30 | U33: =K33+M33+O33+P33+Q33+R33 -> 39
A34: 8. CHỈ TIÊU TỔNG CỘNG CỦA NHÓM | F34: =SUM(F32:F33) -> 80 | G34: =SUM(G32:G33) -> 135 | H34: =SUM(H32:H33) -> 215 | I34: =SUM(I32:I33) -> 0 | J34: =SUM(J32:J33) -> 75 | K34: =SUM(K32:K33) -> 86 | L34: =SUM(L32:L33) -> 0 | M34: =SUM(M32:M33) -> 0 | ... S34: =SUM(S32:S33) -> 172
A35: 20 | B35: Quản trị doanh nghiệp vừa và nhỏ | C35: 5340417 | D35: 6340417 | E35: Quản trị - Quản lý | F35: 65 | G35: 160 | H35: =F35+G35 -> 225 | J35: 76 | K35: 115 | L35: 34 | M35: 33 | N35: 35 | S35: =I35+J35+K35+M35+N35+O35+Q35+R35 -> 259 | T35: =SUM(I35:J35) -> 76 | U35: =K35+M35+N35+O35+P35+Q35+R35 -> 183
A36: 9. CHỈ TIÊU TỔNG CỘNG CỦA NHÓM | F36: =SUM(F35) -> 65 | G36: =SUM(G35) -> 160 | H36: =SUM(H35) -> 225 | I36: =SUM(I35) -> 0 | J36: =SUM(J35) -> 76 | K36: =SUM(K35) -> 115 | L36: =SUM(L35) -> 34 | M36: =SUM(M35) -> 33 | ... R36: =SUM(R35) -> 0 | S36: =S35 -> 259
A37: 21 | B37: Tài chính doanh nghiệp | C37: 5340201 | D37: 6340201 | E37: Tài chính - Ngân hàng - Bảo hiểm | F37: 65 | G37: 160 | H37: =F37+G37 -> 225 | J37: 32 | K37: 0 | N37: 15 | S37: =I37+J37+K37+M37+N37+O37+Q37+R37 -> 47 | T37: =SUM(I37:J37) -> 32 | U37: =K37+M37+N37+O37+P37+Q37+R37 -> 15
A38: 10. CHỈ TIÊU TỔNG CỘNG CỦA NHÓM | F38: =SUM(F37) -> 65 | G38: =SUM(G37) -> 160 | H38: =SUM(H37) -> 225 | I38: =SUM(I37) -> 0 | J38: =SUM(J37) -> 32 | K38: =SUM(K37) -> 0 | L38: =SUM(L37) -> 0 | M38: =SUM(M37) -> 0 | ... R38: =SUM(R37) -> 0 | S38: =S37 -> 47
A39: 22 | B39: Chế tạo khuôn mẫu | C39: 5520105 | D39: 6520105 | E39: Kỹ thuật cơ khí và cơ kỹ thuật | F39: 30 | G39: 60 | H39: =F39+G39 -> 90 | J39: 0 | K39: 0 | S39: =I39+J39+K39+M39+N39+O39+Q39+R39 -> 0 | T39: =SUM(I39:J39) -> 0 | U39: =K39+M39+N39+O39+P39+Q39+R39 -> 0
A40: 23 | B40: Lắp đặt thiết bị lạnh | C40: 5520114 | D40: 6520114 | E40: Kỹ thuật cơ khí và cơ kỹ thuật | F40: 75 | G40: 110 | H40: =F40+G40 -> 185 | J40: 0 | K40: 0 | N40: 22 | S40: =I40+J40+K40+M40+N40+O40+Q40+R40 -> 22 | T40: =SUM(I40:J40) -> 0 | U40: =K40+M40+N40+O40+P40+Q40+R40 -> 22
A41: 24 | B41: Cắt gọt kim loại | C41: 5520121 | D41: 6520121 | E41: Kỹ thuật cơ khí và cơ kỹ thuật | F41: 65 | G41: 110 | H41: =F41+G41 -> 175 | J41: 0 | K41: 0 | S41: =I41+J41+K41+M41+N41+O41+Q41+R41 -> 0 | T41: =SUM(I41:J41) -> 0 | U41: =K41+M41+N41+O41+P41+Q41+R41 -> 0
A42: 25 | B42: Sửa chữa máy tàu thủy | C42: 5520131 | D42: 6520131 | E42: Kỹ thuật cơ khí và cơ kỹ thuật | F42: 35 | G42: 35 | H42: =F42+G42 -> 70 | J42: 0 | K42: 0 | S42: =I42+J42+K42+M42+N42+O42+Q42+R42 -> 0 | T42: =SUM(I42:J42) -> 0 | U42: =K42+M42+N42+O42+P42+Q42+R42 -> 0
A43: 26 | B43: Sửa chữa máy nâng chuyển | C43: 5520145 | D43: 6520145 | E43: Kỹ thuật cơ khí và cơ kỹ thuật | F43: 50 | G43: 50 | H43: =F43+G43 -> 100 | J43: 0 | K43: 0 | S43: =I43+J43+K43+M43+N43+O43+Q43+R43 -> 0 | T43: =SUM(I43:J43) -> 0 | U43: =K43+M43+N43+O43+P43+Q43+R43 -> 0
A44: 27 | B44: Bảo trì hệ thống thiết bị công nghiệp | C44: 5520155 | D44: 6520155 | E44: Kỹ thuật cơ khí và cơ kỹ thuật | F44: 65 | G44: 120 | H44: =F44+G44 -> 185 | J44: 0 | K44: 0 | S44: =I44+J44+K44+M44+N44+O44+Q44+R44 -> 0 | T44: =SUM(I44:J44) -> 0 | U44: =K44+M44+N44+O44+P44+Q44+R44 -> 0
A45: 28 | B45: Cơ khí chế tạo | C45: 5520117 | E45: Kỹ thuật cơ khí và cơ kỹ thuật | F45: 100 | H45: =F45+G45 -> 100 | J45: 29 | K45: 0 | S45: =I45+J45+K45+M45+N45+O45+Q45+R45 -> 29 | T45: =SUM(I45:J45) -> 29 | U45: =K45+M45+N45+O45+P45+Q45+R45 -> 0
A46: 11. CHỈ TIÊU TỔNG CỘNG CỦA NHÓM | F46: =SUM(F39:F45) -> 420 | G46: =SUM(G39:G45) -> 485 | H46: =SUM(H39:H45) -> 905 | I46: =SUM(I39:I45) -> 0 | J46: =SUM(J39:J45) -> 29 | K46: =SUM(K39:K45) -> 0 | L46: =SUM(L39:L45) -> 0 | M46: =SUM(M39:M45) -> 0 | ... S46: =SUM(S39:S45) -> 51
A47: 29 | B47: Kỹ thuật máy lạnh và điều hòa không khí | C47: 5520205 | D47: 6520205 | E47: Kỹ thuật điện, điện tử và viễn thông | F47: 65 | G47: 125 | H47: =F47+G47 -> 190 | J47: 45 | K47: 64 | L47: 42 | M47: 44 | N47: 34 | S47: =I47+J47+K47+M47+N47+O47+Q47+R47 -> 187 | T47: =SUM(I47:J47) -> 45 | U47: =K47+M47+N47+O47+P47+Q47+R47 -> 142
A48: 30 | B48: Điện tử công nghiệp | C48: 5520225 | D48: 6520225 | E48: Kỹ thuật điện, điện tử và viễn thông | F48: 115 | G48: 165 | H48: =F48+G48 -> 280 | J48: 0 | K48: 0 | S48: =I48+J48+K48+M48+N48+O48+Q48+R48 -> 0 | T48: =SUM(I48:J48) -> 0 | U48: =K48+M48+N48+O48+P48+Q48+R48 -> 0
A49: 31 | B49: Điện công nghiệp | C49: 5520227 | D49: 6520227 | E49: Kỹ thuật điện, điện tử và viễn thông | F49: 135 | G49: 230 | H49: =F49+G49 -> 365 | J49: 60 | K49: 93 | L49: 39 | M49: 37 | N49: 60 | S49: =I49+J49+K49+M49+N49+O49+Q49+R49 -> 250 | T49: =SUM(I49:J49) -> 60 | U49: =K49+M49+N49+O49+P49+Q49+R49 -> 190
A50: 32 | B50: Vận hành, sửa chữa thiết bị lạnh | C50: 5520255 | D50: 6520255 | E50: Kỹ thuật điện, điện tử và viễn thông | F50: 95 | G50: 115 | H50: =F50+G50 -> 210 | J50: 85 | K50: 64 | N50: 26 | S50: =I50+J50+K50+M50+N50+O50+Q50+R50 -> 175 | T50: =SUM(I50:J50) -> 85 | U50: =K50+M50+N50+O50+P50+Q50+R50 -> 90
A51: 33 | B51: Cơ điện tử | C51: 5520263 | D51: 6520263 | E51: Kỹ thuật điện, điện tử và viễn thông | F51: 85 | G51: 170 | H51: =F51+G51 -> 255 | J51: 47 | K51: 59 | L51: 18 | M51: 19 | N51: 22 | S51: =I51+J51+K51+M51+N51+O51+Q51+R51 -> 147 | T51: =SUM(I51:J51) -> 47 | U51: =K51+M51+N51+O51+P51+Q51+R51 -> 100
A52: 12. CHỈ TIÊU TỔNG CỘNG CỦA NHÓM | F52: =SUM(F47:F51) -> 495 | G52: =SUM(G47:G51) -> 805 | H52: =SUM(H47:H51) -> 1300 | I52: =SUM(I47:I51) -> 0 | J52: =SUM(J47:J51) -> 237 | K52: =SUM(K47:K51) -> 280 | L52: =SUM(L47:L51) -> 99 | M52: =SUM(M47:M51) -> 100 | ... S52: =SUM(S47:S51) -> 759
A53: 34 | B53: Tin học ứng dụng | C53: 5480205 | D53: 6480205 | E53: Công nghệ thông tin | F53: 65 | G53: 75 | H53: =F53+G53 -> 140 | J53: 41 | K53: 25 | N53: 42 | S53: =I53+J53+K53+M53+N53+O53+Q53+R53 -> 108 | T53: =SUM(I53:J53) -> 41 | U53: =K53+M53+N53+O53+P53+Q53+R53 -> 67
A54: 35 | B54: Lập trình máy tính | C54: 5480207 | D54: 6480207 | E54: Công nghệ thông tin | F54: 85 | G54: 150 | H54: =F54+G54 -> 235 | J54: 149 | K54: 66 | L54: 42 | M54: 42 | N54: 56 | R54: 14 | S54: =I54+J54+K54+M54+N54+O54+Q54+R54 -> 327 | T54: =SUM(I54:J54) -> 149 | U54: =K54+M54+N54+O54+P54+Q54+R54 -> 178
A55: 36 | B55: Quản trị mạng máy tính | C55: 5480209 | D55: 6480209 | E55: Công nghệ thông tin | F55: 65 | G55: 150 | H55: =F55+G55 -> 215 | J55: 60 | K55: 29 | L55: 33 | M55: 28 | N55: 47 | S55: =I55+J55+K55+M55+N55+O55+Q55+R55 -> 164 | T55: =SUM(I55:J55) -> 60 | U55: =K55+M55+N55+O55+P55+Q55+R55 -> 104
A56: 37 | B56: Thiết kế trang Web | C56: 5480214 | D56: 6480214 | E56: Công nghệ thông tin | F56: 65 | G56: 85 | H56: =F56+G56 -> 150 | J56: 38 | K56: 29 | L56: 11 | N56: 45 | S56: =I56+J56+K56+M56+N56+O56+Q56+R56 -> 112 | T56: =SUM(I56:J56) -> 38 | U56: =K56+M56+N56+O56+P56+Q56+R56 -> 74
A57: 38 | B57: An ninh mạng | C57: 5480216 | D57: 6480216 | E57: Công nghệ thông tin | F57: 65 | G57: 85 | H57: =F57+G57 -> 150 | J57: 27 | K57: 0 | N57: 24 | S57: =I57+J57+K57+M57+N57+O57+Q57+R57 -> 51 | T57: =SUM(I57:J57) -> 27 | U57: =K57+M57+N57+O57+P57+Q57+R57 -> 24
A58: 13. CHỈ TIÊU TỔNG CỘNG CỦA NHÓM | F58: =SUM(F53:F57) -> 345 | G58: =SUM(G53:G57) -> 545 | H58: =SUM(H53:H57) -> 890 | I58: =SUM(I53:I57) -> 0 | J58: =SUM(J53:J57) -> 315 | K58: =SUM(K53:K57) -> 149 | L58: =SUM(L53:L57) -> 86 | M58: =SUM(M53:M57) -> 70 | ... S58: =SUM(S53:S57) -> 762
A59: 39 | B59: Truyền thông mạng máy tính | C59: 5480104 | D59: 6480104 | E59: Máy tính | F59: 50 | G59: 50 | H59: =F59+G59 -> 100 | J59: 0 | K59: 0 | S59: =I59+J59+K59+M59+N59+O59+Q59+R59 -> 0 | T59: =SUM(I59:J59) -> 0 | U59: =K59+M59+N59+O59+P59+Q59+R59 -> 0
A60: 40 | B60: Công nghệ kỹ thuật máy tính | D60: 6480105 | E60: Máy tính | G60: 110 | H60: =F60+G60 -> 110 | K60: 64 | L60: 22 | M60: 23 | N60: 30 | S60: =I60+J60+K60+M60+N60+O60+Q60+R60 -> 117 | T60: =SUM(I60:J60) -> 0 | U60: =K60+M60+N60+O60+P60+Q60+R60 -> 117
A61: 41 | B61: Công nghệ kỹ thuật phần cứng máy tính | C61: 5480105 | E61: Máy tính | F61: 85 | H61: =F61+G61 -> 85 | J61: 71 | S61: =I61+J61+K61+M61+N61+O61+Q61+R61 -> 71 | T61: =SUM(I61:J61) -> 71 | U61: =K61+M61+N61+O61+P61+Q61+R61 -> 0
A62: 42 | B62: Đồ họa đa phương tiện | C62: 5480108 | D62: 6480108 | E62: Máy tính | F62: 50 | G62: 50 | H62: =F62+G62 -> 100 | J62: 108 | K62: 0 | S62: =I62+J62+K62+M62+N62+O62+Q62+R62 -> 108 | T62: =SUM(I62:J62) -> 108 | U62: =K62+M62+N62+O62+P62+Q62+R62 -> 0
A63: 14. CHỈ TIÊU TỔNG CỘNG CỦA NHÓM | F63: =SUM(F59:F62) -> 185 | G63: =SUM(G59:G62) -> 210 | H63: =SUM(H59:H62) -> 395 | I63: =SUM(I59:I62) -> 0 | J63: =SUM(J59:J62) -> 179 | K63: =SUM(K59:K62) -> 64 | L63: =SUM(L59:L62) -> 22 | M63: =SUM(M59:M62) -> 23 | ... S63: =SUM(S59:S62) -> 296
A64: 43 | B64: Thiết kế đồ họa | C64: 5210402 | D64: 6210402 | E64: Mỹ thuật ứng dụng | F64: 90 | G64: 130 | H64: =F64+G64 -> 220 | J64: 140 | K64: 109 | L64: 25 | M64: 25 | N64: 74 | S64: =I64+J64+K64+M64+N64+O64+Q64+R64 -> 348 | T64: =SUM(I64:J64) -> 140 | U64: =K64+M64+N64+O64+P64+Q64+R64 -> 208
A65: 15. CHỈ TIÊU TỔNG CỘNG CỦA NHÓM | F65: =SUM(F64) -> 90 | G65: =SUM(G64) -> 130 | H65: =SUM(H64) -> 220 | I65: =SUM(I64) -> 0 | J65: =SUM(J64) -> 140 | K65: =SUM(K64) -> 109 | L65: =SUM(L64) -> 25 | M65: =SUM(M64) -> 25 | ... R65: =SUM(R64) -> 0 | S65: =S64 -> 348
A66: 44 | B66: Tiếng Anh | C66: 5220206 | D66: 6220206 | E66: Ngôn ngữ, văn học và văn hóa nước ngoài | F66: 150 | G66: 320 | H66: =F66+G66 -> 470 | I66: 24 | J66: 93 | K66: 83 | L66: 56 | M66: 55 | N66: 92 | S66: =I66+J66+K66+M66+N66+O66+Q66+R66 -> 347 | T66: =SUM(I66:J66) -> 117 | U66: =K66+M66+N66+O66+P66+Q66+R66 -> 230
A67: 45 | B67: Tiếng Hàn Quốc | C67: 5220211 | D67: 6220211 | E67: Ngôn ngữ, văn học và văn hóa nước ngoài | F67: 50 | G67: 50 | H67: =F67+G67 -> 100 | J67: 26 | K67: 0 | S67: =I67+J67+K67+M67+N67+O67+Q67+R67 -> 26 | T67: =SUM(I67:J67) -> 26 | U67: =K67+M67+N67+O67+P67+Q67+R67 -> 0
A68: 46 | B68: Tiếng Nhật | C68: 5220212 | D68: 6220212 | E68: Ngôn ngữ, văn học và văn hóa nước ngoài | F68: 35 | G68: 35 | H68: =F68+G68 -> 70 | J68: 23 | K68: 24 | S68: =I68+J68+K68+M68+N68+O68+Q68+R68 -> 47 | T68: =SUM(I68:J68) -> 23 | U68: =K68+M68+N68+O68+P68+Q68+R68 -> 24
A69: 16. CHỈ TIÊU TỔNG CỘNG CỦA NHÓM | F69: =SUM(F66:F68) -> 235 | G69: =SUM(G66:G68) -> 405 | H69: =SUM(H66:H68) -> 640 | I69: =SUM(I66:I68) -> 24 | J69: =SUM(J66:J68) -> 142 | K69: =SUM(K66:K68) -> 107 | L69: =SUM(L66:L68) -> 56 | M69: =SUM(M66:M68) -> 55 | ... S69: =SUM(S66:S68) -> 420
A70: 47 | B70: Công nghệ may | C70: 5540204 | D70: 6540204 | E70: Sản xuất, chế biến sợi, vải, giày, da | F70: 100 | G70: 150 | H70: =F70+G70 -> 250 | J70: 24 | K70: 20 | L70: 10 | M70: 12 | N70: 25 | S70: =I70+J70+K70+M70+N70+O70+Q70+R70 -> 81 | T70: =SUM(I70:J70) -> 24 | U70: =K70+M70+N70+O70+P70+Q70+R70 -> 57
A71: 48 | B71: May thời trang | C71: 5540205 | D71: 6540205 | E71: Sản xuất, chế biến sợi, vải, giày, da | F71: 65 | G71: 150 | H71: =F71+G71 -> 215 | K71: 0 | S71: =I71+J71+K71+M71+N71+O71+Q71+R71 -> 0 | T71: =SUM(I71:J71) -> 0 | U71: =K71+M71+N71+O71+P71+Q71+R71 -> 0
A72: 49 | B72: Công nghệ may Veston | C72: 5540207 | D72: 6540207 | E72: Sản xuất, chế biến sợi, vải, giày, da | F72: 45 | G72: 80 | H72: =F72+G72 -> 125 | K72: 0 | S72: =I72+J72+K72+M72+N72+O72+Q72+R72 -> 0 | T72: =SUM(I72:J72) -> 0 | U72: =K72+M72+N72+O72+P72+Q72+R72 -> 0
A73: 17. CHỈ TIÊU TỔNG CỘNG CỦA NHÓM | F73: =SUM(F70:F72) -> 210 | G73: =SUM(G70:G72) -> 380 | H73: =SUM(H70:H72) -> 590 | I73: =SUM(I70:I72) -> 0 | J73: =SUM(J70:J72) -> 24 | K73: =SUM(K70:K72) -> 20 | L73: =SUM(L70:L72) -> 10 | M73: =SUM(M70:M72) -> 12 | ... S73: =SUM(S70:S72) -> 81
A74: TỔNG CỘNG | F74: =F73+F69+F65+F63+F58+F52+F46+F38+F36+F34+F31+F29+F27+F25+F20+F17+F12 -> 3235 | G74: =G73+G69+G65+G63+G58+G52+G46+G38+G36+G34+G31+G29+G27+G25+G20+G17+G12 -> 5440 | H74: =H73+H69+H65+H63+H58+H52+H46+H38+H36+H34+H31+H29+H27+H25+H20+H17+H12 -> 8675 | I74: =I12+I17+I20+I25+I27+I29+I31+I34+I36+I38+I46+I52+I58+I63+I65+I69+I73 -> 56 | J74: =J12+J17+J20+J25+J27+J29+J31+J34+J36+J38+J46+J52+J58+J63+J65+J69+J73 -> 2063 | K74: =K12+K17+K20+K25+K27+K29+K31+K34+K36+K38+K46+K52+K58+K63+K65+K69+K73 -> 2107 | L74: =L12+L17+L20+L25+L27+L29+L31+L34+L36+L38+L46+L52+L58+L63+L65+L69+L73 -> 480 | M74: =M12+M17+M20+M25+M27+M29+M31+M34+M36+M38+M46+M52+M58+M63+M65+M69+M73 -> 470 | N74: =N12+N17+N20+N25+N27+N29+N31+N34+N36+N38+N46+N52+N58+N63+N65+N69+N73 -> 966 | O74: =O12+O17+O20+O25+O27+O29+O31+O34+O36+O38+O46+O52+O58+O63+O65+O69+O73 -> 135 | P74: =P12+P17+P20+P25+P27+P29+P31+P34+P36+P38+P46+P52+P58+P63+P65+P69+P73 -> 0 | ... S74: =S12+S17+S20+S25+S27+S29+S31+S34+S36+S38+S46+S52+S58+S63+S65+S69+S73 -> 5842 | T74: =SUM(I74:J74) -> 2119 | U74: =SUM(U8:U73) -> 3730
F75: 46 ngành | G75: 46 ngành | H75: 50 ngành | I75: Trung cấp: 2119 | K75: Cao đẳng: 3730 | T75: =T74+U74 -> 5849
L76: =485-470 -> 15 | M76: =L74-M74 -> 10 | N76: 987
A77: T2: QĐ 719/QĐ-LTT-ĐT ngày 01/11/2022 v/v sinh viên trúng tuyển nhập học cao đẳng, trung cấp khoá 2022
A78: T4: QĐ 719/QĐ-LTT-ĐT ngày 01/11/2022 v/v sinh viên trúng tuyển nhập học cao đẳng, trung cấp khoá 2022
A79: C1: QĐ 719/QĐ-LTT-ĐT ngày 01/11/2022 v/v sinh viên trúng tuyển nhập học cao đẳng, trung cấp khoá 2022
A80: C2: QĐ 209/QĐ-LTT-ĐT ngày 21/4/2022 v/v sinh viên trúng tuyển nhập học cao đẳng liên thông khoá 2022 - đợt A
A81: C2B: QĐ 723/QĐ-LTT-ĐT ngày 01/11/2022 v/v sinh viên trúng tuyển nhập học cao đẳng liên thông khoá 2022 - đợt B
A82: C3: QĐ 719/QĐ-LTT-ĐT ngày 01/11/2022 v/v sinh viên trúng tuyển nhập học cao đẳng, trung cấp khoá 2022
A83: C6: QĐ 719/QĐ-LTT-ĐT ngày 01/11/2022 v/v sinh viên trúng tuyển nhập học cao đẳng, trung cấp khoá 2022
A84: C7: QĐ 721/QĐ-LTT-ĐT ngày 01/11/2022 v/v sinh viên trúng tuyển nhập học Cao đẳng Liên kết Quốc tế khoá 2022 (22C7)
E86: Thành phố Hồ Chí Minh, ngày 14 tháng 02 năm 2023
A87: NGƯỜI LẬP BIỂU | E87: TRƯỞNG PHÒNG TUYỂN SINH ĐÀO TẠO
A93: Thái Thị My Sa | E93: Nguyễn Thành Nam

Sheet 23 V1
A1: UBND THÀNH PHỐ HỒ CHÍ MINH | E1: CỘNG HÒA XÃ HỘI CHỦ NGHĨA VIỆT NAM
A2: TRƯỜNG CAO ĐẲNG LÝ TỰ TRỌNG | E2: Độc lập - Tự do - Hạnh phúc
A3: THÀNH PHỐ HỒ CHÍ MINH
A5: TỔNG HỢP NGÀNH NGHỀ ĐÀO TẠO THEO NHÓM MÃ NGÀNH CẤP III THÔNG TƯ 26/2020 CỦA BỘ LAO ĐỘNG - THƯƠNG BINH VÀ XÃ HỘI
A6: TT | B6: TÊN NGÀNH CẤP IV | C6: MÃ NGÀNH/NGHỀ CẤP IV | E6: TÊN NGÀNH CẤP III | F6: Chỉ tiêu tuyển sinh 2023 | H6: TỔNG CỘNG CHỈ TIÊU 2023 | I6: Tuyển sinh 2023
C7: Trung cấp | D7: Cao đẳng | F7: Trung cấp | G7: Cao đẳng | I7: T2 | J7: T3 | K7: T3 k học | L7: T4 | M7: T5 | N7: T5 k học | O7: C1 | P7: C2 | Q7: C3 | R7: C8 | S7: TỔNG | T7: TC | U7: CĐ
A8: 1 | B8: Công nghệ kỹ thuật cơ khí | C8: 5510201 | D8: 6510201 | E8: Công nghệ kỹ thuật cơ khí | F8: 90 | G8: 280 | H8: =F8+G8 -> 370 | L8: =INDEX([1]Sheet9!$E$7:$E$34,MATCH([1]Nguồn!B8,[1]Sheet9!$D$7:$D$34,0)) -> 106 | O8: =INDEX([1]CD!$B$6:$B$32,MATCH([1]Nguồn!B8,[1]CD!$A$6:$A$32,0)) -> 158 | P8: =INDEX([1]CD!$F$17:$F$49,MATCH([1]Nguồn!B8,[1]CD!$E$17:$E$49,0)) -> 53 | S8: =SUM(I8:R8) -> 317 | T8: =I8+J8+L8+M8 -> 106 | U8: =SUM(O8:R8) -> 211
A9: 2 | B9: Công nghệ kỹ thuật nhiệt | C9: 5510211 | D9: 6510211 | E9: Công nghệ kỹ thuật cơ khí | F9: 65 | G9: 150 | H9: =F9+G9 -> 215 | O9: =INDEX([1]CD!$B$6:$B$32,MATCH([1]Nguồn!B9,[1]CD!$A$6:$A$32,0)) -> 20 | P9: =INDEX([1]CD!$F$17:$F$49,MATCH([1]Nguồn!B9,[1]CD!$E$17:$E$49,0)) -> 17 | S9: =SUM(I9:R9) -> 37 | T9: =I9+J9+L9+M9 -> 0 | U9: =SUM(O9:R9) -> 37
A10: 3 | B10: Công nghệ chế tạo máy | C10: 5510212 | D10: 6510212 | E10: Công nghệ kỹ thuật cơ khí | F10: 100 | G10: 140 | H10: =F10+G10 -> 240 | L10: =INDEX([1]Sheet9!$E$7:$E$34,MATCH([1]Nguồn!B10,[1]Sheet9!$D$7:$D$34,0)) -> 46 | O10: =INDEX([1]CD!$B$6:$B$32,MATCH([1]Nguồn!B10,[1]CD!$A$6:$A$32,0)) -> 26 | P10: =INDEX([1]CD!$F$17:$F$49,MATCH([1]Nguồn!B10,[1]CD!$E$17:$E$49,0)) -> 54 | S10: =SUM(I10:R10) -> 126 | T10: =I10+J10+L10+M10 -> 46 | U10: =SUM(O10:R10) -> 80
A11: 4 | B11: Công nghệ ô tô | C11: 5510216 | D11: 6510216 | E11: Công nghệ kỹ thuật cơ khí | F11: 205 | G11: 520 | H11: =F11+G11 -> 725 | I11: 38 | J11: 50 | K11: 54 | L11: =INDEX([1]Sheet9!$E$7:$E$34,MATCH([1]Nguồn!B11,[1]Sheet9!$D$7:$D$34,0)) -> 323 | O11: =INDEX([1]CD!$B$6:$B$32,MATCH([1]Nguồn!B11,[1]CD!$A$6:$A$32,0)) -> 461 | P11: =INDEX([1]CD!$F$17:$F$49,MATCH([1]Nguồn!B11,[1]CD!$E$17:$E$49,0)) -> 170 | Q11: 80 | S11: =SUM(I11:R11) -> 1176 | T11: =I11+J11+L11+M11 -> 411 | U11: =SUM(O11:R11) -> 711 | Y11: 50 | Z11: 52
A12: 1. CHỈ TIÊU TỔNG CỘNG CỦA NHÓM | F12: =SUM(F8:F11) -> 460 | G12: =SUM(G8:G11) -> 1090 | H12: =SUM(H8:H11) -> 1550 | I12: =SUM(I8:I11) -> 38 | J12: =SUM(J8:J11) -> 50 | K12: =SUM(K8:K11) -> 54 | L12: =SUM(L8:L11) -> 475 | M12: =SUM(M8:M11) -> 0 | O12: =SUM(O8:O11) -> 665 | P12: =SUM(P8:P11) -> 294 | Q12: =SUM(Q8:Q11) -> 80 | R12: =SUM(R8:R11) -> 0 | S12: =SUM(S8:S11) -> 1656 | T12: =I12+J12+L12+M12 -> 563 | U12: =SUM(O12:R12) -> 1039
A13: 5 | B13: Công nghệ kỹ thuật điện, điện tử | C13: 5510303 | D13: 6510303 | E13: Công nghệ kỹ thuật điện, điện tử và viễn thông | F13: 85 | G13: 190 | H13: =F13+G13 -> 275 | L13: =INDEX([1]Sheet9!$E$7:$E$34,MATCH([1]Nguồn!B13,[1]Sheet9!$D$7:$D$34,0)) -> 47 | O13: =INDEX([1]CD!$B$6:$B$32,MATCH([1]Nguồn!B13,[1]CD!$A$6:$A$32,0)) -> 56 | P13: =INDEX([1]CD!$F$17:$F$49,MATCH([1]Nguồn!B13,[1]CD!$E$17:$E$49,0)) -> 34 | S13: =SUM(I13:R13) -> 137 | T13: =I13+J13+L13+M13 -> 47 | U13: =SUM(O13:R13) -> 90
A14: 6 | B14: Công nghệ kỹ thuật điều khiển và tự động hóa | D14: 6510305 | E14: Công nghệ kỹ thuật điện, điện tử và viễn thông | G14: 120 | H14: =F14+G14 -> 120 | O14: =INDEX([1]CD!$B$6:$B$32,MATCH([1]Nguồn!B14,[1]CD!$A$6:$A$32,0)) -> 32 | P14: =INDEX([1]CD!$F$17:$F$49,MATCH([1]Nguồn!B14,[1]CD!$E$17:$E$49,0)) -> 31 | S14: =SUM(I14:R14) -> 63 | T14: =I14+J14+L14+M14 -> 0 | U14: =SUM(O14:R14) -> 63
A15: 7 | B15: Công nghệ kỹ thuật điều khiển tự động | C15: 5510305 | E15: Công nghệ kỹ thuật điện, điện tử và viễn thông | F15: 70 | H15: =F15+G15 -> 70 | S15: =SUM(I15:R15) -> 0 | T15: =I15+J15+L15+M15 -> 0 | U15: =SUM(O15:R15) -> 0 | V15: x
A16: 8 | B16: Công nghệ kỹ thuật điện tử, truyền thông | C16: 5510312 | D16: 6510312 | E16: Công nghệ kỹ thuật điện, điện tử và viễn thông | F16: 85 | G16: 115 | H16: =F16+G16 -> 200 | S16: =SUM(I16:R16) -> 0 | T16: =I16+J16+L16+M16 -> 0 | U16: =SUM(O16:R16) -> 0 | V16: x
A17: 2. CHỈ TIÊU TỔNG CỘNG CỦA NHÓM | F17: =SUM(F13:F16) -> 240 | G17: =SUM(G13:G16) -> 425 | H17: =SUM(H13:H16) -> 665 | I17: =SUM(I13:I16) -> 0 | J17: =SUM(J13:J16) -> 0 | K17: =SUM(K13:K16) -> 0 | L17: =SUM(L13:L16) -> 47 | M17: =SUM(M13:M16) -> 0 | O17: =SUM(O13:O16) -> 88 | P17: =SUM(P13:P16) -> 65 | Q17: =SUM(Q13:Q16) -> 0 | R17: =SUM(R13:R16) -> 0 | S17: =SUM(S13:S16) -> 200 | T17: =I17+J17+L17+M17 -> 47 | U17: =SUM(O17:R17) -> 153
A18: 9 | B18: Quản trị lữ hành | C18: 5810104 | D18: 6810104 | E18: Du lịch | F18: 50 | G18: 50 | H18: =F18+G18 -> 100 | K18: =INDEX([1]Sheet9!$V$17:$V$30,MATCH([1]Nguồn!B18,[1]Sheet9!$S$17:$S$30,0)) -> 76 | P18: =INDEX([1]CD!$F$17:$F$49,MATCH([1]Nguồn!B18,[1]CD!$E$17:$E$49,0)) -> 15 | S18: =SUM(I18:R18) -> 91 | T18: =I18+J18+L18+M18 -> 0 | U18: =SUM(O18:R18) -> 15 | X18: 76
A19: 10 | B19: Quản trị du lịch MICE | C19: 5810105 | D19: 6810105 | E19: Du lịch | F19: 50 | G19: 50 | H19: =F19+G19 -> 100 | L19: =INDEX([1]Sheet9!$E$7:$E$34,MATCH([1]Nguồn!B19,[1]Sheet9!$D$7:$D$34,0)) -> 41 | P19: =INDEX([1]CD!$F$17:$F$49,MATCH([1]Nguồn!B19,[1]CD!$E$17:$E$49,0)) -> 33 | S19: =SUM(I19:R19) -> 74 | T19: =I19+J19+L19+M19 -> 41 | U19: =SUM(O19:R19) -> 33
A20: 3. CHỈ TIÊU TỔNG CỘNG CỦA NHÓM | F20: =SUM(F18:F19) -> 100 | G20: =SUM(G18:G19) -> 100 | H20: =SUM(H18:H19) -> 200 | I20: =SUM(I18:I19) -> 0 | J20: =SUM(J18:J19) -> 0 | K20: =SUM(K18:K19) -> 76 | L20: =SUM(L18:L19) -> 41 | M20: =SUM(M18:M19) -> 0 | O20: =SUM(O18:O19) -> 0 | P20: =SUM(P18:P19) -> 48 | Q20: =SUM(Q18:Q19) -> 0 | R20: =SUM(R18:R19) -> 0 | S20: =SUM(S18:S19) -> 165 | T20: =I20+J20+L20+M20 -> 41 | U20: =SUM(O20:R20) -> 48
A21: 11 | B21: Quản trị khách sạn | C21: 5810201 | D21: 6810201 | E21: Khách sạn, nhà hàng | F21: 35 | G21: 35 | H21: =F21+G21 -> 70 | K21: 15 | L21: =INDEX([1]Sheet9!$E$7:$E$34,MATCH([1]Nguồn!B21,[1]Sheet9!$D$7:$D$34,0)) -> 50 | O21: =INDEX([1]CD!$B$6:$B$32,MATCH([1]Nguồn!B21,[1]CD!$A$6:$A$32,0)) -> 29 | P21: =INDEX([1]CD!$F$17:$F$49,MATCH([1]Nguồn!B21,[1]CD!$E$17:$E$49,0)) -> 31 | S21: =SUM(I21:R21) -> 125 | T21: =I21+J21+L21+M21 -> 50 | U21: =SUM(O21:R21) -> 60 | W21: 15
A22: 12 | B22: Quản trị nhà hàng | D22: 6810206 | E22: Khách sạn, nhà hàng | G22: 35 | H22: =F22+G22 -> 35 | O22: =INDEX([1]CD!$B$6:$B$32,MATCH([1]Nguồn!B22,[1]CD!$A$6:$A$32,0)) -> 31 | P22: =INDEX([1]CD!$F$17:$F$49,MATCH([1]Nguồn!B22,[1]CD!$E$17:$E$49,0)) -> 30 | S22: =SUM(I22:R22) -> 61 | T22: =I22+J22+L22+M22 -> 0 | U22: =SUM(O22:R22) -> 61
A23: 13 | B23: Nghiệp vụ nhà hàng | C23: 5810206 | E23: Khách sạn, nhà hàng | F23: 35 | H23: =F23+G23 -> 35 | L23: =INDEX([1]Sheet9!$E$7:$E$34,MATCH([1]Nguồn!B23,[1]Sheet9!$D$7:$D$34,0)) -> 62 | S23: =SUM(I23:R23) -> 62 | T23: =I23+J23+L23+M23 -> 62 | U23: =SUM(O23:R23) -> 0
A24: 14 | B24: Kỹ thuật làm bánh | C24: 5810210 | D24: 6810210 | E24: Khách sạn, nhà hàng | F24: 50 | G24: 50 | H24: =F24+G24 -> 100 | L24: =INDEX([1]Sheet9!$E$7:$E$34,MATCH([1]Nguồn!B24,[1]Sheet9!$D$7:$D$34,0)) -> 79 | O24: =INDEX([1]CD!$B$6:$B$32,MATCH([1]Nguồn!B24,[1]CD!$A$6:$A$32,0)) -> 11 | P24: =INDEX([1]CD!$F$17:$F$49,MATCH([1]Nguồn!B24,[1]CD!$E$17:$E$49,0)) -> 49 | S24: =SUM(I24:R24) -> 139 | T24: =I24+J24+L24+M24 -> 79 | U24: =SUM(O24:R24) -> 60
A25: 4. CHỈ TIÊU TỔNG CỘNG CỦA NHÓM | F25: =SUM(F21:F24) -> 120 | G25: =SUM(G21:G24) -> 120 | H25: =SUM(H21:H24) -> 240 | I25: =SUM(I21:I24) -> 0 | J25: =SUM(J21:J24) -> 0 | K25: =SUM(K21:K24) -> 15 | L25: =SUM(L21:L24) -> 191 | M25: =SUM(M21:M24) -> 0 | O25: =SUM(O21:O24) -> 71 | P25: =SUM(P21:P24) -> 110 | Q25: =SUM(Q21:Q24) -> 0 | R25: =SUM(R21:R24) -> 0 | S25: =SUM(S21:S24) -> 387 | T25: =I25+J25+L25+M25 -> 191 | U25: =SUM(O25:R25) -> 181
A26: 15 | B26: Quản lý xây dựng | D26: 6580301 | E26: Quản lý xây dựng | G26: 70 | H26: =F26+G26 -> 70 | S26: 0 | T26: =I26+J26+L26+M26 -> 0 | U26: =SUM(O26:R26) -> 0
A27: 5. CHỈ TIÊU TỔNG CỘNG CỦA NHÓM | G27: =SUM(G26) -> 70 | H27: =SUM(H26) -> 70 | I27: =SUM(I26) -> 0 | J27: =SUM(J26) -> 0 | K27: =SUM(K26) -> 0 | L27: =SUM(L26) -> 0 | M27: =SUM(M26) -> 0 | O27: =SUM(O26) -> 0 | P27: =SUM(P26) -> 0 | Q27: =SUM(Q26) -> 0 | R27: =SUM(R26) -> 0 | S27: =S26 -> 0 | T27: =I27+J27+L27+M27 -> 0 | U27: =SUM(O27:R27) -> 0
A28: 16 | B28: Kỹ thuật xây dựng | C28: 5580201 | D28: 6580201 | E28: Xây dựng | F28: 60 | G28: 60 | H28: =F28+G28 -> 120 | K28: 72 | L28: =INDEX([1]Sheet9!$E$7:$E$34,MATCH([1]Nguồn!B28,[1]Sheet9!$D$7:$D$34,0)) -> 15 | O28: =INDEX([1]CD!$B$6:$B$32,MATCH([1]Nguồn!B28,[1]CD!$A$6:$A$32,0)) -> 20 | P28: =INDEX([1]CD!$F$17:$F$49,MATCH([1]Nguồn!B28,[1]CD!$E$17:$E$49,0)) -> 45 | S28: =SUM(I28:R28) -> 152 | T28: =I28+J28+L28+M28 -> 15 | U28: =SUM(O28:R28) -> 65 | W28: 27 | X28: 45
A29: 6. CHỈ TIÊU TỔNG CỘNG CỦA NHÓM | F29: =SUM(F28) -> 60 | G29: =SUM(G28) -> 60 | H29: =SUM(H28) -> 120 | I29: =SUM(I28) -> 0 | J29: =SUM(J28) -> 0 | K29: =SUM(K28) -> 72 | L29: =SUM(L28) -> 15 | M29: =SUM(M28) -> 0 | O29: =SUM(O28) -> 20 | P29: =SUM(P28) -> 45 | Q29: =SUM(Q28) -> 0 | R29: =SUM(R28) -> 0 | S29: =SUM(S28) -> 152 | T29: =I29+J29+L29+M29 -> 15 | U29: =SUM(O29:R29) -> 65
A30: 17 | B30: Kế toán doanh nghiệp | C30: 5340302 | D30: 6340302 | E30: Kế toán - Kiểm toán | F30: 65 | G30: 160 | H30: =F30+G30 -> 225 | K30: =INDEX([1]Sheet9!$V$17:$V$30,MATCH([1]Nguồn!B30,[1]Sheet9!$S$17:$S$30,0)) -> 89 | L30: =INDEX([1]Sheet9!$E$7:$E$34,MATCH([1]Nguồn!B30,[1]Sheet9!$D$7:$D$34,0)) -> 48 | O30: =INDEX([1]CD!$B$6:$B$32,MATCH([1]Nguồn!B30,[1]CD!$A$6:$A$32,0)) -> 35 | P30: =INDEX([1]CD!$F$17:$F$49,MATCH([1]Nguồn!B30,[1]CD!$E$17:$E$49,0)) -> 77 | S30: =SUM(I30:R30) -> 249 | T30: =I30+J30+L30+M30 -> 48 | U30: =SUM(O30:R30) -> 112 | X30: 89
A31: 7. CHỈ TIÊU TỔNG CỘNG CỦA NHÓM | F31: =SUM(F30) -> 65 | G31: =SUM(G30) -> 160 | H31: =SUM(H30) -> 225 | K31: =SUM(K30) -> 89 | L31: =SUM(L30) -> 48 | M31: =SUM(M30) -> 0 | O31: =SUM(O30) -> 35 | P31: =SUM(P30) -> 77 | Q31: =SUM(Q30) -> 0 | R31: =SUM(R30) -> 0 | S31: =S30 -> 249 | T31: =I31+J31+L31+M31 -> 48 | U31: =SUM(O31:R31) -> 112
A32: 18 | B32: Logistics | C32: 5340113 | D32: 6340113 | E32: Kinh doanh | F32: 30 | G32: 60 | H32: =F32+G32 -> 90 | K32: 41 | L32: =INDEX([1]Sheet9!$E$7:$E$34,MATCH([1]Nguồn!B32,[1]Sheet9!$D$7:$D$34,0)) -> 30 | O32: =INDEX([1]CD!$B$6:$B$32,MATCH([1]Nguồn!B32,[1]CD!$A$6:$A$32,0)) -> 38 | P32: =INDEX([1]CD!$F$17:$F$49,MATCH([1]Nguồn!B32,[1]CD!$E$17:$E$49,0)) -> 30 | S32: =SUM(I32:R32) -> 139 | T32: =I32+J32+L32+M32 -> 30 | U32: =SUM(O32:R32) -> 68 | W32: 17 | AA32: 13
A33: 19 | B33: Thương mại điện tử | C33: 5340122 | D33: 6340122 | E33: Kinh doanh | F33: 50 | G33: 75 | H33: =F33+G33 -> 125 | L33: =INDEX([1]Sheet9!$E$7:$E$34,MATCH([1]Nguồn!B33,[1]Sheet9!$D$7:$D$34,0)) -> 31 | O33: =INDEX([1]CD!$B$6:$B$32,MATCH([1]Nguồn!B33,[1]CD!$A$6:$A$32,0)) -> 25 | P33: =INDEX([1]CD!$F$17:$F$49,MATCH([1]Nguồn!B33,[1]CD!$E$17:$E$49,0)) -> 30 | S33: =SUM(I33:R33) -> 86 | T33: =I33+J33+L33+M33 -> 31 | U33: =SUM(O33:R33) -> 55
A34: 8. CHỈ TIÊU TỔNG CỘNG CỦA NHÓM | F34: =SUM(F32:F33) -> 80 | G34: =SUM(G32:G33) -> 135 | H34: =SUM(H32:H33) -> 215 | I34: =SUM(I32:I33) -> 0 | J34: =SUM(J32:J33) -> 0 | K34: =SUM(K32:K33) -> 41 | L34: =SUM(L32:L33) -> 61 | M34: =SUM(M32:M33) -> 0 | O34: =SUM(O32:O33) -> 63 | P34: =SUM(P32:P33) -> 60 | Q34: =SUM(Q32:Q33) -> 0 | R34: =SUM(R32:R33) -> 0 | S34: =SUM(S32:S33) -> 225 | T34: =I34+J34+L34+M34 -> 61 | U34: =SUM(O34:R34) -> 123
A35: 20 | B35: Quản trị doanh nghiệp vừa và nhỏ | C35: 5340417 | D35: 6340417 | E35: Quản trị - Quản lý | F35: 65 | G35: 160 | H35: =F35+G35 -> 225 | L35: =INDEX([1]Sheet9!$E$7:$E$34,MATCH([1]Nguồn!B35,[1]Sheet9!$D$7:$D$34,0)) -> 50 | O35: =INDEX([1]CD!$B$6:$B$32,MATCH([1]Nguồn!B35,[1]CD!$A$6:$A$32,0)) -> 32 | P35: =INDEX([1]CD!$F$17:$F$49,MATCH([1]Nguồn!B35,[1]CD!$E$17:$E$49,0)) -> 56 | S35: =SUM(I35:R35) -> 138 | T35: =I35+J35+L35+M35 -> 50 | U35: =SUM(O35:R35) -> 88
A36: 9. CHỈ TIÊU TỔNG CỘNG CỦA NHÓM | F36: =SUM(F35) -> 65 | G36: =SUM(G35) -> 160 | H36: =SUM(H35) -> 225 | I36: =SUM(I35) -> 0 | J36: =SUM(J35) -> 0 | K36: =SUM(K35) -> 0 | L36: =SUM(L35) -> 50 | M36: =SUM(M35) -> 0 | O36: =SUM(O35) -> 32 | P36: =SUM(P35) -> 56 | Q36: =SUM(Q35) -> 0 | R36: =SUM(R35) -> 0 | S36: =S35 -> 138 | T36: =I36+J36+L36+M36 -> 50 | U36: =SUM(O36:R36) -> 88
A37: 21 | B37: Tài chính doanh nghiệp | C37: 5340201 | D37: 6340201 | E37: Tài chính - Ngân hàng - Bảo hiểm | F37: 65 | G37: 160 | H37: =F37+G37 -> 225 | K37: =INDEX([1]Sheet9!$V$17:$V$30,MATCH([1]Nguồn!B37,[1]Sheet9!$S$17:$S$30,0)) -> 24 | P37: =INDEX([1]CD!$F$17:$F$49,MATCH([1]Nguồn!B37,[1]CD!$E$17:$E$49,0)) -> 28 | S37: =SUM(I37:R37) -> 52 | T37: =I37+J37+L37+M37 -> 0 | U37: =SUM(O37:R37) -> 28 | W37: 24
A38: 10. CHỈ TIÊU TỔNG CỘNG CỦA NHÓM | F38: =SUM(F37) -> 65 | G38: =SUM(G37) -> 160 | H38: =SUM(H37) -> 225 | I38: =SUM(I37) -> 0 | J38: =SUM(J37) -> 0 | K38: =SUM(K37) -> 24 | L38: =SUM(L37) -> 0 | M38: =SUM(M37) -> 0 | O38: =SUM(O37) -> 0 | P38: =SUM(P37) -> 28 | Q38: =SUM(Q37) -> 0 | R38: =SUM(R37) -> 0 | S38: =S37 -> 52 | T38: =I38+J38+L38+M38 -> 0 | U38: =SUM(O38:R38) -> 28
A39: 22 | B39: Chế tạo khuôn mẫu | C39: 5520105 | D39: 6520105 | E39: Kỹ thuật cơ khí và cơ kỹ thuật | F39: 30 | G39: 60 | H39: =F39+G39 -> 90 | S39: =SUM(I39:R39) -> 0 | T39: =I39+J39+L39+M39 -> 0 | U39: =SUM(O39:R39) -> 0 | V39: x
A40: 23 | B40: Lắp đặt thiết bị lạnh | C40: 5520114 | D40: 6520114 | E40: Kỹ thuật cơ khí và cơ kỹ thuật | F40: 75 | G40: 110 | H40: =F40+G40 -> 185 | P40: =INDEX([1]CD!$F$17:$F$49,MATCH([1]Nguồn!B40,[1]CD!$E$17:$E$49,0)) -> 18 | S40: =SUM(I40:R40) -> 18 | T40: =I40+J40+L40+M40 -> 0 | U40: =SUM(O40:R40) -> 18
A41: 24 | B41: Cắt gọt kim loại | C41: 5520121 | D41: 6520121 | E41: Kỹ thuật cơ khí và cơ kỹ thuật | F41: 65 | G41: 110 | H41: =F41+G41 -> 175 | P41: =INDEX([1]CD!$F$17:$F$49,MATCH([1]Nguồn!B41,[1]CD!$E$17:$E$49,0)) -> 24 | S41: =SUM(I41:R41) -> 24 | T41: =I41+J41+L41+M41 -> 0 | U41: =SUM(O41:R41) -> 24
A42: 25 | B42: Sửa chữa máy tàu thủy | C42: 5520131 | D42: 6520131 | E42: Kỹ thuật cơ khí và cơ kỹ thuật | F42: 35 | G42: 35 | H42: =F42+G42 -> 70 | S42: =SUM(I42:R42) -> 0 | T42: =I42+J42+L42+M42 -> 0 | U42: =SUM(O42:R42) -> 0 | V42: x
A43: 26 | B43: Sửa chữa máy nâng chuyển | C43: 5520145 | D43: 6520145 | E43: Kỹ thuật cơ khí và cơ kỹ thuật | F43: 50 | G43: 50 | H43: =F43+G43 -> 100 | S43: =SUM(I43:R43) -> 0 | T43: =I43+J43+L43+M43 -> 0 | U43: =SUM(O43:R43) -> 0 | V43: x
A44: 27 | B44: Bảo trì hệ thống thiết bị công nghiệp | C44: 5520155 | D44: 6520155 | E44: Kỹ thuật cơ khí và cơ kỹ thuật | F44: 65 | G44: 120 | H44: =F44+G44 -> 185 | S44: =SUM(I44:R44) -> 0 | T44: =I44+J44+L44+M44 -> 0 | U44: =SUM(O44:R44) -> 0 | V44: x
A45: 28 | B45: Cơ khí chế tạo | C45: 5520117 | E45: Kỹ thuật cơ khí và cơ kỹ thuật | F45: 100 | H45: =F45+G45 -> 100 | S45: =SUM(I45:R45) -> 0 | T45: =I45+J45+L45+M45 -> 0 | U45: =SUM(O45:R45) -> 0 | V45: x
A46: 11. CHỈ TIÊU TỔNG CỘNG CỦA NHÓM | F46: =SUM(F39:F45) -> 420 | G46: =SUM(G39:G45) -> 485 | H46: =SUM(H39:H45) -> 905 | I46: =SUM(I39:I45) -> 0 | J46: =SUM(J39:J45) -> 0 | K46: =SUM(K39:K45) -> 0 | L46: =SUM(L39:L45) -> 0 | M46: =SUM(M39:M45) -> 0 | O46: =SUM(O39:O45) -> 0 | P46: =SUM(P39:P45) -> 42 | Q46: =SUM(Q39:Q45) -> 0 | R46: =SUM(R39:R45) -> 0 | S46: =SUM(S39:S45) -> 42 | T46: =I46+J46+L46+M46 -> 0 | U46: =SUM(O46:R46) -> 42
A47: 29 | B47: Kỹ thuật máy lạnh và điều hòa không khí | C47: 5520205 | D47: 6520205 | E47: Kỹ thuật điện, điện tử và viễn thông | F47: 65 | G47: 125 | H47: =F47+G47 -> 190 | L47: =INDEX([1]Sheet9!$E$7:$E$34,MATCH([1]Nguồn!B47,[1]Sheet9!$D$7:$D$34,0)) -> 44 | O47: =INDEX([1]CD!$B$6:$B$32,MATCH([1]Nguồn!B47,[1]CD!$A$6:$A$32,0)) -> 53 | P47: =INDEX([1]CD!$F$17:$F$49,MATCH([1]Nguồn!B47,[1]CD!$E$17:$E$49,0)) -> 32 | S47: =SUM(I47:R47) -> 129 | T47: =I47+J47+L47+M47 -> 44 | U47: =SUM(O47:R47) -> 85
A48: 30 | B48: Điện tử công nghiệp | C48: 5520225 | D48: 6520225 | E48: Kỹ thuật điện, điện tử và viễn thông | F48: 115 | G48: 165 | H48: =F48+G48 -> 280 | S48: =SUM(I48:R48) -> 0 | T48: =I48+J48+L48+M48 -> 0 | U48: =SUM(O48:R48) -> 0 | V48: x
A49: 31 | B49: Điện công nghiệp | C49: 5520227 | D49: 6520227 | E49: Kỹ thuật điện, điện tử và viễn thông | F49: 135 | G49: 230 | H49: =F49+G49 -> 365 | J49: 84 | K49: 77 | L49: =INDEX([1]Sheet9!$E$7:$E$34,MATCH([1]Nguồn!B49,[1]Sheet9!$D$7:$D$34,0)) -> 64 | M49: 50 | N49: 23 | O49: =INDEX([1]CD!$B$6:$B$32,MATCH([1]Nguồn!B49,[1]CD!$A$6:$A$32,0)) -> 70 | P49: =INDEX([1]CD!$F$17:$F$49,MATCH([1]Nguồn!B49,[1]CD!$E$17:$E$49,0)) -> 57 | R49: 8 | S49: =SUM(I49:R49) -> 433 | T49: =I49+J49+L49+M49 -> 198 | U49: =SUM(O49:R49) -> 135 | V49: 27 | W49: 48 | Y49: 31 | AA49: 64
A50: 32 | B50: Vận hành, sửa chữa thiết bị lạnh | C50: 5520255 | D50: 6520255 | E50: Kỹ thuật điện, điện tử và viễn thông | F50: 95 | G50: 115 | H50: =F50+G50 -> 210 | L50: =INDEX([1]Sheet9!$E$7:$E$34,MATCH([1]Nguồn!B50,[1]Sheet9!$D$7:$D$34,0)) -> 67 | O50: =INDEX([1]CD!$B$6:$B$32,MATCH([1]Nguồn!B50,[1]CD!$A$6:$A$32,0)) -> 31 | P50: =INDEX([1]CD!$F$17:$F$49,MATCH([1]Nguồn!B50,[1]CD!$E$17:$E$49,0)) -> 53 | S50: =SUM(I50:R50) -> 151 | T50: =I50+J50+L50+M50 -> 67 | U50: =SUM(O50:R50) -> 84
A51: 33 | B51: Cơ điện tử | C51: 5520263 | D51: 6520263 | E51: Kỹ thuật điện, điện tử và viễn thông | F51: 85 | G51: 170 | H51: =F51+G51 -> 255 | L51: =INDEX([1]Sheet9!$E$7:$E$34,MATCH([1]Nguồn!B51,[1]Sheet9!$D$7:$D$34,0)) -> 27 | O51: =INDEX([1]CD!$B$6:$B$32,MATCH([1]Nguồn!B51,[1]CD!$A$6:$A$32,0)) -> 28 | P51: =INDEX([1]CD!$F$17:$F$49,MATCH([1]Nguồn!B51,[1]CD!$E$17:$E$49,0)) -> 57 | S51: =SUM(I51:R51) -> 112 | T51: =I51+J51+L51+M51 -> 27 | U51: =SUM(O51:R51) -> 85
A52: 12. CHỈ TIÊU TỔNG CỘNG CỦA NHÓM | F52: =SUM(F47:F51) -> 495 | G52: =SUM(G47:G51) -> 805 | H52: =SUM(H47:H51) -> 1300 | I52: =SUM(I47:I51) -> 0 | J52: =SUM(J47:J51) -> 84 | K52: =SUM(K47:K51) -> 77 | L52: =SUM(L47:L51) -> 202 | M52: =SUM(M47:M51) -> 50 | ... S52: =SUM(S47:S51) -> 825 | T52: =I52+J52+L52+M52 -> 336 | U52: =SUM(O52:R52) -> 389
A53: 34 | B53: Tin học ứng dụng | C53: 5480205 | D53: 6480205 | E53: Công nghệ thông tin | F53: 65 | G53: 75 | H53: =F53+G53 -> 140 | J53: 30 | K53: 124 | L53: =INDEX([1]Sheet9!$E$7:$E$34,MATCH([1]Nguồn!B53,[1]Sheet9!$D$7:$D$34,0)) -> 42 | P53: =INDEX([1]CD!$F$17:$F$49,MATCH([1]Nguồn!B53,[1]CD!$E$17:$E$49,0)) -> 49 | S53: =SUM(I53:R53) -> 245 | T53: =I53+J53+L53+M53 -> 72 | U53: =SUM(O53:R53) -> 49 | V53: 30 | X53: 90 | Y53: 34
A54: 35 | B54: Lập trình máy tính | C54: 5480207 | D54: 6480207 | E54: Công nghệ thông tin | F54: 85 | G54: 150 | H54: =F54+G54 -> 235 | L54: =INDEX([1]Sheet9!$E$7:$E$34,MATCH([1]Nguồn!B54,[1]Sheet9!$D$7:$D$34,0)) -> 130 | O54: =INDEX([1]CD!$B$6:$B$32,MATCH([1]Nguồn!B54,[1]CD!$A$6:$A$32,0)) -> 67 | P54: =INDEX([1]CD!$F$17:$F$49,MATCH([1]Nguồn!B54,[1]CD!$E$17:$E$49,0)) -> 67 | S54: =SUM(I54:R54) -> 264 | T54: =I54+J54+L54+M54 -> 130 | U54: =SUM(O54:R54) -> 134
A55: 36 | B55: Quản trị mạng máy tính | C55: 5480209 | D55: 6480209 | E55: Công nghệ thông tin | F55: 65 | G55: 150 | H55: =F55+G55 -> 215 | K55: =INDEX([1]Sheet9!$V$17:$V$30,MATCH([1]Nguồn!B55,[1]Sheet9!$S$17:$S$30,0)) -> 133 | L55: =INDEX([1]Sheet9!$E$7:$E$34,MATCH([1]Nguồn!B55,[1]Sheet9!$D$7:$D$34,0)) -> 58 | O55: =INDEX([1]CD!$B$6:$B$32,MATCH([1]Nguồn!B55,[1]CD!$A$6:$A$32,0)) -> 27 | P55: =INDEX([1]CD!$F$17:$F$49,MATCH([1]Nguồn!B55,[1]CD!$E$17:$E$49,0)) -> 58 | S55: =SUM(I55:R55) -> 276 | T55: =I55+J55+L55+M55 -> 58 | U55: =SUM(O55:R55) -> 85 | X55: 133
A56: 37 | B56: Thiết kế trang Web | C56: 5480214 | D56: 6480214 | E56: Công nghệ thông tin | F56: 65 | G56: 85 | H56: =F56+G56 -> 150 | L56: =INDEX([1]Sheet9!$E$7:$E$34,MATCH([1]Nguồn!B56,[1]Sheet9!$D$7:$D$34,0)) -> 29 | P56: =INDEX([1]CD!$F$17:$F$49,MATCH([1]Nguồn!B56,[1]CD!$E$17:$E$49,0)) -> 41 | S56: =SUM(I56:R56) -> 70 | T56: =I56+J56+L56+M56 -> 29 | U56: =SUM(O56:R56) -> 41
A57: 38 | B57: An ninh mạng | C57: 5480216 | D57: 6480216 | E57: Công nghệ thông tin | F57: 65 | G57: 85 | H57: =F57+G57 -> 150 | P57: =INDEX([1]CD!$F$17:$F$49,MATCH([1]Nguồn!B57,[1]CD!$E$17:$E$49,0)) -> 24 | S57: =SUM(I57:R57) -> 24 | T57: =I57+J57+L57+M57 -> 0 | U57: =SUM(O57:R57) -> 24
A58: 13. CHỈ TIÊU TỔNG CỘNG CỦA NHÓM | F58: =SUM(F53:F57) -> 345 | G58: =SUM(G53:G57) -> 545 | H58: =SUM(H53:H57) -> 890 | I58: =SUM(I53:I57) -> 0 | J58: =SUM(J53:J57) -> 30 | K58: =SUM(K53:K57) -> 257 | L58: =SUM(L53:L57) -> 259 | M58: =SUM(M53:M57) -> 0 | O58: =SUM(O53:O57) -> 94 | P58: =SUM(P53:P57) -> 239 | Q58: =SUM(Q53:Q57) -> 0 | R58: =SUM(R53:R57) -> 0 | S58: =SUM(S53:S57) -> 879 | T58: =I58+J58+L58+M58 -> 289 | U58: =SUM(O58:R58) -> 333
A59: 39 | B59: Truyền thông và mạng máy tính | C59: 5480104 | D59: 6480104 | E59: Máy tính | F59: 50 | G59: 50 | H59: =F59+G59 -> 100 | S59: =SUM(I59:R59) -> 0 | T59: =I59+J59+L59+M59 -> 0 | U59: =SUM(O59:R59) -> 0 | V59: x
A60: 40 | B60: Công nghệ kỹ thuật máy tính | D60: 6480105 | E60: Máy tính | G60: 110 | H60: =F60+G60 -> 110 | O60: =INDEX([1]CD!$B$6:$B$32,MATCH([1]Nguồn!B60,[1]CD!$A$6:$A$32,0)) -> 32 | P60: =INDEX([1]CD!$F$17:$F$49,MATCH([1]Nguồn!B60,[1]CD!$E$17:$E$49,0)) -> 46 | S60: =SUM(I60:R60) -> 78 | T60: =I60+J60+L60+M60 -> 0 | U60: =SUM(O60:R60) -> 78
A61: 41 | B61: Công nghệ kỹ thuật phần cứng máy tính | C61: 5480105 | E61: Máy tính | F61: 85 | H61: =F61+G61 -> 85 | L61: =INDEX([1]Sheet9!$E$7:$E$34,MATCH([1]Nguồn!B61,[1]Sheet9!$D$7:$D$34,0)) -> 46 | S61: =SUM(I61:R61) -> 46 | T61: =I61+J61+L61+M61 -> 46 | U61: =SUM(O61:R61) -> 0
A62: 42 | B62: Đồ họa đa phương tiện | C62: 5480108 | D62: 6480108 | E62: Máy tính | F62: 50 | G62: 50 | H62: =F62+G62 -> 100 | L62: =INDEX([1]Sheet9!$E$7:$E$34,MATCH([1]Nguồn!B62,[1]Sheet9!$D$7:$D$34,0)) -> 61 | O62: =INDEX([1]CD!$B$6:$B$32,MATCH([1]Nguồn!B62,[1]CD!$A$6:$A$32,0)) -> 29 | P62: =INDEX([1]CD!$F$17:$F$49,MATCH([1]Nguồn!B62,[1]CD!$E$17:$E$49,0)) -> 44 | S62: =SUM(I62:R62) -> 134 | T62: =I62+J62+L62+M62 -> 61 | U62: =SUM(O62:R62) -> 73
A63: 14. CHỈ TIÊU TỔNG CỘNG CỦA NHÓM | F63: =SUM(F59:F62) -> 185 | G63: =SUM(G59:G62) -> 210 | H63: =SUM(H59:H62) -> 395 | I63: =SUM(I59:I62) -> 0 | J63: =SUM(J59:J62) -> 0 | K63: =SUM(K59:K62) -> 0 | L63: =SUM(L59:L62) -> 107 | M63: =SUM(M59:M62) -> 0 | O63: =SUM(O59:O62) -> 61 | P63: =SUM(P59:P62) -> 90 | Q63: =SUM(Q59:Q62) -> 0 | R63: =SUM(R59:R62) -> 0 | S63: =SUM(S59:S62) -> 258 | T63: =I63+J63+L63+M63 -> 107 | U63: =SUM(O63:R63) -> 151
A64: 43 | B64: Thiết kế đồ họa | C64: 5210402 | D64: 6210402 | E64: Mỹ thuật ứng dụng | F64: 90 | G64: 130 | H64: =F64+G64 -> 220 | L64: =INDEX([1]Sheet9!$E$7:$E$34,MATCH([1]Nguồn!B64,[1]Sheet9!$D$7:$D$34,0)) -> 141 | O64: =INDEX([1]CD!$B$6:$B$32,MATCH([1]Nguồn!B64,[1]CD!$A$6:$A$32,0)) -> 67 | P64: =INDEX([1]CD!$F$17:$F$49,MATCH([1]Nguồn!B64,[1]CD!$E$17:$E$49,0)) -> 115 | S64: =SUM(I64:R64) -> 323 | T64: =I64+J64+L64+M64 -> 141 | U64: =SUM(O64:R64) -> 182
A65: 15. CHỈ TIÊU TỔNG CỘNG CỦA NHÓM | F65: =SUM(F64) -> 90 | G65: =SUM(G64) -> 130 | H65: =SUM(H64) -> 220 | I65: =SUM(I64) -> 0 | J65: =SUM(J64) -> 0 | K65: =SUM(K64) -> 0 | L65: =SUM(L64) -> 141 | M65: =SUM(M64) -> 0 | O65: =SUM(O64) -> 67 | P65: =SUM(P64) -> 115 | Q65: =SUM(Q64) -> 0 | R65: =SUM(R64) -> 0 | S65: =S64 -> 323 | T65: =I65+J65+L65+M65 -> 141 | U65: =SUM(O65:R65) -> 182
A66: 44 | B66: Tiếng Anh | C66: 5220206 | D66: 6220206 | E66: Ngôn ngữ, văn học và văn hóa nước ngoài | F66: 150 | G66: 320 | H66: =F66+G66 -> 470 | K66: =INDEX([1]Sheet9!$V$17:$V$30,MATCH([1]Nguồn!B66,[1]Sheet9!$S$17:$S$30,0)) -> 31 | L66: =INDEX([1]Sheet9!$E$7:$E$34,MATCH([1]Nguồn!B66,[1]Sheet9!$D$7:$D$34,0)) -> 82 | O66: =INDEX([1]CD!$B$6:$B$32,MATCH([1]Nguồn!B66,[1]CD!$A$6:$A$32,0)) -> 43 | P66: =INDEX([1]CD!$F$17:$F$49,MATCH([1]Nguồn!B66,[1]CD!$E$17:$E$49,0)) -> 106 | S66: =SUM(I66:R66) -> 262 | T66: =I66+J66+L66+M66 -> 82 | U66: =SUM(O66:R66) -> 149 | W66: 31
A67: 45 | B67: Tiếng Hàn quốc | C67: 5220211 | D67: 6220211 | E67: Ngôn ngữ, văn học và văn hóa nước ngoài | F67: 50 | G67: 50 | H67: =F67+G67 -> 100 | J67: 191 | L67: =INDEX([1]Sheet9!$E$7:$E$34,MATCH([1]Nguồn!B67,[1]Sheet9!$D$7:$D$34,0)) -> 13 | O67: =INDEX([1]CD!$B$6:$B$32,MATCH([1]Nguồn!B67,[1]CD!$A$6:$A$32,0)) -> 9 | S67: =SUM(I67:R67) -> 213 | T67: =I67+J67+L67+M67 -> 204 | U67: =SUM(O67:R67) -> 9 | V67: 124 | W67: 67
A68: 46 | B68: Tiếng Nhật | C68: 5220212 | D68: 6220212 | E68: Ngôn ngữ, văn học và văn hóa nước ngoài | F68: 35 | G68: 35 | H68: =F68+G68 -> 70 | J68: =INDEX([1]Sheet9!$Q$17:$Q$25,MATCH([1]Nguồn!B68,[1]Sheet9!$P$17:$P$25,0)) -> 55 | K68: =INDEX([1]Sheet9!$V$17:$V$30,MATCH([1]Nguồn!B68,[1]Sheet9!$S$17:$S$30,0)) -> 21 | L68: =INDEX([1]Sheet9!$E$7:$E$34,MATCH([1]Nguồn!B68,[1]Sheet9!$D$7:$D$34,0)) -> 11 | O68: =INDEX([1]CD!$B$6:$B$32,MATCH([1]Nguồn!B68,[1]CD!$A$6:$A$32,0)) -> 16 | S68: =SUM(I68:R68) -> 103 | T68: =I68+J68+L68+M68 -> 66 | U68: =SUM(O68:R68) -> 16 | V68: 55 | W68: 21
A69: 16. CHỈ TIÊU TỔNG CỘNG CỦA NHÓM | F69: =SUM(F66:F68) -> 235 | G69: =SUM(G66:G68) -> 405 | H69: =SUM(H66:H68) -> 640 | I69: =SUM(I66:I68) -> 0 | J69: =SUM(J66:J68) -> 246 | K69: =SUM(K66:K68) -> 52 | L69: =SUM(L66:L68) -> 106 | M69: =SUM(M66:M68) -> 0 | O69: =SUM(O66:O68) -> 68 | P69: =SUM(P66:P68) -> 106 | Q69: =SUM(Q66:Q68) -> 0 | R69: =SUM(R66:R68) -> 0 | S69: =SUM(S66:S68) -> 578 | T69: =I69+J69+L69+M69 -> 352 | U69: =SUM(O69:R69) -> 174
A70: 47 | B70: Công nghệ may | C70: 5540204 | D70: 6540204 | E70: Sản xuất, chế biến sợi, vải, giày, da | F70: 100 | G70: 150 | H70: =F70+G70 -> 250 | L70: =INDEX([1]Sheet9!$E$7:$E$34,MATCH([1]Nguồn!B70,[1]Sheet9!$D$7:$D$34,0)) -> 17 | P70: =INDEX([1]CD!$F$17:$F$49,MATCH([1]Nguồn!B70,[1]CD!$E$17:$E$49,0)) -> 28 | S70: =SUM(I70:R70) -> 45 | T70: =I70+J70+L70+M70 -> 17 | U70: =SUM(O70:R70) -> 28
A71: 48 | B71: May thời trang | C71: 5540205 | D71: 6540205 | E71: Sản xuất, chế biến sợi, vải, giày, da | F71: 65 | G71: 150 | H71: =F71+G71 -> 215 | K71: 128 | O71: =INDEX([1]CD!$B$6:$B$32,MATCH([1]Nguồn!B71,[1]CD!$A$6:$A$32,0)) -> 6 | S71: =SUM(I71:R71) -> 134 | T71: =I71+J71+L71+M71 -> 0 | U71: =SUM(O71:R71) -> 6 | W71: 20 | X71: 89 | Y71: 19
A72: 49 | B72: Công nghệ may Veston | C72: 5540207 | D72: 6540207 | E72: Sản xuất, chế biến sợi, vải, giày, da | F72: 45 | G72: 80 | H72: =F72+G72 -> 125 | S72: =SUM(I72:R72) -> 0 | T72: =I72+J72+L72+M72 -> 0 | U72: =SUM(O72:R72) -> 0 | V72: x
A73: 17. CHỈ TIÊU TỔNG CỘNG CỦA NHÓM | F73: =SUM(F70:F72) -> 210 | G73: =SUM(G70:G72) -> 380 | H73: =SUM(H70:H72) -> 590 | I73: =SUM(I70:I72) -> 0 | J73: =SUM(J70:J72) -> 0 | K73: =SUM(K70:K72) -> 128 | L73: =SUM(L70:L72) -> 17 | M73: =SUM(M70:M72) -> 0 | O73: =SUM(O70:O72) -> 6 | P73: =SUM(P70:P72) -> 28 | Q73: =SUM(Q70:Q72) -> 0 | R73: =SUM(R70:R72) -> 0 | S73: =SUM(S70:S72) -> 179 | T73: =I73+J73+L73+M73 -> 17 | U73: =SUM(O73:R73) -> 34
A74: TỔNG CỘNG | F74: =F73+F69+F65+F63+F58+F52+F46+F38+F36+F34+F31+F29+F27+F25+F20+F17+F12 -> 3235 | G74: =G73+G69+G65+G63+G58+G52+G46+G38+G36+G34+G31+G29+G27+G25+G20+G17+G12 -> 5440 | H74: =H73+H69+H65+H63+H58+H52+H46+H38+H36+H34+H31+H29+H27+H25+H20+H17+H12 -> 8675 | I74: =I12+I17+I20+I25+I27+I29+I31+I34+I36+I38+I46+I52+I58+I63+I65+I69+I73 -> 38 | J74: =J12+J17+J20+J25+J27+J29+J31+J34+J36+J38+J46+J52+J58+J63+J65+J69+J73 -> 410 | K74: =K12+K17+K20+K25+K27+K29+K31+K34+K36+K38+K46+K52+K58+K63+K65+K69+K73 -> 885 | L74: =L12+L17+L20+L25+L27+L29+L31+L34+L36+L38+L46+L52+L58+L63+L65+L69+L73 -> 1760 | M74: =M12+M17+M20+M25+M27+M29+M31+M34+M36+M38+M46+M52+M58+M63+M65+M69+M73 -> 50 | N74: =N12+N17+N20+N25+N27+N29+N31+N34+N36+N38+N46+N52+N58+N63+N65+N69+N73 -> 23 | O74: =O12+O17+O20+O25+O27+O29+O31+O34+O36+O38+O46+O52+O58+O63+O65+O69+O73 -> 1452 | P74: =P12+P17+P20+P25+P27+P29+P31+P34+P36+P38+P46+P52+P58+P63+P65+P69+P73 -> 1602 | ... U74: =U12+U17+U20+U25+U27+U29+U31+U34+U36+U38+U46+U52+U58+U63+U65+U69+U73 -> 3142
F75: 45 ngành | G75: 45 ngành | H75: 49 ngành | I75: Trung cấp: 2258 | O75: Cao đẳng: 3142 | T75: =T74+U74 -> 5400
I76: Trung cấp: 1848 (trừ T3) | O76: Cao đẳng: 3142 | T76: 4990
A78: T2: QĐ 664/QĐ-LTT-ĐT ngày 24/10/2023 v/v sinh viên trúng tuyển nhập học cao đẳng, trung cấp khoá 2023
A79: T4: QĐ 664/QĐ-LTT-ĐT ngày 24/10/2023 v/v sinh viên trúng tuyển nhập học cao đẳng, trung cấp khoá 2023
A80: T5: QĐ 873/QĐ-LTT-ĐT ngày 29/12/2023 v/v sinh viên trúng tuyển nhập học trung cấp hệ 01 năm 6 tháng khóa 2023
A81: C1: QĐ 664/QĐ-LTT-ĐT ngày 24/10/2023 v/v sinh viên trúng tuyển nhập học cao đẳng, trung cấp khoá 2023
A82: C2: QĐ 666/QĐ-LTT-ĐT ngày 24/10/2023 v/v sinh viên trúng tuyển nhập học cao đẳng liên thông khoá 2023
A83: C1: QĐ 664/QĐ-LTT-ĐT ngày 24/10/2023 v/v sinh viên trúng tuyển nhập học cao đẳng, trung cấp khoá 2023
A84: C3: QĐ 664/QĐ-LTT-ĐT ngày 24/10/2023 v/v sinh viên trúng tuyển nhập học cao đẳng, trung cấp khoá 2023
A85: C3: QĐ 664/QĐ-LTT-ĐT ngày 24/10/2023 v/v sinh viên trúng tuyển nhập học cao đẳng, trung cấp khoá 2023
E88: Thành phố Hồ Chí Minh, ngày 20 tháng 12 năm 2023
A89: NGƯỜI LẬP BIỂU | E89: TRƯỞNG PHÒNG TUYỂN SINH ĐÀO TẠO
A95: Thái Thị My Sa | E95: Nguyễn Thành Nam

Sheet TRONG DIEM
A1: UBND THÀNH PHỐ HỒ CHÍ MINH
A2: TRƯỜNG CAO ĐẲNG LÝ TỰ TRỌNG
A3: THÀNH PHỐ HỒ CHÍ MINH
A5: TỔNG HỢP NGÀNH NGHỀ ĐÀO TẠO THEO NHÓM MÃ NGÀNH CẤP III THÔNG TƯ 26/2020 CỦA BỘ LAO ĐỘNG - THƯƠNG BINH VÀ XÃ HỘI
A6: TT | B6: Tên ngành | C6: Mã ngành nghề
A7: 1 | B7: Công nghệ kỹ thuật cơ khí | C7: 6510201 | D7: =#REF! -> #REF!
A8: 2 | B8: Công nghệ chế tạo máy | C8: 6510212 | D8: =#REF! -> #REF!
A9: 3 | B9: Công nghệ ô tô | C9: 6510216 | D9: =#REF!+33 -> #REF!
A10: 4 | B10: Công nghệ kỹ thuật điện, điện tử | C10: 6510303 | D10: =#REF! -> #REF!
A11: 5 | B11: Điện công nghiệp | C11: 6520227 | D11: =#REF! -> #REF!
A12: 6 | B12: Cơ điện tử | C12: 6520263 | D12: =#REF! -> #REF!
A13: 7 | B13: Quản trị mạng máy tính | C13: 6480209 | D13: =#REF! -> #REF!

Sheet TH
B1: T2 | C1: T3 | D1: T4 | E1: T5 | F1: T6 | G1: T7 | H1: C1 | I1: C2 | J1: C3 | K1: C4 | L1: C5 | M1: C6 | N1: C7 | O1: TỔNG
A2: NĂM 2014 | B2: 368 | H2: 877 | O2: =B2+H2 -> 1245
A3: NĂM 2015 | B3: 933 | H3: 2393 | O3: =B3+H3 -> 3326
A4: NĂM 2016 | B4: 1206 | H4: 2723 | O4: =B4+H4 -> 3929
A6: NĂM 2017 18/11/21 | B6: 77 | D6: 1304 | H6: 3433 | I6: 83
A7: Tuyển sinh | B7: =SUM(B6:G6) -> 1381 | H7: =SUM(H6:M6) -> 3516 | O7: =B7+H7 -> 4897
A8: Chỉ tiêu
A9: GCN | B9: 1125 | H9: 1450 | O9: =B9+H9 -> 2575
A10: NĂM 2018 18/11/21 | B10: 72 | D10: 1738 | E10: 23 | F10: 12 | G10: 41 | H10: 3676 | I10: 221
A11: Tuyển sinh | B11: =SUM(B10:G10) -> 1886 | H11: =SUM(H10:M10) -> 3897 | O11: =B11+H11 -> 5783
A12: Chỉ tiêu
A13: GCN | B13: 1975 | H13: 3500 | O13: =B13+H13 -> 5475
A14: NĂM 2019 18/11/21 | B14: 182 | D14: 2026 | E14: 110 | H14: 2583 | I14: 411 | J14: 92 | K14: 21
A15: Tuyển sinh | B15: =SUM(B14:G14) -> 2318 | H15: =SUM(H14:M14) -> 3107 | O15: =B15+H15 -> 5425
A16: Chỉ tiêu
A17: GCN | B17: 2745 | H17: 4950 | O17: =B17+H17 -> 7695
A18: NĂM 2020 18/11/21 | B18: 48 | C18: 684 | D18: 2496 | E18: 34 | H18: 2950 | I18: 775 | J18: 203 | L18: 61 | M18: 146
A19: Tuyển sinh | B19: =SUM(B18:G18) -> 3262 | H19: =SUM(H18:M18) -> 4135 | O19: =B19+H19 -> 7397
A20: Chỉ tiêu
A21: GCN | B21: 3150 | H21: 5355 | O21: =B21+H21 -> 8505
A22: NĂM 2021 25/12/21 | B22: 46 | C22: 0 | D22: 1996 | H22: 2128 | I22: 33 | J22: 217 | L22: 48 | M22: 80 | N22: 70 | O22: =SUM(B22:N22) -> 4618
A23: Tuyển sinh | B23: =SUM(B22:G22) -> 2042 | H23: =SUM(H22:N22) -> 2576 | O23: =B23+H23 -> 4618
A24: Chỉ tiêu
A25: GCN | B25: 3235 | H25: 5440 | O25: =B25+H25 -> 8675
A26: NĂM 2022 25/12/21 | B26: 56 | E26: 2063 | H26: 2107 | I26: 470 | J26: 966 | K26: 135 | M26: 18 | N26: 34 | O26: =SUM(B26:N26) -> 5849
A27: Tuyển sinh | B27: =SUM(B26:G26) -> 2119 | H27: =SUM(H26:N26) -> 3730 | O27: =B27+H27 -> 5849
A28: Chỉ tiêu
A29: GCN | B29: 3235 | H29: 5440 | O29: =B29+H29 -> 8675
A30: NĂM 2023 20/10/23 | B30: 38 | C30: 200 | D30: 1739 | H30: 1431 | I30: 1595 | J30: 80 | N30: 8 | O30: =SUM(B30:N30) -> 5091
A31: Tuyển sinh | B31: =SUM(B30:G30) -> 1977 | H31: =SUM(H30:N30) -> 3114 | O31: =B31+H31 -> 5091
A32: Chỉ tiêu
A33: GCN | B33: 3235 | H33: 5440 | O33: =B33+H33 -> 8675

Sheet TH THEO QD
A1: THỐNG KÊ TUYỂN SINH CÁC NĂM
B3: T2 | C3: T3 | D3: T4 | E3: T5 | F3: T6 | G3: T7 | H3: C1 | I3: C2 | J3: C2B | K3: C3 | L3: C4 | M3: C5 | N3: C6 | O3: C7 | P3: TỔNG
A4: NĂM 2014 | B4: 368 | H4: 877 | P4: =B4+H4 -> 1245
A5: NĂM 2015 | B5: 933 | H5: 2393 | P5: =B5+H5 -> 3326
A6: NĂM 2016 | B6: 1206 | H6: 2723 | P6: =B6+H6 -> 3929
A7: NĂM 2017 18/11/21 | B7: 77 | D7: 1304 | H7: 3433 | I7: 83
A8: Tuyển sinh | B8: =SUM(B7:G7) -> 1381 | H8: =SUM(H7:N7) -> 3516 | P8: =B8+H8 -> 4897
A9: Chỉ tiêu theo GCN ĐKHĐGDNN | B9: 1125 | H9: 1450 | P9: =B9+H9 -> 2575
A10: NĂM 2018 18/11/21 | B10: 72 | D10: 1738 | E10: 23 | F10: 8 | G10: 43 | H10: 3672 | I10: 218
A11: Tuyển sinh | B11: =SUM(B10:G10) -> 1884 | H11: =SUM(H10:N10) -> 3890 | P11: =B11+H11 -> 5774
A12: Chỉ tiêu theo GCN ĐKHĐGDNN | B12: 1975 | H12: 3500 | P12: =B12+H12 -> 5475
A13: NĂM 2019 18/11/21 | B13: 178 | D13: 2024 | E13: 110 | H13: 2543 | I13: 411 | K13: 93 | L13: 18
A14: Tuyển sinh | B14: =SUM(B13:G13) -> 2312 | H14: =SUM(H13:N13) -> 3065 | P14: =B14+H14 -> 5377
A15: Chỉ tiêu theo GCN ĐKHĐGDNN | B15: 2745 | H15: 4950 | P15: =B15+H15 -> 7695
A16: NĂM 2020 18/11/21 | B16: 48 | C16: 684 | D16: 2496 | E16: 35 | H16: 2950 | I16: 775 | K16: 203 | M16: 61 | N16: 146
A17: Tuyển sinh | B17: =SUM(B16:G16) -> 3263 | H17: =SUM(H16:N16) -> 4135 | P17: =B17+H17 -> 7398
B18: 2579 | H18: =SUM(H16:O16) -> 4135 | P18: =B18+H18 -> 6714
A19: Chỉ tiêu theo GCN ĐKHĐGDNN | B19: 3150 | H19: 5355 | P19: =B19+H19 -> 8505
A20: NĂM 2021 25/12/21 | B20: 46 | C20: 0 | D20: 1996 | H20: 2128 | I20: 33 | K20: 217 | M20: 48 | N20: 80 | O20: 70 | P20: =SUM(B20:O20) -> 4618
A21: Tuyển sinh | B21: =SUM(B20:G20) -> 2042 | H21: =SUM(H20:O20) -> 2576 | P21: =B21+H21 -> 4618
A22: GCN | B22: 3235 | H22: 5440 | P22: =B22+H22 -> 8675
A23: NĂM 2022 25/12/21 | B23: 56 | D23: 2063 | H23: 2107 | I23: 470 | J23: 966 | K23: 135 | N23: 18 | O23: 34 | P23: =SUM(B23:O23) -> 5849
A24: Tuyển sinh | B24: =SUM(B23:G23) -> 2119 | H24: =SUM(H23:O23) -> 3730 | P24: =B24+H24 -> 5849
A25: Chỉ tiêu theo GCN ĐKHĐGDNN | B25: 3235 | H25: 5440 | P25: =B25+H25 -> 8675

Sheet 07 nganh trong diem
A1: STT | B1: Ngành | C1: Năm 2020 | F1: Năm 2017 | I1: Năm 2018 | L1: Năm 2019 | O1: Năm 2020
C2: Chỉ tiêu Cao đẳng | D2: Chỉ tiêu Trung cấp | E2: Tổng cộng | F2: TS Cao đẳng | G2: TS Trung cấp | H2: Tổng cộng | I2: TS Cao đẳng | J2: TS Trung cấp | K2: Tổng cộng | L2: TS Cao đẳng | M2: TS Trung cấp | N2: Tổng cộng | O2: TS Cao đẳng | P2: TS Trung cấp | Q2: Tổng cộng
A3: 1 | B3: Công nghệ Ô tô | C3: 520 | D3: 205 | E3: =C3+D3 -> 725 | F3: 947 | G3: 230 | H3: =F3+G3 -> 1177 | I3: 1176 | J3: 402 | K3: =I3+J3 -> 1578 | L3: 965 | M3: 379 | N3: =L3+M3 -> 1344 | O3: 1252 | P3: 390 | Q3: =O3+P3 -> 1642
A4: 2 | B4: Công nghệ chế tạo máy | C4: 140 | D4: 100 | E4: =C4+D4 -> 240 | F4: 153 | H4: =F4+G4 -> 153 | I4: 86 | K4: =I4+J4 -> 86 | L4: 66 | N4: =L4+M4 -> 66 | O4: 169 | Q4: =O4+P4 -> 169
A5: 3 | B5: Điện công nghiệp | C5: 260 | D5: 135 | E5: =C5+D5 -> 395 | F5: 272 | G5: 118 | H5: =F5+G5 -> 390 | I5: 250 | J5: 149 | K5: =I5+J5 -> 399 | L5: 152 | M5: 122 | N5: =L5+M5 -> 274 | O5: 207 | P5: 163 | Q5: =O5+P5 -> 370
A6: 4 | B6: Cơ điện tử | C6: 170 | D6: 85 | E6: =C6+D6 -> 255 | F6: 72 | H6: =F6+G6 -> 72 | I6: 117 | J6: 47 | K6: =I6+J6 -> 164 | L6: 51 | M6: 45 | N6: =L6+M6 -> 96 | O6: 120 | P6: 79 | Q6: =O6+P6 -> 199
A7: 5 | B7: Công nghệ kỹ thuật Điện – Điện tử | C7: 190 | D7: 85 | E7: =C7+D7 -> 275 | F7: 274 | G7: 65 | H7: =F7+G7 -> 339 | I7: 273 | J7: 58 | K7: =I7+J7 -> 331 | L7: 247 | M7: 73 | N7: =L7+M7 -> 320 | O7: 192 | P7: 54 | Q7: =O7+P7 -> 246
A8: 6 | B8: Công nghệ kỹ thuật Cơ khí | C8: 310 | D8: 90 | E8: =C8+D8 -> 400 | F8: 575 | G8: 103 | H8: =F8+G8 -> 678 | I8: 566 | J8: 77 | K8: =I8+J8 -> 643 | L8: 398 | M8: 94 | N8: =L8+M8 -> 492 | O8: 388 | P8: 113 | Q8: =O8+P8 -> 501
A9: 7 | B9: Quản trị mạng máy tính | C9: 180 | D9: 65 | E9: =C9+D9 -> 245 | F9: 83 | G9: 133 | H9: =F9+G9 -> 216 | I9: 109 | J9: 60 | K9: =I9+J9 -> 169 | L9: 136 | M9: 116 | N9: =L9+M9 -> 252 | O9: 102 | P9: 157 | Q9: =O9+P9 -> 259
A10: TỔNG CỘNG | C10: =SUM(C3:C9) -> 1770 | D10: =SUM(D3:D9) -> 765 | E10: =SUM(E3:E9) -> 2535 | F10: =SUM(F3:F9) -> 2376 | G10: =SUM(G3:G9) -> 649 | H10: =SUM(H3:H9) -> 3025 | I10: =SUM(I3:I9) -> 2577 | J10: =SUM(J3:J9) -> 793 | ... Q10: =SUM(Q3:Q9) -> 3386
A12: Chưa cập nhật lại số liệu

Sheet SO SANH
A1: UBND THÀNH PHỐ HỒ CHÍ MINH | K1: CỘNG HÒA XÃ HỘI CHỦ NGHĨA VIỆT NAM
A2: TRƯỜNG CAO ĐẲNG LÝ TỰ TRỌNG | K2: Độc lập - Tự do - Hạnh phúc
A3: THÀNH PHỐ HỒ CHÍ MINH
A5: TỔNG HỢP NGÀNH NGHỀ ĐÀO TẠO THEO NHÓM MÃ NGÀNH CẤP III THÔNG TƯ 26/2020 CỦA BỘ LAO ĐỘNG - THƯƠNG BINH VÀ XÃ HỘI
A6: TT | B6: TÊN NGÀNH CẤP IV | C6: MÃ NGÀNH/NGHỀ CẤP IV | E6: TÊN NGÀNH CẤP III | F6: Chỉ tiêu tuyển sinh 2022 | H6: TỔNG CỘNG CHỈ TIÊU 2022 | I6: 2019 | K6: 2020 | M6: 2021 | O6: 2022
C7: Trung cấp | D7: Cao đẳng | F7: Trung cấp | G7: Cao đẳng | I7: TC | J7: CĐ | K7: TC | L7: CĐ | M7: TC | N7: CĐ | O7: TC | P7: CĐ
A8: 1 | B8: Công nghệ kỹ thuật cơ khí | C8: 5510201 | D8: 6510201 | E8: Công nghệ kỹ thuật cơ khí | F8: 90 | G8: 280 | H8: =F8+G8 -> 370 | I8: 93 | J8: 395 | K8: 113 | L8: 388 | M8: 72 | N8: 316 | O8: 73 | P8: 372
A9: 2 | B9: Công nghệ kỹ thuật nhiệt | C9: 5510211 | D9: 6510211 | E9: Công nghệ kỹ thuật cơ khí | F9: 65 | G9: 150 | H9: =F9+G9 -> 215 | I9: 0 | J9: 87 | K9: 27 | L9: 154 | N9: 56 | P9: 20
A10: 3 | B10: Công nghệ chế tạo máy | C10: 5510212 | D10: 6510212 | E10: Công nghệ kỹ thuật cơ khí | F10: 100 | G10: 140 | H10: =F10+G10 -> 240 | I10: 0 | J10: 66 | L10: 169 | M10: 36 | N10: 40 | O10: 33 | P10: 86
A11: 4 | B11: Công nghệ ô tô | C11: 5510216 | D11: 6510216 | E11: Công nghệ kỹ thuật cơ khí | F11: 205 | G11: 520 | H11: =F11+G11 -> 725 | I11: 379 | J11: 955 | K11: 291 | L11: 1252 | M11: 212 | N11: 863 | O11: 362 | P11: 908
A12: 1. CHỈ TIÊU TỔNG CỘNG CỦA NHÓM | F12: =SUM(F8:F11) -> 460 | G12: =SUM(G8:G11) -> 1090 | H12: =SUM(H8:H11) -> 1550 | I12: =SUM(I8:I11) -> 472 | J12: =SUM(J8:J11) -> 1503 | K12: =SUM(K8:K11) -> 431 | L12: =SUM(L8:L11) -> 1963 | M12: =SUM(M8:M11) -> 320 | ... P12: =SUM(P8:P11) -> 1386
A13: 5 | B13: Công nghệ kỹ thuật điện, điện tử | C13: 5510303 | D13: 6510303 | E13: Công nghệ kỹ thuật điện, điện tử và viễn thông | F13: 85 | G13: 190 | H13: =F13+G13 -> 275 | I13: 73 | J13: 245 | K13: 54 | L13: 192 | M13: 66 | N13: 75 | O13: 52 | P13: 85
A14: 6 | B14: Công nghệ kỹ thuật điều khiển và tự động hóa | D14: 6510305 | E14: Công nghệ kỹ thuật điện, điện tử và viễn thông | G14: 120 | H14: =F14+G14 -> 120 | I14: 0 | J14: 63 | L14: 91 | N14: 51 | P14: 45
A15: 7 | B15: Công nghệ kỹ thuật điều khiển tự động | C15: 5510305 | E15: Công nghệ kỹ thuật điện, điện tử và viễn thông | F15: 70 | H15: =F15+G15 -> 70 | I15: 0 | J15: 0 | K15: 40 | M15: 26 | O15: 27
A16: 8 | B16: Công nghệ kỹ thuật điện tử, truyền thông | C16: 5510312 | D16: 6510312 | E16: Công nghệ kỹ thuật điện, điện tử và viễn thông | F16: 85 | G16: 115 | H16: =F16+G16 -> 200 | I16: 0 | J16: 0 | P16: 0
A17: 2. CHỈ TIÊU TỔNG CỘNG CỦA NHÓM | F17: =SUM(F13:F16) -> 240 | G17: =SUM(G13:G16) -> 425 | H17: =SUM(H13:H16) -> 665 | I17: =SUM(I13:I16) -> 73 | J17: =SUM(J13:J16) -> 308 | K17: =SUM(K13:K16) -> 94 | L17: =SUM(L13:L16) -> 283 | M17: =SUM(M13:M16) -> 92 | ... P17: =SUM(P13:P16) -> 130
A18: 9 | B18: Quản trị lữ hành | C18: 5810104 | D18: 6810104 | E18: Du lịch | F18: 50 | G18: 50 | H18: =F18+G18 -> 100 | I18: 0 | J18: 0 | K18: 28 | M18: 17 | P18: 17
A19: 10 | B19: Quản trị du lịch MICE | C19: 5810105 | D19: 6810105 | E19: Du lịch | F19: 50 | G19: 50 | H19: =F19+G19 -> 100 | I19: 0 | J19: 0 | K19: 60 | M19: 29 | O19: 28 | P19: 0
A20: 3. CHỈ TIÊU TỔNG CỘNG CỦA NHÓM | F20: =SUM(F18:F19) -> 100 | G20: =SUM(G18:G19) -> 100 | H20: =SUM(H18:H19) -> 200 | I20: =SUM(I18:I19) -> 0 | J20: =SUM(J18:J19) -> 0 | K20: =SUM(K18:K19) -> 88 | L20: =SUM(L18:L19) -> 0 | M20: =SUM(M18:M19) -> 46 | ... P20: =SUM(P18:P19) -> 17
A21: 11 | B21: Quản trị khách sạn | C21: 5810201 | D21: 6810201 | E21: Khách sạn, nhà hàng | F21: 35 | G21: 35 | H21: =F21+G21 -> 70 | I21: 0 | J21: 0 | K21: 64 | L21: 40 | M21: 76 | N21: 30 | O21: 45 | P21: 33
A22: 12 | B22: Quản trị nhà hàng | D22: 6810206 | E22: Khách sạn, nhà hàng | G22: 35 | H22: =F22+G22 -> 35 | I22: 0 | J22: 0 | L22: 26 | N22: 23 | P22: 29
A23: 13 | B23: Nghiệp vụ nhà hàng | C23: 5810206 | E23: Khách sạn, nhà hàng | F23: 35 | H23: =F23+G23 -> 35 | I23: 0 | J23: 0 | K23: 56 | M23: 34 | O23: 51
A24: 14 | B24: Kỹ thuật làm bánh | C24: 5810210 | D24: 6810210 | E24: Khách sạn, nhà hàng | F24: 50 | G24: 50 | H24: =F24+G24 -> 100 | I24: 0 | J24: 0 | K24: 62 | L24: 12 | M24: 73 | N24: 14 | O24: 99 | P24: 18
A25: 4. CHỈ TIÊU TỔNG CỘNG CỦA NHÓM | F25: =SUM(F21:F24) -> 120 | G25: =SUM(G21:G24) -> 120 | H25: =SUM(H21:H24) -> 240 | I25: =SUM(I21:I24) -> 0 | J25: =SUM(J21:J24) -> 0 | K25: =SUM(K21:K24) -> 182 | L25: =SUM(L21:L24) -> 78 | M25: =SUM(M21:M24) -> 183 | ... P25: =SUM(P21:P24) -> 80
A26: 15 | B26: Quản lý xây dựng | D26: 6580301 | E26: Quản lý xây dựng | G26: 70 | H26: =F26+G26 -> 70 | I26: 0 | J26: 0 | L26: 16 | P26: 0
A27: 5. CHỈ TIÊU TỔNG CỘNG CỦA NHÓM | G27: =SUM(G26) -> 70 | H27: =SUM(H26) -> 70 | I27: =SUM(I26) -> 0 | J27: =SUM(J26) -> 0 | K27: =SUM(K26) -> 0 | L27: =SUM(L26) -> 16 | M27: =SUM(M26) -> 0 | N27: =SUM(N26) -> 0 | ... P27: =SUM(P26) -> 0
A28: 16 | B28: Kỹ thuật xây dựng | C28: 5580201 | D28: 6580201 | E28: Xây dựng | F28: 60 | G28: 60 | H28: =F28+G28 -> 120 | I28: 36 | J28: 32 | K28: 47 | L28: 36 | M28: 18 | N28: 46 | O28: 22 | P28: 35
A29: 6. CHỈ TIÊU TỔNG CỘNG CỦA NHÓM | F29: =SUM(F28) -> 60 | G29: =SUM(G28) -> 60 | H29: =SUM(H28) -> 120 | I29: =SUM(I28) -> 36 | J29: =SUM(J28) -> 32 | K29: =SUM(K28) -> 47 | L29: =SUM(L28) -> 36 | M29: =SUM(M28) -> 18 | ... P29: =SUM(P28) -> 35
A30: 17 | B30: Kế toán doanh nghiệp | C30: 5340302 | D30: 6340302 | E30: Kế toán - Kiểm toán | F30: 65 | G30: 160 | H30: =F30+G30 -> 225 | I30: 115 | J30: 94 | K30: 77 | L30: 117 | M30: 64 | N30: 60 | O30: 54 | P30: 153
A31: 7. CHỈ TIÊU TỔNG CỘNG CỦA NHÓM | F31: =SUM(F30) -> 65 | G31: =SUM(G30) -> 160 | H31: =SUM(H30) -> 225 | I31: =SUM(I30) -> 115 | J31: =SUM(J30) -> 94 | K31: =SUM(K30) -> 77 | L31: =SUM(L30) -> 117 | M31: =SUM(M30) -> 64 | ... P31: =SUM(P30) -> 153
A32: 18 | B32: Logistics | C32: 5340113 | D32: 6340113 | E32: Kinh doanh | F32: 30 | G32: 60 | H32: =F32+G32 -> 90 | I32: 33 | J32: 28 | K32: 45 | L32: 28 | M32: 34 | N32: 36 | O32: 45 | P32: 65
A33: 19 | B33: Thương mại điện tử | C33: 5340122 | D33: 6340122 | E33: Kinh doanh | F33: 50 | G33: 75 | H33: =F33+G33 -> 125 | I33: 27 | J33: 0 | K33: 38 | L33: 24 | M33: 47 | N33: 17 | O33: 30 | P33: 39
A34: 8. CHỈ TIÊU TỔNG CỘNG CỦA NHÓM | F34: =SUM(F32:F33) -> 80 | G34: =SUM(G32:G33) -> 135 | H34: =SUM(H32:H33) -> 215 | I34: =SUM(I32:I33) -> 60 | J34: =SUM(J32:J33) -> 28 | K34: =SUM(K32:K33) -> 83 | L34: =SUM(L32:L33) -> 52 | M34: =SUM(M32:M33) -> 81 | ... P34: =SUM(P32:P33) -> 104
A35: 20 | B35: Quản trị doanh nghiệp vừa và nhỏ | C35: 5340417 | D35: 6340417 | E35: Quản trị - Quản lý | F35: 65 | G35: 160 | H35: =F35+G35 -> 225 | I35: 63 | J35: 103 | K35: 93 | L35: 118 | M35: 83 | N35: 123 | O35: 76 | P35: 183
A36: 9. CHỈ TIÊU TỔNG CỘNG CỦA NHÓM | F36: =SUM(F35) -> 65 | G36: =SUM(G35) -> 160 | H36: =SUM(H35) -> 225 | I36: =SUM(I35) -> 63 | J36: =SUM(J35) -> 103 | K36: =SUM(K35) -> 93 | L36: =SUM(L35) -> 118 | M36: =SUM(M35) -> 83 | ... P36: =SUM(P35) -> 183
A37: 21 | B37: Tài chính doanh nghiệp | C37: 5340201 | D37: 6340201 | E37: Tài chính - Ngân hàng - Bảo hiểm | F37: 65 | G37: 160 | H37: =F37+G37 -> 225 | I37: 42 | J37: 0 | K37: 65 | L37: 26 | M37: 30 | N37: 21 | O37: 32 | P37: 15
A38: 10. CHỈ TIÊU TỔNG CỘNG CỦA NHÓM | F38: =SUM(F37) -> 65 | G38: =SUM(G37) -> 160 | H38: =SUM(H37) -> 225 | I38: =SUM(I37) -> 42 | J38: =SUM(J37) -> 0 | K38: =SUM(K37) -> 65 | L38: =SUM(L37) -> 26 | M38: =SUM(M37) -> 30 | ... P38: =SUM(P37) -> 15
A39: 22 | B39: Chế tạo khuôn mẫu | C39: 5520105 | D39: 6520105 | E39: Kỹ thuật cơ khí và cơ kỹ thuật | F39: 30 | G39: 60 | H39: =F39+G39 -> 90 | I39: 0 | J39: 0 | L39: 20 | P39: 0
A40: 23 | B40: Lắp đặt thiết bị lạnh | C40: 5520114 | D40: 6520114 | E40: Kỹ thuật cơ khí và cơ kỹ thuật | F40: 75 | G40: 110 | H40: =F40+G40 -> 185 | I40: 57 | J40: 28 | K40: 50 | L40: 84 | P40: 22
A41: 24 | B41: Cắt gọt kim loại | C41: 5520121 | D41: 6520121 | E41: Kỹ thuật cơ khí và cơ kỹ thuật | F41: 65 | G41: 110 | H41: =F41+G41 -> 175 | I41: 0 | J41: 0 | K41: 25 | L41: 53 | O41: 0 | P41: 0
A42: 25 | B42: Sửa chữa máy tàu thủy | C42: 5520131 | D42: 6520131 | E42: Kỹ thuật cơ khí và cơ kỹ thuật | F42: 35 | G42: 35 | H42: =F42+G42 -> 70 | I42: 0 | J42: 0 | P42: 0
A43: 26 | B43: Sửa chữa máy nâng chuyển | C43: 5520145 | D43: 6520145 | E43: Kỹ thuật cơ khí và cơ kỹ thuật | F43: 50 | G43: 50 | H43: =F43+G43 -> 100 | I43: 0 | J43: 0
A44: 27 | B44: Bảo trì hệ thống thiết bị công nghiệp | C44: 5520155 | D44: 6520155 | E44: Kỹ thuật cơ khí và cơ kỹ thuật | F44: 65 | G44: 120 | H44: =F44+G44 -> 185 | I44: 0 | J44: 35 | L44: 25 | P44: 0
A45: 28 | B45: Cơ khí chế tạo | C45: 5520117 | E45: Kỹ thuật cơ khí và cơ kỹ thuật | F45: 100 | H45: =F45+G45 -> 100 | I45: 93 | J45: 0 | K45: 97 | M45: 40 | O45: 29
A46: 11. CHỈ TIÊU TỔNG CỘNG CỦA NHÓM | F46: =SUM(F39:F45) -> 420 | G46: =SUM(G39:G45) -> 485 | H46: =SUM(H39:H45) -> 905 | I46: =SUM(I39:I45) -> 150 | J46: =SUM(J39:J45) -> 63 | K46: =SUM(K39:K45) -> 172 | L46: =SUM(L39:L45) -> 182 | M46: =SUM(M39:M45) -> 40 | ... P46: =SUM(P39:P45) -> 22
A47: 29 | B47: Kỹ thuật máy lạnh và điều hòa không khí | C47: 5520205 | D47: 6520205 | E47: Kỹ thuật điện, điện tử và viễn thông | F47: 65 | G47: 125 | H47: =F47+G47 -> 190 | I47: 63 | J47: 92 | K47: 66 | L47: 81 | M47: 69 | N47: 61 | O47: 45 | P47: 142
A48: 30 | B48: Điện tử công nghiệp | C48: 5520225 | D48: 6520225 | E48: Kỹ thuật điện, điện tử và viễn thông | F48: 115 | G48: 165 | H48: =F48+G48 -> 280 | I48: 0 | J48: 0 | P48: 0
A49: 31 | B49: Điện công nghiệp | C49: 5520227 | D49: 6520227 | E49: Kỹ thuật điện, điện tử và viễn thông | F49: 135 | G49: 230 | H49: =F49+G49 -> 365 | I49: 120 | J49: 148 | K49: 137 | L49: 207 | M49: 97 | N49: 133 | O49: 60 | P49: 190
A50: 32 | B50: Vận hành, sửa chữa thiết bị lạnh | C50: 5520255 | D50: 6520255 | E50: Kỹ thuật điện, điện tử và viễn thông | F50: 95 | G50: 115 | H50: =F50+G50 -> 210 | I50: 77 | J50: 113 | K50: 92 | L50: 74 | M50: 72 | N50: 50 | O50: 85 | P50: 90
A51: 33 | B51: Cơ điện tử | C51: 5520263 | D51: 6520263 | E51: Kỹ thuật điện, điện tử và viễn thông | F51: 85 | G51: 170 | H51: =F51+G51 -> 255 | I51: 45 | J51: 51 | K51: 79 | L51: 120 | M51: 55 | N51: 82 | O51: 47 | P51: 100
A52: 12. CHỈ TIÊU TỔNG CỘNG CỦA NHÓM | F52: =SUM(F47:F51) -> 495 | G52: =SUM(G47:G51) -> 805 | H52: =SUM(H47:H51) -> 1300 | I52: =SUM(I47:I51) -> 305 | J52: =SUM(J47:J51) -> 404 | K52: =SUM(K47:K51) -> 374 | L52: =SUM(L47:L51) -> 482 | M52: =SUM(M47:M51) -> 293 | ... P52: =SUM(P47:P51) -> 522
A53: 34 | B53: Tin học ứng dụng | C53: 5480205 | D53: 6480205 | E53: Công nghệ thông tin | F53: 65 | G53: 75 | H53: =F53+G53 -> 140 | I53: 167 | J53: 0 | K53: 99 | L53: 48 | M53: 49 | O53: 41 | P53: 67
A54: 35 | B54: Lập trình máy tính | C54: 5480207 | D54: 6480207 | E54: Công nghệ thông tin | F54: 85 | G54: 150 | H54: =F54+G54 -> 235 | I54: 124 | J54: 65 | K54: 98 | L54: 140 | M54: 181 | N54: 127 | O54: 149 | P54: 178
A55: 36 | B55: Quản trị mạng máy tính | C55: 5480209 | D55: 6480209 | E55: Công nghệ thông tin | F55: 65 | G55: 150 | H55: =F55+G55 -> 215 | I55: 114 | J55: 135 | K55: 87 | L55: 102 | M55: 68 | N55: 36 | O55: 60 | P55: 104
A56: 37 | B56: Thiết kế trang Web | C56: 5480214 | D56: 6480214 | E56: Công nghệ thông tin | F56: 65 | G56: 85 | H56: =F56+G56 -> 150 | I56: 61 | J56: 35 | K56: 62 | L56: 63 | M56: 40 | N56: 43 | O56: 38 | P56: 74
A57: 38 | B57: An ninh mạng | C57: 5480216 | D57: 6480216 | E57: Công nghệ thông tin | F57: 65 | G57: 85 | H57: =F57+G57 -> 150 | I57: 71 | J57: 19 | K57: 37 | M57: 38 | O57: 27 | P57: 24
A58: 13. CHỈ TIÊU TỔNG CỘNG CỦA NHÓM | F58: =SUM(F53:F57) -> 345 | G58: =SUM(G53:G57) -> 545 | H58: =SUM(H53:H57) -> 890 | I58: =SUM(I53:I57) -> 537 | J58: =SUM(J53:J57) -> 254 | K58: =SUM(K53:K57) -> 383 | L58: =SUM(L53:L57) -> 353 | M58: =SUM(M53:M57) -> 376 | ... P58: =SUM(P53:P57) -> 447
A59: 39 | B59: Truyền thông mạng máy tính | C59: 5480104 | D59: 6480104 | E59: Máy tính | F59: 50 | G59: 50 | H59: =F59+G59 -> 100 | I59: 0 | J59: 0 | P59: 0
A60: 40 | B60: Công nghệ kỹ thuật máy tính | D60: 6480105 | E60: Máy tính | G60: 110 | H60: =F60+G60 -> 110 | I60: 0 | J60: 43 | L60: 76 | N60: 66 | P60: 117
A61: 41 | B61: Công nghệ kỹ thuật phần cứng máy tính | C61: 5480105 | E61: Máy tính | F61: 85 | H61: =F61+G61 -> 85 | I61: 94 | J61: 0 | K61: 77 | M61: 54 | O61: 71
A62: 42 | B62: Đồ họa đa phương tiện | C62: 5480108 | D62: 6480108 | E62: Máy tính | F62: 50 | G62: 50 | H62: =F62+G62 -> 100 | I62: 0 | J62: 0 | K62: 67 | L62: 30 | M62: 63 | O62: 108 | P62: 0
A63: 14. CHỈ TIÊU TỔNG CỘNG CỦA NHÓM | F63: =SUM(F59:F62) -> 185 | G63: =SUM(G59:G62) -> 210 | H63: =SUM(H59:H62) -> 395 | I63: =SUM(I59:I62) -> 94 | J63: =SUM(J59:J62) -> 43 | K63: =SUM(K59:K62) -> 144 | L63: =SUM(L59:L62) -> 106 | M63: =SUM(M59:M62) -> 117 | ... P63: =SUM(P59:P62) -> 117
A64: 43 | B64: Thiết kế đồ họa | C64: 5210402 | D64: 6210402 | E64: Mỹ thuật ứng dụng | F64: 90 | G64: 130 | H64: =F64+G64 -> 220 | I64: 132 | J64: 105 | K64: 147 | L64: 128 | M64: 148 | N64: 116 | O64: 140 | P64: 208
A65: 15. CHỈ TIÊU TỔNG CỘNG CỦA NHÓM | F65: =SUM(F64) -> 90 | G65: =SUM(G64) -> 130 | H65: =SUM(H64) -> 220 | I65: =SUM(I64) -> 132 | J65: =SUM(J64) -> 105 | K65: =SUM(K64) -> 147 | L65: =SUM(L64) -> 128 | M65: =SUM(M64) -> 148 | ... P65: =SUM(P64) -> 208
A66: 44 | B66: Tiếng Anh | C66: 5220206 | D66: 6220206 | E66: Ngôn ngữ, văn học và văn hóa nước ngoài | F66: 150 | G66: 320 | H66: =F66+G66 -> 470 | I66: 175 | J66: 69 | K66: 149 | L66: 125 | M66: 91 | N66: 75 | O66: 117 | P66: 230
A67: 45 | B67: Tiếng Hàn Quốc | C67: 5220211 | D67: 6220211 | E67: Ngôn ngữ, văn học và văn hóa nước ngoài | F67: 50 | G67: 50 | H67: =F67+G67 -> 100 | I67: 0 | J67: 0 | M67: 19 | O67: 26 | P67: 0
A68: 46 | B68: Tiếng Nhật | C68: 5220212 | D68: 6220212 | E68: Ngôn ngữ, văn học và văn hóa nước ngoài | F68: 35 | G68: 35 | H68: =F68+G68 -> 70 | I68: 0 | J68: 0 | M68: 8 | O68: 23 | P68: 24
A69: 16. CHỈ TIÊU TỔNG CỘNG CỦA NHÓM | F69: =SUM(F66:F68) -> 235 | G69: =SUM(G66:G68) -> 405 | H69: =SUM(H66:H68) -> 640 | I69: =SUM(I66:I68) -> 175 | J69: =SUM(J66:J68) -> 69 | K69: =SUM(K66:K68) -> 149 | L69: =SUM(L66:L68) -> 125 | M69: =SUM(M66:M68) -> 118 | ... P69: =SUM(P66:P68) -> 254
A70: 47 | B70: Công nghệ may | C70: 5540204 | D70: 6540204 | E70: Sản xuất, chế biến sợi, vải, giày, da | F70: 100 | G70: 150 | H70: =F70+G70 -> 250 | I70: 58 | J70: 59 | K70: 50 | L70: 70 | M70: 33 | N70: 16 | O70: 24 | P70: 57
A71: 48 | B71: May thời trang | C71: 5540205 | D71: 6540205 | E71: Sản xuất, chế biến sợi, vải, giày, da | F71: 65 | G71: 150 | H71: =F71+G71 -> 215 | I71: 0 | J71: 0 | O71: 0
A72: 49 | B72: Công nghệ may Veston | C72: 5540207 | D72: 6540207 | E72: Sản xuất, chế biến sợi, vải, giày, da | F72: 45 | G72: 80 | H72: =F72+G72 -> 125 | I72: 0 | J72: 0
A73: 17. CHỈ TIÊU TỔNG CỘNG CỦA NHÓM | F73: =SUM(F70:F72) -> 210 | G73: =SUM(G70:G72) -> 380 | H73: =SUM(H70:H72) -> 590 | I73: =SUM(I70:I72) -> 58 | J73: =SUM(J70:J72) -> 59 | K73: =SUM(K70:K72) -> 50 | L73: =SUM(L70:L72) -> 70 | M73: =SUM(M70:M72) -> 33 | ... P73: =SUM(P70:P72) -> 57
A74: TỔNG CỘNG | F74: =F73+F69+F65+F63+F58+F52+F46+F38+F36+F34+F31+F29+F27+F25+F20+F17+F12 -> 3235 | G74: =G73+G69+G65+G63+G58+G52+G46+G38+G36+G34+G31+G29+G27+G25+G20+G17+G12 -> 5440 | H74: =H73+H69+H65+H63+H58+H52+H46+H38+H36+H34+H31+H29+H27+H25+H20+H17+H12 -> 8675 | I74: =I73+I69+I65+I63+I58+I52+I46+I38+I36+I34+I31+I29+I27+I25+I20+I17+I12 -> 2312 | J74: =J73+J69+J65+J63+J58+J52+J46+J38+J36+J34+J31+J29+J27+J25+J20+J17+J12 -> 3065 | K74: =K73+K69+K65+K63+K58+K52+K46+K38+K36+K34+K31+K29+K27+K25+K20+K17+K12 -> 2579 | L74: =L73+L69+L65+L63+L58+L52+L46+L38+L36+L34+L31+L29+L27+L25+L20+L17+L12 -> 4135 | M74: =M73+M69+M65+M63+M58+M52+M46+M38+M36+M34+M31+M29+M27+M25+M20+M17+M12 -> 2042 | ... P74: =P73+P69+P65+P63+P58+P52+P46+P38+P36+P34+P31+P29+P27+P25+P20+P17+P12 -> 3730
F75: 46 ngành | G75: 46 ngành | H75: 50 ngành | I75: =I74+J74 -> 5377 | K75: =K74+L74 -> 6714 | M75: =M74+N74 -> 4618 | O75: =O74+P74 -> 5849
A77: T2: QĐ 1269/QĐ-LTT-ĐT ngày 11/11/2021 v/v sinh viên trúng tuyển nhập học cao đẳng, trung cấp khoá 2021
A78: T4: QĐ 1269/QĐ-LTT-ĐT ngày 11/11/2021 v/v sinh viên trúng tuyển nhập học cao đẳng, trung cấp khoá 2021
A79: C1: QĐ 1269/QĐ-LTT-ĐT ngày 11/11/2021 v/v sinh viên trúng tuyển nhập học cao đẳng, trung cấp khoá 2021
A80: C2: QĐ 24/QĐ-LTT-ĐT ngày 25/01/2022 v/v sinh viên trúng tuyển nhập học cao đẳng liên thông khoá 2021 - đợt A
A81: C3: QĐ 1269/QĐ-LTT-ĐT ngày 11/11/2021 v/v sinh viên trúng tuyển nhập học cao đẳng, trung cấp khoá 2021
A82: C5: QĐ 1269/QĐ-LTT-ĐT ngày 11/11/2021 v/v sinh viên trúng tuyển nhập học cao đẳng, trung cấp khoá 2021
A83: C6: QĐ 1269/QĐ-LTT-ĐT ngày 11/11/2021 v/v sinh viên trúng tuyển nhập học cao đẳng, trung cấp khoá 2021
A84: C7: QĐ 1271/QĐ-LTT-ĐT ngày 11/11/2021 v/v sinh viên trúng tuyển nhập học Cao đẳng Liên kết Quốc tế khoá 2021 (21C7)
E86: Thành phố Hồ Chí Minh, ngày 14 tháng 02 năm 2022
A87: NGƯỜI LẬP BIỂU | E87: TRƯỞNG PHÒNG TUYỂN SINH ĐÀO TẠO
A93: Thái Thị My Sa | E93: Hồ Văn Sĩ

Sheet BC
A1: UBND THÀNH PHỐ HỒ CHÍ MINH | K1: CỘNG HÒA XÃ HỘI CHỦ NGHĨA VIỆT NAM
A2: TRƯỜNG CAO ĐẲNG LÝ TỰ TRỌNG | K2: Độc lập - Tự do - Hạnh phúc
A3: THÀNH PHỐ HỒ CHÍ MINH
A5: TỔNG HỢP NGÀNH NGHỀ ĐÀO TẠO THEO NHÓM MÃ NGÀNH CẤP III THÔNG TƯ 26/2020 CỦA BỘ LAO ĐỘNG - THƯƠNG BINH VÀ XÃ HỘI
A6: Stt | B6: Tên nghề đào tạo | C6: MÃ NGÀNH/NGHỀ CẤP IV | E6: TÊN NGÀNH CẤP III | F6: Chỉ tiêu tuyển sinh 2022 | H6: TỔNG CỘNG CHỈ TIÊU 2022 | I6: 2019 | K6: 2020 | M6: 2021 | O6: 2022
C7: Trung cấp | D7: Cao đẳng | F7: Trung cấp | G7: Cao đẳng | I7: TC | J7: CĐ | K7: TC | L7: CĐ | M7: TC | N7: CĐ | O7: TC | P7: CĐ
A8: 1 | B8: Công nghệ kỹ thuật cơ khí | C8: 5510201 | D8: 6510201 | E8: Công nghệ kỹ thuật cơ khí | F8: 90 | G8: 280 | H8: =F8+G8 -> 370 | I8: 93 | J8: 395 | K8: 113 | L8: 388 | M8: 72 | N8: 316 | O8: 73 | P8: 372
A9: 2 | B9: Công nghệ kỹ thuật nhiệt | C9: 5510211 | D9: 6510211 | E9: Công nghệ kỹ thuật cơ khí | F9: 65 | G9: 150 | H9: =F9+G9 -> 215 | I9: 0 | J9: 87 | K9: 27 | L9: 154 | N9: 56 | P9: 20
A10: 3 | B10: Công nghệ chế tạo máy | C10: 5510212 | D10: 6510212 | E10: Công nghệ kỹ thuật cơ khí | F10: 100 | G10: 140 | H10: =F10+G10 -> 240 | I10: 0 | J10: 66 | L10: 169 | M10: 36 | N10: 40 | O10: 33 | P10: 86
A11: 4 | B11: Công nghệ ô tô | C11: 5510216 | D11: 6510216 | E11: Công nghệ kỹ thuật cơ khí | F11: 205 | G11: 520 | H11: =F11+G11 -> 725 | I11: 379 | J11: 955 | K11: 291 | L11: 1252 | M11: 212 | N11: 863 | O11: 362 | P11: 908
A12: 5 | B12: Công nghệ kỹ thuật điện, điện tử | C12: 5510303 | D12: 6510303 | E12: Công nghệ kỹ thuật điện, điện tử và viễn thông | F12: 85 | G12: 190 | H12: =F12+G12 -> 275 | I12: 73 | J12: 245 | K12: 54 | L12: 192 | M12: 66 | N12: 75 | O12: 52 | P12: 85
A13: 6 | B13: Công nghệ kỹ thuật điều khiển và tự động hóa | D13: 6510305 | E13: Công nghệ kỹ thuật điện, điện tử và viễn thông | G13: 120 | H13: =F13+G13 -> 120 | I13: 0 | J13: 63 | L13: 91 | N13: 51 | P13: 45
A14: 7 | B14: Công nghệ kỹ thuật điều khiển tự động | C14: 5510305 | E14: Công nghệ kỹ thuật điện, điện tử và viễn thông | F14: 70 | H14: =F14+G14 -> 70 | I14: 0 | J14: 0 | K14: 40 | M14: 26 | O14: 27
A15: 8 | B15: Công nghệ kỹ thuật điện tử, truyền thông | C15: 5510312 | D15: 6510312 | E15: Công nghệ kỹ thuật điện, điện tử và viễn thông | F15: 85 | G15: 115 | H15: =F15+G15 -> 200 | I15: 0 | J15: 0 | P15: 0
A16: 9 | B16: Quản trị lữ hành | C16: 5810104 | D16: 6810104 | E16: Du lịch | F16: 50 | G16: 50 | H16: =F16+G16 -> 100 | I16: 0 | J16: 0 | K16: 28 | M16: 17 | P16: 17
A17: 10 | B17: Quản trị du lịch MICE | C17: 5810105 | D17: 6810105 | E17: Du lịch | F17: 50 | G17: 50 | H17: =F17+G17 -> 100 | I17: 0 | J17: 0 | K17: 60 | M17: 29 | O17: 28 | P17: 0
A18: 11 | B18: Quản trị khách sạn | C18: 5810201 | D18: 6810201 | E18: Khách sạn, nhà hàng | F18: 35 | G18: 35 | H18: =F18+G18 -> 70 | I18: 0 | J18: 0 | K18: 64 | L18: 40 | M18: 76 | N18: 30 | O18: 45 | P18: 33
A19: 12 | B19: Quản trị nhà hàng | D19: 6810206 | E19: Khách sạn, nhà hàng | G19: 35 | H19: =F19+G19 -> 35 | I19: 0 | J19: 0 | L19: 26 | N19: 23 | P19: 29
A20: 13 | B20: Nghiệp vụ nhà hàng | C20: 5810206 | E20: Khách sạn, nhà hàng | F20: 35 | H20: =F20+G20 -> 35 | I20: 0 | J20: 0 | K20: 56 | M20: 34 | O20: 51
A21: 14 | B21: Kỹ thuật làm bánh | C21: 5810210 | D21: 6810210 | E21: Khách sạn, nhà hàng | F21: 50 | G21: 50 | H21: =F21+G21 -> 100 | I21: 0 | J21: 0 | K21: 62 | L21: 12 | M21: 73 | N21: 14 | O21: 99 | P21: 18
A22: 15 | B22: Quản lý xây dựng | D22: 6580301 | E22: Quản lý xây dựng | G22: 70 | H22: =F22+G22 -> 70 | I22: 0 | J22: 0 | L22: 16 | P22: 0
A23: 16 | B23: Kỹ thuật xây dựng | C23: 5580201 | D23: 6580201 | E23: Xây dựng | F23: 60 | G23: 60 | H23: =F23+G23 -> 120 | I23: 36 | J23: 32 | K23: 47 | L23: 36 | M23: 18 | N23: 46 | O23: 22 | P23: 35
A24: 17 | B24: Kế toán doanh nghiệp | C24: 5340302 | D24: 6340302 | E24: Kế toán - Kiểm toán | F24: 65 | G24: 160 | H24: =F24+G24 -> 225 | I24: 115 | J24: 94 | K24: 77 | L24: 117 | M24: 64 | N24: 60 | O24: 54 | P24: 153
A25: 18 | B25: Logistics | C25: 5340113 | D25: 6340113 | E25: Kinh doanh | F25: 30 | G25: 60 | H25: =F25+G25 -> 90 | I25: 33 | J25: 28 | K25: 45 | L25: 28 | M25: 34 | N25: 36 | O25: 45 | P25: 65
A26: 19 | B26: Thương mại điện tử | C26: 5340122 | D26: 6340122 | E26: Kinh doanh | F26: 50 | G26: 75 | H26: =F26+G26 -> 125 | I26: 27 | J26: 0 | K26: 38 | L26: 24 | M26: 47 | N26: 17 | O26: 30 | P26: 39
A27: 20 | B27: Quản trị doanh nghiệp vừa và nhỏ | C27: 5340417 | D27: 6340417 | E27: Quản trị - Quản lý | F27: 65 | G27: 160 | H27: =F27+G27 -> 225 | I27: 63 | J27: 103 | K27: 93 | L27: 118 | M27: 83 | N27: 123 | O27: 76 | P27: 183
A28: 21 | B28: Tài chính doanh nghiệp | C28: 5340201 | D28: 6340201 | E28: Tài chính - Ngân hàng - Bảo hiểm | F28: 65 | G28: 160 | H28: =F28+G28 -> 225 | I28: 42 | J28: 0 | K28: 65 | L28: 26 | M28: 30 | N28: 21 | O28: 32 | P28: 15
A29: 22 | B29: Chế tạo khuôn mẫu | C29: 5520105 | D29: 6520105 | E29: Kỹ thuật cơ khí và cơ kỹ thuật | F29: 30 | G29: 60 | H29: =F29+G29 -> 90 | I29: 0 | J29: 0 | L29: 20 | P29: 0
A30: 23 | B30: Lắp đặt thiết bị lạnh | C30: 5520114 | D30: 6520114 | E30: Kỹ thuật cơ khí và cơ kỹ thuật | F30: 75 | G30: 110 | H30: =F30+G30 -> 185 | I30: 57 | J30: 28 | K30: 50 | L30: 84 | P30: 22
A31: 24 | B31: Cắt gọt kim loại | C31: 5520121 | D31: 6520121 | E31: Kỹ thuật cơ khí và cơ kỹ thuật | F31: 65 | G31: 110 | H31: =F31+G31 -> 175 | I31: 0 | J31: 0 | K31: 25 | L31: 53 | O31: 0 | P31: 0
A32: 25 | B32: Sửa chữa máy tàu thủy | C32: 5520131 | D32: 6520131 | E32: Kỹ thuật cơ khí và cơ kỹ thuật | F32: 35 | G32: 35 | H32: =F32+G32 -> 70 | I32: 0 | J32: 0 | P32: 0
A33: 26 | B33: Sửa chữa máy nâng chuyển | C33: 5520145 | D33: 6520145 | E33: Kỹ thuật cơ khí và cơ kỹ thuật | F33: 50 | G33: 50 | H33: =F33+G33 -> 100 | I33: 0 | J33: 0
A34: 27 | B34: Bảo trì hệ thống thiết bị công nghiệp | C34: 5520155 | D34: 6520155 | E34: Kỹ thuật cơ khí và cơ kỹ thuật | F34: 65 | G34: 120 | H34: =F34+G34 -> 185 | I34: 0 | J34: 35 | L34: 25 | P34: 0
A35: 28 | B35: Cơ khí chế tạo | C35: 5520117 | E35: Kỹ thuật cơ khí và cơ kỹ thuật | F35: 100 | H35: =F35+G35 -> 100 | I35: 93 | J35: 0 | K35: 97 | M35: 40 | O35: 29
A36: 29 | B36: Kỹ thuật máy lạnh và điều hòa không khí | C36: 5520205 | D36: 6520205 | E36: Kỹ thuật điện, điện tử và viễn thông | F36: 65 | G36: 125 | H36: =F36+G36 -> 190 | I36: 63 | J36: 92 | K36: 66 | L36: 81 | M36: 69 | N36: 61 | O36: 45 | P36: 142
A37: 30 | B37: Điện tử công nghiệp | C37: 5520225 | D37: 6520225 | E37: Kỹ thuật điện, điện tử và viễn thông | F37: 115 | G37: 165 | H37: =F37+G37 -> 280 | I37: 0 | J37: 0 | P37: 0
A38: 31 | B38: Điện công nghiệp | C38: 5520227 | D38: 6520227 | E38: Kỹ thuật điện, điện tử và viễn thông | F38: 135 | G38: 230 | H38: =F38+G38 -> 365 | I38: 120 | J38: 148 | K38: 137 | L38: 207 | M38: 97 | N38: 133 | O38: 60 | P38: 190
A39: 32 | B39: Vận hành, sửa chữa thiết bị lạnh | C39: 5520255 | D39: 6520255 | E39: Kỹ thuật điện, điện tử và viễn thông | F39: 95 | G39: 115 | H39: =F39+G39 -> 210 | I39: 77 | J39: 113 | K39: 92 | L39: 74 | M39: 72 | N39: 50 | O39: 85 | P39: 90
A40: 33 | B40: Cơ điện tử | C40: 5520263 | D40: 6520263 | E40: Kỹ thuật điện, điện tử và viễn thông | F40: 85 | G40: 170 | H40: =F40+G40 -> 255 | I40: 45 | J40: 51 | K40: 79 | L40: 120 | M40: 55 | N40: 82 | O40: 47 | P40: 100
A41: 34 | B41: Tin học ứng dụng | C41: 5480205 | D41: 6480205 | E41: Công nghệ thông tin | F41: 65 | G41: 75 | H41: =F41+G41 -> 140 | I41: 167 | J41: 0 | K41: 99 | L41: 48 | M41: 49 | O41: 41 | P41: 67
A42: 35 | B42: Lập trình máy tính | C42: 5480207 | D42: 6480207 | E42: Công nghệ thông tin | F42: 85 | G42: 150 | H42: =F42+G42 -> 235 | I42: 124 | J42: 65 | K42: 98 | L42: 140 | M42: 181 | N42: 127 | O42: 149 | P42: 178
A43: 36 | B43: Quản trị mạng máy tính | C43: 5480209 | D43: 6480209 | E43: Công nghệ thông tin | F43: 65 | G43: 150 | H43: =F43+G43 -> 215 | I43: 114 | J43: 135 | K43: 87 | L43: 102 | M43: 68 | N43: 36 | O43: 60 | P43: 104
A44: 37 | B44: Thiết kế trang Web | C44: 5480214 | D44: 6480214 | E44: Công nghệ thông tin | F44: 65 | G44: 85 | H44: =F44+G44 -> 150 | I44: 61 | J44: 35 | K44: 62 | L44: 63 | M44: 40 | N44: 43 | O44: 38 | P44: 74
A45: 38 | B45: An ninh mạng | C45: 5480216 | D45: 6480216 | E45: Công nghệ thông tin | F45: 65 | G45: 85 | H45: =F45+G45 -> 150 | I45: 71 | J45: 19 | K45: 37 | M45: 38 | O45: 27 | P45: 24
A46: 39 | B46: Truyền thông mạng máy tính | C46: 5480104 | D46: 6480104 | E46: Máy tính | F46: 50 | G46: 50 | H46: =F46+G46 -> 100 | I46: 0 | J46: 0 | P46: 0
A47: 40 | B47: Công nghệ kỹ thuật máy tính | D47: 6480105 | E47: Máy tính | G47: 110 | H47: =F47+G47 -> 110 | I47: 0 | J47: 43 | L47: 76 | N47: 66 | P47: 117
A48: 41 | B48: Công nghệ kỹ thuật phần cứng máy tính | C48: 5480105 | E48: Máy tính | F48: 85 | H48: =F48+G48 -> 85 | I48: 94 | J48: 0 | K48: 77 | M48: 54 | O48: 71
A49: 42 | B49: Đồ họa đa phương tiện | C49: 5480108 | D49: 6480108 | E49: Máy tính | F49: 50 | G49: 50 | H49: =F49+G49 -> 100 | I49: 0 | J49: 0 | K49: 67 | L49: 30 | M49: 63 | O49: 108 | P49: 0
A50: 43 | B50: Thiết kế đồ họa | C50: 5210402 | D50: 6210402 | E50: Mỹ thuật ứng dụng | F50: 90 | G50: 130 | H50: =F50+G50 -> 220 | I50: 132 | J50: 105 | K50: 147 | L50: 128 | M50: 148 | N50: 116 | O50: 140 | P50: 208
A51: 44 | B51: Tiếng Anh | C51: 5220206 | D51: 6220206 | E51: Ngôn ngữ, văn học và văn hóa nước ngoài | F51: 150 | G51: 320 | H51: =F51+G51 -> 470 | I51: 175 | J51: 69 | K51: 149 | L51: 125 | M51: 91 | N51: 75 | O51: 117 | P51: 230
A52: 45 | B52: Tiếng Hàn Quốc | C52: 5220211 | D52: 6220211 | E52: Ngôn ngữ, văn học và văn hóa nước ngoài | F52: 50 | G52: 50 | H52: =F52+G52 -> 100 | I52: 0 | J52: 0 | M52: 19 | O52: 26 | P52: 0
A53: 46 | B53: Tiếng Nhật | C53: 5220212 | D53: 6220212 | E53: Ngôn ngữ, văn học và văn hóa nước ngoài | F53: 35 | G53: 35 | H53: =F53+G53 -> 70 | I53: 0 | J53: 0 | M53: 8 | O53: 23 | P53: 24
A54: 47 | B54: Công nghệ may | C54: 5540204 | D54: 6540204 | E54: Sản xuất, chế biến sợi, vải, giày, da | F54: 100 | G54: 150 | H54: =F54+G54 -> 250 | I54: 58 | J54: 59 | K54: 50 | L54: 70 | M54: 33 | N54: 16 | O54: 24 | P54: 57
A55: 48 | B55: May thời trang | C55: 5540205 | D55: 6540205 | E55: Sản xuất, chế biến sợi, vải, giày, da | F55: 65 | G55: 150 | H55: =F55+G55 -> 215 | I55: 0 | J55: 0 | O55: 0
A56: 49 | B56: Công nghệ may Veston | C56: 5540207 | D56: 6540207 | E56: Sản xuất, chế biến sợi, vải, giày, da | F56: 45 | G56: 80 | H56: =F56+G56 -> 125 | I56: 0 | J56: 0
A57: TỔNG CỘNG | F57: =SUM(F8:F56) -> 3235 | G57: =SUM(G8:G56) -> 5440 | H57: =SUM(H8:H56) -> 8675 | I57: =SUM(I8:I56) -> 2312 | J57: =SUM(J8:J56) -> 3065 | K57: =SUM(K8:K56) -> 2579 | L57: =SUM(L8:L56) -> 4135 | M57: =SUM(M8:M56) -> 2042 | ... P57: =SUM(P8:P56) -> 3730
F58: 46 ngành | G58: 46 ngành | H58: 50 ngành | I58: =I57+J57 -> 5377 | K58: =K57+L57 -> 6714 | M58: =M57+N57 -> 4618 | O58: =O57+P57 -> 5849
A60: T2: QĐ 1269/QĐ-LTT-ĐT ngày 11/11/2021 v/v sinh viên trúng tuyển nhập học cao đẳng, trung cấp khoá 2021
A61: T4: QĐ 1269/QĐ-LTT-ĐT ngày 11/11/2021 v/v sinh viên trúng tuyển nhập học cao đẳng, trung cấp khoá 2021
A62: C1: QĐ 1269/QĐ-LTT-ĐT ngày 11/11/2021 v/v sinh viên trúng tuyển nhập học cao đẳng, trung cấp khoá 2021
A63: C2: QĐ 24/QĐ-LTT-ĐT ngày 25/01/2022 v/v sinh viên trúng tuyển nhập học cao đẳng liên thông khoá 2021 - đợt A
A64: C3: QĐ 1269/QĐ-LTT-ĐT ngày 11/11/2021 v/v sinh viên trúng tuyển nhập học cao đẳng, trung cấp khoá 2021
A65: C5: QĐ 1269/QĐ-LTT-ĐT ngày 11/11/2021 v/v sinh viên trúng tuyển nhập học cao đẳng, trung cấp khoá 2021
A66: C6: QĐ 1269/QĐ-LTT-ĐT ngày 11/11/2021 v/v sinh viên trúng tuyển nhập học cao đẳng, trung cấp khoá 2021
A67: C7: QĐ 1271/QĐ-LTT-ĐT ngày 11/11/2021 v/v sinh viên trúng tuyển nhập học Cao đẳng Liên kết Quốc tế khoá 2021 (21C7)
E69: Thành phố Hồ Chí Minh, ngày 14 tháng 02 năm 2022
A70: NGƯỜI LẬP BIỂU | E70: TRƯỞNG PHÒNG TUYỂN SINH ĐÀO TẠO
A76: Thái Thị My Sa | E76: Hồ Văn Sĩ

Sheet BC TỔNG
A1: Stt | B1: Tên nghề đào tạo | C1: Trình độ đào tạo | D1: Mã nghề | E1: Quy mô tuyển sinh/ năm | F1: Kết quả tuyển sinh (ĐVT: người)
F2: Năm 2020 | G2: Năm 2021 | H2: Năm 2022
A3: 1 | B3: Công nghệ kỹ thuật cơ khí | C3: Trung cấp | D3: 5510201 | E3: 90 | F3: 113 | G3: 72 | H3: 73
A4: 2 | B4: Công nghệ kỹ thuật nhiệt | C4: Trung cấp | D4: 5510211 | E4: 65 | F4: 27
A5: 3 | B5: Công nghệ chế tạo máy | C5: Trung cấp | D5: 5510212 | E5: 100 | G5: 36 | H5: 33
A6: 4 | B6: Công nghệ ô tô | C6: Trung cấp | D6: 5510216 | E6: 205 | F6: 291 | G6: 212 | H6: 362
A7: 5 | B7: Công nghệ kỹ thuật điện, điện tử | C7: Trung cấp | D7: 5510303 | E7: 85 | F7: 54 | G7: 66 | H7: 52
A8: 6 | B8: Công nghệ kỹ thuật điều khiển tự động | C8: Trung cấp | D8: 5510305 | E8: 70 | F8: 40 | G8: 26 | H8: 27
A9: 7 | B9: Công nghệ kỹ thuật điện tử, truyền thông | C9: Trung cấp | D9: 5510312 | E9: 85
A10: 8 | B10: Quản trị lữ hành | C10: Trung cấp | D10: 5810104 | E10: 50 | F10: 28 | G10: 17
A11: 9 | B11: Quản trị du lịch MICE | C11: Trung cấp | D11: 5810105 | E11: 50 | F11: 60 | G11: 29 | H11: 28
A12: 10 | B12: Quản trị khách sạn | C12: Trung cấp | D12: 5810201 | E12: 35 | F12: 64 | G12: 76 | H12: 45
A13: 11 | B13: Nghiệp vụ nhà hàng | C13: Trung cấp | D13: 5810206 | E13: 35 | F13: 56 | G13: 34 | H13: 51
A14: 12 | B14: Kỹ thuật làm bánh | C14: Trung cấp | D14: 5810210 | E14: 50 | F14: 62 | G14: 73 | H14: 99
A15: 13 | B15: Kỹ thuật xây dựng | C15: Trung cấp | D15: 5580201 | E15: 60 | F15: 47 | G15: 18 | H15: 22
A16: 14 | B16: Kế toán doanh nghiệp | C16: Trung cấp | D16: 5340302 | E16: 65 | F16: 77 | G16: 64 | H16: 54
A17: 15 | B17: Logistics | C17: Trung cấp | D17: 5340113 | E17: 30 | F17: 45 | G17: 34 | H17: 45
A18: 16 | B18: Thương mại điện tử | C18: Trung cấp | D18: 5340122 | E18: 50 | F18: 38 | G18: 47 | H18: 30
A19: 17 | B19: Quản trị doanh nghiệp vừa và nhỏ | C19: Trung cấp | D19: 5340417 | E19: 65 | F19: 93 | G19: 83 | H19: 76
A20: 18 | B20: Tài chính doanh nghiệp | C20: Trung cấp | D20: 5340201 | E20: 65 | F20: 65 | G20: 30 | H20: 32
A21: 19 | B21: Chế tạo khuôn mẫu | C21: Trung cấp | D21: 5520105 | E21: 30
A22: 20 | B22: Lắp đặt thiết bị lạnh | C22: Trung cấp | D22: 5520114 | E22: 75 | F22: 50
A23: 21 | B23: Cắt gọt kim loại | C23: Trung cấp | D23: 5520121 | E23: 65 | F23: 25 | H23: 0
A24: 22 | B24: Sửa chữa máy tàu thủy | C24: Trung cấp | D24: 5520131 | E24: 35
A25: 23 | B25: Sửa chữa máy nâng chuyển | C25: Trung cấp | D25: 5520145 | E25: 50
A26: 24 | B26: Bảo trì hệ thống thiết bị công nghiệp | C26: Trung cấp | D26: 5520155 | E26: 65
A27: 25 | B27: Cơ khí chế tạo | C27: Trung cấp | D27: 5520117 | E27: 100 | F27: 97 | G27: 40 | H27: 29
A28: 26 | B28: Kỹ thuật máy lạnh và điều hòa không khí | C28: Trung cấp | D28: 5520205 | E28: 65 | F28: 66 | G28: 69 | H28: 45
A29: 27 | B29: Điện tử công nghiệp | C29: Trung cấp | D29: 5520225 | E29: 115
A30: 28 | B30: Điện công nghiệp | C30: Trung cấp | D30: 5520227 | E30: 135 | F30: 137 | G30: 97 | H30: 60
A31: 29 | B31: Vận hành, sửa chữa thiết bị lạnh | C31: Trung cấp | D31: 5520255 | E31: 95 | F31: 92 | G31: 72 | H31: 85
A32: 30 | B32: Cơ điện tử | C32: Trung cấp | D32: 5520263 | E32: 85 | F32: 79 | G32: 55 | H32: 47
A33: 31 | B33: Tin học ứng dụng | C33: Trung cấp | D33: 5480205 | E33: 65 | F33: 99 | G33: 49 | H33: 41
A34: 32 | B34: Lập trình máy tính | C34: Trung cấp | D34: 5480207 | E34: 85 | F34: 98 | G34: 181 | H34: 149
A35: 33 | B35: Quản trị mạng máy tính | C35: Trung cấp | D35: 5480209 | E35: 65 | F35: 87 | G35: 68 | H35: 60
A36: 34 | B36: Thiết kế trang Web | C36: Trung cấp | D36: 5480214 | E36: 65 | F36: 62 | G36: 40 | H36: 38
A37: 35 | B37: An ninh mạng | C37: Trung cấp | D37: 5480216 | E37: 65 | F37: 37 | G37: 38 | H37: 27
A38: 36 | B38: Truyền thông mạng máy tính | C38: Trung cấp | D38: 5480104 | E38: 50
A39: 37 | B39: Công nghệ kỹ thuật phần cứng máy tính | C39: Trung cấp | D39: 5480105 | E39: 85 | F39: 77 | G39: 54 | H39: 71
A40: 38 | B40: Đồ họa đa phương tiện | C40: Trung cấp | D40: 5480108 | E40: 50 | F40: 67 | G40: 63 | H40: 108
A41: 39 | B41: Thiết kế đồ họa | C41: Trung cấp | D41: 5210402 | E41: 90 | F41: 147 | G41: 148 | H41: 140
A42: 40 | B42: Tiếng Anh | C42: Trung cấp | D42: 5220206 | E42: 150 | F42: 149 | G42: 91 | H42: 117
A43: 41 | B43: Tiếng Hàn Quốc | C43: Trung cấp | D43: 5220211 | E43: 50 | G43: 19 | H43: 26
A44: 42 | B44: Tiếng Nhật | C44: Trung cấp | D44: 5220212 | E44: 35 | G44: 8 | H44: 23
A45: 43 | B45: Công nghệ may | C45: Trung cấp | D45: 5540204 | E45: 100 | F45: 50 | G45: 33 | H45: 24
A46: 44 | B46: May thời trang | C46: Trung cấp | D46: 5540205 | E46: 65 | H46: 0
A47: 45 | B47: Công nghệ may Veston | C47: Trung cấp | D47: 5540207 | E47: 45
A48: 46 | B48: Công nghệ kỹ thuật cơ khí | C48: Cao đẳng | D48: 6510201 | E48: 280 | F48: 388 | G48: 316 | H48: 372
A49: 47 | B49: Công nghệ kỹ thuật nhiệt | C49: Cao đẳng | D49: 6510211 | E49: 150 | F49: 154 | G49: 56 | H49: 20
A50: 48 | B50: Công nghệ chế tạo máy | C50: Cao đẳng | D50: 6510212 | E50: 140 | F50: 169 | G50: 40 | H50: 86
A51: 49 | B51: Công nghệ ô tô | C51: Cao đẳng | D51: 6510216 | E51: 520 | F51: 1252 | G51: 863 | H51: 908
A52: 50 | B52: Công nghệ kỹ thuật điện, điện tử | C52: Cao đẳng | D52: 6510303 | E52: 190 | F52: 192 | G52: 75 | H52: 85
A53: 51 | B53: Công nghệ kỹ thuật điều khiển và tự động hóa | C53: Cao đẳng | D53: 6510305 | E53: 120 | F53: 91 | G53: 51 | H53: 45
A54: 52 | B54: Công nghệ kỹ thuật điện tử, truyền thông | C54: Cao đẳng | D54: 6510312 | E54: 115 | H54: 0
A55: 53 | B55: Quản trị lữ hành | C55: Cao đẳng | D55: 6810104 | E55: 50 | H55: 17
A56: 54 | B56: Quản trị du lịch MICE | C56: Cao đẳng | D56: 6810105 | E56: 50 | H56: 0
A57: 55 | B57: Quản trị khách sạn | C57: Cao đẳng | D57: 6810201 | E57: 35 | F57: 40 | G57: 30 | H57: 33
A58: 56 | B58: Quản trị nhà hàng | C58: Cao đẳng | D58: 6810206 | E58: 35 | F58: 26 | G58: 23 | H58: 29
A59: 57 | B59: Kỹ thuật làm bánh | C59: Cao đẳng | D59: 6810210 | E59: 50 | F59: 12 | G59: 14 | H59: 18
A60: 58 | B60: Quản lý xây dựng | C60: Cao đẳng | D60: 6580301 | E60: 70 | F60: 16 | H60: 0
A61: 59 | B61: Kỹ thuật xây dựng | C61: Cao đẳng | D61: 6580201 | E61: 60 | F61: 36 | G61: 46 | H61: 35
A62: 60 | B62: Kế toán doanh nghiệp | C62: Cao đẳng | D62: 6340302 | E62: 160 | F62: 117 | G62: 60 | H62: 153
A63: 61 | B63: Logistics | C63: Cao đẳng | D63: 6340113 | E63: 60 | F63: 28 | G63: 36 | H63: 65
A64: 62 | B64: Thương mại điện tử | C64: Cao đẳng | D64: 6340122 | E64: 75 | F64: 24 | G64: 17 | H64: 39
A65: 63 | B65: Quản trị doanh nghiệp vừa và nhỏ | C65: Cao đẳng | D65: 6340417 | E65: 160 | F65: 118 | G65: 123 | H65: 183
A66: 64 | B66: Tài chính doanh nghiệp | C66: Cao đẳng | D66: 6340201 | E66: 160 | F66: 26 | G66: 21 | H66: 15
A67: 65 | B67: Chế tạo khuôn mẫu | C67: Cao đẳng | D67: 6520105 | E67: 60 | F67: 20 | H67: 0
A68: 66 | B68: Lắp đặt thiết bị lạnh | C68: Cao đẳng | D68: 6520114 | E68: 110 | F68: 84 | H68: 22
A69: 67 | B69: Cắt gọt kim loại | C69: Cao đẳng | D69: 6520121 | E69: 110 | F69: 53 | H69: 0
A70: 68 | B70: Sửa chữa máy tàu thủy | C70: Cao đẳng | D70: 6520131 | E70: 35 | H70: 0
A71: 69 | B71: Sửa chữa máy nâng chuyển | C71: Cao đẳng | D71: 6520145 | E71: 50
A72: 70 | B72: Bảo trì hệ thống thiết bị công nghiệp | C72: Cao đẳng | D72: 6520155 | E72: 120 | F72: 25 | H72: 0
A73: 71 | B73: Kỹ thuật máy lạnh và điều hòa không khí | C73: Cao đẳng | D73: 6520205 | E73: 125 | F73: 81 | G73: 61 | H73: 142
A74: 72 | B74: Điện tử công nghiệp | C74: Cao đẳng | D74: 6520225 | E74: 165 | H74: 0
A75: 73 | B75: Điện công nghiệp | C75: Cao đẳng | D75: 6520227 | E75: 230 | F75: 207 | G75: 133 | H75: 190
A76: 74 | B76: Vận hành, sửa chữa thiết bị lạnh | C76: Cao đẳng | D76: 6520255 | E76: 115 | F76: 74 | G76: 50 | H76: 90
A77: 75 | B77: Cơ điện tử | C77: Cao đẳng | D77: 6520263 | E77: 170 | F77: 120 | G77: 82 | H77: 100
A78: 76 | B78: Tin học ứng dụng | C78: Cao đẳng | D78: 6480205 | E78: 75 | F78: 48 | H78: 67
A79: 77 | B79: Lập trình máy tính | C79: Cao đẳng | D79: 6480207 | E79: 150 | F79: 140 | G79: 127 | H79: 178
A80: 78 | B80: Quản trị mạng máy tính | C80: Cao đẳng | D80: 6480209 | E80: 150 | F80: 102 | G80: 36 | H80: 104
A81: 79 | B81: Thiết kế trang Web | C81: Cao đẳng | D81: 6480214 | E81: 85 | F81: 63 | G81: 43 | H81: 74
A82: 80 | B82: An ninh mạng | C82: Cao đẳng | D82: 6480216 | E82: 85 | H82: 24
A83: 81 | B83: Truyền thông mạng máy tính | C83: Cao đẳng | D83: 6480104 | E83: 50 | H83: 0
A84: 82 | B84: Công nghệ kỹ thuật máy tính | C84: Cao đẳng | D84: 6480105 | E84: 110 | F84: 76 | G84: 66 | H84: 117
A85: 83 | B85: Đồ họa đa phương tiện | C85: Cao đẳng | D85: 6480108 | E85: 50 | F85: 30 | H85: 0
A86: 84 | B86: Thiết kế đồ họa | C86: Cao đẳng | D86: 6210402 | E86: 130 | F86: 128 | G86: 116 | H86: 208
A87: 85 | B87: Tiếng Anh | C87: Cao đẳng | D87: 6220206 | E87: 320 | F87: 125 | G87: 75 | H87: 230
A88: 86 | B88: Tiếng Hàn Quốc | C88: Cao đẳng | D88: 6220211 | E88: 50 | H88: 0
A89: 87 | B89: Tiếng Nhật | C89: Cao đẳng | D89: 6220212 | E89: 35 | H89: 24
A90: 88 | B90: Công nghệ may | C90: Cao đẳng | D90: 6540204 | E90: 150 | F90: 70 | G90: 16 | H90: 57
A91: 89 | B91: May thời trang | C91: Cao đẳng | D91: 6540205 | E91: 150
A92: 90 | B92: Công nghệ may Veston | C92: Cao đẳng | D92: 6540207 | E92: 80
A93: TỔNG CỘNG | E93: =SUM(E3:E92) -> 8675 | F93: =SUM(F3:F92) -> 6714 | G93: =SUM(G3:G92) -> 4618 | H93: =SUM(H3:H92) -> 5849
A95: T2: QĐ 1269/QĐ-LTT-ĐT ngày 11/11/2021 v/v sinh viên trúng tuyển nhập học cao đẳng, trung cấp khoá 2021
A96: T4: QĐ 1269/QĐ-LTT-ĐT ngày 11/11/2021 v/v sinh viên trúng tuyển nhập học cao đẳng, trung cấp khoá 2021
A97: C1: QĐ 1269/QĐ-LTT-ĐT ngày 11/11/2021 v/v sinh viên trúng tuyển nhập học cao đẳng, trung cấp khoá 2021
A98: C2: QĐ 24/QĐ-LTT-ĐT ngày 25/01/2022 v/v sinh viên trúng tuyển nhập học cao đẳng liên thông khoá 2021 - đợt A
A99: C3: QĐ 1269/QĐ-LTT-ĐT ngày 11/11/2021 v/v sinh viên trúng tuyển nhập học cao đẳng, trung cấp khoá 2021
A100: C5: QĐ 1269/QĐ-LTT-ĐT ngày 11/11/2021 v/v sinh viên trúng tuyển nhập học cao đẳng, trung cấp khoá 2021
A101: C6: QĐ 1269/QĐ-LTT-ĐT ngày 11/11/2021 v/v sinh viên trúng tuyển nhập học cao đẳng, trung cấp khoá 2021
...

Sheet TAP TS
A1: STT | B1: NGÀNH ĐÀO TẠO | C1: CĐ | D1: TC | E1: STT | F1: NGÀNH ĐÀO TẠO | G1: CĐ | H1: TC
A2: 1 | B2: Bảo trì hệ thống thiết bị công nghiệp | C2: 6520155 | D2: 5520155 | E2: 26 | F2: Công nghệ kỹ thuật phần cứng máy tính | H2: 5480105
A3: 2 | B3: Cắt gọt kim loại | C3: 6520121 | D3: 5520121 | E3: 27 | F3: Lập trình máy tính * * | G3: 6480207 | H3: 5480207
A4: 3 | B4: Công nghệ chế tạo máy * | C4: 6510212 | D4: 5510212 | E4: 28 | F4: Quản trị mạng máy tính * * | G4: 6480209 | H4: 5480209
A5: 4 | B5: Công nghệ kỹ thuật cơ khí * * | C5: 6510201 | D5: 5510201 | E5: 29 | F5: Thiết kế trang Web | G5: 6480214 | H5: 5480214
A6: 5 | B6: Cơ khí chế tạo | D6: 5520117 | E6: 30 | F6: Tin học ứng dụng | G6: 6480205 | H6: 5480205
A7: 6 | B7: Chế tạo khuôn mẫu | C7: 6520105 | D7: 5520105 | E7: 31 | F7: Thiết kế đồ họa | G7: 6210402 | H7: 5210402
A8: 7 | B8: Cơ điện tử * | C8: 6520263 | D8: 5520263 | E8: 32 | F8: Đồ họa đa phương tiện | G8: 6480108 | H8: 5480108
A9: 8 | B9: Công nghệ kỹ thuật điện, điện tử * | C9: 6510303 | D9: 5510303 | E9: 33 | F9: Truyền thông mạng máy tính | G9: 6480104 | H9: 5480104
A10: 9 | B10: Công nghệ kỹ thuật điện tử, truyền thông | C10: 6510312 | D10: 5510312 | E10: 34 | F10: Tiếng Anh * * | G10: 6220206 | H10: 5220206
A11: 10 | B11: Công nghệ kỹ thuật điều khiển và tự động hóa | C11: 6510305 | E11: 35 | F11: Tiếng Hàn Quốc | G11: 6220211 | H11: 5220211
A12: 11 | B12: Công nghệ kỹ thuật điều khiển tự động | D12: 5510305 | E12: 36 | F12: Tiếng Nhật | G12: 6220212 | H12: 5220212
A13: 12 | B13: Điện công nghiệp * * * | C13: 6520227 | D13: 5520227 | E13: 37 | F13: Kế toán doanh nghiệp * | G13: 6340302 | H13: 5340302
A14: 13 | B14: Điện tử công nghiệp | C14: 6520225 | D14: 5520225 | E14: 38 | F14: Quản trị doanh nghiệp vừa và nhỏ * | G14: 6340417 | H14: 5340417
A15: 14 | B15: Công nghệ ô tô * * | C15: 6510216 | D15: 5510216 | E15: 39 | F15: Tài chính doanh nghiệp | G15: 6340201 | H15: 5340201
A16: 15 | B16: Sửa chữa máy tàu thủy | C16: 6520131 | D16: 5520131 | E16: 40 | F16: Logistics | G16: 6340113 | H16: 5340113
A17: 16 | B17: Sửa chữa máy nâng chuyển | C17: 6520145 | D17: 5520145 | E17: 41 | F17: Thương mại điện tử | G17: 6340122 | H17: 5340122
A18: 17 | B18: May thời trang | C18: 6540205 | D18: 5540205 | E18: 42 | F18: Kỹ thuật xây dựng | G18: 6580201 | H18: 5580201
A19: 18 | B19: Công nghệ may Veston | C19: 6540207 | D19: 5540207 | E19: 43 | F19: Quản lý xây dựng | G19: 6580301
A20: 19 | B20: Công nghệ may * | C20: 6540204 | D20: 5540204 | E20: 44 | F20: Quản trị du lịch MICE | G20: 6810105 | H20: 5810105
A21: 20 | B21: Lắp đặt thiết bị lạnh | C21: 6520114 | D21: 5520114 | E21: 45 | F21: Quản trị lữ hành | G21: 6810104 | H21: 5810104
A22: 21 | B22: Công nghệ kỹ thuật nhiệt * | C22: 6510211 | D22: 5510211 | E22: 46 | F22: Quản trị khách sạn | G22: 6810201 | H22: 5810201
A23: 22 | B23: Kỹ thuật máy lạnh và điều hòa không khí | C23: 6520205 | D23: 5520205 | E23: 47 | F23: Quản trị nhà hàng | G23: 6810206
A24: 23 | B24: Vận hành, sửa chữa thiết bị lạnh | C24: 6520255 | D24: 5520255 | E24: 48 | F24: Nghiệp vụ nhà hàng | H24: 5810206
A25: 24 | B25: An ninh mạng | C25: 6480216 | D25: 5480216 | E25: 49 | F25: Kỹ thuật làm bánh | G25: 6810210 | H25: 5810210
A26: 25 | B26: Công nghệ kỹ thuật máy tính | C26: 6480105
A27: Hệ chất lượng cao * | C27: Hệ quốc tế * | F27: Hệ song hành các tập đoàn *
