Workbook

Sheet nhom nganh capIII va so lieu TS
A1: UBND THÀNH PHỐ HỒ CHÍ MINH | E1: CỘNG HÒA XÃ HỘI CHỦ NGHĨA VIỆT NAM
A2: TRƯỜNG CAO ĐẲNG LÝ TỰ TRỌNG | E2: Độc lập - Tự do - Hạnh phúc
A3: THÀNH PHỐ HỒ CHÍ MINH
A5: TỔNG HỢP NGÀNH NGHỀ ĐÀO TẠO THEO NHÓM MÃ NGÀNH CẤP III THÔNG TƯ 26/2020 CỦA BỘ LAO ĐỘNG - THƯƠNG BINH VÀ XÃ HỘI
A6: TT | B6: TÊN NGÀNH CẤP IV | C6: MÃ NGÀNH/NGHỀ CẤP IV | E6: TÊN NGÀNH CẤP III | F6: Chỉ tiêu tuyển sinh 2021 | H6: TỔNG CỘNG CHỈ TIÊU 2021
C7: Trung cấp | D7: Cao đẳng | F7: Trung cấp | G7: Cao đẳng
A8: 1 | B8: Công nghệ kỹ thuật cơ khí | C8: 5510201 | D8: 6510201 | E8: Công nghệ kỹ thuật cơ khí | F8: 90 | G8: 280 | H8: =F8+G8 -> 370
A9: 2 | B9: Công nghệ kỹ thuật nhiệt | C9: 5510211 | D9: 6510211 | E9: Công nghệ kỹ thuật cơ khí | F9: 65 | G9: 150 | H9: =F9+G9 -> 215
A10: 3 | B10: Công nghệ chế tạo máy | C10: 5510212 | D10: 6510212 | E10: Công nghệ kỹ thuật cơ khí | F10: 100 | G10: 140 | H10: =F10+G10 -> 240
A11: 4 | B11: Công nghệ ô tô | C11: 5510216 | D11: 6510216 | E11: Công nghệ kỹ thuật cơ khí | F11: 205 | G11: 520 | H11: =F11+G11 -> 725
A12: 1. CHỈ TIÊU TỔNG CỘNG CỦA NHÓM | H12: =SUM(H8:H11) -> 1550
A13: 5 | B13: Công nghệ kỹ thuật điện, điện tử | C13: 5510303 | D13: 6510303 | E13: Công nghệ kỹ thuật điện, điện tử và viễn thông | F13: 85 | G13: 190 | H13: =F13+G13 -> 275
A14: 6 | B14: Công nghệ kỹ thuật điều khiển và tự động hóa | D14: 6510305 | E14: Công nghệ kỹ thuật điện, điện tử và viễn thông | G14: 120 | H14: =F14+G14 -> 120
A15: 7 | B15: Công nghệ kỹ thuật điều khiển tự động | C15: 5510305 | E15: Công nghệ kỹ thuật điện, điện tử và viễn thông | F15: 70 | H15: =F15+G15 -> 70
A16: 8 | B16: Công nghệ kỹ thuật điện tử, truyền thông | C16: 5510312 | D16: 6510312 | E16: Công nghệ kỹ thuật điện, điện tử và viễn thông | F16: 85 | G16: 115 | H16: =F16+G16 -> 200
A17: 2. CHỈ TIÊU TỔNG CỘNG CỦA NHÓM | H17: =SUM(H13:H16) -> 665
A18: 9 | B18: Quản trị lữ hành | C18: 5810104 | D18: 6810104 | E18: Du lịch | F18: 50 | G18: 50 | H18: =F18+G18 -> 100
A19: 10 | B19: Quản trị du lịch MICE | C19: 5810105 | D19: 6810105 | E19: Du lịch | F19: 50 | G19: 50 | H19: =F19+G19 -> 100
A20: 3. CHỈ TIÊU TỔNG CỘNG CỦA NHÓM | H20: =SUM(H18:H19) -> 200
A21: 11 | B21: Quản trị khách sạn | C21: 5810201 | D21: 6810201 | E21: Khách sạn, nhà hàng | F21: 35 | G21: 35 | H21: =F21+G21 -> 70
A22: 12 | B22: Quản trị nhà hàng | D22: 6810206 | E22: Khách sạn, nhà hàng | G22: 35 | H22: =F22+G22 -> 35
A23: 13 | B23: Nghiệp vụ nhà hàng | C23: 5810206 | E23: Khách sạn, nhà hàng | F23: 35 | H23: =F23+G23 -> 35
A24: 14 | B24: Kỹ thuật làm bánh | C24: 5810210 | D24: 6810210 | E24: Khách sạn, nhà hàng | F24: 50 | G24: 50 | H24: =F24+G24 -> 100
A25: 4. CHỈ TIÊU TỔNG CỘNG CỦA NHÓM | H25: =SUM(H21:H24) -> 240
A26: 15 | B26: Quản lý xây dựng | D26: 6580301 | E26: Quản lý xây dựng | G26: 70 | H26: =F26+G26 -> 70
A27: 5. CHỈ TIÊU TỔNG CỘNG CỦA NHÓM | H27: =SUM(H26) -> 70
A28: 16 | B28: Kỹ thuật xây dựng | C28: 5580201 | D28: 6580201 | E28: Xây dựng | F28: 60 | G28: 60 | H28: =F28+G28 -> 120
A29: 6. CHỈ TIÊU TỔNG CỘNG CỦA NHÓM | H29: =SUM(H28) -> 120
A30: 17 | B30: Kế toán doanh nghiệp | C30: 5340302 | D30: 6340302 | E30: Kế toán - Kiểm toán | F30: 65 | G30: 160 | H30: =F30+G30 -> 225
A31: 7. CHỈ TIÊU TỔNG CỘNG CỦA NHÓM | H31: =SUM(H30) -> 225
A32: 18 | B32: Logistics | C32: 5340113 | D32: 6340113 | E32: Kinh doanh | F32: 30 | G32: 60 | H32: =F32+G32 -> 90
A33: 19 | B33: Thương mại điện tử | C33: 5340122 | D33: 6340122 | E33: Kinh doanh | F33: 50 | G33: 75 | H33: =F33+G33 -> 125
A34: 8. CHỈ TIÊU TỔNG CỘNG CỦA NHÓM | H34: =SUM(H32:H33) -> 215
A35: 20 | B35: Quản trị doanh nghiệp vừa và nhỏ | C35: 5340417 | D35: 6340417 | E35: Quản trị - Quản lý | F35: 65 | G35: 160 | H35: =F35+G35 -> 225
A36: 9. CHỈ TIÊU TỔNG CỘNG CỦA NHÓM | H36: =SUM(H35) -> 225
A37: 21 | B37: Tài chính doanh nghiệp | C37: 5340201 | D37: 6340201 | E37: Tài chính - Ngân hàng - Bảo hiểm | F37: 65 | G37: 160 | H37: =F37+G37 -> 225
A38: 10. CHỈ TIÊU TỔNG CỘNG CỦA NHÓM | H38: =SUM(H37) -> 225
A39: 22 | B39: Chế tạo khuôn mẫu | C39: 5520105 | D39: 6520105 | E39: Kỹ thuật cơ khí và cơ kỹ thuật | F39: 30 | G39: 60 | H39: =F39+G39 -> 90
A40: 23 | B40: Lắp đặt thiết bị lạnh | C40: 5520114 | D40: 6520114 | E40: Kỹ thuật cơ khí và cơ kỹ thuật | F40: 75 | G40: 110 | H40: =F40+G40 -> 185
A41: 24 | B41: Cắt gọt kim loại | C41: 5520121 | D41: 6520121 | E41: Kỹ thuật cơ khí và cơ kỹ thuật | F41: 65 | G41: 110 | H41: =F41+G41 -> 175
...

Sheet 15-16
A1: UBND THÀNH PHỐ HỒ CHÍ MINH | E1: CỘNG HÒA XÃ HỘI CHỦ NGHĨA VIỆT NAM
A2: TRƯỜNG CAO ĐẲNG LÝ TỰ TRỌNG | E2: Độc lập - Tự do - Hạnh phúc
A3: THÀNH PHỐ HỒ CHÍ MINH
A5: TỔNG HỢP NGÀNH NGHỀ ĐÀO TẠO THEO NHÓM MÃ NGÀNH CẤP III THÔNG TƯ 26/2020 CỦA BỘ LAO ĐỘNG - THƯƠNG BINH VÀ XÃ HỘI
A6: TT | B6: TÊN NGÀNH CẤP IV | C6: MÃ NGÀNH/NGHỀ CẤP IV | E6: TÊN NGÀNH CẤP III | F6: Chỉ tiêu tuyển sinh 2015 | H6: TỔNG CỘNG CHỈ TIÊU 2015
C7: Trung cấp | D7: Cao đẳng | F7: Trung cấp | G7: Cao đẳng
A8: 1 | B8: Công nghệ ô tô | C8: 5510216 | D8: 6510216 | E8: Công nghệ kỹ thuật cơ khí | F8: 60 | G8: 35 | H8: =F8+G8 -> 95
A9: 1. CHỈ TIÊU TỔNG CỘNG CỦA NHÓM | F9: =SUM(F8:F8) -> 60 | G9: =SUM(G8:G8) -> 35 | H9: =SUM(H8:H8) -> 95
A10: 2 | B10: Kỹ thuật mạng ngoại vi và thiết bị đầu cuối | C10: 5520217 | D10: 6520217 | E10: Công nghệ kỹ thuật điện, điện tử và viễn thông | F10: 70 | G10: 90 | H10: =F10+G10 -> 160
A11: 2. CHỈ TIÊU TỔNG CỘNG CỦA NHÓM | F11: =SUM(F10:F10) -> 70 | G11: =SUM(G10:G10) -> 90 | H11: =SUM(H10:H10) -> 160
A12: 3 | B12: Kế toán doanh nghiệp | C12: 5340302 | D12: 6340302 | E12: Kế toán - Kiểm toán | F12: 35 | G12: 60 | H12: =F12+G12 -> 95
A13: 3. CHỈ TIÊU TỔNG CỘNG CỦA NHÓM | F13: =SUM(F12) -> 35 | G13: =SUM(G12) -> 60 | H13: =SUM(H12) -> 95
A14: 4 | B14: Quản trị doanh nghiệp vừa và nhỏ | C14: 5340417 | D14: 6340417 | E14: Quản trị - Quản lý | F14: 35 | G14: 60 | H14: =F14+G14 -> 95
A15: 4. CHỈ TIÊU TỔNG CỘNG CỦA NHÓM | F15: =SUM(F14) -> 35 | G15: =SUM(G14) -> 60 | H15: =SUM(H14) -> 95
A16: 5 | B16: Tài chính doanh nghiệp | C16: 5340201 | D16: 6340201 | E16: Tài chính - Ngân hàng - Bảo hiểm | F16: 35 | G16: 60 | H16: =F16+G16 -> 95
A17: 5. CHỈ TIÊU TỔNG CỘNG CỦA NHÓM | F17: =SUM(F16) -> 35 | G17: =SUM(G16) -> 60 | H17: =SUM(H16) -> 95
A18: 6 | B18: Lắp đặt thiết bị lạnh | C18: 5520114 | D18: 6520114 | E18: Kỹ thuật cơ khí và cơ kỹ thuật | F18: 60 | G18: 90 | H18: =F18+G18 -> 150
A19: 7 | B19: Cắt gọt kim loại | C19: 5520121 | D19: 6520121 | E19: Kỹ thuật cơ khí và cơ kỹ thuật | F19: 50 | G19: 70 | H19: =F19+G19 -> 120
A20: 6. CHỈ TIÊU TỔNG CỘNG CỦA NHÓM | F20: =SUM(F18:F19) -> 110 | G20: =SUM(G18:G19) -> 160 | H20: =SUM(H18:H19) -> 270
A21: 8 | B21: Điện tử công nghiệp | C21: 5520225 | D21: 6520225 | E21: Kỹ thuật điện, điện tử và viễn thông | F21: 50 | G21: 90 | H21: =F21+G21 -> 140
A22: 9 | B22: Điện công nghiệp | C22: 5520227 | D22: 6520227 | E22: Kỹ thuật điện, điện tử và viễn thông | F22: 50 | G22: 90 | H22: =F22+G22 -> 140
A23: 10 | B23: Cơ điện tử | C23: 5520263 | D23: 6520263 | E23: Kỹ thuật điện, điện tử và viễn thông | F23: 60 | G23: 105 | H23: =F23+G23 -> 165
A24: 7. CHỈ TIÊU TỔNG CỘNG CỦA NHÓM | F24: =SUM(F21:F23) -> 160 | G24: =SUM(G21:G23) -> 285 | H24: =SUM(H21:H23) -> 445
A25: 11 | B25: Quản trị mạng máy tính | C25: 5480209 | D25: 6480209 | E25: Công nghệ thông tin | F25: 50 | G25: 120 | H25: =F25+G25 -> 170
A26: 8. CHỈ TIÊU TỔNG CỘNG CỦA NHÓM | F26: =SUM(F25:F25) -> 50 | G26: =SUM(G25:G25) -> 120 | H26: =SUM(H25:H25) -> 170
A27: 12 | B27: May thời trang | C27: 5540205 | D27: 6540205 | E27: Sản xuất, chế biến sợi, vải, giày, da | F27: 50 | G27: 90 | H27: =F27+G27 -> 140
A28: 13 | B28: Công nghệ may Veston | C28: 5540207 | D28: 6540207 | E28: Sản xuất, chế biến sợi, vải, giày, da | F28: 35 | G28: 35 | H28: =F28+G28 -> 70
A29: 9. CHỈ TIÊU TỔNG CỘNG CỦA NHÓM | F29: =SUM(F27:F28) -> 85 | G29: =SUM(G27:G28) -> 125 | H29: =SUM(H27:H28) -> 210
A30: 14 | B30: Công nghệ sinh học | C30: 40420201 | D30: 50420201 | E30: Sinh học ứng dụng | F30: 20 | G30: 35 | H30: =F30+G30 -> 55
A31: 10. CHỈ TIÊU TỔNG CỘNG CỦA NHÓM | F31: =F30 -> 20 | G31: =G30 -> 35 | H31: =F31+G31 -> 55
A32: TỔNG CỘNG | F32: =F9+F11+F13+F15+F17+F20+F24+F26+F29+F31 -> 660 | G32: =G9+G11+G13+G15+G17+G20+G24+G26+G29+G31 -> 1030 | H32: =F32+G32 -> 1690
F33: 14 ngành | G33: 14 ngành | H33: 14 ngành

Sheet 17
A1: UBND THÀNH PHỐ HỒ CHÍ MINH | E1: CỘNG HÒA XÃ HỘI CHỦ NGHĨA VIỆT NAM
A2: TRƯỜNG CAO ĐẲNG LÝ TỰ TRỌNG | E2: Độc lập - Tự do - Hạnh phúc
A3: THÀNH PHỐ HỒ CHÍ MINH
A5: TỔNG HỢP NGÀNH NGHỀ ĐÀO TẠO THEO NHÓM MÃ NGÀNH CẤP III THÔNG TƯ 26/2020 CỦA BỘ LAO ĐỘNG - THƯƠNG BINH VÀ XÃ HỘI
A6: TT | B6: TÊN NGÀNH CẤP IV | C6: MÃ NGÀNH/NGHỀ CẤP IV | E6: TÊN NGÀNH CẤP III | F6: Chỉ tiêu tuyển sinh 2017 | H6: TỔNG CỘNG CHỈ TIÊU 2017 | I6: Tuyển sinh 2017
C7: Trung cấp | D7: Cao đẳng | F7: Trung cấp | G7: Cao đẳng | I7: T2 | J7: T4 | K7: C1 | L7: C2 | M7: TỔNG
A8: 1 | B8: Công nghệ kỹ thuật cơ khí | C8: 5510201 | D8: 6510201 | E8: Công nghệ kỹ thuật cơ khí | F8: 35 | G8: 50 | H8: =F8+G8 -> 85 | J8: 103 | K8: 555 | L8: 20 | M8: =SUM(I8:L8) -> 678
A9: 2 | B9: Công nghệ kỹ thuật nhiệt | C9: 5510211 | D9: 6510211 | E9: Công nghệ kỹ thuật cơ khí | F9: 50 | G9: 70 | H9: =F9+G9 -> 120 | J9: 58 | K9: 64 | M9: =SUM(I9:L9) -> 122
A10: 3 | B10: Công nghệ chế tạo máy | D10: 6510212 | E10: Công nghệ kỹ thuật cơ khí | G10: 35 | H10: =F10+G10 -> 35 | K10: 153 | M10: =SUM(I10:L10) -> 153
A11: 4 | B11: Công nghệ chế tạo dụng cụ | C11: 5510212 | E11: Công nghệ kỹ thuật cơ khí | F11: 35 | H11: =F11+G11 -> 35 | M11: =SUM(I11:L11) -> 0
A12: 5 | B12: Công nghệ ô tô | C12: 5510216 | D12: 6510216 | E12: Công nghệ kỹ thuật cơ khí | F12: 50 | G12: 150 | H12: =F12+G12 -> 200 | J12: 229 | K12: 927 | L12: 21 | M12: =SUM(I12:L12) -> 1177
A13: 1. CHỈ TIÊU TỔNG CỘNG CỦA NHÓM | F13: =SUM(F8:F12) -> 170 | G13: =SUM(G8:G12) -> 305 | H13: =SUM(H8:H12) -> 475 | I13: =SUM(I8:I12) -> 0 | J13: =SUM(J8:J12) -> 390 | K13: =SUM(K8:K12) -> 1699 | L13: =SUM(L8:L12) -> 41 | M13: =SUM(M8:M12) -> 2130
A14: 6 | B14: Công nghệ kỹ thuật điện, điện tử | C14: 5510303 | D14: 6510303 | E14: Công nghệ kỹ thuật điện, điện tử và viễn thông | F14: 30 | G14: 50 | H14: =F14+G14 -> 80 | J14: 65 | K14: 245 | L14: 29 | M14: =SUM(I14:L14) -> 339
A15: 7 | B15: Công nghệ kỹ thuật điều khiển và tự động hóa | D15: 6510305 | E15: Công nghệ kỹ thuật điện, điện tử và viễn thông | G15: 30 | H15: =F15+G15 -> 30 | K15: 68 | M15: =SUM(I15:L15) -> 68
A16: 8 | B16: Công nghệ kỹ thuật điều khiển tự động | C16: 5510305 | E16: Công nghệ kỹ thuật điện, điện tử và viễn thông | F16: 30 | H16: =F16+G16 -> 30 | M16: =SUM(I16:L16) -> 0
A17: 9 | B17: Kỹ thuật mạng ngoại vi và thiết bị đầu cuối | C17: 5520217 | D17: 6520217 | E17: Công nghệ kỹ thuật điện, điện tử và viễn thông | F17: 70 | G17: 50 | H17: =F17+G17 -> 120 | M17: =SUM(I17:L17) -> 0
A18: 2. CHỈ TIÊU TỔNG CỘNG CỦA NHÓM | F18: =SUM(F14:F17) -> 130 | G18: =SUM(G14:G17) -> 130 | H18: =SUM(H14:H17) -> 260 | I18: =SUM(I14:I17) -> 0 | J18: =SUM(J14:J17) -> 65 | K18: =SUM(K14:K17) -> 313 | L18: =SUM(L14:L17) -> 29 | M18: =SUM(M14:M17) -> 407
A19: 10 | B19: Kế toán doanh nghiệp | C19: 5340302 | D19: 6340302 | E19: Kế toán - Kiểm toán | F19: 35 | G19: 70 | H19: =F19+G19 -> 105 | J19: 57 | K19: 67 | M19: =SUM(I19:L19) -> 124
A20: 7. CHỈ TIÊU TỔNG CỘNG CỦA NHÓM | F20: =SUM(F19) -> 35 | G20: =SUM(G19) -> 70 | H20: =SUM(H19) -> 105 | I20: =SUM(I19) -> 0 | J20: =SUM(J19) -> 57 | K20: =SUM(K19) -> 67 | L20: =SUM(L19) -> 0 | M20: =M19 -> 124
A21: 11 | B21: Quản trị doanh nghiệp vừa và nhỏ | C21: 5340417 | D21: 6340417 | E21: Quản trị - Quản lý | F21: 35 | G21: 70 | H21: =F21+G21 -> 105 | J21: 73 | K21: 71 | M21: =SUM(I21:L21) -> 144
A22: 9. CHỈ TIÊU TỔNG CỘNG CỦA NHÓM | F22: =SUM(F21) -> 35 | G22: =SUM(G21) -> 70 | H22: =SUM(H21) -> 105 | I22: =SUM(I21) -> 0 | J22: =SUM(J21) -> 73 | K22: =SUM(K21) -> 71 | L22: =SUM(L21) -> 0 | M22: =M21 -> 144
A23: 12 | B23: Tài chính doanh nghiệp | C23: 5340201 | D23: 6340201 | E23: Tài chính - Ngân hàng - Bảo hiểm | F23: 35 | G23: 70 | H23: =F23+G23 -> 105 | M23: =SUM(I23:L23) -> 0
A24: 10. CHỈ TIÊU TỔNG CỘNG CỦA NHÓM | F24: =SUM(F23) -> 35 | G24: =SUM(G23) -> 70 | H24: =SUM(H23) -> 105 | I24: =SUM(I23) -> 0 | M24: =M23 -> 0
A25: 13 | B25: Lắp đặt thiết bị lạnh | C25: 5520114 | D25: 6520114 | E25: Kỹ thuật cơ khí và cơ kỹ thuật | F25: 60 | G25: 50 | H25: =F25+G25 -> 110 | J25: 85 | M25: =SUM(I25:L25) -> 85
A26: 14 | B26: Cắt gọt kim loại | C26: 5520121 | D26: 6520121 | E26: Kỹ thuật cơ khí và cơ kỹ thuật | F26: 50 | G26: 50 | H26: =F26+G26 -> 100 | J26: 37 | K26: 22 | M26: =SUM(I26:L26) -> 59
A27: 15 | B27: Bảo trì hệ thống thiết bị công nghiệp | C27: 5520155 | D27: 6520155 | E27: Kỹ thuật cơ khí và cơ kỹ thuật | F27: 35 | G27: 35 | H27: =F27+G27 -> 70 | K27: 44 | M27: =SUM(I27:L27) -> 44
A28: 11. CHỈ TIÊU TỔNG CỘNG CỦA NHÓM | F28: =SUM(F25:F27) -> 145 | G28: =SUM(G25:G27) -> 135 | H28: =SUM(H25:H27) -> 280 | I28: =SUM(I25:I27) -> 0 | J28: =SUM(J25:J27) -> 122 | K28: =SUM(K25:K27) -> 66 | L28: =SUM(L25:L27) -> 0 | M28: =SUM(M25:M27) -> 188
A29: 16 | B29: Kỹ thuật máy lạnh và điều hòa không khí | C29: 5520205 | D29: 6520205 | E29: Kỹ thuật điện, điện tử và viễn thông | H29: =F29+G29 -> 0 | K29: 107 | M29: =SUM(I29:L29) -> 107
A30: 17 | B30: Điện tử công nghiệp | C30: 5520225 | D30: 6520225 | E30: Kỹ thuật điện, điện tử và viễn thông | F30: 50 | G30: 50 | H30: =F30+G30 -> 100 | J30: 44 | K30: 38 | M30: =SUM(I30:L30) -> 82
A31: 18 | B31: Điện công nghiệp | C31: 5520227 | D31: 6520227 | E31: Kỹ thuật điện, điện tử và viễn thông | F31: 50 | G31: 50 | H31: =F31+G31 -> 100 | I31: 32 | J31: 86 | K31: 273 | M31: =SUM(I31:L31) -> 391
A32: 19 | B32: Vận hành, sửa chữa thiết bị lạnh | C32: 5520255 | D32: 6520255 | E32: Kỹ thuật điện, điện tử và viễn thông | H32: =F32+G32 -> 0 | K32: 115 | M32: =SUM(I32:L32) -> 115
A33: 20 | B33: Cơ điện tử | C33: 5520263 | D33: 6520263 | E33: Kỹ thuật điện, điện tử và viễn thông | F33: 70 | G33: 50 | H33: =F33+G33 -> 120 | K33: 72 | M33: =SUM(I33:L33) -> 72
A34: 12. CHỈ TIÊU TỔNG CỘNG CỦA NHÓM | F34: =SUM(F29:F33) -> 170 | G34: =SUM(G29:G33) -> 150 | H34: =SUM(H29:H33) -> 320 | I34: =SUM(I29:I33) -> 32 | J34: =SUM(J29:J33) -> 130 | K34: =SUM(K29:K33) -> 605 | L34: =SUM(L29:L33) -> 0 | M34: =SUM(M29:M33) -> 767
A35: 21 | B35: Tin học ứng dụng | C35: 5480205 | D35: 6480205 | E35: Công nghệ thông tin | F35: 30 | G35: 35 | H35: =F35+G35 -> 65 | J35: 78 | K35: 39 | M35: =SUM(I35:L35) -> 117
A36: 22 | B36: Lập trình máy tính | C36: 5480207 | D36: 6480207 | E36: Công nghệ thông tin | F36: 50 | G36: 35 | H36: =F36+G36 -> 85 | J36: 71 | K36: 106 | M36: =SUM(I36:L36) -> 177
A37: 23 | B37: Quản trị mạng máy tính | C37: 5480209 | D37: 6480209 | E37: Công nghệ thông tin | F37: 50 | G37: 70 | H37: =F37+G37 -> 120 | I37: 45 | J37: 88 | K37: 70 | L37: 13 | M37: =SUM(I37:L37) -> 216
A38: 24 | B38: Thiết kế trang Web | C38: 5480214 | D38: 6480214 | E38: Công nghệ thông tin | F38: 30 | G38: 35 | H38: =F38+G38 -> 65 | J38: 31 | K38: 41 | M38: =SUM(I38:L38) -> 72
A39: 25 | B39: An ninh mạng | C39: 5480216 | D39: 6480216 | E39: Công nghệ thông tin | F39: 30 | G39: 35 | H39: =F39+G39 -> 65 | K39: 26 | M39: =SUM(I39:L39) -> 26
A40: 13. CHỈ TIÊU TỔNG CỘNG CỦA NHÓM | F40: =SUM(F35:F39) -> 190 | G40: =SUM(G35:G39) -> 210 | H40: =SUM(H35:H39) -> 400 | I40: =SUM(I35:I39) -> 45 | J40: =SUM(J35:J39) -> 268 | K40: =SUM(K35:K39) -> 282 | L40: =SUM(L35:L39) -> 13 | M40: =SUM(M35:M39) -> 608
A41: 26 | B41: Công nghệ kỹ thuật máy tính | D41: 6480105 | E41: Máy tính | G41: 35 | H41: =F41+G41 -> 35 | K41: 110 | M41: =SUM(I41:L41) -> 110
...

Sheet 18
A1: ỦY BAN NHÂN DÂN THÀNH PHỐ HỒ CHÍ MINH | H1: CỘNG HÒA XÃ HỘI CHỦ NGHĨA VIỆT NAM
A2: TRƯỜNG CAO ĐẲNG LÝ TỰ TRỌNG THÀNH PHỐ HỒ CHÍ MINH | H2: Độc lập - Tự do - Hạnh phúc
A4: THỐNG KÊ TUYỂN SINH NĂM 2018
A5: TT | B5: TÊN NGÀNH CẤP IV | C5: MÃ NGÀNH/NGHỀ CẤP IV | E5: TÊN NGÀNH CẤP III | F5: Chỉ tiêu tuyển sinh 2018 | H5: TỔNG CỘNG CHỈ TIÊU 2018 | I5: Tuyển sinh 2018
C6: Trung cấp | D6: Cao đẳng | F6: Trung cấp | G6: Cao đẳng | I6: T2 | J6: T4 | K6: T5 | L6: T6 | M6: T7 | N6: C1 | O6: C2 | P6: TỔNG | Q6: TC | R6: CĐ
A7: 1 | B7: Công nghệ kỹ thuật cơ khí | C7: 5510201 | D7: 6510201 | E7: Công nghệ kỹ thuật cơ khí | F7: 50 | G7: 180 | H7: =F7+G7 -> 230 | J7: 77 | N7: 548 | O7: 17 | P7: =SUM(I7:O7) -> 642 | Q7: =SUM(I7:M7) -> 77 | R7: =SUM(N7:O7) -> 565
A8: 2 | B8: Công nghệ kỹ thuật nhiệt | C8: 5510211 | D8: 6510211 | E8: Công nghệ kỹ thuật cơ khí | F8: 50 | G8: 120 | H8: =F8+G8 -> 170 | N8: 66 | O8: 18 | P8: =SUM(I8:O8) -> 84 | Q8: =SUM(I8:M8) -> 0 | R8: =SUM(N8:O8) -> 84
A9: 3 | B9: Công nghệ chế tạo máy | D9: 6510212 | E9: Công nghệ kỹ thuật cơ khí | G9: 110 | H9: =F9+G9 -> 110 | N9: 85 | P9: =SUM(I9:O9) -> 85 | Q9: =SUM(I9:M9) -> 0 | R9: =SUM(N9:O9) -> 85
A10: 4 | B10: Công nghệ chế tạo dụng cụ | C10: 5510212 | E10: Công nghệ kỹ thuật cơ khí | F10: 80 | H10: =F10+G10 -> 80 | Q10: =SUM(I10:M10) -> 0 | R10: =SUM(N10:O10) -> 0
A11: 5 | B11: Công nghệ ô tô | C11: 5510216 | D11: 6510216 | E11: Công nghệ kỹ thuật cơ khí | F11: 145 | G11: 400 | H11: =F11+G11 -> 545 | I11: 72 | J11: 330 | N11: 1128 | O11: 46 | P11: =SUM(I11:O11) -> 1576 | Q11: =SUM(I11:M11) -> 402 | R11: =SUM(N11:O11) -> 1174
A12: 1. CHỈ TIÊU TỔNG CỘNG CỦA NHÓM | F12: =SUM(F7:F11) -> 325 | G12: =SUM(G7:G11) -> 810 | H12: =SUM(H7:H11) -> 1135 | I12: =SUM(I7:I11) -> 72 | J12: =SUM(J7:J11) -> 407 | K12: =SUM(K7:K11) -> 0 | L12: =SUM(L7:L11) -> 0 | M12: =SUM(M7:M11) -> 0 | ... P12: =SUM(P7:P11) -> 2387 | Q12: =SUM(I12:M12) -> 479 | R12: =SUM(N12:O12) -> 1908
A13: 6 | B13: Công nghệ kỹ thuật điện, điện tử | C13: 5510303 | D13: 6510303 | E13: Công nghệ kỹ thuật điện, điện tử và viễn thông | F13: 55 | G13: 130 | H13: =F13+G13 -> 185 | J13: 58 | N13: 201 | O13: 70 | P13: =SUM(I13:O13) -> 329 | Q13: =SUM(I13:M13) -> 58 | R13: =SUM(N13:O13) -> 271
A14: 7 | B14: Công nghệ kỹ thuật điều khiển và tự động hóa | D14: 6510305 | E14: Công nghệ kỹ thuật điện, điện tử và viễn thông | G14: 95 | H14: =F14+G14 -> 95 | N14: 102 | P14: =SUM(I14:O14) -> 102 | Q14: =SUM(I14:M14) -> 0 | R14: =SUM(N14:O14) -> 102
A15: 8 | B15: Công nghệ kỹ thuật điều khiển tự động | C15: 5510305 | E15: Công nghệ kỹ thuật điện, điện tử và viễn thông | F15: 55 | H15: =F15+G15 -> 55 | P15: =SUM(I15:O15) -> 0 | Q15: =SUM(I15:M15) -> 0 | R15: =SUM(N15:O15) -> 0
A16: 9 | B16: Kỹ thuật mạng ngoại vi và thiết bị đầu cuối | C16: 5520217 | D16: 6520217 | E16: Công nghệ kỹ thuật điện, điện tử và viễn thông | F16: 70 | G16: 90 | H16: =F16+G16 -> 160 | Q16: =SUM(I16:M16) -> 0 | R16: =SUM(N16:O16) -> 0
A17: 2. CHỈ TIÊU TỔNG CỘNG CỦA NHÓM | F17: =SUM(F13:F16) -> 180 | G17: =SUM(G13:G16) -> 315 | H17: =SUM(H13:H16) -> 495 | I17: =SUM(I13:I16) -> 0 | J17: =SUM(J13:J16) -> 58 | K17: =SUM(K13:K16) -> 0 | L17: =SUM(L13:L16) -> 0 | M17: =SUM(M13:M16) -> 0 | ... P17: =SUM(P13:P16) -> 431 | Q17: =SUM(I17:M17) -> 58 | R17: =SUM(N17:O17) -> 373
A18: 10 | B18: Kỹ thuật xây dựng | C18: 5580201 | D18: 6580201 | E18: Xây dựng | F18: 30 | G18: 30 | H18: =F18+G18 -> 60 | J18: 24 | N18: 68 | P18: =SUM(I18:O18) -> 92 | Q18: =SUM(I18:M18) -> 24 | R18: =SUM(N18:O18) -> 68
A19: 3. CHỈ TIÊU TỔNG CỘNG CỦA NHÓM | F19: =SUM(F18) -> 30 | G19: =SUM(G18) -> 30 | H19: =SUM(H18) -> 60 | I19: =SUM(I18) -> 0 | J19: =SUM(J18) -> 24 | K19: =SUM(K18) -> 0 | L19: =SUM(L18) -> 0 | M19: =SUM(M18) -> 0 | ... O19: =SUM(O18) -> 0 | P19: =P18 -> 92 | Q19: =SUM(I19:M19) -> 24 | R19: =SUM(N19:O19) -> 68
A20: 11 | B20: Kế toán doanh nghiệp | C20: 5340302 | D20: 6340302 | E20: Kế toán - Kiểm toán | F20: 50 | G20: 130 | H20: =F20+G20 -> 180 | J20: 69 | N20: 102 | O20: 13 | P20: =SUM(I20:O20) -> 184 | Q20: =SUM(I20:M20) -> 69 | R20: =SUM(N20:O20) -> 115
A21: 4. CHỈ TIÊU TỔNG CỘNG CỦA NHÓM | F21: =SUM(F20) -> 50 | G21: =SUM(G20) -> 130 | H21: =SUM(H20) -> 180 | I21: =SUM(I20) -> 0 | J21: =SUM(J20) -> 69 | K21: =SUM(K20) -> 0 | L21: =SUM(L20) -> 0 | M21: =SUM(M20) -> 0 | ... O21: =SUM(O20) -> 13 | P21: =P20 -> 184 | Q21: =SUM(I21:M21) -> 69 | R21: =SUM(N21:O21) -> 115
A22: 12 | B22: Thương mại điện tử | C22: 5340122 | D22: 6340122 | E22: Kinh doanh | F22: 40 | G22: 60 | H22: =F22+G22 -> 100 | N22: 17 | P22: =SUM(I22:O22) -> 17 | Q22: =SUM(I22:M22) -> 0 | R22: =SUM(N22:O22) -> 17
A23: 5. CHỈ TIÊU TỔNG CỘNG CỦA NHÓM | F23: =SUM(F22:F22) -> 40 | G23: =SUM(G22:G22) -> 60 | H23: =SUM(H22:H22) -> 100 | I23: =SUM(I22:I22) -> 0 | J23: =SUM(J22:J22) -> 0 | K23: =SUM(K22:K22) -> 0 | L23: =SUM(L22:L22) -> 0 | M23: =SUM(M22:M22) -> 0 | ... P23: =SUM(P22:P22) -> 17 | Q23: =SUM(I23:M23) -> 0 | R23: =SUM(N23:O23) -> 17
A24: 13 | B24: Quản trị doanh nghiệp vừa và nhỏ | C24: 5340417 | D24: 6340417 | E24: Quản trị - Quản lý | F24: 50 | G24: 130 | H24: =F24+G24 -> 180 | J24: 102 | N24: 96 | P24: =SUM(I24:O24) -> 198 | Q24: =SUM(I24:M24) -> 102 | R24: =SUM(N24:O24) -> 96
A25: 6. CHỈ TIÊU TỔNG CỘNG CỦA NHÓM | F25: =SUM(F24) -> 50 | G25: =SUM(G24) -> 130 | H25: =SUM(H24) -> 180 | I25: =SUM(I24) -> 0 | J25: =SUM(J24) -> 102 | K25: =SUM(K24) -> 0 | L25: =SUM(L24) -> 0 | M25: =SUM(M24) -> 0 | ... O25: =SUM(O24) -> 0 | P25: =P24 -> 198 | Q25: =SUM(I25:M25) -> 102 | R25: =SUM(N25:O25) -> 96
A26: 14 | B26: Tài chính doanh nghiệp | C26: 5340201 | D26: 6340201 | E26: Tài chính - Ngân hàng - Bảo hiểm | F26: 50 | G26: 130 | H26: =F26+G26 -> 180 | J26: 19 | P26: =SUM(I26:O26) -> 19 | Q26: =SUM(I26:M26) -> 19 | R26: =SUM(N26:O26) -> 0
A27: 7. CHỈ TIÊU TỔNG CỘNG CỦA NHÓM | F27: =SUM(F26) -> 50 | G27: =SUM(G26) -> 130 | H27: =SUM(H26) -> 180 | I27: =SUM(I26) -> 0 | J27: =SUM(J26) -> 19 | K27: =SUM(K26) -> 0 | L27: =SUM(L26) -> 0 | M27: =SUM(M26) -> 0 | N27: =SUM(N26) -> 0 | P27: =P26 -> 19 | Q27: =SUM(I27:M27) -> 19 | R27: =SUM(N27:O27) -> 0
A28: 15 | B28: Lắp đặt thiết bị lạnh | C28: 5520114 | D28: 6520114 | E28: Kỹ thuật cơ khí và cơ kỹ thuật | F28: 60 | G28: 90 | H28: =F28+G28 -> 150 | P28: =SUM(I28:O28) -> 0 | Q28: =SUM(I28:M28) -> 0 | R28: =SUM(N28:O28) -> 0
A29: 16 | B29: Cắt gọt kim loại | C29: 5520121 | D29: 6520121 | E29: Kỹ thuật cơ khí và cơ kỹ thuật | F29: 50 | G29: 90 | H29: =F29+G29 -> 140 | N29: 40 | P29: =SUM(I29:O29) -> 40 | Q29: =SUM(I29:M29) -> 0 | R29: =SUM(N29:O29) -> 40
A30: 17 | B30: Bảo trì hệ thống thiết bị công nghiệp | C30: 5520155 | D30: 6520155 | E30: Kỹ thuật cơ khí và cơ kỹ thuật | F30: 50 | G30: 95 | H30: =F30+G30 -> 145 | N30: 38 | P30: =SUM(I30:O30) -> 38 | Q30: =SUM(I30:M30) -> 0 | R30: =SUM(N30:O30) -> 38
A31: 18 | B31: Cơ khí chế tạo | C31: 5520117 | E31: Kỹ thuật cơ khí và cơ kỹ thuật | F31: 80 | H31: =F31+G31 -> 80 | J31: 48 | P31: =SUM(I31:O31) -> 48 | Q31: =SUM(I31:M31) -> 48 | R31: =SUM(N31:O31) -> 0
A32: 8. CHỈ TIÊU TỔNG CỘNG CỦA NHÓM | F32: =SUM(F28:F31) -> 240 | G32: =SUM(G28:G31) -> 275 | H32: =SUM(H28:H31) -> 515 | I32: =SUM(I28:I31) -> 0 | J32: =SUM(J28:J31) -> 48 | K32: =SUM(K28:K31) -> 0 | L32: =SUM(L28:L31) -> 0 | M32: =SUM(M28:M31) -> 0 | ... P32: =SUM(P28:P31) -> 126 | Q32: =SUM(I32:M32) -> 48 | R32: =SUM(N32:O32) -> 78
A33: 19 | B33: Kỹ thuật máy lạnh và điều hòa không khí | C33: 5520205 | D33: 6520205 | E33: Kỹ thuật điện, điện tử và viễn thông | F33: 50 | G33: 75 | H33: =F33+G33 -> 125 | J33: 46 | N33: 109 | P33: =SUM(I33:O33) -> 155 | Q33: =SUM(I33:M33) -> 46 | R33: =SUM(N33:O33) -> 109
A34: 20 | B34: Điện tử công nghiệp | C34: 5520225 | D34: 6520225 | E34: Kỹ thuật điện, điện tử và viễn thông | F34: 90 | G34: 130 | H34: =F34+G34 -> 220 | P34: =SUM(I34:O34) -> 0 | Q34: =SUM(I34:M34) -> 0 | R34: =SUM(N34:O34) -> 0
A35: 21 | B35: Điện công nghiệp | C35: 5520227 | D35: 6520227 | E35: Kỹ thuật điện, điện tử và viễn thông | F35: 95 | G35: 150 | H35: =F35+G35 -> 245 | J35: 73 | K35: 23 | L35: 8 | M35: 43 | N35: 250 | P35: =SUM(I35:O35) -> 397 | Q35: =SUM(I35:M35) -> 147 | R35: =SUM(N35:O35) -> 250
A36: 22 | B36: Vận hành, sửa chữa thiết bị lạnh | C36: 5520255 | D36: 6520255 | E36: Kỹ thuật điện, điện tử và viễn thông | F36: 55 | G36: 75 | H36: =F36+G36 -> 130 | J36: 131 | N36: 178 | P36: =SUM(I36:O36) -> 309 | Q36: =SUM(I36:M36) -> 131 | R36: =SUM(N36:O36) -> 178
A37: 23 | B37: Cơ điện tử | C37: 5520263 | D37: 6520263 | E37: Kỹ thuật điện, điện tử và viễn thông | F37: 70 | G37: 135 | H37: =F37+G37 -> 205 | J37: 47 | N37: 117 | P37: =SUM(I37:O37) -> 164 | Q37: =SUM(I37:M37) -> 47 | R37: =SUM(N37:O37) -> 117
A38: 9. CHỈ TIÊU TỔNG CỘNG CỦA NHÓM | F38: =SUM(F33:F37) -> 360 | G38: =SUM(G33:G37) -> 565 | H38: =SUM(H33:H37) -> 925 | I38: =SUM(I33:I37) -> 0 | J38: =SUM(J33:J37) -> 297 | K38: =SUM(K33:K37) -> 23 | L38: =SUM(L33:L37) -> 8 | M38: =SUM(M33:M37) -> 43 | ... P38: =SUM(P33:P37) -> 1025 | Q38: =SUM(I38:M38) -> 371 | R38: =SUM(N38:O38) -> 654
A39: 24 | B39: Tin học ứng dụng | C39: 5480205 | D39: 6480205 | E39: Công nghệ thông tin | F39: 50 | G39: 60 | H39: =F39+G39 -> 110 | J39: 75 | N39: 32 | P39: =SUM(I39:O39) -> 107 | Q39: =SUM(I39:M39) -> 75 | R39: =SUM(N39:O39) -> 32
A40: 25 | B40: Lập trình máy tính | C40: 5480207 | D40: 6480207 | E40: Công nghệ thông tin | F40: 50 | G40: 80 | H40: =F40+G40 -> 130 | J40: 87 | N40: 112 | P40: =SUM(I40:O40) -> 199 | Q40: =SUM(I40:M40) -> 87 | R40: =SUM(N40:O40) -> 112
A41: 26 | B41: Quản trị mạng máy tính | C41: 5480209 | D41: 6480209 | E41: Công nghệ thông tin | F41: 50 | G41: 120 | H41: =F41+G41 -> 170 | J41: 60 | N41: 64 | O41: 45 | P41: =SUM(I41:O41) -> 169 | Q41: =SUM(I41:M41) -> 60 | R41: =SUM(N41:O41) -> 109
...

Sheet 19
A1: ỦY BAN NHÂN DÂN THÀNH PHỐ HỒ CHÍ MINH | G1: CỘNG HÒA XÃ HỘI CHỦ NGHĨA VIỆT NAM
A2: TRƯỜNG CAO ĐẲNG LÝ TỰ TRỌNG THÀNH PHỐ HỒ CHÍ MINH | G2: Độc lập - Tự do - Hạnh phúc
A4: THỐNG KÊ TUYỂN SINH NĂM 2019
A5: TT | B5: TÊN NGÀNH CẤP IV | C5: MÃ NGÀNH/NGHỀ CẤP IV | E5: TÊN NGÀNH CẤP III | F5: Chỉ tiêu tuyển sinh 2019 | H5: TỔNG CỘNG CHỈ TIÊU 2019 | I5: Tuyển sinh 2019
C6: Trung cấp | D6: Cao đẳng | F6: Trung cấp | G6: Cao đẳng | I6: T2 | J6: T4 | K6: T5 | L6: C1 | M6: C2 | N6: C3 | O6: C4 | P6: TỔNG | Q6: TC | R6: CĐ
A7: 1 | B7: Công nghệ kỹ thuật cơ khí | C7: 5510201 | D7: 6510201 | E7: Công nghệ kỹ thuật cơ khí | F7: 90 | G7: 280 | H7: =F7+G7 -> 370 | I7: 26 | J7: 67 | L7: 316 | M7: 46 | N7: 33 | P7: =SUM(I7:O7) -> 488 | Q7: =SUM(I7:K7) -> 93 | R7: =SUM(L7:O7) -> 395
A8: 2 | B8: Công nghệ kỹ thuật nhiệt | C8: 5510211 | D8: 6510211 | E8: Công nghệ kỹ thuật cơ khí | F8: 65 | G8: 150 | H8: =F8+G8 -> 215 | L8: 54 | M8: 33 | P8: =SUM(I8:O8) -> 87 | Q8: =SUM(I8:K8) -> 0 | R8: =SUM(L8:O8) -> 87
A9: 3 | B9: Công nghệ chế tạo máy | D9: 6510212 | E9: Công nghệ kỹ thuật cơ khí | G9: 140 | H9: =F9+G9 -> 140 | L9: 66 | P9: =SUM(I9:O9) -> 66 | Q9: =SUM(I9:K9) -> 0 | R9: =SUM(L9:O9) -> 66
A10: 4 | B10: Công nghệ chế tạo dụng cụ | C10: 5510212 | E10: Công nghệ kỹ thuật cơ khí | F10: 100 | H10: =F10+G10 -> 100 | Q10: =SUM(I10:K10) -> 0 | R10: =SUM(L10:O10) -> 0
A11: 5 | B11: Công nghệ ô tô | C11: 5510216 | D11: 6510216 | E11: Công nghệ kỹ thuật cơ khí | F11: 205 | G11: 520 | H11: =F11+G11 -> 725 | I11: 64 | J11: 315 | L11: 774 | M11: 103 | N11: 60 | O11: 18 | P11: =SUM(I11:O11) -> 1334 | Q11: =SUM(I11:K11) -> 379 | R11: =SUM(L11:O11) -> 955
A12: 1. CHỈ TIÊU TỔNG CỘNG CỦA NHÓM | F12: =SUM(F7:F11) -> 460 | G12: =SUM(G7:G11) -> 1090 | H12: =SUM(H7:H11) -> 1550 | I12: =SUM(I7:I11) -> 90 | J12: =SUM(J7:J11) -> 382 | K12: =SUM(K7:K11) -> 0 | L12: =SUM(L7:L11) -> 1210 | M12: =SUM(M7:M11) -> 182 | ... P12: =SUM(P7:P11) -> 1975
A13: 6 | B13: Công nghệ kỹ thuật điện, điện tử | C13: 5510303 | D13: 6510303 | E13: Công nghệ kỹ thuật điện, điện tử và viễn thông | F13: 85 | G13: 190 | H13: =F13+G13 -> 275 | J13: 73 | L13: 160 | M13: 85 | P13: =SUM(I13:O13) -> 318 | Q13: =SUM(I13:K13) -> 73 | R13: =SUM(L13:O13) -> 245
A14: 7 | B14: Công nghệ kỹ thuật điều khiển và tự động hóa | D14: 6510305 | E14: Công nghệ kỹ thuật điện, điện tử và viễn thông | G14: 120 | H14: =F14+G14 -> 120 | L14: 63 | P14: =SUM(I14:O14) -> 63 | Q14: =SUM(I14:K14) -> 0 | R14: =SUM(L14:O14) -> 63
A15: 8 | B15: Công nghệ kỹ thuật điều khiển tự động | C15: 5510305 | E15: Công nghệ kỹ thuật điện, điện tử và viễn thông | F15: 70 | H15: =F15+G15 -> 70 | P15: =SUM(I15:O15) -> 0 | Q15: =SUM(I15:K15) -> 0 | R15: =SUM(L15:O15) -> 0
A16: 9 | B16: Kỹ thuật mạng ngoại vi và thiết bị đầu cuối | C16: 5520217 | D16: 6520217 | E16: Công nghệ kỹ thuật điện, điện tử và viễn thông | F16: 85 | G16: 115 | H16: =F16+G16 -> 200 | Q16: =SUM(I16:K16) -> 0 | R16: =SUM(L16:O16) -> 0
A17: 2. CHỈ TIÊU TỔNG CỘNG CỦA NHÓM | F17: =SUM(F13:F16) -> 240 | G17: =SUM(G13:G16) -> 425 | H17: =SUM(H13:H16) -> 665 | I17: =SUM(I13:I16) -> 0 | J17: =SUM(J13:J16) -> 73 | K17: =SUM(K13:K16) -> 0 | L17: =SUM(L13:L16) -> 223 | M17: =SUM(M13:M16) -> 85 | ... P17: =SUM(P13:P16) -> 381
A18: 10 | B18: Quản lý xây dựng | D18: 6580301 | E18: Quản lý xây dựng | G18: 70 | H18: =F18+G18 -> 70 | P18: =SUM(I18:O18) -> 0 | Q18: =SUM(I18:K18) -> 0 | R18: =SUM(L18:O18) -> 0
A19: 3. CHỈ TIÊU TỔNG CỘNG CỦA NHÓM | G19: =SUM(G18) -> 70 | H19: =SUM(H18) -> 70 | I19: =SUM(I18) -> 0 | J19: =SUM(J18) -> 0 | K19: =SUM(K18) -> 0 | L19: =SUM(L18) -> 0 | M19: =SUM(M18) -> 0 | N19: =SUM(N18) -> 0 | O19: =SUM(O18) -> 0 | P19: =P18 -> 0
A20: 11 | B20: Kỹ thuật xây dựng | C20: 5580201 | D20: 6580201 | E20: Xây dựng | F20: 60 | G20: 60 | H20: =F20+G20 -> 120 | J20: 36 | L20: 32 | P20: =SUM(I20:O20) -> 68 | Q20: =SUM(I20:K20) -> 36 | R20: =SUM(L20:O20) -> 32
A21: 4. CHỈ TIÊU TỔNG CỘNG CỦA NHÓM | F21: =SUM(F20) -> 60 | G21: =SUM(G20) -> 60 | H21: =SUM(H20) -> 120 | I21: =SUM(I20) -> 0 | J21: =SUM(J20) -> 36 | K21: =SUM(K20) -> 0 | L21: =SUM(L20) -> 32 | M21: =SUM(M20) -> 0 | ... O21: =SUM(O20) -> 0 | P21: =P20 -> 68
A22: 12 | B22: Kế toán doanh nghiệp | C22: 5340302 | D22: 6340302 | E22: Kế toán - Kiểm toán | F22: 65 | G22: 160 | H22: =F22+G22 -> 225 | J22: 115 | L22: 75 | M22: 19 | P22: =SUM(I22:O22) -> 209 | Q22: =SUM(I22:K22) -> 115 | R22: =SUM(L22:O22) -> 94
A23: 5. CHỈ TIÊU TỔNG CỘNG CỦA NHÓM | F23: =SUM(F22) -> 65 | G23: =SUM(G22) -> 160 | H23: =SUM(H22) -> 225 | I23: =SUM(I22) -> 0 | J23: =SUM(J22) -> 115 | K23: =SUM(K22) -> 0 | L23: =SUM(L22) -> 75 | M23: =SUM(M22) -> 19 | ... O23: =SUM(O22) -> 0 | P23: =P22 -> 209
A24: 13 | B24: Logistics | C24: 5340113 | D24: 6340113 | E24: Kinh doanh | F24: 30 | G24: 60 | H24: =F24+G24 -> 90 | J24: 33 | L24: 28 | P24: =SUM(I24:O24) -> 61 | Q24: =SUM(I24:K24) -> 33 | R24: =SUM(L24:O24) -> 28
A25: 14 | B25: Thương mại điện tử | C25: 5340122 | D25: 6340122 | E25: Kinh doanh | F25: 50 | G25: 75 | H25: =F25+G25 -> 125 | J25: 27 | P25: =SUM(I25:O25) -> 27 | Q25: =SUM(I25:K25) -> 27 | R25: =SUM(L25:O25) -> 0
A26: 6. CHỈ TIÊU TỔNG CỘNG CỦA NHÓM | F26: =SUM(F24:F25) -> 80 | G26: =SUM(G24:G25) -> 135 | H26: =SUM(H24:H25) -> 215 | I26: =SUM(I24:I25) -> 0 | J26: =SUM(J24:J25) -> 60 | K26: =SUM(K24:K25) -> 0 | L26: =SUM(L24:L25) -> 28 | M26: =SUM(M24:M25) -> 0 | ... P26: =SUM(P24:P25) -> 88
A27: 15 | B27: Quản trị doanh nghiệp vừa và nhỏ | C27: 5340417 | D27: 6340417 | E27: Quản trị - Quản lý | F27: 65 | G27: 160 | H27: =F27+G27 -> 225 | J27: 63 | L27: 82 | M27: 21 | P27: =SUM(I27:O27) -> 166 | Q27: =SUM(I27:K27) -> 63 | R27: =SUM(L27:O27) -> 103
A28: 7. CHỈ TIÊU TỔNG CỘNG CỦA NHÓM | F28: =SUM(F27) -> 65 | G28: =SUM(G27) -> 160 | H28: =SUM(H27) -> 225 | I28: =SUM(I27) -> 0 | J28: =SUM(J27) -> 63 | K28: =SUM(K27) -> 0 | L28: =SUM(L27) -> 82 | M28: =SUM(M27) -> 21 | ... O28: =SUM(O27) -> 0 | P28: =P27 -> 166
A29: 16 | B29: Tài chính doanh nghiệp | C29: 5340201 | D29: 6340201 | E29: Tài chính - Ngân hàng - Bảo hiểm | F29: 65 | G29: 160 | H29: =F29+G29 -> 225 | J29: 42 | P29: =SUM(I29:O29) -> 42 | Q29: =SUM(I29:K29) -> 42 | R29: =SUM(L29:O29) -> 0
A30: 8. CHỈ TIÊU TỔNG CỘNG CỦA NHÓM | F30: =SUM(F29) -> 65 | G30: =SUM(G29) -> 160 | H30: =SUM(H29) -> 225 | I30: =SUM(I29) -> 0 | J30: =SUM(J29) -> 42 | K30: =SUM(K29) -> 0 | L30: =SUM(L29) -> 0 | M30: =SUM(M29) -> 0 | ... O30: =SUM(O29) -> 0 | P30: =P29 -> 42
A31: 17 | B31: Chế tạo khuôn mẫu | C31: 5520105 | D31: 6520105 | E31: Kỹ thuật cơ khí và cơ kỹ thuật | F31: 30 | G31: 60 | H31: =F31+G31 -> 90 | P31: =SUM(I31:O31) -> 0 | Q31: =SUM(I31:K31) -> 0 | R31: =SUM(L31:O31) -> 0
A32: 18 | B32: Lắp đặt thiết bị lạnh | C32: 5520114 | D32: 6520114 | E32: Kỹ thuật cơ khí và cơ kỹ thuật | F32: 75 | G32: 110 | H32: =F32+G32 -> 185 | J32: 57 | L32: 28 | P32: =SUM(I32:O32) -> 85 | Q32: =SUM(I32:K32) -> 57 | R32: =SUM(L32:O32) -> 28
A33: 19 | B33: Cắt gọt kim loại | C33: 5520121 | D33: 6520121 | E33: Kỹ thuật cơ khí và cơ kỹ thuật | F33: 65 | G33: 110 | H33: =F33+G33 -> 175 | P33: =SUM(I33:O33) -> 0 | Q33: =SUM(I33:K33) -> 0 | R33: =SUM(L33:O33) -> 0
A34: 20 | B34: Bảo trì hệ thống thiết bị công nghiệp | C34: 5520155 | D34: 6520155 | E34: Kỹ thuật cơ khí và cơ kỹ thuật | F34: 65 | G34: 120 | H34: =F34+G34 -> 185 | L34: 35 | P34: =SUM(I34:O34) -> 35 | Q34: =SUM(I34:K34) -> 0 | R34: =SUM(L34:O34) -> 35
A35: 21 | B35: Cơ khí chế tạo | C35: 5520117 | E35: Kỹ thuật cơ khí và cơ kỹ thuật | F35: 100 | H35: =F35+G35 -> 100 | J35: 93 | P35: =SUM(I35:O35) -> 93 | Q35: =SUM(I35:K35) -> 93 | R35: =SUM(L35:O35) -> 0
A36: 9. CHỈ TIÊU TỔNG CỘNG CỦA NHÓM | F36: =SUM(F31:F35) -> 335 | G36: =SUM(G31:G35) -> 400 | H36: =SUM(H31:H35) -> 735 | I36: =SUM(I31:I35) -> 0 | J36: =SUM(J31:J35) -> 150 | K36: =SUM(K31:K35) -> 0 | L36: =SUM(L31:L35) -> 63 | M36: =SUM(M31:M35) -> 0 | ... P36: =SUM(P31:P35) -> 213
A37: 22 | B37: Kỹ thuật máy lạnh và điều hòa không khí | C37: 5520205 | D37: 6520205 | E37: Kỹ thuật điện, điện tử và viễn thông | F37: 65 | G37: 125 | H37: =F37+G37 -> 190 | J37: 63 | L37: 92 | P37: =SUM(I37:O37) -> 155 | Q37: =SUM(I37:K37) -> 63 | R37: =SUM(L37:O37) -> 92
A38: 23 | B38: Điện tử công nghiệp | C38: 5520225 | D38: 6520225 | E38: Kỹ thuật điện, điện tử và viễn thông | F38: 115 | G38: 165 | H38: =F38+G38 -> 280 | P38: =SUM(I38:O38) -> 0 | Q38: =SUM(I38:K38) -> 0 | R38: =SUM(L38:O38) -> 0
A39: 24 | B39: Điện công nghiệp | C39: 5520227 | D39: 6520227 | E39: Kỹ thuật điện, điện tử và viễn thông | F39: 135 | G39: 230 | H39: =F39+G39 -> 365 | I39: 35 | J39: 85 | L39: 148 | P39: =SUM(I39:O39) -> 268 | Q39: =SUM(I39:K39) -> 120 | R39: =SUM(L39:O39) -> 148
A40: 25 | B40: Vận hành, sửa chữa thiết bị lạnh | C40: 5520255 | D40: 6520255 | E40: Kỹ thuật điện, điện tử và viễn thông | F40: 95 | G40: 115 | H40: =F40+G40 -> 210 | J40: 77 | L40: 113 | P40: =SUM(I40:O40) -> 190 | Q40: =SUM(I40:K40) -> 77 | R40: =SUM(L40:O40) -> 113
A41: 26 | B41: Cơ điện tử | C41: 5520263 | D41: 6520263 | E41: Kỹ thuật điện, điện tử và viễn thông | F41: 85 | G41: 170 | H41: =F41+G41 -> 255 | J41: 45 | L41: 51 | P41: =SUM(I41:O41) -> 96 | Q41: =SUM(I41:K41) -> 45 | R41: =SUM(L41:O41) -> 51
...

Sheet 20
A1: ỦY BAN NHÂN DÂN THÀNH PHỐ HỒ CHÍ MINH | G1: CỘNG HÒA XÃ HỘI CHỦ NGHĨA VIỆT NAM
A2: TRƯỜNG CAO ĐẲNG LÝ TỰ TRỌNG THÀNH PHỐ HỒ CHÍ MINH | G2: Độc lập - Tự do - Hạnh phúc
A4: THỐNG KÊ TUYỂN SINH NĂM 2020
A5: TT | B5: TÊN NGÀNH CẤP IV | C5: MÃ NGÀNH/NGHỀ CẤP IV | E5: TÊN NGÀNH CẤP III | F5: Chỉ tiêu tuyển sinh 2020 | H5: TỔNG CỘNG CHỈ TIÊU 2020 | I5: Tuyển sinh 2020
C6: Trung cấp | D6: Cao đẳng | F6: Trung cấp | G6: Cao đẳng | I6: T2 | J6: T3 | K6: T4 | L6: T5 | M6: C1 | N6: C2 | O6: C3 | P6: C5 | Q6: C6 | R6: TỔNG | S6: TC | T6: CĐ
A7: 1 | B7: Công nghệ kỹ thuật cơ khí | C7: 5510201 | D7: 6510201 | E7: Công nghệ kỹ thuật cơ khí | F7: 90 | G7: 280 | H7: =F7+G7 -> 370 | K7: 113 | M7: 294 | N7: 52 | O7: 42 | R7: =SUM(I7:Q7) -> 501 | S7: =I7+K7+L7 -> 113 | T7: =SUM(M7:Q7) -> 388
A8: 2 | B8: Công nghệ kỹ thuật nhiệt | C8: 5510211 | D8: 6510211 | E8: Công nghệ kỹ thuật cơ khí | F8: 65 | G8: 150 | H8: =F8+G8 -> 215 | K8: 27 | M8: 120 | N8: 34 | R8: =SUM(I8:Q8) -> 181 | S8: =I8+K8+L8 -> 27 | T8: =SUM(M8:Q8) -> 154
A9: 3 | B9: Công nghệ chế tạo máy | D9: 6510212 | E9: Công nghệ kỹ thuật cơ khí | G9: 140 | H9: =F9+G9 -> 140 | M9: 148 | O9: 21 | R9: =SUM(I9:Q9) -> 169 | S9: =I9+K9+L9 -> 0 | T9: =SUM(M9:Q9) -> 169
A10: 4 | B10: Công nghệ chế tạo dụng cụ | C10: 5510212 | E10: Công nghệ kỹ thuật cơ khí | F10: 100 | H10: =F10+G10 -> 100 | S10: =I10+K10+L10 -> 0 | T10: =SUM(M10:Q10) -> 0
A11: 5 | B11: Công nghệ ô tô | C11: 5510216 | D11: 6510216 | E11: Công nghệ kỹ thuật cơ khí | F11: 205 | G11: 520 | H11: =F11+G11 -> 725 | J11: 99 | K11: 291 | M11: 817 | N11: 158 | O11: 120 | P11: 30 | Q11: 127 | R11: =SUM(I11:Q11) -> 1642 | S11: =I11+K11+L11 -> 291 | T11: =SUM(M11:Q11) -> 1252
A12: 1. CHỈ TIÊU TỔNG CỘNG CỦA NHÓM | F12: =SUM(F7:F11) -> 460 | G12: =SUM(G7:G11) -> 1090 | H12: =SUM(H7:H11) -> 1550 | I12: =SUM(I7:I11) -> 0 | J12: =SUM(J7:J11) -> 99 | K12: =SUM(K7:K11) -> 431 | L12: =SUM(L7:L11) -> 0 | M12: =SUM(M7:M11) -> 1379 | ... R12: =SUM(R7:R11) -> 2493
A13: 6 | B13: Công nghệ kỹ thuật điện, điện tử | C13: 5510303 | D13: 6510303 | E13: Công nghệ kỹ thuật điện, điện tử và viễn thông | F13: 85 | G13: 190 | H13: =F13+G13 -> 275 | K13: 54 | M13: 125 | N13: 47 | O13: 20 | R13: =SUM(I13:Q13) -> 246 | S13: =I13+K13+L13 -> 54 | T13: =SUM(M13:Q13) -> 192
A14: 7 | B14: Công nghệ kỹ thuật điều khiển và tự động hóa | D14: 6510305 | E14: Công nghệ kỹ thuật điện, điện tử và viễn thông | G14: 120 | H14: =F14+G14 -> 120 | K14: 40 | M14: 91 | R14: =SUM(I14:Q14) -> 131 | T14: =SUM(M14:Q14) -> 91
A15: 8 | B15: Công nghệ kỹ thuật điều khiển tự động | C15: 5510305 | E15: Công nghệ kỹ thuật điện, điện tử và viễn thông | F15: 70 | H15: =F15+G15 -> 70 | R15: =SUM(I15:Q15) -> 0 | S15: 40 | T15: =SUM(M15:Q15) -> 0
A16: 9 | B16: Công nghệ kỹ thuật điện tử, truyền thông | D16: 6510312 | E16: Công nghệ kỹ thuật điện, điện tử và viễn thông | G16: 115 | H16: =F16+G16 -> 115 | R16: =SUM(I16:Q16) -> 0 | S16: =I16+K16+L16 -> 0 | T16: =SUM(M16:Q16) -> 0
A17: 10 | B17: Công nghệ kỹ thuật điện tử - viễn thông | C17: 5510312 | E17: Công nghệ kỹ thuật điện, điện tử và viễn thông | F17: 85 | H17: =F17+G17 -> 85 | R17: =SUM(I17:Q17) -> 0 | S17: =I17+K17+L17 -> 0 | T17: =SUM(M17:Q17) -> 0
A18: 2. CHỈ TIÊU TỔNG CỘNG CỦA NHÓM | F18: =SUM(F13:F17) -> 240 | G18: =SUM(G13:G17) -> 425 | H18: =SUM(H13:H17) -> 665 | I18: =SUM(I13:I17) -> 0 | J18: =SUM(J13:J17) -> 0 | K18: =SUM(K13:K17) -> 94 | L18: =SUM(L13:L17) -> 0 | M18: =SUM(M13:M17) -> 216 | ... R18: =SUM(R13:R17) -> 377
A19: 11 | B19: Quản trị lữ hành | C19: 5810104 | D19: 6810104 | E19: Du lịch | F19: 50 | G19: 50 | H19: =F19+G19 -> 100 | K19: 28 | R19: =SUM(I19:Q19) -> 28 | S19: =I19+K19+L19 -> 28 | T19: =SUM(M19:Q19) -> 0
A20: 12 | B20: Quản trị du lịch MICE | C20: 5810105 | D20: 6810105 | E20: Du lịch | F20: 50 | G20: 50 | H20: =F20+G20 -> 100 | K20: 60 | R20: =SUM(I20:Q20) -> 60 | S20: =I20+K20+L20 -> 60 | T20: =SUM(M20:Q20) -> 0
A21: 3. CHỈ TIÊU TỔNG CỘNG CỦA NHÓM | F21: =SUM(F19:F20) -> 100 | G21: =SUM(G19:G20) -> 100 | H21: =SUM(H19:H20) -> 200 | I21: =SUM(I19:I20) -> 0 | J21: =SUM(J19:J20) -> 0 | K21: =SUM(K19:K20) -> 88 | L21: =SUM(L19:L20) -> 0 | M21: =SUM(M19:M20) -> 0 | ... R21: =SUM(R19:R20) -> 88
A22: 13 | B22: Quản trị khách sạn | C22: 5810201 | D22: 6810201 | E22: Khách sạn, nhà hàng | F22: 35 | G22: 35 | H22: =F22+G22 -> 70 | J22: 106 | K22: 64 | M22: 40 | R22: =SUM(I22:Q22) -> 210 | S22: =I22+K22+L22 -> 64 | T22: =SUM(M22:Q22) -> 40
A23: 14 | B23: Quản trị nhà hàng | D23: 6810206 | E23: Khách sạn, nhà hàng | G23: 35 | H23: =F23+G23 -> 35 | M23: 26 | R23: =SUM(I23:Q23) -> 26 | S23: =I23+K23+L23 -> 0 | T23: =SUM(M23:Q23) -> 26
A24: 15 | B24: Nghiệp vụ nhà hàng | C24: 5810206 | E24: Khách sạn, nhà hàng | F24: 35 | H24: =F24+G24 -> 35 | K24: 56 | R24: =SUM(I24:Q24) -> 56 | S24: =I24+K24+L24 -> 56 | T24: =SUM(M24:Q24) -> 0
A25: 16 | B25: Kỹ thuật làm bánh | C25: 5810210 | D25: 6810210 | E25: Khách sạn, nhà hàng | F25: 50 | G25: 50 | H25: =F25+G25 -> 100 | J25: 183 | K25: 62 | M25: 12 | R25: =SUM(I25:Q25) -> 257 | S25: =I25+K25+L25 -> 62 | T25: =SUM(M25:Q25) -> 12
A26: 4. CHỈ TIÊU TỔNG CỘNG CỦA NHÓM | F26: =SUM(F22:F25) -> 120 | G26: =SUM(G22:G25) -> 120 | H26: =SUM(H22:H25) -> 240 | I26: =SUM(I22:I25) -> 0 | J26: =SUM(J22:J25) -> 289 | K26: =SUM(K22:K25) -> 182 | L26: =SUM(L22:L25) -> 0 | M26: =SUM(M22:M25) -> 78 | ... R26: =SUM(R22:R25) -> 549
A27: 17 | B27: Quản lý xây dựng | D27: 6580301 | E27: Quản lý xây dựng | G27: 70 | H27: =F27+G27 -> 70 | M27: 16 | R27: =SUM(I27:Q27) -> 16 | S27: =I27+K27+L27 -> 0 | T27: =SUM(M27:Q27) -> 16
A28: 5. CHỈ TIÊU TỔNG CỘNG CỦA NHÓM | G28: =SUM(G27) -> 70 | H28: =SUM(H27) -> 70 | I28: =SUM(I27) -> 0 | J28: =SUM(J27) -> 0 | K28: =SUM(K27) -> 0 | L28: =SUM(L27) -> 0 | M28: =SUM(M27) -> 16 | N28: =SUM(N27) -> 0 | ... Q28: =SUM(Q27) -> 0 | R28: =R27 -> 16
A29: 18 | B29: Kỹ thuật xây dựng | C29: 5580201 | D29: 6580201 | E29: Xây dựng | F29: 60 | G29: 60 | H29: =F29+G29 -> 120 | K29: 47 | M29: 36 | R29: =SUM(I29:Q29) -> 83 | S29: =I29+K29+L29 -> 47 | T29: =SUM(M29:Q29) -> 36
A30: 6. CHỈ TIÊU TỔNG CỘNG CỦA NHÓM | F30: =SUM(F29) -> 60 | G30: =SUM(G29) -> 60 | H30: =SUM(H29) -> 120 | I30: =SUM(I29) -> 0 | J30: =SUM(J29) -> 0 | K30: =SUM(K29) -> 47 | L30: =SUM(L29) -> 0 | M30: =SUM(M29) -> 36 | ... Q30: =SUM(Q29) -> 0 | R30: =R29 -> 83
A31: 19 | B31: Kế toán doanh nghiệp | C31: 5340302 | D31: 6340302 | E31: Kế toán - Kiểm toán | F31: 65 | G31: 160 | H31: =F31+G31 -> 225 | J31: 39 | K31: 77 | M31: 78 | N31: 39 | R31: =SUM(I31:Q31) -> 233 | S31: =I31+K31+L31 -> 77 | T31: =SUM(M31:Q31) -> 117
A32: 7. CHỈ TIÊU TỔNG CỘNG CỦA NHÓM | F32: =SUM(F31) -> 65 | G32: =SUM(G31) -> 160 | H32: =SUM(H31) -> 225 | I32: =SUM(I31) -> 0 | J32: =SUM(J31) -> 39 | K32: =SUM(K31) -> 77 | L32: =SUM(L31) -> 0 | M32: =SUM(M31) -> 78 | ... Q32: =SUM(Q31) -> 0 | R32: =R31 -> 233
A33: 20 | B33: Logistics | C33: 5340113 | D33: 6340113 | E33: Kinh doanh | F33: 30 | G33: 60 | H33: =F33+G33 -> 90 | K33: 45 | M33: 28 | R33: =SUM(I33:Q33) -> 73 | S33: =I33+K33+L33 -> 45 | T33: =SUM(M33:Q33) -> 28
A34: 21 | B34: Thương mại điện tử | C34: 5340122 | D34: 6340122 | E34: Kinh doanh | F34: 50 | G34: 75 | H34: =F34+G34 -> 125 | K34: 38 | M34: 24 | R34: =SUM(I34:Q34) -> 62 | S34: =I34+K34+L34 -> 38 | T34: =SUM(M34:Q34) -> 24
A35: 8. CHỈ TIÊU TỔNG CỘNG CỦA NHÓM | F35: =SUM(F33:F34) -> 80 | G35: =SUM(G33:G34) -> 135 | H35: =SUM(H33:H34) -> 215 | I35: =SUM(I33:I34) -> 0 | J35: =SUM(J33:J34) -> 0 | K35: =SUM(K33:K34) -> 83 | L35: =SUM(L33:L34) -> 0 | M35: =SUM(M33:M34) -> 52 | ... R35: =SUM(R33:R34) -> 135
A36: 22 | B36: Quản trị doanh nghiệp vừa và nhỏ | C36: 5340417 | D36: 6340417 | E36: Quản trị - Quản lý | F36: 65 | G36: 160 | H36: =F36+G36 -> 225 | K36: 93 | M36: 72 | N36: 46 | R36: =SUM(I36:Q36) -> 211 | S36: =I36+K36+L36 -> 93 | T36: =SUM(M36:Q36) -> 118
A37: 9. CHỈ TIÊU TỔNG CỘNG CỦA NHÓM | F37: =SUM(F36) -> 65 | G37: =SUM(G36) -> 160 | H37: =SUM(H36) -> 225 | I37: =SUM(I36) -> 0 | J37: =SUM(J36) -> 0 | K37: =SUM(K36) -> 93 | L37: =SUM(L36) -> 0 | M37: =SUM(M36) -> 72 | ... Q37: =SUM(Q36) -> 0 | R37: =R36 -> 211
A38: 23 | B38: Tài chính doanh nghiệp | C38: 5340201 | D38: 6340201 | E38: Tài chính - Ngân hàng - Bảo hiểm | F38: 65 | G38: 160 | H38: =F38+G38 -> 225 | K38: 65 | M38: 26 | R38: =SUM(I38:Q38) -> 91 | S38: =I38+K38+L38 -> 65 | T38: =SUM(M38:Q38) -> 26
A39: 10. CHỈ TIÊU TỔNG CỘNG CỦA NHÓM | F39: =SUM(F38) -> 65 | G39: =SUM(G38) -> 160 | H39: =SUM(H38) -> 225 | I39: =SUM(I38) -> 0 | J39: =SUM(J38) -> 0 | K39: =SUM(K38) -> 65 | L39: =SUM(L38) -> 0 | M39: =SUM(M38) -> 26 | ... Q39: =SUM(Q38) -> 0 | R39: =R38 -> 91
A40: 24 | B40: Chế tạo khuôn mẫu | C40: 5520105 | D40: 6520105 | E40: Kỹ thuật cơ khí và cơ kỹ thuật | F40: 30 | G40: 60 | H40: =F40+G40 -> 90 | M40: 20 | R40: =SUM(I40:Q40) -> 20 | S40: =I40+K40+L40 -> 0 | T40: =SUM(M40:Q40) -> 20
A41: 25 | B41: Lắp đặt thiết bị lạnh | C41: 5520114 | D41: 6520114 | E41: Kỹ thuật cơ khí và cơ kỹ thuật | F41: 75 | G41: 110 | H41: =F41+G41 -> 185 | K41: 50 | M41: 41 | N41: 43 | R41: =SUM(I41:Q41) -> 134 | S41: =I41+K41+L41 -> 50 | T41: =SUM(M41:Q41) -> 84
...

Sheet 21
A1: UBND THÀNH PHỐ HỒ CHÍ MINH | E1: CỘNG HÒA XÃ HỘI CHỦ NGHĨA VIỆT NAM
A2: TRƯỜNG CAO ĐẲNG LÝ TỰ TRỌNG | E2: Độc lập - Tự do - Hạnh phúc
A3: THÀNH PHỐ HỒ CHÍ MINH
A5: TỔNG HỢP NGÀNH NGHỀ ĐÀO TẠO THEO NHÓM MÃ NGÀNH CẤP III THÔNG TƯ 26/2020 CỦA BỘ LAO ĐỘNG - THƯƠNG BINH VÀ XÃ HỘI
A6: TT | B6: TÊN NGÀNH CẤP IV | C6: MÃ NGÀNH/NGHỀ CẤP IV | E6: TÊN NGÀNH CẤP III | F6: Chỉ tiêu tuyển sinh 2021 | H6: TỔNG CỘNG CHỈ TIÊU 2021 | I6: Tuyển sinh 2021
C7: Trung cấp | D7: Cao đẳng | F7: Trung cấp | G7: Cao đẳng | I7: T2 | J7: T4 | K7: C1 | L7: C2 | M7: C3 | N7: C5 | O7: C6 | P7: C7 | Q7: TỔNG | R7: TC | S7: CĐ
A8: 1 | B8: Công nghệ kỹ thuật cơ khí | C8: 5510201 | D8: 6510201 | E8: Công nghệ kỹ thuật cơ khí | F8: 90 | G8: 280 | H8: =F8+G8 -> 370 | J8: 72 | K8: 240 | M8: 43 | P8: 33 | Q8: =SUM(I8:P8) -> 388 | R8: =SUM(I8:J8) -> 72 | S8: =K8+M8+N8+O8+P8 -> 316 | T8: =S8 -> 316
A9: 2 | B9: Công nghệ kỹ thuật nhiệt | C9: 5510211 | D9: 6510211 | E9: Công nghệ kỹ thuật cơ khí | F9: 65 | G9: 150 | H9: =F9+G9 -> 215 | K9: 56 | Q9: =SUM(I9:P9) -> 56 | R9: =SUM(I9:J9) -> 0 | S9: =K9+M9+N9+O9+P9 -> 56 | T9: =S9 -> 56
A10: 3 | B10: Công nghệ chế tạo máy | C10: 5510212 | D10: 6510212 | E10: Công nghệ kỹ thuật cơ khí | F10: 100 | G10: 140 | H10: =F10+G10 -> 240 | J10: 36 | K10: 40 | Q10: =SUM(I10:P10) -> 76 | R10: =SUM(I10:J10) -> 36 | S10: =K10+M10+N10+O10+P10 -> 40 | T10: =S10 -> 40
A11: 4 | B11: Công nghệ ô tô | C11: 5510216 | D11: 6510216 | E11: Công nghệ kỹ thuật cơ khí | F11: 205 | G11: 520 | H11: =F11+G11 -> 725 | J11: 212 | K11: 599 | L11: 33 | M11: 126 | N11: 25 | O11: 80 | Q11: =SUM(I11:P11) -> 1075 | R11: =SUM(I11:J11) -> 212 | S11: =K11+M11+N11+O11+P11+33 -> 863 | T11: =S11+33 -> 896
A12: 1. CHỈ TIÊU TỔNG CỘNG CỦA NHÓM | F12: =SUM(F8:F11) -> 460 | G12: =SUM(G8:G11) -> 1090 | H12: =SUM(H8:H11) -> 1550 | I12: =SUM(I8:I11) -> 0 | J12: =SUM(J8:J11) -> 320 | K12: =SUM(K8:K11) -> 935 | L12: =SUM(L8:L11) -> 33 | M12: =SUM(M8:M11) -> 169 | ... Q12: =SUM(Q8:Q11) -> 1595
A13: 5 | B13: Công nghệ kỹ thuật điện, điện tử | C13: 5510303 | D13: 6510303 | E13: Công nghệ kỹ thuật điện, điện tử và viễn thông | F13: 85 | G13: 190 | H13: =F13+G13 -> 275 | J13: 66 | K13: 75 | Q13: =SUM(I13:P13) -> 141 | R13: =SUM(I13:J13) -> 66 | S13: =K13+M13+N13+O13+P13 -> 75 | T13: =S13 -> 75
A14: 6 | B14: Công nghệ kỹ thuật điều khiển và tự động hóa | D14: 6510305 | E14: Công nghệ kỹ thuật điện, điện tử và viễn thông | G14: 120 | H14: =F14+G14 -> 120 | K14: 51 | Q14: =SUM(I14:P14) -> 51 | R14: =SUM(I14:J14) -> 0 | S14: =K14+M14+N14+O14+P14 -> 51 | T14: =S14 -> 51
A15: 7 | B15: Công nghệ kỹ thuật điều khiển tự động | C15: 5510305 | E15: Công nghệ kỹ thuật điện, điện tử và viễn thông | F15: 70 | H15: =F15+G15 -> 70 | J15: 26 | Q15: =SUM(I15:P15) -> 26 | R15: =SUM(I15:J15) -> 26 | S15: =K15+M15+N15+O15+P15 -> 0 | T15: =S15 -> 0
A16: 8 | B16: Công nghệ kỹ thuật điện tử, truyền thông | C16: 5510312 | D16: 6510312 | E16: Công nghệ kỹ thuật điện, điện tử và viễn thông | F16: 85 | G16: 115 | H16: =F16+G16 -> 200 | Q16: =SUM(I16:P16) -> 0 | R16: =SUM(I16:J16) -> 0 | S16: =K16+M16+N16+O16+P16 -> 0 | T16: =S16 -> 0
A17: 2. CHỈ TIÊU TỔNG CỘNG CỦA NHÓM | F17: =SUM(F13:F16) -> 240 | G17: =SUM(G13:G16) -> 425 | H17: =SUM(H13:H16) -> 665 | I17: =SUM(I13:I16) -> 0 | J17: =SUM(J13:J16) -> 92 | K17: =SUM(K13:K16) -> 126 | L17: =SUM(L13:L16) -> 0 | M17: =SUM(M13:M16) -> 0 | ... Q17: =SUM(Q13:Q16) -> 218
A18: 9 | B18: Quản trị lữ hành | C18: 5810104 | D18: 6810104 | E18: Du lịch | F18: 50 | G18: 50 | H18: =F18+G18 -> 100 | J18: 17 | Q18: =SUM(I18:P18) -> 17 | R18: =SUM(I18:J18) -> 17 | S18: =K18+M18+N18+O18+P18 -> 0 | T18: =S18 -> 0
A19: 10 | B19: Quản trị du lịch MICE | C19: 5810105 | D19: 6810105 | E19: Du lịch | F19: 50 | G19: 50 | H19: =F19+G19 -> 100 | J19: 29 | Q19: =SUM(I19:P19) -> 29 | R19: =SUM(I19:J19) -> 29 | S19: =K19+M19+N19+O19+P19 -> 0 | T19: =S19 -> 0
A20: 3. CHỈ TIÊU TỔNG CỘNG CỦA NHÓM | F20: =SUM(F18:F19) -> 100 | G20: =SUM(G18:G19) -> 100 | H20: =SUM(H18:H19) -> 200 | I20: =SUM(I18:I19) -> 0 | J20: =SUM(J18:J19) -> 46 | K20: =SUM(K18:K19) -> 0 | L20: =SUM(L18:L19) -> 0 | M20: =SUM(M18:M19) -> 0 | ... Q20: =SUM(Q18:Q19) -> 46
A21: 11 | B21: Quản trị khách sạn | C21: 5810201 | D21: 6810201 | E21: Khách sạn, nhà hàng | F21: 35 | G21: 35 | H21: =F21+G21 -> 70 | J21: 76 | K21: 30 | Q21: =SUM(I21:P21) -> 106 | R21: =SUM(I21:J21) -> 76 | S21: =K21+M21+N21+O21+P21 -> 30 | T21: =S21 -> 30
A22: 12 | B22: Quản trị nhà hàng | D22: 6810206 | E22: Khách sạn, nhà hàng | G22: 35 | H22: =F22+G22 -> 35 | K22: 23 | Q22: =SUM(I22:P22) -> 23 | R22: =SUM(I22:J22) -> 0 | S22: =K22+M22+N22+O22+P22 -> 23 | T22: =S22 -> 23
A23: 13 | B23: Nghiệp vụ nhà hàng | C23: 5810206 | E23: Khách sạn, nhà hàng | F23: 35 | H23: =F23+G23 -> 35 | J23: 34 | Q23: =SUM(I23:P23) -> 34 | R23: =SUM(I23:J23) -> 34 | S23: =K23+M23+N23+O23+P23 -> 0 | T23: =S23 -> 0
A24: 14 | B24: Kỹ thuật làm bánh | C24: 5810210 | D24: 6810210 | E24: Khách sạn, nhà hàng | F24: 50 | G24: 50 | H24: =F24+G24 -> 100 | J24: 73 | K24: 14 | Q24: =SUM(I24:P24) -> 87 | R24: =SUM(I24:J24) -> 73 | S24: =K24+M24+N24+O24+P24 -> 14 | T24: =S24 -> 14
A25: 4. CHỈ TIÊU TỔNG CỘNG CỦA NHÓM | F25: =SUM(F21:F24) -> 120 | G25: =SUM(G21:G24) -> 120 | H25: =SUM(H21:H24) -> 240 | I25: =SUM(I21:I24) -> 0 | J25: =SUM(J21:J24) -> 183 | K25: =SUM(K21:K24) -> 67 | L25: =SUM(L21:L24) -> 0 | M25: =SUM(M21:M24) -> 0 | ... Q25: =SUM(Q21:Q24) -> 250
A26: 15 | B26: Quản lý xây dựng | D26: 6580301 | E26: Quản lý xây dựng | G26: 70 | H26: =F26+G26 -> 70 | Q26: =SUM(I26:P26) -> 0 | R26: =SUM(I26:J26) -> 0 | S26: =K26+M26+N26+O26+P26 -> 0 | T26: =S26 -> 0
A27: 5. CHỈ TIÊU TỔNG CỘNG CỦA NHÓM | G27: =SUM(G26) -> 70 | H27: =SUM(H26) -> 70 | I27: =SUM(I26) -> 0 | J27: =SUM(J26) -> 0 | K27: =SUM(K26) -> 0 | L27: =SUM(L26) -> 0 | M27: =SUM(M26) -> 0 | N27: =SUM(N26) -> 0 | ... P27: =SUM(P26) -> 0 | Q27: =Q26 -> 0
A28: 16 | B28: Kỹ thuật xây dựng | C28: 5580201 | D28: 6580201 | E28: Xây dựng | F28: 60 | G28: 60 | H28: =F28+G28 -> 120 | J28: 18 | K28: 46 | Q28: =SUM(I28:P28) -> 64 | R28: =SUM(I28:J28) -> 18 | S28: =K28+M28+N28+O28+P28 -> 46 | T28: =S28 -> 46
A29: 6. CHỈ TIÊU TỔNG CỘNG CỦA NHÓM | F29: =SUM(F28) -> 60 | G29: =SUM(G28) -> 60 | H29: =SUM(H28) -> 120 | I29: =SUM(I28) -> 0 | J29: =SUM(J28) -> 18 | K29: =SUM(K28) -> 46 | L29: =SUM(L28) -> 0 | M29: =SUM(M28) -> 0 | ... P29: =SUM(P28) -> 0 | Q29: =Q28 -> 64
A30: 17 | B30: Kế toán doanh nghiệp | C30: 5340302 | D30: 6340302 | E30: Kế toán - Kiểm toán | F30: 65 | G30: 160 | H30: =F30+G30 -> 225 | J30: 64 | K30: 60 | Q30: =SUM(I30:P30) -> 124 | R30: =SUM(I30:J30) -> 64 | S30: =K30+M30+N30+O30+P30 -> 60 | T30: =S30 -> 60
A31: 7. CHỈ TIÊU TỔNG CỘNG CỦA NHÓM | F31: =SUM(F30) -> 65 | G31: =SUM(G30) -> 160 | H31: =SUM(H30) -> 225 | I31: =SUM(I30) -> 0 | J31: =SUM(J30) -> 64 | K31: =SUM(K30) -> 60 | L31: =SUM(L30) -> 0 | M31: =SUM(M30) -> 0 | ... P31: =SUM(P30) -> 0 | Q31: =Q30 -> 124
A32: 18 | B32: Logistics | C32: 5340113 | D32: 6340113 | E32: Kinh doanh | F32: 30 | G32: 60 | H32: =F32+G32 -> 90 | J32: 34 | K32: 36 | Q32: =SUM(I32:P32) -> 70 | R32: =SUM(I32:J32) -> 34 | S32: =K32+M32+N32+O32+P32 -> 36 | T32: =S32 -> 36
A33: 19 | B33: Thương mại điện tử | C33: 5340122 | D33: 6340122 | E33: Kinh doanh | F33: 50 | G33: 75 | H33: =F33+G33 -> 125 | J33: 47 | K33: 17 | Q33: =SUM(I33:P33) -> 64 | R33: =SUM(I33:J33) -> 47 | S33: =K33+M33+N33+O33+P33 -> 17 | T33: =S33 -> 17
A34: 8. CHỈ TIÊU TỔNG CỘNG CỦA NHÓM | F34: =SUM(F32:F33) -> 80 | G34: =SUM(G32:G33) -> 135 | H34: =SUM(H32:H33) -> 215 | I34: =SUM(I32:I33) -> 0 | J34: =SUM(J32:J33) -> 81 | K34: =SUM(K32:K33) -> 53 | L34: =SUM(L32:L33) -> 0 | M34: =SUM(M32:M33) -> 0 | ... Q34: =SUM(Q32:Q33) -> 134
A35: 20 | B35: Quản trị doanh nghiệp vừa và nhỏ | C35: 5340417 | D35: 6340417 | E35: Quản trị - Quản lý | F35: 65 | G35: 160 | H35: =F35+G35 -> 225 | J35: 83 | K35: 123 | Q35: =SUM(I35:P35) -> 206 | R35: =SUM(I35:J35) -> 83 | S35: =K35+M35+N35+O35+P35 -> 123 | T35: =S35 -> 123
A36: 9. CHỈ TIÊU TỔNG CỘNG CỦA NHÓM | F36: =SUM(F35) -> 65 | G36: =SUM(G35) -> 160 | H36: =SUM(H35) -> 225 | I36: =SUM(I35) -> 0 | J36: =SUM(J35) -> 83 | K36: =SUM(K35) -> 123 | L36: =SUM(L35) -> 0 | M36: =SUM(M35) -> 0 | ... P36: =SUM(P35) -> 0 | Q36: =Q35 -> 206
A37: 21 | B37: Tài chính doanh nghiệp | C37: 5340201 | D37: 6340201 | E37: Tài chính - Ngân hàng - Bảo hiểm | F37: 65 | G37: 160 | H37: =F37+G37 -> 225 | J37: 30 | K37: 21 | Q37: =SUM(I37:P37) -> 51 | R37: =SUM(I37:J37) -> 30 | S37: =K37+M37+N37+O37+P37 -> 21 | T37: =S37 -> 21
A38: 10. CHỈ TIÊU TỔNG CỘNG CỦA NHÓM | F38: =SUM(F37) -> 65 | G38: =SUM(G37) -> 160 | H38: =SUM(H37) -> 225 | I38: =SUM(I37) -> 0 | J38: =SUM(J37) -> 30 | K38: =SUM(K37) -> 21 | L38: =SUM(L37) -> 0 | M38: =SUM(M37) -> 0 | ... P38: =SUM(P37) -> 0 | Q38: =Q37 -> 51
A39: 22 | B39: Chế tạo khuôn mẫu | C39: 5520105 | D39: 6520105 | E39: Kỹ thuật cơ khí và cơ kỹ thuật | F39: 30 | G39: 60 | H39: =F39+G39 -> 90 | Q39: =SUM(I39:P39) -> 0 | R39: =SUM(I39:J39) -> 0 | S39: =K39+M39+N39+O39+P39 -> 0 | T39: =S39 -> 0
A40: 23 | B40: Lắp đặt thiết bị lạnh | C40: 5520114 | D40: 6520114 | E40: Kỹ thuật cơ khí và cơ kỹ thuật | F40: 75 | G40: 110 | H40: =F40+G40 -> 185 | Q40: =SUM(I40:P40) -> 0 | R40: =SUM(I40:J40) -> 0 | S40: =K40+M40+N40+O40+P40 -> 0 | T40: =S40 -> 0
A41: 24 | B41: Cắt gọt kim loại | C41: 5520121 | D41: 6520121 | E41: Kỹ thuật cơ khí và cơ kỹ thuật | F41: 65 | G41: 110 | H41: =F41+G41 -> 175 | Q41: =SUM(I41:P41) -> 0 | R41: =SUM(I41:J41) -> 0 | S41: =K41+M41+N41+O41+P41 -> 0 | T41: =S41 -> 0
...

Sheet 22
A1: UBND THÀNH PHỐ HỒ CHÍ MINH | E1: CỘNG HÒA XÃ HỘI CHỦ NGHĨA VIỆT NAM
A2: TRƯỜNG CAO ĐẲNG LÝ TỰ TRỌNG | E2: Độc lập - Tự do - Hạnh phúc
A3: THÀNH PHỐ HỒ CHÍ MINH
A5: TỔNG HỢP NGÀNH NGHỀ ĐÀO TẠO THEO NHÓM MÃ NGÀNH CẤP III THÔNG TƯ 26/2020 CỦA BỘ LAO ĐỘNG - THƯƠNG BINH VÀ XÃ HỘI
A6: TT | B6: TÊN NGÀNH CẤP IV | C6: MÃ NGÀNH/NGHỀ CẤP IV | E6: TÊN NGÀNH CẤP III | F6: Chỉ tiêu tuyển sinh 2022 | H6: TỔNG CỘNG CHỈ TIÊU 2022 | I6: Tuyển sinh 2022
C7: Trung cấp | D7: Cao đẳng | F7: Trung cấp | G7: Cao đẳng | I7: T2 | J7: T4 | K7: C1 | L7: C2 | M7: C2 | N7: C2B | O7: C3 | P7: C5 | Q7: C6 | R7: C7 | S7: TỔNG | T7: TC | U7: CĐ
A8: 1 | B8: Công nghệ kỹ thuật cơ khí | C8: 5510201 | D8: 6510201 | E8: Công nghệ kỹ thuật cơ khí | F8: 90 | G8: 280 | H8: =F8+G8 -> 370 | J8: 73 | K8: 242 | L8: 51 | M8: 52 | N8: 39 | O8: 19 | R8: 20 | S8: =I8+J8+K8+M8+N8+O8+Q8+R8 -> 445 | T8: =SUM(I8:J8) -> 73 | U8: =K8+M8+N8+O8+P8+Q8+R8 -> 372
A9: 2 | B9: Công nghệ kỹ thuật nhiệt | C9: 5510211 | D9: 6510211 | E9: Công nghệ kỹ thuật cơ khí | F9: 65 | G9: 150 | H9: =F9+G9 -> 215 | J9: 0 | K9: 20 | S9: =I9+J9+K9+M9+N9+O9+Q9+R9 -> 20 | T9: =SUM(I9:J9) -> 0 | U9: =K9+M9+N9+O9+P9+Q9+R9 -> 20
A10: 3 | B10: Công nghệ chế tạo máy | C10: 5510212 | D10: 6510212 | E10: Công nghệ kỹ thuật cơ khí | F10: 100 | G10: 140 | H10: =F10+G10 -> 240 | J10: 33 | K10: 54 | N10: 32 | S10: =I10+J10+K10+M10+N10+O10+Q10+R10 -> 119 | T10: =SUM(I10:J10) -> 33 | U10: =K10+M10+N10+O10+P10+Q10+R10 -> 86
A11: 4 | B11: Công nghệ ô tô | C11: 5510216 | D11: 6510216 | E11: Công nghệ kỹ thuật cơ khí | F11: 205 | G11: 520 | H11: =F11+G11 -> 725 | I11: 32 | J11: 330 | K11: 566 | L11: 62 | M11: 64 | N11: 144 | O11: 116 | Q11: 18 | S11: =I11+J11+K11+M11+N11+O11+Q11+R11 -> 1270 | T11: =SUM(I11:J11) -> 362 | U11: =K11+M11+N11+O11+P11+Q11+R11 -> 908
A12: 1. CHỈ TIÊU TỔNG CỘNG CỦA NHÓM | F12: =SUM(F8:F11) -> 460 | G12: =SUM(G8:G11) -> 1090 | H12: =SUM(H8:H11) -> 1550 | I12: =SUM(I8:I11) -> 32 | J12: =SUM(J8:J11) -> 436 | K12: =SUM(K8:K11) -> 882 | L12: =SUM(L8:L11) -> 113 | M12: =SUM(M8:M11) -> 116 | ... S12: =SUM(S8:S11) -> 1854
A13: 5 | B13: Công nghệ kỹ thuật điện, điện tử | C13: 5510303 | D13: 6510303 | E13: Công nghệ kỹ thuật điện, điện tử và viễn thông | F13: 85 | G13: 190 | H13: =F13+G13 -> 275 | J13: 52 | K13: 58 | N13: 27 | S13: =I13+J13+K13+M13+N13+O13+Q13+R13 -> 137 | T13: =SUM(I13:J13) -> 52 | U13: =K13+M13+N13+O13+P13+Q13+R13 -> 85
A14: 6 | B14: Công nghệ kỹ thuật điều khiển và tự động hóa | D14: 6510305 | E14: Công nghệ kỹ thuật điện, điện tử và viễn thông | G14: 120 | H14: =F14+G14 -> 120 | K14: 45 | S14: =I14+J14+K14+M14+N14+O14+Q14+R14 -> 45 | T14: =SUM(I14:J14) -> 0 | U14: =K14+M14+N14+O14+P14+Q14+R14 -> 45
A15: 7 | B15: Công nghệ kỹ thuật điều khiển tự động | C15: 5510305 | E15: Công nghệ kỹ thuật điện, điện tử và viễn thông | F15: 70 | H15: =F15+G15 -> 70 | J15: 27 | S15: =I15+J15+K15+M15+N15+O15+Q15+R15 -> 27 | T15: =SUM(I15:J15) -> 27 | U15: =K15+M15+N15+O15+P15+Q15+R15 -> 0
A16: 8 | B16: Công nghệ kỹ thuật điện tử, truyền thông | C16: 5510312 | D16: 6510312 | E16: Công nghệ kỹ thuật điện, điện tử và viễn thông | F16: 85 | G16: 115 | H16: =F16+G16 -> 200 | J16: 0 | S16: =I16+J16+K16+M16+N16+O16+Q16+R16 -> 0 | T16: =SUM(I16:J16) -> 0 | U16: =K16+M16+N16+O16+P16+Q16+R16 -> 0
A17: 2. CHỈ TIÊU TỔNG CỘNG CỦA NHÓM | F17: =SUM(F13:F16) -> 240 | G17: =SUM(G13:G16) -> 425 | H17: =SUM(H13:H16) -> 665 | I17: =SUM(I13:I16) -> 0 | J17: =SUM(J13:J16) -> 79 | K17: =SUM(K13:K16) -> 103 | L17: =SUM(L13:L16) -> 0 | M17: =SUM(M13:M16) -> 0 | ... S17: =SUM(S13:S16) -> 209
A18: 9 | B18: Quản trị lữ hành | C18: 5810104 | D18: 6810104 | E18: Du lịch | F18: 50 | G18: 50 | H18: =F18+G18 -> 100 | J18: 0 | K18: 17 | S18: =I18+J18+K18+M18+N18+O18+Q18+R18 -> 17 | T18: =SUM(I18:J18) -> 0 | U18: =K18+M18+N18+O18+P18+Q18+R18 -> 17
A19: 10 | B19: Quản trị du lịch MICE | C19: 5810105 | D19: 6810105 | E19: Du lịch | F19: 50 | G19: 50 | H19: =F19+G19 -> 100 | J19: 28 | S19: =I19+J19+K19+M19+N19+O19+Q19+R19 -> 28 | T19: =SUM(I19:J19) -> 28 | U19: =K19+M19+N19+O19+P19+Q19+R19 -> 0
A20: 3. CHỈ TIÊU TỔNG CỘNG CỦA NHÓM | F20: =SUM(F18:F19) -> 100 | G20: =SUM(G18:G19) -> 100 | H20: =SUM(H18:H19) -> 200 | I20: =SUM(I18:I19) -> 0 | J20: =SUM(J18:J19) -> 28 | K20: =SUM(K18:K19) -> 17 | L20: =SUM(L18:L19) -> 0 | M20: =SUM(M18:M19) -> 0 | ... S20: =SUM(S18:S19) -> 45
A21: 11 | B21: Quản trị khách sạn | C21: 5810201 | D21: 6810201 | E21: Khách sạn, nhà hàng | F21: 35 | G21: 35 | H21: =F21+G21 -> 70 | J21: 45 | K21: 33 | S21: =I21+J21+K21+M21+N21+O21+Q21+R21 -> 78 | T21: =SUM(I21:J21) -> 45 | U21: =K21+M21+N21+O21+P21+Q21+R21 -> 33
A22: 12 | B22: Quản trị nhà hàng | D22: 6810206 | E22: Khách sạn, nhà hàng | G22: 35 | H22: =F22+G22 -> 35 | K22: 29 | S22: =I22+J22+K22+M22+N22+O22+Q22+R22 -> 29 | T22: =SUM(I22:J22) -> 0 | U22: =K22+M22+N22+O22+P22+Q22+R22 -> 29
A23: 13 | B23: Nghiệp vụ nhà hàng | C23: 5810206 | E23: Khách sạn, nhà hàng | F23: 35 | H23: =F23+G23 -> 35 | J23: 51 | S23: =I23+J23+K23+M23+N23+O23+Q23+R23 -> 51 | T23: =SUM(I23:J23) -> 51 | U23: =K23+M23+N23+O23+P23+Q23+R23 -> 0
A24: 14 | B24: Kỹ thuật làm bánh | C24: 5810210 | D24: 6810210 | E24: Khách sạn, nhà hàng | F24: 50 | G24: 50 | H24: =F24+G24 -> 100 | J24: 99 | K24: 18 | S24: =I24+J24+K24+M24+N24+O24+Q24+R24 -> 117 | T24: =SUM(I24:J24) -> 99 | U24: =K24+M24+N24+O24+P24+Q24+R24 -> 18
A25: 4. CHỈ TIÊU TỔNG CỘNG CỦA NHÓM | F25: =SUM(F21:F24) -> 120 | G25: =SUM(G21:G24) -> 120 | H25: =SUM(H21:H24) -> 240 | I25: =SUM(I21:I24) -> 0 | J25: =SUM(J21:J24) -> 195 | K25: =SUM(K21:K24) -> 80 | L25: =SUM(L21:L24) -> 0 | M25: =SUM(M21:M24) -> 0 | ... S25: =SUM(S21:S24) -> 275
A26: 15 | B26: Quản lý xây dựng | D26: 6580301 | E26: Quản lý xây dựng | G26: 70 | H26: =F26+G26 -> 70 | S26: =I26+J26+K26+M26+N26+O26+Q26+R26 -> 0 | T26: =SUM(I26:J26) -> 0 | U26: =K26+M26+N26+O26+P26+Q26+R26 -> 0
A27: 5. CHỈ TIÊU TỔNG CỘNG CỦA NHÓM | G27: =SUM(G26) -> 70 | H27: =SUM(H26) -> 70 | I27: =SUM(I26) -> 0 | J27: =SUM(J26) -> 0 | K27: =SUM(K26) -> 0 | L27: =SUM(L26) -> 0 | M27: =SUM(M26) -> 0 | N27: =SUM(N26) -> 0 | ... R27: =SUM(R26) -> 0 | S27: =S26 -> 0
A28: 16 | B28: Kỹ thuật xây dựng | C28: 5580201 | D28: 6580201 | E28: Xây dựng | F28: 60 | G28: 60 | H28: =F28+G28 -> 120 | J28: 22 | K28: 35 | L28: 1 | N28: (10) | S28: =I28+J28+K28+M28+O28+Q28+R28 -> 57 | T28: =SUM(I28:J28) -> 22 | U28: =K28+M28+O28+P28+Q28+R28 -> 35
A29: 6. CHỈ TIÊU TỔNG CỘNG CỦA NHÓM | F29: =SUM(F28) -> 60 | G29: =SUM(G28) -> 60 | H29: =SUM(H28) -> 120 | I29: =SUM(I28) -> 0 | J29: =SUM(J28) -> 22 | K29: =SUM(K28) -> 35 | L29: =SUM(L28) -> 1 | M29: =SUM(M28) -> 0 | ... R29: =SUM(R28) -> 0 | S29: =S28 -> 57
A30: 17 | B30: Kế toán doanh nghiệp | C30: 5340302 | D30: 6340302 | E30: Kế toán - Kiểm toán | F30: 65 | G30: 160 | H30: =F30+G30 -> 225 | J30: 54 | K30: 60 | L30: 34 | M30: 36 | N30: 57 | S30: =I30+J30+K30+M30+N30+O30+Q30+R30 -> 207 | T30: =SUM(I30:J30) -> 54 | U30: =K30+M30+N30+O30+P30+Q30+R30 -> 153
