Workbook
Name BDMTK: #REF!
Name BDMTK: #REF!
Name BDMTK: #REF!
Name BDMTK: #REF!
Name BDMTK: #REF!
Name BDMTK: #REF!
Name FERGE: #REF!
Name FERGE: #REF!
Name FERGE: #REF!
Name FERGE: #REF!
Name LAPPHIEUTHUCHI: #REF!
Name LAPPHIEUTHUCHI: #REF!
Name LAPPHIEUTHUCHI: #REF!
Name LAPPHIEUTHUCHI: #REF!
Name LAPPHIEUTHUCHI: #REF!
Name LAPPHIEUTHUCHI: #REF!
Name sktm: #REF!
Name sktm: #REF!
Name sktm: #REF!
Name sktm: #REF!
Name SLTDK: #REF!
Name SLTDK: #REF!
Name SLTDK: #REF!
Name SLTDK: #REF!
Name SLTDK: #REF!
Name SLTDK: #REF!
Name SODDK: #REF!
Name SODDK: #REF!
Name SODDK: #REF!
Name SODDK: #REF!
Name SODDK: #REF!
Name SODDK: #REF!
Name SOHIEUTK: #REF!
Name SOHIEUTK: #REF!
Name SOHIEUTK: #REF!
Name SOHIEUTK: #REF!
Name SOHIEUTK: #REF!
Name SOHIEUTK: #REF!
Name SOKTMAY: #REF!
Name SOKTMAY: #REF!
Name SOKTMAY: #REF!
Name SOKTMAY: #REF!
Name SOKTMAY: #REF!
Name SOKTMAY: #REF!
Name SOLUONGPS: #REF!
Name SOLUONGPS: #REF!
Name SOLUONGPS: #REF!
Name SOLUONGPS: #REF!
Name SOLUONGPS: #REF!
Name SOLUONGPS: #REF!
Name SOPHIEUTHUCHI: #REF!
Name SOPHIEUTHUCHI: #REF!
Name SOPHIEUTHUCHI: #REF!
Name SOPHIEUTHUCHI: #REF!
Name SOPHIEUTHUCHI: #REF!
Name SOPHIEUTHUCHI: #REF!
Name SOTIENPS: #REF!
Name SOTIENPS: #REF!
Name SOTIENPS: #REF!
Name SOTIENPS: #REF!

Sheet KH
A1: Đơn vị: Công ty TNHH Thanh Minh
A2: Địa chỉ: 45/9- Phạm Văn Chiêu- F.14- Q.Gò Vấp- TP.HCM
A5: DANH MỤC KHÁCH HÀNG
A7: STT | B7: Số hiệu tài khoản | C7: Mã KH | D7: Tên khách hàng | E7: Mã số thuế | F7: Địa chỉ | G7: Loại
A8: A | B8: B | C8: C | D8: D | E8: E | F8: F | G8: G
A9: 1 | B9: 131.01 | C9: SIFA | D9: CÔNG TY TNHH THỜI TRANG SIFA | E9: 0312174530 | F9: 111 Ngô Tất Tố, P.22, Q. Bình Thạnh, TP.HCM | G9: KH
A10: 2 | B10: 131.02 | C10: NAMKHANH | D10: CÔNG TY TNHH MTV NAM KHÁNH | E10: 031442912 | F10: 28 Lê Đức Thọ, P.15, Q. Gò Vấp, TP.HCM | G10: KH
A11: 3 | B11: 131.03 | C11: PHONGPHU | D11: CÔNG TY CP DỆT MAY PHONG PHÚ | E11: 0303112489 | F11: 48 Man Thiện, P. Tăng Nhơn Phú B, Q.9, TP. HCM | G11: KH
A12: 4 | B12: 131.04 | C12: TUYETOANH | D12: CÔNG TY TNHH TUYẾT OANH | E12: 302046346 | F12: 134 Lê Văn Khương, P. Hiệp Thành, Q.12, TP.HCM | G12: KH

Sheet NCC
A1: Đơn vị: Công ty TNHH Thanh Minh
A2: Địa chỉ: 45/9- Phạm Văn Chiêu- F.14- Q.Gò Vấp- TP.HCM
A4: DANH MỤC NHÀ CUNG CẤP
A6: STT | B6: Số hiệu tài khoản | C6: Mã NCC | D6: Tên Nhà cung cấp | E6: Mã số thuế | F6: Địa chỉ
A7: A | B7: B | C7: C | D7: D | E7: E | F7: F
A8: 1 | B8: 331.01 | C8: PHONGPHU | D8: CÔNG TY CP DỆT MAY PHONG PHÚ | E8: 0303112489 | F8: 48 Man Thiện, P. Tăng Nhơn Phú B, Q.9, TP. HCM
A9: 2 | B9: 331.02 | C9: PHUTHE | D9: CÔNG TY TNHH TMSX PHÚ THẾ | E9: 0310584267 | F9: 34 Nguyễn Thái Sơn, P.8, Q. Gò Vấp, TP.HCM
A10: 3 | B10: 331.03 | C10: LANTAN | D10: CÔNG TY TNHH LAN TÂN | E10: 3700257623 | F10: 59 Phạm Văn Chiêu, P.14, Q. Gò Vấp, TP.HCM
A11: 4 | B11: 331.04 | C11: HAIAU | D11: CÔNG TY TNHH HẢI ÂU | E11: 101275730 | F11: 43 Hoàng Văn Thụ, P.4, Q. Tân Bình, TP.HCM
A12: 5 | B12: 331.05 | C12: PHATMINH | D12: CÔNG TY TNHH PHÁT MINH | E12: 314697399 | F12: 123 Trường Chinh, P.13, Q. Tân Bình, TP.HCM

Sheet NHANVIEN
A1: Đơn vị: Công ty TNHH Thanh Minh
A2: Địa chỉ: 45/9- Phạm Văn Chiêu- F.14- Q.Gò Vấp- TP.HCM
A5: DANH MỤC NHÂN VIÊN
A7: STT | B7: Số hiệu tài khoản | C7: Mã NV | D7: Tên nhân viên | E7: Ngày tháng năm sinh | F7: Quê quán | G7: số CMND | H7: Mã số thuế | I7: Địa chỉ | J7: Phòng ban | K7: Chức vụ | L7: Lương Thỏa thuận | M7: Số người phụ thuộc
A8: A | B8: B | C8: C | D8: D | E8: E | F8: F | G8: G | H8: H | I8: I | J8: K | K8: L | L8: M | M8: O
A9: 1 | B9: 141.01 | C9: NTHOA | D9: Nguyễn Thị Hoa | J9: P.GĐ | K9: GĐ | L9: 25000000 | M9: 2
A10: 2 | B10: 141.02 | C10: LTTANH | D10: Lê Thị Tú Anh | J10: P.GĐ | K10: PGĐ | L10: 20000000 | M10: 2
A11: 3 | B11: 141.03 | C11: DTTHAO | D11: Đặng Thị Thảo | J11: P.HC-TH | K11: TP | L11: 18000000 | M11: 2
A12: 4 | B12: 141.04 | C12: DHANH | D12: Đặng Hồng Anh | J12: P.HC-TH | K12: NV | L12: 10000000
A13: 5 | B13: 141.05 | C13: TNNGAN | D13: Trần Ngọc Ngân | J13: P.HC-TH | K13: NV | L13: 10000000
A14: 6 | B14: 141.06 | C14: DLPHUONG | D14: Đào Lan Phương | J14: P.KẾ TOÁN | K14: KTT | L14: 18000000
A15: 7 | B15: 141.07 | C15: NTBINH | D15: Ngô Thanh Bình | J15: P.KẾ TOÁN | K15: KT | L15: 10000000
A16: 8 | B16: 141.08 | C16: TVLUONG | D16: Trần Văn Lương | J16: P.KHO | K16: TP | L16: 18000000 | M16: 2
A17: 9 | B17: 141.09 | C17: BVTAM | D17: Bùi Văn Tâm | J17: P.KHO | K17: NV | L17: 12000000
A18: 10 | B18: 141.10 | C18: LMCHI | D18: Lê Minh Chí | J18: P.KD | K18: NVKD | L18: 12000000
A19: 11 | B19: 141.11 | C19: THNAM | D19: Trần Hoài Nam | J19: P.KD | K19: NVKD | L19: 12000000
A20: 12 | B20: 141.12 | C20: TDCHI | D20: Trần Đức Chí | J20: P.KD | K20: NVKD | L20: 12000000
A21: 13 | B21: 141.13 | C21: LTTAM | D21: Lê Thanh Tâm | J21: P.KD | K21: NVKD | L21: 12000000 | M21: 1
A22: 14 | B22: 141.14 | C22: PTTHAP | D22: Phạm Thế Thập | J22: P.QLSX | K22: QLSX | L22: 10000000
A23: 15 | B23: 141.15 | C23: HVHIEP | D23: Hà Văn Hiệp | J23: BPSX | K23: CNSX | L23: 8000000 | M23: 1
A24: 16 | B24: 141.16 | C24: BNKHOA | D24: Bùi Ngọc Khoa | J24: BPSX | K24: CNSX | L24: 8000000
A25: 17 | B25: 141.17 | C25: NPLAN | D25: Nguyễn Phong Lan | J25: BPSX | K25: CNSX | L25: 8000000
A26: 18 | B26: 141.18 | C26: HVTOAN | D26: Hà Văn Toàn | J26: BPSX | K26: CNSX | L26: 8000000
A27: 19 | B27: 141.19 | C27: HVMINH | D27: Hà Văn Minh | J27: BPSX | K27: CNSX | L27: 8000000 | M27: 1
A28: 20 | B28: 141.20 | C28: NQDUNG | D28: Ngô Quốc Dũng | J28: BPSX | K28: CNSX | L28: 8000000
A29: 21 | B29: 141.21 | C29: PTHONG | D29: Phạm Thái Hồng | J29: BPSX | K29: CNSX | L29: 8000000
A30: 22 | B30: 141.22 | C30: DVTAN | D30: Dương Văn Tần | J30: BPSX | K30: CNSX | L30: 8000000

Sheet TKNH
A1: Đơn vị: Công ty TNHH Thanh Minh
A2: Địa chỉ: 45/9- Phạm Văn Chiêu- F.14- Q.Gò Vấp- TP.HCM
A4: DANH MỤC TÀI KHOẢN NGÂN HÀNG
A6: STT | B6: Số hiệu tài khoản | C6: Số tài khoản ngân hàng | D6: Tên ngân hàng | E6: Chi nhánh của ngân hàng
A7: A | B7: B | C7: C | D7: D | E7: E
A8: 1 | B8: 1121.01 | C8: 6160205106787 | D8: Ngân hàng Nông nghiệp và Phát triển Nông thôn | E8: Chi nhánh Gò Vấp- TP.HCM
A9: 2 | B9: 1121.02 | C9: 0071005751869 | D9: Ngân hàng TM CP Ngoại thương Việt Nam | E9: Chi nhánh Gò Vấp- TP.HCM

Sheet HTK
A1: Đơn vị: Công ty TNHH Thanh Minh
A2: Địa chỉ: 45/9- Phạm Văn Chiêu- F.14- Q.Gò Vấp- TP.HCM
A4: DANH MỤC NGUYÊN VẬT LIỆU
A6: STT | B6: Số hiệu tài khoản | C6: Mã hàng | D6: Tên hàng | E6: ĐVT
A7: A | B7: B | C7: C | D7: D | E7: E
A8: I | B8: DANH MỤC NGUYÊN VẬT LIỆU
A9: 1 | B9: 1521.01 | C9: KAKI | D9: Vải KAKI | E9: Mét
A10: 2 | B10: 1521.02 | C10: COTTON | D10: Vải COTTON | E10: Mét
A11: 3 | B11: 1521.03 | C11: CHI | D11: Chỉ | E11: Cuộn
A12: II | B12: DANH MỤC CÔNG CỤ DỤNG CỤ
A13: 1 | B13: 153.01 | C13: KIM | D13: Kim | E13: Hộp
A14: 2 | B14: 153.02 | C14: KEO | D14: Kéo | E14: Cái
A15: III | B15: DANH MỤC THÀNH PHẨM
A16: 1 | B16: 155.01 | C16: QNAM | D16: Quần Nam | E16: Cái
A17: 2 | B17: 155.02 | C17: QNU | D17: Quần Nữ | E17: Cái
A18: 3 | B18: 155.03 | C18: ANAM | D18: Áo Sơ mi nam | E18: Cái
A19: 4 | B19: 155.04 | C19: ANU | D19: Áo Sơ mi nữ | E19: Cái
A20: IV | B20: DANH MỤC HÀNG HÓA
A21: 1 | B21: 1561.01 | C21: CHUOT | D21: Chuột quang | E21: Cái
A22: 2 | B22: 1561.02 | C22: CPU | D22: CPU | E22: Cái
A23: 3 | B23: 1561.03 | C23: MHINH | D23: Màn hình | E23: Cái
A24: 4 | B24: 1561.04 | C24: BPHIM | D24: Bàn phím | E24: Cái

Sheet DINH KHOAN
A1: Đơn vị: Công ty TNHH Thanh Minh
A2: Địa chỉ: 45/9- Phạm Văn Chiêu- F.14- Q.Gò Vấp- TP.HCM
A4: ĐỊNH KHOẢN CÁC NGHIỆP VỤ KINH TẾ PHÁT SINH THÁNG 01/2024
A6: Câu 1:
B7: Nợ TK 141.09 | D7: 6000000
B8: Có TK 1111 | D8: 6000000 | F8: PC 24
A9: Câu 2:
B10: Nợ TK 242 | D10: 60000000
B11: Nợ TK 133 | D11: 6000000
B12: Có TK 1121.01 | D12: 66000000 | F12: UNC 01
A13: Câu 3:
B14: Nợ TK 1111 | D14: 15000000
B15: Có TK 141.01 | D15: 15000000 | F15: PT 10
A16: Câu 4:
B17: Nợ TK 331.02 | D17: 120000000
B18: Có TK 1121.02 | D18: 120000000 | F18: UNC 02
A19: Câu 5:
B20: Nợ TK 211.01 | D20: 1200000000
B21: Nợ TK 133 | D21: 120000000
B22: Có TK 331.02 | D22: 1320000000
B24: Nợ TK 211.01 | D24: 9000000 | F24: Bảng KHTSCD
B25: Nợ TK 133 | D25: 900000 | F25: BBBG 06
B26: Có TK 1111 | D26: 9900000 | F26: PC 25
A28: Câu 6:
B29: Nợ TK 1121.02 | D29: 1200000000
B30: Có TK 1121.01 | D30: 1200000000 | F30: UNC 03
A32: Câu 7:
B33: Nợ TK 242 | D33: 30000000
B34: Nợ TK 133 | D34: 3000000
B35: Có TK 1121.01 | D35: 33000000 | F35: UNC 04
A37: Câu 8:
B38: Nợ TK 211.02 | D38: 576400000
B39: Nợ TK 133 | D39: =D38*0.1 -> 57640000 | F39: Bảng KHTSCD
B40: Có TK 331.05 | D40: =D38+D39 -> 634040000 | F40: BBBG 124
A42: Câu 9:
B43: Nợ TK 131.02 | D43: =D44+D45 -> 370425000
B44: Có TK 511 | D44: 336750000
B45: Có TK 3331 | D45: =D44*0.1 -> 33675000
B47: Nợ TK 632 | D47: =SUM(D48:D51) -> 271000000
B48: Có TK 1561.01 | D48: =30*BCNXT!J17 -> 3000000
B49: Có TK 1561.02 | D49: =40*BCNXT!J18 -> 160000000
B50: Có TK 1561.04 | D50: =50*BCNXT!J20 -> 8000000 | F50: HĐ 16
B51: Có TK 1561.03 | D51: =50*BCNXT!J19 -> 100000000 | F51: PXK 01
A53: Câu 10:
B54: Nợ TK 131.01 | D54: =D55+D56 -> 737000000
B55: Có TK 511 | D55: 670000000
B56: Có TK 3331 | D56: =D55*0.1 -> 67000000
B58: Nợ TK 632 | D58: =SUM(D59:D62) -> 2.8852886e+08
B59: Có TK 155.01 | D59: =500*BCNXT!J13 -> 1.8168546e+08
B60: Có TK 155.02 | D60: =200*BCNXT!J14 -> 72686054
B61: Có TK 155.03 | D61: =100*BCNXT!J15 -> 12886771 | F61: HĐ 17
B62: Có TK 155.04 | D62: =150*BCNXT!J16 -> 21270581 | F62: PXK 02
A64: Câu 11:
B65: Nợ TK 331.02 | D65: 100000000
B66: Có TK 1121.02 | D66: 100000000 | F66: UNC 04
A68: Câu 12:
B69: Nợ TK 1521.01 | D69: =20000*220000 -> 4400000000
B70: Nợ TK 1521.02 | D70: =10000*55000 -> 550000000
B71: Nợ TK 1521.03 | D71: =2500*30000 -> 75000000
B72: Nợ TK 133 | D72: =SUM(D69:D71)*10% -> 502500000
B73: Có TK 331.01 | D73: =SUM(D69:D72) -> 5527500000 | F73: PNK 01
A75: Câu 13:
B76: Nợ TK 242 | D76: 40000000
B77: Nợ TK 133 | D77: 4000000
B78: Có TK 331.03 | D78: 44000000 | F78: Theo dõi sổ CCDC
A80: Câu 14:
B81: Nợ TK 131.04 | D81: 660000000
B82: Có TK 711 | D82: 600000000
B83: Có TK 3331 | D83: 60000000
B85: Nợ TK 214 | D85: 340000000
B86: Nợ TK 811 | D86: 510000000 | F86: HĐ 18
B87: Có TK 211 | D87: 850000000 | F87: BBTL
A89: Câu 15:
B91: Nợ TK 621.01 | D91: =D92+D93 -> 7.5785714e+08
B92: Có TK 1521.01 | D92: =3000*BCNXT!J8 -> 640000000
B93: Có TK 1521.03 | D93: =2500*BCNXT!J10 -> 1.1785714e+08
B95: Nợ TK 621.02 | D95: =D96+D97 -> 7.1071429e+08
B96: Có TK 1521.01 | D96: =3000*BCNXT!J8 -> 640000000
B97: Có TK 1521.03 | D97: =1500*BCNXT!J10 -> 70714286
B99: Nợ TK 621.03 | D99: =D100+D101 -> 2.5214286e+08
B100: Có TK 1521.02 | D100: =2000*BCNXT!J9 -> 205000000
B101: Có TK 1521.03 | D101: =1000*BCNXT!J10 -> 47142857
B103: Nợ TK 621.04 | D103: =D104+D105 -> 5.0428571e+08
B104: Có TK 1521.02 | D104: =4000*BCNXT!J9 -> 410000000
B105: Có TK 1521.03 | D105: =2000*BCNXT!J10 -> 94285714 | F105: PXK 03
A107: Câu 16:
B108: Nợ TK 641 | D108: 5000000
B109: Nợ TK 642 | D109: 10000000
B110: Nợ TK 627 | D110: 25000000
B111: Nợ TK 133 | D111: 4000000
B112: Có TK 1111 | D112: 44000000 | F112: PC 37
A114: Câu 17:
B115: Nợ TK 642 | D115: 9000000
B116: Nợ TK 133 | D116: 900000
B117: Có TK 1111 | D117: 9900000 | F117: PC 38
A119: Câu 18:
B120: Nợ TK 622 | D120: =LUONG2!L11 -> 74396296
B121: Nợ TK 627 | D121: =LUONG2!L9 -> 12275000 | G121: 627 | H121: =D121+D127+D110 -> 38325000
B122: Nợ TK 641 | D122: =LUONG1!L20 -> 53958334 | G122: 622 | H122: =D120+D126 -> 81116296
B123: Nợ TK 642 | D123: =LUONG1!L10 -> 168210185
...

Sheet Bang PB TL va BHXH
A1: Đơn vị: Công ty TNHH Thanh Minh | J1: Mẫu số: 11 - LĐTL
A2: Địa chỉ: 45/9- Phạm Văn Chiêu- F.14- Q.Gò Vấp- TP.HCM | J2: (Ban hành theo Thông tư số 200/2014/TT - BTC
J3: Ngày 22/12/2014 của Bộ Tài chính)
J4: Số:…………………..
A5: BẢNG PHÂN BỔ TIỀN LƯƠNG VÀ BẢO HIỂM XÃ HỘI
A6: Tháng 01 năm 2024
K7: ĐVT: Đồng
A8: Số TT | B8: Ghi Có tài khoản | D8: TK 334 - Phải trả người lao động | G8: TK 338 - Phải trả, phải nộp khác | L8: Tổng Cộng
B9: Đối tượng sử dụng (Ghi Nợ các tài khoản) | D9: Lương | E9: Các khoản khác | F9: Cộng Có TK 334 | G9: Kinh phí công đoàn | H9: Bảo hiểm xã hội | I9: Bảo hiểm y tế | J9: Bảo hiểm thất nghiệp | K9: Cộng Có TK 338 (3382,3383, 3384;3386)
A10: A | B10: B | D10: 1 | E10: 2 | F10: 3 | G10: 4 | H10: 5 | I10: 6 | J10: 7 | K10: 8 | L10: 9
A11: 1 | B11: TK 642 - Chi phí quản lý doanh nghiệp | D11: 141000000 | E11: 0 | F11: =D11+E11 -> 141000000 | G11: =F11*2% -> 2820000 | H11: =D11*17.5% -> 24675000 | I11: =D11*3% -> 4230000 | J11: =D11*1% -> 1410000 | K11: =SUM(G11:J11) -> 33135000 | L11: =F11+K11 -> 174135000
A12: 2 | B12: TK 641 - Chi phí bán hàng | D12: 48000000 | E12: 0 | F12: =D12+E12 -> 48000000 | G12: =F12*2% -> 960000 | H12: =D12*17.5% -> 8400000 | I12: =D12*3% -> 1440000 | J12: =D12*1% -> 480000 | K12: =SUM(G12:J12) -> 11280000 | L12: =F12+K12 -> 59280000
A13: 3 | B13: TK 627 - Chi phí sản xuất chung | D13: 10000000 | E13: 0 | F13: =D13+E13 -> 10000000 | G13: =F13*2% -> 200000 | H13: =D13*17.5% -> 1750000 | I13: =D13*3% -> 300000 | J13: =D13*1% -> 100000 | K13: =SUM(G13:J13) -> 2350000 | L13: =F13+K13 -> 12350000
A14: 4 | B14: TK 622 - Chi phí nhân công trực tiếp | D14: 64000000 | E14: 0 | F14: =D14+E14 -> 64000000 | G14: =F14*2% -> 1280000 | H14: =D14*17.5% -> 11200000 | I14: =D14*3% -> 1920000 | J14: =D14*1% -> 640000 | K14: =SUM(G14:J14) -> 15040000 | L14: =F14+K14 -> 79040000
A15: 5 | B15: TK 334 - Phải trả người lao động | E15: 0 | F15: =D15+E15 -> 0 | H15: =D15*8% -> 0 | I15: =D15*1.5% -> 0 | J15: =D15*1% -> 0 | K15: =SUM(G15:J15) -> 0 | L15: =F15+K15 -> 0
B16: Cộng | D16: =SUM(D11:D15) -> 263000000 | E16: =SUM(E11:E15) -> 0 | F16: =SUM(F11:F15) -> 263000000 | G16: =SUM(G11:G15) -> 5260000 | H16: =SUM(H11:H15) -> 46025000 | I16: =SUM(I11:I15) -> 7890000 | J16: =SUM(J11:J15) -> 2630000 | K16: =SUM(K11:K15) -> 61805000 | L16: =SUM(L11:L15) -> 324805000
J18: Ngày … tháng … năm …
C19: Người lập bảng | J19: Kế toán trưởng
C20: (Ký, họ tên) | J20: (Ký, họ tên)
C25: Ngô Thanh Bình | J25: Nguyễn Thị Hoa

Sheet LUONG1
A1: Đơn vị: Công ty TNHH Thanh Minh | O1: Mẫu số: 02 - LĐTL (Ban hành theo Thông tư số 200/2014/TT-BTC Ngày 22/12/2014 của Bộ Tài chính)
A2: Địa chỉ: 45/9- Phạm Văn Chiêu- F.14- Q.Gò Vấp- TP.HCM
P3: Số:…………..
A4: BẢNG THANH TOÁN TIỀN LƯƠNG | Z4: =15%*U11-750000 -> 405000 | AA4: =Z4-V11 -> -115000 | AC4: =250000+500000+675000*15% -> 851250
A5: Tháng 01 năm 2024
N6: Đơn vị tính:
A7: STT | B7: Họ và tên | C7: Chức vụ | D7: Lương HĐ/ tháng | E7: Ngày công trong tháng | F7: Số ngày công làm việc | G7: Lương Thựctế | H7: Phụ cấp | L7: Tổng lương | M7: Các khoản trích trừ vào lương | Q7: Số người phụ thuộc | R7: Thu nhập chịu thuế TNCN | S7: Giam trừ gia cảnh | U7: Thu nhập tính thuế TNCN | V7: Thuế TNCN | W7: Ký nhận
H8: Thưởng | I8: ăn trưa | J8: Điện thoại | K8: Công tác phí | M8: BHXH (8%) | N8: BHYT (1,5%) | O8: BHTN (1%) | P8: Cộng | S8: Giam trừ bản thân | T8: giảm trừ người phụ thuộc
A9: A | B9: B | C9: C | D9: 1 | E9: 2 | F9: 3 | G9: 4 | H9: 5 | I9: 6 | J9: 7 | K9: 8 | L9: 9 | M9: 10 | N9: 11 | O9: 12 | P9: 13 | Q9: 14 | R9: 15 | U9: 16 | V9: 17 | W9: D
A10: I | B10: Bộ phận Quản lý | D10: =SUBTOTAL(9,D11:D19) -> 141000000 | E10: =SUBTOTAL(9,E11:E19) -> 243 | F10: =SUBTOTAL(9,F11:F19) -> 241 | G10: =SUBTOTAL(9,G11:G19) -> 140259259 | H10: =SUBTOTAL(9,H11:H19) -> 14025926 | I10: =SUBTOTAL(9,I11:I19) -> 6025000 | J10: =SUBTOTAL(9,J11:J19) -> 1400000 | K10: =SUBTOTAL(9,K11:K19) -> 6500000 | ... W10: =SUBTOTAL(9,W11:W19) -> 0
A11: 1 | B11: Nguyễn Thị Hoa | C11: GĐ | D11: 25000000 | E11: 27 | F11: 27 | G11: =ROUND(D11/E11*F11,0) -> 25000000 | H11: =ROUND(D11*10%*F11/E11,0) -> 2500000 | I11: =F11*25000 -> 675000 | J11: 500000 | K11: 2000000 | L11: =SUM(G11:K11) -> 30675000 | M11: =D11*8% -> 2000000 | N11: =D11*1.5% -> 375000 | O11: =D11*1% -> 250000 | P11: =SUM(M11:O11) -> 2625000 | Q11: 2 | R11: =G11+H11 -> 27500000 | S11: 11000000 | T11: 8800000 | U11: =IF(R11-(S11+T11)>0,R11-(S11+T11),0) -> 7700000 | V11: =IF(U11>80000000,35%*U11-9850000,IF(U11>52000000,30%*U11-5850000,IF(U11>32000000,25%*U11-3250000,IF(U11>18000000,20%*U11-1650000,IF(U11>10000000,15%*U11-750000,IF(U11>5000000,10%*U11-250000,5%*U11)))))) -> 520000
A12: 2 | B12: Lê Thị Tú Anh | C12: PGĐ | D12: 20000000 | E12: 27 | F12: 27 | G12: =ROUND(D12/E12*F12,0) -> 20000000 | H12: =ROUND(D12*10%*F12/E12,0) -> 2000000 | I12: =F12*25000 -> 675000 | J12: 300000 | K12: 1500000 | L12: =SUM(G12:K12) -> 24475000 | M12: =D12*8% -> 1600000 | N12: =D12*1.5% -> 300000 | O12: =D12*1% -> 200000 | P12: =SUM(M12:O12) -> 2100000 | Q12: 2 | R12: =G12+H12 -> 22000000 | S12: 11000000 | T12: 8800000 | U12: =IF(R12-(S12+T12)>0,R12-(S12+T12),0) -> 2200000 | V12: =IF(U12>80000000,35%*U12-9850000,IF(U12>52000000,30%*U12-5850000,IF(U12>32000000,25%*U12-3250000,IF(U12>18000000,20%*U12-1650000,IF(U12>10000000,15%*U12-750000,IF(U12>5000000,10%*U12-250000,5%*U12)))))) -> 110000
A13: 3 | B13: Đặng Thị Thảo | C13: TP | D13: 18000000 | E13: 27 | F13: 27 | G13: =ROUND(D13/E13*F13,0) -> 18000000 | H13: =ROUND(D13*10%*F13/E13,0) -> 1800000 | I13: =F13*25000 -> 675000 | J13: 200000 | K13: 1000000 | L13: =SUM(G13:K13) -> 21675000 | M13: =D13*8% -> 1440000 | N13: =D13*1.5% -> 270000 | O13: =D13*1% -> 180000 | P13: =SUM(M13:O13) -> 1890000 | Q13: 2 | R13: =G13+H13 -> 19800000 | S13: 11000000 | T13: 8800000 | U13: =IF(R13-(S13+T13)>0,R13-(S13+T13),0) -> 0 | V13: =IF(U13>80000000,35%*U13-9850000,IF(U13>52000000,30%*U13-5850000,IF(U13>32000000,25%*U13-3250000,IF(U13>18000000,20%*U13-1650000,IF(U13>10000000,15%*U13-750000,IF(U13>5000000,10%*U13-250000,5%*U13)))))) -> 0
A14: 4 | B14: Đặng Hồng Anh | C14: NV | D14: 10000000 | E14: 27 | F14: 27 | G14: =ROUND(D14/E14*F14,0) -> 10000000 | H14: =ROUND(D14*10%*F14/E14,0) -> 1000000 | I14: =F14*25000 -> 675000 | L14: =SUM(G14:K14) -> 11675000 | M14: =D14*8% -> 800000 | N14: =D14*1.5% -> 150000 | O14: =D14*1% -> 100000 | P14: =SUM(M14:O14) -> 1050000 | R14: =G14+H14 -> 11000000 | S14: 11000000 | U14: =IF(R14-(S14+T14)>0,R14-(S14+T14),0) -> 0 | V14: =IF(U14>80000000,35%*U14-9850000,IF(U14>52000000,30%*U14-5850000,IF(U14>32000000,25%*U14-3250000,IF(U14>18000000,20%*U14-1650000,IF(U14>10000000,15%*U14-750000,IF(U14>5000000,10%*U14-250000,5%*U14)))))) -> 0
A15: 5 | B15: Trần Ngọc Ngân | C15: NV | D15: 10000000 | E15: 27 | F15: 27 | G15: =ROUND(D15/E15*F15,0) -> 10000000 | H15: =ROUND(D15*10%*F15/E15,0) -> 1000000 | I15: =F15*25000 -> 675000 | L15: =SUM(G15:K15) -> 11675000 | M15: =D15*8% -> 800000 | N15: =D15*1.5% -> 150000 | O15: =D15*1% -> 100000 | P15: =SUM(M15:O15) -> 1050000 | R15: =G15+H15 -> 11000000 | S15: 11000000 | U15: =IF(R15-(S15+T15)>0,R15-(S15+T15),0) -> 0 | V15: =IF(U15>80000000,35%*U15-9850000,IF(U15>52000000,30%*U15-5850000,IF(U15>32000000,25%*U15-3250000,IF(U15>18000000,20%*U15-1650000,IF(U15>10000000,15%*U15-750000,IF(U15>5000000,10%*U15-250000,5%*U15)))))) -> 0
A16: 6 | B16: Đào Lan Phương | C16: KTT | D16: 18000000 | E16: 27 | F16: 27 | G16: =ROUND(D16/E16*F16,0) -> 18000000 | H16: =ROUND(D16*10%*F16/E16,0) -> 1800000 | I16: =F16*25000 -> 675000 | J16: 200000 | K16: 1000000 | L16: =SUM(G16:K16) -> 21675000 | M16: =D16*8% -> 1440000 | N16: =D16*1.5% -> 270000 | O16: =D16*1% -> 180000 | P16: =SUM(M16:O16) -> 1890000 | R16: =G16+H16 -> 19800000 | S16: 11000000 | U16: =IF(R16-(S16+T16)>0,R16-(S16+T16),0) -> 8800000 | V16: =IF(U16>80000000,35%*U16-9850000,IF(U16>52000000,30%*U16-5850000,IF(U16>32000000,25%*U16-3250000,IF(U16>18000000,20%*U16-1650000,IF(U16>10000000,15%*U16-750000,IF(U16>5000000,10%*U16-250000,5%*U16)))))) -> 630000
A17: 7 | B17: Ngô Thanh Bình | C17: KT | D17: 10000000 | E17: 27 | F17: 25 | G17: =ROUND(D17/E17*F17,0) -> 9259259 | H17: =ROUND(D17*10%*F17/E17,0) -> 925926 | I17: =F17*25000 -> 625000 | L17: =SUM(G17:K17) -> 10810185 | M17: =D17*8% -> 800000 | N17: =D17*1.5% -> 150000 | O17: =D17*1% -> 100000 | P17: =SUM(M17:O17) -> 1050000 | R17: =G17+H17 -> 10185185 | S17: 11000000 | U17: =IF(R17-(S17+T17)>0,R17-(S17+T17),0) -> 0 | V17: =IF(U17>80000000,35%*U17-9850000,IF(U17>52000000,30%*U17-5850000,IF(U17>32000000,25%*U17-3250000,IF(U17>18000000,20%*U17-1650000,IF(U17>10000000,15%*U17-750000,IF(U17>5000000,10%*U17-250000,5%*U17)))))) -> 0
A18: 8 | B18: Trần Văn Lương | C18: TP | D18: 18000000 | E18: 27 | F18: 27 | G18: =ROUND(D18/E18*F18,0) -> 18000000 | H18: =ROUND(D18*10%*F18/E18,0) -> 1800000 | I18: =F18*25000 -> 675000 | J18: 200000 | K18: 1000000 | L18: =SUM(G18:K18) -> 21675000 | M18: =D18*8% -> 1440000 | N18: =D18*1.5% -> 270000 | O18: =D18*1% -> 180000 | P18: =SUM(M18:O18) -> 1890000 | Q18: 2 | R18: =G18+H18 -> 19800000 | S18: 11000000 | T18: 8800000 | U18: =IF(R18-(S18+T18)>0,R18-(S18+T18),0) -> 0 | V18: =IF(U18>80000000,35%*U18-9850000,IF(U18>52000000,30%*U18-5850000,IF(U18>32000000,25%*U18-3250000,IF(U18>18000000,20%*U18-1650000,IF(U18>10000000,15%*U18-750000,IF(U18>5000000,10%*U18-250000,5%*U18)))))) -> 0
A19: 9 | B19: Bùi Văn Tâm | C19: NV | D19: 12000000 | E19: 27 | F19: 27 | G19: =ROUND(D19/E19*F19,0) -> 12000000 | H19: =ROUND(D19*10%*F19/E19,0) -> 1200000 | I19: =F19*25000 -> 675000 | L19: =SUM(G19:K19) -> 13875000 | M19: =D19*8% -> 960000 | N19: =D19*1.5% -> 180000 | O19: =D19*1% -> 120000 | P19: =SUM(M19:O19) -> 1260000 | Q19: 1 | R19: =G19+H19 -> 13200000 | S19: 11000000 | T19: 4400000 | U19: =IF(R19-(S19+T19)>0,R19-(S19+T19),0) -> 0 | V19: =IF(U19>80000000,35%*U19-9850000,IF(U19>52000000,30%*U19-5850000,IF(U19>32000000,25%*U19-3250000,IF(U19>18000000,20%*U19-1650000,IF(U19>10000000,15%*U19-750000,IF(U19>5000000,10%*U19-250000,5%*U19)))))) -> 0
A20: II | B20: Bộ phận Bán hàng | D20: =SUBTOTAL(9,D21:D24) -> 48000000 | E20: =SUBTOTAL(9,E21:E24) -> 108 | F20: =SUBTOTAL(9,F21:F24) -> 105 | G20: =SUBTOTAL(9,G21:G24) -> 46666667 | H20: =SUBTOTAL(9,H21:H24) -> 4666667 | I20: =SUBTOTAL(9,I21:I24) -> 2625000 | J20: =SUBTOTAL(9,J21:J24) -> 0 | K20: =SUBTOTAL(9,K21:K24) -> 0 | ... W20: =SUBTOTAL(9,W21:W24) -> 0
A21: 1 | B21: Lê Minh Chí | C21: NVKD | D21: 12000000 | E21: 27 | F21: 27 | G21: =ROUND(D21/E21*F21,0) -> 12000000 | H21: =ROUND(D21*10%*F21/E21,0) -> 1200000 | I21: =F21*25000 -> 675000 | L21: =SUM(G21:K21) -> 13875000 | M21: =D21*8% -> 960000 | N21: =D21*1.5% -> 180000 | O21: =D21*1% -> 120000 | P21: =SUM(M21:O21) -> 1260000 | R21: =G21+H21 -> 13200000 | S21: 11000000 | U21: =IF(R21-(S21+T21)>0,R21-(S21+T21),0) -> 2200000 | V21: =IF(U21>80000000,35%*U21-9850000,IF(U21>52000000,30%*U21-5850000,IF(U21>32000000,25%*U21-3250000,IF(U21>18000000,20%*U21-1650000,IF(U21>10000000,15%*U21-750000,IF(U21>5000000,10%*U21-250000,5%*U21)))))) -> 110000
A22: 2 | B22: Trần Hoài Nam | C22: NVKD | D22: 12000000 | E22: 27 | F22: 24 | G22: =ROUND(D22/E22*F22,0) -> 10666667 | H22: =ROUND(D22*10%*F22/E22,0) -> 1066667 | I22: =F22*25000 -> 600000 | L22: =SUM(G22:K22) -> 12333334 | M22: =D22*8% -> 960000 | N22: =D22*1.5% -> 180000 | O22: =D22*1% -> 120000 | P22: =SUM(M22:O22) -> 1260000 | R22: =G22+H22 -> 11733334 | S22: 11000000 | U22: =IF(R22-(S22+T22)>0,R22-(S22+T22),0) -> 733334 | V22: =IF(U22>80000000,35%*U22-9850000,IF(U22>52000000,30%*U22-5850000,IF(U22>32000000,25%*U22-3250000,IF(U22>18000000,20%*U22-1650000,IF(U22>10000000,15%*U22-750000,IF(U22>5000000,10%*U22-250000,5%*U22)))))) -> 36666.7
A23: 3 | B23: Trần Đức Chí | C23: NVKD | D23: 12000000 | E23: 27 | F23: 27 | G23: =ROUND(D23/E23*F23,0) -> 12000000 | H23: =ROUND(D23*10%*F23/E23,0) -> 1200000 | I23: =F23*25000 -> 675000 | L23: =SUM(G23:K23) -> 13875000 | M23: =D23*8% -> 960000 | N23: =D23*1.5% -> 180000 | O23: =D23*1% -> 120000 | P23: =SUM(M23:O23) -> 1260000 | R23: =G23+H23 -> 13200000 | S23: 11000000 | U23: =IF(R23-(S23+T23)>0,R23-(S23+T23),0) -> 2200000 | V23: =IF(U23>80000000,35%*U23-9850000,IF(U23>52000000,30%*U23-5850000,IF(U23>32000000,25%*U23-3250000,IF(U23>18000000,20%*U23-1650000,IF(U23>10000000,15%*U23-750000,IF(U23>5000000,10%*U23-250000,5%*U23)))))) -> 110000
A24: 4 | B24: Lê Thanh Tâm | C24: NVKD | D24: 12000000 | E24: 27 | F24: 27 | G24: =ROUND(D24/E24*F24,0) -> 12000000 | H24: =ROUND(D24*10%*F24/E24,0) -> 1200000 | I24: =F24*25000 -> 675000 | L24: =SUM(G24:K24) -> 13875000 | M24: =D24*8% -> 960000 | N24: =D24*1.5% -> 180000 | O24: =D24*1% -> 120000 | P24: =SUM(M24:O24) -> 1260000 | R24: =G24+H24 -> 13200000 | S24: 11000000 | U24: =IF(R24-(S24+T24)>0,R24-(S24+T24),0) -> 2200000 | V24: =IF(U24>80000000,35%*U24-9850000,IF(U24>52000000,30%*U24-5850000,IF(U24>32000000,25%*U24-3250000,IF(U24>18000000,20%*U24-1650000,IF(U24>10000000,15%*U24-750000,IF(U24>5000000,10%*U24-250000,5%*U24)))))) -> 110000
B25: Tổng A + B | D25: =SUBTOTAL(9,D10:D24) -> 189000000 | E25: =SUBTOTAL(9,E10:E24) -> 351 | F25: =SUBTOTAL(9,F10:F24) -> 346 | G25: =SUBTOTAL(9,G10:G24) -> 186925926 | H25: =SUBTOTAL(9,H10:H24) -> 18692593 | I25: =SUBTOTAL(9,I10:I24) -> 8650000 | J25: =SUBTOTAL(9,J10:J24) -> 1400000 | K25: =SUBTOTAL(9,K10:K24) -> 6500000 | ... W25: =SUBTOTAL(9,W10:W24) -> 0
P26: =P25+LUONG2!P20+'Bang PB TL va BHXH'!K16 -> 89420000
M27: , ngày tháng năm
C28: Người lập biểu | K28: Kế toán trưởng | M28: Giám đốc Công ty
C29: (Ký, họ tên) | K29: (Ký, họ tên) | M29: (Ký, họ tên, đóng dấu)
C35: Ngô Thanh Bình | K35: Đào Lan Phương | R35: Nguyễn Thị Hoa

Sheet LUONG2
A1: Đơn vị: Công ty TNHH Thanh Minh | O1: Mẫu số: 02 - LĐTL (Ban hành theo Thông tư số 200/2014/TT-BTC Ngày 22/12/2014 của Bộ Tài chính)
A2: Địa chỉ: 45/9- Phạm Văn Chiêu- F.14- Q.Gò Vấp- TP.HCM
P3: Số:…………..
A4: BẢNG THANH TOÁN TIỀN LƯƠNG | X4: =15%*S10-750000 -> 900000 | Y4: =X4-T10 -> 900000 | AA4: =250000+500000+675000*15% -> 851250
A5: Tháng 01 năm 2024
N6: Đơn vị tính:
A7: STT | B7: Họ và tên | C7: Chức vụ | F7: Số ngày công làm việc | G7: Lương Thựctế | H7: Phụ cấp | L7: Tổng lương | M7: Các khoản trích trừ vào lương | Q7: Số người phụ thuộc | R7: Thu nhập chịu thuế TNCN | S7: Giam trừ gia cảnh | U7: Thu nhập tính thuế TNCN | V7: Thuế TNCN | W7: Ký nhận
D8: Lương HĐ/ tháng | E8: Ngày công trong tháng | H8: Thưởng | I8: ăn trưa | J8: Điện thoại | K8: Công tác phí | M8: BHXH (8%) | N8: BHYT (1,5%) | O8: BHTN (1%) | P8: Cộng | S8: Giam trừ bản thân | T8: giảm trừ người phụ thuộc
A9: A | B9: P.Quản lý sản xuất | D9: =SUBTOTAL(9,D10) -> 10000000 | E9: =SUBTOTAL(9,E10) -> 27 | F9: =SUBTOTAL(9,F10) -> 27 | G9: =SUBTOTAL(9,G10:G10) -> 10000000 | H9: =SUBTOTAL(9,H10:H10) -> 1000000 | I9: =SUBTOTAL(9,I10:I10) -> 675000 | J9: =SUBTOTAL(9,J10:J10) -> 100000 | K9: =SUBTOTAL(9,K10:K10) -> 500000 | L9: =SUBTOTAL(9,L10:L10) -> 12275000 | M9: =SUBTOTAL(9,M10:M10) -> 800000 | N9: =SUBTOTAL(9,N10:N10) -> 150000 | ... V9: =SUBTOTAL(9,V10:V10) -> 0
A10: 1 | B10: Phạm Thế Thập | C10: QLSX | D10: 10000000 | E10: 27 | F10: 27 | G10: =ROUND(D10/E10*F10,0) -> 10000000 | H10: =ROUND(D10*10%*F10/E10,0) -> 1000000 | I10: =F10*25000 -> 675000 | J10: 100000 | K10: 500000 | L10: =SUM(G10:K10) -> 12275000 | M10: =D10*8% -> 800000 | N10: =D10*1.5% -> 150000 | O10: =D10*1% -> 100000 | P10: =SUM(M10:O10) -> 1050000 | R10: =G10+H10 -> 11000000 | S10: 11000000 | U10: =IF(R10-(S10+T10)>0,R10-(S10+T10),0) -> 0 | V10: =IF(U10>80000000,35%*U10-9850000,IF(U10>52000000,30%*U10-5850000,IF(U10>32000000,25%*U10-3250000,IF(U10>18000000,20%*U10-1650000,IF(U10>10000000,15%*U10-750000,IF(U10>5000000,10%*U10-250000,5%*U10)))))) -> 0
A11: B | B11: Công nhân trực tiếp sản xuất | D11: =SUBTOTAL(9,D12:D19) -> 64000000 | E11: =SUBTOTAL(9,E12:E19) -> 216 | F11: =SUBTOTAL(9,F12:F19) -> 212 | G11: =SUBTOTAL(9,G12:G19) -> 62814815 | H11: =SUBTOTAL(9,H12:H19) -> 6281481 | I11: =SUBTOTAL(9,I12:I19) -> 5300000 | J11: =SUBTOTAL(9,J12:J19) -> 0 | K11: =SUBTOTAL(9,K12:K19) -> 0 | ... V11: =SUBTOTAL(9,V12:V19) -> 0
A12: 1 | B12: Hà Văn Hiệp | C12: CNSX | D12: 8000000 | E12: 27 | F12: 27 | G12: =ROUND(D12/E12*F12,0) -> 8000000 | H12: =ROUND(D12*10%*F12/E12,0) -> 800000 | I12: =F12*25000 -> 675000 | L12: =SUM(G12:K12) -> 9475000 | M12: =D12*8% -> 640000 | N12: =D12*1.5% -> 120000 | O12: =D12*1% -> 80000 | P12: =SUM(M12:O12) -> 840000 | Q12: 1 | R12: =G12+H12 -> 8800000 | S12: 11000000 | T12: 4400000 | U12: =IF(R12-(S12+T12)>0,R12-(S12+T12),0) -> 0 | V12: =IF(U12>80000000,35%*U12-9850000,IF(U12>52000000,30%*U12-5850000,IF(U12>32000000,25%*U12-3250000,IF(U12>18000000,20%*U12-1650000,IF(U12>10000000,15%*U12-750000,IF(U12>5000000,10%*U12-250000,5%*U12)))))) -> 0
A13: 2 | B13: Bùi Ngọc Khoa | C13: CNSX | D13: 8000000 | E13: 27 | F13: 27 | G13: =ROUND(D13/E13*F13,0) -> 8000000 | H13: =ROUND(D13*10%*F13/E13,0) -> 800000 | I13: =F13*25000 -> 675000 | L13: =SUM(G13:K13) -> 9475000 | M13: =D13*8% -> 640000 | N13: =D13*1.5% -> 120000 | O13: =D13*1% -> 80000 | P13: =SUM(M13:O13) -> 840000 | R13: =G13+H13 -> 8800000 | S13: 11000000 | U13: =IF(R13-(S13+T13)>0,R13-(S13+T13),0) -> 0 | V13: =IF(U13>80000000,35%*U13-9850000,IF(U13>52000000,30%*U13-5850000,IF(U13>32000000,25%*U13-3250000,IF(U13>18000000,20%*U13-1650000,IF(U13>10000000,15%*U13-750000,IF(U13>5000000,10%*U13-250000,5%*U13)))))) -> 0
A14: 3 | B14: Nguyễn Phong Lan | C14: CNSX | D14: 8000000 | E14: 27 | F14: 27 | G14: =ROUND(D14/E14*F14,0) -> 8000000 | H14: =ROUND(D14*10%*F14/E14,0) -> 800000 | I14: =F14*25000 -> 675000 | L14: =SUM(G14:K14) -> 9475000 | M14: =D14*8% -> 640000 | N14: =D14*1.5% -> 120000 | O14: =D14*1% -> 80000 | P14: =SUM(M14:O14) -> 840000 | R14: =G14+H14 -> 8800000 | S14: 11000000 | U14: =IF(R14-(S14+T14)>0,R14-(S14+T14),0) -> 0 | V14: =IF(U14>80000000,35%*U14-9850000,IF(U14>52000000,30%*U14-5850000,IF(U14>32000000,25%*U14-3250000,IF(U14>18000000,20%*U14-1650000,IF(U14>10000000,15%*U14-750000,IF(U14>5000000,10%*U14-250000,5%*U14)))))) -> 0
A15: 4 | B15: Hà Văn Toàn | C15: CNSX | D15: 8000000 | E15: 27 | F15: 27 | G15: =ROUND(D15/E15*F15,0) -> 8000000 | H15: =ROUND(D15*10%*F15/E15,0) -> 800000 | I15: =F15*25000 -> 675000 | L15: =SUM(G15:K15) -> 9475000 | M15: =D15*8% -> 640000 | N15: =D15*1.5% -> 120000 | O15: =D15*1% -> 80000 | P15: =SUM(M15:O15) -> 840000 | R15: =G15+H15 -> 8800000 | S15: 11000000 | U15: =IF(R15-(S15+T15)>0,R15-(S15+T15),0) -> 0 | V15: =IF(U15>80000000,35%*U15-9850000,IF(U15>52000000,30%*U15-5850000,IF(U15>32000000,25%*U15-3250000,IF(U15>18000000,20%*U15-1650000,IF(U15>10000000,15%*U15-750000,IF(U15>5000000,10%*U15-250000,5%*U15)))))) -> 0
A16: 5 | B16: Hà Văn Minh | C16: CNSX | D16: 8000000 | E16: 27 | F16: 27 | G16: =ROUND(D16/E16*F16,0) -> 8000000 | H16: =ROUND(D16*10%*F16/E16,0) -> 800000 | I16: =F16*25000 -> 675000 | L16: =SUM(G16:K16) -> 9475000 | M16: =D16*8% -> 640000 | N16: =D16*1.5% -> 120000 | O16: =D16*1% -> 80000 | P16: =SUM(M16:O16) -> 840000 | Q16: 1 | R16: =G16+H16 -> 8800000 | S16: 11000000 | T16: 4400000 | U16: =IF(R16-(S16+T16)>0,R16-(S16+T16),0) -> 0 | V16: =IF(U16>80000000,35%*U16-9850000,IF(U16>52000000,30%*U16-5850000,IF(U16>32000000,25%*U16-3250000,IF(U16>18000000,20%*U16-1650000,IF(U16>10000000,15%*U16-750000,IF(U16>5000000,10%*U16-250000,5%*U16)))))) -> 0
A17: 6 | B17: Ngô Quốc Dũng | C17: CNSX | D17: 8000000 | E17: 27 | F17: 27 | G17: =ROUND(D17/E17*F17,0) -> 8000000 | H17: =ROUND(D17*10%*F17/E17,0) -> 800000 | I17: =F17*25000 -> 675000 | L17: =SUM(G17:K17) -> 9475000 | M17: =D17*8% -> 640000 | N17: =D17*1.5% -> 120000 | O17: =D17*1% -> 80000 | P17: =SUM(M17:O17) -> 840000 | R17: =G17+H17 -> 8800000 | S17: 11000000 | U17: =IF(R17-(S17+T17)>0,R17-(S17+T17),0) -> 0 | V17: =IF(U17>80000000,35%*U17-9850000,IF(U17>52000000,30%*U17-5850000,IF(U17>32000000,25%*U17-3250000,IF(U17>18000000,20%*U17-1650000,IF(U17>10000000,15%*U17-750000,IF(U17>5000000,10%*U17-250000,5%*U17)))))) -> 0
A18: 7 | B18: Phạm Thái Hồng | C18: CNSX | D18: 8000000 | E18: 27 | F18: 23 | G18: =ROUND(D18/E18*F18,0) -> 6814815 | H18: =ROUND(D18*10%*F18/E18,0) -> 681481 | I18: =F18*25000 -> 575000 | L18: =SUM(G18:K18) -> 8071296 | M18: =D18*8% -> 640000 | N18: =D18*1.5% -> 120000 | O18: =D18*1% -> 80000 | P18: =SUM(M18:O18) -> 840000 | R18: =G18+H18 -> 7496296 | S18: 11000000 | U18: =IF(R18-(S18+T18)>0,R18-(S18+T18),0) -> 0 | V18: =IF(U18>80000000,35%*U18-9850000,IF(U18>52000000,30%*U18-5850000,IF(U18>32000000,25%*U18-3250000,IF(U18>18000000,20%*U18-1650000,IF(U18>10000000,15%*U18-750000,IF(U18>5000000,10%*U18-250000,5%*U18)))))) -> 0
A19: 8 | B19: Dương Văn Tần | C19: CNSX | D19: 8000000 | E19: 27 | F19: 27 | G19: =ROUND(D19/E19*F19,0) -> 8000000 | H19: =ROUND(D19*10%*F19/E19,0) -> 800000 | I19: =F19*25000 -> 675000 | L19: =SUM(G19:K19) -> 9475000 | M19: =D19*8% -> 640000 | N19: =D19*1.5% -> 120000 | O19: =D19*1% -> 80000 | P19: =SUM(M19:O19) -> 840000 | R19: =G19+H19 -> 8800000 | S19: 11000000 | U19: =IF(R19-(S19+T19)>0,R19-(S19+T19),0) -> 0 | V19: =IF(U19>80000000,35%*U19-9850000,IF(U19>52000000,30%*U19-5850000,IF(U19>32000000,25%*U19-3250000,IF(U19>18000000,20%*U19-1650000,IF(U19>10000000,15%*U19-750000,IF(U19>5000000,10%*U19-250000,5%*U19)))))) -> 0
B20: Tổng A + B | D20: =SUBTOTAL(9,D9:D19) -> 74000000 | E20: =SUBTOTAL(9,E9:E19) -> 243 | F20: =SUBTOTAL(9,F9:F19) -> 239 | G20: =G9+G11 -> 72814815 | H20: =H9+H11 -> 7281481 | I20: =I9+I11 -> 5975000 | J20: =J9+J11 -> 100000 | K20: =K9+K11 -> 500000 | L20: =L9+L11 -> 86671296 | M20: =M9+M11 -> 5920000 | N20: =N9+N11 -> 1110000 | ... W20: =W9+W11 -> 0
M22: , ngày tháng năm
C23: Người lập biểu | J23: Kế toán trưởng | M23: Giám đốc Công ty
C24: (Ký, họ tên) | J24: (Ký, họ tên) | M24: (Ký, họ tên, đóng dấu)
C30: Ngô Thanh Bình | J30: Đào Lan Phương | Q30: Nguyễn Thị Hoa

Sheet BCNXT
A1: Đơn vị: Công ty TNHH Thanh Minh
A2: Địa chỉ: 45/9- Phạm Văn Chiêu- F.14- Q.Gò Vấp- TP.HCM
B4: BÁO CÁO NHẬP, XUẤT, TỒN
B5: Tháng 01/2024
A6: STT | B6: Tên Tài khoản | C6: Mã hàng | D6: Tên vật tư,hàng hóa | E6: Đơn vị tính | F6: Tồn kho đầu kỳ | H6: Nhập trong kỳ | J6: Xuất trong kỳ | M6: Tồn kho cuối kỳ
F7: SL | G7: Thành tiền | H7: SL | I7: Thành tiền | J7: Đơn giá xuất kho | K7: SL | L7: Thành tiền | M7: SL | N7: Thành tiền
A8: 1 | B8: 1521.01 | C8: =VLOOKUP(B8,HTK!$B$9:$E$24,2,0) -> KAKI | D8: =VLOOKUP(B8,HTK!$B$9:$E$24,3,0) -> Vải KAKI | E8: =VLOOKUP(B8,HTK!$B$9:$E$24,4,0) -> Mét | F8: 10000 | G8: 2000000000 | H8: 20000 | I8: =H8*220000 -> 4400000000 | J8: =(G8+I8)/(F8+H8) -> 213333.33 | K8: =3000+3000 -> 6000 | L8: =J8*K8 -> 1280000000 | M8: =F8+H8-K8 -> 24000 | N8: =G8+I8-L8 -> 5120000000
A9: 2 | B9: 1521.02 | C9: =VLOOKUP(B9,HTK!$B$9:$E$24,2,0) -> COTTON | D9: =VLOOKUP(B9,HTK!$B$9:$E$24,3,0) -> Vải COTTON | E9: =VLOOKUP(B9,HTK!$B$9:$E$24,4,0) -> Mét | F9: 10000 | G9: 1500000000 | H9: 10000 | I9: =H9*55000 -> 550000000 | J9: =(G9+I9)/(F9+H9) -> 102500 | K9: =2000+4000 -> 6000 | L9: =J9*K9 -> 615000000 | M9: =F9+H9-K9 -> 14000 | N9: =G9+I9-L9 -> 1435000000
A10: 3 | B10: 1521.03 | C10: =VLOOKUP(B10,HTK!$B$9:$E$24,2,0) -> CHI | D10: =VLOOKUP(B10,HTK!$B$9:$E$24,3,0) -> Chỉ | E10: =VLOOKUP(B10,HTK!$B$9:$E$24,4,0) -> Cuộn | F10: 15000 | G10: 750000000 | H10: 2500 | I10: =H10*30000 -> 75000000 | J10: =(G10+I10)/(F10+H10) -> 47142.857 | K10: =2500+1500+1000+2000 -> 7000 | L10: =J10*K10 -> 330000000 | M10: =F10+H10-K10 -> 10500 | N10: =G10+I10-L10 -> 495000000
A11: 4 | B11: 153.01 | C11: =VLOOKUP(B11,HTK!$B$9:$E$24,2,0) -> KIM | D11: =VLOOKUP(B11,HTK!$B$9:$E$24,3,0) -> Kim | E11: =VLOOKUP(B11,HTK!$B$9:$E$24,4,0) -> Hộp | F11: 500 | G11: 1000000 | J11: =(G11+I11)/(F11+H11) -> 2000 | L11: =J11*K11 -> 0 | M11: =F11+H11-K11 -> 500 | N11: =G11+I11-L11 -> 1000000
A12: 5 | B12: 153.02 | C12: =VLOOKUP(B12,HTK!$B$9:$E$24,2,0) -> KEO | D12: =VLOOKUP(B12,HTK!$B$9:$E$24,3,0) -> Kéo | E12: =VLOOKUP(B12,HTK!$B$9:$E$24,4,0) -> Cái | F12: 100 | G12: 2000000 | J12: =(G12+I12)/(F12+H12) -> 20000 | L12: =J12*K12 -> 0 | M12: =F12+H12-K12 -> 100 | N12: =G12+I12-L12 -> 2000000
A13: 6 | B13: 155.01 | C13: =VLOOKUP(B13,HTK!$B$9:$E$24,2,0) -> QNAM | D13: =VLOOKUP(B13,HTK!$B$9:$E$24,3,0) -> Quần Nam | E13: =VLOOKUP(B13,HTK!$B$9:$E$24,4,0) -> Cái | F13: 3000 | G13: 1200000000 | H13: 2500 | I13: ='DINH KHOAN'!D185 -> 7.9854004e+08 | J13: =(G13+I13)/(F13+H13) -> 363370.92 | K13: 500 | L13: =J13*K13 -> 1.8168546e+08 | M13: =F13+H13-K13 -> 5000 | N13: =G13+I13-L13 -> 1.8168546e+09
A14: 7 | B14: 155.02 | C14: =VLOOKUP(B14,HTK!$B$9:$E$24,2,0) -> QNU | D14: =VLOOKUP(B14,HTK!$B$9:$E$24,3,0) -> Quần Nữ | E14: =VLOOKUP(B14,HTK!$B$9:$E$24,4,0) -> Cái | F14: 2500 | G14: 1250000000 | H14: 3000 | I14: ='DINH KHOAN'!D188 -> 7.4886648e+08 | J14: =(G14+I14)/(F14+H14) -> 363430.27 | K14: 200 | L14: =J14*K14 -> 72686054 | M14: =F14+H14-K14 -> 5300 | N14: =G14+I14-L14 -> 1.9261804e+09
A15: 8 | B15: 155.03 | C15: =VLOOKUP(B15,HTK!$B$9:$E$24,2,0) -> ANAM | D15: =VLOOKUP(B15,HTK!$B$9:$E$24,3,0) -> Áo Sơ mi nam | E15: =VLOOKUP(B15,HTK!$B$9:$E$24,4,0) -> Cái | F15: 2700 | G15: 340000000 | H15: 2000 | I15: ='DINH KHOAN'!D191 -> 2.6567826e+08 | J15: =(G15+I15)/(F15+H15) -> 128867.71 | K15: 100 | L15: =J15*K15 -> 12886771 | M15: =F15+H15-K15 -> 4600 | N15: =G15+I15-L15 -> 5.9279149e+08
A16: 9 | B16: 155.04 | C16: =VLOOKUP(B16,HTK!$B$9:$E$24,2,0) -> ANU | D16: =VLOOKUP(B16,HTK!$B$9:$E$24,3,0) -> Áo Sơ mi nữ | E16: =VLOOKUP(B16,HTK!$B$9:$E$24,4,0) -> Cái | F16: 2850 | G16: 440000000 | H16: 4000 | I16: ='DINH KHOAN'!D194 -> 5.3135652e+08 | J16: =(G16+I16)/(F16+H16) -> 141803.87 | K16: 150 | L16: =J16*K16 -> 21270581 | M16: =F16+H16-K16 -> 6700 | N16: =G16+I16-L16 -> 9.5008594e+08
A17: 10 | B17: 1561.01 | C17: =VLOOKUP(B17,HTK!$B$9:$E$24,2,0) -> CHUOT | D17: =VLOOKUP(B17,HTK!$B$9:$E$24,3,0) -> Chuột quang | E17: =VLOOKUP(B17,HTK!$B$9:$E$24,4,0) -> Cái | F17: 200 | G17: 20000000 | J17: =(G17+I17)/(F17+H17) -> 100000 | K17: 30 | L17: =J17*K17 -> 3000000 | M17: =F17+H17-K17 -> 170 | N17: =G17+I17-L17 -> 17000000
A18: 11 | B18: 1561.02 | C18: =VLOOKUP(B18,HTK!$B$9:$E$24,2,0) -> CPU | D18: =VLOOKUP(B18,HTK!$B$9:$E$24,3,0) -> CPU | E18: =VLOOKUP(B18,HTK!$B$9:$E$24,4,0) -> Cái | F18: 50 | G18: 200000000 | J18: =(G18+I18)/(F18+H18) -> 4000000 | K18: 40 | L18: =J18*K18 -> 160000000 | M18: =F18+H18-K18 -> 10 | N18: =G18+I18-L18 -> 40000000
A19: 12 | B19: 1561.03 | C19: =VLOOKUP(B19,HTK!$B$9:$E$24,2,0) -> MHINH | D19: =VLOOKUP(B19,HTK!$B$9:$E$24,3,0) -> Màn hình | E19: =VLOOKUP(B19,HTK!$B$9:$E$24,4,0) -> Cái | F19: 70 | G19: 140000000 | J19: =(G19+I19)/(F19+H19) -> 2000000 | K19: 50 | L19: =J19*K19 -> 100000000 | M19: =F19+H19-K19 -> 20 | N19: =G19+I19-L19 -> 40000000
A20: 13 | B20: 1561.04 | C20: =VLOOKUP(B20,HTK!$B$9:$E$24,2,0) -> BPHIM | D20: =VLOOKUP(B20,HTK!$B$9:$E$24,3,0) -> Bàn phím | E20: =VLOOKUP(B20,HTK!$B$9:$E$24,4,0) -> Cái | F20: 100 | G20: 16000000 | J20: =(G20+I20)/(F20+H20) -> 160000 | K20: 50 | L20: =J20*K20 -> 8000000 | M20: =F20+H20-K20 -> 50 | N20: =G20+I20-L20 -> 8000000
A21: Cộng | F21: =SUM(F8:F20) -> 47070 | G21: =SUM(G8:G20) -> 7859000000 | H21: =SUM(H8:H20) -> 44000 | I21: =SUM(I8:I20) -> 7369441296 | K21: =SUM(K8:K20) -> 20120 | L21: =SUM(L8:L20) -> 2.7845289e+09 | M21: =SUM(M8:M20) -> 70950 | N21: =SUM(N8:N20) -> 1.2443912e+10
M23: Ngày ... tháng ... năm ...
B24: Người lập biểu | H24: Kế toán trưởng | M24: Người đại diện theo pháp luật
B25: (Ký, họ tên) | H25: (Ký, họ tên) | M25: (Ký, họ tên, đóng dấu)
B30: Ngô Thanh Bình | H30: Đào Lan Phương | M30: Nguyễn Thị Hoa

Sheet Bang PBCCDC
A1: ='[1]Bang DMTK'!A1 -> Đơn vị: Công ty TNHH Thanh Minh
A2: ='[1]Bang DMTK'!A2 -> Địa chỉ: 45/9- Phạm Văn Chiêu- F14- Gò Vấp- TP.HCM | L2: Số: PBCCDC01/2024
A3: ='[1]Bang DMTK'!A3 -> MST: 0305225720
A4: BẢNG PHÂN BỔ CÔNG CỤ DỤNG CỤ
A5: Tháng 01 năm 2024
M6: ĐVT: Đồng
A7: STT | B7: Mã CCDC | C7: Tên CCDC | D7: Ngày tính phân bổ | E7: Đơn giá | F7: Giá trị | G7: Số tháng phân bổ | H7: Mức phân bổ tháng | I7: Số kỳ đã phân bổ | J7: Giá trị phân bổ lũy kế kỳ trước | K7: Giá trị phân bổ kỳ này | L7: Giá trị phân bổ lũy kế | M7: Giá trị còn lại | N7: Ghi chú (Số lượng)
A8: A | B8: B | C8: C | D8: D | E8: 2 | F8: (1) | G8: (2) | H8: (3)=(1)/(2) | I8: 6 | J8: (4) | K8: (5)=(3) | L8: (6)=(4)+(5) | M8: (7)=(1)-(6) | N8: 11
A9: I | B9: BỘ PHẬN QUẢN LÝ DOANH NGHIỆP | E9: =SUBTOTAL(9,E10:E15) -> 50800000 | F9: =SUBTOTAL(9,F10:F15) -> 210000000 | G9: =SUBTOTAL(9,G10:G15) -> 140 | H9: =SUBTOTAL(9,H10:H15) -> 9083333.3 | I9: =SUBTOTAL(9,I10:I15) -> 65 | J9: =SUBTOTAL(9,J10:J15) -> 94500000 | K9: =SUBTOTAL(9,K10:K15) -> 9083333.3 | L9: =SUBTOTAL(9,L10:L15) -> 1.0358333e+08 | ... N9: =SUBTOTAL(9,N10:N15) -> 43
A10: 1 | B10: MDH | C10: Máy điều hòa | D10: 01/12/2022 | E10: =48000000/4 -> 12000000 | F10: =E10*N10 -> 36000000 | G10: 24 | H10: =F10/G10 -> 1500000 | I10: 11 | J10: =H10*I10 -> 16500000 | K10: =H10 -> 1500000 | L10: =J10+K10 -> 18000000 | M10: =F10-L10 -> 18000000 | N10: 3
A11: 2 | B11: QUAT | C11: Quạt máy | D11: 01/01/2023 | E11: =6000000/12 -> 500000 | F11: =E11*N11 -> 2000000 | G11: 24 | H11: =F11/G11 -> 83333.333 | I11: 12 | J11: =H11*I11 -> 1000000 | K11: =H11 -> 83333.333 | L11: =J11+K11 -> 1083333.3 | M11: =F11-L11 -> 916666.67 | N11: 4
A12: 3 | B12: MVT | C12: Máy vi tính | D12: 01/03/2023 | E12: =195000000/13 -> 15000000 | F12: =E12*N12 -> 105000000 | G12: 24 | H12: =F12/G12 -> 4375000 | I12: 14 | J12: =H12*I12 -> 61250000 | K12: =H12 -> 4375000 | L12: =J12+K12 -> 65625000 | M12: =F12-L12 -> 39375000 | N12: 7
A13: 4 | B13: BLV | C13: Bàn làm việc | D13: 01/03/2023 | E13: =51000000/17 -> 3000000 | F13: =E13*N13 -> 21000000 | G13: 24 | H13: =F13/G13 -> 875000 | I13: 14 | J13: =H13*I13 -> 12250000 | K13: =H13 -> 875000 | L13: =J13+K13 -> 13125000 | M13: =F13-L13 -> 7875000 | N13: 7
A14: 5 | B14: GHE | C14: Ghế ngồi | D14: 01/03/2023 | E14: =18000000/60 -> 300000 | F14: =E14*N14 -> 6000000 | G14: 24 | H14: =F14/G14 -> 250000 | I14: 14 | J14: =H14*I14 -> 3500000 | K14: =H14 -> 250000 | L14: =J14+K14 -> 3750000 | M14: =F14-L14 -> 2250000 | N14: 20
A15: 6 | B15: THSO | C15: Tủ đựng hồ sơ | D15: 18/01/2024 | E15: 20000000 | F15: =E15*N15 -> 40000000 | G15: 20 | H15: =F15/G15 -> 2000000 | I15: 0 | J15: =H15*I15 -> 0 | K15: =H15 -> 2000000 | L15: =J15+K15 -> 2000000 | M15: =F15-L15 -> 38000000 | N15: 2
A16: II | B16: BỘ PHẬN BÁN HÀNG | E16: =SUBTOTAL(9,E17:E21) -> 30800000 | F16: =SUBTOTAL(9,F17:F21) -> 109600000 | G16: =SUBTOTAL(9,G17:G21) -> 120 | H16: =SUBTOTAL(9,H17:H21) -> 4566666.7 | I16: =SUBTOTAL(9,I17:I21) -> 65 | J16: =SUBTOTAL(9,J17:J21) -> 62350000 | K16: =SUBTOTAL(9,K17:K21) -> 4566666.7 | L16: =SUBTOTAL(9,L17:L21) -> 66916667 | ... N16: =SUBTOTAL(9,N17:N21) -> 26
A17: 1 | B17: MDH | C17: Máy điều hòa | D17: 01/12/2022 | E17: =48000000/4 -> 12000000 | F17: =E17*N17 -> 12000000 | G17: 24 | H17: =F17/G17 -> 500000 | I17: 11 | J17: =H17*I17 -> 5500000 | K17: =H17 -> 500000 | L17: =J17+K17 -> 6000000 | M17: =F17-L17 -> 6000000 | N17: 1
A18: 2 | B18: QUAT | C18: Quạt máy | D18: 01/01/2023 | E18: =6000000/12 -> 500000 | F18: =E18*N18 -> 1000000 | G18: 24 | H18: =F18/G18 -> 41666.667 | I18: 12 | J18: =H18*I18 -> 500000 | K18: =H18 -> 41666.667 | L18: =J18+K18 -> 541666.67 | M18: =F18-L18 -> 458333.33 | N18: 2
A19: 3 | B19: MVT | C19: Máy vi tính | D19: 01/03/2023 | E19: =195000000/13 -> 15000000 | F19: =E19*N19 -> 75000000 | G19: 24 | H19: =F19/G19 -> 3125000 | I19: 14 | J19: =H19*I19 -> 43750000 | K19: =H19 -> 3125000 | L19: =J19+K19 -> 46875000 | M19: =F19-L19 -> 28125000 | N19: 5
A20: 4 | B20: BLV | C20: Bàn làm việc | D20: 01/03/2023 | E20: =51000000/17 -> 3000000 | F20: =E20*N20 -> 18000000 | G20: 24 | H20: =F20/G20 -> 750000 | I20: 14 | J20: =H20*I20 -> 10500000 | K20: =H20 -> 750000 | L20: =J20+K20 -> 11250000 | M20: =F20-L20 -> 6750000 | N20: 6
A21: 5 | B21: GHE | C21: Ghế ngồi | D21: 01/03/2023 | E21: =18000000/60 -> 300000 | F21: =E21*N21 -> 3600000 | G21: 24 | H21: =F21/G21 -> 150000 | I21: 14 | J21: =H21*I21 -> 2100000 | K21: =H21 -> 150000 | L21: =J21+K21 -> 2250000 | M21: =F21-L21 -> 1350000 | N21: 12
A22: III | B22: BỘ PHẬN QUẢN LÝ SẢN XUẤT | E22: =SUBTOTAL(9,E23:E29) -> 54800000 | F22: =SUBTOTAL(9,F23:F29) -> 192400000 | G22: =SUBTOTAL(9,G23:G29) -> 168 | H22: =SUBTOTAL(9,H23:H29) -> 8016666.7 | I22: =SUBTOTAL(9,I23:I29) -> 84 | J22: =SUBTOTAL(9,J23:J29) -> 86316667 | K22: =SUBTOTAL(9,K23:K29) -> 8016666.7 | L22: =SUBTOTAL(9,L23:L29) -> 94333333 | ... N22: =SUBTOTAL(9,N23:N29) -> 52
A23: 1 | B23: MVS | C23: Máy vắt sổ | D23: 01/11/2022 | E23: =40000000/N23 -> 8000000 | F23: =E23*N23 -> 40000000 | G23: 24 | H23: =F23/G23 -> 1666666.7 | I23: 10 | J23: =H23*I23 -> 16666667 | K23: =H23 -> 1666666.7 | L23: =J23+K23 -> 18333333 | M23: =F23-L23 -> 21666667 | N23: 5
A24: 2 | B24: MM | C24: Máy may | D24: 01/11/2022 | E24: =75000000/N24 -> 15000000 | F24: =E24*N24 -> 75000000 | G24: 24 | H24: =F24/G24 -> 3125000 | I24: 10 | J24: =H24*I24 -> 31250000 | K24: =H24 -> 3125000 | L24: =J24+K24 -> 34375000 | M24: =F24-L24 -> 40625000 | N24: 5
A25: 3 | B25: MUI | C25: Máy ủi ép hơi nước | D25: 01/11/2022 | E25: =39000000/N25 -> 13000000 | F25: =E25*N25 -> 39000000 | G25: 24 | H25: =F25/G25 -> 1625000 | I25: 10 | J25: =H25*I25 -> 16250000 | K25: =H25 -> 1625000 | L25: =J25+K25 -> 17875000 | M25: =F25-L25 -> 21125000 | N25: 3
A26: 4 | B26: QUAT | C26: Quạt máy | D26: 01/01/2023 | E26: =6000000/12 -> 500000 | F26: =E26*N26 -> 3000000 | G26: 24 | H26: =F26/G26 -> 125000 | I26: 12 | J26: =H26*I26 -> 1500000 | K26: =H26 -> 125000 | L26: =J26+K26 -> 1625000 | M26: =F26-L26 -> 1375000 | N26: 6
A27: 5 | B27: MVT | C27: Máy vi tính | D27: 01/03/2023 | E27: =195000000/13 -> 15000000 | F27: =E27*N27 -> 15000000 | G27: 24 | H27: =F27/G27 -> 625000 | I27: 14 | J27: =H27*I27 -> 8750000 | K27: =H27 -> 625000 | L27: =J27+K27 -> 9375000 | M27: =F27-L27 -> 5625000 | N27: 1
A28: 6 | B28: BLV | C28: Bàn làm việc | D28: 01/03/2023 | E28: =51000000/17 -> 3000000 | F28: =E28*N28 -> 12000000 | G28: 24 | H28: =F28/G28 -> 500000 | I28: 14 | J28: =H28*I28 -> 7000000 | K28: =H28 -> 500000 | L28: =J28+K28 -> 7500000 | M28: =F28-L28 -> 4500000 | N28: 4
A29: 7 | B29: GHE | C29: Ghế ngồi | D29: 01/03/2023 | E29: =18000000/60 -> 300000 | F29: =E29*N29 -> 8400000 | G29: 24 | H29: =F29/G29 -> 350000 | I29: 14 | J29: =H29*I29 -> 4900000 | K29: =H29 -> 350000 | L29: =J29+K29 -> 5250000 | M29: =F29-L29 -> 3150000 | N29: 28
A30: TỔNG CỘNG ( I+II+III) | E30: =SUBTOTAL(9,E9:E29) -> 136400000 | F30: =SUBTOTAL(9,F9:F29) -> 512000000 | G30: =SUBTOTAL(9,G9:G29) -> 428 | H30: =SUBTOTAL(9,H9:H29) -> 21666667 | I30: =SUBTOTAL(9,I9:I29) -> 214 | J30: =SUBTOTAL(9,J9:J29) -> 2.4316667e+08 | K30: =SUBTOTAL(9,K9:K29) -> 21666667 | L30: =SUBTOTAL(9,L9:L29) -> 2.6483333e+08 | ... N30: =SUBTOTAL(9,N9:N29) -> 121
L31: TP.HCM, ngày 31 tháng 01 năm 2024
A32: Người lập biểu | L32: Kế toán trưởng
A33: (Ký, họ tên) | L33: (Ký, họ tên)
A37: Ngô Thanh Bình | K37: Đào Lan Phương

Sheet Bang KHTSCD
A1: ='[2]Bang DMTK'!A1 -> Đơn vị: Công ty TNHH Thanh Minh
A2: ='[2]Bang DMTK'!A2 -> Địa chỉ: 45/9- Phạm Văn Chiêu- F14- Gò Vấp- TP.HCM | K2: Số: KHTS01/2024
A3: ='[2]Bang DMTK'!A3 -> MST: 0305225720
A4: BẢNG KHẤU HAO TÀI SẢN CỐ ĐỊNH
A5: Tháng 01 năm 2024
L6: ĐVT: Đồng
A7: STT | B7: Mã TSCD | C7: Tên TSCD | D7: Ngày tính KH | E7: Nguyên giá | F7: Số năm KH | G7: Mức KH tháng | H7: Số tháng đã KH | I7: Số KH lũy kế đầu kỳ | J7: Số KH kỳ này | K7: Số KH lũy kế cuối kỳ | L7: Giá trị còn lại | M7: Ghi chú
A8: A | B8: B | C8: C | D8: D | E8: 1 | F8: 2 | G8: 3=1/2 | H8: 4 | I8: 5=3 x 4 | J8: 6=3 | K8: 7=5+6 | L8: 8=1-7 | M8: E
A9: I | B9: BỘ PHẬN QUẢN LÝ DOANH NGHIỆP | E9: =SUBTOTAL(9,E10:E11) -> 3350000000 | F9: =SUBTOTAL(9,F10:F11) -> 30 | G9: =SUBTOTAL(9,G10:G11) -> 17500000 | H9: =SUBTOTAL(9,H10:H11) -> 96 | I9: =SUBTOTAL(9,I10:I11) -> 840000000 | J9: =SUBTOTAL(9,J10:J11) -> 12701613 | K9: =SUBTOTAL(9,K10:K11) -> 8.5270161e+08 | L9: =SUBTOTAL(9,L10:L11) -> 2.4972984e+09
A10: 1 | B10: NHA.A1 | C10: Nhà A1 | D10: 43831 | E10: 2500000000 | F10: 20 | G10: 10416667 | H10: =DATEDIF(D10,"31/12/2023","m")+1 -> 48 | I10: 500000016 | J10: =G10 -> 10416667 | K10: =I10+J10 -> 510416683 | L10: =E10-K10 -> 1989583317
A11: 2 | B11: OTO16 | C11: Xe Toyota 16 chỗ | D11: 43831 | E11: 850000000 | F11: 10 | G11: 7083333 | H11: =DATEDIF(D11,"31/12/2023","m")+1 -> 48 | I11: 339999984 | J11: =G11/31*10 -> 2284946.1 | K11: =I11+J11 -> 3.4228493e+08 | L11: =E11-K11 -> 5.0771507e+08
A12: II | B12: BỘ PHẬN BÁN HÀNG | E12: =SUBTOTAL(9,E13:E14) -> 2576400000 | F12: =SUBTOTAL(9,F13:F14) -> 30 | G12: =SUBTOTAL(9,G13:G14) -> 13136666 | H12: =SUBTOTAL(9,H13:H14) -> 48 | I12: =SUBTOTAL(9,I13:I14) -> 399999984 | J12: =SUBTOTAL(9,J13:J14) -> 13136666 | K12: =SUBTOTAL(9,K13:K14) -> 413136650 | L12: =SUBTOTAL(9,L13:L14) -> 2163263350
A13: 1 | B13: NHA.A2 | C13: Nhà A2 | D13: 43831 | E13: 2000000000 | F13: 20 | G13: 8333333 | H13: =DATEDIF(D13,"31/12/2023","m")+1 -> 48 | I13: 399999984 | J13: =G13 -> 8333333 | K13: =I13+J13 -> 408333317 | L13: =E13-K13 -> 1591666683
A14: 2 | B14: ISUZZU | C14: Xe tải ISUZU | D14: 07/01/2024 | E14: 576400000 | F14: 10 | G14: =ROUND(E14/(F14*12),0) -> 4803333 | H14: 0 | I14: 0 | J14: =G14 -> 4803333 | K14: =I14+J14 -> 4803333 | L14: =E14-K14 -> 571596667
A15: III | B15: BỘ PHẬN QUẢN LÝ SẢN XUẤT | E15: =SUBTOTAL(9,E16:E18) -> 3909000000 | F15: =SUBTOTAL(9,F16:F18) -> 50 | G15: =SUBTOTAL(9,G16:G18) -> 18787500 | H15: =SUBTOTAL(9,H16:H18) -> 96 | I15: =SUBTOTAL(9,I16:I18) -> 660000000 | J15: =SUBTOTAL(9,J16:J18) -> 18787500 | K15: =SUBTOTAL(9,K16:K18) -> 678787500 | L15: =SUBTOTAL(9,L16:L18) -> 3230212500
A16: 1 | B16: NMSX | C16: Nhà máy sản xuất | D16: 43831 | E16: 2100000000 | F16: 20 | G16: 8750000 | H16: =DATEDIF(D16,"31/12/2023","m")+1 -> 48 | I16: 420000000 | J16: =G16 -> 8750000 | K16: =I16+J16 -> 428750000 | L16: =E16-K16 -> 1671250000
A17: 2 | B17: MCV | C17: Máy cắt vải | D17: 43831 | E17: 600000000 | F17: 10 | G17: 5000000 | H17: =DATEDIF(D17,"31/12/2023","m")+1 -> 48 | I17: 240000000 | J17: =G17 -> 5000000 | K17: =I17+J17 -> 245000000 | L17: =E17-K17 -> 355000000
A18: 3 | B18: MPD | C18: Máy phát điện | D18: 45296 | E18: 1209000000 | F18: 20 | G18: =ROUND(E18/(F18*12),0) -> 5037500 | H18: 0 | I18: =G18*H18 -> 0 | J18: =G18 -> 5037500 | K18: =I18+J18 -> 5037500 | L18: =E18-K18 -> 1203962500
A19: TỔNG CỘNG ( I+II+III) | E19: =SUBTOTAL(9,E9:E18) -> 9835400000 | F19: =SUBTOTAL(9,F9:F18) -> 110 | G19: =SUBTOTAL(9,G9:G18) -> 49424166 | H19: =SUBTOTAL(9,H9:H18) -> 240 | I19: =SUBTOTAL(9,I9:I18) -> 1899999984 | J19: =SUBTOTAL(9,J9:J18) -> 44625779 | K19: =SUBTOTAL(9,K9:K18) -> 1.9446258e+09 | L19: =SUBTOTAL(9,L9:L18) -> 7.8907742e+09
K20: TP.HCM, ngày 31 tháng 01 năm 2024
A21: Người lập biểu | J21: Kế toán trưởng
A22: (Ký, họ tên) | J22: (Ký, họ tên)
A26: Ngô Thanh Bình | J26: Đào Lan Phương

Sheet Bang PB CPTT
A1: ='[1]Bang DMTK'!A1 -> Đơn vị: Công ty TNHH Thanh Minh
A2: ='[1]Bang DMTK'!A2 -> Địa chỉ: 45/9- Phạm Văn Chiêu- F14- Gò Vấp- TP.HCM | M2: Số: PBCPTT01/2024
A3: ='[1]Bang DMTK'!A3 -> MST: 0305225720
A4: BẢNG PHÂN BỔ CHI PHÍ TRẢ TRƯỚC
A5: Tháng 01 năm 2024
M6: ĐVT: Đồng
A7: STT | B7: Mã CPTT | C7: Tên CPTT | D7: Ngày tính phân bổ | E7: Số tháng | F7: Đơn giá | G7: Giá trị | H7: Mức phân bổ tháng | I7: Số kỳ đã phân bổ | J7: Giá trị phân bổ lũy kế kỳ trước | K7: Giá trị phân bổ kỳ này | L7: Giá trị phân bổ lũy kế | M7: Giá trị còn lại | N7: Ghi chú
A8: A | B8: B | C8: C | D8: D | E8: 1 | F8: 2 | G8: 3 | H8: 4=3/1 | I8: 5 | J8: 6=4 x 5 | K8: 7=4 | L8: 8=6+7 | M8: 9=3-8 | N8: E
A9: I | B9: BỘ PHẬN QUẢN LÝ DOANH NGHIỆP | F9: =SUBTOTAL(9,F10) -> 20000000 | G9: =SUBTOTAL(9,G10) -> 60000000 | H9: =SUBTOTAL(9,H10) -> 20000000 | I9: =SUBTOTAL(9,I10) -> 0 | J9: =SUBTOTAL(9,J10) -> 0 | K9: =SUBTOTAL(9,K10) -> 20000000 | L9: =SUBTOTAL(9,L10) -> 20000000 | M9: =SUBTOTAL(9,M10) -> 40000000
A10: 1 | B10: TVP | C10: Tiền thuê văn phòng Quý 1 | D10: 02/01/2024 | E10: 3 | F10: 20000000 | G10: =E10*F10 -> 60000000 | H10: =G10/E10 -> 20000000 | I10: 0 | J10: =H10*I10 -> 0 | K10: =H10 -> 20000000 | L10: =J10+K10 -> 20000000 | M10: =G10-L10 -> 40000000
A11: III | B11: BỘ PHẬN BÁN HÀNG | F11: =SUBTOTAL(9,F12:F12) -> 10000000 | G11: =SUBTOTAL(9,G12:G12) -> 30000000 | H11: =SUBTOTAL(9,H12:H12) -> 10000000 | I11: =SUBTOTAL(9,I12:I12) -> 0 | J11: =SUBTOTAL(9,J12:J12) -> 0 | K11: =SUBTOTAL(9,K12:K12) -> 10000000 | L11: =SUBTOTAL(9,L12:L12) -> 10000000 | M11: =SUBTOTAL(9,M12:M12) -> 20000000 | N11: =SUBTOTAL(9,N12:N12) -> 0
A12: 1 | B12: TK | C12: Tiền thuê kho Quý 1 | D12: 07/01/2024 | E12: 3 | F12: 10000000 | G12: =E12*F12 -> 30000000 | H12: =G12/E12 -> 10000000 | I12: 0 | J12: =H12*I12 -> 0 | K12: =H12 -> 10000000 | L12: =J12+K12 -> 10000000 | M12: =G12-L12 -> 20000000
A13: TỔNG CỘNG ( I+II+III) | F13: =SUBTOTAL(9,F9:F12) -> 30000000 | G13: =SUBTOTAL(9,G9:G12) -> 90000000 | H13: =SUBTOTAL(9,H9:H12) -> 30000000 | I13: =SUBTOTAL(9,I9:I12) -> 0 | J13: =SUBTOTAL(9,J9:J12) -> 0 | K13: =SUBTOTAL(9,K9:K12) -> 30000000 | L13: =SUBTOTAL(9,L9:L12) -> 30000000 | M13: =SUBTOTAL(9,M9:M12) -> 60000000
L14: TP.HCM, ngày 31 tháng 01 năm 2024
A15: Người lập biểu | L15: Kế toán trưởng
A16: (Ký, họ tên) | L16: (Ký, họ tên)
A20: Ngô Thanh Bình | K20: Đào Lan Phương
