Workbook

Sheet PCTN
A1: ỦY BAN NHÂN DÂN THÀNH PHỐ HỒ CHÍ MINH | AK1: Mẫu số C02a - HD
A2: ĐƠN VỊ: TRƯỜNG CAO ĐẲNG LÝ TỰ TRỌNG | AK2: (Ban hành kèm theo Thông tư số 107/2017-BTC
A3: MÃ ĐƠN VỊ: 1058083 | AK3: ngày 10/10/2017 của Bộ Tài chính)
U4: BẢNG THANH TOÁN TIỀN LƯƠNG
AQ5: Số: ……………………………………
U6: (Tháng 12 năm 2020) | AQ6: Nợ: ……………………………………
AQ7: Có: …………………………………….
D8: 1490000
A9: STT | C9: MÃ SỐ VIÊN CHỨC` | D9: HỌ VÀ TÊN | E9: CẤP BẬC - CHỨC VỤ | G9: NỮ | I9: CD | J9: MS CỐ ĐỊNH TỪ T8/2008 | K9: Số CMND | L9: Số tài khoản | M9: MÃ SỐ VIÊN CHỨC` | N9: MÃ SỐ NGẠCH LƯƠNG | O9: LOẠI VC | P9: BẬC | Q9: LƯƠNG HỆ SỐ | Y9: CỘNG HỆ SỐ | Z9: THÀNH TIỀN | AA9: SỐ NGÀY NGHỈ | AB9: Nghỉ việc không được hưởng lương | AC9: BHXH trả thay lương | AD9: Tổng cộng tiền lương và BHXH được hưởng | AE9: KHẤU TRỪ | AJ9: PC TRÁCH NHIỆM | AL9: PC ĐỘC HẠI | AN9: Hệ số lương +VK + PCCV (hide) | AO9: Tỷ lệ PCƯĐ (hide) | AP9: Hệ số PCƯĐ | AQ9: PC ƯU ĐÃI | AR9: Nộp 1 ngày lương | AS9: TỔNG CỘNG TIỀN LƯƠNG CÒN ĐƯỢC NHẬN | AT9: KÝ NHẬN
I10: CV | L10: thẻ ATM | Q10: HỆ SỐ LƯƠNG | R10: CỘNG HỆ SỐ PHỤ CẤP | S10: HỆ SỐ PC VƯỢT KHUNG | T10: HỆ SỐ PCTNVK | V10: HS PC CHỨC VỤ | W10: TỶ LỆ PCTNNG | X10: HS PCTN nhà giáo | AE10: BHXH 8% | AF10: BHYT 1.5% | AG10: BH THẤT NGHIỆP 1% | AH10: THUẾ THU NHẬP | AI10: CỘNG | AJ10: HỆ SỐ | AK10: THÀNH TIỀN | AL10: HỆ SỐ | AM10: THÀNH TIỀN
A11: 1 | C11: 2 | D11: 3 | E11: 4 | N11: 5 | O11: 4 | P11: 5 | Q11: 6 | R11: Hide | S11: Hide | T11: 7 | U11: Hide | V11: 8 | W11: Hide | X11: 9 | Y11: 10=6+7+8+9 | Z11: 11=10*1.490.000 | AA11: Hide | AB11: 12 | AC11: 13 | AD11: 14=11-12+13 | AE11: 15 | AF11: 16 | AG11: 17 | AH11: 18 | AI11: 19=15+16+17+18 | AJ11: 20 | AK11: 21=20*1.490.000 | AL11: 22 | AM11: 23=22*1.490.000 | AN11: Hide | AO11: Hide | AP11: 24=(6+7+8)* Tỷ lệ PCUĐ | AQ11: 25=24*1.490.000 | AR11: Hide | AS11: 26=14-19+21+23+25 | AT11: 27 | AX11: =(3.66+0.35)*1490000 -> 5974900 | AY11: =(3.66+0.35)*1600000 -> 6416000
U12: (9) = (8) x LTT | AE12: (17) = (16) x 7% | AF12: (18) = (16) x 1.5% | AG12: (19) = (16) x 1% | AK12: (21) = (20) x LTT | AQ12: (22) = (6) + (6 x 8) + (10) x % PCƯĐ x LTT
C13: A. BIÊN CHẾ | AX13: =AX11*10.5% -> 627364.5 | AY13: =AY11*10.5% -> 673680
A14: 01 | B14: =VLOOKUP(D14,[1]LuongBC_T01!$B$9:$C$292,2,FALSE) -> 0016100006544007 | C14: 41200001203 | D14: Phạm Hữu Lộc | E14: Hiệu trưởng | K14: =VLOOKUP(D14,[2]T3!$B$2:$D$328,3,FALSE) -> 022874945 | L14: 1603215001126 | M14: 41200001203 | N14: V.07.01.03 | O14: A1 | P14: 9 | Q14: 4.98 | R14: =T14+V14+X14 -> 3.569 | S14: 11 | T14: =ROUND(Q14*S14/100,4) -> 0.5478 | U14: =Q14*S14*$D$8/100 -> 816222 | V14: 0.9 | W14: =VLOOKUP(D14,[3]BC!$D$14:$X$294,20,FALSE) -> 0.33 | X14: =ROUND((Q14+T14+V14)*W14,4) -> 2.1212 | Y14: =ROUND(Q14+T14+V14+X14,4) -> 8.549 | Z14: =ROUND(Y14*$D$8,0) -> 12738010 | AB14: =Z14/24*AA14 -> 0 | AC14: =Z14/24*AA14*75% -> 0 | AD14: =ROUND(Z14-AB14+AC14,0) -> 12738010 | AE14: =Z14*8% -> 1019040.8 | AF14: =Z14*1.5% -> 191070.15 | AG14: =Z14*1% -> 127380.1 | AI14: =SUM(AE14:AH14) -> 1337491.1 | AJ14: 0.3 | AK14: =AJ14*$D$8 -> 447000 | AN14: =Q14+T14+V14 -> 6.4278 | AO14: 0.25 | AP14: =ROUND(AN14*AO14,4) -> 1.607 | AQ14: =ROUND(AP14*$D$8,0) -> 2394430 | AS14: =ROUND(AD14-AI14+AK14+AM14+AQ14,0) -> 14241949 | AT14: =A14 -> 01 | AU14: Hưởng PCTN cấp ủy viên HS 0,3 trên MLTT từ T1/2015. | AX14: =AX11-AX13 -> 5347535.5 | AY14: =AY11-AY13 -> 5742320
A15: 02 | B15: =VLOOKUP(D15,[1]LuongBC_T01!$B$9:$C$292,2,FALSE) -> 0016100006699008 | C15: 50200000021 | D15: Đinh Văn Đệ | E15: Phó Hiệu trưởng | K15: =VLOOKUP(D15,[2]T3!$B$2:$D$328,3,FALSE) -> 025372149 | L15: 1603215001371 | M15: 50200000021 | N15: V.09.02.03 | O15: A1 | P15: 8 | Q15: 4.98 | R15: =T15+V15+X15 -> 1.7792 | T15: =ROUND(Q15*S15/100,4) -> 0 | U15: =Q15*S15*$D$8/100 -> 0 | V15: 0.7 | W15: 0.19 | X15: =ROUND((Q15+T15+V15)*W15,4) -> 1.0792 | Y15: =ROUND(Q15+T15+V15+X15,4) -> 6.7592 | Z15: =ROUND(Y15*$D$8,0) -> 10071208 | AB15: =Z15/24*AA15 -> 0 | AC15: =Z15/24*AA15*75% -> 0 | AD15: =ROUND(Z15-AB15+AC15,0) -> 10071208 | AE15: =Z15*8% -> 805696.64 | AF15: =Z15*1.5% -> 151068.12 | AG15: =Z15*1% -> 100712.08 | AI15: =SUM(AE15:AH15) -> 1057476.8 | AJ15: 0.3 | AK15: =AJ15*$D$8 -> 447000 | AN15: =Q15+T15+V15 -> 5.68 | AO15: 0.25 | AP15: =ROUND(AN15*AO15,4) -> 1.42 | AQ15: =ROUND(AP15*$D$8,0) -> 2115800 | AS15: =ROUND(AD15-AI15+AK15+AM15+AQ15,0) -> 11576531 | AT15: =A15 -> 02 | AU15: PCTN cấp ủy viên HS 0,3 trên MLTT từ 15/4/15. | AV15: QĐ Thuyên chuyển từ ĐH Công nghiệp về trường T01/2015. | AX15: =AY14-AX14 -> 394784.5
A16: 03 | B16: =VLOOKUP(D16,[1]LuongBC_T01!$B$9:$C$292,2,FALSE) -> 0016100006543008 | C16: 11100000791 | D16: Đinh Hồng Minh | E16: Phó Hiệu trưởng | F16: ĐH | G16: x | I16: PPK | J16: PPK023 | K16: =VLOOKUP(D16,[2]T3!$B$2:$D$328,3,FALSE) -> 022077198 | L16: 1603205186191 | M16: 11100000791 | N16: 01.003 | O16: A1 | P16: 8 | Q16: 4.98 | R16: =T16+V16+X16 -> 0.949 | S16: 5 | T16: =ROUND(Q16*S16/100,4) -> 0.249 | U16: =Q16*S16*$D$8/100 -> 371010 | V16: 0.7 | W16: =VLOOKUP(D16,[3]BC!$D$14:$X$294,20,FALSE) -> 0 | X16: =ROUND((Q16+T16+V16)*W16,4) -> 0 | Y16: =ROUND(Q16+T16+V16+X16,4) -> 5.929 | Z16: =ROUND(Y16*$D$8,0) -> 8834210 | AB16: =Z16/24*AA16 -> 0 | AC16: =Z16/24*AA16*75% -> 0 | AD16: =ROUND(Z16-AB16+AC16,0) -> 8834210 | AE16: =Z16*8% -> 706736.8 | AF16: =Z16*1.5% -> 132513.15 | AG16: =Z16*1% -> 88342.1 | AI16: =SUM(AE16:AH16) -> 927592.05 | AJ16: 0.3 | AK16: =AJ16*$D$8 -> 447000 | AN16: =Q16+T16+V16 -> 5.929 | AP16: =ROUND(AN16*AO16,4) -> 0 | AQ16: =ROUND(AP16*$D$8,0) -> 0 | AS16: =ROUND(AD16-AI16+AK16+AM16+AQ16,0) -> 8353618 | AT16: =A16 -> 03 | AU16: PCTN cấp ủy viên HS 0,3 trên MLTT từ 15/4/15.
A17: 04 | B17: =VLOOKUP(D17,[1]LuongBC_T01!$B$9:$C$292,2,FALSE) -> 0016100006674008 | C17: 50200000102 | D17: Châu Văn Bảo | E17: Phó Hiệu trưởng | K17: =VLOOKUP(D17,[2]T3!$B$2:$D$328,3,FALSE) -> 025661153 | L17: 1603215001359 | M17: 50200000102 | N17: V.09.02.03 | O17: A1 | P17: 6 | Q17: 4.32 | R17: =T17+V17+X17 -> 1.6036 | T17: =ROUND(Q17*S17/100,4) -> 0 | U17: =Q17*S17*$D$8/100 -> 0 | V17: 0.7 | W17: 0.18 | X17: =ROUND((Q17+T17+V17)*W17,4) -> 0.9036 | Y17: =ROUND(Q17+T17+V17+X17,4) -> 5.9236 | Z17: =ROUND(Y17*$D$8,0) -> 8826164 | AB17: =Z17/24*AA17 -> 0 | AC17: =Z17/24*AA17*75% -> 0 | AD17: =ROUND(Z17-AB17+AC17,0) -> 8826164 | AE17: =Z17*8% -> 706093.12 | AF17: =Z17*1.5% -> 132392.46 | AG17: =Z17*1% -> 88261.64 | AI17: =SUM(AE17:AH17) -> 926747.22 | AJ17: 0.3 | AK17: =AJ17*$D$8 -> 447000 | AN17: =Q17+T17+V17 -> 5.02 | AO17: 0.25 | AP17: =ROUND(AN17*AO17,4) -> 1.255 | AQ17: =ROUND(AP17*$D$8,0) -> 1869950 | AS17: =ROUND(AD17-AI17+AK17+AM17+AQ17,0) -> 10216367 | AT17: =A17 -> 04 | AV17: QĐ Bổ nhiệm Phó Hiệu trưởng từ 15/4/2019
A18: 05 | B18: =VLOOKUP(D18,[1]LuongBC_T01!$B$9:$C$292,2,FALSE) -> 0016100006705008 | C18: 50800000800 | D18: Nguyễn Kính | E18: TP. Kế hoạch - Tài chính | K18: =VLOOKUP(D18,[2]T3!$B$2:$D$328,3,FALSE) -> 023147526 | M18: 50800000800 | N18: 06.031 | O18: A1 | P18: 9 | Q18: 4.98 | R18: =T18+V18+X18 -> 3.0692 | S18: 34 | T18: =ROUND(Q18*S18/100,4) -> 1.6932 | U18: =Q18*S18*$D$8/100 -> 2522868 | V18: 0.45 | W18: =VLOOKUP(D18,[3]BC!$D$14:$X$294,20,FALSE) -> 0.13 | X18: =ROUND((Q18+T18+V18)*W18,4) -> 0.926 | Y18: =ROUND(Q18+T18+V18+X18,4) -> 8.0492 | Z18: =ROUND(Y18*$D$8,0) -> 11993308 | AB18: =Z18/24*AA18 -> 0 | AC18: =Z18/24*AA18*75% -> 0 | AD18: =ROUND(Z18-AB18+AC18,0) -> 11993308 | AE18: =Z18*8% -> 959464.64 | AF18: =Z18*1.5% -> 179899.62 | AG18: =Z18*1% -> 119933.08 | AI18: =SUM(AE18:AH18) -> 1259297.3 | AJ18: 0.2 | AK18: =AJ18*$D$8 -> 298000 | AN18: =Q18+T18+V18 -> 7.1232 | AO18: 0.25 | AP18: =ROUND(AN18*AO18,4) -> 1.7808 | AQ18: =ROUND(AP18*$D$8,0) -> 2653392 | AS18: =ROUND(AD18-AI18+AK18+AM18+AQ18,0) -> 13685403 | AT18: =A18 -> 05 | AU18: PCTN kế toán trưởng HS 0,2 trên MLTT từ 06/02/2017.
A19: 06 | B19: =VLOOKUP(D19,[1]LuongBC_T01!$B$9:$C$292,2,FALSE) -> 0016100006546007 | C19: 11100000746 | D19: Nguyễn Ngọc Trang | E19: TP. QLKH & HTQT | F19: Th.S | G19: x | I19: QL | J19: QL015 | K19: =VLOOKUP(D19,[2]T3!$B$2:$D$328,3,FALSE) -> 021609851 | L19: 1603205182270 | M19: 11100000746 | N19: V.09.02.02 | O19: A2.1 | P19: 3 | Q19: 5.76 | R19: =T19+V19+X19 -> 2.1267 | T19: =ROUND(Q19*S19/100,4) -> 0 | U19: =Q19*S19*$D$8/100 -> 0 | V19: 0.45 | W19: =VLOOKUP(D19,[3]BC!$D$14:$X$294,20,FALSE) -> 0.27 | X19: =ROUND((Q19+T19+V19)*W19,4) -> 1.6767 | Y19: =ROUND(Q19+T19+V19+X19,4) -> 7.8867 | Z19: =ROUND(Y19*$D$8,0) -> 11751183 | AB19: =Z19/24*AA19 -> 0 | AC19: =Z19/24*AA19*75% -> 0 | AD19: =ROUND(Z19-AB19+AC19,0) -> 11751183 | AE19: =Z19*8% -> 940094.64 | AF19: =Z19*1.5% -> 176267.74 | AG19: =Z19*1% -> 117511.83 | AI19: =SUM(AE19:AH19) -> 1233874.2 | AK19: =AJ19*$D$8 -> 0 | AN19: =Q19+T19+V19 -> 6.21 | AO19: 0.25 | AP19: =ROUND(AN19*AO19,4) -> 1.5525 | AQ19: =ROUND(AP19*$D$8,0) -> 2313225 | AS19: =ROUND(AD19-AI19+AK19+AM19+AQ19,0) -> 12830534 | AT19: =A19 -> 06 | AV19: QHQT
A20: 07 | B20: =VLOOKUP(D20,[1]LuongBC_T01!$B$9:$C$292,2,FALSE) -> 0016100006806001 | C20: 50200000160 | D20: Lê Quang Liêm | E20: Trưởng phòng Quản trị - Dịch vụ | K20: =VLOOKUP(D20,[2]T3!$B$2:$D$328,3,FALSE) -> 024891110 | L20: 1603215001365 | M20: 50200000160 | N20: V.07.01.03 | O20: A1 | P20: 7 | Q20: 4.98 | R20: =T20+V20+X20 -> 1.536 | T20: =ROUND(Q20*S20/100,4) -> 0 | U20: =Q20*S20*$D$8/100 -> 0 | V20: 0.45 | W20: 0.2 | X20: =ROUND((Q20+T20+V20)*W20,4) -> 1.086 | Y20: =ROUND(Q20+T20+V20+X20,4) -> 6.516 | Z20: =ROUND(Y20*$D$8,0) -> 9708840 | AB20: =Z20/24*AA20 -> 0 | AC20: =Z20/24*AA20*75% -> 0 | AD20: =ROUND(Z20-AB20+AC20,0) -> 9708840 | AE20: =Z20*8% -> 776707.2 | AF20: =Z20*1.5% -> 145632.6 | AG20: =Z20*1% -> 97088.4 | AI20: =SUM(AE20:AH20) -> 1019428.2 | AK20: =AJ20*$D$8 -> 0 | AN20: =Q20+T20+V20 -> 5.43 | AO20: 0.25 | AP20: =ROUND(AN20*AO20,4) -> 1.3575 | AQ20: =ROUND(AP20*$D$8,0) -> 2022675 | AS20: =ROUND(AD20-AI20+AK20+AM20+AQ20,0) -> 10712087 | AT20: =A20 -> 07
A21: 08 | B21: =VLOOKUP(D21,[1]LuongBC_T01!$B$9:$C$292,2,FALSE) -> 0016100006550007 | C21: 50800000104 | D21: Lâm Viết Dũng | E21: Trưởng phòng Tổ chức - Hành chính - Tổng hợp | K21: 079076001426 | M21: 50800000104 | N21: V.07.01.03 | O21: A1 | P21: 7 | Q21: 4.98 | R21: =T21+V21+X21 -> 1.4817 | T21: =ROUND(Q21*S21/100,4) -> 0 | U21: =Q21*S21*$D$8/100 -> 0 | V21: 0.45 | W21: 0.19 | X21: =ROUND((Q21+T21+V21)*W21,4) -> 1.0317 | Y21: =ROUND(Q21+T21+V21+X21,4) -> 6.4617 | Z21: =ROUND(Y21*$D$8,0) -> 9627933 | AB21: =Z21/24*AA21 -> 0 | AC21: =Z21/24*AA21*75% -> 0 | AD21: =ROUND(Z21-AB21+AC21,0) -> 9627933 | AE21: =Z21*8% -> 770234.64 | AF21: =Z21*1.5% -> 144418.99 | AG21: =Z21*1% -> 96279.33 | AI21: =SUM(AE21:AH21) -> 1010933 | AJ21: 0.3 | AK21: =AJ21*$D$8 -> 447000 | AN21: =Q21+T21+V21 -> 5.43 | AO21: 0.25 | AP21: =ROUND(AN21*AO21,4) -> 1.3575 | AQ21: =ROUND(AP21*$D$8,0) -> 2022675 | AS21: =ROUND(AD21-AI21+AK21+AM21+AQ21,0) -> 11086675 | AT21: =A21 -> 08
A22: 09 | B22: =VLOOKUP(D22,[1]LuongBC_T01!$B$9:$C$292,2,FALSE) -> 0016100006639008 | C22: 50800000001 | D22: Nguyễn Trọng Nghĩa | E22: Trưởng khoa Kinh tế | K22: 079072011875 | M22: 50800000001 | N22: V.09.02.03 | O22: A1 | P22: 7 | Q22: 4.65 | R22: =T22+V22+X22 -> 1.164 | T22: =ROUND(Q22*S22/100,4) -> 0 | U22: =Q22*S22*$D$8/100 -> 0 | V22: 0.45 | W22: 0.14 | X22: =ROUND((Q22+T22+V22)*W22,4) -> 0.714 | Y22: =ROUND(Q22+T22+V22+X22,4) -> 5.814 | Z22: =ROUND(Y22*$D$8,0) -> 8662860 | AB22: =Z22/24*AA22 -> 0 | AC22: =Z22/24*AA22*75% -> 0 | AD22: =ROUND(Z22-AB22+AC22,0) -> 8662860 | AE22: =Z22*8% -> 693028.8 | AF22: =Z22*1.5% -> 129942.9 | AG22: =Z22*1% -> 86628.6 | AI22: =SUM(AE22:AH22) -> 909600.3 | AK22: =AJ22*$D$8 -> 0 | AN22: =Q22+T22+V22 -> 5.1 | AO22: 0.25 | AP22: =ROUND(AN22*AO22,4) -> 1.275 | AQ22: =ROUND(AP22*$D$8,0) -> 1899750 | AS22: =ROUND(AD22-AI22+AK22+AM22+AQ22,0) -> 9653010 | AT22: =A22 -> 09
A23: 10 | B23: =VLOOKUP(D23,[1]LuongBC_T01!$B$9:$C$292,2,FALSE) -> 0016100006567007 | C23: 11100000785 | D23: Trang Thị Xuân Uyên | E23: Trưởng Trung tâm Y tế | F23: Th.S | G23: x | I23: QL | J23: QL022 | K23: 079170004279 | L23: 1603205186156 | M23: 11100000785 | N23: V.08.01.03 | O23: A1 | P23: 6 | Q23: 4.32 | R23: =T23+V23+X23 -> 0.45 | T23: =ROUND(Q23*S23/100,4) -> 0 | U23: =Q23*S23*$D$8/100 -> 0 | V23: 0.45 | W23: =VLOOKUP(D23,[3]BC!$D$14:$X$294,20,FALSE) -> 0 | X23: =ROUND((Q23+T23+V23)*W23,4) -> 0 | Y23: =ROUND(Q23+T23+V23+X23,4) -> 4.77 | Z23: =ROUND(Y23*$D$8,0) -> 7107300 | AB23: =Z23/24*AA23 -> 0 | AC23: =Z23/24*AA23*75% -> 0 | AD23: =ROUND(Z23-AB23+AC23,0) -> 7107300 | AE23: =Z23*8% -> 568584 | AF23: =Z23*1.5% -> 106609.5 | AG23: =Z23*1% -> 71073 | AI23: =SUM(AE23:AH23) -> 746266.5 | AK23: =AJ23*$D$8 -> 0 | AN23: =Q23+T23+V23 -> 4.77 | AO23: 0.2 | AP23: =ROUND(AN23*AO23,4) -> 0.954 | AQ23: =ROUND(AP23*$D$8,0) -> 1421460 | AS23: =ROUND(AD23-AI23+AK23+AM23+AQ23,0) -> 7782494 | AT23: =A23 -> 10 | AU23: Hưởng PCUĐ nghề 20% (trên hệ số lương hiện hưởng). | AV23: YT
A24: 11 | B24: =VLOOKUP(D24,[1]LuongBC_T01!$B$9:$C$292,2,FALSE) -> 0016100006766007 | C24: 11100000742 | D24: Lê Xuân Thiện | E24: Trưởng phòng Thanh tra giáo dục - CT Sinh viên | F24: ĐH | I24: NV | J24: NV063 | K24: 048065000101 | L24: 1603205185958 | M24: 11100000742 | N24: 01.003 | O24: A1 | P24: 8 | Q24: 4.98 | R24: =T24+V24+X24 -> 0.45 | T24: =ROUND(Q24*S24/100,4) -> 0 | U24: =Q24*S24*$D$8/100 -> 0 | V24: 0.45 | W24: =VLOOKUP(D24,[3]BC!$D$14:$X$294,20,FALSE) -> 0 | X24: =ROUND((Q24+T24+V24)*W24,4) -> 0 | Y24: =ROUND(Q24+T24+V24+X24,4) -> 5.43 | Z24: =ROUND(Y24*$D$8,0) -> 8090700 | AB24: =Z24/24*AA24 -> 0 | AC24: =Z24/24*AA24*75% -> 0 | AD24: =ROUND(Z24-AB24+AC24,0) -> 8090700 | AE24: =Z24*8% -> 647256 | AF24: =Z24*1.5% -> 121360.5 | AG24: =Z24*1% -> 80907 | AI24: =SUM(AE24:AH24) -> 849523.5 | AK24: =AJ24*$D$8 -> 0 | AN24: =Q24+T24+V24 -> 5.43 | AP24: =ROUND(AN24*AO24,4) -> 0 | AQ24: =ROUND(AP24*$D$8,0) -> 0 | AS24: =ROUND(AD24-AI24+AK24+AM24+AQ24,0) -> 7241177 | AT24: =A24 -> 11
A25: 12 | B25: =VLOOKUP(D25,[1]LuongBC_T01!$B$9:$C$292,2,FALSE) -> 0016100006660007 | C25: 11100000702 | D25: Phạm Minh Nghĩa | E25: Phó Trưởng khoa Điện - Điện tử | F25: ĐH | H25: GV | I25: PPK | J25: PPK028 | K25: 079064008054 | L25: 1603205178896 | M25: 11100000702 | N25: V.09.02.03 | O25: A1 | P25: 9 | Q25: 4.98 | R25: =T25+V25+X25 -> 2.8504 | S25: 13 | T25: =ROUND(Q25*S25/100,4) -> 0.6474 | U25: =Q25*S25*$D$8/100 -> 964626 | V25: 0.35 | W25: 0.31 | X25: =ROUND((Q25+T25+V25)*W25,4) -> 1.853 | Y25: =ROUND(Q25+T25+V25+X25,4) -> 7.8304 | Z25: =ROUND(Y25*$D$8,0) -> 11667296 | AB25: =Z25/24*AA25 -> 0 | AC25: =Z25/24*AA25*75% -> 0 | AD25: =ROUND(Z25-AB25+AC25,0) -> 11667296 | AE25: =Z25*8% -> 933383.68 | AF25: =Z25*1.5% -> 175009.44 | AG25: =Z25*1% -> 116672.96 | AI25: =SUM(AE25:AH25) -> 1225066.1 | AK25: =AJ25*$D$8 -> 0 | AN25: =Q25+T25+V25 -> 5.9774 | AO25: 0.25 | AP25: =ROUND(AN25*AO25,4) -> 1.4944 | AQ25: =ROUND(AP25*$D$8,0) -> 2226656 | AS25: =ROUND(AD25-AI25+AK25+AM25+AQ25,0) -> 12668886 | AT25: =A25 -> 12 | AV25: CD
A26: 13 | B26: =VLOOKUP(D26,[1]LuongBC_T01!$B$9:$C$292,2,FALSE) -> 0016100006537008 | C26: 11100000732 | D26: Nguyễn Văn Tấn | E26: Phó TP Tuyển sinh - Đào tạo | F26: Th.S | I26: QL | J26: QL012 | K26: =VLOOKUP(D26,[2]T3!$B$2:$D$328,3,FALSE) -> 020505708 | L26: 1603205185675 | M26: 11100000732 | N26: V.09.02.03 | O26: A1 | P26: 9 | Q26: 4.98 | R26: =T26+V26+X26 -> 0.9476 | S26: 12 | T26: =ROUND(Q26*S26/100,4) -> 0.5976 | U26: =Q26*S26*$D$8/100 -> 890424 | V26: 0.35 | W26: =VLOOKUP(D26,[3]BC!$D$14:$X$294,20,FALSE) -> 0 | X26: =ROUND((Q26+T26+V26)*W26,4) -> 0 | Y26: =ROUND(Q26+T26+V26+X26,4) -> 5.9276 | Z26: =ROUND(Y26*$D$8,0) -> 8832124 | AB26: =Z26/24*AA26 -> 0 | AC26: 0 | AD26: =ROUND(Z26-AB26+AC26,0) -> 8832124 | AE26: =Z26*8% -> 706569.92 | AF26: =Z26*1.5% -> 132481.86 | AG26: =Z26*1% -> 88321.24 | AI26: =SUM(AE26:AH26) -> 927373.02 | AK26: =AJ26*$D$8 -> 0 | AN26: =Q26+T26+V26 -> 5.9276 | AP26: =ROUND(AN26*AO26,4) -> 0 | AQ26: =ROUND(AP26*$D$8,0) -> 0 | AS26: =ROUND(AD26-AI26+AK26+AM26+AQ26,0) -> 7904751 | AT26: =A26 -> 13 | AV26: DT
A27: 14 | B27: =VLOOKUP(D27,[1]LuongBC_T01!$B$9:$C$292,2,FALSE) -> 0016100006781009 | C27: 11100000704 | D27: Hồ Minh Lợi | E27: Phó trưởng phòng Thanh tra giáo dục - CT Sinh viên | F27: ĐH | I27: QL | J27: QL020 | K27: =VLOOKUP(D27,[2]T3!$B$2:$D$328,3,FALSE) -> 001062010054 | L27: 1603205178809 | M27: 11100000704 | N27: 01.003 | O27: A1 | P27: 9 | Q27: 4.98 | R27: =T27+V27+X27 -> 0.7982 | S27: 9 | T27: =ROUND(Q27*S27/100,4) -> 0.4482 | U27: =Q27*S27*$D$8/100 -> 667818 | V27: 0.35 | W27: =VLOOKUP(D27,[3]BC!$D$14:$X$294,20,FALSE) -> 0 | X27: =ROUND((Q27+T27+V27)*W27,4) -> 0 | Y27: =ROUND(Q27+T27+V27+X27,4) -> 5.7782 | Z27: =ROUND(Y27*$D$8,0) -> 8609518 | AB27: =Z27/24*AA27 -> 0 | AC27: 0 | AD27: =ROUND(Z27-AB27+AC27,0) -> 8609518 | AE27: =Z27*8% -> 688761.44 | AF27: =Z27*1.5% -> 129142.77 | AG27: =Z27*1% -> 86095.18 | AI27: =SUM(AE27:AH27) -> 903999.39 | AK27: =AJ27*$D$8 -> 0 | AN27: =Q27+T27+V27 -> 5.7782 | AP27: =ROUND(AN27*AO27,4) -> 0 | AQ27: =ROUND(AP27*$D$8,0) -> 0 | AS27: =ROUND(AD27-AI27+AK27+AM27+AQ27,0) -> 7705519 | AT27: =A27 -> 14 | AV27: KHVT
A28: 15 | B28: =VLOOKUP(D28,[1]LuongBC_T01!$B$9:$C$292,2,FALSE) -> 0016100006495006 | C28: 11100000723 | D28: Nguyễn Văn Thành | E28: Phó Trưởng phòng Quản trị - Dịch vụ | F28: ĐH | I28: GV | J28: GV087 | K28: =VLOOKUP(D28,[2]T3!$B$2:$D$328,3,FALSE) -> 079074000549 | L28: 1603205182190 | M28: 11100000723 | N28: V.09.02.03 | O28: A1 | P28: 8 | Q28: 4.98 | R28: =T28+V28+X28 -> 1.3094 | T28: =ROUND(Q28*S28/100,4) -> 0 | U28: =Q28*S28*$D$8/100 -> 0 | V28: 0.35 | W28: =VLOOKUP(D28,[3]BC!$D$14:$X$294,20,FALSE) -> 0.18 | X28: =ROUND((Q28+T28+V28)*W28,4) -> 0.9594 | Y28: =ROUND(Q28+T28+V28+X28,4) -> 6.2894 | Z28: =ROUND(Y28*$D$8,0) -> 9371206 | AB28: =Z28/24*AA28 -> 0 | AC28: =Z28/24*AA28*75% -> 0 | AD28: =ROUND(Z28-AB28+AC28,0) -> 9371206 | AE28: =Z28*8% -> 749696.48 | AF28: =Z28*1.5% -> 140568.09 | AG28: =Z28*1% -> 93712.06 | AI28: =SUM(AE28:AH28) -> 983976.63 | AK28: =AJ28*$D$8 -> 0 | AN28: =Q28+T28+V28 -> 5.33 | AO28: 0.25 | AP28: =ROUND(AN28*AO28,4) -> 1.3325 | AQ28: =ROUND(AP28*$D$8,0) -> 1985425 | AS28: =ROUND(AD28-AI28+AK28+AM28+AQ28,0) -> 10372654 | AT28: =A28 -> 15 | AV28: TO
A29: 16 | B29: =VLOOKUP(D29,[1]LuongBC_T01!$B$9:$C$292,2,FALSE) -> 0016100006538007 | C29: 11100000707 | D29: Hồ Văn Sĩ | E29: Trưởng phòng Tuyển sinh - Đào tạo | F29: Th.S | I29: PPK | J29: PPK029 | K29: =VLOOKUP(D29,[2]T3!$B$2:$D$328,3,FALSE) -> 022764854 | L29: 1603205185681 | M29: 11100000707 | N29: V.09.02.03 | O29: A1 | P29: 8 | Q29: 4.98 | R29: =T29+V29+X29 -> 1.536 | T29: =ROUND(Q29*S29/100,4) -> 0 | U29: =Q29*S29*$D$8/100 -> 0 | V29: 0.45 | W29: =VLOOKUP(D29,[3]BC!$D$14:$X$294,20,FALSE) -> 0.2 | X29: =ROUND((Q29+T29+V29)*W29,4) -> 1.086 | Y29: =ROUND(Q29+T29+V29+X29,4) -> 6.516 | Z29: =ROUND(Y29*$D$8,0) -> 9708840 | AB29: =Z29/24*AA29 -> 0 | AC29: =Z29/24*AA29*75% -> 0 | AD29: =ROUND(Z29-AB29+AC29,0) -> 9708840 | AE29: =Z29*8% -> 776707.2 | AF29: =Z29*1.5% -> 145632.6 | AG29: =Z29*1% -> 97088.4 | AI29: =SUM(AE29:AH29) -> 1019428.2 | AK29: =AJ29*$D$8 -> 0 | AN29: =Q29+T29+V29 -> 5.43 | AO29: 0.25 | AP29: =ROUND(AN29*AO29,4) -> 1.3575 | AQ29: =ROUND(AP29*$D$8,0) -> 2022675 | AS29: =ROUND(AD29-AI29+AK29+AM29+AQ29,0) -> 10712087 | AT29: =A29 -> 16 | AV29: DT
A30: 17 | B30: =VLOOKUP(D30,[1]LuongBC_T01!$B$9:$C$292,2,FALSE) -> 0016100006783001 | C30: 11100000751 | D30: Nguyễn Ngọc Hiệp | E30: Phó Trưởng phòng Thanh tra giáo dục - CT Sinh viên | F30: ĐH | I30: GV | J30: GV089 | K30: =VLOOKUP(D30,[2]T3!$B$2:$D$328,3,FALSE) -> 022776286 | L30: 1603205179173 | M30: 11100000751 | N30: V.09.02.03 | O30: A1 | P30: 8 | Q30: 4.98 | R30: =T30+V30+X30 -> 1.416 | T30: =ROUND(Q30*S30/100,4) -> 0 | U30: =Q30*S30*$D$8/100 -> 0 | V30: 0.35 | W30: =VLOOKUP(D30,[3]BC!$D$14:$X$294,20,FALSE) -> 0.2 | X30: =ROUND((Q30+T30+V30)*W30,4) -> 1.066 | Y30: =ROUND(Q30+T30+V30+X30,4) -> 6.396 | Z30: =ROUND(Y30*$D$8,0) -> 9530040 | AB30: =Z30/24*AA30 -> 0 | AC30: =Z30/24*AA30*75% -> 0 | AD30: =ROUND(Z30-AB30+AC30,0) -> 9530040 | AE30: =Z30*8% -> 762403.2 | AF30: =Z30*1.5% -> 142950.6 | AG30: =Z30*1% -> 95300.4 | AI30: =SUM(AE30:AH30) -> 1000654.2 | AK30: =AJ30*$D$8 -> 0 | AN30: =Q30+T30+V30 -> 5.33 | AO30: 0.25 | AP30: =ROUND(AN30*AO30,4) -> 1.3325 | AQ30: =ROUND(AP30*$D$8,0) -> 1985425 | AS30: =ROUND(AD30-AI30+AK30+AM30+AQ30,0) -> 10514811 | AT30: =A30 -> 17 | AV30: QS
A31: 18 | B31: =VLOOKUP(D31,[1]LuongBC_T01!$B$9:$C$292,2,FALSE) -> 0016100006617004 | C31: 11100000722 | D31: Huỳnh Ngọc Mai | E31: Phó Trưởng khoa Điện - Điện tử | F31: Th.S | H31: GV | I31: TT | J31: TT050 | K31: =VLOOKUP(D31,[2]T3!$B$2:$D$328,3,FALSE) -> 023230246 | L31: 1603205179042 | M31: 11100000722 | N31: V.09.02.03 | O31: A1 | P31: 9 | Q31: 4.98 | R31: =T31+V31+X31 -> 1.8264 | S31: 5 | T31: =ROUND(Q31*S31/100,4) -> 0.249 | U31: =Q31*S31*$D$8/100 -> 371010 | V31: 0.35 | W31: =VLOOKUP(D31,[3]BC!$D$14:$X$294,20,FALSE) -> 0.22 | X31: =ROUND((Q31+T31+V31)*W31,4) -> 1.2274 | Y31: =ROUND(Q31+T31+V31+X31,4) -> 6.8064 | Z31: =ROUND(Y31*$D$8,0) -> 10141536 | AB31: =Z31/24*AA31 -> 0 | AC31: =Z31/24*AA31*75% -> 0 | AD31: =ROUND(Z31-AB31+AC31,0) -> 10141536 | AE31: =Z31*8% -> 811322.88 | AF31: =Z31*1.5% -> 152123.04 | AG31: =Z31*1% -> 101415.36 | AI31: =SUM(AE31:AH31) -> 1064861.3 | AK31: =AJ31*$D$8 -> 0 | AN31: =Q31+T31+V31 -> 5.579 | AO31: 0.25 | AP31: =ROUND(AN31*AO31,4) -> 1.3948 | AQ31: =ROUND(AP31*$D$8,0) -> 2078252 | AS31: =ROUND(AD31-AI31+AK31+AM31+AQ31,0) -> 11154927 | AT31: =A31 -> 18 | AV31: DDT
A32: 19 | B32: =VLOOKUP(D32,[1]LuongBC_T01!$B$9:$C$292,2,FALSE) -> 0016100006810009 | C32: 11100000799 | D32: Phạm Thị Thu Nga | E32: Phó Trưởng khoa KHCB | F32: Th.S | G32: x | H32: GV | I32: TT | J32: TT055 | K32: =VLOOKUP(D32,[2]T3!$B$2:$D$328,3,FALSE) -> 040176000521 | L32: 1603205186372 | M32: 11100000799 | N32: V.07.01.03 | O32: A1 | P32: 6 | Q32: 4.65 | R32: =T32+V32+X32 -> 1.25 | T32: =ROUND(Q32*S32/100,4) -> 0 | U32: =Q32*S32*$D$8/100 -> 0 | V32: 0.35 | W32: 0.18 | X32: =ROUND((Q32+T32+V32)*W32,4) -> 0.9 | Y32: =ROUND(Q32+T32+V32+X32,4) -> 5.9 | Z32: =ROUND(Y32*$D$8,0) -> 8791000 | AB32: =Z32/24*AA32 -> 0 | AC32: 0 | AD32: =ROUND(Z32-AB32+AC32,0) -> 8791000 | AE32: =Z32*8% -> 703280 | AF32: =Z32*1.5% -> 131865 | AG32: =Z32*1% -> 87910 | AI32: =SUM(AE32:AH32) -> 923055 | AK32: =AJ32*$D$8 -> 0 | AN32: =Q32+T32+V32 -> 5 | AO32: 0.25 | AP32: =ROUND(AN32*AO32,4) -> 1.25 | AQ32: =ROUND(AP32*$D$8,0) -> 1862500 | AS32: =ROUND(AD32-AI32+AK32+AM32+AQ32,0) -> 9730445 | AT32: =A32 -> 19 | AV32: KHCB
A33: 20 | B33: =VLOOKUP(D33,[1]LuongBC_T01!$B$9:$C$292,2,FALSE) -> 0016100006509007 | C33: 11100000802 | D33: Nguyễn Khoa | E33: Phó Trưởng khoa CNTT | F33: ĐH | H33: GV | I33: PPK | J33: PPK031 | K33: =VLOOKUP(D33,[2]T3!$B$2:$D$328,3,FALSE) -> 020634880 | L33: 1603205185311 | M33: 11100000802 | N33: V.09.02.03 | O33: A1 | P33: 6 | Q33: 4.32 | R33: =T33+V33+X33 -> 1.1906 | T33: =ROUND(Q33*S33/100,4) -> 0 | U33: =Q33*S33*$D$8/100 -> 0 | V33: 0.35 | W33: 0.18 | X33: =ROUND((Q33+T33+V33)*W33,4) -> 0.8406 | Y33: =ROUND(Q33+T33+V33+X33,4) -> 5.5106 | Z33: =ROUND(Y33*$D$8,0) -> 8210794 | AB33: =Z33/24*AA33 -> 0 | AC33: =Z33/24*AA33*75% -> 0 | AD33: =ROUND(Z33-AB33+AC33,0) -> 8210794 | AE33: =Z33*8% -> 656863.52 | AF33: =Z33*1.5% -> 123161.91 | AG33: =Z33*1% -> 82107.94 | AI33: =SUM(AE33:AH33) -> 862133.37 | AK33: =AJ33*$D$8 -> 0 | AN33: =Q33+T33+V33 -> 4.67 | AO33: 0.25 | AP33: =ROUND(AN33*AO33,4) -> 1.1675 | AQ33: =ROUND(AP33*$D$8,0) -> 1739575 | AS33: =ROUND(AD33-AI33+AK33+AM33+AQ33,0) -> 9088236 | AT33: =A33 -> 20 | AV33: CNTT
A34: 21 | B34: =VLOOKUP(D34,[1]LuongBC_T01!$B$9:$C$292,2,FALSE) -> 0016100006694009 | C34: 11100000776 | D34: Võ Đắc Thịnh | E34: Phó Trưởng khoa Động lực | F34: ĐH | H34: GV | I34: PPK | J34: PPK035 | K34: =VLOOKUP(D34,[2]T3!$B$2:$D$328,3,FALSE) -> 079079003245 | L34: 1603205178692 | M34: 11100000776 | N34: V.09.02.03 | O34: A1 | P34: 6 | Q34: 4.32 | R34: =T34+V34+X34 -> 1.1439 | T34: =ROUND(Q34*S34/100,4) -> 0 | U34: =Q34*S34*$D$8/100 -> 0 | V34: 0.35 | W34: 0.17 | X34: =ROUND((Q34+T34+V34)*W34,4) -> 0.7939 | Y34: =ROUND(Q34+T34+V34+X34,4) -> 5.4639 | Z34: =ROUND(Y34*$D$8,0) -> 8141211 | AB34: =Z34/24*AA34 -> 0 | AC34: =Z34/24*AA34*75% -> 0 | AD34: =ROUND(Z34-AB34+AC34,0) -> 8141211 | AE34: =Z34*8% -> 651296.88 | AF34: =Z34*1.5% -> 122118.16 | AG34: =Z34*1% -> 81412.11 | AI34: =SUM(AE34:AH34) -> 854827.16 | AK34: =AJ34*$D$8 -> 0 | AN34: =Q34+T34+V34 -> 4.67 | AO34: 0.25 | AP34: =ROUND(AN34*AO34,4) -> 1.1675 | AQ34: =ROUND(AP34*$D$8,0) -> 1739575 | AS34: =ROUND(AD34-AI34+AK34+AM34+AQ34,0) -> 9025959 | AT34: =A34 -> 21 | AV34: DLUC
A35: 22 | B35: =VLOOKUP(D35,[1]LuongBC_T01!$B$9:$C$292,2,FALSE) -> 0016100006592001 | C35: 11100000713 | D35: Tạ Minh Cường | E35: Trưởng khoa Công nghệ Điện - Điện tử | F35: ĐH | H35: GV | I35: TT | J35: TT056 | K35: =VLOOKUP(D35,[2]T3!$B$2:$D$328,3,FALSE) -> 024257826 | L35: 1603205182517 | M35: 11100000713 | N35: V.09.02.03 | O35: A1 | P35: 6 | Q35: 4.32 | R35: =T35+V35+X35 -> 1.6902 | T35: =ROUND(Q35*S35/100,4) -> 0 | U35: =Q35*S35*$D$8/100 -> 0 | V35: 0.45 | W35: 0.26 | X35: =ROUND((Q35+T35+V35)*W35,4) -> 1.2402 | Y35: =ROUND(Q35+T35+V35+X35,4) -> 6.0102 | Z35: =ROUND(Y35*$D$8,0) -> 8955198 | AB35: =Z35/24*AA35 -> 0 | AC35: =Z35/24*AA35*75% -> 0 | AD35: =ROUND(Z35-AB35+AC35,0) -> 8955198 | AE35: =Z35*8% -> 716415.84 | AF35: =Z35*1.5% -> 134327.97 | AG35: =Z35*1% -> 89551.98 | AI35: =SUM(AE35:AH35) -> 940295.79 | AK35: =AJ35*$D$8 -> 0 | AN35: =Q35+T35+V35 -> 4.77 | AO35: 0.25 | AP35: =ROUND(AN35*AO35,4) -> 1.1925 | AQ35: =ROUND(AP35*$D$8,0) -> 1776825 | AS35: =ROUND(AD35-AI35+AK35+AM35+AQ35,0) -> 9791727 | AT35: =A35 -> 22 | AV35: DDT
A36: 23 | B36: =VLOOKUP(D36,[1]LuongBC_T01!$B$9:$C$292,2,FALSE) -> 0016100006689005 | C36: 11100066861 | D36: Nguyễn Chí Nhân | E36: Tưởng phòng Khảo thí và KĐCL | F36: ĐH | I36: PPK | J36: PPK034 | K36: =VLOOKUP(D36,[2]T3!$B$2:$D$328,3,FALSE) -> 023176396 | L36: 1603205182184 | M36: 11100066861 | N36: V.07.01.03 | O36: A1 | P36: 5 | Q36: 4.32 | R36: =T36+V36+X36 -> 1.2132 | T36: =ROUND(Q36*S36/100,4) -> 0 | U36: =Q36*S36*$D$8/100 -> 0 | V36: 0.45 | W36: 0.16 | X36: =ROUND((Q36+T36+V36)*W36,4) -> 0.7632 | Y36: =ROUND(Q36+T36+V36+X36,4) -> 5.5332 | Z36: =ROUND(Y36*$D$8,0) -> 8244468 | AB36: =Z36/24*AA36 -> 0 | AC36: =Z36/24*AA36*75% -> 0 | AD36: =ROUND(Z36-AB36+AC36,0) -> 8244468 | AE36: =Z36*8% -> 659557.44 | AF36: =Z36*1.5% -> 123667.02 | AG36: =Z36*1% -> 82444.68 | AI36: =SUM(AE36:AH36) -> 865669.14 | AK36: =AJ36*$D$8 -> 0 | AN36: =Q36+T36+V36 -> 4.77 | AO36: 0.25 | AP36: =ROUND(AN36*AO36,4) -> 1.1925 | AQ36: =ROUND(AP36*$D$8,0) -> 1776825 | AS36: =ROUND(AD36-AI36+AK36+AM36+AQ36,0) -> 9155624 | AT36: =A36 -> 23 | AV36: TTR
A37: 24 | B37: =VLOOKUP(D37,[1]LuongBC_T01!$B$9:$C$292,2,FALSE) -> 0016100006510005 | C37: 11100000727 | D37: Nguyễn Vân Giang | E37: Giảng viên khoa CNTT | F37: Th.S | G37: x | H37: GV | I37: QL | J37: QL019 | K37: =VLOOKUP(D37,[2]T3!$B$2:$D$328,3,FALSE) -> 022157496 | L37: 1603205185051 | M37: 11100000727 | N37: V.09.02.02 | O37: A2.2 | P37: 7 | Q37: 6.44 | R37: =T37+V37+X37 -> 1.932 | T37: =ROUND(Q37*S37/100,4) -> 0 | U37: =Q37*S37*$D$8/100 -> 0 | W37: 0.3 | X37: =ROUND((Q37+T37+V37)*W37,4) -> 1.932 | Y37: =ROUND(Q37+T37+V37+X37,4) -> 8.372 | Z37: =ROUND(Y37*$D$8,0) -> 12474280 | AB37: =Z37/24*AA37 -> 0 | AC37: =Z37/24*AA37*75% -> 0 | AD37: =ROUND(Z37-AB37+AC37,0) -> 12474280 | AE37: =Z37*8% -> 997942.4 | AF37: =Z37*1.5% -> 187114.2 | AG37: =Z37*1% -> 124742.8 | AI37: =SUM(AE37:AH37) -> 1309799.4 | AK37: =AJ37*$D$8 -> 0 | AN37: =Q37+T37+V37 -> 6.44 | AO37: 0.25 | AP37: =ROUND(AN37*AO37,4) -> 1.61 | AQ37: =ROUND(AP37*$D$8,0) -> 2398900 | AS37: =ROUND(AD37-AI37+AK37+AM37+AQ37,0) -> 13563381 | AT37: =A37 -> 24 | AV37: CNTT
A38: 25 | B38: =VLOOKUP(D38,[1]LuongBC_T01!$B$9:$C$292,2,FALSE) -> 0016100006615001 | C38: 11100067878 | D38: Nguyễn Thị Huyền Nga | E38: Trưởng BM Hóa khoa KHCB | F38: ĐH | G38: x | H38: GV | I38: GV | J38: GV091 | K38: =VLOOKUP(D38,[2]T3!$B$2:$D$328,3,FALSE) -> 040174000144 | L38: 1603205189784 | M38: 11100067878 | N38: V.07.01.03 | O38: A1 | P38: 8 | Q38: 4.98 | R38: =T38+V38+X38 -> 1.3483 | T38: =ROUND(Q38*S38/100,4) -> 0 | U38: =Q38*S38*$D$8/100 -> 0 | V38: 0.25 | W38: 0.21 | X38: =ROUND((Q38+T38+V38)*W38,4) -> 1.0983 | Y38: =ROUND(Q38+T38+V38+X38,4) -> 6.3283 | Z38: =ROUND(Y38*$D$8,0) -> 9429167 | AB38: =Z38/24*AA38 -> 0 | AC38: =Z38/24*AA38*75% -> 0 | AD38: =ROUND(Z38-AB38+AC38,0) -> 9429167 | AE38: =Z38*8% -> 754333.36 | AF38: =Z38*1.5% -> 141437.51 | AG38: =Z38*1% -> 94291.67 | AI38: =SUM(AE38:AH38) -> 990062.54 | AK38: =AJ38*$D$8 -> 0 | AN38: =Q38+T38+V38 -> 5.23 | AO38: 0.25 | AP38: =ROUND(AN38*AO38,4) -> 1.3075 | AQ38: =ROUND(AP38*$D$8,0) -> 1948175 | AS38: =ROUND(AD38-AI38+AK38+AM38+AQ38,0) -> 10387279 | AT38: =A38 -> 25 | AV38: KHCB
A39: 26 | B39: =VLOOKUP(D39,[1]LuongBC_T01!$B$9:$C$292,2,FALSE) -> 0016100006708007 | C39: 11100000789 | D39: Phan Đức Long | E39: Tổ trưởng Tổ QL Ký túc xá SV | F39: ĐH | H39: GV | I39: GV | J39: GV094 | K39: =VLOOKUP(D39,[2]T3!$B$2:$D$328,3,FALSE) -> 022688264 | L39: 1603205179180 | M39: 11100000789 | N39: V.07.01.03 | O39: A1 | P39: 7 | Q39: 4.98 | R39: =T39+V39+X39 -> 1.2437 | T39: =ROUND(Q39*S39/100,4) -> 0 | U39: =Q39*S39*$D$8/100 -> 0 | V39: 0.25 | W39: 0.19 | X39: =ROUND((Q39+T39+V39)*W39,4) -> 0.9937 | Y39: =ROUND(Q39+T39+V39+X39,4) -> 6.2237 | Z39: =ROUND(Y39*$D$8,0) -> 9273313 | AA39: 4 | AB39: =Z39/24*AA39 -> 1545552.2 | AC39: 0 | AD39: =ROUND(Z39-AB39+AC39,0) -> 7727761 | AE39: =Z39*8% -> 741865.04 | AF39: =Z39*1.5% -> 139099.7 | AG39: =Z39*1% -> 92733.13 | AI39: =SUM(AE39:AH39) -> 973697.87 | AK39: =AJ39*$D$8 -> 0 | AN39: =Q39+T39+V39 -> 5.23 | AO39: 0.25 | AP39: =ROUND(AN39*AO39,4) -> 1.3075 | AQ39: =ROUND(AP39*$D$8,0) -> 1948175 | AS39: =ROUND(AD39-AI39+AK39+AM39+AQ39,0) -> 8702238 | AT39: =A39 -> 26 | AU39: Nghỉ bệnh hưởng BHXH từ 24/10 đến 29/10 | AV39: QS
A40: 27 | B40: =VLOOKUP(D40,[1]LuongBC_T01!$B$9:$C$292,2,FALSE) -> 0016100006611006 | C40: 11100000775 | D40: Võ Cường | E40: Trưởng BM khoa Điện - Điện tử | F40: ĐH | H40: GV | I40: TT | J40: TT057 | K40: =VLOOKUP(D40,[2]T3!$B$2:$D$328,3,FALSE) -> 079066001159 | L40: 1603205179036 | M40: 11100000775 | N40: V.09.02.03 | O40: A1 | P40: 6 | Q40: 4.32 | R40: =T40+V40+X40 -> 1.0269 | T40: =ROUND(Q40*S40/100,4) -> 0 | U40: =Q40*S40*$D$8/100 -> 0 | V40: 0.25 | W40: 0.17 | X40: =ROUND((Q40+T40+V40)*W40,4) -> 0.7769 | Y40: =ROUND(Q40+T40+V40+X40,4) -> 5.3469 | Z40: =ROUND(Y40*$D$8,0) -> 7966881 | AB40: =Z40/24*AA40 -> 0 | AC40: =Z40/24*AA40*75% -> 0 | AD40: =ROUND(Z40-AB40+AC40,0) -> 7966881 | AE40: =Z40*8% -> 637350.48 | AF40: =Z40*1.5% -> 119503.21 | AG40: =Z40*1% -> 79668.81 | AI40: =SUM(AE40:AH40) -> 836522.5 | AK40: =AJ40*$D$8 -> 0 | AN40: =Q40+T40+V40 -> 4.57 | AO40: 0.25 | AP40: =ROUND(AN40*AO40,4) -> 1.1425 | AQ40: =ROUND(AP40*$D$8,0) -> 1702325 | AS40: =ROUND(AD40-AI40+AK40+AM40+AQ40,0) -> 8832683 | AT40: =A40 -> 27 | AV40: DDT
A41: 28 | B41: =VLOOKUP(D41,[1]LuongBC_T01!$B$9:$C$292,2,FALSE) -> 0016100006815008 | C41: 11100000764 | D41: Phan Văn Thành | E41: Giảng viên khoa Công nghệ Cơ khí | F41: ĐH | H41: GV | I41: GV | J41: GV075 | K41: =VLOOKUP(D41,[2]T3!$B$2:$D$328,3,FALSE) -> 021314535 | L41: 1603205249149 | M41: 11100000764 | N41: V.09.02.03 | O41: A1 | P41: 9 | Q41: 4.98 | R41: =T41+V41+X41 -> 2.3267 | S41: 12 | T41: =ROUND(Q41*S41/100,4) -> 0.5976 | U41: =Q41*S41*$D$8/100 -> 890424 | W41: 0.31 | X41: =ROUND((Q41+T41+V41)*W41,4) -> 1.7291 | Y41: =ROUND(Q41+T41+V41+X41,4) -> 7.3067 | Z41: =ROUND(Y41*$D$8,0) -> 10886983 | AB41: =Z41/24*AA41 -> 0 | AC41: =Z41/24*AA41*75% -> 0 | AD41: =ROUND(Z41-AB41+AC41,0) -> 10886983 | AE41: =Z41*8% -> 870958.64 | AF41: =Z41*1.5% -> 163304.74 | AG41: =Z41*1% -> 108869.83 | AI41: =SUM(AE41:AH41) -> 1143133.2 | AK41: =AJ41*$D$8 -> 0 | AN41: =Q41+T41+V41 -> 5.5776 | AO41: 0.25 | AP41: =ROUND(AN41*AO41,4) -> 1.3944 | AQ41: =ROUND(AP41*$D$8,0) -> 2077656 | AS41: =ROUND(AD41-AI41+AK41+AM41+AQ41,0) -> 11821506 | AT41: =A41 -> 28 | AV41: CK
A42: 29 | B42: =VLOOKUP(D42,[1]LuongBC_T01!$B$9:$C$292,2,FALSE) -> 0016100006728008 | C42: 11100000714 | D42: Đặng Thị Nhật Minh | E42: Giảng viên khoa Lý luận chính trị | F42: Th.S | G42: x | H42: GV | I42: GV | J42: GV081 | K42: 079167006972 | L42: 1603205182530 | M42: 11100000714 | N42: V.07.01.03 | O42: A1 | P42: 9 | Q42: 4.98 | R42: =T42+V42+X42 -> 1.6892 | S42: 8 | T42: =ROUND(Q42*S42/100,4) -> 0.3984 | U42: =Q42*S42*$D$8/100 -> 593616 | W42: 0.24 | X42: =ROUND((Q42+T42+V42)*W42,4) -> 1.2908 | Y42: =ROUND(Q42+T42+V42+X42,4) -> 6.6692 | Z42: =ROUND(Y42*$D$8,0) -> 9937108 | AB42: =Z42/24*AA42 -> 0 | AC42: =Z42/24*AA42*75% -> 0 | AD42: =ROUND(Z42-AB42+AC42,0) -> 9937108 | AE42: =Z42*8% -> 794968.64 | AF42: =Z42*1.5% -> 149056.62 | AG42: =Z42*1% -> 99371.08 | AI42: =SUM(AE42:AH42) -> 1043396.3 | AK42: =AJ42*$D$8 -> 0 | AN42: =Q42+T42+V42 -> 5.3784 | AO42: 0.25 | AP42: =ROUND(AN42*AO42,4) -> 1.3446 | AQ42: =ROUND(AP42*$D$8,0) -> 2003454 | AS42: =ROUND(AD42-AI42+AK42+AM42+AQ42,0) -> 10897166 | AT42: =A42 -> 29 | AV42: KHCB
A43: 30 | B43: =VLOOKUP(D43,[1]LuongBC_T01!$B$9:$C$292,2,FALSE) -> 0016100006613009 | C43: 11100000763 | D43: Nguyễn Đức Thắng | E43: Giảng viên khoa KHCB | F43: ĐH | H43: GV | I43: GV | J43: GV080 | K43: =VLOOKUP(D43,[2]T3!$B$2:$D$328,3,FALSE) -> 021652916 | L43: 1603205190074 | M43: 11100000763 | N43: V.09.02.03 | O43: A1 | P43: 9 | Q43: 4.98 | R43: =T43+V43+X43 -> 2.1309 | S43: 9 | T43: =ROUND(Q43*S43/100,4) -> 0.4482 | U43: =Q43*S43*$D$8/100 -> 667818 | W43: 0.31 | X43: =ROUND((Q43+T43+V43)*W43,4) -> 1.6827 | Y43: =ROUND(Q43+T43+V43+X43,4) -> 7.1109 | Z43: =ROUND(Y43*$D$8,0) -> 10595241 | AB43: =Z43/24*AA43 -> 0 | AC43: =Z43/24*AA43*75% -> 0 | AD43: =ROUND(Z43-AB43+AC43,0) -> 10595241 | AE43: =Z43*8% -> 847619.28 | AF43: =Z43*1.5% -> 158928.61 | AG43: =Z43*1% -> 105952.41 | AI43: =SUM(AE43:AH43) -> 1112500.3 | AK43: =AJ43*$D$8 -> 0 | AN43: =Q43+T43+V43 -> 5.4282 | AO43: 0.25 | AP43: =ROUND(AN43*AO43,4) -> 1.3571 | AQ43: =ROUND(AP43*$D$8,0) -> 2022079 | AS43: =ROUND(AD43-AI43+AK43+AM43+AQ43,0) -> 11504820 | AT43: =A43 -> 30 | AV43: KHCB
A44: 31 | B44: =VLOOKUP(D44,[1]LuongBC_T01!$B$9:$C$292,2,FALSE) -> 0016100006644001 | C44: 11100000747 | D44: Nguyễn Hồng Đức | E44: Giảng viên khoa Điện - Điện tử | F44: ĐH | H44: GV | I44: GV | J44: GV082 | K44: =VLOOKUP(D44,[2]T3!$B$2:$D$328,3,FALSE) -> 022228240 | L44: 1603205179007 | M44: 11100000747 | N44: V.09.02.03 | O44: A1 | P44: 9 | Q44: 4.98 | R44: =T44+V44+X44 -> 1.9581 | S44: 8 | T44: =ROUND(Q44*S44/100,4) -> 0.3984 | U44: =Q44*S44*$D$8/100 -> 593616 | W44: 0.29 | X44: =ROUND((Q44+T44+V44)*W44,4) -> 1.5597 | Y44: =ROUND(Q44+T44+V44+X44,4) -> 6.9381 | Z44: =ROUND(Y44*$D$8,0) -> 10337769 | AB44: =Z44/24*AA44 -> 0 | AD44: =ROUND(Z44-AB44+AC44,0) -> 10337769 | AE44: =Z44*8% -> 827021.52 | AF44: =Z44*1.5% -> 155066.54 | AG44: =Z44*1% -> 103377.69 | AI44: =SUM(AE44:AH44) -> 1085465.7 | AK44: =AJ44*$D$8 -> 0 | AN44: =Q44+T44+V44 -> 5.3784 | AO44: 0.25 | AP44: =ROUND(AN44*AO44,4) -> 1.3446 | AQ44: =ROUND(AP44*$D$8,0) -> 2003454 | AS44: =ROUND(AD44-AI44+AK44+AM44+AQ44,0) -> 11255757 | AT44: =A44 -> 31 | AV44: DDT
A45: 32 | B45: =VLOOKUP(D45,[1]LuongBC_T01!$B$9:$C$292,2,FALSE) -> 0016100006832002 | C45: 11100000761 | D45: Trương Việt Khánh Trang | E45: Giảng viên khoa May - Thời trang | F45: ĐH | G45: x | H45: GV | I45: QL | J45: QL016 | K45: =VLOOKUP(D45,[2]T3!$B$2:$D$328,3,FALSE) -> 022135257 | L45: 1603205182523 | M45: 11100000761 | N45: V.09.02.03 | O45: A1 | P45: 9 | Q45: 4.98 | R45: =T45+V45+X45 -> 1.5209 | S45: 7 | T45: =ROUND(Q45*S45/100,4) -> 0.3486 | U45: =Q45*S45*$D$8/100 -> 519414 | W45: 0.22 | X45: =ROUND((Q45+T45+V45)*W45,4) -> 1.1723 | Y45: =ROUND(Q45+T45+V45+X45,4) -> 6.5009 | Z45: =ROUND(Y45*$D$8,0) -> 9686341 | AB45: =Z45/24*AA45 -> 0 | AC45: =Z45/24*AA45*75% -> 0 | AD45: =ROUND(Z45-AB45+AC45,0) -> 9686341 | AE45: =Z45*8% -> 774907.28 | AF45: =Z45*1.5% -> 145295.11 | AG45: =Z45*1% -> 96863.41 | AI45: =SUM(AE45:AH45) -> 1017065.8 | AK45: =AJ45*$D$8 -> 0 | AN45: =Q45+T45+V45 -> 5.3286 | AO45: 0.25 | AP45: =ROUND(AN45*AO45,4) -> 1.3322 | AQ45: =ROUND(AP45*$D$8,0) -> 1984978 | AS45: =ROUND(AD45-AI45+AK45+AM45+AQ45,0) -> 10654253 | AT45: =A45 -> 32 | AV45: M
A46: 33 | B46: =VLOOKUP(D46,[1]LuongBC_T01!$B$9:$C$292,2,FALSE) -> 0016100006814004 | C46: 11100000748 | D46: Nguyễn Thanh Vĩnh Phúc | E46: Giảng viên khoa Cơ khí | F46: ĐH | I46: NV | J46: NV084 | K46: =VLOOKUP(D46,[2]T3!$B$2:$D$328,3,FALSE) -> 022102283 | L46: 1603205186140 | M46: 11100000748 | N46: V.09.02.03 | O46: A1 | P46: 8 | Q46: 4.98 | R46: =T46+V46+X46 -> 0.6972 | T46: =ROUND(Q46*S46/100,4) -> 0 | U46: =Q46*S46*$D$8/100 -> 0 | W46: 0.14 | X46: =ROUND((Q46+T46+V46)*W46,4) -> 0.6972 | Y46: =ROUND(Q46+T46+V46+X46,4) -> 5.6772 | Z46: =ROUND(Y46*$D$8,0) -> 8459028 | AB46: =Z46/24*AA46 -> 0 | AC46: =Z46/24*AA46*75% -> 0 | AD46: =ROUND(Z46-AB46+AC46,0) -> 8459028 | AE46: =Z46*8% -> 676722.24 | AF46: =Z46*1.5% -> 126885.42 | AG46: =Z46*1% -> 84590.28 | AI46: =SUM(AE46:AH46) -> 888197.94 | AK46: =AJ46*$D$8 -> 0 | AN46: =Q46+T46+V46 -> 4.98 | AO46: 0.25 | AP46: =ROUND(AN46*AO46,4) -> 1.245 | AQ46: =ROUND(AP46*$D$8,0) -> 1855050 | AS46: =ROUND(AD46-AI46+AK46+AM46+AQ46,0) -> 9425880 | AT46: =A46 -> 33 | AV46: CK
A47: 34 | B47: =VLOOKUP(D47,[1]LuongBC_T01!$B$9:$C$292,2,FALSE) -> 0016100006531002 | C47: 11100000716 | D47: Trần Công Tiến | E47: Giảng viên khoa Điện - Điện tử | F47: ĐH | H47: GV | I47: TT | J47: TT051 | K47: 079072000577 | L47: 1603205178917 | M47: 11100000716 | N47: V.09.02.03 | O47: A1 | P47: 9 | Q47: 4.98 | R47: =T47+V47+X47 -> 1.3994 | S47: 5 | T47: =ROUND(Q47*S47/100,4) -> 0.249 | U47: =Q47*S47*$D$8/100 -> 371010 | W47: =VLOOKUP(D47,[3]BC!$D$14:$X$294,20,FALSE) -> 0.22 | X47: =ROUND((Q47+T47+V47)*W47,4) -> 1.1504 | Y47: =ROUND(Q47+T47+V47+X47,4) -> 6.3794 | Z47: =ROUND(Y47*$D$8,0) -> 9505306 | AB47: =Z47/24*AA47 -> 0 | AC47: =Z47/24*AA47*75% -> 0 | AD47: =ROUND(Z47-AB47+AC47,0) -> 9505306 | AE47: =Z47*8% -> 760424.48 | AF47: =Z47*1.5% -> 142579.59 | AG47: =Z47*1% -> 95053.06 | AI47: =SUM(AE47:AH47) -> 998057.13 | AK47: =AJ47*$D$8 -> 0 | AN47: =Q47+T47+V47 -> 5.229 | AO47: 0.25 | AP47: =ROUND(AN47*AO47,4) -> 1.3073 | AQ47: =ROUND(AP47*$D$8,0) -> 1947877 | AS47: =ROUND(AD47-AI47+AK47+AM47+AQ47,0) -> 10455126 | AT47: =A47 -> 34 | AV47: DDT
A48: 35 | B48: =VLOOKUP(D48,[1]LuongBC_T01!$B$9:$C$292,2,FALSE) -> 0016100006622008 | C48: 11100082588 | D48: Nguyễn Thanh Tú | E48: Giảng viên khoa KHCB | F48: ĐH | H48: GV | I48: GV | J48: GV090 | K48: =VLOOKUP(D48,[2]T3!$B$2:$D$328,3,FALSE) -> 079076002757 | L48: 1603205185580 | M48: 11100082588 | N48: V.07.01.03 | O48: A1 | P48: 8 | Q48: 4.98 | R48: =T48+V48+X48 -> 1.3471 | S48: 5 | T48: =ROUND(Q48*S48/100,4) -> 0.249 | U48: =Q48*S48*$D$8/100 -> 371010 | W48: 0.21 | X48: =ROUND((Q48+T48+V48)*W48,4) -> 1.0981 | Y48: =ROUND(Q48+T48+V48+X48,4) -> 6.3271 | Z48: =ROUND(Y48*$D$8,0) -> 9427379 | AB48: =Z48/24*AA48 -> 0 | AC48: =Z48/24*AA48*75% -> 0 | AD48: =ROUND(Z48-AB48+AC48,0) -> 9427379 | AE48: =Z48*8% -> 754190.32 | AF48: =Z48*1.5% -> 141410.68 | AG48: =Z48*1% -> 94273.79 | AI48: =SUM(AE48:AH48) -> 989874.8 | AK48: =AJ48*$D$8 -> 0 | AN48: =Q48+T48+V48 -> 5.229 | AO48: 0.25 | AP48: =ROUND(AN48*AO48,4) -> 1.3073 | AQ48: =ROUND(AP48*$D$8,0) -> 1947877 | AS48: =ROUND(AD48-AI48+AK48+AM48+AQ48,0) -> 10385381 | AT48: =A48 -> 35 | AV48: KHCB | AX48: =185*500000 -> 92500000
A49: 36 | B49: =VLOOKUP(D49,[1]LuongBC_T01!$B$9:$C$292,2,FALSE) -> 0016100006530006 | C49: 11100000708 | D49: Nguyễn Văn Yên | E49: Giảng viên khoa Điện - Điện tử | F49: ĐH | H49: GV | I49: PPK | J49: PPK030 | K49: 079073005167 | L49: 1603205182371 | M49: 11100000708 | N49: V.09.02.03 | O49: A1 | P49: 8 | Q49: 4.98 | R49: =T49+V49+X49 -> 0.996 | T49: =ROUND(Q49*S49/100,4) -> 0 | U49: =Q49*S49*$D$8/100 -> 0 | W49: 0.2 | X49: =ROUND((Q49+T49+V49)*W49,4) -> 0.996 | Y49: =ROUND(Q49+T49+V49+X49,4) -> 5.976 | Z49: =ROUND(Y49*$D$8,0) -> 8904240 | AB49: =Z49/24*AA49 -> 0 | AC49: =Z49/24*AA49*75% -> 0 | AD49: =ROUND(Z49-AB49+AC49,0) -> 8904240 | AE49: =Z49*8% -> 712339.2 | AF49: =Z49*1.5% -> 133563.6 | AG49: =Z49*1% -> 89042.4 | AI49: =SUM(AE49:AH49) -> 934945.2 | AK49: =AJ49*$D$8 -> 0 | AN49: =Q49+T49+V49 -> 4.98 | AO49: 0.25 | AP49: =ROUND(AN49*AO49,4) -> 1.245 | AQ49: =ROUND(AP49*$D$8,0) -> 1855050 | AS49: =ROUND(AD49-AI49+AK49+AM49+AQ49,0) -> 9824345 | AT49: =A49 -> 36 | AV49: DDT | AX49: =44*200000 -> 8800000
A50: 37 | B50: =VLOOKUP(D50,[1]LuongBC_T01!$B$9:$C$292,2,FALSE) -> 0016100006758007 | C50: 11100000773 | D50: Vũ Quang Khải | E50: Giảng viên khoa Cơ khí | F50: ĐH | H50: GV | I50: TT | J50: TT054 | K50: =VLOOKUP(D50,[2]T3!$B$2:$D$328,3,FALSE) -> 022355188 | L50: 1603205189699 | M50: 11100000773 | N50: V.09.02.03 | O50: A1 | P50: 8 | Q50: 4.98 | R50: =T50+V50+X50 -> 1.0458 | T50: =ROUND(Q50*S50/100,4) -> 0 | U50: =Q50*S50*$D$8/100 -> 0 | W50: 0.21 | X50: =ROUND((Q50+T50+V50)*W50,4) -> 1.0458 | Y50: =ROUND(Q50+T50+V50+X50,4) -> 6.0258 | Z50: =ROUND(Y50*$D$8,0) -> 8978442 | AB50: =Z50/24*AA50 -> 0 | AC50: =Z50/24*AA50*75% -> 0 | AD50: =ROUND(Z50-AB50+AC50,0) -> 8978442 | AE50: =Z50*8% -> 718275.36 | AF50: =Z50*1.5% -> 134676.63 | AG50: =Z50*1% -> 89784.42 | AI50: =SUM(AE50:AH50) -> 942736.41 | AK50: =AJ50*$D$8 -> 0 | AN50: =Q50+T50+V50 -> 4.98 | AO50: 0.25 | AP50: =ROUND(AN50*AO50,4) -> 1.245 | AQ50: =ROUND(AP50*$D$8,0) -> 1855050 | AS50: =ROUND(AD50-AI50+AK50+AM50+AQ50,0) -> 9890756 | AT50: =A50 -> 37 | AV50: CK | AX50: =56*100000 -> 5600000
A51: 38 | B51: =VLOOKUP(D51,[1]LuongBC_T01!$B$9:$C$292,2,FALSE) -> 0016100006760001 | C51: 11100000750 | D51: Đỗ Thị Phương Khanh | E51: Giảng viên khoa Cơ khí | F51: Th.S | G51: x | H51: GV | I51: TT | J51: TT052 | K51: =VLOOKUP(D51,[2]T3!$B$2:$D$328,3,FALSE) -> 023044182 | L51: 1603205182126 | M51: 11100000750 | N51: V.09.02.03 | O51: A1 | P51: 8 | Q51: 4.98 | R51: =T51+V51+X51 -> 1.0458 | T51: =ROUND(Q51*S51/100,4) -> 0 | U51: =Q51*S51*$D$8/100 -> 0 | W51: 0.21 | X51: =ROUND((Q51+T51+V51)*W51,4) -> 1.0458 | Y51: =ROUND(Q51+T51+V51+X51,4) -> 6.0258 | Z51: =ROUND(Y51*$D$8,0) -> 8978442 | AB51: =Z51/24*AA51 -> 0 | AC51: =Z51/24*AA51*75% -> 0 | AD51: =ROUND(Z51-AB51+AC51,0) -> 8978442 | AE51: =Z51*8% -> 718275.36 | AF51: =Z51*1.5% -> 134676.63 | AG51: =Z51*1% -> 89784.42 | AI51: =SUM(AE51:AH51) -> 942736.41 | AK51: =AJ51*$D$8 -> 0 | AN51: =Q51+T51+V51 -> 4.98 | AO51: 0.25 | AP51: =ROUND(AN51*AO51,4) -> 1.245 | AQ51: =ROUND(AP51*$D$8,0) -> 1855050 | AS51: =ROUND(AD51-AI51+AK51+AM51+AQ51,0) -> 9890756 | AT51: =A51 -> 38 | AV51: CK | AX51: =22*50000 -> 1100000
A52: 39 | B52: =VLOOKUP(D52,[1]LuongBC_T01!$B$9:$C$292,2,FALSE) -> 0016100006763008 | C52: 11100000755 | D52: Trương Thị Phương Hồng | E52: Giảng viên khoa Cơ khí | F52: ĐH | G52: x | H52: GV | I52: TT | J52: TT053 | K52: =VLOOKUP(D52,[2]T3!$B$2:$D$328,3,FALSE) -> 022813516 | L52: 1603205182211 | M52: 11100000755 | N52: V.09.02.03 | O52: A1 | P52: 8 | Q52: 4.98 | R52: =T52+V52+X52 -> 0.996 | T52: =ROUND(Q52*S52/100,4) -> 0 | U52: =Q52*S52*$D$8/100 -> 0 | W52: 0.2 | X52: =ROUND((Q52+T52+V52)*W52,4) -> 0.996 | Y52: =ROUND(Q52+T52+V52+X52,4) -> 5.976 | Z52: =ROUND(Y52*$D$8,0) -> 8904240 | AB52: =Z52/24*AA52 -> 0 | AC52: =Z52/24*AA52*75% -> 0 | AD52: =ROUND(Z52-AB52+AC52,0) -> 8904240 | AE52: =Z52*8% -> 712339.2 | AF52: =Z52*1.5% -> 133563.6 | AG52: =Z52*1% -> 89042.4 | AI52: =SUM(AE52:AH52) -> 934945.2 | AK52: =AJ52*$D$8 -> 0 | AN52: =Q52+T52+V52 -> 4.98 | AO52: 0.25 | AP52: =ROUND(AN52*AO52,4) -> 1.245 | AQ52: =ROUND(AP52*$D$8,0) -> 1855050 | AS52: =ROUND(AD52-AI52+AK52+AM52+AQ52,0) -> 9824345 | AT52: =A52 -> 39 | AV52: CK | AX52: =SUM(AX48:AX51) -> 108000000
A53: 40 | B53: =VLOOKUP(D53,[1]LuongBC_T01!$B$9:$C$292,2,FALSE) -> 0016100006501006 | C53: 11100000754 | D53: Nguyễn Tứ Cảnh | E53: Nhân viên Trung tâm Thư viện | F53: ĐH | I53: GV | J53: GV092 | K53: =VLOOKUP(D53,[2]T3!$B$2:$D$328,3,FALSE) -> 020953956 | L53: 1603205179013 | M53: 11100000754 | N53: V.07.01.03 | O53: A1 | P53: 8 | Q53: 4.98 | R53: =T53+V53+X53 -> 0 | T53: =ROUND(Q53*S53/100,4) -> 0 | U53: =Q53*S53*$D$8/100 -> 0 | W53: =VLOOKUP(D53,[3]BC!$D$14:$X$294,20,FALSE) -> 0 | X53: =ROUND((Q53+T53+V53)*W53,4) -> 0 | Y53: =ROUND(Q53+T53+V53+X53,4) -> 4.98 | Z53: =ROUND(Y53*$D$8,0) -> 7420200 | AB53: =Z53/24*AA53 -> 0 | AC53: =Z53/24*AA53*75% -> 0 | AD53: =ROUND(Z53-AB53+AC53,0) -> 7420200 | AE53: =Z53*8% -> 593616 | AF53: =Z53*1.5% -> 111303 | AG53: =Z53*1% -> 74202 | AI53: =SUM(AE53:AH53) -> 779121 | AK53: =AJ53*$D$8 -> 0 | AN53: =Q53+T53+V53 -> 4.98 | AP53: =ROUND(AN53*AO53,4) -> 0 | AQ53: =ROUND(AP53*$D$8,0) -> 0 | AS53: =ROUND(AD53-AI53+AK53+AM53+AQ53,0) -> 6641079 | AT53: =A53 -> 40 | AV53: DDT
A54: 41 | B54: =VLOOKUP(D54,[1]LuongBC_T01!$B$9:$C$292,2,FALSE) -> 0016100006811005 | C54: 11100000770 | D54: Phan Thị Xuân Trang | E54: Giảng viên khoa Cơ khí | F54: ĐH | G54: x | H54: GV | I54: GV | J54: GV115 | K54: =VLOOKUP(D54,[2]T3!$B$2:$D$328,3,FALSE) -> 024283935 | L54: 1603205185550 | M54: 11100000770 | N54: V.07.01.03 | O54: A1 | P54: 8 | Q54: 4.98 | R54: =T54+V54+X54 -> 0.996 | T54: =ROUND(Q54*S54/100,4) -> 0 | U54: =Q54*S54*$D$8/100 -> 0 | W54: 0.2 | X54: =ROUND((Q54+T54+V54)*W54,4) -> 0.996 | Y54: =ROUND(Q54+T54+V54+X54,4) -> 5.976 | Z54: =ROUND(Y54*$D$8,0) -> 8904240 | AB54: =Z54/24*AA54 -> 0 | AC54: =Z54/24*AA54*75% -> 0 | AD54: =ROUND(Z54-AB54+AC54,0) -> 8904240 | AE54: =Z54*8% -> 712339.2 | AF54: =Z54*1.5% -> 133563.6 | AG54: =Z54*1% -> 89042.4 | AI54: =SUM(AE54:AH54) -> 934945.2 | AK54: =AJ54*$D$8 -> 0 | AN54: =Q54+T54+V54 -> 4.98 | AO54: 0.25 | AP54: =ROUND(AN54*AO54,4) -> 1.245 | AQ54: =ROUND(AP54*$D$8,0) -> 1855050 | AS54: =ROUND(AD54-AI54+AK54+AM54+AQ54,0) -> 9824345 | AT54: =A54 -> 41 | AV54: CK
A55: 42 | B55: 0016100006590009 | C55: 11100000719 | D55: Nguyễn Minh Đức | E55: Giảng viên khoa Điện - Điện tử | F55: ĐH | H55: GV | I55: GV | J55: GV088 | K55: =VLOOKUP(D55,[2]T3!$B$2:$D$328,3,FALSE) -> 022209365 | L55: 1603205182496 | M55: 11100000719 | N55: V.09.02.03 | O55: A1 | P55: 8 | Q55: 4.98 | R55: =T55+V55+X55 -> 1.0458 | T55: =ROUND(Q55*S55/100,4) -> 0 | U55: =Q55*S55*$D$8/100 -> 0 | W55: 0.21 | X55: =ROUND((Q55+T55+V55)*W55,4) -> 1.0458 | Y55: =ROUND(Q55+T55+V55+X55,4) -> 6.0258 | Z55: =ROUND(Y55*$D$8,0) -> 8978442 | AB55: =Z55/24*AA55 -> 0 | AC55: =Z55/24*AA55*75% -> 0 | AD55: =ROUND(Z55-AB55+AC55,0) -> 8978442 | AE55: =Z55*8% -> 718275.36 | AF55: =Z55*1.5% -> 134676.63 | AG55: =Z55*1% -> 89784.42 | AI55: =SUM(AE55:AH55) -> 942736.41 | AK55: =AJ55*$D$8 -> 0 | AN55: =Q55+T55+V55 -> 4.98 | AO55: 0.25 | AP55: =ROUND(AN55*AO55,4) -> 1.245 | AQ55: =ROUND(AP55*$D$8,0) -> 1855050 | AS55: =ROUND(AD55-AI55+AK55+AM55+AQ55,0) -> 9890756 | AT55: =A55 -> 42 | AV55: DDT
A56: 43 | B56: =VLOOKUP(D56,[1]LuongBC_T01!$B$9:$C$292,2,FALSE) -> 0016100006753005 | C56: 20500006963 | D56: Nguyễn Thị Cẩm Thạch | E56: Giảng viên khoa KHCB | F56: Th.S | G56: x | H56: GV | I56: GV | J56: GV093 | K56: =VLOOKUP(D56,[2]T3!$B$2:$D$328,3,FALSE) -> 023837190 | L56: 1603205189965 | M56: 20500006963 | N56: V.07.01.03 | O56: A1 | P56: 8 | Q56: 4.98 | R56: =T56+V56+X56 -> 0.9462 | T56: =ROUND(Q56*S56/100,4) -> 0 | U56: =Q56*S56*$D$8/100 -> 0 | W56: 0.19 | X56: =ROUND((Q56+T56+V56)*W56,4) -> 0.9462 | Y56: =ROUND(Q56+T56+V56+X56,4) -> 5.9262 | Z56: =ROUND(Y56*$D$8,0) -> 8830038 | AB56: =Z56/24*AA56 -> 0 | AC56: =Z56/24*AA56*75% -> 0 | AD56: =ROUND(Z56-AB56+AC56,0) -> 8830038 | AE56: =Z56*8% -> 706403.04 | AF56: =Z56*1.5% -> 132450.57 | AG56: =Z56*1% -> 88300.38 | AI56: =SUM(AE56:AH56) -> 927153.99 | AK56: =AJ56*$D$8 -> 0 | AN56: =Q56+T56+V56 -> 4.98 | AO56: 0.25 | AP56: =ROUND(AN56*AO56,4) -> 1.245 | AQ56: =ROUND(AP56*$D$8,0) -> 1855050 | AS56: =ROUND(AD56-AI56+AK56+AM56+AQ56,0) -> 9757934 | AT56: =A56 -> 43 | AV56: KHCB
A57: 44 | B57: =VLOOKUP(D57,[1]LuongBC_T01!$B$9:$C$292,2,FALSE) -> 0016100006586001 | C57: 11100122860 | D57: Nguyễn Vũ Xuân Thì | E57: Giảng viên khoa Nhiệt - Lạnh | F57: ĐH | H57: GV | I57: GV | K57: =VLOOKUP(D57,[2]T3!$B$2:$D$328,3,FALSE) -> 079071003963 | L57: 1603205246186 | M57: 11100122860 | N57: V.09.02.03 | O57: A1 | P57: 7 | Q57: 4.65 | R57: =T57+V57+X57 -> 0.8835 | T57: =ROUND(Q57*S57/100,4) -> 0 | U57: =Q57*S57*$D$8/100 -> 0 | W57: 0.19 | X57: =ROUND((Q57+T57+V57)*W57,4) -> 0.8835 | Y57: =ROUND(Q57+T57+V57+X57,4) -> 5.5335 | Z57: =ROUND(Y57*$D$8,0) -> 8244915 | AB57: =Z57/24*AA57 -> 0 | AC57: =Z57/24*AA57*75% -> 0 | AD57: =ROUND(Z57-AB57+AC57,0) -> 8244915 | AE57: =Z57*8% -> 659593.2 | AF57: =Z57*1.5% -> 123673.72 | AG57: =Z57*1% -> 82449.15 | AI57: =SUM(AE57:AH57) -> 865716.08 | AK57: =AJ57*$D$8 -> 0 | AN57: =Q57+T57+V57 -> 4.65 | AO57: 0.25 | AP57: =ROUND(AN57*AO57,4) -> 1.1625 | AQ57: =ROUND(AP57*$D$8,0) -> 1732125 | AS57: =ROUND(AD57-AI57+AK57+AM57+AQ57,0) -> 9111324 | AT57: =A57 -> 44 | AV57: DL
A58: 45 | B58: =VLOOKUP(D58,[1]LuongBC_T01!$B$9:$C$292,2,FALSE) -> 0016100006704004 | C58: 11100091472 | D58: Võ Thị Hồng Lan | E58: Giảng viên khoa KHCB | F58: ĐH | G58: x | H58: GV | I58: GV | J58: GV212 | K58: =VLOOKUP(D58,[2]T3!$B$2:$D$328,3,FALSE) -> 024917765 | L58: 1603205218440 | M58: 11100091472 | N58: V.09.02.03 | O58: A1 | P58: 7 | Q58: 4.65 | R58: =T58+V58+X58 -> 0.9765 | T58: =ROUND(Q58*S58/100,4) -> 0 | U58: =Q58*S58*$D$8/100 -> 0 | W58: 0.21 | X58: =ROUND((Q58+T58+V58)*W58,4) -> 0.9765 | Y58: =ROUND(Q58+T58+V58+X58,4) -> 5.6265 | Z58: =ROUND(Y58*$D$8,0) -> 8383485 | AB58: =Z58/24*AA58 -> 0 | AC58: =Z58/24*AA58*75% -> 0 | AD58: =ROUND(Z58-AB58+AC58,0) -> 8383485 | AE58: =Z58*8% -> 670678.8 | AF58: =Z58*1.5% -> 125752.27 | AG58: =Z58*1% -> 83834.85 | AI58: =SUM(AE58:AH58) -> 880265.93 | AK58: =AJ58*$D$8 -> 0 | AN58: =Q58+T58+V58 -> 4.65 | AO58: 0.25 | AP58: =ROUND(AN58*AO58,4) -> 1.1625 | AQ58: =ROUND(AP58*$D$8,0) -> 1732125 | AS58: =ROUND(AD58-AI58+AK58+AM58+AQ58,0) -> 9235344 | AT58: =A58 -> 45 | AV58: KHCB
A59: 46 | B59: =VLOOKUP(D59,[1]LuongBC_T01!$B$9:$C$292,2,FALSE) -> 0016100006504005 | C59: 11100000787 | D59: Nguyễn Anh Tăng | E59: Giảng viên khoa Điện - Điện tử | F59: Th.S | H59: GV | I59: GV | J59: GV096 | K59: =VLOOKUP(D59,[2]T3!$B$2:$D$328,3,FALSE) -> 023624194 | L59: 1603205182438 | M59: 11100000787 | N59: V.09.02.03 | O59: A1 | P59: 6 | Q59: 4.32 | R59: =T59+V59+X59 -> 0.7776 | T59: =ROUND(Q59*S59/100,4) -> 0 | U59: =Q59*S59*$D$8/100 -> 0 | W59: 0.18 | X59: =ROUND((Q59+T59+V59)*W59,4) -> 0.7776 | Y59: =ROUND(Q59+T59+V59+X59,4) -> 5.0976 | Z59: =ROUND(Y59*$D$8,0) -> 7595424 | AB59: =Z59/24*AA59 -> 0 | AC59: =Z59/24*AA59*75% -> 0 | AD59: =ROUND(Z59-AB59+AC59,0) -> 7595424 | AE59: =Z59*8% -> 607633.92 | AF59: =Z59*1.5% -> 113931.36 | AG59: =Z59*1% -> 75954.24 | AI59: =SUM(AE59:AH59) -> 797519.52 | AK59: =AJ59*$D$8 -> 0 | AN59: =Q59+T59+V59 -> 4.32 | AO59: 0.25 | AP59: =ROUND(AN59*AO59,4) -> 1.08 | AQ59: =ROUND(AP59*$D$8,0) -> 1609200 | AS59: =ROUND(AD59-AI59+AK59+AM59+AQ59,0) -> 8407104 | AT59: =A59 -> 46 | AV59: DDT
A60: 47 | B60: =VLOOKUP(D60,[1]LuongBC_T01!$B$9:$C$292,2,FALSE) -> 0016100006593008 | C60: 11100000797 | D60: Ngô Hoàng Anh | E60: Giảng viên khoa Điện - Điện tử | F60: Th.S | H60: GV | I60: GV | J60: GV099 | K60: =VLOOKUP(D60,[2]T3!$B$2:$D$328,3,FALSE) -> 024951998 | L60: 1603205185596 | M60: 11100000797 | N60: V.09.02.03 | O60: A1 | P60: 6 | Q60: 4.32 | R60: =T60+V60+X60 -> 0.7776 | T60: =ROUND(Q60*S60/100,4) -> 0 | U60: =Q60*S60*$D$8/100 -> 0 | W60: 0.18 | X60: =ROUND((Q60+T60+V60)*W60,4) -> 0.7776 | Y60: =ROUND(Q60+T60+V60+X60,4) -> 5.0976 | Z60: =ROUND(Y60*$D$8,0) -> 7595424 | AB60: =Z60/24*AA60 -> 0 | AC60: =Z60/24*AA60*75% -> 0 | AD60: =ROUND(Z60-AB60+AC60,0) -> 7595424 | AE60: =Z60*8% -> 607633.92 | AF60: =Z60*1.5% -> 113931.36 | AG60: =Z60*1% -> 75954.24 | AI60: =SUM(AE60:AH60) -> 797519.52 | AK60: =AJ60*$D$8 -> 0 | AN60: =Q60+T60+V60 -> 4.32 | AO60: 0.25 | AP60: =ROUND(AN60*AO60,4) -> 1.08 | AQ60: =ROUND(AP60*$D$8,0) -> 1609200 | AS60: =ROUND(AD60-AI60+AK60+AM60+AQ60,0) -> 8407104 | AT60: =A60 -> 47 | AV60: DDT
A61: 48 | B61: =VLOOKUP(D61,[1]LuongBC_T01!$B$9:$C$292,2,FALSE) -> 0016100006583002 | C61: 11100000774 | D61: Tăng Cẩm Huê | E61: Giảng viên khoa Điện - Điện tử | F61: ĐH | G61: x | H61: GV | I61: GV | J61: GV106 | K61: =VLOOKUP(D61,[2]T3!$B$2:$D$328,3,FALSE) -> 023179583 | L61: 1603205178975 | M61: 11100000774 | N61: V.09.02.03 | O61: A1 | P61: 5 | Q61: 3.99 | R61: =T61+V61+X61 -> 0.6783 | T61: =ROUND(Q61*S61/100,4) -> 0 | U61: =Q61*S61*$D$8/100 -> 0 | W61: 0.17 | X61: =ROUND((Q61+T61+V61)*W61,4) -> 0.6783 | Y61: =ROUND(Q61+T61+V61+X61,4) -> 4.6683 | Z61: =ROUND(Y61*$D$8,0) -> 6955767 | AB61: =Z61/24*AA61 -> 0 | AC61: =Z61/24*AA61*75% -> 0 | AD61: =ROUND(Z61-AB61+AC61,0) -> 6955767 | AE61: =Z61*8% -> 556461.36 | AF61: =Z61*1.5% -> 104336.5 | AG61: =Z61*1% -> 69557.67 | AI61: =SUM(AE61:AH61) -> 730355.54 | AK61: =AJ61*$D$8 -> 0 | AN61: =Q61+T61+V61 -> 3.99 | AO61: 0.25 | AP61: =ROUND(AN61*AO61,4) -> 0.9975 | AQ61: =ROUND(AP61*$D$8,0) -> 1486275 | AS61: =ROUND(AD61-AI61+AK61+AM61+AQ61,0) -> 7711686 | AT61: =A61 -> 48 | AV61: DDT
A62: 49 | B62: =VLOOKUP(D62,[1]LuongBC_T01!$B$9:$C$292,2,FALSE) -> 0016100006588004 | C62: 11100067051 | D62: Nguyễn Anh Kiệt | E62: Giảng viên khoa Lý luận chính trị | F62: ĐH | H62: GV | I62: TT | J62: TT058 | K62: =VLOOKUP(D62,[2]T3!$B$2:$D$328,3,FALSE) -> 021513654 | L62: 1603205189913 | M62: 11100067051 | N62: V.09.02.03 | O62: A1 | P62: 5 | Q62: 3.99 | R62: =T62+V62+X62 -> 0.6384 | T62: =ROUND(Q62*S62/100,4) -> 0 | U62: =Q62*S62*$D$8/100 -> 0 | W62: =VLOOKUP(D62,[3]BC!$D$14:$X$294,20,FALSE) -> 0.16 | X62: =ROUND((Q62+T62+V62)*W62,4) -> 0.6384 | Y62: =ROUND(Q62+T62+V62+X62,4) -> 4.6284 | Z62: =ROUND(Y62*$D$8,0) -> 6896316 | AB62: =Z62/24*AA62 -> 0 | AC62: =Z62/24*AA62*75% -> 0 | AD62: =ROUND(Z62-AB62+AC62,0) -> 6896316 | AE62: =Z62*8% -> 551705.28 | AF62: =Z62*1.5% -> 103444.74 | AG62: =Z62*1% -> 68963.16 | AI62: =SUM(AE62:AH62) -> 724113.18 | AK62: =AJ62*$D$8 -> 0 | AN62: =Q62+T62+V62 -> 3.99 | AO62: 0.45 | AP62: =ROUND(AN62*AO62,4) -> 1.7955 | AQ62: =ROUND(AP62*$D$8,0) -> 2675295 | AS62: =ROUND(AD62-AI62+AK62+AM62+AQ62,0) -> 8847498 | AT62: =A62 -> 49 | AV62: KHCB
A63: 50 | B63: =VLOOKUP(D63,[1]LuongBC_T01!$B$9:$C$292,2,FALSE) -> 0016100006735007 | C63: 11100000801 | D63: Vương Thanh Thủy | E63: Giảng viên khoa KHCB | F63: Th.S | G63: x | H63: GV | I63: TT | J63: TT059 | K63: 001172012821 | L63: 1603205190147 | M63: 11100000801 | N63: V.09.02.03 | O63: A1 | P63: 6 | Q63: 3.99 | R63: =T63+V63+X63 -> 0.6783 | T63: =ROUND(Q63*S63/100,4) -> 0 | U63: =Q63*S63*$D$8/100 -> 0 | W63: =VLOOKUP(D63,[3]BC!$D$14:$X$294,20,FALSE) -> 0.17 | X63: =ROUND((Q63+T63+V63)*W63,4) -> 0.6783 | Y63: =ROUND(Q63+T63+V63+X63,4) -> 4.6683 | Z63: =ROUND(Y63*$D$8,0) -> 6955767 | AB63: =Z63/24*AA63 -> 0 | AC63: =Z63/24*AA63*75% -> 0 | AD63: =ROUND(Z63-AB63+AC63,0) -> 6955767 | AE63: =Z63*8% -> 556461.36 | AF63: =Z63*1.5% -> 104336.5 | AG63: =Z63*1% -> 69557.67 | AI63: =SUM(AE63:AH63) -> 730355.54 | AK63: =AJ63*$D$8 -> 0 | AN63: =Q63+T63+V63 -> 3.99 | AO63: 0.25 | AP63: =ROUND(AN63*AO63,4) -> 0.9975 | AQ63: =ROUND(AP63*$D$8,0) -> 1486275 | AS63: =ROUND(AD63-AI63+AK63+AM63+AQ63,0) -> 7711686 | AT63: =A63 -> 50 | AV63: KHCB
A64: 51 | B64: =VLOOKUP(D64,[1]LuongBC_T01!$B$9:$C$292,2,FALSE) -> 0016100006731001 | C64: 11100000795 | D64: Nguyễn Thị Dinh | E64: Giảng viên khoa Lý luận chính trị | F64: ĐH | G64: x | H64: GV | I64: GV | J64: GV097 | K64: =VLOOKUP(D64,[2]T3!$B$2:$D$328,3,FALSE) -> 024106611 | L64: 1603205186468 | M64: 11100000795 | N64: V.07.01.03 | O64: A1 | P64: 6 | Q64: 4.32 | R64: =T64+V64+X64 -> 0.7776 | T64: =ROUND(Q64*S64/100,4) -> 0 | U64: =Q64*S64*$D$8/100 -> 0 | W64: 0.18 | X64: =ROUND((Q64+T64+V64)*W64,4) -> 0.7776 | Y64: =ROUND(Q64+T64+V64+X64,4) -> 5.0976 | Z64: =ROUND(Y64*$D$8,0) -> 7595424 | AB64: =Z64/24*AA64 -> 0 | AC64: =Z64/24*AA64*75% -> 0 | AD64: =ROUND(Z64-AB64+AC64,0) -> 7595424 | AE64: =Z64*8% -> 607633.92 | AF64: =Z64*1.5% -> 113931.36 | AG64: =Z64*1% -> 75954.24 | AI64: =SUM(AE64:AH64) -> 797519.52 | AK64: =AJ64*$D$8 -> 0 | AN64: =Q64+T64+V64 -> 4.32 | AO64: 0.45 | AP64: =ROUND(AN64*AO64,4) -> 1.944 | AQ64: =ROUND(AP64*$D$8,0) -> 2896560 | AS64: =ROUND(AD64-AI64+AK64+AM64+AQ64,0) -> 9694464 | AT64: =A64 -> 51 | AV64: KHCB
A65: 52 | B65: =VLOOKUP(D65,[1]LuongBC_T01!$B$9:$C$292,2,FALSE) -> 0016100006688009 | C65: 11100000796 | D65: Nguyễn Văn Đông | E65: Giảng viên khoa KHCB | F65: ĐH | H65: GV | I65: GV | J65: GV098 | K65: =VLOOKUP(D65,[2]T3!$B$2:$D$328,3,FALSE) -> 023622113 | L65: 1603205189886 | M65: 11100000796 | N65: V.07.01.03 | O65: A1 | P65: 6 | Q65: 4.32 | R65: =T65+V65+X65 -> 0.7776 | T65: =ROUND(Q65*S65/100,4) -> 0 | U65: =Q65*S65*$D$8/100 -> 0 | W65: 0.18 | X65: =ROUND((Q65+T65+V65)*W65,4) -> 0.7776 | Y65: =ROUND(Q65+T65+V65+X65,4) -> 5.0976 | Z65: =ROUND(Y65*$D$8,0) -> 7595424 | AB65: =Z65/24*AA65 -> 0 | AC65: =Z65/24*AA65*75% -> 0 | AD65: =ROUND(Z65-AB65+AC65,0) -> 7595424 | AE65: =Z65*8% -> 607633.92 | AF65: =Z65*1.5% -> 113931.36 | AG65: =Z65*1% -> 75954.24 | AI65: =SUM(AE65:AH65) -> 797519.52 | AK65: =AJ65*$D$8 -> 0 | AN65: =Q65+T65+V65 -> 4.32 | AO65: 0.25 | AP65: =ROUND(AN65*AO65,4) -> 1.08 | AQ65: =ROUND(AP65*$D$8,0) -> 1609200 | AS65: =ROUND(AD65-AI65+AK65+AM65+AQ65,0) -> 8407104 | AT65: =A65 -> 52 | AV65: KHCB
A66: 53 | B66: =VLOOKUP(D66,[1]LuongBC_T01!$B$9:$C$292,2,FALSE) -> 0016100006532009 | C66: 11100000705 | D66: Đặng Thế Huân | E66: Giảng viên khoa Nhiệt - Lạnh | F66: ĐH | H66: GV | I66: PPK | J66: PPK033 | K66: =VLOOKUP(D66,[2]T3!$B$2:$D$328,3,FALSE) -> 022293675 | L66: 1603205182690 | M66: 11100000705 | N66: V.09.02.03 | O66: A1 | P66: 6 | Q66: 4.32 | R66: =T66+V66+X66 -> 0.7776 | T66: =ROUND(Q66*S66/100,4) -> 0 | U66: =Q66*S66*$D$8/100 -> 0 | W66: 0.18 | X66: =ROUND((Q66+T66+V66)*W66,4) -> 0.7776 | Y66: =ROUND(Q66+T66+V66+X66,4) -> 5.0976 | Z66: =ROUND(Y66*$D$8,0) -> 7595424 | AB66: =Z66/24*AA66 -> 0 | AC66: =Z66/24*AA66*75% -> 0 | AD66: =ROUND(Z66-AB66+AC66,0) -> 7595424 | AE66: =Z66*8% -> 607633.92 | AF66: =Z66*1.5% -> 113931.36 | AG66: =Z66*1% -> 75954.24 | AI66: =SUM(AE66:AH66) -> 797519.52 | AK66: =AJ66*$D$8 -> 0 | AN66: =Q66+T66+V66 -> 4.32 | AO66: 0.25 | AP66: =ROUND(AN66*AO66,4) -> 1.08 | AQ66: =ROUND(AP66*$D$8,0) -> 1609200 | AS66: =ROUND(AD66-AI66+AK66+AM66+AQ66,0) -> 8407104 | AT66: =A66 -> 53 | AV66: DL
A67: 54 | B67: =VLOOKUP(D67,[1]LuongBC_T01!$B$9:$C$292,2,FALSE) -> 0016100006618008 | C67: 11100066702 | D67: Nguyễn Thị Thu Tâm | E67: Giảng viên khoa KHCB | F67: ĐH | G67: x | H67: GV | I67: GV | J67: GV101 | K67: =VLOOKUP(D67,[2]T3!$B$2:$D$328,3,FALSE) -> 022848142 | L67: 1603205189920 | M67: 11100066702 | N67: V.07.01.03 | O67: A1 | P67: 6 | Q67: 4.32 | R67: =T67+V67+X67 -> 0.7776 | T67: =ROUND(Q67*S67/100,4) -> 0 | U67: =Q67*S67*$D$8/100 -> 0 | W67: 0.18 | X67: =ROUND((Q67+T67+V67)*W67,4) -> 0.7776 | Y67: =ROUND(Q67+T67+V67+X67,4) -> 5.0976 | Z67: =ROUND(Y67*$D$8,0) -> 7595424 | AB67: =Z67/24*AA67 -> 0 | AC67: =Z67/24*AA67*75% -> 0 | AD67: =ROUND(Z67-AB67+AC67,0) -> 7595424 | AE67: =Z67*8% -> 607633.92 | AF67: =Z67*1.5% -> 113931.36 | AG67: =Z67*1% -> 75954.24 | AI67: =SUM(AE67:AH67) -> 797519.52 | AK67: =AJ67*$D$8 -> 0 | AN67: =Q67+T67+V67 -> 4.32 | AO67: 0.25 | AP67: =ROUND(AN67*AO67,4) -> 1.08 | AQ67: =ROUND(AP67*$D$8,0) -> 1609200 | AS67: =ROUND(AD67-AI67+AK67+AM67+AQ67,0) -> 8407104 | AT67: =A67 -> 54 | AV67: KHCB
A68: 55 | B68: =VLOOKUP(D68,[1]LuongBC_T01!$B$9:$C$292,2,FALSE) -> 0016100006801007 | C68: 11100000737 | D68: Nguyễn Thị Bảo Trân | E68: Giảng viên khoa KHCB | F68: Th.S | G68: x | H68: GV | I68: GV | J68: GV104 | K68: =VLOOKUP(D68,[2]T3!$B$2:$D$328,3,FALSE) -> 023334538 | L68: 1603205189936 | M68: 11100000737 | N68: V.09.02.03 | O68: A1 | P68: 6 | Q68: 4.32 | R68: =T68+V68+X68 -> 0.7776 | T68: =ROUND(Q68*S68/100,4) -> 0 | U68: =Q68*S68*$D$8/100 -> 0 | W68: 0.18 | X68: =ROUND((Q68+T68+V68)*W68,4) -> 0.7776 | Y68: =ROUND(Q68+T68+V68+X68,4) -> 5.0976 | Z68: =ROUND(Y68*$D$8,0) -> 7595424 | AB68: =Z68/24*AA68 -> 0 | AC68: =Z68/24*AA68*75% -> 0 | AD68: =ROUND(Z68-AB68+AC68,0) -> 7595424 | AE68: =Z68*8% -> 607633.92 | AF68: =Z68*1.5% -> 113931.36 | AG68: =Z68*1% -> 75954.24 | AI68: =SUM(AE68:AH68) -> 797519.52 | AK68: =AJ68*$D$8 -> 0 | AN68: =Q68+T68+V68 -> 4.32 | AO68: 0.25 | AP68: =ROUND(AN68*AO68,4) -> 1.08 | AQ68: =ROUND(AP68*$D$8,0) -> 1609200 | AS68: =ROUND(AD68-AI68+AK68+AM68+AQ68,0) -> 8407104 | AT68: =A68 -> 55 | AV68: KHCB
A69: 56 | B69: =VLOOKUP(D69,[1]LuongBC_T01!$B$9:$C$292,2,FALSE) -> 0016100006812001 | C69: 11100066939 | D69: Võ Anh Hào | E69: Giảng viên khoa Nhiệt - Lạnh | F69: ĐH | H69: GV | I69: GV | J69: GV100 | K69: =VLOOKUP(D69,[2]T3!$B$2:$D$328,3,FALSE) -> 022843958 | L69: 1603205182660 | M69: 11100066939 | N69: V.07.01.03 | O69: A1 | P69: 6 | Q69: 4.32 | R69: =T69+V69+X69 -> 0.7344 | T69: =ROUND(Q69*S69/100,4) -> 0 | U69: =Q69*S69*$D$8/100 -> 0 | W69: 0.17 | X69: =ROUND((Q69+T69+V69)*W69,4) -> 0.7344 | Y69: =ROUND(Q69+T69+V69+X69,4) -> 5.0544 | Z69: =ROUND(Y69*$D$8,0) -> 7531056 | AB69: =Z69/24*AA69 -> 0 | AC69: =Z69/24*AA69*75% -> 0 | AD69: =ROUND(Z69-AB69+AC69,0) -> 7531056 | AE69: =Z69*8% -> 602484.48 | AF69: =Z69*1.5% -> 112965.84 | AG69: =Z69*1% -> 75310.56 | AI69: =SUM(AE69:AH69) -> 790760.88 | AK69: =AJ69*$D$8 -> 0 | AN69: =Q69+T69+V69 -> 4.32 | AO69: 0.25 | AP69: =ROUND(AN69*AO69,4) -> 1.08 | AQ69: =ROUND(AP69*$D$8,0) -> 1609200 | AS69: =ROUND(AD69-AI69+AK69+AM69+AQ69,0) -> 8349495 | AT69: =A69 -> 56 | AV69: DL
A70: 57 | B70: =VLOOKUP(D70,[1]LuongBC_T01!$B$9:$C$292,2,FALSE) -> 0016100006582006 | C70: 11100000793 | D70: Nguyễn Trần Thanh Nhàn | E70: Giảng viên khoa Điện - Điện tử | F70: ĐH | G70: x | H70: GV | I70: GV | J70: GV105 | K70: =VLOOKUP(D70,[2]T3!$B$2:$D$328,3,FALSE) -> 023273100 | L70: 1603205178923 | M70: 11100000793 | N70: V.09.02.03 | O70: A1 | P70: 5 | Q70: 3.99 | R70: =T70+V70+X70 -> 0.6783 | T70: =ROUND(Q70*S70/100,4) -> 0 | U70: =Q70*S70*$D$8/100 -> 0 | W70: 0.17 | X70: =ROUND((Q70+T70+V70)*W70,4) -> 0.6783 | Y70: =ROUND(Q70+T70+V70+X70,4) -> 4.6683 | Z70: =ROUND(Y70*$D$8,0) -> 6955767 | AB70: =Z70/24*AA70 -> 0 | AC70: =Z70/24*AA70*75% -> 0 | AD70: =ROUND(Z70-AB70+AC70,0) -> 6955767 | AE70: =Z70*8% -> 556461.36 | AF70: =Z70*1.5% -> 104336.5 | AG70: =Z70*1% -> 69557.67 | AI70: =SUM(AE70:AH70) -> 730355.54 | AK70: =AJ70*$D$8 -> 0 | AN70: =Q70+T70+V70 -> 3.99 | AO70: 0.25 | AP70: =ROUND(AN70*AO70,4) -> 0.9975 | AQ70: =ROUND(AP70*$D$8,0) -> 1486275 | AS70: =ROUND(AD70-AI70+AK70+AM70+AQ70,0) -> 7711686 | AT70: =A70 -> 57 | AV70: DDT
A71: 58 | B71: =VLOOKUP(D71,[1]LuongBC_T01!$B$9:$C$292,2,FALSE) -> 0016100006642009 | C71: 11100066953 | D71: Trần Hiếu Trinh | E71: Giảng viên khoa Điện - Điện tử | F71: ĐH | G71: x | H71: GV | I71: GV | J71: GV107 | K71: =VLOOKUP(D71,[2]T3!$B$2:$D$328,3,FALSE) -> 023070412 | L71: 1603205178981 | M71: 11100066953 | N71: V.07.01.03 | O71: A1 | P71: 6 | Q71: 4.32 | R71: =T71+V71+X71 -> 0.6912 | T71: =ROUND(Q71*S71/100,4) -> 0 | U71: =Q71*S71*$D$8/100 -> 0 | W71: 0.16 | X71: =ROUND((Q71+T71+V71)*W71,4) -> 0.6912 | Y71: =ROUND(Q71+T71+V71+X71,4) -> 5.0112 | Z71: =ROUND(Y71*$D$8,0) -> 7466688 | AB71: =Z71/24*AA71 -> 0 | AC71: =Z71/24*AA71*75% -> 0 | AD71: =ROUND(Z71-AB71+AC71,0) -> 7466688 | AE71: =Z71*8% -> 597335.04 | AF71: =Z71*1.5% -> 112000.32 | AG71: =Z71*1% -> 74666.88 | AI71: =SUM(AE71:AH71) -> 784002.24 | AK71: =AJ71*$D$8 -> 0 | AN71: =Q71+T71+V71 -> 4.32 | AO71: 0.25 | AP71: =ROUND(AN71*AO71,4) -> 1.08 | AQ71: =ROUND(AP71*$D$8,0) -> 1609200 | AS71: =ROUND(AD71-AI71+AK71+AM71+AQ71,0) -> 8291886 | AT71: =A71 -> 58 | AV71: DDT
A72: 59 | B72: =VLOOKUP(D72,[1]LuongBC_T01!$B$9:$C$292,2,FALSE) -> 0016100006595008 | C72: 20500004676 | D72: Trần Trung Hiếu | E72: Giảng viên khoa Điện - Điện tử | F72: ĐH | H72: GV | I72: GV | J72: GV108 | K72: =VLOOKUP(D72,[2]T3!$B$2:$D$328,3,FALSE) -> 023172993 | L72: 1603205182480 | M72: 20500004676 | N72: V.09.02.03 | O72: A1 | P72: 5 | Q72: 3.99 | R72: =T72+V72+X72 -> 0.6783 | T72: =ROUND(Q72*S72/100,4) -> 0 | U72: =Q72*S72*$D$8/100 -> 0 | W72: 0.17 | X72: =ROUND((Q72+T72+V72)*W72,4) -> 0.6783 | Y72: =ROUND(Q72+T72+V72+X72,4) -> 4.6683 | Z72: =ROUND(Y72*$D$8,0) -> 6955767 | AB72: =Z72/24*AA72 -> 0 | AC72: =Z72/24*AA72*75% -> 0 | AD72: =ROUND(Z72-AB72+AC72,0) -> 6955767 | AE72: =Z72*8% -> 556461.36 | AF72: =Z72*1.5% -> 104336.5 | AG72: =Z72*1% -> 69557.67 | AI72: =SUM(AE72:AH72) -> 730355.54 | AK72: =AJ72*$D$8 -> 0 | AN72: =Q72+T72+V72 -> 3.99 | AO72: 0.25 | AP72: =ROUND(AN72*AO72,4) -> 0.9975 | AQ72: =ROUND(AP72*$D$8,0) -> 1486275 | AS72: =ROUND(AD72-AI72+AK72+AM72+AQ72,0) -> 7711686 | AT72: =A72 -> 59 | AV72: DDT
A73: 60 | B73: =VLOOKUP(D73,[1]LuongBC_T01!$B$9:$C$292,2,FALSE) -> 0016100006616008 | C73: 11100000778 | D73: Lê Tiến Đạt | E73: Giảng viên khoa Điện - Điện tử | F73: ĐH | H73: GV | I73: GV | J73: GV112 | K73: =VLOOKUP(D73,[2]T3!$B$2:$D$328,3,FALSE) -> 022999157 | L73: 1603205178998 | M73: 11100000778 | N73: V.07.01.03 | O73: A1 | P73: 6 | Q73: 4.32 | R73: =T73+V73+X73 -> 0.6912 | T73: =ROUND(Q73*S73/100,4) -> 0 | U73: =Q73*S73*$D$8/100 -> 0 | W73: 0.16 | X73: =ROUND((Q73+T73+V73)*W73,4) -> 0.6912 | Y73: =ROUND(Q73+T73+V73+X73,4) -> 5.0112 | Z73: =ROUND(Y73*$D$8,0) -> 7466688 | AB73: =Z73/24*AA73 -> 0 | AC73: =Z73/24*AA73*75% -> 0 | AD73: =ROUND(Z73-AB73+AC73,0) -> 7466688 | AE73: =Z73*8% -> 597335.04 | AF73: =Z73*1.5% -> 112000.32 | AG73: =Z73*1% -> 74666.88 | AI73: =SUM(AE73:AH73) -> 784002.24 | AK73: =AJ73*$D$8 -> 0 | AN73: =Q73+T73+V73 -> 4.32 | AO73: 0.25 | AP73: =ROUND(AN73*AO73,4) -> 1.08 | AQ73: =ROUND(AP73*$D$8,0) -> 1609200 | AS73: =ROUND(AD73-AI73+AK73+AM73+AQ73,0) -> 8291886 | AT73: =A73 -> 60 | AV73: DDT
A74: 61 | B74: =VLOOKUP(D74,[1]LuongBC_T01!$B$9:$C$292,2,FALSE) -> 0016100006527005 | C74: 11100000782 | D74: Võ Thị Xuân Thơ | E74: Nhân viên phòng Tuyển sinh - Đào tạo | F74: ĐH | G74: x | I74: NV | J74: NV110 | K74: =VLOOKUP(D74,[2]T3!$B$2:$D$328,3,FALSE) -> 024734659 | L74: 1603205185760 | M74: 11100000782 | N74: V.07.01.03 | O74: A1 | P74: 6 | Q74: 4.32 | R74: =T74+V74+X74 -> 0 | T74: =ROUND(Q74*S74/100,4) -> 0 | U74: =Q74*S74*$D$8/100 -> 0 | W74: =VLOOKUP(D74,[3]BC!$D$14:$X$294,20,FALSE) -> 0 | X74: =ROUND((Q74+T74+V74)*W74,4) -> 0 | Y74: =ROUND(Q74+T74+V74+X74,4) -> 4.32 | Z74: =ROUND(Y74*$D$8,0) -> 6436800 | AB74: =Z74/24*AA74 -> 0 | AC74: =Z74/24*AA74*75% -> 0 | AD74: =ROUND(Z74-AB74+AC74,0) -> 6436800 | AE74: =Z74*8% -> 514944 | AF74: =Z74*1.5% -> 96552 | AG74: =Z74*1% -> 64368 | AI74: =SUM(AE74:AH74) -> 675864 | AK74: =AJ74*$D$8 -> 0 | AN74: =Q74+T74+V74 -> 4.32 | AP74: =ROUND(AN74*AO74,4) -> 0 | AQ74: =ROUND(AP74*$D$8,0) -> 0 | AS74: =ROUND(AD74-AI74+AK74+AM74+AQ74,0) -> 5760936 | AT74: =A74 -> 61 | AV74: DT
A75: 62 | B75: =VLOOKUP(D75,[1]LuongBC_T01!$B$9:$C$292,2,FALSE) -> 0016100006715006 | C75: 11100000772 | D75: Nguyễn Tất Thắng | E75: Nhân viên phòng Thanh tra giáo dục - CT Sinh viên | F75: ĐH | I75: NV | J75: NV109 | K75: =VLOOKUP(D75,[2]T3!$B$2:$D$328,3,FALSE) -> 023181301 | L75: 1603205179109 | M75: 11100000772 | N75: 01.003 | O75: A1 | P75: 5 | Q75: 3.99 | R75: =T75+V75+X75 -> 0 | T75: =ROUND(Q75*S75/100,4) -> 0 | U75: =Q75*S75*$D$8/100 -> 0 | W75: =VLOOKUP(D75,[3]BC!$D$14:$X$294,20,FALSE) -> 0 | X75: =ROUND((Q75+T75+V75)*W75,4) -> 0 | Y75: =ROUND(Q75+T75+V75+X75,4) -> 3.99 | Z75: =ROUND(Y75*$D$8,0) -> 5945100 | AB75: =Z75/24*AA75 -> 0 | AC75: 0 | AD75: =ROUND(Z75-AB75+AC75,0) -> 5945100 | AE75: =Z75*8% -> 475608 | AF75: =Z75*1.5% -> 89176.5 | AG75: =Z75*1% -> 59451 | AI75: =SUM(AE75:AH75) -> 624235.5 | AK75: =AJ75*$D$8 -> 0 | AN75: =Q75+T75+V75 -> 3.99 | AP75: =ROUND(AN75*AO75,4) -> 0 | AQ75: =ROUND(AP75*$D$8,0) -> 0 | AS75: =ROUND(AD75-AI75+AK75+AM75+AQ75,0) -> 5320865 | AT75: =A75 -> 62 | AV75: CNTT
A76: 63 | B76: =VLOOKUP(D76,[1]LuongBC_T01!$B$9:$C$292,2,FALSE) -> 0016100006503009 | C76: 11100000783 | D76: Đặng Đức Minh | E76: Giảng viên khoa Điện - Điện tử | F76: ĐH | H76: GV | I76: TT | J76: TT060 | K76: =VLOOKUP(D76,[2]T3!$B$2:$D$328,3,FALSE) -> 022765460 | L76: 1603205179020 | M76: 11100000783 | N76: V.07.01.03 | O76: A1 | P76: 5 | Q76: 4.32 | R76: =T76+V76+X76 -> 0.6912 | T76: =ROUND(Q76*S76/100,4) -> 0 | U76: =Q76*S76*$D$8/100 -> 0 | W76: 0.16 | X76: =ROUND((Q76+T76+V76)*W76,4) -> 0.6912 | Y76: =ROUND(Q76+T76+V76+X76,4) -> 5.0112 | Z76: =ROUND(Y76*$D$8,0) -> 7466688 | AB76: =Z76/24*AA76 -> 0 | AC76: =Z76/24*AA76*75% -> 0 | AD76: =ROUND(Z76-AB76+AC76,0) -> 7466688 | AE76: =Z76*8% -> 597335.04 | AF76: =Z76*1.5% -> 112000.32 | AG76: =Z76*1% -> 74666.88 | AI76: =SUM(AE76:AH76) -> 784002.24 | AK76: =AJ76*$D$8 -> 0 | AN76: =Q76+T76+V76 -> 4.32 | AO76: 0.25 | AP76: =ROUND(AN76*AO76,4) -> 1.08 | AQ76: =ROUND(AP76*$D$8,0) -> 1609200 | AS76: =ROUND(AD76-AI76+AK76+AM76+AQ76,0) -> 8291886 | AT76: =A76 -> 63 | AV76: DDT
A77: 64 | B77: =VLOOKUP(D77,[1]LuongBC_T01!$B$9:$C$292,2,FALSE) -> 0016100006609001 | C77: 11100000779 | D77: Nguyễn Thị Tố Nga | E77: Giảng viên khoa Điện - Điện tử | F77: ĐH | G77: x | H77: GV | I77: GV | J77: GV111 | K77: =VLOOKUP(D77,[2]T3!$B$2:$D$328,3,FALSE) -> 025602565 | L77: 1603205178969 | M77: 11100000779 | N77: V.07.01.03 | O77: A1 | P77: 5 | Q77: 4.32 | R77: =T77+V77+X77 -> 0.6912 | T77: =ROUND(Q77*S77/100,4) -> 0 | U77: =Q77*S77*$D$8/100 -> 0 | W77: 0.16 | X77: =ROUND((Q77+T77+V77)*W77,4) -> 0.6912 | Y77: =ROUND(Q77+T77+V77+X77,4) -> 5.0112 | Z77: =ROUND(Y77*$D$8,0) -> 7466688 | AB77: =Z77/24*AA77 -> 0 | AC77: =Z77/24*AA77*75% -> 0 | AD77: =ROUND(Z77-AB77+AC77,0) -> 7466688 | AE77: =Z77*8% -> 597335.04 | AF77: =Z77*1.5% -> 112000.32 | AG77: =Z77*1% -> 74666.88 | AI77: =SUM(AE77:AH77) -> 784002.24 | AK77: =AJ77*$D$8 -> 0 | AN77: =Q77+T77+V77 -> 4.32 | AO77: 0.25 | AP77: =ROUND(AN77*AO77,4) -> 1.08 | AQ77: =ROUND(AP77*$D$8,0) -> 1609200 | AS77: =ROUND(AD77-AI77+AK77+AM77+AQ77,0) -> 8291886 | AT77: =A77 -> 64 | AV77: DDT
A78: 65 | B78: =VLOOKUP(D78,[1]LuongBC_T01!$B$9:$C$292,2,FALSE) -> 0016100006641002 | C78: 11100000786 | D78: Nguyễn Thị Ngọc Hiền | E78: Giảng viên khoa Điện - Điện tử | F78: ĐH | G78: x | H78: GV | I78: GV | J78: GV113 | K78: =VLOOKUP(D78,[2]T3!$B$2:$D$328,3,FALSE) -> 024346476 | L78: 1603205178900 | M78: 11100000786 | N78: V.07.01.03 | O78: A1 | P78: 5 | Q78: 4.32 | R78: =T78+V78+X78 -> 0.6912 | T78: =ROUND(Q78*S78/100,4) -> 0 | U78: =Q78*S78*$D$8/100 -> 0 | W78: 0.16 | X78: =ROUND((Q78+T78+V78)*W78,4) -> 0.6912 | Y78: =ROUND(Q78+T78+V78+X78,4) -> 5.0112 | Z78: =ROUND(Y78*$D$8,0) -> 7466688 | AB78: =Z78/24*AA78 -> 0 | AC78: =Z78/24*AA78*75% -> 0 | AD78: =ROUND(Z78-AB78+AC78,0) -> 7466688 | AE78: =Z78*8% -> 597335.04 | AF78: =Z78*1.5% -> 112000.32 | AG78: =Z78*1% -> 74666.88 | AI78: =SUM(AE78:AH78) -> 784002.24 | AK78: =AJ78*$D$8 -> 0 | AN78: =Q78+T78+V78 -> 4.32 | AO78: 0.25 | AP78: =ROUND(AN78*AO78,4) -> 1.08 | AQ78: =ROUND(AP78*$D$8,0) -> 1609200 | AS78: =ROUND(AD78-AI78+AK78+AM78+AQ78,0) -> 8291886 | AT78: =A78 -> 65 | AV78: DDT
A79: 66 | B79: =VLOOKUP(D79,[1]LuongBC_T01!$B$9:$C$292,2,FALSE) -> 0016100006596007 | C79: 11100000777 | D79: Lê Thế Huân | E79: Giảng viên khoa Điện - Điện tử | F79: ĐH | H79: GV | I79: GV | J79: GV114 | K79: =VLOOKUP(D79,[2]T3!$B$2:$D$328,3,FALSE) -> 021710558 | L79: 1603205182450 | M79: 11100000777 | N79: V.09.02.03 | O79: A1 | P79: 5 | Q79: 3.99 | R79: =T79+V79+X79 -> 0.6384 | T79: =ROUND(Q79*S79/100,4) -> 0 | U79: =Q79*S79*$D$8/100 -> 0 | W79: 0.16 | X79: =ROUND((Q79+T79+V79)*W79,4) -> 0.6384 | Y79: =ROUND(Q79+T79+V79+X79,4) -> 4.6284 | Z79: =ROUND(Y79*$D$8,0) -> 6896316 | AB79: =Z79/24*AA79 -> 0 | AC79: =Z79/24*AA79*75% -> 0 | AD79: =ROUND(Z79-AB79+AC79,0) -> 6896316 | AE79: =Z79*8% -> 551705.28 | AF79: =Z79*1.5% -> 103444.74 | AG79: =Z79*1% -> 68963.16 | AI79: =SUM(AE79:AH79) -> 724113.18 | AK79: =AJ79*$D$8 -> 0 | AN79: =Q79+T79+V79 -> 3.99 | AO79: 0.25 | AP79: =ROUND(AN79*AO79,4) -> 0.9975 | AQ79: =ROUND(AP79*$D$8,0) -> 1486275 | AS79: =ROUND(AD79-AI79+AK79+AM79+AQ79,0) -> 7658478 | AT79: =A79 -> 66 | AV79: DDT
A80: 67 | B80: =VLOOKUP(D80,[1]LuongBC_T01!$B$9:$C$292,2,FALSE) -> 0016100006529008 | C80: 11100075983 | D80: Mạnh Lê Hoàn | E80: Giảng viên khoa Điện - Điện tử | F80: ĐH | H80: GV | I80: GV | J80: GV119 | K80: =VLOOKUP(D80,[2]T3!$B$2:$D$328,3,FALSE) -> 023205612 | L80: 1603205182473 | M80: 11100075983 | N80: V.09.02.03 | O80: A1 | P80: 5 | Q80: 3.99 | R80: =T80+V80+X80 -> 0.6384 | T80: =ROUND(Q80*S80/100,4) -> 0 | U80: =Q80*S80*$D$8/100 -> 0 | W80: 0.16 | X80: =ROUND((Q80+T80+V80)*W80,4) -> 0.6384 | Y80: =ROUND(Q80+T80+V80+X80,4) -> 4.6284 | Z80: =ROUND(Y80*$D$8,0) -> 6896316 | AB80: =Z80/24*AA80 -> 0 | AC80: =Z80/24*AA80*75% -> 0 | AD80: =ROUND(Z80-AB80+AC80,0) -> 6896316 | AE80: =Z80*8% -> 551705.28 | AF80: =Z80*1.5% -> 103444.74 | AG80: =Z80*1% -> 68963.16 | AI80: =SUM(AE80:AH80) -> 724113.18 | AK80: =AJ80*$D$8 -> 0 | AN80: =Q80+T80+V80 -> 3.99 | AO80: 0.25 | AP80: =ROUND(AN80*AO80,4) -> 0.9975 | AQ80: =ROUND(AP80*$D$8,0) -> 1486275 | AS80: =ROUND(AD80-AI80+AK80+AM80+AQ80,0) -> 7658478 | AT80: =A80 -> 67 | AV80: DDT
A81: 68 | B81: =VLOOKUP(D81,[1]LuongBC_T01!$B$9:$C$292,2,FALSE) -> 0016100006614005 | C81: 11100000739 | D81: Nguyễn Văn Sơn | E81: Giảng viên khoa Cơ khí | F81: ĐH | I81: GV | J81: GV135 | K81: =VLOOKUP(D81,[2]T3!$B$2:$D$328,3,FALSE) -> 038065000896 | L81: 1603205185698 | M81: 11100000739 | N81: V.09.02.03 | O81: A1 | P81: 9 | Q81: 4.98 | R81: =T81+V81+X81 -> 1.9581 | S81: 8 | T81: =ROUND(Q81*S81/100,4) -> 0.3984 | U81: =Q81*S81*$D$8/100 -> 593616 | W81: =VLOOKUP(D81,[3]BC!$D$14:$X$294,20,FALSE) -> 0.29 | X81: =ROUND((Q81+T81+V81)*W81,4) -> 1.5597 | Y81: =ROUND(Q81+T81+V81+X81,4) -> 6.9381 | Z81: =ROUND(Y81*$D$8,0) -> 10337769 | AB81: =Z81/24*AA81 -> 0 | AC81: =Z81/24*AA81*75% -> 0 | AD81: =ROUND(Z81-AB81+AC81,0) -> 10337769 | AE81: =Z81*8% -> 827021.52 | AF81: =Z81*1.5% -> 155066.54 | AG81: =Z81*1% -> 103377.69 | AI81: =SUM(AE81:AH81) -> 1085465.7 | AK81: =AJ81*$D$8 -> 0 | AN81: =Q81+T81+V81 -> 5.3784 | AO81: 0.25 | AP81: =ROUND(AN81*AO81,4) -> 1.3446 | AQ81: =ROUND(AP81*$D$8,0) -> 2003454 | AS81: =ROUND(AD81-AI81+AK81+AM81+AQ81,0) -> 11255757 | AT81: =A81 -> 68 | AV81: DT
A82: 69 | B82: =VLOOKUP(D82,[1]LuongBC_T01!$B$9:$C$292,2,FALSE) -> 0016100006519002 | C82: 11100000798 | D82: Nguyễn Thị Nhuận | E82: Trưởng Trung tâm Thư viện | F82: ĐH | G82: x | I82: GV | J82: GV126 | K82: =VLOOKUP(D82,[2]T3!$B$2:$D$328,3,FALSE) -> 023331855 | L82: 1603205186786 | M82: 11100000798 | N82: V.07.01.03 | O82: A1 | P82: 6 | Q82: 4.65 | R82: =T82+V82+X82 -> 1.215 | T82: =ROUND(Q82*S82/100,4) -> 0 | U82: =Q82*S82*$D$8/100 -> 0 | V82: 0.45 | W82: =VLOOKUP(D82,[3]BC!$D$14:$X$294,20,FALSE) -> 0.15 | X82: =ROUND((Q82+T82+V82)*W82,4) -> 0.765 | Y82: =ROUND(Q82+T82+V82+X82,4) -> 5.865 | Z82: =ROUND(Y82*$D$8,0) -> 8738850 | AB82: =Z82/24*AA82 -> 0 | AC82: =Z82/24*AA82*75% -> 0 | AD82: =ROUND(Z82-AB82+AC82,0) -> 8738850 | AE82: =Z82*8% -> 699108 | AF82: =Z82*1.5% -> 131082.75 | AG82: =Z82*1% -> 87388.5 | AI82: =SUM(AE82:AH82) -> 917579.25 | AJ82: 0.3 | AK82: =AJ82*$D$8 -> 447000 | AN82: =Q82+T82+V82 -> 5.1 | AO82: 0.25 | AP82: =ROUND(AN82*AO82,4) -> 1.275 | AQ82: =ROUND(AP82*$D$8,0) -> 1899750 | AS82: =ROUND(AD82-AI82+AK82+AM82+AQ82,0) -> 10168021 | AT82: =A82 -> 69 | AU82: PCTN cấp ủy viên HS 0,3 trên MLTT từ 15/4/15. | AV82: Đ
A83: 70 | B83: =VLOOKUP(D83,[1]LuongBC_T01!$B$9:$C$292,2,FALSE) -> 0016100006574003 | C83: 40900000624 | D83: Phạm Thị Thanh Thúy | E83: Giảng viên khoa CN May - Thời trang | G83: x | K83: =VLOOKUP(D83,[2]T3!$B$2:$D$328,3,FALSE) -> 022931960 | L83: 1603205426614 | M83: 40900000624 | N83: V.09.02.03 | O83: A1 | P83: 7 | Q83: 4.65 | R83: =T83+V83+X83 -> 0.8835 | T83: =ROUND(Q83*S83/100,4) -> 0 | U83: =Q83*S83*$D$8/100 -> 0 | W83: 0.19 | X83: =ROUND((Q83+T83+V83)*W83,4) -> 0.8835 | Y83: =ROUND(Q83+T83+V83+X83,4) -> 5.5335 | Z83: =ROUND(Y83*$D$8,0) -> 8244915 | AB83: =Z83/24*AA83 -> 0 | AC83: =Z83/24*AA83*75% -> 0 | AD83: =ROUND(Z83-AB83+AC83,0) -> 8244915 | AE83: =Z83*8% -> 659593.2 | AF83: =Z83*1.5% -> 123673.72 | AG83: =Z83*1% -> 82449.15 | AI83: =SUM(AE83:AH83) -> 865716.08 | AK83: =AJ83*$D$8 -> 0 | AN83: =Q83+T83+V83 -> 4.65 | AO83: 0.25 | AP83: =ROUND(AN83*AO83,4) -> 1.1625 | AQ83: =ROUND(AP83*$D$8,0) -> 1732125 | AS83: =ROUND(AD83-AI83+AK83+AM83+AQ83,0) -> 9111324 | AT83: =A83 -> 70 | AV83: QĐ đều động VC từ trường TCKT-KT Nguyễn Hữu Cảnh về trường từ 16/7/2014. Nhập BL T8/2014
A84: 71 | B84: =VLOOKUP(D84,[1]LuongBC_T01!$B$9:$C$292,2,FALSE) -> 0016100006721006 | C84: 11100122989 | D84: Nguyễn Thanh Sơn | E84: Nhân viên phòng Khảo thí và ĐBCL | F84: ĐH | K84: =VLOOKUP(D84,[2]T3!$B$2:$D$328,3,FALSE) -> 020933341 | L84: 1603205303449 | M84: 11100122989 | N84: 01.003 | O84: A1 | P84: 9 | Q84: 4.98 | R84: =T84+V84+X84 -> 0.8466 | S84: 17 | T84: =ROUND(Q84*S84/100,4) -> 0.8466 | U84: =Q84*S84*$D$8/100 -> 1261434 | W84: =VLOOKUP(D84,[3]BC!$D$14:$X$294,20,FALSE) -> 0 | X84: =ROUND((Q84+T84+V84)*W84,4) -> 0 | Y84: =ROUND(Q84+T84+V84+X84,4) -> 5.8266 | Z84: =ROUND(Y84*$D$8,0) -> 8681634 | AB84: =Z84/24*AA84 -> 0 | AC84: =Z84/24*AA84*75% -> 0 | AD84: =ROUND(Z84-AB84+AC84,0) -> 8681634 | AE84: =Z84*8% -> 694530.72 | AF84: =Z84*1.5% -> 130224.51 | AG84: =Z84*1% -> 86816.34 | AI84: =SUM(AE84:AH84) -> 911571.57 | AK84: =AJ84*$D$8 -> 0 | AP84: =ROUND(AN84*AO84,4) -> 0 | AQ84: =ROUND(AP84*$D$8,0) -> 0 | AS84: =ROUND(AD84-AI84+AK84+AM84+AQ84,0) -> 7770062 | AT84: =A84 -> 71 | AV84: KD
A85: 72 | B85: =VLOOKUP(D85,[1]LuongBC_T01!$B$9:$C$292,2,FALSE) -> 0016100006759003 | C85: 11100000738 | D85: Võ Minh Quang | E85: Giảng viên khoa Cơ khí | F85: CĐ | I85: GV | J85: GV136 | K85: =VLOOKUP(D85,[2]T3!$B$2:$D$328,3,FALSE) -> 021722359 | L85: 1603205182228 | M85: 11100000738 | N85: V.09.02.03 | O85: A0 | P85: 10 | Q85: 4.98 | R85: =T85+V85+X85 -> 1.734 | S85: 7 | T85: =ROUND(Q85*S85/100,4) -> 0.3486 | U85: =Q85*S85*$D$8/100 -> 519414 | W85: =VLOOKUP(D85,[3]BC!$D$14:$X$294,20,FALSE) -> 0.26 | X85: =ROUND((Q85+T85+V85)*W85,4) -> 1.3854 | Y85: =ROUND(Q85+T85+V85+X85,4) -> 6.714 | Z85: =ROUND(Y85*$D$8,0) -> 10003860 | AB85: =Z85/24*AA85 -> 0 | AC85: =Z85/24*AA85*75% -> 0 | AD85: =ROUND(Z85-AB85+AC85,0) -> 10003860 | AE85: =Z85*8% -> 800308.8 | AF85: =Z85*1.5% -> 150057.9 | AG85: =Z85*1% -> 100038.6 | AI85: =SUM(AE85:AH85) -> 1050405.3 | AK85: =AJ85*$D$8 -> 0 | AN85: =Q85+T85+V85 -> 5.3286 | AO85: 0.25 | AP85: =ROUND(AN85*AO85,4) -> 1.3322 | AQ85: =ROUND(AP85*$D$8,0) -> 1984978 | AS85: =ROUND(AD85-AI85+AK85+AM85+AQ85,0) -> 10938433 | AT85: =A85 -> 72 | AV85: TO
A86: 73 | B86: =VLOOKUP(D86,[1]LuongBC_T01!$B$9:$C$292,2,FALSE) -> 0016100006717009 | C86: 11100000741 | D86: Hà Nhật Thanh | E86: Nhân viên phòng Quản trị - Dịch vụ | F86: ĐH | I86: GV | J86: GV134 | K86: =VLOOKUP(D86,[2]T3!$B$2:$D$328,3,FALSE) -> 139062000011 | L86: 1603205179150 | M86: 11100000741 | N86: 01.004 | O86: A0 | P86: 10 | Q86: 4.89 | R86: =T86+V86+X86 -> 0.3423 | S86: 7 | T86: =ROUND(Q86*S86/100,4) -> 0.3423 | U86: =Q86*S86*$D$8/100 -> 510027 | W86: =VLOOKUP(D86,[3]BC!$D$14:$X$294,20,FALSE) -> 0 | X86: =ROUND((Q86+T86+V86)*W86,4) -> 0 | Y86: =ROUND(Q86+T86+V86+X86,4) -> 5.2323 | Z86: =ROUND(Y86*$D$8,0) -> 7796127 | AB86: =Z86/24*AA86 -> 0 | AC86: =Z86/24*AA86*75% -> 0 | AD86: =ROUND(Z86-AB86+AC86,0) -> 7796127 | AE86: =Z86*8% -> 623690.16 | AF86: =Z86*1.5% -> 116941.9 | AG86: =Z86*1% -> 77961.27 | AI86: =SUM(AE86:AH86) -> 818593.34 | AK86: =AJ86*$D$8 -> 0 | AN86: =Q86+T86+V86 -> 5.2323 | AP86: =ROUND(AN86*AO86,4) -> 0 | AQ86: =ROUND(AP86*$D$8,0) -> 0 | AS86: =ROUND(AD86-AI86+AK86+AM86+AQ86,0) -> 6977534 | AT86: =A86 -> 73 | AV86: QS
B87: =VLOOKUP(D87,[1]LuongBC_T01!$B$9:$C$292,2,FALSE) -> #N/A | D87: CỘNG BIÊN CHẾ | G87: =COUNTIF(G13:G86,"x") -> 25 | H87: =COUNTIF(H15:H86,"GV") -> 46 | Q87: =SUM(Q14:Q86) -> 341.93 | R87: =SUM(R14:R86) -> 84.1438 | S87: =T87 -> 9.0573 | T87: =SUM(T14:T86) -> 9.0573 | U87: =SUM(U14:U86) -> 13495377 | V87: =SUM(V14:V86) -> 11.85 | X87: =SUM(X14:X86) -> 63.2365 | Y87: =SUM(Y14:Y86) -> 426.0738 | Z87: =SUM(Z14:Z86) -> 634849962 | AB87: =SUM(AB14:AB86) -> 1545552.2 | AC87: =SUM(AC14:AC86) -> 0 | AD87: =SUM(AD14:AD86) -> 633304410 | AE87: =SUM(AE14:AE86) -> 50787997 | AF87: =SUM(AF14:AF86) -> 9522749.4 | AG87: =SUM(AG14:AG86) -> 6348499.6 | AH87: =SUM(AH14:AH86) -> 0 | AI87: =SUM(AI14:AI86) -> 66659246 | ... AK87: =SUM(AK14:AK86) -> 2980000 | AN87: =SUM(AN15:AN86) -> 350.5829 | AP87: =SUM(AP14:AP86) -> 80.2798 | AQ87: =SUM(AQ14:AQ86) -> 119616902 | AR87: =SUM(AR15:AR86) -> 0 | AS87: =SUM(AS14:AS86)-2 -> 689242066
B88: =VLOOKUP(D88,[1]LuongBC_T01!$B$9:$C$292,2,FALSE) -> #N/A | D88: B. HỢP ĐỒNG LÀM VIỆC LẦN ĐẦU
A89: 74 | B89: 0016100006657006 | C89: 701191100000289263 | D89: Trương Thị Hồng | E89: GV Khoa KHCB | N89: V.07.01.03 | Q89: 2.269 | T89: =ROUND(Q89*S89/100,4) -> 0 | W89: =VLOOKUP(D89,[3]BC!$D$14:$X$294,20,FALSE) -> 0 | X89: =ROUND((Q89+T89+V89)*W89,4) -> 0 | Y89: =Q89+T89+V89+X89 -> 2.269 | Z89: =ROUND(Y89*$D$8,0) -> 3380810 | AB89: =Z89/24*AA89 -> 0 | AC89: =Z89/24*AA89*75% -> 0 | AD89: =ROUND(Z89-AB89+AC89,0) -> 3380810 | AE89: =Z89*8% -> 270464.8 | AF89: =Z89*1.5% -> 50712.15 | AG89: =Z89*1% -> 33808.1 | AI89: =SUM(AE89:AH89) -> 354985.05 | AN89: =Q89+T89+V89 -> 2.269 | AO89: 0.25 | AP89: =ROUND(AN89*AO89,4) -> 0.5673 | AQ89: =ROUND(AP89*$D$8,0) -> 845277 | AS89: =ROUND(AD89-AI89+AK89+AM89+AQ89,0) -> 3871102
A90: 75 | B90: =VLOOKUP(D90,[1]LuongBC_T01!$B$9:$C$292,2,FALSE) -> 0016100006518006 | C90: 11100115713 | D90: Huỳnh Thị Minh Ly | E90: GV Khoa CNTT | N90: V.07.01.03 | Q90: 2.269 | T90: =ROUND(Q90*S90/100,4) -> 0 | W90: =VLOOKUP(D90,[3]BC!$D$14:$X$294,20,FALSE) -> 0 | X90: =ROUND((Q90+T90+V90)*W90,4) -> 0 | Y90: =Q90+T90+V90+X90 -> 2.269 | Z90: =ROUND(Y90*$D$8,0) -> 3380810 | AB90: =Z90/24*AA90 -> 0 | AC90: =Z90/24*AA90*75% -> 0 | AD90: =ROUND(Z90-AB90+AC90,0) -> 3380810 | AE90: =Z90*8% -> 270464.8 | AF90: =Z90*1.5% -> 50712.15 | AG90: =Z90*1% -> 33808.1 | AI90: =SUM(AE90:AH90) -> 354985.05 | AN90: =Q90+T90+V90 -> 2.269 | AO90: 0.25 | AP90: =ROUND(AN90*AO90,4) -> 0.5673 | AQ90: =ROUND(AP90*$D$8,0) -> 845277 | AS90: =ROUND(AD90-AI90+AK90+AM90+AQ90,0) -> 3871102
A91: 76 | B91: =VLOOKUP(D91,[1]LuongBC_T01!$B$9:$C$292,2,FALSE) -> 0016100006516003 | C91: 701191100000289 | D91: Nguyễn Thị Minh Thùy | E91: GV Khoa Kinh tế | N91: V.07.01.03 | Q91: 2.269 | T91: =ROUND(Q91*S91/100,4) -> 0 | W91: =VLOOKUP(D91,[3]BC!$D$14:$X$294,20,FALSE) -> 0 | X91: =ROUND((Q91+T91+V91)*W91,4) -> 0 | Y91: =Q91+T91+V91+X91 -> 2.269 | Z91: =ROUND(Y91*$D$8,0) -> 3380810 | AB91: =Z91/24*AA91 -> 0 | AC91: =Z91/24*AA91*75% -> 0 | AD91: =ROUND(Z91-AB91+AC91,0) -> 3380810 | AE91: =Z91*8% -> 270464.8 | AF91: =Z91*1.5% -> 50712.15 | AG91: =Z91*1% -> 33808.1 | AI91: =SUM(AE91:AH91) -> 354985.05 | AN91: =Q91+T91+V91 -> 2.269 | AO91: 0.25 | AP91: =ROUND(AN91*AO91,4) -> 0.5673 | AQ91: =ROUND(AP91*$D$8,0) -> 845277 | AS91: =ROUND(AD91-AI91+AK91+AM91+AQ91,0) -> 3871102
A92: 77 | B92: =VLOOKUP(D92,[1]LuongBC_T01!$B$9:$C$292,2,FALSE) -> 0016100006511001 | C92: 701191100000289342 | D92: Võ Tấn Kiệt | E92: Nhân viên phòng Quản trị - Dịch vụ | N92: V.05.02.07 | Q92: 1.989 | T92: =ROUND(Q92*S92/100,4) -> 0 | W92: =VLOOKUP(D92,[3]BC!$D$14:$X$294,20,FALSE) -> 0 | X92: =ROUND((Q92+T92+V92)*W92,4) -> 0 | Y92: =Q92+T92+V92+X92 -> 1.989 | Z92: =ROUND(Y92*$D$8,0) -> 2963610 | AB92: =Z92/24*AA92 -> 0 | AC92: =Z92/24*AA92*75% -> 0 | AD92: =ROUND(Z92-AB92+AC92,0) -> 2963610 | AE92: =Z92*8% -> 237088.8 | AF92: =Z92*1.5% -> 44454.15 | AG92: =Z92*1% -> 29636.1 | AI92: =SUM(AE92:AH92) -> 311179.05 | AN92: =Q92+T92+V92 -> 1.989 | AP92: =ROUND(AN92*AO92,4) -> 0 | AQ92: =ROUND(AP92*$D$8,0) -> 0 | AS92: =ROUND(AD92-AI92+AK92+AM92+AQ92,0) -> 2652431
A93: 78 | D93: Lâm Thị Phương Thảo | E93: Giảng viên khoa KHCB | L93: 1603205637004 | N93: V.09.02.03 | Q93: 1.989 | T93: =ROUND(Q93*S93/100,4) -> 0 | W93: =VLOOKUP(D93,[3]BC!$D$14:$X$294,20,FALSE) -> 0 | X93: =ROUND((Q93+T93+V93)*W93,4) -> 0 | Y93: =Q93+T93+V93+X93 -> 1.989 | Z93: =ROUND(Y93*$D$8,0) -> 2963610 | AB93: =Z93/24*AA93 -> 0 | AC93: =Z93/24*AA93*75% -> 0 | AD93: =ROUND(Z93-AB93+AC93,0) -> 2963610 | AE93: =Z93*8% -> 237088.8 | AF93: =Z93*1.5% -> 44454.15 | AG93: =Z93*1% -> 29636.1 | AI93: =SUM(AE93:AH93) -> 311179.05 | AN93: =Q93+T93+V93 -> 1.989 | AO93: 0.25 | AP93: =ROUND(AN93*AO93,4) -> 0.4973 | AQ93: =ROUND(AP93*$D$8,0) -> 740977 | AS93: =ROUND(AD93-AI93+AK93+AM93+AQ93,0) -> 3393408
A94: 79 | D94: Trình Minh Phong | E94: Giảng viên khoa xây dựng | L94: 1603205634954 | N94: V.09.02.03 | Q94: 2.269 | T94: =ROUND(Q94*S94/100,4) -> 0 | W94: =VLOOKUP(D94,[3]BC!$D$14:$X$294,20,FALSE) -> 0 | X94: =ROUND((Q94+T94+V94)*W94,4) -> 0 | Y94: =Q94+T94+V94+X94 -> 2.269 | Z94: =ROUND(Y94*$D$8,0) -> 3380810 | AB94: =Z94/24*AA94 -> 0 | AC94: =Z94/24*AA94*75% -> 0 | AD94: =ROUND(Z94-AB94+AC94,0) -> 3380810 | AE94: =Z94*8% -> 270464.8 | AF94: =Z94*1.5% -> 50712.15 | AG94: =Z94*1% -> 33808.1 | AI94: =SUM(AE94:AH94) -> 354985.05 | AN94: =Q94+T94+V94 -> 2.269 | AO94: 0.25 | AP94: =ROUND(AN94*AO94,4) -> 0.5673 | AQ94: =ROUND(AP94*$D$8,0) -> 845277 | AS94: =ROUND(AD94-AI94+AK94+AM94+AQ94,0) -> 3871102
A95: 80 | D95: Nguyễn Hoàng Vinh | E95: Giảng viên khoa Động lực | L95: 1603205634948 | N95: V.09.02.03 | Q95: 1.989 | T95: =ROUND(Q95*S95/100,4) -> 0 | W95: =VLOOKUP(D95,[3]BC!$D$14:$X$294,20,FALSE) -> 0 | X95: =ROUND((Q95+T95+V95)*W95,4) -> 0 | Y95: =Q95+T95+V95+X95 -> 1.989 | Z95: =ROUND(Y95*$D$8,0) -> 2963610 | AB95: =Z95/24*AA95 -> 0 | AC95: =Z95/24*AA95*75% -> 0 | AD95: =ROUND(Z95-AB95+AC95,0) -> 2963610 | AE95: =Z95*8% -> 237088.8 | AF95: =Z95*1.5% -> 44454.15 | AG95: =Z95*1% -> 29636.1 | AI95: =SUM(AE95:AH95) -> 311179.05 | AN95: =Q95+T95+V95 -> 1.989 | AO95: 0.25 | AP95: =ROUND(AN95*AO95,4) -> 0.4973 | AQ95: =ROUND(AP95*$D$8,0) -> 740977 | AS95: =ROUND(AD95-AI95+AK95+AM95+AQ95,0) -> 3393408
A96: 81 | D96: Huỳnh Văn Quang | E96: Giảng viên khoa xây dựng | N96: V.09.02.03 | Q96: 2.269 | T96: =ROUND(Q96*S96/100,4) -> 0 | X96: =ROUND((Q96+T96+V96)*W96,4) -> 0 | Y96: =Q96+T96+V96+X96 -> 2.269 | Z96: =ROUND(Y96*$D$8,0) -> 3380810 | AB96: =Z96/24*AA96 -> 0 | AC96: =Z96/24*AA96*75% -> 0 | AD96: =ROUND(Z96-AB96+AC96,0) -> 3380810 | AE96: =Z96*8% -> 270464.8 | AF96: =Z96*1.5% -> 50712.15 | AG96: =Z96*1% -> 33808.1 | AI96: =SUM(AE96:AH96) -> 354985.05 | AN96: =Q96+T96+V96 -> 2.269 | AO96: 0.25 | AP96: =ROUND(AN96*AO96,4) -> 0.5673 | AQ96: =ROUND(AP96*$D$8,0) -> 845277 | AS96: =ROUND(AD96-AI96+AK96+AM96+AQ96,0) -> 3871102 | AU96: QĐ Tuyển dụng VC từ 01/10/20. Lập bảng TL riêng, cập nhật BL T11/2020
A97: 82 | D97: Nguyễn Thiện Bình | E97: Giảng viên khoa KHCB | N97: V.09.02.03 | Q97: 1.989 | T97: =ROUND(Q97*S97/100,4) -> 0 | X97: =ROUND((Q97+T97+V97)*W97,4) -> 0 | Y97: =Q97+T97+V97+X97 -> 1.989 | Z97: =ROUND(Y97*$D$8,0) -> 2963610 | AB97: =Z97/24*AA97 -> 0 | AC97: =Z97/24*AA97*75% -> 0 | AD97: =ROUND(Z97-AB97+AC97,0) -> 2963610 | AE97: =Z97*8% -> 237088.8 | AF97: =Z97*1.5% -> 44454.15 | AG97: =Z97*1% -> 29636.1 | AI97: =SUM(AE97:AH97) -> 311179.05 | AN97: =Q97+T97+V97 -> 1.989 | AO97: 0.25 | AP97: =ROUND(AN97*AO97,4) -> 0.4973 | AQ97: =ROUND(AP97*$D$8,0) -> 740977 | AS97: =ROUND(AD97-AI97+AK97+AM97+AQ97,0) -> 3393408 | AU97: QĐ Tuyển dụng VC từ 01/10/20. Lập bảng TL riêng, cập nhật BL T11/2020
A98: 83 | D98: Lê Thị Thúy Oanh | E98: Giảng viên khoa Kinh tế | N98: V.09.02.03 | Q98: 1.989 | T98: =ROUND(Q98*S98/100,4) -> 0 | X98: =ROUND((Q98+T98+V98)*W98,4) -> 0 | Y98: =Q98+T98+V98+X98 -> 1.989 | Z98: =ROUND(Y98*$D$8,0) -> 2963610 | AB98: =Z98/24*AA98 -> 0 | AC98: =Z98/24*AA98*75% -> 0 | AD98: =ROUND(Z98-AB98+AC98,0) -> 2963610 | AE98: =Z98*8% -> 237088.8 | AF98: =Z98*1.5% -> 44454.15 | AG98: =Z98*1% -> 29636.1 | AI98: =SUM(AE98:AH98) -> 311179.05 | AN98: =Q98+T98+V98 -> 1.989 | AO98: 0.25 | AP98: =ROUND(AN98*AO98,4) -> 0.4973 | AQ98: =ROUND(AP98*$D$8,0) -> 740977 | AS98: =ROUND(AD98-AI98+AK98+AM98+AQ98,0) -> 3393408 | AU98: QĐ Tuyển dụng VC từ 01/10/20. Lập bảng TL riêng, cập nhật BL T11/2020
A99: 84 | D99: Đỗ Hoàng Duy | E99: Giảng viên khoa Động lực | L99: 1603205634960 | N99: V.09.02.03 | Q99: 1.989 | T99: =ROUND(Q99*S99/100,4) -> 0 | W99: =VLOOKUP(D99,[3]BC!$D$14:$X$294,20,FALSE) -> 0 | X99: =ROUND((Q99+T99+V99)*W99,4) -> 0 | Y99: =Q99+T99+V99+X99 -> 1.989 | Z99: =ROUND(Y99*$D$8,0) -> 2963610 | AB99: =Z99/24*AA99 -> 0 | AC99: =Z99/24*AA99*75% -> 0 | AD99: =ROUND(Z99-AB99+AC99,0) -> 2963610 | AE99: =Z99*8% -> 237088.8 | AF99: =Z99*1.5% -> 44454.15 | AG99: =Z99*1% -> 29636.1 | AI99: =SUM(AE99:AH99) -> 311179.05 | AN99: =Q99+T99+V99 -> 1.989 | AO99: 0.25 | AP99: =ROUND(AN99*AO99,4) -> 0.4973 | AQ99: =ROUND(AP99*$D$8,0) -> 740977 | AS99: =ROUND(AD99-AI99+AK99+AM99+AQ99,0) -> 3393408
B100: =VLOOKUP(D100,[1]LuongBC_T01!$B$9:$C$292,2,FALSE) -> #N/A | D100: CỘNG HỢP ĐỒNG LV LẦN ĐẦU | Q100: =SUM(Q89:Q99) -> 23.279 | S100: =SUM(S89:S92) -> 0 | T100: =SUM(T89:T99) -> 0 | V100: =SUM(V89:V92) -> 0 | W100: =SUM(W89:W92) -> 0 | X100: =SUM(X89:X99) -> 0 | Y100: =SUM(Y89:Y99) -> 23.279 | Z100: =SUM(Z89:Z99) -> 34685710 | AB100: =SUM(AB89:AB99) -> 0 | AC100: =SUM(AC89:AC99) -> 0 | AD100: =SUM(AD89:AD99) -> 34685710 | AE100: =SUM(AE89:AE99) -> 2774856.8 | AF100: =SUM(AF89:AF99) -> 520285.65 | AG100: =SUM(AG89:AG99) -> 346857.1 | AI100: =SUM(AI89:AI99) -> 3641999.5 | AJ100: =SUM(AJ89:AJ99) -> 0 | AK100: =SUM(AK89:AK99) -> 0 | AL100: =SUM(AL89:AL99) -> 0 | AM100: =SUM(AM89:AM99) -> 0 | AN100: =SUM(#REF!) -> #REF! | AO100: =SUM(#REF!) -> #REF! | AP100: =SUM(AP89:AP99) -> 5.323 | AQ100: =SUM(AQ89:AQ99) -> 7931270 | AR100: =SUM(#REF!) -> #REF! | AS100: =SUM(AS89:AS99)-1 -> 38974980
...

Sheet HD
A1: ỦY BAN NHÂN DÂN THÀNH PHỐ HỒ CHÍ MINH | AL1: Mẫu số C02a - HD
A2: ĐƠN VỊ: TRƯỜNG CAO ĐẲNG LÝ TỰ TRỌNG | AL2: (Ban hành kèm theo Thông tư số 107/2017-BTC
A3: MÃ ĐƠN VỊ: 1058083 | AL3: ngày 10/10/2017 của Bộ Tài chính)
U4: BẢNG THANH TOÁN TIỀN LƯƠNG
AR5: Số: ……………………………………
U6: (Tháng 10 năm 2021) | AR6: Nợ: …………………………………… | AZ6: =#REF!-#REF!-#REF!-#REF! -> #REF!
AR7: Có: …………………………………….
D8: 1490000 | AZ8: =AZ6/26 -> #REF!
A9: STT | C9: MÃ SỐ VIÊN CHỨC` | D9: HỌ VÀ TÊN | E9: CẤP BẬC - CHỨC VỤ | G9: NỮ | I9: CD | J9: MS CỐ ĐỊNH TỪ T8/2008 | K9: Số CMND | L9: Số tài khoản | M9: MÃ SỐ VIÊN CHỨC` | N9: MÃ SỐ NGẠCH LƯƠNG | O9: LOẠI VC | P9: BẬC | Q9: LƯƠNG HỆ SỐ | Y9: CỘNG HỆ SỐ | Z9: THÀNH TIỀN | AA9: SỐ NGÀY NGHỈ | AB9: Nghỉ việc không được hưởng lương | AC9: BHXH trả thay lương | AD9: Tổng cộng tiền lương và BHXH được hưởng | AE9: CỘNG | AF9: KHẤU TRỪ | AK9: PC TRÁCH NHIỆM | AM9: PC ĐỘC HẠI | AO9: Hệ số lương +VK + PCCV (hide) | AP9: Tỷ lệ PCƯĐ (hide) | AQ9: Hệ số PCƯĐ | AR9: PC ƯU ĐÃI | AS9: HS | AT9: Nộp 1 ngày lương | AU9: TỔNG CỘNG TIỀN LƯƠNG CÒN ĐƯỢC NHẬN | AV9: KÝ NHẬN | AZ9: =AZ8*16 -> #REF!
I10: CV | L10: thẻ ATM | Q10: HỆ SỐ LƯƠNG | R10: CỘNG HỆ SỐ PHỤ CẤP | S10: HỆ SỐ PC VƯỢT KHUNG | T10: HỆ SỐ PCTNVK | V10: HS PC CHỨC VỤ | W10: TỶ LỆ PCTNNG | X10: HS PCTN nhà giáo | AF10: BHXH 8% | AG10: BHYT 1.5% | AH10: BH THẤT NGHIỆP 1% | AI10: THUẾ THU NHẬP | AJ10: CỘNG | AK10: HỆ SỐ | AL10: THÀNH TIỀN | AM10: HỆ SỐ | AN10: THÀNH TIỀN | AS10: TC VÙNG KK (hide)
A11: 1 | C11: 2 | D11: 3 | E11: 4 | N11: 5 | O11: 4 | P11: 5 | Q11: 6 | R11: Hide | S11: Hide | T11: 7 | U11: Hide | V11: 8 | W11: Hide | X11: 9 | Y11: 10=6+7+8+9 | Z11: 11=10*1.490.000 | AA11: Hide | AB11: 12 | AC11: 13 | AD11: 14=11-12+13 | AE11: 16 | AF11: 15 | AG11: 16 | AH11: 17 | AI11: 18 | AJ11: 19=15+16+17+18 | AK11: 20 | AL11: 21=20*1.490.000 | AM11: 22 | AN11: 23=22*1.490.000 | AO11: Hide | AP11: Hide | AQ11: 24=(6+7+8)* Tỷ lệ PCUĐ | AR11: 25=24*1.490.000 | AS11: Hide | AT11: Hide | AU11: 26=14-19+21+23+25 | AV11: 27
U12: (9) = (8) x LTT | AE12: (16) = (7) + (9) + (11) + (13) + (14) + (15) | AF12: (17) = (16) x 7% | AG12: (18) = (16) x 1.5% | AH12: (19) = (16) x 1% | AL12: (21) = (20) x LTT | AR12: (22) = (6) + (6 x 8) + (10) x % PCƯĐ x LTT
D13: HỢP ĐỒNG LAO ĐỘNG
A14: 01 | B14: =INDEX([4]DS!$C$6:$C$343,MATCH(D14,[4]DS!$B$6:$B$343,0)) -> 0016100006551003 | C14: 11100083298 | D14: Lương Thị Thắm | E14: Nhân viên Trung tâm Dạy nghề Lý Tự Trọng | G14: x | I14: NV | J14: NV190 | K14: =VLOOKUP(D14,[2]T3!$B$2:$D$328,3,FALSE) -> 024834589 | L14: 1603205179071 | M14: 11100083298 | N14: 01.006 | O14: N3 | P14: 6 | Q14: 2.58 | R14: =T14+V14+X14 -> 0 | T14: =ROUND(Q14*S14/100,4) -> 0 | U14: =Q14*S14*$D$8/100 -> 0 | X14: =ROUND((Q14+T14+V14)*W14,4) -> 0 | Y14: =Q14+T14+V14+X14 -> 2.58 | Z14: =ROUND(Y14*$D$8,0) -> 3844200 | AB14: =Z14/24*AA14 -> 0 | AC14: =Z14/24*AA14*75% -> 0 | AD14: =ROUND(Z14-AB14+AC14,0) -> 3844200 | AE14: =#REF!+U14+#REF!+#REF!+#REF!+#REF! -> #REF! | AF14: =Z14*8% -> 307536 | AG14: =Z14*1.5% -> 57663 | AH14: =Z14*1% -> 38442 | AJ14: =SUM(AF14:AI14) -> 403641 | AL14: =AK14*$D$8 -> 0 | AO14: =Q14+T14+V14 -> 2.58 | AQ14: =ROUND(AO14*AP14,4) -> 0 | AR14: =ROUND(AQ14*$D$8,0) -> 0 | AU14: =ROUND(AD14-AJ14+AL14+AN14+AR14,0) -> 3440559 | AV14: =A14 -> 01 | AX14: NH
A15: 02 | B15: =INDEX([4]DS!$C$6:$C$343,MATCH(D15,[4]DS!$B$6:$B$343,0)) -> 0016100006575007 | C15: 11100071597 | D15: Huỳnh Thị Xuân Mai | E15: Nhân viên phòng Tổ chức - Hành chính - Tổng hợp | F15: SC | G15: x | I15: NV | J15: NV193 | K15: =VLOOKUP(D15,[2]T3!$B$2:$D$328,3,FALSE) -> 022537221 | L15: 1603205178850 | M15: 11100071597 | N15: 01.007 | O15: N2 | P15: 6 | Q15: 3.09 | R15: =T15+V15+X15 -> 0 | T15: =ROUND(Q15*S15/100,4) -> 0 | U15: =Q15*S15*$D$8/100 -> 0 | X15: =ROUND((Q15+T15+V15)*W15,4) -> 0 | Y15: =Q15+T15+V15+X15 -> 3.09 | Z15: =ROUND(Y15*$D$8,0) -> 4604100 | AB15: =Z15/24*AA15 -> 0 | AC15: =Z15/24*AA15*75% -> 0 | AD15: =ROUND(Z15-AB15+AC15,0) -> 4604100 | AE15: =#REF!+U15+#REF!+#REF!+#REF!+#REF! -> #REF! | AF15: =Z15*8% -> 368328 | AG15: =Z15*1.5% -> 69061.5 | AH15: =Z15*1% -> 46041 | AJ15: =SUM(AF15:AI15) -> 483430.5 | AL15: =AK15*$D$8 -> 0 | AO15: =Q15+T15+V15 -> 3.09 | AQ15: =ROUND(AO15*AP15,4) -> 0 | AR15: =ROUND(AQ15*$D$8,0) -> 0 | AU15: =ROUND(AD15-AJ15+AL15+AN15+AR15,0) -> 4120670 | AV15: =A15 -> 02 | AX15: KHVT | AZ15: =3.33*1490000 -> 4961700 | BA15: =3*1390000 -> 4170000 | BB15: =0.33*1390000 -> 458700
A16: 03 | B16: =INDEX([4]DS!$C$6:$C$343,MATCH(D16,[4]DS!$B$6:$B$343,0)) -> 0016100006709006 | C16: 11100071602 | D16: Lê Thị Nữ | E16: Nhân viên phòng Công tác Chính trị - HSSV | F16: TC | G16: x | I16: NV | J16: NV197 | K16: =VLOOKUP(D16,[2]T3!$B$2:$D$328,3,FALSE) -> 021987251 | L16: 1603205179196 | M16: 11100071602 | N16: 01.008 | O16: N3 | P16: 7 | Q16: 2.61 | R16: =T16+V16+X16 -> 0 | T16: =ROUND(Q16*S16/100,4) -> 0 | U16: =Q16*S16*$D$8/100 -> 0 | X16: =ROUND((Q16+T16+V16)*W16,4) -> 0 | Y16: =Q16+T16+V16+X16 -> 2.61 | Z16: =ROUND(Y16*$D$8,0) -> 3888900 | AB16: =Z16/24*AA16 -> 0 | AC16: =Z16/24*AA16*75% -> 0 | AD16: =ROUND(Z16-AB16+AC16,0) -> 3888900 | AE16: =#REF!+U16+#REF!+#REF!+#REF!+#REF! -> #REF! | AF16: =Z16*8% -> 311112 | AG16: =Z16*1.5% -> 58333.5 | AH16: =Z16*1% -> 38889 | AJ16: =SUM(AF16:AI16) -> 408334.5 | AL16: =AK16*$D$8 -> 0 | AO16: =Q16+T16+V16 -> 2.61 | AQ16: =ROUND(AO16*AP16,4) -> 0 | AR16: =ROUND(AQ16*$D$8,0) -> 0 | AU16: =ROUND(AD16-AJ16+AL16+AN16+AR16,0) -> 3480566 | AV16: =A16 -> 03 | AX16: QS | AZ16: =AZ15*10.5% -> 520978.5 | BA16: =BA15*10.5% -> 437850 | BB16: =BB15*10.5% -> 48163.5
A17: 04 | B17: =INDEX([4]DS!$C$6:$C$343,MATCH(D17,[4]DS!$B$6:$B$343,0)) -> 0016100006718005 | C17: 11100000812 | D17: Trần Văn Lý | E17: Nhân viên phòng Quản trị - Dịch vụ | I17: NV | J17: NV200 | K17: 072065001832 | L17: 1603205185964 | M17: 11100000812 | N17: 01.011 | O17: N3 | P17: 12 | Q17: 3.48 | R17: =T17+V17+X17 -> 0.4524 | S17: 13 | T17: =ROUND(Q17*S17/100,4) -> 0.4524 | U17: =Q17*S17*$D$8/100 -> 674076 | X17: =ROUND((Q17+T17+V17)*W17,4) -> 0 | Y17: =Q17+T17+V17+X17 -> 3.9324 | Z17: =ROUND(Y17*$D$8,0) -> 5859276 | AB17: =Z17/24*AA17 -> 0 | AC17: =Z17/24*AA17*75% -> 0 | AD17: =ROUND(Z17-AB17+AC17,0) -> 5859276 | AE17: =#REF!+U17+#REF!+#REF!+#REF!+#REF! -> #REF! | AF17: =Z17*8% -> 468742.08 | AG17: =Z17*1.5% -> 87889.14 | AH17: =Z17*1% -> 58592.76 | AJ17: =SUM(AF17:AI17) -> 615223.98 | AL17: =AK17*$D$8 -> 0 | AO17: =Q17+T17+V17 -> 3.9324 | AQ17: =ROUND(AO17*AP17,4) -> 0 | AR17: =ROUND(AQ17*$D$8,0) -> 0 | AU17: =ROUND(AD17-AJ17+AL17+AN17+AR17,0) -> 5244052 | AV17: =A17 -> 04 | AZ17: =#REF!+AZ15+800000+1000000 -> #REF! | BA17: =#REF!+BA15 -> #REF!
A18: 05 | B18: =INDEX([4]DS!$C$6:$C$343,MATCH(D18,[4]DS!$B$6:$B$343,0)) -> 0016100006649003 | C18: 11100000805 | D18: Trần Văn Cu Anh | E18: Nhân viên Bảo vệ phòng Tổ chức - Hành chính - Tổng hợp | I18: NV | J18: NV199 | K18: =VLOOKUP(D18,[2]T3!$B$2:$D$328,3,FALSE) -> 079064004299 | L18: 1603205185970 | M18: 11100000805 | N18: 01.011 | O18: N3 | P18: 12 | Q18: 3.48 | R18: =T18+V18+X18 -> 0.4872 | S18: 14 | T18: =ROUND(Q18*S18/100,4) -> 0.4872 | U18: =Q18*S18*$D$8/100 -> 725928 | X18: =ROUND((Q18+T18+V18)*W18,4) -> 0 | Y18: =Q18+T18+V18+X18 -> 3.9672 | Z18: =ROUND(Y18*$D$8,0) -> 5911128 | AB18: =Z18/24*AA18 -> 0 | AC18: =Z18/24*AA18*75% -> 0 | AD18: =ROUND(Z18-AB18+AC18,0) -> 5911128 | AE18: =#REF!+U18+#REF!+#REF!+#REF!+#REF! -> #REF! | AF18: =Z18*8% -> 472890.24 | AG18: =Z18*1.5% -> 88666.92 | AH18: =Z18*1% -> 59111.28 | AJ18: =SUM(AF18:AI18) -> 620668.44 | AL18: =AK18*$D$8 -> 0 | AO18: =Q18+T18+V18 -> 3.9672 | AQ18: =ROUND(AO18*AP18,4) -> 0 | AR18: =ROUND(AQ18*$D$8,0) -> 0 | AU18: =ROUND(AD18-AJ18+AL18+AN18+AR18,0) -> 5290460 | AV18: =A18 -> 05 | AZ18: =AZ15*1.2 -> 5954040 | BA18: =BA17+800000 -> #REF!
D19: CỘNG HỢP ĐỒNG LAO ĐỘNG | Q19: =SUM(Q13:Q18) -> 15.24 | R19: =SUM(R13:R18) -> 0.9396 | T19: =SUM(T13:T18) -> 0.9396 | U19: =SUM(U13:U18) -> 1400004 | V19: =SUM(V13:V18) -> 0 | X19: =SUM(X13:X18) -> 0 | Y19: =SUM(Y13:Y18) -> 16.1796 | Z19: =SUM(Z13:Z18) -> 24107604 | AA19: =SUM(AA13:AA18) -> 0 | AB19: =SUM(AB13:AB18) -> 0 | AC19: =SUM(AC13:AC18) -> 0 | AD19: =SUM(AD13:AD18) -> 24107604 | AE19: =SUM(AE13:AE18) -> #REF! | ... AT19: =SUM(AT13:AT18) -> 0 | AU19: =SUM(AU13:AU18)-1 -> 21576306
D21: Bằng chữ: | E21: Hai mươi mốt triệu năm trăm sáu mươi bảy ngàn ba trăm lẻ sáu đồng.
E23: =[5]!VND(#REF!,,"đồng","ảo",3) -> #VALUE! | AL23: Thành phố Hồ Chí Minh, ngày 01 tháng 10 năm 2021
D24: NGƯỜI LẬP BẢNG | V24: KẾ TOÁN TRƯỞNG | AL24: HIỆU TRƯỞNG
D32: Vũ Như Quỳnh | V32: Nguyễn Kính | AL32: Phạm Hữu Lộc
G61: GV288

Sheet BC
A1: ỦY BAN NHÂN DÂN THÀNH PHỐ HỒ CHÍ MINH | AL1: Mẫu số C02a - HD
A2: ĐƠN VỊ: TRƯỜNG CAO ĐẲNG LÝ TỰ TRỌNG | AL2: (Ban hành kèm theo Thông tư số 107/2017-BTC
A3: MÃ ĐƠN VỊ: 1058083 | AL3: ngày 10/10/2017 của Bộ Tài chính)
V4: BẢNG THANH TOÁN TIỀN LƯƠNG
AR5: Số: ……………………………………
V6: (Tháng 11 năm 2024) | AR6: Nợ: ……………………………………
AR7: Có: …………………………………….
D8: 2340000
A9: STT | C9: MÃ SỐ VIÊN CHỨC` | D9: HỌ VÀ TÊN | E9: CẤP BẬC - CHỨC VỤ | G9: NỮ | I9: CD | J9: MS CỐ ĐỊNH TỪ T8/2008 | K9: Số CMND | L9: Số tài khoản | M9: MÃ SỐ VIÊN CHỨC` | N9: CHỨC DANH NGHỀ NGHIỆP | O9: MÃ SỐ NGẠCH LƯƠNG | P9: LOẠI VC | Q9: BẬC | R9: LƯƠNG HỆ SỐ | Z9: CỘNG HỆ SỐ | AA9: THÀNH TIỀN | AB9: SỐ NGÀY NGHỈ | AC9: Nghỉ việc không được hưởng lương | AD9: BHXH trả thay lương | AE9: Tổng cộng tiền lương và BHXH được hưởng | AF9: KHẤU TRỪ | AK9: PC TRÁCH NHIỆM | AM9: PC ĐỘC HẠI | AO9: Hệ số lương +VK + PCCV (hide) | AP9: Tỷ lệ PCƯĐ (hide) | AQ9: Hệ số PCƯĐ | AR9: PC ƯU ĐÃI | AS9: Nộp 1 ngày lương | AT9: TỔNG CỘNG TIỀN LƯƠNG CÒN ĐƯỢC NHẬN | AU9: KÝ NHẬN
I10: CV | L10: thẻ ATM | R10: HỆ SỐ LƯƠNG | S10: CỘNG HỆ SỐ PHỤ CẤP | T10: HỆ SỐ PC VƯỢT KHUNG | U10: HỆ SỐ PCTNVK | W10: HS PC CHỨC VỤ | X10: TỶ LỆ PCTNNG | Y10: HS PCTN nhà giáo | AF10: BHXH 8% | AG10: BHYT 1.5% | AH10: BH THẤT NGHIỆP 1% | AI10: THUẾ THU NHẬP | AJ10: CỘNG | AK10: HỆ SỐ | AL10: THÀNH TIỀN | AM10: HỆ SỐ | AN10: THÀNH TIỀN
A11: 1 | C11: 2 | D11: 3 | E11: 4 | O11: 5 | P11: 4 | Q11: 5 | R11: 6 | S11: Hide | T11: Hide | U11: 7 | V11: Hide | W11: 8 | X11: Hide | Y11: 9 | Z11: 10=6+7+8+9 | AA11: 11=10*2.340.000 | AB11: Hide | AC11: 12 | AD11: 13 | AE11: 14=11-12+13 | AF11: 15 | AG11: 16 | AH11: 17 | AI11: 18 | AJ11: 19=15+16+17+18 | AK11: 20 | AL11: 21=20*2.340.000 | AM11: 22 | AN11: 23=22*2.340.000 | AO11: Hide | AP11: Hide | AQ11: 24=(6+7+8)* Tỷ lệ PCUĐ | AR11: 25=24*2.340.000 | AS11: Hide | AT11: 26=14-19+21+23+25 | AU11: 27
V12: (9) = (8) x LTT | AF12: (17) = (16) x 7% | AG12: (18) = (16) x 1.5% | AH12: (19) = (16) x 1% | AL12: (21) = (20) x LTT | AR12: (22) = (6) + (6 x 8) + (10) x % PCƯĐ x LTT
C13: A. BIÊN CHẾ
A14: =_xlfn.AGGREGATE(4,7,A$13:A13)+1 -> 1 | B14: =VLOOKUP(D14,[1]LuongBC_T01!$B$9:$C$292,2,FALSE) -> 0016100006699008 | C14: 50200000021 | D14: Đinh Văn Đệ | E14: Phó Hiệu trưởng phụ trách | K14: =VLOOKUP(D14,[2]T3!$B$2:$D$328,3,FALSE) -> 025372149 | L14: 1603215001371 | M14: 50200000021 | N14: =VLOOKUP(D14,'[6]Bao cao So GDDT'!$D$14:$S$282,11,FALSE) -> Giảng viên GDNN LT (hạng III) | O14: V.09.02.03 | P14: A1 | Q14: 8 | R14: 4.98 | S14: =U14+W14+Y14 -> 2.6812 | T14: 7 | U14: =ROUND(R14*T14/100,4) -> 0.3486 | V14: =R14*T14*$D$8/100 -> 815724 | W14: 0.9 | X14: 0.23 | Y14: =ROUND((R14+U14+W14)*X14,4) -> 1.4326 | Z14: =ROUND(R14+U14+W14+Y14,4) -> 7.6612 | AA14: =ROUND(Z14*$D$8,0) -> 17927208 | AC14: =AA14/24*AB14 -> 0 | AD14: =AA14/24*AB14*75% -> 0 | AE14: =ROUND(AA14-AC14+AD14,0) -> 17927208 | AF14: =AA14*8% -> 1434176.6 | AG14: =AA14*1.5% -> 268908.12 | AH14: =AA14*1% -> 179272.08 | AJ14: =SUM(AF14:AI14) -> 1882356.8 | AL14: =AK14*$D$8 -> 0 | AO14: =R14+U14+W14 -> 6.2286 | AP14: 0.25 | AQ14: =ROUND(AO14*AP14,4) -> 1.5572 | AR14: =ROUND(AQ14*$D$8,0) -> 3643848 | AT14: =ROUND(AE14-AJ14+AL14+AN14+AR14,0) -> 19688699 | AU14: =A14 -> 1 | AW14: QĐ Thuyên chuyển từ ĐH Công nghiệp về trường T01/2015.
A15: =_xlfn.AGGREGATE(4,7,A$13:A14)+1 -> 2 | B15: =VLOOKUP(D15,[1]LuongBC_T01!$B$9:$C$292,2,FALSE) -> 0016100006543008 | C15: 11100000791 | D15: Đinh Hồng Minh | E15: Phó Hiệu trưởng | F15: ĐH | G15: x | I15: PPK | J15: PPK023 | K15: =VLOOKUP(D15,[2]T3!$B$2:$D$328,3,FALSE) -> 022077198 | L15: 1603205186191 | M15: 11100000791 | N15: =VLOOKUP(D15,'[6]Bao cao So GDDT'!$D$14:$S$282,11,FALSE) -> Giảng viên GDNN LT (hạng III) | O15: 01.003 | P15: A1 | Q15: 8 | R15: 4.98 | S15: =U15+W15+Y15 -> 1.1482 | T15: 9 | U15: =ROUND(R15*T15/100,4) -> 0.4482 | V15: =R15*T15*$D$8/100 -> 1048788 | W15: 0.7 | X15: =VLOOKUP(D15,PCTN!D16:W283,20,FALSE) -> 0 | Y15: =ROUND((R15+U15+W15)*X15,4) -> 0 | Z15: =ROUND(R15+U15+W15+Y15,4) -> 6.1282 | AA15: =ROUND(Z15*$D$8,0) -> 14339988 | AC15: =AA15/24*AB15 -> 0 | AD15: =AA15/24*AB15*75% -> 0 | AE15: =ROUND(AA15-AC15+AD15,0) -> 14339988 | AF15: =AA15*8% -> 1147199 | AG15: =AA15*1.5% -> 215099.82 | AH15: =AA15*1% -> 143399.88 | AJ15: =SUM(AF15:AI15) -> 1505698.7 | AL15: =AK15*$D$8 -> 0 | AO15: =R15+U15+W15 -> 6.1282 | AQ15: =ROUND(AO15*AP15,4) -> 0 | AR15: =ROUND(AQ15*$D$8,0) -> 0 | AT15: =ROUND(AE15-AJ15+AL15+AN15+AR15,0) -> 12834289 | AU15: =A15 -> 2
A16: =_xlfn.AGGREGATE(4,7,A$13:A15)+1 -> 3 | B16: =VLOOKUP(D16,[1]LuongBC_T01!$B$9:$C$292,2,FALSE) -> 0016100006674008 | C16: 50200000102 | D16: Châu Văn Bảo | E16: Phó Hiệu trưởng | K16: =VLOOKUP(D16,[2]T3!$B$2:$D$328,3,FALSE) -> 025661153 | L16: 1603215001359 | M16: 50200000102 | N16: =VLOOKUP(D16,'[6]Bao cao So GDDT'!$D$14:$S$282,11,FALSE) -> Giảng viên GDNN LT (hạng III) | O16: V.09.02.03 | P16: A1 | Q16: 6 | R16: 4.98 | S16: =U16+W16+Y16 -> 1.9496 | U16: =ROUND(R16*T16/100,4) -> 0 | V16: =R16*T16*$D$8/100 -> 0 | W16: 0.7 | X16: 0.22 | Y16: =ROUND((R16+U16+W16)*X16,4) -> 1.2496 | Z16: =ROUND(R16+U16+W16+Y16,4) -> 6.9296 | AA16: =ROUND(Z16*$D$8,0) -> 16215264 | AC16: =AA16/24*AB16 -> 0 | AD16: =AA16/24*AB16*75% -> 0 | AE16: =ROUND(AA16-AC16+AD16,0) -> 16215264 | AF16: =AA16*8% -> 1297221.1 | AG16: =AA16*1.5% -> 243228.96 | AH16: =AA16*1% -> 162152.64 | AJ16: =SUM(AF16:AI16) -> 1702602.7 | AL16: =AK16*$D$8 -> 0 | AO16: =R16+U16+W16 -> 5.68 | AP16: 0.25 | AQ16: =ROUND(AO16*AP16,4) -> 1.42 | AR16: =ROUND(AQ16*$D$8,0) -> 3322800 | AT16: =ROUND(AE16-AJ16+AL16+AN16+AR16,0) -> 17835461 | AU16: =A16 -> 3 | AW16: QĐ Bổ nhiệm Phó Hiệu trưởng từ 15/4/2019
A17: =_xlfn.AGGREGATE(4,7,A$13:A16)+1 -> 4 | B17: 0016106868686866 | C17: 50800000104 | D17: Lâm Viết Dũng | E17: Trưởng phòng Tổ chức - Hành chính - Tổng hợp | K17: 079076001426 | M17: 50800000104 | N17: =VLOOKUP(D17,'[6]Bao cao So GDDT'!$D$14:$S$282,11,FALSE) -> Giảng viên GDNN LT (hạng III) | O17: V.09.02.03 | P17: A1 | Q17: 7 | R17: 4.98 | S17: =U17+W17+Y17 -> 2.0664 | T17: 6 | U17: =ROUND(R17*T17/100,4) -> 0.2988 | V17: =R17*T17*$D$8/100 -> 699192 | W17: 0.45 | X17: 0.23 | Y17: =ROUND((R17+U17+W17)*X17,4) -> 1.3176 | Z17: =ROUND(R17+U17+W17+Y17,4) -> 7.0464 | AA17: =ROUND(Z17*$D$8,0) -> 16488576 | AC17: =AA17/24*AB17 -> 0 | AD17: =AA17/24*AB17*75% -> 0 | AE17: =ROUND(AA17-AC17+AD17,0) -> 16488576 | AF17: =AA17*8% -> 1319086.1 | AG17: =AA17*1.5% -> 247328.64 | AH17: =AA17*1% -> 164885.76 | AJ17: =SUM(AF17:AI17) -> 1731300.5 | AL17: =AK17*$D$8 -> 0 | AO17: =R17+U17+W17 -> 5.7288 | AP17: 0.25 | AQ17: =ROUND(AO17*AP17,4) -> 1.4322 | AR17: =ROUND(AQ17*$D$8,0) -> 3351348 | AT17: =ROUND(AE17-AJ17+AL17+AN17+AR17,0) -> 18108624 | AU17: =A17 -> 4
A18: =_xlfn.AGGREGATE(4,7,A$13:A17)+1 -> 5 | B18: =VLOOKUP(D18,[1]LuongBC_T01!$B$9:$C$292,2,FALSE) -> 0016100006806001 | C18: 50200000160 | D18: Lê Quang Liêm | E18: Trưởng phòng Quản trị - Dịch vụ | K18: =VLOOKUP(D18,[2]T3!$B$2:$D$328,3,FALSE) -> 024891110 | L18: 1603215001365 | M18: 50200000160 | N18: =VLOOKUP(D18,'[6]Bao cao So GDDT'!$D$14:$S$282,11,FALSE) -> Giảng viên GDNN LT (hạng III) | O18: V.09.02.03 | P18: A1 | Q18: 7 | R18: 4.98 | S18: =U18+W18+Y18 -> 2.1237 | T18: 6 | U18: =ROUND(R18*T18/100,4) -> 0.2988 | V18: =R18*T18*$D$8/100 -> 699192 | W18: 0.45 | X18: 0.24 | Y18: =ROUND((R18+U18+W18)*X18,4) -> 1.3749 | Z18: =ROUND(R18+U18+W18+Y18,4) -> 7.1037 | AA18: =ROUND(Z18*$D$8,0) -> 16622658 | AC18: =AA18/24*AB18 -> 0 | AD18: =AA18/24*AB18*75% -> 0 | AE18: =ROUND(AA18-AC18+AD18,0) -> 16622658 | AF18: =AA18*8% -> 1329812.6 | AG18: =AA18*1.5% -> 249339.87 | AH18: =AA18*1% -> 166226.58 | AJ18: =SUM(AF18:AI18) -> 1745379.1 | AL18: =AK18*$D$8 -> 0 | AO18: =R18+U18+W18 -> 5.7288 | AP18: 0.25 | AQ18: =ROUND(AO18*AP18,4) -> 1.4322 | AR18: =ROUND(AQ18*$D$8,0) -> 3351348 | AT18: =ROUND(AE18-AJ18+AL18+AN18+AR18,0) -> 18228627 | AU18: =A18 -> 5
A19: =_xlfn.AGGREGATE(4,7,A$13:A18)+1 -> 6 | B19: =VLOOKUP(D19,[1]LuongBC_T01!$B$9:$C$292,2,FALSE) -> 0016100006495006 | C19: 11100000723 | D19: Nguyễn Văn Thành | E19: Phó Trưởng phòng Quản trị - Dịch vụ | F19: ĐH | I19: GV | J19: GV087 | K19: =VLOOKUP(D19,[2]T3!$B$2:$D$328,3,FALSE) -> 079074000549 | L19: 1603205182190 | M19: 11100000723 | N19: =VLOOKUP(D19,'[6]Bao cao So GDDT'!$D$14:$S$282,11,FALSE) -> Giảng viên GDNN LT (hạng III) | O19: V.09.02.03 | P19: A1 | Q19: 8 | R19: 4.98 | S19: =U19+W19+Y19 -> 1.9479 | T19: 7 | U19: =ROUND(R19*T19/100,4) -> 0.3486 | V19: =R19*T19*$D$8/100 -> 815724 | W19: 0.35 | X19: 0.22 | Y19: =ROUND((R19+U19+W19)*X19,4) -> 1.2493 | Z19: =ROUND(R19+U19+W19+Y19,4) -> 6.9279 | AA19: =ROUND(Z19*$D$8,0) -> 16211286 | AC19: =AA19/24*AB19 -> 0 | AD19: 0 | AE19: =ROUND(AA19-AC19+AD19,0) -> 16211286 | AF19: =AA19*8% -> 1296902.9 | AG19: =AA19*1.5% -> 243169.29 | AH19: =AA19*1% -> 162112.86 | AJ19: =SUM(AF19:AI19) -> 1702185 | AL19: =AK19*$D$8 -> 0 | AO19: =R19+U19+W19 -> 5.6786 | AP19: 0.25 | AQ19: =ROUND(AO19*AP19,4) -> 1.4197 | AR19: =ROUND(AQ19*$D$8,0) -> 3322098 | AT19: =ROUND(AE19-AJ19+AL19+AN19+AR19,0) -> 17831199 | AU19: =A19 -> 6 | AW19: TO
A20: =_xlfn.AGGREGATE(4,7,A$13:A19)+1 -> 7 | B20: =VLOOKUP(D20,[1]LuongBC_T01!$B$9:$C$292,2,FALSE) -> 0016100006708007 | C20: 11100000789 | D20: Phan Đức Long | E20: Tổ trưởng Tổ QL Ký túc xá SV | F20: ĐH | H20: GV | I20: GV | J20: GV094 | K20: =VLOOKUP(D20,[2]T3!$B$2:$D$328,3,FALSE) -> 022688264 | L20: 1603205179180 | M20: 11100000789 | N20: =VLOOKUP(D20,'[6]Bao cao So GDDT'!$D$14:$S$282,11,FALSE) -> Giảng viên GDNN LT (hạng III) | O20: V.09.02.03 | P20: A1 | Q20: 7 | R20: 4.98 | S20: =U20+W20+Y20 -> 1.8204 | T20: 6 | U20: =ROUND(R20*T20/100,4) -> 0.2988 | V20: =R20*T20*$D$8/100 -> 699192 | W20: 0.25 | X20: 0.23 | Y20: =ROUND((R20+U20+W20)*X20,4) -> 1.2716 | Z20: =ROUND(R20+U20+W20+Y20,4) -> 6.8004 | AA20: =ROUND(Z20*$D$8,0) -> 15912936 | AC20: =AA20/24*AB20 -> 0 | AD20: 0 | AE20: =ROUND(AA20-AC20+AD20,0) -> 15912936 | AF20: =AA20*8% -> 1273034.9 | AG20: =AA20*1.5% -> 238694.04 | AH20: =AA20*1% -> 159129.36 | AJ20: =SUM(AF20:AI20) -> 1670858.3 | AL20: =AK20*$D$8 -> 0 | AO20: =R20+U20+W20 -> 5.5288 | AP20: 0.25 | AQ20: =ROUND(AO20*AP20,4) -> 1.3822 | AR20: =ROUND(AQ20*$D$8,0) -> 3234348 | AT20: =ROUND(AE20-AJ20+AL20+AN20+AR20,0) -> 17476426 | AU20: =A20 -> 7 | AW20: QS
A21: =_xlfn.AGGREGATE(4,7,A$13:A20)+1 -> 8 | D21: Phan Hữu Tước | E21: Phó Trưởng phòng Quản trị - Dịch vụ | O21: 01.005 | R21: 4.06 | S21: =U21+W21+Y21 -> 0.7966 | T21: 11 | U21: =ROUND(R21*T21/100,4) -> 0.4466 | V21: =R21*T21*$D$8/100 -> 1045044 | W21: 0.35 | Y21: =ROUND((R21+U21+W21)*X21,4) -> 0 | Z21: =ROUND(R21+U21+W21+Y21,4) -> 4.8566 | AA21: =ROUND(Z21*$D$8,0) -> 11364444 | AC21: =AA21/24*AB21 -> 0 | AD21: 0 | AE21: =ROUND(AA21-AC21+AD21,0) -> 11364444 | AF21: =AA21*8% -> 909155.52 | AG21: =AA21*1.5% -> 170466.66 | AH21: =AA21*1% -> 113644.44 | AJ21: =SUM(AF21:AI21) -> 1193266.6 | AL21: =AK21*$D$8 -> 0 | AO21: =R21+U21+W21 -> 4.8566 | AQ21: =ROUND(AO21*AP21,4) -> 0 | AR21: =ROUND(AQ21*$D$8,0) -> 0 | AT21: =ROUND(AE21-AJ21+AL21+AN21+AR21,0) -> 10171177 | AU21: =A21 -> 8
A22: =_xlfn.AGGREGATE(4,7,A$13:A21)+1 -> 9 | B22: =VLOOKUP(D22,[1]LuongBC_T01!$B$9:$C$292,2,FALSE) -> 0016100006567007 | C22: 11100000785 | D22: Trang Thị Xuân Uyên | E22: Trưởng Trung tâm Y tế | F22: Th.S | G22: x | I22: QL | J22: QL022 | K22: 079170004279 | L22: 1603205186156 | M22: 11100000785 | N22: =VLOOKUP(D22,'[6]Bao cao So GDDT'!$D$14:$S$282,11,FALSE) -> Bác sĩ (hạng III) | O22: V.08.01.03 | P22: A1 | Q22: 6 | R22: 4.65 | S22: =U22+W22+Y22 -> 0.45 | U22: =ROUND(R22*T22/100,4) -> 0 | V22: =R22*T22*$D$8/100 -> 0 | W22: 0.45 | X22: =VLOOKUP(D22,PCTN!D23:W290,20,FALSE) -> 0 | Y22: =ROUND((R22+U22+W22)*X22,4) -> 0 | Z22: =ROUND(R22+U22+W22+Y22,4) -> 5.1 | AA22: =ROUND(Z22*$D$8,0) -> 11934000 | AC22: =AA22/24*AB22 -> 0 | AD22: =AA22/24*AB22*75% -> 0 | AE22: =ROUND(AA22-AC22+AD22,0) -> 11934000 | AF22: =AA22*8% -> 954720 | AG22: =AA22*1.5% -> 179010 | AH22: =AA22*1% -> 119340 | AJ22: =SUM(AF22:AI22) -> 1253070 | AL22: =AK22*$D$8 -> 0 | AO22: =R22+U22+W22 -> 5.1 | AP22: 0.2 | AQ22: =ROUND(AO22*AP22,4) -> 1.02 | AR22: =ROUND(AQ22*$D$8,0) -> 2386800 | AT22: =ROUND(AE22-AJ22+AL22+AN22+AR22,0) -> 13067730 | AU22: =A22 -> 9 | AV22: Hưởng PCUĐ nghề 20% (trên hệ số lương hiện hưởng). | AW22: YT
A23: =_xlfn.AGGREGATE(4,7,A$13:A22)+1 -> 10 | B23: =VLOOKUP(D23,[1]LuongBC_T01!$B$9:$C$292,2,FALSE) -> 0016100006705008 | C23: 50800000800 | D23: Nguyễn Kính | E23: TP. Kế hoạch - Tài chính | K23: =VLOOKUP(D23,[2]T3!$B$2:$D$328,3,FALSE) -> 023147526 | M23: 50800000800 | N23: =VLOOKUP(D23,'[6]Bao cao So GDDT'!$D$14:$S$282,11,FALSE) -> Kế toán viên | O23: 06.031 | P23: A1 | Q23: 9 | R23: 4.98 | S23: =U23+W23+Y23 -> 2.3424 | T23: 38 | U23: =ROUND(R23*T23/100,4) -> 1.8924 | V23: =R23*T23*$D$8/100 -> 4428216 | W23: 0.45 | X23: 0 | Y23: =ROUND((R23+U23+W23)*X23,4) -> 0 | Z23: =ROUND(R23+U23+W23+Y23,4) -> 7.3224 | AA23: =ROUND(Z23*$D$8,0) -> 17134416 | AC23: =AA23/24*AB23 -> 0 | AD23: =AA23/24*AB23*75% -> 0 | AE23: =ROUND(AA23-AC23+AD23,0) -> 17134416 | AF23: =AA23*8% -> 1370753.3 | AG23: =AA23*1.5% -> 257016.24 | AH23: =AA23*1% -> 171344.16 | AJ23: =SUM(AF23:AI23) -> 1799113.7 | AK23: 0.2 | AL23: =AK23*$D$8 -> 468000 | AO23: =R23+U23+W23 -> 7.3224 | AP23: 0 | AQ23: =ROUND(AO23*AP23,4) -> 0 | AR23: =ROUND(AQ23*$D$8,0) -> 0 | AT23: =ROUND(AE23-AJ23+AL23+AN23+AR23,0) -> 15803302 | AU23: =A23 -> 10 | AV23: PCTN kế toán trưởng HS 0,2 trên MLTT từ 06/02/2017.
A24: =_xlfn.AGGREGATE(4,7,A$13:A23)+1 -> 11 | B24: =VLOOKUP(D24,[1]LuongBC_T01!$B$9:$C$292,2,FALSE) -> 0016100006766007 | C24: 11100000742 | D24: Lê Xuân Thiện | E24: Nhân viên phòng Thanh tra giáo dục - QHDN | F24: ĐH | I24: NV | J24: NV063 | K24: 048065000101 | L24: 1603205185958 | M24: 11100000742 | N24: =VLOOKUP(D24,'[6]Bao cao So GDDT'!$D$14:$S$282,11,FALSE) -> Chuyên viên | O24: 01.003 | P24: A1 | Q24: 8 | R24: 4.98 | S24: =U24+W24+Y24 -> 0.3984 | T24: 8 | U24: =ROUND(R24*T24/100,4) -> 0.3984 | V24: =R24*T24*$D$8/100 -> 932256 | X24: =VLOOKUP(D24,PCTN!D24:W291,20,FALSE) -> 0 | Y24: =ROUND((R24+U24+W24)*X24,4) -> 0 | Z24: =ROUND(R24+U24+W24+Y24,4) -> 5.3784 | AA24: =ROUND(Z24*$D$8,0) -> 12585456 | AC24: =AA24/24*AB24 -> 0 | AD24: =AA24/24*AB24*75% -> 0 | AE24: =ROUND(AA24-AC24+AD24,0) -> 12585456 | AF24: =AA24*8% -> 1006836.5 | AG24: =AA24*1.5% -> 188781.84 | AH24: =AA24*1% -> 125854.56 | AJ24: =SUM(AF24:AI24) -> 1321472.9 | AL24: =AK24*$D$8 -> 0 | AO24: =R24+U24+W24 -> 5.3784 | AQ24: =ROUND(AO24*AP24,4) -> 0 | AR24: =ROUND(AQ24*$D$8,0) -> 0 | AT24: =ROUND(AE24-AJ24+AL24+AN24+AR24,0) -> 11263983 | AU24: =A24 -> 11
A25: =_xlfn.AGGREGATE(4,7,A$13:A24)+1 -> 12 | B25: =VLOOKUP(D25,[1]LuongBC_T01!$B$9:$C$292,2,FALSE) -> 0016100006783001 | C25: 11100000751 | D25: Nguyễn Ngọc Hiệp | E25: Giảng viên khoa Cơ khí | F25: ĐH | I25: GV | J25: GV089 | K25: =VLOOKUP(D25,[2]T3!$B$2:$D$328,3,FALSE) -> 022776286 | L25: 1603205179173 | M25: 11100000751 | N25: =VLOOKUP(D25,'[6]Bao cao So GDDT'!$D$14:$S$282,11,FALSE) -> Giảng viên GDNN LT (hạng III) | O25: V.09.02.03 | P25: A1 | Q25: 8 | R25: 4.98 | S25: =U25+W25+Y25 -> 1.6275 | T25: 7 | U25: =ROUND(R25*T25/100,4) -> 0.3486 | V25: =R25*T25*$D$8/100 -> 815724 | X25: 0.24 | Y25: =ROUND((R25+U25+W25)*X25,4) -> 1.2789 | Z25: =ROUND(R25+U25+W25+Y25,4) -> 6.6075 | AA25: =ROUND(Z25*$D$8,0) -> 15461550 | AC25: =AA25/24*AB25 -> 0 | AD25: =AA25/24*AB25*75% -> 0 | AE25: =ROUND(AA25-AC25+AD25,0) -> 15461550 | AF25: =AA25*8% -> 1236924 | AG25: =AA25*1.5% -> 231923.25 | AH25: =AA25*1% -> 154615.5 | AJ25: =SUM(AF25:AI25) -> 1623462.8 | AL25: =AK25*$D$8 -> 0 | AO25: =R25+U25+W25 -> 5.3286 | AP25: 0.25 | AQ25: =ROUND(AO25*AP25,4) -> 1.3322 | AR25: =ROUND(AQ25*$D$8,0) -> 3117348 | AT25: =ROUND(AE25-AJ25+AL25+AN25+AR25,0) -> 16955435 | AU25: =A25 -> 12 | AW25: QS
A26: =_xlfn.AGGREGATE(4,7,A$13:A25)+1 -> 13 | B26: =VLOOKUP(D26,[1]LuongBC_T01!$B$9:$C$292,2,FALSE) -> 0016100006715006 | C26: 11100000772 | D26: Nguyễn Tất Thắng | E26: Nhân viên phòng Thanh tra giáo dục - QHDN | F26: ĐH | I26: NV | J26: NV109 | K26: =VLOOKUP(D26,[2]T3!$B$2:$D$328,3,FALSE) -> 023181301 | L26: 1603205179109 | M26: 11100000772 | N26: =VLOOKUP(D26,'[6]Bao cao So GDDT'!$D$14:$S$282,11,FALSE) -> Chuyên viên | O26: 01.003 | P26: A1 | Q26: 5 | R26: 4.32 | S26: =U26+W26+Y26 -> 0 | U26: =ROUND(R26*T26/100,4) -> 0 | V26: =R26*T26*$D$8/100 -> 0 | X26: =VLOOKUP(D26,PCTN!D75:W342,20,FALSE) -> 0 | Y26: =ROUND((R26+U26+W26)*X26,4) -> 0 | Z26: =ROUND(R26+U26+W26+Y26,4) -> 4.32 | AA26: =ROUND(Z26*$D$8,0) -> 10108800 | AC26: =AA26/24*AB26 -> 0 | AD26: 0 | AE26: =ROUND(AA26-AC26+AD26,0) -> 10108800 | AF26: =AA26*8% -> 808704 | AG26: =AA26*1.5% -> 151632 | AH26: =AA26*1% -> 101088 | AJ26: =SUM(AF26:AI26) -> 1061424 | AL26: =AK26*$D$8 -> 0 | AO26: =R26+U26+W26 -> 4.32 | AQ26: =ROUND(AO26*AP26,4) -> 0 | AR26: =ROUND(AQ26*$D$8,0) -> 0 | AT26: =ROUND(AE26-AJ26+AL26+AN26+AR26,0) -> 9047376 | AU26: =A26 -> 13 | AW26: CNTT
A27: =_xlfn.AGGREGATE(4,7,A$13:A26)+1 -> 14 | B27: =VLOOKUP(D27,[1]LuongBC_T01!$B$9:$C$292,2,FALSE) -> 0016100006527005 | C27: 11100000782 | D27: Võ Thị Xuân Thơ | E27: Nhân viên phòng Tuyển sinh - Đào tạo | F27: ĐH | G27: x | I27: NV | J27: NV110 | K27: =VLOOKUP(D27,[2]T3!$B$2:$D$328,3,FALSE) -> 024734659 | L27: 1603205185760 | M27: 11100000782 | N27: =VLOOKUP(D27,'[6]Bao cao So GDDT'!$D$14:$S$282,11,FALSE) -> Chuyên viên | O27: 01.003 | P27: A1 | Q27: 6 | R27: 4.65 | S27: =U27+W27+Y27 -> 0 | U27: =ROUND(R27*T27/100,4) -> 0 | V27: =R27*T27*$D$8/100 -> 0 | X27: =VLOOKUP(D27,PCTN!D74:W341,20,FALSE) -> 0 | Y27: =ROUND((R27+U27+W27)*X27,4) -> 0 | Z27: =ROUND(R27+U27+W27+Y27,4) -> 4.65 | AA27: =ROUND(Z27*$D$8,0) -> 10881000 | AC27: =AA27/24*AB27 -> 0 | AD27: =AA27/24*AB27*75% -> 0 | AE27: =ROUND(AA27-AC27+AD27,0) -> 10881000 | AF27: =AA27*8% -> 870480 | AG27: =AA27*1.5% -> 163215 | AH27: =AA27*1% -> 108810 | AJ27: =SUM(AF27:AI27) -> 1142505 | AL27: =AK27*$D$8 -> 0 | AO27: =R27+U27+W27 -> 4.65 | AQ27: =ROUND(AO27*AP27,4) -> 0 | AR27: =ROUND(AQ27*$D$8,0) -> 0 | AT27: =ROUND(AE27-AJ27+AL27+AN27+AR27,0) -> 9738495 | AU27: =A27 -> 14 | AW27: DT
A28: =_xlfn.AGGREGATE(4,7,A$13:A27)+1 -> 15 | B28: =VLOOKUP(D28,[1]LuongBC_T01!$B$9:$C$292,2,FALSE) -> 0016100006689005 | C28: 11100066861 | D28: Nguyễn Chí Nhân | E28: Trưởng phòng Khảo thí và KĐCL | F28: ĐH | I28: PPK | J28: PPK034 | K28: =VLOOKUP(D28,[2]T3!$B$2:$D$328,3,FALSE) -> 023176396 | L28: 1603205182184 | M28: 11100066861 | N28: =VLOOKUP(D28,'[6]Bao cao So GDDT'!$D$14:$S$282,11,FALSE) -> Giảng viên GDNN LT (hạng III) | O28: V.09.02.03 | P28: A1 | Q28: 5 | R28: 4.65 | S28: =U28+W28+Y28 -> 1.47 | U28: =ROUND(R28*T28/100,4) -> 0 | V28: =R28*T28*$D$8/100 -> 0 | W28: 0.45 | X28: 0.2 | Y28: =ROUND((R28+U28+W28)*X28,4) -> 1.02 | Z28: =ROUND(R28+U28+W28+Y28,4) -> 6.12 | AA28: =ROUND(Z28*$D$8,0) -> 14320800 | AC28: =AA28/24*AB28 -> 0 | AD28: =AA28/24*AB28*75% -> 0 | AE28: =ROUND(AA28-AC28+AD28,0) -> 14320800 | AF28: =AA28*8% -> 1145664 | AG28: =AA28*1.5% -> 214812 | AH28: =AA28*1% -> 143208 | AJ28: =SUM(AF28:AI28) -> 1503684 | AL28: =AK28*$D$8 -> 0 | AO28: =R28+U28+W28 -> 5.1 | AP28: 0.25 | AQ28: =ROUND(AO28*AP28,4) -> 1.275 | AR28: =ROUND(AQ28*$D$8,0) -> 2983500 | AT28: =ROUND(AE28-AJ28+AL28+AN28+AR28,0) -> 15800616 | AU28: =A28 -> 15 | AW28: TTR
A29: =_xlfn.AGGREGATE(4,7,A$13:A28)+1 -> 16 | B29: =VLOOKUP(D29,[1]LuongBC_T01!$B$9:$C$292,2,FALSE) -> 0016100006501006 | C29: 11100000754 | D29: Nguyễn Tứ Cảnh | E29: Nhân viên Trung tâm Thư viện | F29: ĐH | I29: GV | J29: GV092 | K29: =VLOOKUP(D29,[2]T3!$B$2:$D$328,3,FALSE) -> 020953956 | L29: 1603205179013 | M29: 11100000754 | N29: =VLOOKUP(D29,'[6]Bao cao So GDDT'!$D$14:$S$282,11,FALSE) -> Giảng viên (hạng III) | O29: 01.003 | P29: A1 | Q29: 8 | R29: 4.98 | S29: =U29+W29+Y29 -> 0.2988 | T29: 6 | U29: =ROUND(R29*T29/100,4) -> 0.2988 | V29: =R29*T29*$D$8/100 -> 699192 | X29: =VLOOKUP(D29,PCTN!D53:W320,20,FALSE) -> 0 | Y29: =ROUND((R29+U29+W29)*X29,4) -> 0 | Z29: =ROUND(R29+U29+W29+Y29,4) -> 5.2788 | AA29: =ROUND(Z29*$D$8,0) -> 12352392 | AC29: =AA29/24*AB29 -> 0 | AD29: =AA29/24*AB29*75% -> 0 | AE29: =ROUND(AA29-AC29+AD29,0) -> 12352392 | AF29: =AA29*8% -> 988191.36 | AG29: =AA29*1.5% -> 185285.88 | AH29: =AA29*1% -> 123523.92 | AJ29: =SUM(AF29:AI29) -> 1297001.2 | AL29: =AK29*$D$8 -> 0 | AO29: =R29+U29+W29 -> 5.2788 | AQ29: =ROUND(AO29*AP29,4) -> 0 | AR29: =ROUND(AQ29*$D$8,0) -> 0 | AT29: =ROUND(AE29-AJ29+AL29+AN29+AR29,0) -> 11055391 | AU29: =A29 -> 16 | AW29: DDT
A30: =_xlfn.AGGREGATE(4,7,A$13:A29)+1 -> 17 | B30: =VLOOKUP(D30,[1]LuongBC_T01!$B$9:$C$292,2,FALSE) -> 0016100006639008 | C30: 50800000001 | D30: Nguyễn Trọng Nghĩa | E30: Trưởng phòng KHCN & HTQT | K30: 079072011875 | M30: 50800000001 | N30: =VLOOKUP(D30,'[6]Bao cao So GDDT'!$D$14:$S$282,11,FALSE) -> Giảng viên GDNN LT (hạng III) | O30: V.09.02.03 | P30: A1 | Q30: 7 | R30: 4.98 | S30: =U30+W30+Y30 -> 1.4274 | U30: =ROUND(R30*T30/100,4) -> 0 | V30: =R30*T30*$D$8/100 -> 0 | W30: 0.45 | X30: 0.18 | Y30: =ROUND((R30+U30+W30)*X30,4) -> 0.9774 | Z30: =ROUND(R30+U30+W30+Y30,4) -> 6.4074 | AA30: =ROUND(Z30*$D$8,0) -> 14993316 | AC30: =AA30/24*AB30 -> 0 | AD30: =AA30/24*AB30*75% -> 0 | AE30: =ROUND(AA30-AC30+AD30,0) -> 14993316 | AF30: =AA30*8% -> 1199465.3 | AG30: =AA30*1.5% -> 224899.74 | AH30: =AA30*1% -> 149933.16 | AJ30: =SUM(AF30:AI30) -> 1574298.2 | AL30: =AK30*$D$8 -> 0 | AO30: =R30+U30+W30 -> 5.43 | AP30: 0.25 | AQ30: =ROUND(AO30*AP30,4) -> 1.3575 | AR30: =ROUND(AQ30*$D$8,0) -> 3176550 | AT30: =ROUND(AE30-AJ30+AL30+AN30+AR30,0) -> 16595568 | AU30: =A30 -> 17
A31: =_xlfn.AGGREGATE(4,7,A$13:A30)+1 -> 18 | B31: =VLOOKUP(D31,[1]LuongBC_T01!$B$9:$C$292,2,FALSE) -> 0016100006574003 | C31: 40900000624 | D31: Phạm Thị Thanh Thúy | E31: Giảng viên khoa Khách sạn - Du lịch | G31: x | K31: =VLOOKUP(D31,[2]T3!$B$2:$D$328,3,FALSE) -> 022931960 | L31: 1603205426614 | M31: 40900000624 | N31: =VLOOKUP(D31,'[6]Bao cao So GDDT'!$D$14:$S$282,11,FALSE) -> Giảng viên GDNN LT (hạng III) | O31: V.09.02.03 | P31: A1 | Q31: 7 | R31: 4.98 | S31: =U31+W31+Y31 -> 1.4601 | T31: 6 | U31: =ROUND(R31*T31/100,4) -> 0.2988 | V31: =R31*T31*$D$8/100 -> 699192 | X31: 0.22 | Y31: =ROUND((R31+U31+W31)*X31,4) -> 1.1613 | Z31: =ROUND(R31+U31+W31+Y31,4) -> 6.4401 | AA31: =ROUND(Z31*$D$8,0) -> 15069834 | AC31: =AA31/24*AB31 -> 0 | AD31: =AA31/24*AB31*75% -> 0 | AE31: =ROUND(AA31-AC31+AD31,0) -> 15069834 | AF31: =AA31*8% -> 1205586.7 | AG31: =AA31*1.5% -> 226047.51 | AH31: =AA31*1% -> 150698.34 | AJ31: =SUM(AF31:AI31) -> 1582332.6 | AL31: =AK31*$D$8 -> 0 | AO31: =R31+U31+W31 -> 5.2788 | AP31: 0.25 | AQ31: =ROUND(AO31*AP31,4) -> 1.3197 | AR31: =ROUND(AQ31*$D$8,0) -> 3088098 | AT31: =ROUND(AE31-AJ31+AL31+AN31+AR31,0) -> 16575599 | AU31: =A31 -> 18 | AW31: QĐ đều động VC từ trường TCKT-KT Nguyễn Hữu Cảnh về trường từ 16/7/2014. Nhập BL T8/2014
A32: =_xlfn.AGGREGATE(4,7,A$13:A31)+1 -> 19 | B32: =VLOOKUP(D32,[1]LuongBC_T01!$B$9:$C$292,2,FALSE) -> 0016100006519002 | C32: 11100000798 | D32: Nguyễn Thị Nhuận | E32: Trưởng khoa Khoa học cơ bản | F32: ĐH | G32: x | I32: GV | J32: GV126 | K32: =VLOOKUP(D32,[2]T3!$B$2:$D$328,3,FALSE) -> 023331855 | L32: 1603205186786 | M32: 11100000798 | N32: =VLOOKUP(D32,'[6]Bao cao So GDDT'!$D$14:$S$282,11,FALSE) -> Giảng viên GDNN LT (hạng III) | O32: V.09.02.03 | P32: A1 | Q32: 6 | R32: 4.98 | S32: =U32+W32+Y32 -> 1.4817 | U32: =ROUND(R32*T32/100,4) -> 0 | V32: =R32*T32*$D$8/100 -> 0 | W32: 0.45 | X32: 0.19 | Y32: =ROUND((R32+U32+W32)*X32,4) -> 1.0317 | Z32: =ROUND(R32+U32+W32+Y32,4) -> 6.4617 | AA32: =ROUND(Z32*$D$8,0) -> 15120378 | AC32: =AA32/24*AB32 -> 0 | AD32: =AA32/24*AB32*75% -> 0 | AE32: =ROUND(AA32-AC32+AD32,0) -> 15120378 | AF32: =AA32*8% -> 1209630.2 | AG32: =AA32*1.5% -> 226805.67 | AH32: =AA32*1% -> 151203.78 | AJ32: =SUM(AF32:AI32) -> 1587639.7 | AL32: =AK32*$D$8 -> 0 | AO32: =R32+U32+W32 -> 5.43 | AP32: 0.25 | AQ32: =ROUND(AO32*AP32,4) -> 1.3575 | AR32: =ROUND(AQ32*$D$8,0) -> 3176550 | AT32: =ROUND(AE32-AJ32+AL32+AN32+AR32,0) -> 16709288 | AU32: =A32 -> 19 | AW32: Đ
A33: =_xlfn.AGGREGATE(4,7,A$13:A32)+1 -> 20 | B33: =VLOOKUP(D33,[1]LuongBC_T01!$B$9:$C$292,2,FALSE) -> 0016100006615001 | C33: 11100067878 | D33: Nguyễn Thị Huyền Nga | E33: Giảng viên khoa KHCB | F33: ĐH | G33: x | H33: GV | I33: GV | J33: GV091 | K33: =VLOOKUP(D33,[2]T3!$B$2:$D$328,3,FALSE) -> 040174000144 | L33: 1603205189784 | M33: 11100067878 | N33: =VLOOKUP(D33,'[6]Bao cao So GDDT'!$D$14:$S$282,11,FALSE) -> Giảng viên (hạng III) | O33: V.07.01.03 | P33: A1 | Q33: 8 | R33: 4.98 | S33: =U33+W33+Y33 -> 1.6808 | T33: 7 | U33: =ROUND(R33*T33/100,4) -> 0.3486 | V33: =R33*T33*$D$8/100 -> 815724 | X33: 0.25 | Y33: =ROUND((R33+U33+W33)*X33,4) -> 1.3322 | Z33: =ROUND(R33+U33+W33+Y33,4) -> 6.6608 | AA33: =ROUND(Z33*$D$8,0) -> 15586272 | AC33: =AA33/24*AB33 -> 0 | AD33: =AA33/24*AB33*75% -> 0 | AE33: =ROUND(AA33-AC33+AD33,0) -> 15586272 | AF33: =AA33*8% -> 1246901.8 | AG33: =AA33*1.5% -> 233794.08 | AH33: =AA33*1% -> 155862.72 | AJ33: =SUM(AF33:AI33) -> 1636558.6 | AL33: =AK33*$D$8 -> 0 | AO33: =R33+U33+W33 -> 5.3286 | AP33: 0.25 | AQ33: =ROUND(AO33*AP33,4) -> 1.3322 | AR33: =ROUND(AQ33*$D$8,0) -> 3117348 | AT33: =ROUND(AE33-AJ33+AL33+AN33+AR33,0) -> 17067061 | AU33: =A33 -> 20 | AW33: KHCB
A34: =_xlfn.AGGREGATE(4,7,A$13:A33)+1 -> 21 | B34: =VLOOKUP(D34,[1]LuongBC_T01!$B$9:$C$292,2,FALSE) -> 0016100006688009 | C34: 11100000796 | D34: Nguyễn Văn Đông | E34: Giảng viên khoa KHCB | F34: ĐH | H34: GV | I34: GV | J34: GV098 | K34: =VLOOKUP(D34,[2]T3!$B$2:$D$328,3,FALSE) -> 023622113 | L34: 1603205189886 | M34: 11100000796 | N34: =VLOOKUP(D34,'[6]Bao cao So GDDT'!$D$14:$S$282,11,FALSE) -> Giảng viên (hạng III) | O34: V.07.01.03 | P34: A1 | Q34: 6 | R34: 4.65 | S34: =U34+W34+Y34 -> 1.023 | U34: =ROUND(R34*T34/100,4) -> 0 | V34: =R34*T34*$D$8/100 -> 0 | X34: 0.22 | Y34: =ROUND((R34+U34+W34)*X34,4) -> 1.023 | Z34: =ROUND(R34+U34+W34+Y34,4) -> 5.673 | AA34: =ROUND(Z34*$D$8,0) -> 13274820 | AC34: =AA34/24*AB34 -> 0 | AD34: =AA34/24*AB34*75% -> 0 | AE34: =ROUND(AA34-AC34+AD34,0) -> 13274820 | AF34: =AA34*8% -> 1061985.6 | AG34: =AA34*1.5% -> 199122.3 | AH34: =AA34*1% -> 132748.2 | AJ34: =SUM(AF34:AI34) -> 1393856.1 | AL34: =AK34*$D$8 -> 0 | AO34: =R34+U34+W34 -> 4.65 | AP34: 0.25 | AQ34: =ROUND(AO34*AP34,4) -> 1.1625 | AR34: =ROUND(AQ34*$D$8,0) -> 2720250 | AT34: =ROUND(AE34-AJ34+AL34+AN34+AR34,0) -> 14601214 | AU34: =A34 -> 21 | AW34: KHCB
A35: =_xlfn.AGGREGATE(4,7,A$13:A34)+1 -> 22 | B35: =VLOOKUP(D35,[1]LuongBC_T01!$B$9:$C$292,2,FALSE) -> 0016100006622008 | C35: 11100082588 | D35: Nguyễn Thanh Tú | E35: Giảng viên khoa KHCB | F35: ĐH | H35: GV | I35: GV | J35: GV090 | K35: =VLOOKUP(D35,[2]T3!$B$2:$D$328,3,FALSE) -> 079076002757 | L35: 1603205185580 | M35: 11100082588 | N35: =VLOOKUP(D35,'[6]Bao cao So GDDT'!$D$14:$S$282,11,FALSE) -> Giảng viên (hạng III) | O35: V.07.01.03 | P35: A1 | Q35: 8 | R35: 4.98 | S35: =U35+W35+Y35 -> 1.8053 | T35: 9 | U35: =ROUND(R35*T35/100,4) -> 0.4482 | V35: =R35*T35*$D$8/100 -> 1048788 | X35: 0.25 | Y35: =ROUND((R35+U35+W35)*X35,4) -> 1.3571 | Z35: =ROUND(R35+U35+W35+Y35,4) -> 6.7853 | AA35: =ROUND(Z35*$D$8,0) -> 15877602 | AC35: =AA35/24*AB35 -> 0 | AD35: =AA35/24*AB35*75% -> 0 | AE35: =ROUND(AA35-AC35+AD35,0) -> 15877602 | AF35: =AA35*8% -> 1270208.2 | AG35: =AA35*1.5% -> 238164.03 | AH35: =AA35*1% -> 158776.02 | AJ35: =SUM(AF35:AI35) -> 1667148.2 | AL35: =AK35*$D$8 -> 0 | AO35: =R35+U35+W35 -> 5.4282 | AP35: 0.25 | AQ35: =ROUND(AO35*AP35,4) -> 1.3571 | AR35: =ROUND(AQ35*$D$8,0) -> 3175614 | AT35: =ROUND(AE35-AJ35+AL35+AN35+AR35,0) -> 17386068 | AU35: =A35 -> 22 | AW35: KHCB | AY35: =185*500000 -> 92500000
A36: =_xlfn.AGGREGATE(4,7,A$13:A35)+1 -> 23 | B36: =VLOOKUP(D36,[1]LuongBC_T01!$B$9:$C$292,2,FALSE) -> 0016100006810009 | C36: 11100000799 | D36: Phạm Thị Thu Nga | E36: Phó Trưởng khoa KHCB | F36: Th.S | G36: x | H36: GV | I36: TT | J36: TT055 | K36: =VLOOKUP(D36,[2]T3!$B$2:$D$328,3,FALSE) -> 040176000521 | L36: 1603205186372 | M36: 11100000799 | N36: =VLOOKUP(D36,'[6]Bao cao So GDDT'!$D$14:$S$282,11,FALSE) -> Giảng viên (hạng III) | O36: V.07.01.03 | P36: A1 | Q36: 6 | R36: 4.98 | S36: =U36+W36+Y36 -> 1.5226 | U36: =ROUND(R36*T36/100,4) -> 0 | V36: =R36*T36*$D$8/100 -> 0 | W36: 0.35 | X36: 0.22 | Y36: =ROUND((R36+U36+W36)*X36,4) -> 1.1726 | Z36: =ROUND(R36+U36+W36+Y36,4) -> 6.5026 | AA36: =ROUND(Z36*$D$8,0) -> 15216084 | AC36: =AA36/24*AB36 -> 0 | AD36: 0 | AE36: =ROUND(AA36-AC36+AD36,0) -> 15216084 | AF36: =AA36*8% -> 1217286.7 | AG36: =AA36*1.5% -> 228241.26 | AH36: =AA36*1% -> 152160.84 | AJ36: =SUM(AF36:AI36) -> 1597688.8 | AL36: =AK36*$D$8 -> 0 | AO36: =R36+U36+W36 -> 5.33 | AP36: 0.25 | AQ36: =ROUND(AO36*AP36,4) -> 1.3325 | AR36: =ROUND(AQ36*$D$8,0) -> 3118050 | AT36: =ROUND(AE36-AJ36+AL36+AN36+AR36,0) -> 16736445 | AU36: =A36 -> 23 | AW36: KHCB
A37: =_xlfn.AGGREGATE(4,7,A$13:A36)+1 -> 24 | B37: =VLOOKUP(D37,[1]LuongBC_T01!$B$9:$C$292,2,FALSE) -> 0016100006753005 | C37: 20500006963 | D37: Nguyễn Thị Cẩm Thạch | E37: Giảng viên khoa KHCB | F37: Th.S | G37: x | H37: GV | I37: GV | J37: GV093 | K37: =VLOOKUP(D37,[2]T3!$B$2:$D$328,3,FALSE) -> 023837190 | L37: 1603205189965 | M37: 20500006963 | N37: =VLOOKUP(D37,'[6]Bao cao So GDDT'!$D$14:$S$282,11,FALSE) -> Giảng viên (hạng III) | O37: V.07.01.03 | P37: A1 | Q37: 8 | R37: 4.98 | S37: =U37+W37+Y37 -> 1.5129 | T37: 6 | U37: =ROUND(R37*T37/100,4) -> 0.2988 | V37: =R37*T37*$D$8/100 -> 699192 | X37: 0.23 | Y37: =ROUND((R37+U37+W37)*X37,4) -> 1.2141 | Z37: =ROUND(R37+U37+W37+Y37,4) -> 6.4929 | AA37: =ROUND(Z37*$D$8,0) -> 15193386 | AC37: =AA37/24*AB37 -> 0 | AD37: 0 | AE37: =ROUND(AA37-AC37+AD37,0) -> 15193386 | AF37: =AA37*8% -> 1215470.9 | AG37: =AA37*1.5% -> 227900.79 | AH37: =AA37*1% -> 151933.86 | AJ37: =SUM(AF37:AI37) -> 1595305.5 | AL37: =AK37*$D$8 -> 0 | AO37: =R37+U37+W37 -> 5.2788 | AP37: 0.25 | AQ37: =ROUND(AO37*AP37,4) -> 1.3197 | AR37: =ROUND(AQ37*$D$8,0) -> 3088098 | AT37: =ROUND(AE37-AJ37+AL37+AN37+AR37,0) -> 16686178 | AU37: =A37 -> 24 | AW37: KHCB
A38: =_xlfn.AGGREGATE(4,7,A$13:A37)+1 -> 25 | B38: =VLOOKUP(D38,[1]LuongBC_T01!$B$9:$C$292,2,FALSE) -> 0016100006735007 | C38: 11100000801 | D38: Vương Thanh Thủy | E38: Giảng viên khoa Ngoại ngữ | F38: Th.S | G38: x | H38: GV | I38: TT | J38: TT059 | K38: 001172012821 | L38: 1603205190147 | M38: 11100000801 | N38: =VLOOKUP(D38,'[6]Bao cao So GDDT'!$D$14:$S$282,11,FALSE) -> Giảng viên GDNN LT (hạng III) | O38: V.09.02.03 | P38: A1 | Q38: 6 | R38: 4.65 | S38: =U38+W38+Y38 -> 0.9765 | U38: =ROUND(R38*T38/100,4) -> 0 | V38: =R38*T38*$D$8/100 -> 0 | X38: 0.21 | Y38: =ROUND((R38+U38+W38)*X38,4) -> 0.9765 | Z38: =ROUND(R38+U38+W38+Y38,4) -> 5.6265 | AA38: =ROUND(Z38*$D$8,0) -> 13166010 | AC38: =AA38/24*AB38 -> 0 | AD38: =AA38/24*AB38*75% -> 0 | AE38: =ROUND(AA38-AC38+AD38,0) -> 13166010 | AF38: =AA38*8% -> 1053280.8 | AG38: =AA38*1.5% -> 197490.15 | AH38: =AA38*1% -> 131660.1 | AJ38: =SUM(AF38:AI38) -> 1382431.1 | AL38: =AK38*$D$8 -> 0 | AO38: =R38+U38+W38 -> 4.65 | AP38: 0.25 | AQ38: =ROUND(AO38*AP38,4) -> 1.1625 | AR38: =ROUND(AQ38*$D$8,0) -> 2720250 | AT38: =ROUND(AE38-AJ38+AL38+AN38+AR38,0) -> 14503829 | AU38: =A38 -> 25 | AW38: KHCB
A39: =_xlfn.AGGREGATE(4,7,A$13:A38)+1 -> 26 | B39: =VLOOKUP(D39,[1]LuongBC_T01!$B$9:$C$292,2,FALSE) -> 0016100006801007 | C39: 11100000737 | D39: Nguyễn Thị Bảo Trân | E39: Giảng viên khoa Ngoại ngữ | F39: Th.S | G39: x | H39: GV | I39: GV | J39: GV104 | K39: =VLOOKUP(D39,[2]T3!$B$2:$D$328,3,FALSE) -> 023334538 | L39: 1603205189936 | M39: 11100000737 | N39: =VLOOKUP(D39,'[6]Bao cao So GDDT'!$D$14:$S$282,11,FALSE) -> Giảng viên GDNN LT (hạng III) | O39: V.09.02.03 | P39: A1 | Q39: 6 | R39: 4.65 | S39: =U39+W39+Y39 -> 1.023 | U39: =ROUND(R39*T39/100,4) -> 0 | V39: =R39*T39*$D$8/100 -> 0 | X39: 0.22 | Y39: =ROUND((R39+U39+W39)*X39,4) -> 1.023 | Z39: =ROUND(R39+U39+W39+Y39,4) -> 5.673 | AA39: =ROUND(Z39*$D$8,0) -> 13274820 | AC39: =AA39/24*AB39 -> 0 | AD39: =AA39/24*AB39*75% -> 0 | AE39: =ROUND(AA39-AC39+AD39,0) -> 13274820 | AF39: =AA39*8% -> 1061985.6 | AG39: =AA39*1.5% -> 199122.3 | AH39: =AA39*1% -> 132748.2 | AJ39: =SUM(AF39:AI39) -> 1393856.1 | AL39: =AK39*$D$8 -> 0 | AO39: =R39+U39+W39 -> 4.65 | AP39: 0.25 | AQ39: =ROUND(AO39*AP39,4) -> 1.1625 | AR39: =ROUND(AQ39*$D$8,0) -> 2720250 | AT39: =ROUND(AE39-AJ39+AL39+AN39+AR39,0) -> 14601214 | AU39: =A39 -> 26 | AW39: KHCB
A40: =_xlfn.AGGREGATE(4,7,A$13:A39)+1 -> 27 | B40: =VLOOKUP(D40,[1]LuongBC_T01!$B$9:$C$292,2,FALSE) -> 0016100006618008 | C40: 11100066702 | D40: Nguyễn Thị Thu Tâm | E40: Giảng viên khoa Ngoại ngữ | F40: ĐH | G40: x | H40: GV | I40: GV | J40: GV101 | K40: =VLOOKUP(D40,[2]T3!$B$2:$D$328,3,FALSE) -> 022848142 | L40: 1603205189920 | M40: 11100066702 | N40: =VLOOKUP(D40,'[6]Bao cao So GDDT'!$D$14:$S$282,11,FALSE) -> Giảng viên GDNN LT (hạng III) | O40: V.09.02.03 | P40: A1 | Q40: 6 | R40: 4.65 | S40: =U40+W40+Y40 -> 1.023 | U40: =ROUND(R40*T40/100,4) -> 0 | V40: =R40*T40*$D$8/100 -> 0 | X40: 0.22 | Y40: =ROUND((R40+U40+W40)*X40,4) -> 1.023 | Z40: =ROUND(R40+U40+W40+Y40,4) -> 5.673 | AA40: =ROUND(Z40*$D$8,0) -> 13274820 | AC40: =AA40/24*AB40 -> 0 | AD40: =AA40/24*AB40*75% -> 0 | AE40: =ROUND(AA40-AC40+AD40,0) -> 13274820 | AF40: =AA40*8% -> 1061985.6 | AG40: =AA40*1.5% -> 199122.3 | AH40: =AA40*1% -> 132748.2 | AJ40: =SUM(AF40:AI40) -> 1393856.1 | AL40: =AK40*$D$8 -> 0 | AO40: =R40+U40+W40 -> 4.65 | AP40: 0.25 | AQ40: =ROUND(AO40*AP40,4) -> 1.1625 | AR40: =ROUND(AQ40*$D$8,0) -> 2720250 | AT40: =ROUND(AE40-AJ40+AL40+AN40+AR40,0) -> 14601214 | AU40: =A40 -> 27 | AW40: KHCB
A41: =_xlfn.AGGREGATE(4,7,A$13:A40)+1 -> 28 | B41: =VLOOKUP(D41,[1]LuongBC_T01!$B$9:$C$292,2,FALSE) -> 0016100006704004 | C41: 11100091472 | D41: Võ Thị Hồng Lan | E41: Giảng viên khoa Ngoại ngữ | F41: ĐH | G41: x | H41: GV | I41: GV | J41: GV212 | K41: =VLOOKUP(D41,[2]T3!$B$2:$D$328,3,FALSE) -> 024917765 | L41: 1603205218440 | M41: 11100091472 | N41: =VLOOKUP(D41,'[6]Bao cao So GDDT'!$D$14:$S$282,11,FALSE) -> Giảng viên GDNN LT (hạng III) | O41: V.09.02.03 | P41: A1 | Q41: 7 | R41: 4.98 | S41: =U41+W41+Y41 -> 1.245 | U41: =ROUND(R41*T41/100,4) -> 0 | V41: =R41*T41*$D$8/100 -> 0 | X41: 0.25 | Y41: =ROUND((R41+U41+W41)*X41,4) -> 1.245 | Z41: =ROUND(R41+U41+W41+Y41,4) -> 6.225 | AA41: =ROUND(Z41*$D$8,0) -> 14566500 | AC41: =AA41/24*AB41 -> 0 | AD41: =AA41/24*AB41*75% -> 0 | AE41: =ROUND(AA41-AC41+AD41,0) -> 14566500 | AF41: =AA41*8% -> 1165320 | AG41: =AA41*1.5% -> 218497.5 | AH41: =AA41*1% -> 145665 | AJ41: =SUM(AF41:AI41) -> 1529482.5 | AL41: =AK41*$D$8 -> 0 | AO41: =R41+U41+W41 -> 4.98 | AP41: 0.25 | AQ41: =ROUND(AO41*AP41,4) -> 1.245 | AR41: =ROUND(AQ41*$D$8,0) -> 2913300 | AT41: =ROUND(AE41-AJ41+AL41+AN41+AR41,0) -> 15950318 | AU41: =A41 -> 28 | AW41: KHCB
A42: =_xlfn.AGGREGATE(4,7,A$13:A41)+1 -> 29 | B42: =VLOOKUP(D42,[1]LuongBC_T01!$B$9:$C$292,2,FALSE) -> 0016100006731001 | C42: 11100000795 | D42: Nguyễn Thị Dinh | E42: Giảng viên khoa Lý luận chính trị | F42: ĐH | G42: x | H42: GV | I42: GV | J42: GV097 | K42: =VLOOKUP(D42,[2]T3!$B$2:$D$328,3,FALSE) -> 024106611 | L42: 1603205186468 | M42: 11100000795 | N42: =VLOOKUP(D42,'[6]Bao cao So GDDT'!$D$14:$S$282,11,FALSE) -> Giảng viên GDNN LT (hạng III) | O42: V.09.02.03 | P42: A1 | Q42: 6 | R42: 4.65 | S42: =U42+W42+Y42 -> 1.023 | U42: =ROUND(R42*T42/100,4) -> 0 | V42: =R42*T42*$D$8/100 -> 0 | X42: 0.22 | Y42: =ROUND((R42+U42+W42)*X42,4) -> 1.023 | Z42: =ROUND(R42+U42+W42+Y42,4) -> 5.673 | AA42: =ROUND(Z42*$D$8,0) -> 13274820 | AC42: =AA42/24*AB42 -> 0 | AD42: =AA42/24*AB42*75% -> 0 | AE42: =ROUND(AA42-AC42+AD42,0) -> 13274820 | AF42: =AA42*8% -> 1061985.6 | AG42: =AA42*1.5% -> 199122.3 | AH42: =AA42*1% -> 132748.2 | AJ42: =SUM(AF42:AI42) -> 1393856.1 | AL42: =AK42*$D$8 -> 0 | AO42: =R42+U42+W42 -> 4.65 | AP42: 0.45 | AQ42: =ROUND(AO42*AP42,4) -> 2.0925 | AR42: =ROUND(AQ42*$D$8,0) -> 4896450 | AT42: =ROUND(AE42-AJ42+AL42+AN42+AR42,0) -> 16777414 | AU42: =A42 -> 29 | AW42: KHCB
A43: =_xlfn.AGGREGATE(4,7,A$13:A42)+1 -> 30 | B43: =VLOOKUP(D43,[1]LuongBC_T01!$B$9:$C$292,2,FALSE) -> 0016100006588004 | C43: 11100067051 | D43: Nguyễn Anh Kiệt | E43: Giảng viên khoa Lý luận chính trị | F43: ĐH | H43: GV | I43: TT | J43: TT058 | K43: =VLOOKUP(D43,[2]T3!$B$2:$D$328,3,FALSE) -> 021513654 | L43: 1603205189913 | M43: 11100067051 | N43: =VLOOKUP(D43,'[6]Bao cao So GDDT'!$D$14:$S$282,11,FALSE) -> Giảng viên GDNN LT (hạng III) | O43: V.09.02.03 | P43: A1 | Q43: 5 | R43: 4.65 | S43: =U43+W43+Y43 -> 0.93 | U43: =ROUND(R43*T43/100,4) -> 0 | V43: =R43*T43*$D$8/100 -> 0 | X43: 0.2 | Y43: =ROUND((R43+U43+W43)*X43,4) -> 0.93 | Z43: =ROUND(R43+U43+W43+Y43,4) -> 5.58 | AA43: =ROUND(Z43*$D$8,0) -> 13057200 | AC43: =AA43/24*AB43 -> 0 | AD43: =AA43/24*AB43*75% -> 0 | AE43: =ROUND(AA43-AC43+AD43,0) -> 13057200 | AF43: =AA43*8% -> 1044576 | AG43: =AA43*1.5% -> 195858 | AH43: =AA43*1% -> 130572 | AJ43: =SUM(AF43:AI43) -> 1371006 | AL43: =AK43*$D$8 -> 0 | AO43: =R43+U43+W43 -> 4.65 | AP43: 0.45 | AQ43: =ROUND(AO43*AP43,4) -> 2.0925 | AR43: =ROUND(AQ43*$D$8,0) -> 4896450 | AT43: =ROUND(AE43-AJ43+AL43+AN43+AR43,0) -> 16582644 | AU43: =A43 -> 30 | AW43: KHCB
A44: =_xlfn.AGGREGATE(4,7,A$13:A43)+1 -> 31 | B44: =VLOOKUP(D44,[1]LuongBC_T01!$B$9:$C$292,2,FALSE) -> 0016100006760001 | C44: 11100000750 | D44: Đỗ Thị Phương Khanh | E44: Giảng viên khoa Cơ khí | F44: Th.S | G44: x | H44: GV | I44: TT | J44: TT052 | K44: =VLOOKUP(D44,[2]T3!$B$2:$D$328,3,FALSE) -> 023044182 | L44: 1603205182126 | M44: 11100000750 | N44: =VLOOKUP(D44,'[6]Bao cao So GDDT'!$D$14:$S$282,11,FALSE) -> Giảng viên GDNN LT (hạng III) | O44: V.09.02.03 | P44: A1 | Q44: 8 | R44: 4.98 | S44: =U44+W44+Y44 -> 1.6808 | T44: 7 | U44: =ROUND(R44*T44/100,4) -> 0.3486 | V44: =R44*T44*$D$8/100 -> 815724 | X44: 0.25 | Y44: =ROUND((R44+U44+W44)*X44,4) -> 1.3322 | Z44: =ROUND(R44+U44+W44+Y44,4) -> 6.6608 | AA44: =ROUND(Z44*$D$8,0) -> 15586272 | AC44: =AA44/24*AB44 -> 0 | AD44: =AA44/24*AB44*75% -> 0 | AE44: =ROUND(AA44-AC44+AD44,0) -> 15586272 | AF44: =AA44*8% -> 1246901.8 | AG44: =AA44*1.5% -> 233794.08 | AH44: =AA44*1% -> 155862.72 | AJ44: =SUM(AF44:AI44) -> 1636558.6 | AL44: =AK44*$D$8 -> 0 | AO44: =R44+U44+W44 -> 5.3286 | AP44: 0.25 | AQ44: =ROUND(AO44*AP44,4) -> 1.3322 | AR44: =ROUND(AQ44*$D$8,0) -> 3117348 | AT44: =ROUND(AE44-AJ44+AL44+AN44+AR44,0) -> 17067061 | AU44: =A44 -> 31 | AW44: CK | AY44: =22*50000 -> 1100000
A45: =_xlfn.AGGREGATE(4,7,A$13:A44)+1 -> 32 | B45: =VLOOKUP(D45,[1]LuongBC_T01!$B$9:$C$292,2,FALSE) -> 0016100006763008 | C45: 11100000755 | D45: Trương Thị Phương Hồng | E45: Giảng viên khoa Cơ khí | F45: ĐH | G45: x | H45: GV | I45: TT | J45: TT053 | K45: =VLOOKUP(D45,[2]T3!$B$2:$D$328,3,FALSE) -> 022813516 | L45: 1603205182211 | M45: 11100000755 | N45: =VLOOKUP(D45,'[6]Bao cao So GDDT'!$D$14:$S$282,11,FALSE) -> Giảng viên GDNN LT (hạng III) | O45: V.09.02.03 | P45: A1 | Q45: 8 | R45: 4.98 | S45: =U45+W45+Y45 -> 1.6892 | T45: 8 | U45: =ROUND(R45*T45/100,4) -> 0.3984 | V45: =R45*T45*$D$8/100 -> 932256 | X45: 0.24 | Y45: =ROUND((R45+U45+W45)*X45,4) -> 1.2908 | Z45: =ROUND(R45+U45+W45+Y45,4) -> 6.6692 | AA45: =ROUND(Z45*$D$8,0) -> 15605928 | AC45: =AA45/24*AB45 -> 0 | AD45: =AA45/24*AB45*75% -> 0 | AE45: =ROUND(AA45-AC45+AD45,0) -> 15605928 | AF45: =AA45*8% -> 1248474.2 | AG45: =AA45*1.5% -> 234088.92 | AH45: =AA45*1% -> 156059.28 | AJ45: =SUM(AF45:AI45) -> 1638622.4 | AL45: =AK45*$D$8 -> 0 | AO45: =R45+U45+W45 -> 5.3784 | AP45: 0.25 | AQ45: =ROUND(AO45*AP45,4) -> 1.3446 | AR45: =ROUND(AQ45*$D$8,0) -> 3146364 | AT45: =ROUND(AE45-AJ45+AL45+AN45+AR45,0) -> 17113670 | AU45: =A45 -> 32 | AW45: CK | AY45: =SUM(AY35:AY44) -> 93600000
A46: =_xlfn.AGGREGATE(4,7,A$13:A45)+1 -> 33 | B46: =VLOOKUP(D46,[1]LuongBC_T01!$B$9:$C$292,2,FALSE) -> 0016100006815008 | C46: 11100000764 | D46: Phan Văn Thành | E46: Giảng viên khoa Cơ khí | F46: ĐH | H46: GV | I46: GV | J46: GV075 | K46: =VLOOKUP(D46,[2]T3!$B$2:$D$328,3,FALSE) -> 021314535 | L46: 1603205249149 | M46: 11100000764 | N46: =VLOOKUP(D46,'[6]Bao cao So GDDT'!$D$14:$S$282,11,FALSE) -> Giảng viên GDNN LT (hạng III) | O46: V.09.02.03 | P46: A1 | Q46: 9 | R46: 4.98 | S46: =U46+W46+Y46 -> 2.8187 | T46: 16 | U46: =ROUND(R46*T46/100,4) -> 0.7968 | V46: =R46*T46*$D$8/100 -> 1864512 | X46: 0.35 | Y46: =ROUND((R46+U46+W46)*X46,4) -> 2.0219 | Z46: =ROUND(R46+U46+W46+Y46,4) -> 7.7987 | AA46: =ROUND(Z46*$D$8,0) -> 18248958 | AC46: =AA46/24*AB46 -> 0 | AD46: =AA46/24*AB46*75% -> 0 | AE46: =ROUND(AA46-AC46+AD46,0) -> 18248958 | AF46: =AA46*8% -> 1459916.6 | AG46: =AA46*1.5% -> 273734.37 | AH46: =AA46*1% -> 182489.58 | AJ46: =SUM(AF46:AI46) -> 1916140.6 | AL46: =AK46*$D$8 -> 0 | AO46: =R46+U46+W46 -> 5.7768 | AP46: 0.25 | AQ46: =ROUND(AO46*AP46,4) -> 1.4442 | AR46: =ROUND(AQ46*$D$8,0) -> 3379428 | AT46: =ROUND(AE46-AJ46+AL46+AN46+AR46,0) -> 19712245 | AU46: =A46 -> 33 | AW46: CK
A47: =_xlfn.AGGREGATE(4,7,A$13:A46)+1 -> 34 | B47: =VLOOKUP(D47,[1]LuongBC_T01!$B$9:$C$292,2,FALSE) -> 0016100006758007 | C47: 11100000773 | D47: Vũ Quang Khải | E47: Giảng viên khoa Cơ khí | F47: ĐH | H47: GV | I47: TT | J47: TT054 | K47: =VLOOKUP(D47,[2]T3!$B$2:$D$328,3,FALSE) -> 022355188 | L47: 1603205189699 | M47: 11100000773 | N47: =VLOOKUP(D47,'[6]Bao cao So GDDT'!$D$14:$S$282,11,FALSE) -> Giảng viên GDNN LT (hạng III) | O47: V.09.02.03 | P47: A1 | Q47: 8 | R47: 4.98 | S47: =U47+W47+Y47 -> 1.6808 | T47: 7 | U47: =ROUND(R47*T47/100,4) -> 0.3486 | V47: =R47*T47*$D$8/100 -> 815724 | X47: 0.25 | Y47: =ROUND((R47+U47+W47)*X47,4) -> 1.3322 | Z47: =ROUND(R47+U47+W47+Y47,4) -> 6.6608 | AA47: =ROUND(Z47*$D$8,0) -> 15586272 | AC47: =AA47/24*AB47 -> 0 | AD47: =AA47/24*AB47*75% -> 0 | AE47: =ROUND(AA47-AC47+AD47,0) -> 15586272 | AF47: =AA47*8% -> 1246901.8 | AG47: =AA47*1.5% -> 233794.08 | AH47: =AA47*1% -> 155862.72 | AJ47: =SUM(AF47:AI47) -> 1636558.6 | AL47: =AK47*$D$8 -> 0 | AO47: =R47+U47+W47 -> 5.3286 | AP47: 0.25 | AQ47: =ROUND(AO47*AP47,4) -> 1.3322 | AR47: =ROUND(AQ47*$D$8,0) -> 3117348 | AT47: =ROUND(AE47-AJ47+AL47+AN47+AR47,0) -> 17067061 | AU47: =A47 -> 34 | AW47: CK | AY47: =56*100000 -> 5600000
A48: =_xlfn.AGGREGATE(4,7,A$13:A47)+1 -> 35 | B48: =VLOOKUP(D48,[1]LuongBC_T01!$B$9:$C$292,2,FALSE) -> 0016100006811005 | C48: 11100000770 | D48: Phan Thị Xuân Trang | E48: Giảng viên khoa Cơ khí | F48: ĐH | G48: x | H48: GV | I48: GV | J48: GV115 | K48: =VLOOKUP(D48,[2]T3!$B$2:$D$328,3,FALSE) -> 024283935 | L48: 1603205185550 | M48: 11100000770 | N48: =VLOOKUP(D48,'[6]Bao cao So GDDT'!$D$14:$S$282,11,FALSE) -> Giảng viên GDNN LT (hạng III) | O48: V.09.02.03 | P48: A1 | Q48: 8 | R48: 4.98 | S48: =U48+W48+Y48 -> 1.5657 | T48: 6 | U48: =ROUND(R48*T48/100,4) -> 0.2988 | V48: =R48*T48*$D$8/100 -> 699192 | X48: 0.24 | Y48: =ROUND((R48+U48+W48)*X48,4) -> 1.2669 | Z48: =ROUND(R48+U48+W48+Y48,4) -> 6.5457 | AA48: =ROUND(Z48*$D$8,0) -> 15316938 | AC48: =AA48/24*AB48 -> 0 | AD48: =AA48/24*AB48*75% -> 0 | AE48: =ROUND(AA48-AC48+AD48,0) -> 15316938 | AF48: =AA48*8% -> 1225355 | AG48: =AA48*1.5% -> 229754.07 | AH48: =AA48*1% -> 153169.38 | AJ48: =SUM(AF48:AI48) -> 1608278.5 | AL48: =AK48*$D$8 -> 0 | AO48: =R48+U48+W48 -> 5.2788 | AP48: 0.25 | AQ48: =ROUND(AO48*AP48,4) -> 1.3197 | AR48: =ROUND(AQ48*$D$8,0) -> 3088098 | AT48: =ROUND(AE48-AJ48+AL48+AN48+AR48,0) -> 16796758 | AU48: =A48 -> 35 | AW48: CK
A49: =_xlfn.AGGREGATE(4,7,A$13:A48)+1 -> 36 | B49: =VLOOKUP(D49,[1]LuongBC_T01!$B$9:$C$292,2,FALSE) -> 0016100006814004 | C49: 11100000748 | D49: Nguyễn Thanh Vĩnh Phúc | E49: Giảng viên khoa Cơ khí | F49: ĐH | I49: NV | J49: NV084 | K49: =VLOOKUP(D49,[2]T3!$B$2:$D$328,3,FALSE) -> 022102283 | L49: 1603205186140 | M49: 11100000748 | N49: =VLOOKUP(D49,'[6]Bao cao So GDDT'!$D$14:$S$282,11,FALSE) -> Giảng viên GDNN LT (hạng III) | O49: V.09.02.03 | P49: A1 | Q49: 8 | R49: 4.98 | S49: =U49+W49+Y49 -> 1.3665 | T49: 8 | U49: =ROUND(R49*T49/100,4) -> 0.3984 | V49: =R49*T49*$D$8/100 -> 932256 | X49: 0.18 | Y49: =ROUND((R49+U49+W49)*X49,4) -> 0.9681 | Z49: =ROUND(R49+U49+W49+Y49,4) -> 6.3465 | AA49: =ROUND(Z49*$D$8,0) -> 14850810 | AC49: =AA49/24*AB49 -> 0 | AD49: =AA49/24*AB49*75% -> 0 | AE49: =ROUND(AA49-AC49+AD49,0) -> 14850810 | AF49: =AA49*8% -> 1188064.8 | AG49: =AA49*1.5% -> 222762.15 | AH49: =AA49*1% -> 148508.1 | AJ49: =SUM(AF49:AI49) -> 1559335.1 | AL49: =AK49*$D$8 -> 0 | AO49: =R49+U49+W49 -> 5.3784 | AP49: 0.25 | AQ49: =ROUND(AO49*AP49,4) -> 1.3446 | AR49: =ROUND(AQ49*$D$8,0) -> 3146364 | AT49: =ROUND(AE49-AJ49+AL49+AN49+AR49,0) -> 16437839 | AU49: =A49 -> 36 | AW49: CK
A50: =_xlfn.AGGREGATE(4,7,A$13:A49)+1 -> 37 | B50: =VLOOKUP(D50,[1]LuongBC_T01!$B$9:$C$292,2,FALSE) -> 0016100006614005 | C50: 11100000739 | D50: Nguyễn Văn Sơn | E50: Giảng viên khoa Cơ khí | F50: ĐH | I50: GV | J50: GV135 | K50: =VLOOKUP(D50,[2]T3!$B$2:$D$328,3,FALSE) -> 038065000896 | L50: 1603205185698 | M50: 11100000739 | N50: =VLOOKUP(D50,'[6]Bao cao So GDDT'!$D$14:$S$282,11,FALSE) -> Giảng viên GDNN LT (hạng III) | O50: V.09.02.03 | P50: A1 | Q50: 9 | R50: 4.98 | S50: =U50+W50+Y50 -> 2.4382 | T50: 12 | U50: =ROUND(R50*T50/100,4) -> 0.5976 | V50: =R50*T50*$D$8/100 -> 1398384 | X50: 0.33 | Y50: =ROUND((R50+U50+W50)*X50,4) -> 1.8406 | Z50: =ROUND(R50+U50+W50+Y50,4) -> 7.4182 | AA50: =ROUND(Z50*$D$8,0) -> 17358588 | AC50: =AA50/24*AB50 -> 0 | AD50: =AA50/24*AB50*75% -> 0 | AE50: =ROUND(AA50-AC50+AD50,0) -> 17358588 | AF50: =AA50*8% -> 1388687 | AG50: =AA50*1.5% -> 260378.82 | AH50: =AA50*1% -> 173585.88 | AJ50: =SUM(AF50:AI50) -> 1822651.7 | AL50: =AK50*$D$8 -> 0 | AO50: =R50+U50+W50 -> 5.5776 | AP50: 0.25 | AQ50: =ROUND(AO50*AP50,4) -> 1.3944 | AR50: =ROUND(AQ50*$D$8,0) -> 3262896 | AT50: =ROUND(AE50-AJ50+AL50+AN50+AR50,0) -> 18798832 | AU50: =A50 -> 37 | AW50: DT
A51: =_xlfn.AGGREGATE(4,7,A$13:A50)+1 -> 38 | B51: =VLOOKUP(D51,[1]LuongBC_T01!$B$9:$C$292,2,FALSE) -> 0016100006592001 | C51: 11100000713 | D51: Tạ Minh Cường | E51: Trưởng khoa Điện - Điện tử | F51: ĐH | H51: GV | I51: TT | J51: TT056 | K51: =VLOOKUP(D51,[2]T3!$B$2:$D$328,3,FALSE) -> 024257826 | L51: 1603205182517 | M51: 11100000713 | N51: =VLOOKUP(D51,'[6]Bao cao So GDDT'!$D$14:$S$282,11,FALSE) -> Giảng viên GDNN LT (hạng III) | O51: V.09.02.03 | P51: A1 | Q51: 6 | R51: 4.65 | S51: =U51+W51+Y51 -> 1.929 | U51: =ROUND(R51*T51/100,4) -> 0 | V51: =R51*T51*$D$8/100 -> 0 | W51: 0.45 | X51: 0.29 | Y51: =ROUND((R51+U51+W51)*X51,4) -> 1.479 | Z51: =ROUND(R51+U51+W51+Y51,4) -> 6.579 | AA51: =ROUND(Z51*$D$8,0) -> 15394860 | AC51: =AA51/24*AB51 -> 0 | AD51: =AA51/24*AB51*75% -> 0 | AE51: =ROUND(AA51-AC51+AD51,0) -> 15394860 | AF51: =AA51*8% -> 1231588.8 | AG51: =AA51*1.5% -> 230922.9 | AH51: =AA51*1% -> 153948.6 | AJ51: =SUM(AF51:AI51) -> 1616460.3 | AL51: =AK51*$D$8 -> 0 | AO51: =R51+U51+W51 -> 5.1 | AP51: 0.25 | AQ51: =ROUND(AO51*AP51,4) -> 1.275 | AR51: =ROUND(AQ51*$D$8,0) -> 2983500 | AT51: =ROUND(AE51-AJ51+AL51+AN51+AR51,0) -> 16761900 | AU51: =A51 -> 38 | AW51: DDT
A52: =_xlfn.AGGREGATE(4,7,A$13:A51)+1 -> 39 | B52: =VLOOKUP(D52,[1]LuongBC_T01!$B$9:$C$292,2,FALSE) -> 0016100006660007 | C52: 11100000702 | D52: Phạm Minh Nghĩa | E52: Phó Trưởng khoa Điện - Điện tử | F52: ĐH | H52: GV | I52: PPK | J52: PPK028 | K52: 079064008054 | L52: 1603205178896 | M52: 11100000702 | N52: =VLOOKUP(D52,'[6]Bao cao So GDDT'!$D$14:$S$282,11,FALSE) -> Giảng viên GDNN LT (hạng III) | O52: V.09.02.03 | P52: A1 | Q52: 9 | R52: 4.98 | S52: =U52+W52+Y52 -> 3.3584 | T52: 17 | U52: =ROUND(R52*T52/100,4) -> 0.8466 | V52: =R52*T52*$D$8/100 -> 1981044 | W52: 0.35 | X52: 0.35 | Y52: =ROUND((R52+U52+W52)*X52,4) -> 2.1618 | Z52: =ROUND(R52+U52+W52+Y52,4) -> 8.3384 | AA52: =ROUND(Z52*$D$8,0) -> 19511856 | AC52: =AA52/24*AB52 -> 0 | AD52: =AA52/24*AB52*75% -> 0 | AE52: =ROUND(AA52-AC52+AD52,0) -> 19511856 | AF52: =AA52*8% -> 1560948.5 | AG52: =AA52*1.5% -> 292677.84 | AH52: =AA52*1% -> 195118.56 | AJ52: =SUM(AF52:AI52) -> 2048744.9 | AL52: =AK52*$D$8 -> 0 | AO52: =R52+U52+W52 -> 6.1766 | AP52: 0.25 | AQ52: =ROUND(AO52*AP52,4) -> 1.5442 | AR52: =ROUND(AQ52*$D$8,0) -> 3613428 | AT52: =ROUND(AE52-AJ52+AL52+AN52+AR52,0) -> 21076539 | AU52: =A52 -> 39 | AW52: CD
A53: =_xlfn.AGGREGATE(4,7,A$13:A52)+1 -> 40 | B53: =VLOOKUP(D53,[1]LuongBC_T01!$B$9:$C$292,2,FALSE) -> 0016100006617004 | C53: 11100000722 | D53: Huỳnh Ngọc Mai | E53: Phó Trưởng khoa Điện - Điện tử | F53: Th.S | H53: GV | I53: TT | J53: TT050 | K53: =VLOOKUP(D53,[2]T3!$B$2:$D$328,3,FALSE) -> 023230246 | L53: 1603205179042 | M53: 11100000722 | N53: =VLOOKUP(D53,'[6]Bao cao So GDDT'!$D$14:$S$282,11,FALSE) -> Giảng viên GDNN LT (hạng III) | O53: V.09.02.03 | P53: A1 | Q53: 9 | R53: 4.98 | S53: =U53+W53+Y53 -> 2.3005 | T53: 9 | U53: =ROUND(R53*T53/100,4) -> 0.4482 | V53: =R53*T53*$D$8/100 -> 1048788 | W53: 0.35 | X53: 0.26 | Y53: =ROUND((R53+U53+W53)*X53,4) -> 1.5023 | Z53: =ROUND(R53+U53+W53+Y53,4) -> 7.2805 | AA53: =ROUND(Z53*$D$8,0) -> 17036370 | AC53: =AA53/24*AB53 -> 0 | AD53: =AA53/24*AB53*75% -> 0 | AE53: =ROUND(AA53-AC53+AD53,0) -> 17036370 | AF53: =AA53*8% -> 1362909.6 | AG53: =AA53*1.5% -> 255545.55 | AH53: =AA53*1% -> 170363.7 | AJ53: =SUM(AF53:AI53) -> 1788818.9 | AL53: =AK53*$D$8 -> 0 | AO53: =R53+U53+W53 -> 5.7782 | AP53: 0.25 | AQ53: =ROUND(AO53*AP53,4) -> 1.4446 | AR53: =ROUND(AQ53*$D$8,0) -> 3380364 | AT53: =ROUND(AE53-AJ53+AL53+AN53+AR53,0) -> 18627915 | AU53: =A53 -> 40 | AW53: DDT
A54: =_xlfn.AGGREGATE(4,7,A$13:A53)+1 -> 41 | B54: =VLOOKUP(D54,[1]LuongBC_T01!$B$9:$C$292,2,FALSE) -> 0016100006530006 | C54: 11100000708 | D54: Nguyễn Văn Yên | E54: Giảng viên khoa Điện - Điện tử | F54: ĐH | H54: GV | I54: PPK | J54: PPK030 | K54: 079073005167 | L54: 1603205182371 | M54: 11100000708 | N54: =VLOOKUP(D54,'[6]Bao cao So GDDT'!$D$14:$S$282,11,FALSE) -> Giảng viên GDNN LT (hạng III) | O54: V.09.02.03 | P54: A1 | Q54: 8 | R54: 4.98 | S54: =U54+W54+Y54 -> 1.6275 | T54: 7 | U54: =ROUND(R54*T54/100,4) -> 0.3486 | V54: =R54*T54*$D$8/100 -> 815724 | X54: 0.24 | Y54: =ROUND((R54+U54+W54)*X54,4) -> 1.2789 | Z54: =ROUND(R54+U54+W54+Y54,4) -> 6.6075 | AA54: =ROUND(Z54*$D$8,0) -> 15461550 | AC54: =AA54/24*AB54 -> 0 | AD54: =AA54/24*AB54*75% -> 0 | AE54: =ROUND(AA54-AC54+AD54,0) -> 15461550 | AF54: =AA54*8% -> 1236924 | AG54: =AA54*1.5% -> 231923.25 | AH54: =AA54*1% -> 154615.5 | AJ54: =SUM(AF54:AI54) -> 1623462.8 | AL54: =AK54*$D$8 -> 0 | AO54: =R54+U54+W54 -> 5.3286 | AP54: 0.25 | AQ54: =ROUND(AO54*AP54,4) -> 1.3322 | AR54: =ROUND(AQ54*$D$8,0) -> 3117348 | AT54: =ROUND(AE54-AJ54+AL54+AN54+AR54,0) -> 16955435 | AU54: =A54 -> 41 | AW54: DDT | AY54: =44*200000 -> 8800000
A55: =_xlfn.AGGREGATE(4,7,A$13:A54)+1 -> 42 | B55: 0016100006590009 | C55: 11100000719 | D55: Nguyễn Minh Đức | E55: Giảng viên khoa Điện - Điện tử | F55: ĐH | H55: GV | I55: GV | J55: GV088 | K55: =VLOOKUP(D55,[2]T3!$B$2:$D$328,3,FALSE) -> 022209365 | L55: 1603205182496 | M55: 11100000719 | N55: =VLOOKUP(D55,'[6]Bao cao So GDDT'!$D$14:$S$282,11,FALSE) -> Giảng viên GDNN LT (hạng III) | O55: V.09.02.03 | P55: A1 | Q55: 8 | R55: 4.98 | S55: =U55+W55+Y55 -> 1.6808 | T55: 7 | U55: =ROUND(R55*T55/100,4) -> 0.3486 | V55: =R55*T55*$D$8/100 -> 815724 | X55: 0.25 | Y55: =ROUND((R55+U55+W55)*X55,4) -> 1.3322 | Z55: =ROUND(R55+U55+W55+Y55,4) -> 6.6608 | AA55: =ROUND(Z55*$D$8,0) -> 15586272 | AC55: =AA55/24*AB55 -> 0 | AD55: =AA55/24*AB55*75% -> 0 | AE55: =ROUND(AA55-AC55+AD55,0) -> 15586272 | AF55: =AA55*8% -> 1246901.8 | AG55: =AA55*1.5% -> 233794.08 | AH55: =AA55*1% -> 155862.72 | AJ55: =SUM(AF55:AI55) -> 1636558.6 | AL55: =AK55*$D$8 -> 0 | AO55: =R55+U55+W55 -> 5.3286 | AP55: 0.25 | AQ55: =ROUND(AO55*AP55,4) -> 1.3322 | AR55: =ROUND(AQ55*$D$8,0) -> 3117348 | AT55: =ROUND(AE55-AJ55+AL55+AN55+AR55,0) -> 17067061 | AU55: =A55 -> 42 | AW55: DDT
A56: =_xlfn.AGGREGATE(4,7,A$13:A55)+1 -> 43 | B56: =VLOOKUP(D56,[1]LuongBC_T01!$B$9:$C$292,2,FALSE) -> 0016100006504005 | C56: 11100000787 | D56: Nguyễn Anh Tăng | E56: Giảng viên khoa Điện - Điện tử | F56: Th.S | H56: GV | I56: GV | J56: GV096 | K56: =VLOOKUP(D56,[2]T3!$B$2:$D$328,3,FALSE) -> 023624194 | L56: 1603205182438 | M56: 11100000787 | N56: =VLOOKUP(D56,'[6]Bao cao So GDDT'!$D$14:$S$282,11,FALSE) -> Giảng viên GDNN LT (hạng III) | O56: V.09.02.03 | P56: A1 | Q56: 6 | R56: 4.98 | S56: =U56+W56+Y56 -> 1.0956 | U56: =ROUND(R56*T56/100,4) -> 0 | V56: =R56*T56*$D$8/100 -> 0 | X56: 0.22 | Y56: =ROUND((R56+U56+W56)*X56,4) -> 1.0956 | Z56: =ROUND(R56+U56+W56+Y56,4) -> 6.0756 | AA56: =ROUND(Z56*$D$8,0) -> 14216904 | AC56: =AA56/24*AB56 -> 0 | AD56: =AA56/24*AB56*75% -> 0 | AE56: =ROUND(AA56-AC56+AD56,0) -> 14216904 | AF56: =AA56*8% -> 1137352.3 | AG56: =AA56*1.5% -> 213253.56 | AH56: =AA56*1% -> 142169.04 | AJ56: =SUM(AF56:AI56) -> 1492774.9 | AL56: =AK56*$D$8 -> 0 | AO56: =R56+U56+W56 -> 4.98 | AP56: 0.25 | AQ56: =ROUND(AO56*AP56,4) -> 1.245 | AR56: =ROUND(AQ56*$D$8,0) -> 2913300 | AT56: =ROUND(AE56-AJ56+AL56+AN56+AR56,0) -> 15637429 | AU56: =A56 -> 43 | AW56: DDT
A57: =_xlfn.AGGREGATE(4,7,A$13:A56)+1 -> 44 | B57: =VLOOKUP(D57,[1]LuongBC_T01!$B$9:$C$292,2,FALSE) -> 0016100006596007 | C57: 11100000777 | D57: Lê Thế Huân | E57: Giảng viên khoa Điện - Điện tử | F57: ĐH | H57: GV | I57: GV | J57: GV114 | K57: =VLOOKUP(D57,[2]T3!$B$2:$D$328,3,FALSE) -> 021710558 | L57: 1603205182450 | M57: 11100000777 | N57: =VLOOKUP(D57,'[6]Bao cao So GDDT'!$D$14:$S$282,11,FALSE) -> Giảng viên GDNN LT (hạng III) | O57: V.09.02.03 | P57: A1 | Q57: 5 | R57: 4.32 | S57: =U57+W57+Y57 -> 0.864 | U57: =ROUND(R57*T57/100,4) -> 0 | V57: =R57*T57*$D$8/100 -> 0 | X57: 0.2 | Y57: =ROUND((R57+U57+W57)*X57,4) -> 0.864 | Z57: =ROUND(R57+U57+W57+Y57,4) -> 5.184 | AA57: =ROUND(Z57*$D$8,0) -> 12130560 | AC57: =AA57/24*AB57 -> 0 | AD57: =AA57/24*AB57*75% -> 0 | AE57: =ROUND(AA57-AC57+AD57,0) -> 12130560 | AF57: =AA57*8% -> 970444.8 | AG57: =AA57*1.5% -> 181958.4 | AH57: =AA57*1% -> 121305.6 | AJ57: =SUM(AF57:AI57) -> 1273708.8 | AL57: =AK57*$D$8 -> 0 | AO57: =R57+U57+W57 -> 4.32 | AP57: 0.25 | AQ57: =ROUND(AO57*AP57,4) -> 1.08 | AR57: =ROUND(AQ57*$D$8,0) -> 2527200 | AT57: =ROUND(AE57-AJ57+AL57+AN57+AR57,0) -> 13384051 | AU57: =A57 -> 44 | AW57: DDT
A58: =_xlfn.AGGREGATE(4,7,A$13:A57)+1 -> 45 | B58: =VLOOKUP(D58,[1]LuongBC_T01!$B$9:$C$292,2,FALSE) -> 0016100006595008 | C58: 20500004676 | D58: Trần Trung Hiếu | E58: Giảng viên khoa Điện - Điện tử | F58: ĐH | H58: GV | I58: GV | J58: GV108 | K58: =VLOOKUP(D58,[2]T3!$B$2:$D$328,3,FALSE) -> 023172993 | L58: 1603205182480 | M58: 20500004676 | N58: =VLOOKUP(D58,'[6]Bao cao So GDDT'!$D$14:$S$282,11,FALSE) -> Giảng viên GDNN LT (hạng III) | O58: V.09.02.03 | P58: A1 | Q58: 5 | R58: 4.65 | S58: =U58+W58+Y58 -> 0.9765 | U58: =ROUND(R58*T58/100,4) -> 0 | V58: =R58*T58*$D$8/100 -> 0 | X58: 0.21 | Y58: =ROUND((R58+U58+W58)*X58,4) -> 0.9765 | Z58: =ROUND(R58+U58+W58+Y58,4) -> 5.6265 | AA58: =ROUND(Z58*$D$8,0) -> 13166010 | AC58: =AA58/24*AB58 -> 0 | AD58: =AA58/24*AB58*75% -> 0 | AE58: =ROUND(AA58-AC58+AD58,0) -> 13166010 | AF58: =AA58*8% -> 1053280.8 | AG58: =AA58*1.5% -> 197490.15 | AH58: =AA58*1% -> 131660.1 | AJ58: =SUM(AF58:AI58) -> 1382431.1 | AL58: =AK58*$D$8 -> 0 | AO58: =R58+U58+W58 -> 4.65 | AP58: 0.25 | AQ58: =ROUND(AO58*AP58,4) -> 1.1625 | AR58: =ROUND(AQ58*$D$8,0) -> 2720250 | AT58: =ROUND(AE58-AJ58+AL58+AN58+AR58,0) -> 14503829 | AU58: =A58 -> 45 | AW58: DDT
A59: =_xlfn.AGGREGATE(4,7,A$13:A58)+1 -> 46 | B59: =VLOOKUP(D59,[1]LuongBC_T01!$B$9:$C$292,2,FALSE) -> 0016100006529008 | C59: 11100075983 | D59: Mạnh Lê Hoàn | E59: Giảng viên khoa Điện - Điện tử | F59: ĐH | H59: GV | I59: GV | J59: GV119 | K59: =VLOOKUP(D59,[2]T3!$B$2:$D$328,3,FALSE) -> 023205612 | L59: 1603205182473 | M59: 11100075983 | N59: =VLOOKUP(D59,'[6]Bao cao So GDDT'!$D$14:$S$282,11,FALSE) -> Giảng viên GDNN LT (hạng III) | O59: V.09.02.03 | P59: A1 | Q59: 5 | R59: 4.32 | S59: =U59+W59+Y59 -> 0.864 | U59: =ROUND(R59*T59/100,4) -> 0 | V59: =R59*T59*$D$8/100 -> 0 | X59: 0.2 | Y59: =ROUND((R59+U59+W59)*X59,4) -> 0.864 | Z59: =ROUND(R59+U59+W59+Y59,4) -> 5.184 | AA59: =ROUND(Z59*$D$8,0) -> 12130560 | AC59: =AA59/24*AB59 -> 0 | AD59: =AA59/24*AB59*75% -> 0 | AE59: =ROUND(AA59-AC59+AD59,0) -> 12130560 | AF59: =AA59*8% -> 970444.8 | AG59: =AA59*1.5% -> 181958.4 | AH59: =AA59*1% -> 121305.6 | AJ59: =SUM(AF59:AI59) -> 1273708.8 | AL59: =AK59*$D$8 -> 0 | AO59: =R59+U59+W59 -> 4.32 | AP59: 0.25 | AQ59: =ROUND(AO59*AP59,4) -> 1.08 | AR59: =ROUND(AQ59*$D$8,0) -> 2527200 | AT59: =ROUND(AE59-AJ59+AL59+AN59+AR59,0) -> 13384051 | AU59: =A59 -> 46 | AW59: DDT
A60: =_xlfn.AGGREGATE(4,7,A$13:A59)+1 -> 47 | B60: =VLOOKUP(D60,[1]LuongBC_T01!$B$9:$C$292,2,FALSE) -> 0016100006593008 | C60: 11100000797 | D60: Ngô Hoàng Anh | E60: Giảng viên khoa Điện - Điện tử | F60: Th.S | H60: GV | I60: GV | J60: GV099 | K60: =VLOOKUP(D60,[2]T3!$B$2:$D$328,3,FALSE) -> 024951998 | L60: 1603205185596 | M60: 11100000797 | N60: =VLOOKUP(D60,'[6]Bao cao So GDDT'!$D$14:$S$282,11,FALSE) -> Giảng viên GDNN LT (hạng III) | O60: V.09.02.03 | P60: A1 | Q60: 6 | R60: 4.65 | S60: =U60+W60+Y60 -> 1.023 | U60: =ROUND(R60*T60/100,4) -> 0 | V60: =R60*T60*$D$8/100 -> 0 | X60: 0.22 | Y60: =ROUND((R60+U60+W60)*X60,4) -> 1.023 | Z60: =ROUND(R60+U60+W60+Y60,4) -> 5.673 | AA60: =ROUND(Z60*$D$8,0) -> 13274820 | AC60: =AA60/24*AB60 -> 0 | AD60: =AA60/24*AB60*75% -> 0 | AE60: =ROUND(AA60-AC60+AD60,0) -> 13274820 | AF60: =AA60*8% -> 1061985.6 | AG60: =AA60*1.5% -> 199122.3 | AH60: =AA60*1% -> 132748.2 | AJ60: =SUM(AF60:AI60) -> 1393856.1 | AL60: =AK60*$D$8 -> 0 | AO60: =R60+U60+W60 -> 4.65 | AP60: 0.25 | AQ60: =ROUND(AO60*AP60,4) -> 1.1625 | AR60: =ROUND(AQ60*$D$8,0) -> 2720250 | AT60: =ROUND(AE60-AJ60+AL60+AN60+AR60,0) -> 14601214 | AU60: =A60 -> 47 | AW60: DDT
A61: =_xlfn.AGGREGATE(4,7,A$13:A60)+1 -> 48 | B61: =VLOOKUP(D61,[1]LuongBC_T01!$B$9:$C$292,2,FALSE) -> 0016100006644001 | C61: 11100000747 | D61: Nguyễn Hồng Đức | E61: Giảng viên khoa Điện - Điện tử | F61: ĐH | H61: GV | I61: GV | J61: GV082 | K61: =VLOOKUP(D61,[2]T3!$B$2:$D$328,3,FALSE) -> 022228240 | L61: 1603205179007 | M61: 11100000747 | N61: =VLOOKUP(D61,'[6]Bao cao So GDDT'!$D$14:$S$282,11,FALSE) -> Giảng viên GDNN LT (hạng III) | O61: V.09.02.03 | P61: A1 | Q61: 9 | R61: 4.98 | S61: =U61+W61+Y61 -> 2.4382 | T61: 12 | U61: =ROUND(R61*T61/100,4) -> 0.5976 | V61: =R61*T61*$D$8/100 -> 1398384 | X61: 0.33 | Y61: =ROUND((R61+U61+W61)*X61,4) -> 1.8406 | Z61: =ROUND(R61+U61+W61+Y61,4) -> 7.4182 | AA61: =ROUND(Z61*$D$8,0) -> 17358588 | AC61: =AA61/24*AB61 -> 0 | AD61: =AA61/24*AB61*75% -> 0 | AE61: =ROUND(AA61-AC61+AD61,0) -> 17358588 | AF61: =AA61*8% -> 1388687 | AG61: =AA61*1.5% -> 260378.82 | AH61: =AA61*1% -> 173585.88 | AJ61: =SUM(AF61:AI61) -> 1822651.7 | AL61: =AK61*$D$8 -> 0 | AO61: =R61+U61+W61 -> 5.5776 | AP61: 0.25 | AQ61: =ROUND(AO61*AP61,4) -> 1.3944 | AR61: =ROUND(AQ61*$D$8,0) -> 3262896 | AT61: =ROUND(AE61-AJ61+AL61+AN61+AR61,0) -> 18798832 | AU61: =A61 -> 48 | AW61: DDT
A62: =_xlfn.AGGREGATE(4,7,A$13:A61)+1 -> 49 | B62: =VLOOKUP(D62,[1]LuongBC_T01!$B$9:$C$292,2,FALSE) -> 0016100006531002 | C62: 11100000716 | D62: Trần Công Tiến | E62: Giảng viên khoa Điện - Điện tử | F62: ĐH | H62: GV | I62: TT | J62: TT051 | K62: 079072000577 | L62: 1603205178917 | M62: 11100000716 | N62: =VLOOKUP(D62,'[6]Bao cao So GDDT'!$D$14:$S$282,11,FALSE) -> Giảng viên GDNN LT (hạng III) | O62: V.09.02.03 | P62: A1 | Q62: 9 | R62: 4.98 | S62: =U62+W62+Y62 -> 1.8595 | T62: 9 | U62: =ROUND(R62*T62/100,4) -> 0.4482 | V62: =R62*T62*$D$8/100 -> 1048788 | X62: 0.26 | Y62: =ROUND((R62+U62+W62)*X62,4) -> 1.4113 | Z62: =ROUND(R62+U62+W62+Y62,4) -> 6.8395 | AA62: =ROUND(Z62*$D$8,0) -> 16004430 | AC62: =AA62/24*AB62 -> 0 | AD62: =AA62/24*AB62*75% -> 0 | AE62: =ROUND(AA62-AC62+AD62,0) -> 16004430 | AF62: =AA62*8% -> 1280354.4 | AG62: =AA62*1.5% -> 240066.45 | AH62: =AA62*1% -> 160044.3 | AJ62: =SUM(AF62:AI62) -> 1680465.2 | AL62: =AK62*$D$8 -> 0 | AO62: =R62+U62+W62 -> 5.4282 | AP62: 0.25 | AQ62: =ROUND(AO62*AP62,4) -> 1.3571 | AR62: =ROUND(AQ62*$D$8,0) -> 3175614 | AT62: =ROUND(AE62-AJ62+AL62+AN62+AR62,0) -> 17499579 | AU62: =A62 -> 49 | AW62: DDT
A63: =_xlfn.AGGREGATE(4,7,A$13:A62)+1 -> 50 | B63: =VLOOKUP(D63,[1]LuongBC_T01!$B$9:$C$292,2,FALSE) -> 0016100006582006 | C63: 11100000793 | D63: Nguyễn Trần Thanh Nhàn | E63: Giảng viên khoa Điện - Điện tử | F63: ĐH | G63: x | H63: GV | I63: GV | J63: GV105 | K63: =VLOOKUP(D63,[2]T3!$B$2:$D$328,3,FALSE) -> 023273100 | L63: 1603205178923 | M63: 11100000793 | N63: =VLOOKUP(D63,'[6]Bao cao So GDDT'!$D$14:$S$282,11,FALSE) -> Giảng viên GDNN LT (hạng III) | O63: V.09.02.03 | P63: A1 | Q63: 5 | R63: 4.65 | S63: =U63+W63+Y63 -> 0.9765 | U63: =ROUND(R63*T63/100,4) -> 0 | V63: =R63*T63*$D$8/100 -> 0 | X63: 0.21 | Y63: =ROUND((R63+U63+W63)*X63,4) -> 0.9765 | Z63: =ROUND(R63+U63+W63+Y63,4) -> 5.6265 | AA63: =ROUND(Z63*$D$8,0) -> 13166010 | AC63: =AA63/24*AB63 -> 0 | AD63: =AA63/24*AB63*75% -> 0 | AE63: =ROUND(AA63-AC63+AD63,0) -> 13166010 | AF63: =AA63*8% -> 1053280.8 | AG63: =AA63*1.5% -> 197490.15 | AH63: =AA63*1% -> 131660.1 | AJ63: =SUM(AF63:AI63) -> 1382431.1 | AL63: =AK63*$D$8 -> 0 | AO63: =R63+U63+W63 -> 4.65 | AP63: 0.25 | AQ63: =ROUND(AO63*AP63,4) -> 1.1625 | AR63: =ROUND(AQ63*$D$8,0) -> 2720250 | AT63: =ROUND(AE63-AJ63+AL63+AN63+AR63,0) -> 14503829 | AU63: =A63 -> 50 | AW63: DDT
A64: =_xlfn.AGGREGATE(4,7,A$13:A63)+1 -> 51 | B64: =VLOOKUP(D64,[1]LuongBC_T01!$B$9:$C$292,2,FALSE) -> 0016100006583002 | C64: 11100000774 | D64: Tăng Cẩm Huê | E64: Giảng viên khoa Điện - Điện tử | F64: ĐH | G64: x | H64: GV | I64: GV | J64: GV106 | K64: =VLOOKUP(D64,[2]T3!$B$2:$D$328,3,FALSE) -> 023179583 | L64: 1603205178975 | M64: 11100000774 | N64: =VLOOKUP(D64,'[6]Bao cao So GDDT'!$D$14:$S$282,11,FALSE) -> Giảng viên GDNN LT (hạng III) | O64: V.09.02.03 | P64: A1 | Q64: 5 | R64: 4.65 | S64: =U64+W64+Y64 -> 0.9765 | U64: =ROUND(R64*T64/100,4) -> 0 | V64: =R64*T64*$D$8/100 -> 0 | X64: 0.21 | Y64: =ROUND((R64+U64+W64)*X64,4) -> 0.9765 | Z64: =ROUND(R64+U64+W64+Y64,4) -> 5.6265 | AA64: =ROUND(Z64*$D$8,0) -> 13166010 | AC64: =AA64/24*AB64 -> 0 | AD64: =AA64/24*AB64*75% -> 0 | AE64: =ROUND(AA64-AC64+AD64,0) -> 13166010 | AF64: =AA64*8% -> 1053280.8 | AG64: =AA64*1.5% -> 197490.15 | AH64: =AA64*1% -> 131660.1 | AJ64: =SUM(AF64:AI64) -> 1382431.1 | AL64: =AK64*$D$8 -> 0 | AO64: =R64+U64+W64 -> 4.65 | AP64: 0.25 | AQ64: =ROUND(AO64*AP64,4) -> 1.1625 | AR64: =ROUND(AQ64*$D$8,0) -> 2720250 | AT64: =ROUND(AE64-AJ64+AL64+AN64+AR64,0) -> 14503829 | AU64: =A64 -> 51 | AW64: DDT
A65: =_xlfn.AGGREGATE(4,7,A$13:A64)+1 -> 52 | B65: =VLOOKUP(D65,[1]LuongBC_T01!$B$9:$C$292,2,FALSE) -> 0016100006642009 | C65: 11100066953 | D65: Trần Hiếu Trinh | E65: Giảng viên khoa Điện - Điện tử | F65: ĐH | G65: x | H65: GV | I65: GV | J65: GV107 | K65: =VLOOKUP(D65,[2]T3!$B$2:$D$328,3,FALSE) -> 023070412 | L65: 1603205178981 | M65: 11100066953 | N65: =VLOOKUP(D65,'[6]Bao cao So GDDT'!$D$14:$S$282,11,FALSE) -> Giảng viên GDNN LT (hạng III) | O65: V.09.02.03 | P65: A1 | Q65: 6 | R65: 4.65 | S65: =U65+W65+Y65 -> 0.93 | U65: =ROUND(R65*T65/100,4) -> 0 | V65: =R65*T65*$D$8/100 -> 0 | X65: 0.2 | Y65: =ROUND((R65+U65+W65)*X65,4) -> 0.93 | Z65: =ROUND(R65+U65+W65+Y65,4) -> 5.58 | AA65: =ROUND(Z65*$D$8,0) -> 13057200 | AC65: =AA65/24*AB65 -> 0 | AD65: =AA65/24*AB65*75% -> 0 | AE65: =ROUND(AA65-AC65+AD65,0) -> 13057200 | AF65: =AA65*8% -> 1044576 | AG65: =AA65*1.5% -> 195858 | AH65: =AA65*1% -> 130572 | AJ65: =SUM(AF65:AI65) -> 1371006 | AL65: =AK65*$D$8 -> 0 | AO65: =R65+U65+W65 -> 4.65 | AP65: 0.25 | AQ65: =ROUND(AO65*AP65,4) -> 1.1625 | AR65: =ROUND(AQ65*$D$8,0) -> 2720250 | AT65: =ROUND(AE65-AJ65+AL65+AN65+AR65,0) -> 14406444 | AU65: =A65 -> 52 | AW65: DDT
A66: =_xlfn.AGGREGATE(4,7,A$13:A65)+1 -> 53 | B66: =VLOOKUP(D66,[1]LuongBC_T01!$B$9:$C$292,2,FALSE) -> 0016100006609001 | C66: 11100000779 | D66: Nguyễn Thị Tố Nga | E66: Giảng viên khoa Điện - Điện tử | F66: ĐH | G66: x | H66: GV | I66: GV | J66: GV111 | K66: =VLOOKUP(D66,[2]T3!$B$2:$D$328,3,FALSE) -> 025602565 | L66: 1603205178969 | M66: 11100000779 | N66: =VLOOKUP(D66,'[6]Bao cao So GDDT'!$D$14:$S$282,11,FALSE) -> Giảng viên GDNN LT (hạng III) | O66: V.09.02.03 | P66: A1 | Q66: 5 | R66: 4.65 | S66: =U66+W66+Y66 -> 0.93 | U66: =ROUND(R66*T66/100,4) -> 0 | V66: =R66*T66*$D$8/100 -> 0 | X66: 0.2 | Y66: =ROUND((R66+U66+W66)*X66,4) -> 0.93 | Z66: =ROUND(R66+U66+W66+Y66,4) -> 5.58 | AA66: =ROUND(Z66*$D$8,0) -> 13057200 | AC66: =AA66/24*AB66 -> 0 | AD66: =AA66/24*AB66*75% -> 0 | AE66: =ROUND(AA66-AC66+AD66,0) -> 13057200 | AF66: =AA66*8% -> 1044576 | AG66: =AA66*1.5% -> 195858 | AH66: =AA66*1% -> 130572 | AJ66: =SUM(AF66:AI66) -> 1371006 | AL66: =AK66*$D$8 -> 0 | AO66: =R66+U66+W66 -> 4.65 | AP66: 0.25 | AQ66: =ROUND(AO66*AP66,4) -> 1.1625 | AR66: =ROUND(AQ66*$D$8,0) -> 2720250 | AT66: =ROUND(AE66-AJ66+AL66+AN66+AR66,0) -> 14406444 | AU66: =A66 -> 53 | AW66: DDT
A67: =_xlfn.AGGREGATE(4,7,A$13:A66)+1 -> 54 | B67: =VLOOKUP(D67,[1]LuongBC_T01!$B$9:$C$292,2,FALSE) -> 0016100006503009 | C67: 11100000783 | D67: Đặng Đức Minh | E67: Giảng viên khoa Điện - Điện tử | F67: ĐH | H67: GV | I67: TT | J67: TT060 | K67: =VLOOKUP(D67,[2]T3!$B$2:$D$328,3,FALSE) -> 022765460 | L67: 1603205179020 | M67: 11100000783 | N67: =VLOOKUP(D67,'[6]Bao cao So GDDT'!$D$14:$S$282,11,FALSE) -> Giảng viên GDNN LT (hạng III) | O67: V.09.02.03 | P67: A1 | Q67: 5 | R67: 4.65 | S67: =U67+W67+Y67 -> 0.93 | U67: =ROUND(R67*T67/100,4) -> 0 | V67: =R67*T67*$D$8/100 -> 0 | X67: 0.2 | Y67: =ROUND((R67+U67+W67)*X67,4) -> 0.93 | Z67: =ROUND(R67+U67+W67+Y67,4) -> 5.58 | AA67: =ROUND(Z67*$D$8,0) -> 13057200 | AC67: =AA67/24*AB67 -> 0 | AD67: =AA67/24*AB67*75% -> 0 | AE67: =ROUND(AA67-AC67+AD67,0) -> 13057200 | AF67: =AA67*8% -> 1044576 | AG67: =AA67*1.5% -> 195858 | AH67: =AA67*1% -> 130572 | AJ67: =SUM(AF67:AI67) -> 1371006 | AL67: =AK67*$D$8 -> 0 | AO67: =R67+U67+W67 -> 4.65 | AP67: 0.25 | AQ67: =ROUND(AO67*AP67,4) -> 1.1625 | AR67: =ROUND(AQ67*$D$8,0) -> 2720250 | AT67: =ROUND(AE67-AJ67+AL67+AN67+AR67,0) -> 14406444 | AU67: =A67 -> 54 | AW67: DDT
A68: =_xlfn.AGGREGATE(4,7,A$13:A67)+1 -> 55 | B68: =VLOOKUP(D68,[1]LuongBC_T01!$B$9:$C$292,2,FALSE) -> 0016100006641002 | C68: 11100000786 | D68: Nguyễn Thị Ngọc Hiền | E68: Giảng viên khoa Điện - Điện tử | F68: ĐH | G68: x | H68: GV | I68: GV | J68: GV113 | K68: =VLOOKUP(D68,[2]T3!$B$2:$D$328,3,FALSE) -> 024346476 | L68: 1603205178900 | M68: 11100000786 | N68: =VLOOKUP(D68,'[6]Bao cao So GDDT'!$D$14:$S$282,11,FALSE) -> Giảng viên GDNN LT (hạng III) | O68: V.09.02.03 | P68: A1 | Q68: 5 | R68: 4.65 | S68: =U68+W68+Y68 -> 0.93 | U68: =ROUND(R68*T68/100,4) -> 0 | V68: =R68*T68*$D$8/100 -> 0 | X68: 0.2 | Y68: =ROUND((R68+U68+W68)*X68,4) -> 0.93 | Z68: =ROUND(R68+U68+W68+Y68,4) -> 5.58 | AA68: =ROUND(Z68*$D$8,0) -> 13057200 | AC68: =AA68/24*AB68 -> 0 | AD68: =AA68/24*AB68*75% -> 0 | AE68: =ROUND(AA68-AC68+AD68,0) -> 13057200 | AF68: =AA68*8% -> 1044576 | AG68: =AA68*1.5% -> 195858 | AH68: =AA68*1% -> 130572 | AJ68: =SUM(AF68:AI68) -> 1371006 | AL68: =AK68*$D$8 -> 0 | AO68: =R68+U68+W68 -> 4.65 | AP68: 0.25 | AQ68: =ROUND(AO68*AP68,4) -> 1.1625 | AR68: =ROUND(AQ68*$D$8,0) -> 2720250 | AT68: =ROUND(AE68-AJ68+AL68+AN68+AR68,0) -> 14406444 | AU68: =A68 -> 55 | AW68: DDT
A69: =_xlfn.AGGREGATE(4,7,A$13:A68)+1 -> 56 | B69: =VLOOKUP(D69,[1]LuongBC_T01!$B$9:$C$292,2,FALSE) -> 0016100006694009 | C69: 11100000776 | D69: Võ Đắc Thịnh | E69: Phó Trưởng khoa Động lực | F69: ĐH | H69: GV | I69: PPK | J69: PPK035 | K69: =VLOOKUP(D69,[2]T3!$B$2:$D$328,3,FALSE) -> 079079003245 | L69: 1603205178692 | M69: 11100000776 | N69: =VLOOKUP(D69,'[6]Bao cao So GDDT'!$D$14:$S$282,11,FALSE) -> Giảng viên GDNN LT (hạng III) | O69: V.09.02.03 | P69: A1 | Q69: 6 | R69: 4.98 | S69: =U69+W69+Y69 -> 1.4693 | U69: =ROUND(R69*T69/100,4) -> 0 | V69: =R69*T69*$D$8/100 -> 0 | W69: 0.35 | X69: 0.21 | Y69: =ROUND((R69+U69+W69)*X69,4) -> 1.1193 | Z69: =ROUND(R69+U69+W69+Y69,4) -> 6.4493 | AA69: =ROUND(Z69*$D$8,0) -> 15091362 | AC69: =AA69/24*AB69 -> 0 | AD69: =AA69/24*AB69*75% -> 0 | AE69: =ROUND(AA69-AC69+AD69,0) -> 15091362 | AF69: =AA69*8% -> 1207309 | AG69: =AA69*1.5% -> 226370.43 | AH69: =AA69*1% -> 150913.62 | AJ69: =SUM(AF69:AI69) -> 1584593 | AL69: =AK69*$D$8 -> 0 | AO69: =R69+U69+W69 -> 5.33 | AP69: 0.25 | AQ69: =ROUND(AO69*AP69,4) -> 1.3325 | AR69: =ROUND(AQ69*$D$8,0) -> 3118050 | AT69: =ROUND(AE69-AJ69+AL69+AN69+AR69,0) -> 16624819 | AU69: =A69 -> 56 | AW69: DLUC
A70: =_xlfn.AGGREGATE(4,7,A$13:A69)+1 -> 57 | B70: =VLOOKUP(D70,[1]LuongBC_T01!$B$9:$C$292,2,FALSE) -> 0016100006532009 | C70: 11100000705 | D70: Đặng Thế Huân | E70: Giảng viên khoa Nhiệt - Lạnh | F70: ĐH | H70: GV | I70: PPK | J70: PPK033 | K70: =VLOOKUP(D70,[2]T3!$B$2:$D$328,3,FALSE) -> 022293675 | L70: 1603205182690 | M70: 11100000705 | N70: =VLOOKUP(D70,'[6]Bao cao So GDDT'!$D$14:$S$282,11,FALSE) -> Giảng viên GDNN LT (hạng III) | O70: V.09.02.03 | P70: A1 | Q70: 6 | R70: 4.65 | S70: =U70+W70+Y70 -> 1.023 | U70: =ROUND(R70*T70/100,4) -> 0 | V70: =R70*T70*$D$8/100 -> 0 | X70: 0.22 | Y70: =ROUND((R70+U70+W70)*X70,4) -> 1.023 | Z70: =ROUND(R70+U70+W70+Y70,4) -> 5.673 | AA70: =ROUND(Z70*$D$8,0) -> 13274820 | AC70: =AA70/24*AB70 -> 0 | AD70: =AA70/24*AB70*75% -> 0 | AE70: =ROUND(AA70-AC70+AD70,0) -> 13274820 | AF70: =AA70*8% -> 1061985.6 | AG70: =AA70*1.5% -> 199122.3 | AH70: =AA70*1% -> 132748.2 | AJ70: =SUM(AF70:AI70) -> 1393856.1 | AL70: =AK70*$D$8 -> 0 | AO70: =R70+U70+W70 -> 4.65 | AP70: 0.25 | AQ70: =ROUND(AO70*AP70,4) -> 1.1625 | AR70: =ROUND(AQ70*$D$8,0) -> 2720250 | AT70: =ROUND(AE70-AJ70+AL70+AN70+AR70,0) -> 14601214 | AU70: =A70 -> 57 | AW70: DL
A71: =_xlfn.AGGREGATE(4,7,A$13:A70)+1 -> 58 | B71: =VLOOKUP(D71,[1]LuongBC_T01!$B$9:$C$292,2,FALSE) -> 0016100006812001 | C71: 11100066939 | D71: Võ Anh Hào | E71: Giảng viên khoa Nhiệt - Lạnh | F71: ĐH | H71: GV | I71: GV | J71: GV100 | K71: =VLOOKUP(D71,[2]T3!$B$2:$D$328,3,FALSE) -> 022843958 | L71: 1603205182660 | M71: 11100066939 | N71: =VLOOKUP(D71,'[6]Bao cao So GDDT'!$D$14:$S$282,11,FALSE) -> Giảng viên GDNN LT (hạng III) | O71: V.09.02.03 | P71: A1 | Q71: 6 | R71: 4.65 | S71: =U71+W71+Y71 -> 0.9765 | U71: =ROUND(R71*T71/100,4) -> 0 | V71: =R71*T71*$D$8/100 -> 0 | X71: 0.21 | Y71: =ROUND((R71+U71+W71)*X71,4) -> 0.9765 | Z71: =ROUND(R71+U71+W71+Y71,4) -> 5.6265 | AA71: =ROUND(Z71*$D$8,0) -> 13166010 | AC71: =AA71/24*AB71 -> 0 | AD71: =AA71/24*AB71*75% -> 0 | AE71: =ROUND(AA71-AC71+AD71,0) -> 13166010 | AF71: =AA71*8% -> 1053280.8 | AG71: =AA71*1.5% -> 197490.15 | AH71: =AA71*1% -> 131660.1 | AJ71: =SUM(AF71:AI71) -> 1382431.1 | AL71: =AK71*$D$8 -> 0 | AO71: =R71+U71+W71 -> 4.65 | AP71: 0.25 | AQ71: =ROUND(AO71*AP71,4) -> 1.1625 | AR71: =ROUND(AQ71*$D$8,0) -> 2720250 | AT71: =ROUND(AE71-AJ71+AL71+AN71+AR71,0) -> 14503829 | AU71: =A71 -> 58 | AW71: DL
A72: =_xlfn.AGGREGATE(4,7,A$13:A71)+1 -> 59 | B72: =VLOOKUP(D72,[1]LuongBC_T01!$B$9:$C$292,2,FALSE) -> 0016100006586001 | C72: 11100122860 | D72: Nguyễn Vũ Xuân Thì | E72: Giảng viên khoa Nhiệt - Lạnh | F72: ĐH | H72: GV | I72: GV | K72: =VLOOKUP(D72,[2]T3!$B$2:$D$328,3,FALSE) -> 079071003963 | L72: 1603205246186 | M72: 11100122860 | N72: =VLOOKUP(D72,'[6]Bao cao So GDDT'!$D$14:$S$282,11,FALSE) -> Giảng viên GDNN LT (hạng III) | O72: V.09.02.03 | P72: A1 | Q72: 7 | R72: 4.98 | S72: =U72+W72+Y72 -> 1.4517 | T72: 5 | U72: =ROUND(R72*T72/100,4) -> 0.249 | V72: =R72*T72*$D$8/100 -> 582660 | X72: 0.23 | Y72: =ROUND((R72+U72+W72)*X72,4) -> 1.2027 | Z72: =ROUND(R72+U72+W72+Y72,4) -> 6.4317 | AA72: =ROUND(Z72*$D$8,0) -> 15050178 | AC72: =AA72/24*AB72 -> 0 | AD72: =AA72/24*AB72*75% -> 0 | AE72: =ROUND(AA72-AC72+AD72,0) -> 15050178 | AF72: =AA72*8% -> 1204014.2 | AG72: =AA72*1.5% -> 225752.67 | AH72: =AA72*1% -> 150501.78 | AJ72: =SUM(AF72:AI72) -> 1580268.7 | AL72: =AK72*$D$8 -> 0 | AO72: =R72+U72+W72 -> 5.229 | AP72: 0.25 | AQ72: =ROUND(AO72*AP72,4) -> 1.3073 | AR72: =ROUND(AQ72*$D$8,0) -> 3059082 | AT72: =ROUND(AE72-AJ72+AL72+AN72+AR72,0) -> 16528991 | AU72: =A72 -> 59 | AW72: DL
B73: =VLOOKUP(D73,[1]LuongBC_T01!$B$9:$C$292,2,FALSE) -> #N/A | D73: CỘNG BIÊN CHẾ | G73: =COUNTIF(G13:G72,"x") -> 21 | H73: =COUNTIF(H14:H72,"GV") -> 39 | R73: =SUM(R14:R72) -> 284.32 | S73: =SUM(S14:S72) -> 83.1058 | T73: =U73 -> 13.295 | U73: =SUM(U14:U72) -> 13.295 | V73: =SUM(V14:V72) -> 31110300 | W73: =SUM(W14:W72) -> 8.25 | Y73: =SUM(Y14:Y72) -> 61.5608 | Z73: =SUM(Z14:Z72) -> 367.4258 | AA73: =SUM(AA14:AA72) -> 859776372 | AC73: =SUM(AC14:AC72) -> 0 | AD73: =SUM(AD14:AD72) -> 0 | AE73: =SUM(AE14:AE72) -> 859776372 | AF73: =SUM(AF14:AF72) -> 68782110 | AG73: =SUM(AG14:AG72) -> 12896646 | AH73: =SUM(AH14:AH72) -> 8597763.7 | AI73: =SUM(AI14:AI72) -> 0 | AJ73: =SUM(AJ14:AJ72)+1 -> 90276520 | AK73: =SUM(AK14:AK72) -> 0.2 | AL73: =SUM(AL14:AL72) -> 468000 | AO73: =SUM(AO14:AO72) -> 305.865 | AQ73: =SUM(AQ14:AQ72) -> 68.5883 | AR73: =SUM(AR14:AR72) -> 160496622 | AS73: =SUM(AS14:AS72) -> 0 | AT73: =SUM(AT14:AT72)+2 -> 930464474
B74: =VLOOKUP(D74,[1]LuongBC_T01!$B$9:$C$292,2,FALSE) -> #N/A | D74: B. HỢP ĐỒNG LÀM VIỆC LẦN ĐẦU
A75: =_xlfn.AGGREGATE(4,7,A$13:A74)+1 -> 60 | D75: Lê Thu Hà | E75: Giảng viên khoa Ngoại ngữ | O75: V.09.02.03 | R75: 1.989 | X75: 0 | Y75: =ROUND((R75+U75+W75)*X75,4) -> 0 | Z75: =R75+U75+W75+Y75 -> 1.989 | AA75: =ROUND(Z75*$D$8,0) -> 4654260 | AC75: =AA75/24*AB75 -> 0 | AD75: 0 | AE75: =ROUND(AA75-AC75+AD75,0) -> 4654260 | AF75: =AA75*8% -> 372340.8 | AG75: =AA75*1.5% -> 69813.9 | AH75: =AA75*1% -> 46542.6 | AJ75: =SUM(AF75:AI75) -> 488697.3 | AO75: =R75+U75+W75 -> 1.989 | AP75: 0.25 | AQ75: =ROUND(AO75*AP75,4) -> 0.4973 | AR75: =ROUND(AQ75*$D$8,0) -> 1163682 | AT75: =ROUND(AE75-AJ75+AL75+AN75+AR75,0) -> 5329245 | AU75: =A75 -> 60 | AW75: NN
A76: =_xlfn.AGGREGATE(4,7,A$13:A75)+1 -> 61 | D76: Nguyễn Huỳnh Khánh Vy | E76: Giảng viên khoa Ngoại ngữ | O76: V.09.02.03 | R76: 1.989 | Y76: =ROUND((R76+U76+W76)*X76,4) -> 0 | Z76: =R76+U76+W76+Y76 -> 1.989 | AA76: =ROUND(Z76*$D$8,0) -> 4654260 | AC76: =AA76/24*AB76 -> 0 | AD76: 0 | AE76: =ROUND(AA76-AC76+AD76,0) -> 4654260 | AF76: =AA76*8% -> 372340.8 | AG76: =AA76*1.5% -> 69813.9 | AH76: =AA76*1% -> 46542.6 | AJ76: =SUM(AF76:AI76) -> 488697.3 | AO76: =R76+U76+W76 -> 1.989 | AP76: 0.25 | AQ76: =ROUND(AO76*AP76,4) -> 0.4973 | AR76: =ROUND(AQ76*$D$8,0) -> 1163682 | AT76: =ROUND(AE76-AJ76+AL76+AN76+AR76,0) -> 5329245 | AV76: QĐ Tuyển dụng từ 01/08/2024. | AW76: NN
A77: =_xlfn.AGGREGATE(4,7,A$13:A76)+1 -> 62 | D77: Nguyễn Thụy Nghiêm | E77: Giảng viên khoa Kinh tế | O77: V.09.02.03 | R77: 2.269 | Y77: =ROUND((R77+U77+W77)*X77,4) -> 0 | Z77: =R77+U77+W77+Y77 -> 2.269 | AA77: =ROUND(Z77*$D$8,0) -> 5309460 | AC77: =AA77/24*AB77 -> 0 | AD77: 0 | AE77: =ROUND(AA77-AC77+AD77,0) -> 5309460 | AF77: =AA77*8% -> 424756.8 | AG77: =AA77*1.5% -> 79641.9 | AH77: =AA77*1% -> 53094.6 | AJ77: =SUM(AF77:AI77) -> 557493.3 | AO77: =R77+U77+W77 -> 2.269 | AP77: 0.25 | AQ77: =ROUND(AO77*AP77,4) -> 0.5673 | AR77: =ROUND(AQ77*$D$8,0) -> 1327482 | AT77: =ROUND(AE77-AJ77+AL77+AN77+AR77,0) -> 6079449 | AV77: QĐ Tuyển dụng từ ngày 01/09/2024 | AW77: KT
A78: =_xlfn.AGGREGATE(4,7,A$13:A77)+1 -> 63 | D78: Đoàn Thanh Long | E78: Giảng viên khoa Ngoại ngữ | O78: V.09.02.03 | R78: 1.989 | Y78: =ROUND((R78+U78+W78)*X78,4) -> 0 | Z78: =R78+U78+W78+Y78 -> 1.989 | AA78: =ROUND(Z78*$D$8,0) -> 4654260 | AC78: =AA78/24*AB78 -> 0 | AD78: 0 | AE78: =ROUND(AA78-AC78+AD78,0) -> 4654260 | AF78: =AA78*8% -> 372340.8 | AG78: =AA78*1.5% -> 69813.9 | AH78: =AA78*1% -> 46542.6 | AJ78: =SUM(AF78:AI78) -> 488697.3 | AO78: =R78+U78+W78 -> 1.989 | AP78: 0.25 | AQ78: =ROUND(AO78*AP78,4) -> 0.4973 | AR78: =ROUND(AQ78*$D$8,0) -> 1163682 | AT78: =ROUND(AE78-AJ78+AL78+AN78+AR78,0) -> 5329245 | AV78: QĐ Tuyển dụng từ ngày 01/10/2024 | AW78: NN
A79: =_xlfn.AGGREGATE(4,7,A$13:A78)+1 -> 64 | D79: Ôn Thị Ngọc Thảo | E79: Giảng viên khoa Ngoại ngữ | O79: V.09.02.03 | R79: 1.989 | Y79: =ROUND((R79+U79+W79)*X79,4) -> 0 | Z79: =R79+U79+W79+Y79 -> 1.989 | AA79: =ROUND(Z79*$D$8,0) -> 4654260 | AC79: =AA79/24*AB79 -> 0 | AD79: 0 | AE79: =ROUND(AA79-AC79+AD79,0) -> 4654260 | AF79: =AA79*8% -> 372340.8 | AG79: =AA79*1.5% -> 69813.9 | AH79: =AA79*1% -> 46542.6 | AJ79: =SUM(AF79:AI79) -> 488697.3 | AO79: =R79+U79+W79 -> 1.989 | AP79: 0.25 | AQ79: =ROUND(AO79*AP79,4) -> 0.4973 | AR79: =ROUND(AQ79*$D$8,0) -> 1163682 | AT79: =ROUND(AE79-AJ79+AL79+AN79+AR79,0) -> 5329245 | AU79: =A79 -> 64 | AV79: QĐ Tuyển dụng từ 01/01/2024.
B80: =VLOOKUP(D80,[1]LuongBC_T01!$B$9:$C$292,2,FALSE) -> #N/A | D80: CỘNG HỢP ĐỒNG LV LẦN ĐẦU | R80: =SUM(R75:R79) -> 10.225 | T80: =SUM(T146:T146) -> 0 | U80: =SUM(U75:U79) -> 0 | W80: =SUM(W75:W79) -> 0 | X80: =SUM(X75:X79) -> 0 | Y80: =SUM(Y75:Y79) -> 0 | Z80: =SUM(Z75:Z79) -> 10.225 | AA80: =SUM(AA75:AA79) -> 23926500 | AC80: =SUM(AC75:AC79) -> 0 | AD80: =SUM(AD75:AD79) -> 0 | AE80: =SUM(AE75:AE79) -> 23926500 | AF80: =SUM(AF75:AF79) -> 1914120 | AG80: =SUM(AG75:AG79) -> 358897.5 | AH80: =SUM(AH75:AH79) -> 239265 | AJ80: =SUM(AJ75:AJ79) -> 2512282.5 | AK80: =SUM(AK75:AK79) -> 0 | AL80: =SUM(AL75:AL79) -> 0 | AM80: =SUM(AM75:AM79) -> 0 | AN80: =SUM(AN75:AN79) -> 0 | AO80: =SUM(AO75:AO79) -> 10.225 | AP80: =SUM(AP75:AP79) -> 1.25 | AQ80: =SUM(AQ75:AQ79) -> 2.5565 | AR80: =SUM(AR75:AR79) -> 5982210 | AS80: =SUM(#REF!) -> #REF! | AT80: =SUM(AT75:AT79)-2 -> 27396427
B81: =VLOOKUP(D81,[1]LuongBC_T01!$B$9:$C$292,2,FALSE) -> #N/A | D81: C. HỢP ĐỒNG LÀM VIỆC CÓ THỜI HẠN
B82: =VLOOKUP(D82,[1]LuongBC_T01!$B$9:$C$292,2,FALSE) -> #N/A | D82: D. HỢP ĐỒNG LÀM VIỆC KHÔNG THỜI HẠN
A83: =_xlfn.AGGREGATE(4,7,A$13:A82)+1 -> 65 | B83: =VLOOKUP(D83,[1]LuongBC_T01!$B$9:$C$292,2,FALSE) -> 0016100006799005 | C83: 11100096317 | D83: Lưu Hoàng Hải Yến | E83: Phó phòng Tổ chức - Hành chính - Tổng hợp | K83: =VLOOKUP(D83,[2]T3!$B$2:$D$328,3,FALSE) -> 080185000458 | N83: =VLOOKUP(D83,'[6]Bao cao So GDDT'!$D$14:$S$282,11,FALSE) -> Chuyên viên | O83: 01.003 | R83: 3.66 | S83: =U83+W83+Y83 -> 0.35 | U83: =ROUND(R83*T83/100,4) -> 0 | W83: 0.35 | X83: =VLOOKUP(D83,PCTN!D105:W372,20,FALSE) -> 0 | Y83: =ROUND((R83+U83+W83)*X83,4) -> 0 | Z83: =R83+U83+W83+Y83 -> 4.01 | AA83: =ROUND(Z83*$D$8,0) -> 9383400 | AC83: =AA83/24*AB83 -> 0 | AD83: =AA83/24*AB83*75% -> 0 | AE83: =ROUND(AA83-AC83+AD83,0) -> 9383400 | AF83: =AA83*8% -> 750672 | AG83: =AA83*1.5% -> 140751 | AH83: =AA83*1% -> 93834 | AJ83: =SUM(AF83:AI83) -> 985257 | AL83: =AK83*$D$8 -> 0 | AO83: =R83+U83+W83 -> 4.01 | AQ83: =ROUND(AO83*AP83,4) -> 0 | AR83: =ROUND(AQ83*$D$8,0) -> 0 | AT83: =ROUND(AE83-AJ83+AL83+AN83+AR83,0) -> 8398143 | AU83: =A83 -> 65
A84: =_xlfn.AGGREGATE(4,7,A$13:A83)+1 -> 66 | B84: =VLOOKUP(D84,[1]LuongBC_T01!$B$9:$C$292,2,FALSE) -> 0016100006518006 | C84: 11100115713 | D84: Huỳnh Thị Minh Ly | E84: Phó phòng Tổ chức - Hành chính - Tổng hợp | N84: =VLOOKUP(D84,'[6]Bao cao So GDDT'!$D$14:$S$282,11,FALSE) -> Giảng viên GDNN LT (hạng III) | O84: V.09.02.03 | R84: 3 | U84: =ROUND(R84*T84/100,4) -> 0 | W84: 0.35 | X84: 0 | Y84: =ROUND((R84+U84+W84)*X84,4) -> 0 | Z84: =R84+U84+W84+Y84 -> 3.35 | AA84: =ROUND(Z84*$D$8,0) -> 7839000 | AC84: =AA84/24*AB84 -> 0 | AD84: =AA84/24*AB84*75% -> 0 | AE84: =ROUND(AA84-AC84+AD84,0) -> 7839000 | AF84: =AA84*8% -> 627120 | AG84: =AA84*1.5% -> 117585 | AH84: =AA84*1% -> 78390 | AJ84: =SUM(AF84:AI84) -> 823095 | AL84: =AK84*$D$8 -> 0 | AO84: =R84+U84+W84 -> 3.35 | AP84: 0.25 | AQ84: =ROUND(AO84*AP84,4) -> 0.8375 | AR84: =ROUND(AQ84*$D$8,0) -> 1959750 | AT84: =ROUND(AE84-AJ84+AL84+AN84+AR84,0) -> 8975655 | AU84: =A84 -> 66
A85: =_xlfn.AGGREGATE(4,7,A$13:A84)+1 -> 67 | B85: =VLOOKUP(D85,[1]LuongBC_T01!$B$9:$C$292,2,FALSE) -> 0016100006765003 | C85: 40700000887 | D85: Nguyễn Văn Chì | E85: Nhân viên phòng Tổ chức - Hành chính - Tổng hợp | I85: NV | K85: =VLOOKUP(D85,[2]T3!$B$2:$D$328,3,FALSE) -> 025310266 | L85: 1603205280047 | M85: 40700000887 | N85: =VLOOKUP(D85,'[6]Bao cao So GDDT'!$D$14:$S$282,11,FALSE) -> Lưu trữ viên (hạng III) | O85: V.01.02.02 | P85: A1 | Q85: 3 | R85: 3.66 | S85: =U85+W85+Y85 -> 0 | U85: =ROUND(R85*T85/100,4) -> 0 | V85: =R85*T85*$D$8/100 -> 0 | X85: =VLOOKUP(D85,PCTN!D139:W406,20,FALSE) -> 0 | Y85: =ROUND((R85+U85+W85)*X85,4) -> 0 | Z85: =R85+U85+W85+Y85 -> 3.66 | AA85: =ROUND(Z85*$D$8,0) -> 8564400 | AC85: =AA85/24*AB85 -> 0 | AD85: =AA85/24*AB85*75% -> 0 | AE85: =ROUND(AA85-AC85+AD85,0) -> 8564400 | AF85: =AA85*8% -> 685152 | AG85: =AA85*1.5% -> 128466 | AH85: =AA85*1% -> 85644 | AJ85: =SUM(AF85:AI85) -> 899262 | AL85: =AK85*$D$8 -> 0 | AQ85: =ROUND(AO85*AP85,4) -> 0 | AR85: =ROUND(AQ85*$D$8,0) -> 0 | AT85: =ROUND(AE85-AJ85+AL85+AN85+AR85,0) -> 7665138 | AU85: =A85 -> 67
A86: =_xlfn.AGGREGATE(4,7,A$13:A85)+1 -> 68 | B86: =VLOOKUP(D86,[1]LuongBC_T01!$B$9:$C$292,2,FALSE) -> 0016100006864001 | C86: 80500000584 | D86: Nguyễn Thị Vân | E86: Nhân viên phòng Tổ chức - Hành chính - Tổng hợp | K86: =VLOOKUP(D86,[2]T3!$B$2:$D$328,3,FALSE) -> 025575045 | N86: =VLOOKUP(D86,'[6]Bao cao So GDDT'!$D$14:$S$282,11,FALSE) -> Lưu trữ viên (hạng III) | O86: 02.008 | P86: III | Q86: 1 | R86: =2.46+0.15 -> 2.61 | U86: =ROUND(R86*T86/100,4) -> 0 | X86: =VLOOKUP(D86,PCTN!D140:W407,20,FALSE) -> 0 | Y86: =ROUND((R86+U86+W86)*X86,4) -> 0 | Z86: =R86+U86+W86+Y86 -> 2.61 | AA86: =ROUND(Z86*$D$8,0) -> 6107400 | AC86: =AA86/24*AB86 -> 0 | AD86: 0 | AE86: =ROUND(AA86-AC86+AD86,0) -> 6107400 | AF86: =AA86*8% -> 488592 | AG86: =AA86*1.5% -> 91611 | AH86: =AA86*1% -> 61074 | AJ86: =SUM(AF86:AI86) -> 641277 | AL86: =AK86*$D$8 -> 0 | AO86: =R86+U86+W86 -> 2.61 | AQ86: =ROUND(AO86*AP86,4) -> 0 | AR86: =ROUND(AQ86*$D$8,0) -> 0 | AT86: =ROUND(AE86-AJ86+AL86+AN86+AR86,0) -> 5466123 | AU86: =A86 -> 68
A87: =_xlfn.AGGREGATE(4,7,A$13:A86)+1 -> 69 | B87: =VLOOKUP(D87,[1]LuongBC_T01!$B$9:$C$292,2,FALSE) -> 0016100006635002 | C87: 11100082854 | D87: Phan Thị Ngọc Phượng | E87: Nhân viên phòng Tổ chức - Hành chính - Tổng hợp | F87: TC | G87: x | I87: NV | J87: NV188 | K87: =VLOOKUP(D87,[2]T3!$B$2:$D$328,3,FALSE) -> 023547031 | L87: 1603205186162 | M87: 11100082854 | N87: =VLOOKUP(D87,'[6]Bao cao So GDDT'!$D$14:$S$282,11,FALSE) -> Chuyên viên | O87: 01.003 | P87: B | Q87: 6 | R87: 3.99 | S87: =U87+W87+Y87 -> 0 | U87: =ROUND(R87*T87/100,4) -> 0 | V87: =R87*T87*$D$8/100 -> 0 | X87: =VLOOKUP(D87,PCTN!D153:W420,20,FALSE) -> 0 | Y87: =ROUND((R87+U87+W87)*X87,4) -> 0 | Z87: =R87+U87+W87+Y87 -> 3.99 | AA87: =ROUND(Z87*$D$8,0) -> 9336600 | AC87: =AA87/24*AB87 -> 0 | AD87: =AA87/24*AB87*75% -> 0 | AE87: =ROUND(AA87-AC87+AD87,0) -> 9336600 | AF87: =AA87*8% -> 746928 | AG87: =AA87*1.5% -> 140049 | AH87: =AA87*1% -> 93366 | AJ87: =SUM(AF87:AI87) -> 980343 | AL87: =AK87*$D$8 -> 0 | AO87: =R87+U87+W87 -> 3.99 | AQ87: =ROUND(AO87*AP87,4) -> 0 | AR87: =ROUND(AQ87*$D$8,0) -> 0 | AT87: =ROUND(AE87-AJ87+AL87+AN87+AR87,0) -> 8356257 | AU87: =A87 -> 69
A88: =_xlfn.AGGREGATE(4,7,A$13:A87)+1 -> 70 | B88: =VLOOKUP(D88,[1]LuongBC_T01!$B$9:$C$292,2,FALSE) -> 0016100006767006 | C88: 11100115699 | D88: Trần Thị Ánh Phượng | E88: Nhân viên phòng Tổ chức - Hành chính - Tổng hợp | F88: TC | G88: x | I88: NV | K88: =VLOOKUP(D88,[2]T3!$B$2:$D$328,3,FALSE) -> 024306087 | L88: 1603205246134 | M88: 11100115699 | N88: =VLOOKUP(D88,'[6]Bao cao So GDDT'!$D$14:$S$282,11,FALSE) -> Chuyên viên | O88: 01.003 | P88: B | Q88: 6 | R88: 3.66 | S88: =U88+W88+Y88 -> 0 | U88: =ROUND(R88*T88/100,4) -> 0 | V88: =R88*T88*$D$8/100 -> 0 | X88: =VLOOKUP(D88,PCTN!D157:W424,20,FALSE) -> 0 | Y88: =ROUND((R88+U88+W88)*X88,4) -> 0 | Z88: =R88+U88+W88+Y88 -> 3.66 | AA88: =ROUND(Z88*$D$8,0) -> 8564400 | AC88: =AA88/24*AB88 -> 0 | AD88: =AA88/24*AB88*75% -> 0 | AE88: =ROUND(AA88-AC88+AD88,0) -> 8564400 | AF88: =AA88*8% -> 685152 | AG88: =AA88*1.5% -> 128466 | AH88: =AA88*1% -> 85644 | AJ88: =SUM(AF88:AI88) -> 899262 | AL88: =AK88*$D$8 -> 0 | AQ88: =ROUND(AO88*AP88,4) -> 0 | AR88: =ROUND(AQ88*$D$8,0) -> 0 | AT88: =ROUND(AE88-AJ88+AL88+AN88+AR88,0) -> 7665138 | AU88: =A88 -> 70 | AW88: BT
A89: =_xlfn.AGGREGATE(4,7,A$13:A88)+1 -> 71 | B89: =VLOOKUP(D89,[1]LuongBC_T01!$B$9:$C$292,2,FALSE) -> 0016100006549009 | C89: 40700000683 | D89: Thân Thị Nhung | E89: Nhân viên phòng Tổ chức - Hành chính - Tổng hợp | G89: x | I89: NV | K89: =VLOOKUP(D89,[2]T3!$B$2:$D$328,3,FALSE) -> 025877702 | L89: 1603205360856 | M89: 40700000683 | N89: =VLOOKUP(D89,'[6]Bao cao So GDDT'!$D$14:$S$282,11,FALSE) -> Chuyên viên | O89: 01.003 | P89: A0 | Q89: 1 | R89: 3.33 | S89: =U89+W89+Y89 -> 0 | U89: =ROUND(R89*T89/100,4) -> 0 | V89: =R89*T89*$D$8/100 -> 0 | X89: =VLOOKUP(D89,PCTN!D147:W414,20,FALSE) -> 0 | Y89: =ROUND((R89+U89+W89)*X89,4) -> 0 | Z89: =R89+U89+W89+Y89 -> 3.33 | AA89: =ROUND(Z89*$D$8,0) -> 7792200 | AC89: =AA89/24*AB89 -> 0 | AD89: 0 | AE89: =ROUND(AA89-AC89+AD89,0) -> 7792200 | AF89: =AA89*8% -> 623376 | AG89: =AA89*1.5% -> 116883 | AH89: =AA89*1% -> 77922 | AJ89: =SUM(AF89:AI89) -> 818181 | AL89: =AK89*$D$8 -> 0 | AO89: =R89+U89+W89 -> 3.33 | AQ89: =ROUND(AO89*AP89,4) -> 0 | AR89: =ROUND(AQ89*$D$8,0) -> 0 | AT89: =ROUND(AE89-AJ89+AL89+AN89+AR89,0) -> 6974019 | AU89: =A89 -> 71 | AW89: QĐ Tuyển dụng VC từ 01/12/13. Lập bảng truy lãnh riêng, cập nhật BL T8/2014
A90: =_xlfn.AGGREGATE(4,7,A$13:A89)+1 -> 72 | B90: =VLOOKUP(D90,[1]LuongBC_T01!$B$9:$C$292,2,FALSE) -> 0016100006576006 | C90: 11100071604 | D90: Trần Thị Phương Oanh | E90: Nhân viên phòng Tổ chức - Hành chính - Tổng hợp | F90: ĐH | G90: x | I90: NV | J90: NV202 | K90: =VLOOKUP(D90,[2]T3!$B$2:$D$328,3,FALSE) -> 023681257 | L90: 1603205178794 | M90: 11100071604 | N90: Chuyên viên | O90: 01.003 | P90: B | Q90: 6 | R90: 3.66 | S90: =U90+W90+Y90 -> 0 | U90: =ROUND(R90*T90/100,4) -> 0 | V90: =R90*T90*$D$8/100 -> 0 | X90: =VLOOKUP(D90,PCTN!D152:W419,20,FALSE) -> 0 | Y90: =ROUND((R90+U90+W90)*X90,4) -> 0 | Z90: =R90+U90+W90+Y90 -> 3.66 | AA90: =ROUND(Z90*$D$8,0) -> 8564400 | AC90: =AA90/24*AB90 -> 0 | AD90: =AA90/24*AB90*75% -> 0 | AE90: =ROUND(AA90-AC90+AD90,0) -> 8564400 | AF90: =AA90*8% -> 685152 | AG90: =AA90*1.5% -> 128466 | AH90: =AA90*1% -> 85644 | AJ90: =SUM(AF90:AI90) -> 899262 | AL90: =AK90*$D$8 -> 0 | AQ90: =ROUND(AO90*AP90,4) -> 0 | AR90: =ROUND(AQ90*$D$8,0) -> 0 | AT90: =ROUND(AE90-AJ90+AL90+AN90+AR90,0) -> 7665138 | AU90: =A90 -> 72 | AW90: Ghi chú: Nghỉ việc hưởng chế độ BHXH từ 20/5/2016 đến 06/7/2016Tháng 5 + Tháng 6/2016 chưa trừ lương
A91: =_xlfn.AGGREGATE(4,7,A$13:A90)+1 -> 73 | D91: Lê Thị Hải Đăng | E91: Nhân viên phòng Khoa học công nghệ và HTQT | O91: 01.003 | R91: 3.66 | U91: =ROUND(R91*T91/100,4) -> 0 | V91: =R91*T91*$D$8/100 -> 0 | Y91: =ROUND((R91+U91+W91)*X91,4) -> 0 | Z91: =R91+U91+W91+Y91 -> 3.66 | AA91: =ROUND(Z91*$D$8,0) -> 8564400 | AC91: =AA91/24*AB91 -> 0 | AD91: =AA91/24*AB91*75% -> 0 | AE91: =ROUND(AA91-AC91+AD91,0) -> 8564400 | AF91: =AA91*8% -> 685152 | AG91: =AA91*1.5% -> 128466 | AH91: =AA91*1% -> 85644 | AJ91: =SUM(AF91:AI91) -> 899262 | AL91: =AK91*$D$8 -> 0 | AQ91: =ROUND(AO91*AP91,4) -> 0 | AR91: =ROUND(AQ91*$D$8,0) -> 0 | AT91: =ROUND(AE91-AJ91+AL91+AN91+AR91,0) -> 7665138 | AU91: =A91 -> 73 | AW91: Thuyên chuyển từ Trường Giao thông Vận tải về từ ngày 01/04/2023
A92: =_xlfn.AGGREGATE(4,7,A$13:A91)+1 -> 74 | B92: =VLOOKUP(D92,[1]LuongBC_T01!$B$9:$C$292,2,FALSE) -> 0016100006771003 | C92: 11100082861 | D92: Vũ Như Quỳnh | E92: Nhân viên phòng Tổ chức - Hành chính - Tổng hợp | F92: ĐH | G92: x | I92: NV | J92: NV189 | K92: 031181011700 | L92: 1603205186127 | M92: 11100082861 | N92: =VLOOKUP(D92,'[6]Bao cao So GDDT'!$D$14:$S$282,11,FALSE) -> Kế toán viên | O92: 06.031 | P92: A1 | Q92: 3 | R92: 3.99 | S92: =U92+W92+Y92 -> 0 | U92: =ROUND(R92*T92/100,4) -> 0 | V92: =R92*T92*$D$8/100 -> 0 | X92: =VLOOKUP(D92,PCTN!D159:W426,20,FALSE) -> 0 | Y92: =ROUND((R92+U92+W92)*X92,4) -> 0 | Z92: =R92+U92+W92+Y92 -> 3.99 | AA92: =ROUND(Z92*$D$8,0) -> 9336600 | AC92: =AA92/24*AB92 -> 0 | AD92: =AA92/24*AB92*75% -> 0 | AE92: =ROUND(AA92-AC92+AD92,0) -> 9336600 | AF92: =AA92*8% -> 746928 | AG92: =AA92*1.5% -> 140049 | AH92: =AA92*1% -> 93366 | AJ92: =SUM(AF92:AI92) -> 980343 | AL92: =AK92*$D$8 -> 0 | AO92: =R92+U92+W92 -> 3.99 | AQ92: =ROUND(AO92*AP92,4) -> 0 | AR92: =ROUND(AQ92*$D$8,0) -> 0 | AT92: =ROUND(AE92-AJ92+AL92+AN92+AR92,0) -> 8356257 | AU92: =A92 -> 74 | AW92: Nghỉ hộ sản hưởng BHXH, đi làm lại từ 04/5/2018. Nhập lại trên BL T5/2018.
A93: =_xlfn.AGGREGATE(4,7,A$13:A92)+1 -> 75 | B93: =VLOOKUP(D93,[1]LuongBC_T01!$B$9:$C$292,2,FALSE) -> 0016100006663006 | C93: 40400000515 | D93: Nguyễn Thị Bích Liễu | E93: Nhân viên phòng Tổ chức - Hành chính - Tổng hợp | G93: x | K93: =VLOOKUP(D93,[2]T3!$B$2:$D$328,3,FALSE) -> 024419690 | L93: 1603205249292 | M93: 40400000515 | N93: =VLOOKUP(D93,'[6]Bao cao So GDDT'!$D$14:$S$282,11,FALSE) -> Kỹ thuật viên (hạng IV) | O93: V.05.02.08 | P93: B | Q93: 3 | R93: 3.46 | S93: =U93+W93+Y93 -> 0 | U93: =ROUND(R93*T93/100,4) -> 0 | V93: =R93*T93*$D$8/100 -> 0 | X93: =VLOOKUP(D93,PCTN!D166:W433,20,FALSE) -> 0 | Y93: =ROUND((R93+U93+W93)*X93,4) -> 0 | Z93: =R93+U93+W93+Y93 -> 3.46 | AA93: =ROUND(Z93*$D$8,0) -> 8096400 | AC93: =AA93/24*AB93 -> 0 | AD93: =AA93/24*AB93*75% -> 0 | AE93: =ROUND(AA93-AC93+AD93,0) -> 8096400 | AF93: =AA93*8% -> 647712 | AG93: =AA93*1.5% -> 121446 | AH93: =AA93*1% -> 80964 | AJ93: =SUM(AF93:AI93) -> 850122 | AL93: =AK93*$D$8 -> 0 | AQ93: =ROUND(AO93*AP93,4) -> 0 | AR93: =ROUND(AQ93*$D$8,0) -> 0 | AT93: =ROUND(AE93-AJ93+AL93+AN93+AR93,0) -> 7246278 | AU93: =A93 -> 75 | AW93: =#REF!*2 -> #REF!
A94: =_xlfn.AGGREGATE(4,7,A$13:A93)+1 -> 76 | B94: =VLOOKUP(D94,[1]LuongBC_T01!$B$9:$C$292,2,FALSE) -> 0016100006690003 | C94: 11100115706 | D94: Ninh Đỗ Hiệp | E94: Nhân viên phòng Quản trị - Dịch vụ | F94: TC | I94: NV | K94: =VLOOKUP(D94,[2]T3!$B$2:$D$328,3,FALSE) -> 025211587 | L94: 1603205245965 | M94: 11100115706 | N94: =VLOOKUP(D94,'[6]Bao cao So GDDT'!$D$14:$S$282,11,FALSE) -> Chuyên viên | O94: 01.003 | P94: A1 | Q94: 2 | R94: 3.66 | S94: =U94+W94+Y94 -> 0 | U94: =ROUND(R94*T94/100,4) -> 0 | V94: =R94*T94*$D$8/100 -> 0 | X94: =VLOOKUP(D94,PCTN!D137:W404,20,FALSE) -> 0 | Y94: =ROUND((R94+U94+W94)*X94,4) -> 0 | Z94: =R94+U94+W94+Y94 -> 3.66 | AA94: =ROUND(Z94*$D$8,0) -> 8564400 | AC94: =AA94/24*AB94 -> 0 | AD94: 0 | AE94: =ROUND(AA94-AC94+AD94,0) -> 8564400 | AF94: =AA94*8% -> 685152 | AG94: =AA94*1.5% -> 128466 | AH94: =AA94*1% -> 85644 | AJ94: =SUM(AF94:AI94) -> 899262 | AL94: =AK94*$D$8 -> 0 | AQ94: =ROUND(AO94*AP94,4) -> 0 | AR94: =ROUND(AQ94*$D$8,0) -> 0 | AT94: =ROUND(AE94-AJ94+AL94+AN94+AR94,0) -> 7665138 | AU94: =A94 -> 76 | AW94: BT
A95: =_xlfn.AGGREGATE(4,7,A$13:A94)+1 -> 77 | B95: =VLOOKUP(D95,[1]LuongBC_T01!$B$9:$C$292,2,FALSE) -> 0016100006505001 | C95: 11100083294 | D95: Nguyễn Trọng Phú | E95: Tổ trưởng tổ sửa chữa cơ bản - P.QTDV | F95: CĐ | I95: NV | J95: NV195 | K95: =VLOOKUP(D95,[2]T3!$B$2:$D$328,3,FALSE) -> 024783702 | L95: 1603205185935 | M95: 11100083294 | N95: =VLOOKUP(D95,'[6]Bao cao So GDDT'!$D$14:$S$282,11,FALSE) -> Cán sự | O95: 01.004 | P95: A0 | Q95: 3 | R95: 3.65 | S95: =U95+W95+Y95 -> 0.25 | U95: =ROUND(R95*T95/100,4) -> 0 | V95: =R95*T95*$D$8/100 -> 0 | W95: 0.25 | X95: =VLOOKUP(D95,PCTN!D131:W398,20,FALSE) -> 0 | Y95: =ROUND((R95+U95+W95)*X95,4) -> 0 | Z95: =R95+U95+W95+Y95 -> 3.9 | AA95: =ROUND(Z95*$D$8,0) -> 9126000 | AC95: =AA95/24*AB95 -> 0 | AD95: =AA95/24*AB95*75% -> 0 | AE95: =ROUND(AA95-AC95+AD95,0) -> 9126000 | AF95: =AA95*8% -> 730080 | AG95: =AA95*1.5% -> 136890 | AH95: =AA95*1% -> 91260 | AJ95: =SUM(AF95:AI95) -> 958230 | AL95: =AK95*$D$8 -> 0 | AO95: =R95+U95+W95 -> 3.9 | AQ95: =ROUND(AO95*AP95,4) -> 0 | AR95: =ROUND(AQ95*$D$8,0) -> 0 | AT95: =ROUND(AE95-AJ95+AL95+AN95+AR95,0) -> 8167770 | AU95: =A95 -> 77
A96: =_xlfn.AGGREGATE(4,7,A$13:A95)+1 -> 78 | B96: =VLOOKUP(D96,[1]LuongBC_T01!$B$9:$C$292,2,FALSE) -> 0016100006493003 | C96: 40900000037 | D96: Lê Hồng Anh Tuấn | E96: Nhân viên phòng Quản trị - Dịch vụ | I96: NV | K96: =VLOOKUP(D96,[2]T3!$B$2:$D$328,3,FALSE) -> 024698782 | L96: 1603205348129 | M96: 40900000037 | N96: =VLOOKUP(D96,'[6]Bao cao So GDDT'!$D$14:$S$282,11,FALSE) -> Cán sự | O96: 01.004 | P96: A0 | Q96: 1 | R96: 3.34 | S96: =U96+W96+Y96 -> 0 | U96: =ROUND(R96*T96/100,4) -> 0 | V96: =R96*T96*$D$8/100 -> 0 | X96: =VLOOKUP(D96,PCTN!D145:W412,20,FALSE) -> 0 | Y96: =ROUND((R96+U96+W96)*X96,4) -> 0 | Z96: =R96+U96+W96+Y96 -> 3.34 | AA96: =ROUND(Z96*$D$8,0) -> 7815600 | AC96: =AA96/24*AB96 -> 0 | AD96: 0 | AE96: =ROUND(AA96-AC96+AD96,0) -> 7815600 | AF96: =AA96*8% -> 625248 | AG96: =AA96*1.5% -> 117234 | AH96: =AA96*1% -> 78156 | AJ96: =SUM(AF96:AI96) -> 820638 | AL96: =AK96*$D$8 -> 0 | AQ96: =ROUND(AO96*AP96,4) -> 0 | AR96: =ROUND(AQ96*$D$8,0) -> 0 | AT96: =ROUND(AE96-AJ96+AL96+AN96+AR96,0) -> 6994962 | AU96: =A96 -> 78
A97: =_xlfn.AGGREGATE(4,7,A$13:A96)+1 -> 79 | B97: =VLOOKUP(D97,[1]LuongBC_T01!$B$9:$C$292,2,FALSE) -> 0016100006678003 | C97: 40800000301 | D97: Nguyễn Tiến Việt Dũng | E97: Nhân viên phòng Quản trị - Dịch vụ | I97: NV | K97: =VLOOKUP(D97,[2]T3!$B$2:$D$328,3,FALSE) -> 024647632 | L97: 1603205357238 | M97: 40800000301 | N97: =VLOOKUP(D97,'[6]Bao cao So GDDT'!$D$14:$S$282,11,FALSE) -> Cán sự | O97: 01.004 | P97: A0 | Q97: 1 | R97: 3.34 | S97: =U97+W97+Y97 -> 0 | U97: =ROUND(R97*T97/100,4) -> 0 | V97: =R97*T97*$D$8/100 -> 0 | X97: =VLOOKUP(D97,PCTN!D146:W413,20,FALSE) -> 0 | Y97: =ROUND((R97+U97+W97)*X97,4) -> 0 | Z97: =R97+U97+W97+Y97 -> 3.34 | AA97: =ROUND(Z97*$D$8,0) -> 7815600 | AC97: =AA97/24*AB97 -> 0 | AD97: 0 | AE97: =ROUND(AA97-AC97+AD97,0) -> 7815600 | AF97: =AA97*8% -> 625248 | AG97: =AA97*1.5% -> 117234 | AH97: =AA97*1% -> 78156 | AJ97: =SUM(AF97:AI97) -> 820638 | AL97: =AK97*$D$8 -> 0 | AQ97: =ROUND(AO97*AP97,4) -> 0 | AR97: =ROUND(AQ97*$D$8,0) -> 0 | AT97: =ROUND(AE97-AJ97+AL97+AN97+AR97,0) -> 6994962 | AU97: =A97 -> 79
A98: =_xlfn.AGGREGATE(4,7,A$13:A97)+1 -> 80 | B98: =VLOOKUP(D98,[1]LuongBC_T01!$B$9:$C$292,2,FALSE) -> 0016100006679007 | C98: 40800000327 | D98: Bùi Đặng Hoàng Tuấn | E98: Nhân viên Phòng Quản trị - Dịch vụ | I98: NV | K98: =VLOOKUP(D98,[2]T3!$B$2:$D$328,3,FALSE) -> 079086004027 | L98: 1603205302590 | M98: 40800000327 | N98: =VLOOKUP(D98,'[6]Bao cao So GDDT'!$D$14:$S$282,11,FALSE) -> Cán sự | O98: 01.004 | P98: A0 | Q98: 2 | R98: 3.34 | S98: =U98+W98+Y98 -> 0 | U98: =ROUND(R98*T98/100,4) -> 0 | V98: =R98*T98*$D$8/100 -> 0 | W98: 0 | X98: =VLOOKUP(D98,PCTN!D132:W399,20,FALSE) -> 0 | Y98: =ROUND((R98+U98+W98)*X98,4) -> 0 | Z98: =R98+U98+W98+Y98 -> 3.34 | AA98: =ROUND(Z98*$D$8,0) -> 7815600 | AC98: =AA98/24*AB98 -> 0 | AD98: =AA98/24*AB98*75% -> 0 | AE98: =ROUND(AA98-AC98+AD98,0) -> 7815600 | AF98: =AA98*8% -> 625248 | AG98: =AA98*1.5% -> 117234 | AH98: =AA98*1% -> 78156 | AJ98: =SUM(AF98:AI98) -> 820638 | AL98: =AK98*$D$8 -> 0 | AQ98: =ROUND(AO98*AP98,4) -> 0 | AR98: =ROUND(AQ98*$D$8,0) -> 0 | AT98: =ROUND(AE98-AJ98+AL98+AN98+AR98,0) -> 6994962 | AU98: =A98 -> 80
A99: =_xlfn.AGGREGATE(4,7,A$13:A98)+1 -> 81 | B99: =VLOOKUP(D99,[1]LuongBC_T01!$B$9:$C$292,2,FALSE) -> 0016100006770007 | C99: 80600000454 | D99: Nguyễn Cao Thắng | E99: Phó Giám đốc TT Đào tạo Lý Tự Trọng | K99: 079084013225 | N99: =VLOOKUP(D99,'[6]Bao cao So GDDT'!$D$14:$S$282,11,FALSE) -> Kỹ sư (hạng III) | O99: V.05.02.07 | R99: 3 | S99: =U99+W99+Y99 -> 0.35 | U99: =ROUND(R99*T99/100,4) -> 0 | V99: =R99*T99*$D$8/100 -> 0 | W99: 0.35 | X99: =VLOOKUP(D99,PCTN!D168:W435,20,FALSE) -> 0 | Y99: =ROUND((R99+U99+W99)*X99,4) -> 0 | Z99: =R99+U99+W99+Y99 -> 3.35 | AA99: =ROUND(Z99*$D$8,0) -> 7839000 | AC99: =AA99/24*AB99 -> 0 | AD99: =AA99/24*AB99*75% -> 0 | AE99: =ROUND(AA99-AC99+AD99,0) -> 7839000 | AF99: =AA99*8% -> 627120 | AG99: =AA99*1.5% -> 117585 | AH99: =AA99*1% -> 78390 | AJ99: =SUM(AF99:AI99) -> 823095 | AL99: =AK99*$D$8 -> 0 | AQ99: =ROUND(AO99*AP99,4) -> 0 | AR99: =ROUND(AQ99*$D$8,0) -> 0 | AT99: =ROUND(AE99-AJ99+AL99+AN99+AR99,0) -> 7015905 | AU99: =A99 -> 81
A100: =_xlfn.AGGREGATE(4,7,A$13:A99)+1 -> 82 | B100: =VLOOKUP(D100,[1]LuongBC_T01!$B$9:$C$292,2,FALSE) -> 0016100006511001 | C100: 701191100000289342 | D100: Võ Tấn Kiệt | E100: Nhân viên phòng Quản trị - Dịch vụ | N100: =VLOOKUP(D100,'[6]Bao cao So GDDT'!$D$14:$S$282,11,FALSE) -> Kỹ sư (hạng III) | O100: V.05.02.07 | R100: 2.67 | U100: =ROUND(R100*T100/100,4) -> 0 | X100: 0 | Y100: =ROUND((R100+U100+W100)*X100,4) -> 0 | Z100: =R100+U100+W100+Y100 -> 2.67 | AA100: =ROUND(Z100*$D$8,0) -> 6247800 | AC100: =AA100/24*AB100 -> 0 | AD100: =AA100/24*AB100*75% -> 0 | AE100: =ROUND(AA100-AC100+AD100,0) -> 6247800 | AF100: =AA100*8% -> 499824 | AG100: =AA100*1.5% -> 93717 | AH100: =AA100*1% -> 62478 | AJ100: =SUM(AF100:AI100) -> 656019 | AL100: =AK100*$D$8 -> 0 | AO100: =R100+U100+W100 -> 2.67 | AQ100: =ROUND(AO100*AP100,4) -> 0 | AR100: =ROUND(AQ100*$D$8,0) -> 0 | AT100: =ROUND(AE100-AJ100+AL100+AN100+AR100,0) -> 5591781 | AU100: =A100 -> 82
...

Sheet BĐC-BC T08.2024
A1: ỦY BAN NHÂN DÂN TP. HỒ CHÍ MINH | N1: CỘNG HÒA XÃ HỘI CHỦ NGHĨA VIỆT NAM
A2: TRƯỜNG CAO ĐẲNG LÝ TỰ TRỌNG TP. HCM | N2: Độc lập - Tự do - Hạnh phúc
A4: BẢNG ĐIỀU CHỈNH THAY ĐỔI LƯƠNG CỦA CÁN BỘ, VIÊN CHỨC - THÁNG 11/2024
A6: TT | B6: STT TRÊN BẢNG LƯƠNG | D6: LOẠI, HẠNG VC | E6: HỌ VÀ TÊN | F6: Bảng lương tháng 10/2024 | N6: Bảng lương tháng 11/2024 | V6: GHI CHÚ
F7: Ngạch | G7: Hệ số | I7: Hệ số TNVK | J7: Hệ số PCCV | L7: Hệ số PC TNNG | M7: Hệ số PC khác | N7: Ngạch | O7: Hệ số | Q7: Hệ số TNVK | R7: Hệ số PCCV | T7: Hệ số PC TNNG | U7: Hệ số PC khác
A8: 01 | B8: 02 | C8: Hide | D8: 03 | E8: 04 | F8: 05 | G8: 06 | H8: Hide | I8: 07 | J8: 08 | K8: Hide | L8: 09 | M8: 10 | N8: 11 | O8: 12 | P8: Hide | Q8: 13 | R8: 14 | S8: Hide | T8: 15 | U8: 16 | V8: 17
A9: 01 | B9: 02 | E9: Đinh Văn Đệ | F9: V.09.02.03 | G9: 4.98 | H9: 0.07 | I9: =G9*H9 -> 0.3486 | J9: 0.9 | K9: 0.22 | L9: =(G9+I9+J9)*K9 -> 1.370292 | M9: 25% PCƯĐ | N9: V.09.02.03 | O9: 4.98 | P9: 0.07 | Q9: =O9*P9 -> 0.3486 | R9: 0.9 | S9: 0.23 | T9: =(O9+Q9+R9)*S9 -> 1.432578 | U9: 25% PCƯĐ | V9: QĐ Nâng 1% phụ cấp thâm niên nhà giáo từ 01/10/2024, lập bảng truy lãnh riêng, cập nhật BL tháng 11/2024
A10: 02 | B10: 03 | E10: Châu Văn Bảo | F10: V.09.02.03 | G10: 4.98 | I10: =G10*H10 -> 0 | J10: 0.7 | K10: 0.21 | L10: =(G10+I10+J10)*K10 -> 1.1928 | M10: 25% PCƯĐ | N10: V.09.02.03 | O10: 4.98 | Q10: =O10*P10 -> 0 | R10: 0.7 | S10: 0.22 | T10: =(O10+Q10+R10)*S10 -> 1.2496 | U10: 25% PCƯĐ | V10: QĐ Nâng 1% phụ cấp thâm niên nhà giáo từ 01/9/2024, lập bảng truy lãnh riêng, cập nhật BL tháng 11/2024
A11: 03 | B11: 18 | E11: Phạm Thị Thanh Thúy | F11: V.09.02.03 | G11: 4.98 | H11: 0.05 | I11: =G11*H11 -> 0.249 | K11: 0.22 | L11: =(G11+I11+J11)*K11 -> 1.15038 | M11: 25% PCƯĐ | N11: V.09.02.03 | O11: 4.98 | P11: 0.06 | Q11: =P11*O11 -> 0.2988 | S11: 0.11 | T11: =(O11+Q11+R11)*S11 -> 0.580668 | U11: 25% PCƯĐ | V11: QĐ Nâng phụ cấp thâm niên vượt khung từ ngày 01/11/2024
A12: 04 | B12: 31 | E12: Đỗ Thị Phương Khanh | F12: V.09.02.03 | G12: 4.98 | H12: 0.07 | I12: =G12*H12 -> 0.3486 | K12: 0.24 | L12: =(G12+I12+J12)*K12 -> 1.278864 | M12: 25% PCƯĐ | N12: V.09.02.03 | O12: 4.98 | P12: 0.07 | Q12: =P12*O12 -> 0.3486 | S12: 0.25 | T12: =(O12+Q12+R12)*S12 -> 1.33215 | U12: 25% PCƯĐ | V12: QĐ Nâng 1% phụ cấp thâm niên nhà giáo từ ngày 01/11/2024
A13: 05 | B13: 79 | E13: Nguyễn Tiến Việt Dũng | F13: 01.004 | G13: 3.03 | N13: 01.004 | O13: 3.34 | V13: QĐ Nâng lương thường xuyên từ ngày 01/11/2024
A14: 06 | B14: 109 | E14: Nguyễn Thành Nam | F14: V.07.01.02 | G14: 4.74 | I14: =G14*H14 -> 0 | J14: 0.45 | K14: 0.19 | L14: =(G14+I14+J14)*K14 -> 0.9861 | M14: 25% PCƯĐ | N14: V.07.01.02 | O14: 4.74 | Q14: =P14*O14 -> 0 | R14: 0.45 | S14: 0.2 | T14: =(O14+Q14+R14)*S14 -> 1.038 | U14: 25% PCƯĐ | V14: QĐ Nâng 1% phụ cấp thâm niên nhà giáo từ ngày 01/11/2024
A15: 07 | B15: 112 | E15: Nguyễn Hữu Thiện | F15: V.09.02.03 | G15: 3.66 | I15: =G15*H15 -> 0 | J15: 0.45 | K15: 0.11 | L15: =(G15+I15+J15)*K15 -> 0.4521 | M15: 25% PCƯĐ | N15: V.09.02.03 | O15: 3.66 | R15: 0.45 | S15: 0.12 | T15: =(O15+Q15+R15)*S15 -> 0.4932 | U15: 25% PCƯĐ | V15: QĐ Nâng 1% phụ cấp thâm niên nhà giáo từ ngày 01/11/2024
A16: 08 | B16: 125 | E16: Nguyễn Huỳnh Lưu Phương | F16: V.09.02.03 | I16: =G16*H16 -> 0 | N16: V.09.02.03 | O16: 3.66 | S16: 0.11 | T16: =(O16+Q16+R16)*S16 -> 0.4026 | U16: 25% PCƯĐ | V16: Hết thời gian nghỉ không hưởng lương đi làm lại từ ngày 01/11/2024. Nhập lại bảng lương tháng 11/2024
A17: 09 | B17: 132 | E17: Lê Hồng Ngọc My | F17: V.09.02.03 | G17: 3 | M17: 25% PCƯĐ | N17: V.09.02.03 | O17: 3 | S17: 0.05 | T17: =(O17+Q17+R17)*S17 -> 0.15 | U17: 25% PCƯĐ | V17: QĐ Hưởng phụ cấp thâm niên nhà giáo lần đầu từ ngày 01/11/2024
A18: 10 | B18: 139 | E18: Nguyễn Hoàng Thanh Ngân | F18: V.09.02.03 | G18: 2.34 | I18: =G18*H18 -> 0 | N18: V.09.02.03 | O18: 40% HS 2,34 | V18: QĐ số 495/QĐ-UBND ngày 20 tháng 02 năm 2023 về cử viên chức Nguyễn Hoàng Thanh Ngân đi học nghiên cứu sinh tại Trường ĐHQG Khoa học và Công nghệ Cao Hùng, Đài Loan (Trung Quốc). Hưởng 40% lương
A19: 11 | B19: 144 | E19: Chế Vân Cầm | F19: V.09.02.03 | G19: 3.33 | I19: =G19*H19 -> 0 | K19: 0.09 | L19: =(G19+I19+J19)*K19 -> 0.2997 | M19: 25% PCƯĐ | N19: V.09.02.03 | V19: Nghỉ hộ sản hưởng chế độ BHXH từ ngày 28/10/2024. Trừ trên BL T11+12/24 và T1+2+3+4/25
A20: 12 | B20: 149 | E20: Ngô Thanh Điền | F20: V.07.01.03 | G20: 4.32 | I20: =G20*H20 -> 0 | K20: 0.21 | L20: =(G20+I20+J20)*K20 -> 0.9072 | M20: 25% PCƯĐ | N20: V.07.01.03 | O20: 4.32 | Q20: =P20*O20 -> 0 | S20: 0.21 | T20: =(O20+Q20+R20)*S20 -> 0.9072 | U20: 25% PCƯĐ | V20: QĐ Nâng 1% phụ cấp thâm niên nhà giáo từ ngày 01/11/2024
A21: 13 | B21: 155 | E21: Lê Văn Bình | F21: V.07.01.03 | G21: 3.66 | I21: =G21*H21 -> 0 | K21: 0.1 | L21: =(G21+I21+J21)*K21 -> 0.366 | M21: 25% PCƯĐ | N21: V.07.01.03 | O21: 3.66 | Q21: =P21*O21 -> 0 | S21: 0.11 | T21: =(O21+Q21+R21)*S21 -> 0.4026 | U21: 25% PCƯĐ | V21: QĐ Nâng 1% phụ cấp thâm niên nhà giáo từ ngày 01/11/2024
A22: 14 | B22: 203 | E22: Nguyễn Duy Lộc | F22: V.09.02.03 | G22: 1.989 | I22: =G22*H22 -> 0 | K22: 0 | L22: =(G22+I22+J22)*K22 -> 0 | M22: 25% PCƯĐ | N22: V.09.02.03 | O22: 2.34 | Q22: =P22*O22 -> 0 | S22: 0 | T22: =(O22+Q22+R22)*S22 -> 0 | U22: 25% PCƯĐ | V22: QĐ Bổ nhiệm chức danh nghề nghiệp từ ngày 01/09/2024
A23: 15 | B23: 263 | E23: Nguyễn Thanh Dũng | F23: V.09.02.03 | G23: 3.33 | I23: =G23*H23 -> 0 | K23: 0.06 | L23: =(G23+I23+J23)*K23 -> 0.1998 | M23: 25% PCƯĐ | N23: V.09.02.03 | O23: 3.33 | Q23: =P23*O23 -> 0 | S23: 0.07 | T23: =(O23+Q23+R23)*S23 -> 0.2331 | U23: 25% PCƯĐ | V23: QĐ Nâng 1% phụ cấp thâm niên nhà giáo từ ngày 01/11/2024
A24: 16 | E24: Phạm Hữu Lộc | N24: V.07.01.02 | O24: 5.76 | S24: 0.37 | T24: =(O24+Q24+R24)*S24 -> 2.1312 | U24: 25% PCƯĐ | V24: QĐ số 4648/QĐ-UBND ngày 18 tháng 10 năm 2024 về việc BN ông Phạm Hữu Lộc Hiệu trưởng Trường CĐ Lý Tự Trọng làm Hiệu trưởng Trường CĐ Thủ Đức từ ngày 18/10/2024. Ông Lộc không còn tên trên BL T11/2024 của Trường.
A25: 17 | E25: Nguyễn Thanh Sơn | N25: 01.003 | O25: 4.98 | P25: 0.2 | V25: QĐ số 469/QĐ-LTT-TC ngày 14 tháng 8 năm 2024 về việc nghỉ việc hưởng chế độ hưu trí đối với ông Nguyễn Thanh Sơn từ ngày 01/11/2024. Ông Sơn không còn tên trên BL T11/2004 của Trường.
E27: Ghi chú: Bảng lương T07/2023 áp dụng mức lương cơ sở theo Nghị định 24/2023/NĐ-CP ngày 04/5/2023
V28: Thành phố Hồ Chí Minh, ngày 01 tháng 11 năm 2024
U29: KT. HIỆU TRƯỞNG
A30: NGƯỜI LẬP BIỂU | G30: KẾ TOÁN TRƯỞNG | U30: PHÓ HIỆU TRƯỞNG
