Workbook

Sheet Mau 1
A1: TRƯỜNG CAO ĐẲNG LÝ TỰ TRỌNG THÀNH PHỐ HỒ CHÍ MINH PHÒNG KẾ HOẠCH - TÀI CHÍNH | D1: CỘNG HÒA XÃ HỘI CHỦ NGHĨA VIỆT NAM Độc lập - Tự do - Hạnh phúc
G2: Mẫu 1
A3: BẢNG TỔNG HỢP CÔNG VIỆC ĐỘT XUẤT ĐÃ THỰC HIỆN THÁNG 04/2025
A6: TT | B6: Nội dung công việc | C6: Số lượng người tham gia thực hiện | D6: Tên người tham gia thực hiện | E6: Thời gian thực hiện | F6: Kết quả thực hiện | G6: Ghi chú
A7: I. | B7: Công việc đột xuất của Trường
A8: Nhiệm vụ 1 | B8: Phối hợp nhà trường thực hiện báo cáo sơ kết Phong trào thi đua “Đẩy mạnh phát triển kết cấu hạ tầng đồng bộ, hiện đại; thực hành tiết kiệm chống lãnh phí” trên địa bàn Thành phố, giai đoạn 2022-2025 | C8: 3 | D8: Kính, Thắng, Trân | E8: Tháng 04/2025 | F8: Đã thực hiện
A9: Nhiệm vụ 2 | B9: Thực hiện công văn số 764/DDCN-BD9H ngày 04/4/2025 về lập báo cáo điều chỉnh chủ trương đầu tư dự án Xây dựng mới Phân Hiệu trường Cao đẳng Kỹ thuật Lý Tự Trọng TP. Hồ Chí Minh tại huyện Củ Chi | C9: 4 | D9: Kính, Thắng, Trân, Ý | E9: Tháng 04/2025 | F9: Đã thực hiện
A10: Nhiệm vụ 3 | B10: Thực hiện Kế hoạch Đoàn kiểm tra theo Quyết định số 875/QĐ-SGDĐT ngày 11/4/2024 của Giám đốc Sở GDĐT Tiến hành kiểm tra đột xuất việc triển khai thực hiện chức năng, nhiệm vụ của Trường Cao đẳng Lý Tự Trọng TP. Hồ Chí Minh (P. KH-TC đã thực hiện việc giải trình, cung cấp số liệu, hồ sơ, sổ sách đầy đủ cho đoàn Thanh tra) | C10: 7 | D10: Kính, Dung, Thoa, Trân, Vân, Thắng, Ý | E10: Tháng 04/2025 | F10: Đang thực hiện
A11: Nhiệm vụ 4 | B11: Thực hiện công văn số 253/KHB-NV3 ngày 11/4/2025 về xử lý tài khoản dự án tham gia Chương trình Kích cầu đầu tự của Thành phố Hồ Chí Minh | C11: 3 | D11: Kính, Dung, Vân | E11: Tháng 04/2025 | F11: Đang thực hiện
A12: Nhiệm vụ 5 | B12: Thực hiện công tác đăng hồ sơ thầu qua mạng các gói thầu: “vật tư thực tập học kỳ 2 NH 2024-2025” bổ sung K. CNTT và các gói thầu mua sắm, sửa chữa thuộc gói “Chỉ định thầu | C12: 4 | D12: Kính, Thoa, Trân, Ý | E12: Tháng 04/2025 | F12: Đã thực hiện
A13: Nhiệm vụ 6 | B13: Đoàn thẩm định mua sắm, sửa chữa sẽ bổ sung kiểm tra việc trường có thực hiện lập hồ sơ đúng trình tự, thủ tục khi thực hiện khai thác tài sản công tại Công văn số 421/SGDĐT-KHTC (P. KH-TC Thực hiện Công văn số 421/SGDĐT-KHTC ngày 03/2/2025 chuẩn bị hồ sơ). | C13: 5 | D13: Kính, Thoa, Trân, Thắng, Ý | E13: Tháng 04/2025 | F13: Đã thực hiện
A14: Nhiệm vụ 7 | B14: Thực hiện báo cáo theo yêu cầu của Sở Tài chính; Sở Giáo dục về điều chỉnh giảm dự toán do giảm biên chế (Có Biên bản làm việc nvới Sở Giáo dục và Đào tạo ngày 31/03/2024 và Công văn số 234/LTT-KHTC ngày 10/4/2025) | C14: 3 | D14: Kính, Thoa, Dung | E14: Tháng 04/2025 | F14: Đã thực hiện
A15: Nhiệm vụ 8 | B15: Thực hiện công văn số 3086/STC-QLCS ngày 22/04/2025 về việc rà soát, sắp xếp lại xe ô tô theo quy định tại Nghị định số 72/2023/NĐ-CP của Chính phủ | C15: 3 | D15: Kính, Thoa, Vân | E15: Tháng 04/2025 | F15: Đã thực hiện
A16: II. | B16: Công việc đột xuất của đơn vị
A17: Nhiệm vụ 1 | B17: Tiếp tục thực hiện dự án “Trung tâm đào tạo xuất sắc về đào tạo Kỹ năng xanh và Công nghiệp 4.0”; theo Quyết định số 5558/QĐ-UBND ngày 28/11/2023 của Ủy ban Nhân dân TP.HCM | C17: 3 | D17: Kính, Trân, Ý | E17: Tháng 04/2025 | F17: Đang thực hiện
A18: Nhiệm vụ 2 | B18: Tiếp tục thực hiện dự án “Nâng cao nâng lực cho sinh viên có hoàn cảnh khó khăn đang theo học tại Trường Cao đẳng Lý Tự Trọng TP. HCM, giai đoạn 2024 – 2028” | C18: 4 | D18: Kính, Vân, Thắng, Ý | E18: Tháng 04/2025 | F18: Đang thực hiện
A19: Nhiệm vụ 3 | B19: Thực hiện báo cáo của phòng Kế hoạch – Tài chính Sở Giáo dục và Đào tạo TP. HCM về nguồn thu và số biên chế của đơn vị theo đường link https://froms.gle/uERhyegnEGRXbqc8 | C19: 3 | D19: Kính, Vân, Dung | E19: Tháng 04/2025 | F19: Tiếp tục thực hiện
A20: Nhiệm vụ 4 | B20: Thực hiện báo cáo của phòng Kế hoạch – Tài chính Sở Giáo dục và Đào tạo TP. HCM về hủy dự toán năm 2024 theo đường link https://docs.google.com/forms/d/1R9tT_DCqzY6T55gmwwGRlzhFMUA4ePNKfelsdaAP2pE/edit | C20: 3 | D20: Kính, Thoa, Dung | E20: Tháng 04/2025 | F20: Tiếp tục thực hiện
A21: Nhiệm vụ 5 | B21: Thực hiện báo cáo của phòng Kế hoạch – Tài chính Sở Giáo dục và Đào tạo TP. HCM về quy chế quản lý tài sản công và cập nhật giá nhà đất mới theo Quyết định số 79/2024/QĐ-UBND ngày 21/10/2024 theo đường link https://docs.google.com/spreadsheets/d/1HbemtiHtIHKBKyJF_vbTPJHmcgBw7rfb/edit?usp=sharing&ouid=104454312297258582047&rtpof=true&sd=true. | C21: 3 | D21: Kính, Thoa, Thắng, Trân | E21: Tháng 04/2025 | F21: Đã thực hiện
A22: Nhiệm vụ 6 | B22: Trưởng P. KHTC đã phân công choàng việc cho bà Nguyễn Thị Hồng Thắm và Nguyễn Thị Minh Thùy nghỉ hộ sản | C22: 6 | D22: Kính, Thoa, Trân, Thắng, Ý, Vân | E22: Tháng 04/2025 | F22: Đã thực hiện
A23: Nhiệm vụ 7 | B23: Thực hiện 03 công khai (công khai tài chính biều mẫu số 24) | C23: 2 | D23: Kính, Thoa, Dung | E23: Tháng 04/2025 | F23: Đã thực hiện
A25: Lưu ý: - Không ghi nhận nhiệm vụ đột xuất đối với những công việc có tính thường xuyên thuộc chức năng của đơn vị mà cá nhân được phân công phụ trách hoặc những việc mà cá nhân đã nhận được chi trả chi phí, bồi dưỡng riêng. - Các đơn vị gửi file điện tử về phòng TC-HC-TH (Cô Trần Thị Ánh Phượng) qua hệ thống điện tử E-Office (không gửi văn bản giấy)./.
D26: Thành phố Hồ Chí Minh, ngày 25 tháng 04 năm 2025
D27: TRƯỞNG ĐƠN VỊ
D31: Nguyễn Kính

Sheet Mau 2
A1: TRƯỜNG CAO ĐẲNG LÝ TỰ TRỌNG | T1: CỘNG HÒA XÃ HỘI CHỦ NGHĨA VIỆT NAM
A2: THÀNH PHỐ HỒ CHÍ MINH | T2: Độc lập - Tự do - Hạnh phúc
A3: PHÒNG KẾ HOẠCH - TÀI CHÍNH
AD4: Mẫu 2
A5: THỐNG KÊ CHI TIẾT KHỐI LƯỢNG CÔNG VIỆC THỰC HIỆN THÁNG 04/2025
A7: TT | B7: Tên nội dung công việc | D7: Công việc chung của trường | T7: Công việc chung của đơn vị | AE7: Ghi chú
B8: Họ và tên | C8: Mã E-office | D8: Nhiệm vụ 1 | E8: Nhiệm vụ 2 | F8: Nhiệm vụ 3 | G8: Nhiệm vụ 4 | H8: Nhiệm vụ 5 | I8: Nhiệm vụ 6 | J8: Nhiệm vụ 7 | K8: Nhiệm vụ 8 | L8: Nhiệm vụ 9 | M8: Nhiệm vụ 10 | N8: Nhiệm vụ 11 | O8: Nhiệm vụ 12 | P8: Nhiệm vụ 13 | Q8: Nhiệm vụ 14 | R8: Nhiệm vụ 15 | S8: Tổng cộng | T8: Nhiệm vụ 1 | U8: Nhiệm vụ 2 | V8: Nhiệm vụ 3 | W8: Nhiệm vụ 4 | X8: Nhiệm vụ 5 | Y8: Nhiệm vụ 6 | Z8: Nhiệm vụ 7 | AA8: Nhiệm vụ 8 | AB8: Nhiệm vụ 9 | AC8: Nhiệm vụ 10 | AD8: Tổng cộng
C9: -1 | D9: -2 | E9: -3 | F9: -4 | G9: -5 | H9: -6 | I9: -7 | J9: -8 | K9: -9 | L9: -10 | M9: -11 | N9: -12 | O9: -13 | P9: -14 | Q9: -15 | R9: -16 | S9: -8 | T9: -9 | U9: -10 | V9: -11 | W9: -12 | X9: -13 | Y9: -14 | Z9: -15 | AA9: -16 | AB9: -26 | AC9: -27 | AD9: -15
A10: I. Cán bộ quản lý (Trưởng, Phó đơn vị)
A11: 01 | B11: Nguyễn Kính | C11: 01017006 | D11: x | E11: x | F11: x | G11: x | H11: x | I11: x | J11: x | K11: x | S11: =COUNTIF(D11:R11,"X") -> 8 | T11: x | U11: x | V11: x | W11: x | X11: x | Y11: x | Z11: x | AD11: =COUNTIF(T11:AA11,"X") -> 7
A12: II. Nhân viên
A13: 02 | B13: Trần Thị Minh Thoa | C13: 01003005 | F13: x | H13: x | I13: x | J13: x | K13: x | S13: =COUNTIF(D13:R13,"X") -> 5 | W13: x | X13: x | Y13: x | Z13: x | AD13: =COUNTIF(T13:AA13,"X") -> 4
A14: 03 | B14: Võ Thị Lệ Trân | C14: 01023004 | D14: x | E14: x | F14: x | H14: x | I14: x | S14: =COUNTIF(D14:R14,"X") -> 5 | T14: x | X14: x | Y14: x | AD14: =COUNTIF(T14:AA14,"X") -> 3
A15: 04 | B15: Hồng Mộng Tuyết Dung | C15: 01003007 | F15: x | G15: x | J15: x | S15: =COUNTIF(D15:R15,"X") -> 3 | V15: x | W15: x | Z15: x | AD15: =COUNTIF(T15:AA15,"X") -> 3
A16: 05 | B16: Nguyễn Chiến Thắng | C16: 01003015 | D16: x | E16: x | F16: x | I16: x | S16: =COUNTIF(D16:R16,"X") -> 4 | U16: x | X16: x | Y16: x | AD16: =COUNTIF(T16:AA16,"X") -> 3
A17: 06 | B17: Huỳnh Như Ý | C17: 01003016 | E17: x | F17: x | H17: x | I17: x | S17: =COUNTIF(D17:R17,"X") -> 4 | T17: x | U17: x | Y17: x | AD17: =COUNTIF(T17:AA17,"X") -> 3
A18: 7 | B18: Trần Thị Thảo Vân | C18: 01003008 | F18: x | G18: x | J18: x | S18: =COUNTIF(D18:R18,"X") -> 3 | U18: x | V18: x | Y18: x | AD18: =COUNTIF(T18:AA18,"X") -> 3
A19: 8 | B19: Nguyễn Thị Minh Thùy | C19: 01003013 | S19: =COUNTIF(D19:R19,"X") -> 0 | AD19: =COUNTIF(T19:AA19,"X") -> 0
A20: 09 | B20: Nguyễn Thị Hồng Thắm | C20: 01003009 | S20: =COUNTIF(D20:R20,"X") -> 0 | AD20: =COUNTIF(T20:AA20,"X") -> 0
A21: Lưu ý: Các đơn vị gửi file điện tử về phòng TC-HC-TH (Cô Trần Thị Ánh Phượng) qua hệ thống điện tử E-Office (không gửi văn bản giấy).
T22: TPHCM, ngày 25 tháng 04 năm 2025
T23: TRƯỞNG ĐƠN VỊ
T28: Nguyễn Kính

Sheet Mau 3 
A1: TRƯỜNG CAO ĐẲNG LÝ TỰ TRỌNG | F1: CỘNG HÒA XÃ HỘI CHỦ NGHĨA VIỆT NAM
A2: THÀNH PHỐ HỒ CHÍ MINH | F2: Độc lập - Tự do - Hạnh phúc
A3: PHÒNG KẾ HOẠCH - TÀI CHÍNH
K4: Mẫu 3
A5: DANH SÁCH XẾP LOẠI THI ĐUA THÁNG 04/2025
A6: TT | B6: Họ tên | C6: Mã E-Office | D6: Đơn vị xếp loại thi đua theo quy định | H6: Số ngày nghỉ/ tiết nghỉ | I6: Đơn vị đề nghị mức xếp loại thi đua A1, A2 và sắp xếp danh sách cá nhân theo thứ tự ưu tiên | K6: Ghi chú
D7: Xếp loại | E7: Lý do | F7: Số lượng công việc chung của trường | G7: Số lượng công việc chung của đơn vị | I7: Xếp loại | J7: Lý do đề nghị
A8: -1 | B8: -2 | C8: -3 | D8: -4 | E8: -5 | F8: -6 | G8: -7 | H8: -8 | I8: -9 | J8: -10
A9: I. Cán bộ quản lý | D9: 1
A10: 01 | B10: Nguyễn Kính | C10: ='Mau 2'!C11 -> 01017006 | D10: A1 | F10: =VLOOKUP(C10,'Mau 2'!$C$11:$AE$20,17,0) -> 8 | G10: =VLOOKUP($C10,'Mau 2'!$C$11:$AE$20,28,0) -> 7
A11: II. Nhân viên | D11: 8
A12: 02 | B12: Võ Thị Lệ Trân | C12: 01023004 | D12: A1 | F12: =VLOOKUP(C12,'Mau 2'!$C$11:$AE$20,17,0) -> 5 | G12: =VLOOKUP($C12,'Mau 2'!$C$11:$AE$20,28,0) -> 3
A13: 03 | B13: Hồng Mộng Tuyết Dung | C13: 01003007 | D13: A2 | F13: =VLOOKUP(C13,'Mau 2'!$C$11:$AE$20,17,0) -> 3 | G13: =VLOOKUP($C13,'Mau 2'!$C$11:$AE$20,28,0) -> 3
A14: 04 | B14: Nguyễn Chiến Thắng | C14: 01003015 | D14: A1 | F14: =VLOOKUP(C14,'Mau 2'!$C$11:$AE$20,17,0) -> 4 | G14: =VLOOKUP($C14,'Mau 2'!$C$11:$AE$20,28,0) -> 3
A15: 05 | B15: Huỳnh Như Ý | C15: 01003016 | D15: A1 | F15: =VLOOKUP(C15,'Mau 2'!$C$11:$AE$20,17,0) -> 4 | G15: =VLOOKUP($C15,'Mau 2'!$C$11:$AE$20,28,0) -> 3
A16: 06 | B16: Trần Thị Thảo Vân | C16: 01003008 | D16: A2 | F16: =VLOOKUP(C16,'Mau 2'!$C$11:$AE$20,17,0) -> 3 | G16: =VLOOKUP($C16,'Mau 2'!$C$11:$AE$20,28,0) -> 3
A17: 07 | B17: Trần Thị Minh Thoa | C17: 01003005 | D17: A3 | F17: =VLOOKUP(C17,'Mau 2'!$C$11:$AE$20,17,0) -> 5 | G17: =VLOOKUP($C17,'Mau 2'!$C$11:$AE$20,28,0) -> 4
A18: 08 | B18: Nguyễn Thị Minh Thùy | C18: 01003013 | D18: ADN | F18: =VLOOKUP(C18,'Mau 2'!$C$11:$AE$20,17,0) -> 0 | G18: =VLOOKUP($C18,'Mau 2'!$C$11:$AE$20,28,0) -> 0 | K18: Nghỉ hộ sản từ 17/03/2024
A19: 09 | B19: Nguyễn Thị Hồng Thắm | C19: 01003009 | D19: ADN | F19: =VLOOKUP(C19,'Mau 2'!$C$11:$AE$20,17,0) -> 0 | G19: =VLOOKUP($C19,'Mau 2'!$C$11:$AE$20,28,0) -> 0 | K19: Nghỉ hộ sản từ 01/12/2024
B20: Kết quả xếp loại | D20: Cán bộ quản lý | F20: Giảng viên/Nhân viên
D21: Số lượng | E21: Tỷ lệ (%) | F21: Số lượng | G21: Tỷ lệ (%)
B22: Xếp loại A1 | D22: =COUNTIF($D$10:$D$10,"A1") -> 1 | E22: =ROUND(D22/$D$9,2) -> 1 | F22: =COUNTIF($D$12:$D$19,"A1") -> 3 | G22: =ROUND(F22/9,2) -> 0.33
B23: Xếp loại A2 | E23: =ROUND(D23/$D$9,2) -> 0 | F23: =COUNTIF($D$12:$D$19,"A2") -> 2 | G23: =ROUND(F23/9,2) -> 0.22
B24: Xếp loại A3 | E24: =ROUND(D24/$D$9,2) -> 0 | F24: =COUNTIF($D$12:$D$19,"A3") -> 1 | G24: =ROUND(F24/9,2) -> 0.11
B25: Xếp loại A4 | E25: =ROUND(D25/$D$9,2) -> 0 | F25: =COUNTIF($D$12:$D$19,"A4") -> 0 | G25: =ROUND(F25/$D$11,2) -> 0
B26: Xếp loại ADN | E26: =ROUND(D26/$D$9,2) -> 0 | F26: =COUNTIF($D$12:$D$19,"ADN") -> 2 | G26: =ROUND(F26/9,2) -> 0.22
B27: Xếp loại B1 | E27: =ROUND(D27/$D$9,2) -> 0 | F27: =COUNTIF($D$12:$D$19,"B1") -> 0 | G27: =ROUND(F27/$D$11,2) -> 0
B28: Xếp loại B2 | E28: =ROUND(D28/$D$9,2) -> 0 | F28: =COUNTIF($D$12:$D$19,"B2") -> 0 | G28: =ROUND(F28/$D$11,2) -> 0
B29: Xếp loại C1 | E29: =ROUND(D29/$D$9,2) -> 0 | F29: =COUNTIF($D$12:$D$19,"C1") -> 0 | G29: =ROUND(F29/$D$11,2) -> 0
B30: Xếp loại C2 | E30: =ROUND(D30/$D$9,2) -> 0 | F30: =COUNTIF($D$12:$D$19,"C2") -> 0 | G30: =ROUND(F30/$D$11,2) -> 0
B31: Xếp loại D | E31: =ROUND(D31/$D$9,2) -> 0 | F31: =COUNTIF($D$12:$D$19,"D") -> 0 | G31: =ROUND(F31/$D$11,2) -> 0
B32: Không xếp loại (Loại E) | E32: =ROUND(D32/$D$9,2) -> 0 | F32: =COUNTIF($D$12:$D$19,"KXL") -> 0 | G32: =ROUND(F32/$D$11,2) -> 0
B33: Tổng số nhân sự: | D33: =SUM(D22:D32) -> 1 | F33: =SUM(F22:F32) -> 8
A35: Lưu ý: - Tỷ lệ xếp loại thi đua mức A1 không quá 20%, mức A2 không quá 30% trên tổng số nhân sự (trừ Trưởng, Phó đơn vị). Trưởng đơn vị đánh giá mức độ hoàn thành nhiệm vụ được giao đối với từng cá nhân và xếp loại thi đua không vượt quá tỷ lệ quy định; trường hợp có nhiều cá nhân hoàn thành xuất sắc nhiệm vụ, đơn vị đề nghị xếp loại A1, A2 với tổng tỷ lệ không vượt quá 60% và sắp xếp danh sách theo thứ tự ưu tiên từ cao xuống thấp. - Giảng viên/ Nhân viên (bao gồm Trưởng bộ môn, Tổ trưởng, Phụ trách Tổ, ...) - Các đơn vị gửi file mềm qua hệ thống điện tử E-Office và văn bản giấy về phòng TC-HC-TH (Cô Trần Thị Ánh Phượng).
F36: TPHCM, ngày 25 tháng 04 năm 2025
F37: TRƯỞNG ĐƠN VỊ
F42: Nguyễn Kính
