Workbook

Sheet Kangatang

Sheet DM cong viec
A1: TRƯỜNG CAO ĐẲNG LÝ TỰ TRỌNG THÀNH PHỐ HỒ CHÍ MINH PHÒNG TỔ CHỨC - HÀNH CHÍNH - TỔNG HỢP | D1: CỘNG HÒA XÃ HỘI CHỦ NGHĨA VIỆT NAM Độc lập - Tự do - Hạnh phúc
F2: Mẫu 2
A3: BẢNG TỔNG HỢP CÔNG VIỆC CHUNG CỦA TRƯỜNG VÀ ĐƠN VỊ (Gửi file mềm ngày 25 hàng tháng)
A5: Stt | B5: Nhiệm vụ | C5: Nội dung | D5: SL người tham gia | E5: Tên người tham gia | F5: Ghi chú | G5: Yến | H5: Ly | I5: Quỳnh | J5: N. Phượng | K5: Liễu | L5: Chì | M5: A. Phượng | N5: Vân | O5: Oanh | P5: Mai | Q5: C. Anh | R5: Tấn | S5: Vũ | T5: Phúc | U5: Phú | V5: Nhàn | W5: Tuấn | X5: Hiền | Y5: Tùng | Z5: Cường | AA5: Anh Hiếu | AB5: Đức Hiếu | AC5: Tâm | AD5: Liên
G6: 01002019 | H6: 01004007 | I6: 01002017 | J6: 01002018 | K6: 01002005 | L6: 01023001 | M6: 01017006 | N6: 01002032 | O6: 01007007 | P6: 01007006 | Q6: 01002007 | R6: 01002023 | S6: 01002010 | T6: 01002012 | U6: 01002028 | V6: 01002027 | W6: 01002013 | X6: 01002033 | Y6: 01010068 | Z6: 01002040 | AA6: 01002041 | AB6: 01002042 | AC6: 01002035 | AD6: 01002036
B7: CÔNG VIỆC CHUNG CỦA TRƯỜNG | G7: =COUNTIF(G8:G17,"x") -> 3 | H7: =COUNTIF(H8:H17,"x") -> 4 | I7: =COUNTIF(I8:I17,"x") -> 2 | J7: =COUNTIF(J8:J17,"x") -> 2 | K7: =COUNTIF(K8:K17,"x") -> 2 | L7: =COUNTIF(L8:L17,"x") -> 2 | M7: =COUNTIF(M8:M17,"x") -> 2 | N7: =COUNTIF(N8:N17,"x") -> 2 | ... AD7: =COUNTIF(AD8:AD17,"x") -> 1
A8: 01 | B8: Nhiệm vụ 1 | C8: Hỗ trợ lái xe đưa đón CBQL đi công tác ngoài giờ/Hỗ trợ phòng giám sát, điều chỉnh, phân công lịch trực BV trong tháng/Hỗ trợ công tác tuyển sinh | D8: =COUNTIF(G8:AD8,"x") -> 4 | E8: Tâm, A.Hiếu, Vũ, Chì | L8: x | S8: x | AA8: x | AC8: x
A9: 02 | B9: Nhiệm vụ 2 | C9: Công tác phục vụ HN tổng kết công tác đảng bộ/Công tác hỗ trợ tổ chức, tham gia Hội thao Khối thi đua 24 | D9: =COUNTIF(G9:AD9,"x") -> 11 | E9: Ly, Yến, Mai, Chì, Liễu, Liên, N.Phượng, A.Phượng, Quỳnh, Oanh, Vân | G9: x | H9: x | I9: x | J9: x | K9: x | L9: x | M9: x | N9: x | O9: x | P9: x | AD9: x
A10: 03 | B10: Nhiệm vụ 3 | C10: Chỉ đạo, hỗ trợ trực an ninh ngày họp PHHS/Hỗ trợ khai mạc, tham gia giải bóng đá liên kết giữa trường và DN (ngày chủ nhật) | D10: =COUNTIF(G10:AD10,"x") -> 10 | E10: Ly, Yến, N.Phượng, Vũ, Phú, Nhàn, Cường, A.Hiếu, Đ.Hiếu, Anh, Hiền (đội đóng) | G10: x | H10: x | J10: x | S10: x | U10: x | V10: x | X10: x | Z10: x | AA10: x | AB10: x
A11: 04 | B11: Nhiệm vụ 4 | C11: Hỗ trợ thực hiện báo cáo, phục vụ tiếp đoàn Thanh tra Sở GDĐT | D11: =COUNTIF(G11:AD11,"x") -> 0 | E11: Yến, Ly, Mai, N. Phượng, A.Phượng, Oanh, Quỳnh, Liễu, Vân, Liên
A12: 05 | B12: Nhiệm vụ 5 | C12: BC: K.quả quán triệt, phổ biến, tuyên truyền bài viết của đ/c Tổng Bí thư về “Học tập suốt đời”/Sơ kết Phong trào thi đua “Đẩy mạnh phát triển kết cấu hạ tầng đồng bộ, hiện đại; thực hành tiết kiệm chống lãng phí” trên địa bàn TP, gđ 2022 - 2025 | D12: =COUNTIF(G12:AD12,"x") -> 2 | E12: Ly, A.Phượng | H12: x | M12: x
A13: 06 | B13: Nhiệm vụ 6 | C13: BC gấp: Đánh giá thực hiện xếp hạng ĐVSNCL theo QĐ số 181/2005/QĐ-TTg/Đánh giá công tác phòng, chống tham nhũng năm 2024 trên địa bàn TP.HCM | D13: =COUNTIF(G13:AD13,"x") -> 3 | E13: Yến, Mai, Quỳnh | G13: x | I13: x | P13: x
A14: 07 | B14: Nhiệm vụ 7 | C14: Thực hiện các nhiệm vụ theo chỉ đạo của Phó Hiệu trưởng | D14: =COUNTIF(G14:AD14,"x") -> 3 | E14: Ly, Vân, Liễu | H14: x | K14: x | N14: x
A15: 05 | B15: Nhiệm vụ 8 | D15: =COUNTIF(G15:AD15,"x") -> 0
A16: 08 | B16: Nhiệm vụ 9 | D16: =COUNTIF(G16:AD16,"x") -> 0
A17: 10 | B17: Nhiệm vụ 10 | D17: =COUNTIF(G17:AD17,"x") -> 0
D18: =COUNTIF(G18:AD18,"x") -> 0
D19: =COUNTIF(G19:AD19,"x") -> 0
D20: =COUNTIF(G20:AD20,"x") -> 0
B21: CÔNG VIỆC CHUNG CỦA ĐƠN VỊ | G21: =COUNTIF(G22:G31,"x") -> 0 | H21: =COUNTIF(H22:H31,"x") -> 0 | I21: =COUNTIF(I22:I31,"x") -> 0 | J21: =COUNTIF(J22:J31,"x") -> 0 | K21: =COUNTIF(K22:K31,"x") -> 2 | L21: =COUNTIF(L22:L31,"x") -> 0 | M21: =COUNTIF(M22:M31,"x") -> 1 | N21: =COUNTIF(N22:N31,"x") -> 2 | ... AD21: =COUNTIF(AD22:AD31,"x") -> 1
A22: 01 | B22: Nhiệm vụ 1 | C22: Thực hiện chữ ký số công vụ theo yêu cầu của sở nội vụ/Hướng dẫn, hỗ trợ CB,GV,NLĐ chỉnh sửa BC thành tích đề nghị BK TTg | D22: =COUNTIF(G22:AD22,"x") -> 2 | E22: Liễu, A.Phượng | K22: x | M22: x
A23: 02 | B23: Nhiệm vụ 2 | C23: Công tác tiếp đoàn đến trường tham quan | D23: =COUNTIF(G23:AD23,"x") -> 4 | E23: Liễu, Liên, Oanh, Vân | K23: x | N23: x | O23: x | AD23: x
A24: 03 | B24: Nhiệm vụ 3 | C24: Hỗ trợ công tác hành chính | D24: =COUNTIF(G24:AD24,"x") -> 2 | E24: Vân, Oanh | N24: x | O24: x
A25: 04 | B25: Nhiệm vụ 4 | C25: Hỗ trợ phòng thực hiện công tác hành chính của Tổ Bảo vệ | D25: =COUNTIF(G25:AD25,"x") -> 1 | E25: Vũ | S25: x
A26: 05 | B26: Nhiệm vụ 5 | D26: =COUNTIF(G26:AD26,"x") -> 0
A27: 06 | B27: Nhiệm vụ 6 | D27: =COUNTIF(G27:AD27,"x") -> 0
A28: 07 | B28: Nhiệm vụ 7 | D28: =COUNTIF(G28:AD28,"x") -> 0
A29: 08 | B29: Nhiệm vụ 8 | D29: =COUNTIF(G29:AD29,"x") -> 0
A30: 09 | B30: Nhiệm vụ 9 | D30: =COUNTIF(G30:AD30,"x") -> 0
A31: 10 | B31: Nhiệm vụ 10 | D31: =COUNTIF(G31:AD31,"x") -> 0
A33: Lưu ý: - Không ghi nhận nhiệm vụ đột xuất đối với những công việc có tính thường xuyên thuộc chức năng của đơn vị mà cá nhân được phân công phụ trách hoặc những việc mà cá nhân đã nhận được chi trả chi phí, bồi dưỡng riêng. - Các đơn vị gửi file điện tử về phòng TC-HC-TH (Cô Trần Thị Ánh Phượng) qua hệ thống điện tử E-Office (không gửi văn bản giấy)./.
D34: Thành phố Hồ Chí Minh, ngày …. tháng…. năm …..
D35: TRƯỞNG ĐƠN VỊ

Sheet Mau 2
A1: TRƯỜNG CAO ĐẲNG LÝ TỰ TRỌNG | Q1: CỘNG HÒA XÃ HỘI CHỦ NGHĨA VIỆT NAM
A2: THÀNH PHỐ HỒ CHÍ MINH | Q2: Độc lập - Tự do - Hạnh phúc
A3: PHÒNG TC-HC-TH
AB4: Mẫu 3
A5: THỐNG KÊ CHI TIẾT KHỐI LƯỢNG CÔNG VIỆC THỰC HIỆN
A7: TT | B7: Tên nội dung công việc | D7: Công việc chung của trường | Q7: Công việc chung của đơn vị | AB7: Ghi chú
D8: Nhiệm vụ 1 | E8: Nhiệm vụ 2 | F8: Nhiệm vụ 3 | G8: Nhiệm vụ 4 | H8: Nhiệm vụ 5 | I8: Nhiệm vụ 6 | J8: Nhiệm vụ 7 | K8: Nhiệm vụ 8 | L8: Nhiệm vụ 9 | M8: Nhiệm vụ 10 | N8: Nhiệm vụ 11 | O8: Nhiệm vụ 12 | Q8: Nhiệm vụ 1 | R8: Nhiệm vụ 2 | S8: Nhiệm vụ 3 | T8: Nhiệm vụ 4 | U8: Nhiệm vụ 5 | V8: Nhiệm vụ 6 | W8: Nhiệm vụ 7 | X8: Nhiệm vụ 8 | Y8: Nhiệm vụ 9 | Z8: Nhiệm vụ 10
B9: Họ và tên | C9: Mã E-ofice | D9: ='DM cong viec'!$C8 -> Hỗ trợ lái xe đưa đón CBQL đi công tác ngoài giờ/Hỗ trợ phòng giám sát, điều chỉnh, phân công lịch trực BV trong tháng/Hỗ trợ công tác tuyển sinh | E9: ='DM cong viec'!$C9 -> Công tác phục vụ HN tổng kết công tác đảng bộ/Công tác hỗ trợ tổ chức, tham gia Hội thao Khối thi đua 24 | F9: ='DM cong viec'!$C10 -> Chỉ đạo, hỗ trợ trực an ninh ngày họp PHHS/Hỗ trợ khai mạc, tham gia giải bóng đá liên kết giữa trường và DN (ngày chủ nhật) | G9: ='DM cong viec'!$C11 -> Hỗ trợ thực hiện báo cáo, phục vụ tiếp đoàn Thanh tra Sở GDĐT | H9: ='DM cong viec'!$C12 -> BC: K.quả quán triệt, phổ biến, tuyên truyền bài viết của đ/c Tổng Bí thư về “Học tập suốt đời”/Sơ kết Phong trào thi đua “Đẩy mạnh phát triển kết cấu hạ tầng đồng bộ, hiện đại; thực hành tiết kiệm chống lãng phí” trên địa bàn TP, gđ 2022 - 2025 | I9: ='DM cong viec'!$C13 -> BC gấp: Đánh giá thực hiện xếp hạng ĐVSNCL theo QĐ số 181/2005/QĐ-TTg/Đánh giá công tác phòng, chống tham nhũng năm 2024 trên địa bàn TP.HCM | J9: ='DM cong viec'!$C14 -> Thực hiện các nhiệm vụ theo chỉ đạo của Phó Hiệu trưởng | K9: ='DM cong viec'!$C15 -> 0 | L9: ='DM cong viec'!$C16 -> 0 | M9: ='DM cong viec'!$C17 -> 0 | N9: ='DM cong viec'!$C18 -> 0 | O9: ='DM cong viec'!$C19 -> 0 | P9: Tổng | Q9: ='DM cong viec'!$C22 -> Thực hiện chữ ký số công vụ theo yêu cầu của sở nội vụ/Hướng dẫn, hỗ trợ CB,GV,NLĐ chỉnh sửa BC thành tích đề nghị BK TTg | R9: ='DM cong viec'!$C23 -> Công tác tiếp đoàn đến trường tham quan | S9: ='DM cong viec'!$C24 -> Hỗ trợ công tác hành chính | T9: ='DM cong viec'!$C25 -> Hỗ trợ phòng thực hiện công tác hành chính của Tổ Bảo vệ | U9: ='DM cong viec'!$C26 -> 0 | V9: ='DM cong viec'!$C27 -> 0 | W9: ='DM cong viec'!$C28 -> 0 | X9: ='DM cong viec'!$C29 -> 0 | Y9: ='DM cong viec'!$C30 -> 0 | Z9: ='DM cong viec'!$C31 -> 0 | AA9: Tổng
C10: -1 | D10: -2 | E10: -3 | F10: -4 | G10: -5 | H10: -6 | I10: -7 | J10: -8 | K10: -9 | L10: -10 | M10: -11 | N10: -12 | O10: -13 | P10: -14 | Q10: -15 | R10: -16 | S10: -17 | T10: -18 | U10: -19 | V10: -20 | W10: -21 | X10: -22 | Y10: -23 | Z10: -24 | AA10: -25
A11: I. Cán bộ quản lý
A12: 1 | B12: Lưu Hoàng Hải Yến | C12: 01002019 | D12: =HLOOKUP($C12,'DM cong viec'!$G$6:$AD$31,3,0) -> 0 | E12: =HLOOKUP($C12,'DM cong viec'!$G$6:$AD$31,4,0) -> x | F12: =HLOOKUP($C12,'DM cong viec'!$G$6:$AD$31,5,0) -> x | G12: =HLOOKUP($C12,'DM cong viec'!$G$6:$AD$31,6,0) -> 0 | H12: =HLOOKUP($C12,'DM cong viec'!$G$6:$AD$31,7,0) -> 0 | I12: =HLOOKUP($C12,'DM cong viec'!$G$6:$AD$31,8,0) -> x | J12: =HLOOKUP($C12,'DM cong viec'!$G$6:$AD$31,9,0) -> 0 | K12: =HLOOKUP($C12,'DM cong viec'!$G$6:$AD$31,10,0) -> 0 | L12: =HLOOKUP($C12,'DM cong viec'!$G$6:$AD$31,11,0) -> 0 | M12: =HLOOKUP($C12,'DM cong viec'!$G$6:$AD$31,12,0) -> 0 | N12: =HLOOKUP($C12,'DM cong viec'!$G$6:$AD$31,13,0) -> 0 | O12: =HLOOKUP($C12,'DM cong viec'!$G$6:$AD$31,14,0) -> 0 | P12: =COUNTIF(D12:O12,"X") -> 3 | Q12: =HLOOKUP($C12,'DM cong viec'!$G$6:$AD$31,17,0) -> 0 | R12: =HLOOKUP($C12,'DM cong viec'!$G$6:$AD$31,18,0) -> 0 | S12: =HLOOKUP($C12,'DM cong viec'!$G$6:$AD$31,19,0) -> 0 | T12: =HLOOKUP($C12,'DM cong viec'!$G$6:$AD$31,20,0) -> 0 | U12: =HLOOKUP($C12,'DM cong viec'!$G$6:$AD$31,21,0) -> 0 | V12: =HLOOKUP($C12,'DM cong viec'!$G$6:$AD$31,22,0) -> 0 | W12: =HLOOKUP($C12,'DM cong viec'!$G$6:$AD$31,23,0) -> 0 | X12: =HLOOKUP($C12,'DM cong viec'!$G$6:$AD$31,24,0) -> 0 | Y12: =HLOOKUP($C12,'DM cong viec'!$G$6:$AD$31,25,0) -> 0 | Z12: =HLOOKUP($C12,'DM cong viec'!$G$6:$AD$31,26,0) -> 0 | AA12: =COUNTIF(Q12:Z12,"X") -> 0
A13: 2 | B13: Huỳnh Thị Minh Ly | C13: 01004007 | D13: =HLOOKUP($C13,'DM cong viec'!$G$6:$AD$31,3,0) -> 0 | E13: =HLOOKUP($C13,'DM cong viec'!$G$6:$AD$31,4,0) -> x | F13: =HLOOKUP($C13,'DM cong viec'!$G$6:$AD$31,5,0) -> x | G13: =HLOOKUP($C13,'DM cong viec'!$G$6:$AD$31,6,0) -> 0 | H13: =HLOOKUP($C13,'DM cong viec'!$G$6:$AD$31,7,0) -> x | I13: =HLOOKUP($C13,'DM cong viec'!$G$6:$AD$31,8,0) -> 0 | J13: =HLOOKUP($C13,'DM cong viec'!$G$6:$AD$31,9,0) -> x | K13: =HLOOKUP($C13,'DM cong viec'!$G$6:$AD$31,10,0) -> 0 | L13: =HLOOKUP($C13,'DM cong viec'!$G$6:$AD$31,11,0) -> 0 | M13: =HLOOKUP($C13,'DM cong viec'!$G$6:$AD$31,12,0) -> 0 | N13: =HLOOKUP($C13,'DM cong viec'!$G$6:$AD$31,13,0) -> 0 | O13: =HLOOKUP($C13,'DM cong viec'!$G$6:$AD$31,14,0) -> 0 | P13: =COUNTIF(D13:O13,"X") -> 4 | Q13: =HLOOKUP($C13,'DM cong viec'!$G$6:$AD$31,17,0) -> 0 | R13: =HLOOKUP($C13,'DM cong viec'!$G$6:$AD$31,18,0) -> 0 | S13: =HLOOKUP($C13,'DM cong viec'!$G$6:$AD$31,19,0) -> 0 | T13: =HLOOKUP($C13,'DM cong viec'!$G$6:$AD$31,20,0) -> 0 | U13: =HLOOKUP($C13,'DM cong viec'!$G$6:$AD$31,21,0) -> 0 | V13: =HLOOKUP($C13,'DM cong viec'!$G$6:$AD$31,22,0) -> 0 | W13: =HLOOKUP($C13,'DM cong viec'!$G$6:$AD$31,23,0) -> 0 | X13: =HLOOKUP($C13,'DM cong viec'!$G$6:$AD$31,24,0) -> 0 | Y13: =HLOOKUP($C13,'DM cong viec'!$G$6:$AD$31,25,0) -> 0 | Z13: =HLOOKUP($C13,'DM cong viec'!$G$6:$AD$31,26,0) -> 0 | AA13: =COUNTIF(Q13:Z13,"X") -> 0
A14: II. Nhân viên | P14: =COUNTIF(D14:O14,"X") -> 0 | AA14: =COUNTIF(Q14:Z14,"X") -> 0
A15: 3 | B15: Vũ Như Quỳnh | C15: 01002017 | D15: =HLOOKUP($C15,'DM cong viec'!$G$6:$AD$31,3,0) -> 0 | E15: =HLOOKUP($C15,'DM cong viec'!$G$6:$AD$31,4,0) -> x | F15: =HLOOKUP($C15,'DM cong viec'!$G$6:$AD$31,5,0) -> 0 | G15: =HLOOKUP($C15,'DM cong viec'!$G$6:$AD$31,6,0) -> 0 | H15: =HLOOKUP($C15,'DM cong viec'!$G$6:$AD$31,7,0) -> 0 | I15: =HLOOKUP($C15,'DM cong viec'!$G$6:$AD$31,8,0) -> x | J15: =HLOOKUP($C15,'DM cong viec'!$G$6:$AD$31,9,0) -> 0 | K15: =HLOOKUP($C15,'DM cong viec'!$G$6:$AD$31,10,0) -> 0 | L15: =HLOOKUP($C15,'DM cong viec'!$G$6:$AD$31,11,0) -> 0 | M15: =HLOOKUP($C15,'DM cong viec'!$G$6:$AD$31,12,0) -> 0 | N15: =HLOOKUP($C15,'DM cong viec'!$G$6:$AD$31,13,0) -> 0 | O15: =HLOOKUP($C15,'DM cong viec'!$G$6:$AD$31,14,0) -> 0 | P15: =COUNTIF(D15:O15,"X") -> 2 | Q15: =HLOOKUP($C15,'DM cong viec'!$G$6:$AD$31,17,0) -> 0 | R15: =HLOOKUP($C15,'DM cong viec'!$G$6:$AD$31,18,0) -> 0 | S15: =HLOOKUP($C15,'DM cong viec'!$G$6:$AD$31,19,0) -> 0 | T15: =HLOOKUP($C15,'DM cong viec'!$G$6:$AD$31,20,0) -> 0 | U15: =HLOOKUP($C15,'DM cong viec'!$G$6:$AD$31,21,0) -> 0 | W15: =HLOOKUP($C15,'DM cong viec'!$G$6:$AD$31,23,0) -> 0 | X15: =HLOOKUP($C15,'DM cong viec'!$G$6:$AD$31,24,0) -> 0 | Y15: =HLOOKUP($C15,'DM cong viec'!$G$6:$AD$31,25,0) -> 0 | Z15: =HLOOKUP($C15,'DM cong viec'!$G$6:$AD$31,26,0) -> 0 | AA15: =COUNTIF(Q15:Z15,"X") -> 0
A16: 4 | B16: Phan Thị Ngọc Phượng | C16: 01002018 | D16: =HLOOKUP($C16,'DM cong viec'!$G$6:$AD$31,3,0) -> 0 | E16: =HLOOKUP($C16,'DM cong viec'!$G$6:$AD$31,4,0) -> x | F16: =HLOOKUP($C16,'DM cong viec'!$G$6:$AD$31,5,0) -> x | G16: =HLOOKUP($C16,'DM cong viec'!$G$6:$AD$31,6,0) -> 0 | H16: =HLOOKUP($C16,'DM cong viec'!$G$6:$AD$31,7,0) -> 0 | I16: =HLOOKUP($C16,'DM cong viec'!$G$6:$AD$31,8,0) -> 0 | J16: =HLOOKUP($C16,'DM cong viec'!$G$6:$AD$31,9,0) -> 0 | K16: =HLOOKUP($C16,'DM cong viec'!$G$6:$AD$31,10,0) -> 0 | L16: =HLOOKUP($C16,'DM cong viec'!$G$6:$AD$31,11,0) -> 0 | M16: =HLOOKUP($C16,'DM cong viec'!$G$6:$AD$31,12,0) -> 0 | N16: =HLOOKUP($C16,'DM cong viec'!$G$6:$AD$31,13,0) -> 0 | O16: =HLOOKUP($C16,'DM cong viec'!$G$6:$AD$31,14,0) -> 0 | P16: =COUNTIF(D16:O16,"X") -> 2 | Q16: =HLOOKUP($C16,'DM cong viec'!$G$6:$AD$31,17,0) -> 0 | R16: =HLOOKUP($C16,'DM cong viec'!$G$6:$AD$31,18,0) -> 0 | S16: =HLOOKUP($C16,'DM cong viec'!$G$6:$AD$31,19,0) -> 0 | T16: =HLOOKUP($C16,'DM cong viec'!$G$6:$AD$31,20,0) -> 0 | U16: =HLOOKUP($C16,'DM cong viec'!$G$6:$AD$31,21,0) -> 0 | W16: =HLOOKUP($C16,'DM cong viec'!$G$6:$AD$31,23,0) -> 0 | X16: =HLOOKUP($C16,'DM cong viec'!$G$6:$AD$31,24,0) -> 0 | Y16: =HLOOKUP($C16,'DM cong viec'!$G$6:$AD$31,25,0) -> 0 | Z16: =HLOOKUP($C16,'DM cong viec'!$G$6:$AD$31,26,0) -> 0 | AA16: =COUNTIF(Q16:Z16,"X") -> 0
A17: 5 | B17: Nguyễn Thị Bích Liễu | C17: 01002005 | D17: =HLOOKUP($C17,'DM cong viec'!$G$6:$AD$31,3,0) -> 0 | E17: =HLOOKUP($C17,'DM cong viec'!$G$6:$AD$31,4,0) -> x | F17: =HLOOKUP($C17,'DM cong viec'!$G$6:$AD$31,5,0) -> 0 | G17: =HLOOKUP($C17,'DM cong viec'!$G$6:$AD$31,6,0) -> 0 | H17: =HLOOKUP($C17,'DM cong viec'!$G$6:$AD$31,7,0) -> 0 | I17: =HLOOKUP($C17,'DM cong viec'!$G$6:$AD$31,8,0) -> 0 | J17: =HLOOKUP($C17,'DM cong viec'!$G$6:$AD$31,9,0) -> x | K17: =HLOOKUP($C17,'DM cong viec'!$G$6:$AD$31,10,0) -> 0 | L17: =HLOOKUP($C17,'DM cong viec'!$G$6:$AD$31,11,0) -> 0 | M17: =HLOOKUP($C17,'DM cong viec'!$G$6:$AD$31,12,0) -> 0 | N17: =HLOOKUP($C17,'DM cong viec'!$G$6:$AD$31,13,0) -> 0 | O17: =HLOOKUP($C17,'DM cong viec'!$G$6:$AD$31,14,0) -> 0 | P17: =COUNTIF(D17:O17,"X") -> 2 | Q17: =HLOOKUP($C17,'DM cong viec'!$G$6:$AD$31,17,0) -> x | R17: =HLOOKUP($C17,'DM cong viec'!$G$6:$AD$31,18,0) -> x | S17: =HLOOKUP($C17,'DM cong viec'!$G$6:$AD$31,19,0) -> 0 | T17: =HLOOKUP($C17,'DM cong viec'!$G$6:$AD$31,20,0) -> 0 | U17: =HLOOKUP($C17,'DM cong viec'!$G$6:$AD$31,21,0) -> 0 | W17: =HLOOKUP($C17,'DM cong viec'!$G$6:$AD$31,23,0) -> 0 | X17: =HLOOKUP($C17,'DM cong viec'!$G$6:$AD$31,24,0) -> 0 | Y17: =HLOOKUP($C17,'DM cong viec'!$G$6:$AD$31,25,0) -> 0 | Z17: =HLOOKUP($C17,'DM cong viec'!$G$6:$AD$31,26,0) -> 0 | AA17: =COUNTIF(Q17:Z17,"X") -> 2
A18: 6 | B18: Nguyễn Văn Chì | C18: 01023001 | D18: =HLOOKUP($C18,'DM cong viec'!$G$6:$AD$31,3,0) -> x | E18: =HLOOKUP($C18,'DM cong viec'!$G$6:$AD$31,4,0) -> x | F18: =HLOOKUP($C18,'DM cong viec'!$G$6:$AD$31,5,0) -> 0 | G18: =HLOOKUP($C18,'DM cong viec'!$G$6:$AD$31,6,0) -> 0 | H18: =HLOOKUP($C18,'DM cong viec'!$G$6:$AD$31,7,0) -> 0 | I18: =HLOOKUP($C18,'DM cong viec'!$G$6:$AD$31,8,0) -> 0 | J18: =HLOOKUP($C18,'DM cong viec'!$G$6:$AD$31,9,0) -> 0 | K18: =HLOOKUP($C18,'DM cong viec'!$G$6:$AD$31,10,0) -> 0 | L18: =HLOOKUP($C18,'DM cong viec'!$G$6:$AD$31,11,0) -> 0 | M18: =HLOOKUP($C18,'DM cong viec'!$G$6:$AD$31,12,0) -> 0 | N18: =HLOOKUP($C18,'DM cong viec'!$G$6:$AD$31,13,0) -> 0 | O18: =HLOOKUP($C18,'DM cong viec'!$G$6:$AD$31,14,0) -> 0 | P18: =COUNTIF(D18:O18,"X") -> 2 | Q18: =HLOOKUP($C18,'DM cong viec'!$G$6:$AD$31,17,0) -> 0 | R18: =HLOOKUP($C18,'DM cong viec'!$G$6:$AD$31,18,0) -> 0 | S18: =HLOOKUP($C18,'DM cong viec'!$G$6:$AD$31,19,0) -> 0 | T18: =HLOOKUP($C18,'DM cong viec'!$G$6:$AD$31,20,0) -> 0 | U18: =HLOOKUP($C18,'DM cong viec'!$G$6:$AD$31,21,0) -> 0 | W18: =HLOOKUP($C18,'DM cong viec'!$G$6:$AD$31,23,0) -> 0 | X18: =HLOOKUP($C18,'DM cong viec'!$G$6:$AD$31,24,0) -> 0 | Y18: =HLOOKUP($C18,'DM cong viec'!$G$6:$AD$31,25,0) -> 0 | Z18: =HLOOKUP($C18,'DM cong viec'!$G$6:$AD$31,26,0) -> 0 | AA18: =COUNTIF(Q18:Z18,"X") -> 0
A19: 7 | B19: Trần Thị Ánh Phượng | C19: 01017006 | D19: =HLOOKUP($C19,'DM cong viec'!$G$6:$AD$31,3,0) -> 0 | E19: =HLOOKUP($C19,'DM cong viec'!$G$6:$AD$31,4,0) -> x | F19: =HLOOKUP($C19,'DM cong viec'!$G$6:$AD$31,5,0) -> 0 | G19: =HLOOKUP($C19,'DM cong viec'!$G$6:$AD$31,6,0) -> 0 | H19: =HLOOKUP($C19,'DM cong viec'!$G$6:$AD$31,7,0) -> x | I19: =HLOOKUP($C19,'DM cong viec'!$G$6:$AD$31,8,0) -> 0 | J19: =HLOOKUP($C19,'DM cong viec'!$G$6:$AD$31,9,0) -> 0 | K19: =HLOOKUP($C19,'DM cong viec'!$G$6:$AD$31,10,0) -> 0 | L19: =HLOOKUP($C19,'DM cong viec'!$G$6:$AD$31,11,0) -> 0 | M19: =HLOOKUP($C19,'DM cong viec'!$G$6:$AD$31,12,0) -> 0 | N19: =HLOOKUP($C19,'DM cong viec'!$G$6:$AD$31,13,0) -> 0 | O19: =HLOOKUP($C19,'DM cong viec'!$G$6:$AD$31,14,0) -> 0 | P19: =COUNTIF(D19:O19,"X") -> 2 | Q19: =HLOOKUP($C19,'DM cong viec'!$G$6:$AD$31,17,0) -> x | R19: =HLOOKUP($C19,'DM cong viec'!$G$6:$AD$31,18,0) -> 0 | S19: =HLOOKUP($C19,'DM cong viec'!$G$6:$AD$31,19,0) -> 0 | T19: =HLOOKUP($C19,'DM cong viec'!$G$6:$AD$31,20,0) -> 0 | U19: =HLOOKUP($C19,'DM cong viec'!$G$6:$AD$31,21,0) -> 0 | W19: =HLOOKUP($C19,'DM cong viec'!$G$6:$AD$31,23,0) -> 0 | X19: =HLOOKUP($C19,'DM cong viec'!$G$6:$AD$31,24,0) -> 0 | Y19: =HLOOKUP($C19,'DM cong viec'!$G$6:$AD$31,25,0) -> 0 | Z19: =HLOOKUP($C19,'DM cong viec'!$G$6:$AD$31,26,0) -> 0 | AA19: =COUNTIF(Q19:Z19,"X") -> 1
A20: 8 | B20: Nguyễn Thị Vân | C20: 01002032 | D20: =HLOOKUP($C20,'DM cong viec'!$G$6:$AD$31,3,0) -> 0 | E20: =HLOOKUP($C20,'DM cong viec'!$G$6:$AD$31,4,0) -> x | F20: =HLOOKUP($C20,'DM cong viec'!$G$6:$AD$31,5,0) -> 0 | G20: =HLOOKUP($C20,'DM cong viec'!$G$6:$AD$31,6,0) -> 0 | H20: =HLOOKUP($C20,'DM cong viec'!$G$6:$AD$31,7,0) -> 0 | I20: =HLOOKUP($C20,'DM cong viec'!$G$6:$AD$31,8,0) -> 0 | J20: =HLOOKUP($C20,'DM cong viec'!$G$6:$AD$31,9,0) -> x | K20: =HLOOKUP($C20,'DM cong viec'!$G$6:$AD$31,10,0) -> 0 | L20: =HLOOKUP($C20,'DM cong viec'!$G$6:$AD$31,11,0) -> 0 | M20: =HLOOKUP($C20,'DM cong viec'!$G$6:$AD$31,12,0) -> 0 | N20: =HLOOKUP($C20,'DM cong viec'!$G$6:$AD$31,13,0) -> 0 | O20: =HLOOKUP($C20,'DM cong viec'!$G$6:$AD$31,14,0) -> 0 | P20: =COUNTIF(D20:O20,"X") -> 2 | Q20: =HLOOKUP($C20,'DM cong viec'!$G$6:$AD$31,17,0) -> 0 | R20: =HLOOKUP($C20,'DM cong viec'!$G$6:$AD$31,18,0) -> x | S20: =HLOOKUP($C20,'DM cong viec'!$G$6:$AD$31,19,0) -> x | T20: =HLOOKUP($C20,'DM cong viec'!$G$6:$AD$31,20,0) -> 0 | U20: =HLOOKUP($C20,'DM cong viec'!$G$6:$AD$31,21,0) -> 0 | W20: =HLOOKUP($C20,'DM cong viec'!$G$6:$AD$31,23,0) -> 0 | X20: =HLOOKUP($C20,'DM cong viec'!$G$6:$AD$31,24,0) -> 0 | Y20: =HLOOKUP($C20,'DM cong viec'!$G$6:$AD$31,25,0) -> 0 | Z20: =HLOOKUP($C20,'DM cong viec'!$G$6:$AD$31,26,0) -> 0 | AA20: =COUNTIF(Q20:Z20,"X") -> 2
A21: 9 | B21: Trần Thị Phương Oanh | C21: 01007007 | D21: =HLOOKUP($C21,'DM cong viec'!$G$6:$AD$31,3,0) -> 0 | E21: =HLOOKUP($C21,'DM cong viec'!$G$6:$AD$31,4,0) -> x | F21: =HLOOKUP($C21,'DM cong viec'!$G$6:$AD$31,5,0) -> 0 | G21: =HLOOKUP($C21,'DM cong viec'!$G$6:$AD$31,6,0) -> 0 | H21: =HLOOKUP($C21,'DM cong viec'!$G$6:$AD$31,7,0) -> 0 | I21: =HLOOKUP($C21,'DM cong viec'!$G$6:$AD$31,8,0) -> 0 | J21: =HLOOKUP($C21,'DM cong viec'!$G$6:$AD$31,9,0) -> 0 | K21: =HLOOKUP($C21,'DM cong viec'!$G$6:$AD$31,10,0) -> 0 | L21: =HLOOKUP($C21,'DM cong viec'!$G$6:$AD$31,11,0) -> 0 | M21: =HLOOKUP($C21,'DM cong viec'!$G$6:$AD$31,12,0) -> 0 | N21: =HLOOKUP($C21,'DM cong viec'!$G$6:$AD$31,13,0) -> 0 | O21: =HLOOKUP($C21,'DM cong viec'!$G$6:$AD$31,14,0) -> 0 | P21: =COUNTIF(D21:O21,"X") -> 1 | Q21: =HLOOKUP($C21,'DM cong viec'!$G$6:$AD$31,17,0) -> 0 | R21: =HLOOKUP($C21,'DM cong viec'!$G$6:$AD$31,18,0) -> x | S21: =HLOOKUP($C21,'DM cong viec'!$G$6:$AD$31,19,0) -> x | T21: =HLOOKUP($C21,'DM cong viec'!$G$6:$AD$31,20,0) -> 0 | U21: =HLOOKUP($C21,'DM cong viec'!$G$6:$AD$31,21,0) -> 0 | W21: =HLOOKUP($C21,'DM cong viec'!$G$6:$AD$31,23,0) -> 0 | X21: =HLOOKUP($C21,'DM cong viec'!$G$6:$AD$31,24,0) -> 0 | Y21: =HLOOKUP($C21,'DM cong viec'!$G$6:$AD$31,25,0) -> 0 | Z21: =HLOOKUP($C21,'DM cong viec'!$G$6:$AD$31,26,0) -> 0 | AA21: =COUNTIF(Q21:Z21,"X") -> 2
A22: 10 | B22: Huỳnh Thị Xuân Mai | C22: 01007006 | D22: =HLOOKUP($C22,'DM cong viec'!$G$6:$AD$31,3,0) -> 0 | E22: =HLOOKUP($C22,'DM cong viec'!$G$6:$AD$31,4,0) -> x | F22: =HLOOKUP($C22,'DM cong viec'!$G$6:$AD$31,5,0) -> 0 | G22: =HLOOKUP($C22,'DM cong viec'!$G$6:$AD$31,6,0) -> 0 | H22: =HLOOKUP($C22,'DM cong viec'!$G$6:$AD$31,7,0) -> 0 | I22: =HLOOKUP($C22,'DM cong viec'!$G$6:$AD$31,8,0) -> x | J22: =HLOOKUP($C22,'DM cong viec'!$G$6:$AD$31,9,0) -> 0 | K22: =HLOOKUP($C22,'DM cong viec'!$G$6:$AD$31,10,0) -> 0 | L22: =HLOOKUP($C22,'DM cong viec'!$G$6:$AD$31,11,0) -> 0 | M22: =HLOOKUP($C22,'DM cong viec'!$G$6:$AD$31,12,0) -> 0 | N22: =HLOOKUP($C22,'DM cong viec'!$G$6:$AD$31,13,0) -> 0 | O22: =HLOOKUP($C22,'DM cong viec'!$G$6:$AD$31,14,0) -> 0 | P22: =COUNTIF(D22:O22,"X") -> 2 | Q22: =HLOOKUP($C22,'DM cong viec'!$G$6:$AD$31,17,0) -> 0 | R22: =HLOOKUP($C22,'DM cong viec'!$G$6:$AD$31,18,0) -> 0 | S22: =HLOOKUP($C22,'DM cong viec'!$G$6:$AD$31,19,0) -> 0 | T22: =HLOOKUP($C22,'DM cong viec'!$G$6:$AD$31,20,0) -> 0 | U22: =HLOOKUP($C22,'DM cong viec'!$G$6:$AD$31,21,0) -> 0 | W22: =HLOOKUP($C22,'DM cong viec'!$G$6:$AD$31,23,0) -> 0 | X22: =HLOOKUP($C22,'DM cong viec'!$G$6:$AD$31,24,0) -> 0 | Y22: =HLOOKUP($C22,'DM cong viec'!$G$6:$AD$31,25,0) -> 0 | Z22: =HLOOKUP($C22,'DM cong viec'!$G$6:$AD$31,26,0) -> 0 | AA22: =COUNTIF(Q22:Z22,"X") -> 0
A23: 11 | B23: Phạm Hữu Tấn | C23: 01002023 | D23: =HLOOKUP($C23,'DM cong viec'!$G$6:$AD$31,3,0) -> 0 | E23: =HLOOKUP($C23,'DM cong viec'!$G$6:$AD$31,4,0) -> 0 | F23: =HLOOKUP($C23,'DM cong viec'!$G$6:$AD$31,5,0) -> 0 | G23: =HLOOKUP($C23,'DM cong viec'!$G$6:$AD$31,6,0) -> 0 | H23: =HLOOKUP($C23,'DM cong viec'!$G$6:$AD$31,7,0) -> 0 | I23: =HLOOKUP($C23,'DM cong viec'!$G$6:$AD$31,8,0) -> 0 | J23: =HLOOKUP($C23,'DM cong viec'!$G$6:$AD$31,9,0) -> 0 | K23: =HLOOKUP($C23,'DM cong viec'!$G$6:$AD$31,10,0) -> 0 | L23: =HLOOKUP($C23,'DM cong viec'!$G$6:$AD$31,11,0) -> 0 | M23: =HLOOKUP($C23,'DM cong viec'!$G$6:$AD$31,12,0) -> 0 | N23: =HLOOKUP($C23,'DM cong viec'!$G$6:$AD$31,13,0) -> 0 | O23: =HLOOKUP($C23,'DM cong viec'!$G$6:$AD$31,14,0) -> 0 | P23: =COUNTIF(D23:O23,"X") -> 0 | Q23: =HLOOKUP($C23,'DM cong viec'!$G$6:$AD$31,17,0) -> 0 | R23: =HLOOKUP($C23,'DM cong viec'!$G$6:$AD$31,18,0) -> 0 | S23: =HLOOKUP($C23,'DM cong viec'!$G$6:$AD$31,19,0) -> 0 | T23: =HLOOKUP($C23,'DM cong viec'!$G$6:$AD$31,20,0) -> 0 | U23: =HLOOKUP($C23,'DM cong viec'!$G$6:$AD$31,21,0) -> 0 | W23: =HLOOKUP($C23,'DM cong viec'!$G$6:$AD$31,23,0) -> 0 | X23: =HLOOKUP($C23,'DM cong viec'!$G$6:$AD$31,24,0) -> 0 | Y23: =HLOOKUP($C23,'DM cong viec'!$G$6:$AD$31,25,0) -> 0 | Z23: =HLOOKUP($C23,'DM cong viec'!$G$6:$AD$31,26,0) -> 0 | AA23: =COUNTIF(Q23:Z23,"X") -> 0
A24: 12 | B24: Trần Văn Cu Anh | C24: 01002007 | D24: =HLOOKUP($C24,'DM cong viec'!$G$6:$AD$31,3,0) -> 0 | E24: =HLOOKUP($C24,'DM cong viec'!$G$6:$AD$31,4,0) -> 0 | F24: =HLOOKUP($C24,'DM cong viec'!$G$6:$AD$31,5,0) -> 0 | G24: =HLOOKUP($C24,'DM cong viec'!$G$6:$AD$31,6,0) -> 0 | H24: =HLOOKUP($C24,'DM cong viec'!$G$6:$AD$31,7,0) -> 0 | I24: =HLOOKUP($C24,'DM cong viec'!$G$6:$AD$31,8,0) -> 0 | J24: =HLOOKUP($C24,'DM cong viec'!$G$6:$AD$31,9,0) -> 0 | K24: =HLOOKUP($C24,'DM cong viec'!$G$6:$AD$31,10,0) -> 0 | L24: =HLOOKUP($C24,'DM cong viec'!$G$6:$AD$31,11,0) -> 0 | M24: =HLOOKUP($C24,'DM cong viec'!$G$6:$AD$31,12,0) -> 0 | N24: =HLOOKUP($C24,'DM cong viec'!$G$6:$AD$31,13,0) -> 0 | O24: =HLOOKUP($C24,'DM cong viec'!$G$6:$AD$31,14,0) -> 0 | P24: =COUNTIF(D24:O24,"X") -> 0 | Q24: =HLOOKUP($C24,'DM cong viec'!$G$6:$AD$31,17,0) -> 0 | R24: =HLOOKUP($C24,'DM cong viec'!$G$6:$AD$31,18,0) -> 0 | S24: =HLOOKUP($C24,'DM cong viec'!$G$6:$AD$31,19,0) -> 0 | T24: =HLOOKUP($C24,'DM cong viec'!$G$6:$AD$31,20,0) -> 0 | U24: =HLOOKUP($C24,'DM cong viec'!$G$6:$AD$31,21,0) -> 0 | W24: =HLOOKUP($C24,'DM cong viec'!$G$6:$AD$31,23,0) -> 0 | X24: =HLOOKUP($C24,'DM cong viec'!$G$6:$AD$31,24,0) -> 0 | Y24: =HLOOKUP($C24,'DM cong viec'!$G$6:$AD$31,25,0) -> 0 | Z24: =HLOOKUP($C24,'DM cong viec'!$G$6:$AD$31,26,0) -> 0 | AA24: =COUNTIF(Q24:Z24,"X") -> 0
A25: 13 | B25: Nguyễn Hữu Xuân Vũ | C25: 01002010 | D25: =HLOOKUP($C25,'DM cong viec'!$G$6:$AD$31,3,0) -> x | E25: =HLOOKUP($C25,'DM cong viec'!$G$6:$AD$31,4,0) -> 0 | F25: =HLOOKUP($C25,'DM cong viec'!$G$6:$AD$31,5,0) -> x | G25: =HLOOKUP($C25,'DM cong viec'!$G$6:$AD$31,6,0) -> 0 | H25: =HLOOKUP($C25,'DM cong viec'!$G$6:$AD$31,7,0) -> 0 | I25: =HLOOKUP($C25,'DM cong viec'!$G$6:$AD$31,8,0) -> 0 | J25: =HLOOKUP($C25,'DM cong viec'!$G$6:$AD$31,9,0) -> 0 | K25: =HLOOKUP($C25,'DM cong viec'!$G$6:$AD$31,10,0) -> 0 | L25: =HLOOKUP($C25,'DM cong viec'!$G$6:$AD$31,11,0) -> 0 | M25: =HLOOKUP($C25,'DM cong viec'!$G$6:$AD$31,12,0) -> 0 | N25: =HLOOKUP($C25,'DM cong viec'!$G$6:$AD$31,13,0) -> 0 | O25: =HLOOKUP($C25,'DM cong viec'!$G$6:$AD$31,14,0) -> 0 | P25: =COUNTIF(D25:O25,"X") -> 2 | Q25: =HLOOKUP($C25,'DM cong viec'!$G$6:$AD$31,17,0) -> 0 | R25: =HLOOKUP($C25,'DM cong viec'!$G$6:$AD$31,18,0) -> 0 | S25: =HLOOKUP($C25,'DM cong viec'!$G$6:$AD$31,19,0) -> 0 | T25: =HLOOKUP($C25,'DM cong viec'!$G$6:$AD$31,20,0) -> x | U25: =HLOOKUP($C25,'DM cong viec'!$G$6:$AD$31,21,0) -> 0 | W25: =HLOOKUP($C25,'DM cong viec'!$G$6:$AD$31,23,0) -> 0 | X25: =HLOOKUP($C25,'DM cong viec'!$G$6:$AD$31,24,0) -> 0 | Y25: =HLOOKUP($C25,'DM cong viec'!$G$6:$AD$31,25,0) -> 0 | Z25: =HLOOKUP($C25,'DM cong viec'!$G$6:$AD$31,26,0) -> 0 | AA25: =COUNTIF(Q25:Z25,"X") -> 1
A26: 14 | B26: Lê Hồng Phúc | C26: 01002012 | D26: =HLOOKUP($C26,'DM cong viec'!$G$6:$AD$31,3,0) -> 0 | E26: =HLOOKUP($C26,'DM cong viec'!$G$6:$AD$31,4,0) -> 0 | F26: =HLOOKUP($C26,'DM cong viec'!$G$6:$AD$31,5,0) -> 0 | G26: =HLOOKUP($C26,'DM cong viec'!$G$6:$AD$31,6,0) -> 0 | H26: =HLOOKUP($C26,'DM cong viec'!$G$6:$AD$31,7,0) -> 0 | I26: =HLOOKUP($C26,'DM cong viec'!$G$6:$AD$31,8,0) -> 0 | J26: =HLOOKUP($C26,'DM cong viec'!$G$6:$AD$31,9,0) -> 0 | K26: =HLOOKUP($C26,'DM cong viec'!$G$6:$AD$31,10,0) -> 0 | L26: =HLOOKUP($C26,'DM cong viec'!$G$6:$AD$31,11,0) -> 0 | M26: =HLOOKUP($C26,'DM cong viec'!$G$6:$AD$31,12,0) -> 0 | N26: =HLOOKUP($C26,'DM cong viec'!$G$6:$AD$31,13,0) -> 0 | O26: =HLOOKUP($C26,'DM cong viec'!$G$6:$AD$31,14,0) -> 0 | P26: =COUNTIF(D26:O26,"X") -> 0 | Q26: =HLOOKUP($C26,'DM cong viec'!$G$6:$AD$31,17,0) -> 0 | R26: =HLOOKUP($C26,'DM cong viec'!$G$6:$AD$31,18,0) -> 0 | S26: =HLOOKUP($C26,'DM cong viec'!$G$6:$AD$31,19,0) -> 0 | T26: =HLOOKUP($C26,'DM cong viec'!$G$6:$AD$31,20,0) -> 0 | U26: =HLOOKUP($C26,'DM cong viec'!$G$6:$AD$31,21,0) -> 0 | W26: =HLOOKUP($C26,'DM cong viec'!$G$6:$AD$31,23,0) -> 0 | X26: =HLOOKUP($C26,'DM cong viec'!$G$6:$AD$31,24,0) -> 0 | Y26: =HLOOKUP($C26,'DM cong viec'!$G$6:$AD$31,25,0) -> 0 | Z26: =HLOOKUP($C26,'DM cong viec'!$G$6:$AD$31,26,0) -> 0 | AA26: =COUNTIF(Q26:Z26,"X") -> 0
A27: 15 | B27: Phạm Hữu Thành Phú | C27: 01002028 | D27: =HLOOKUP($C27,'DM cong viec'!$G$6:$AD$31,3,0) -> 0 | E27: =HLOOKUP($C27,'DM cong viec'!$G$6:$AD$31,4,0) -> 0 | F27: =HLOOKUP($C27,'DM cong viec'!$G$6:$AD$31,5,0) -> x | G27: =HLOOKUP($C27,'DM cong viec'!$G$6:$AD$31,6,0) -> 0 | H27: =HLOOKUP($C27,'DM cong viec'!$G$6:$AD$31,7,0) -> 0 | I27: =HLOOKUP($C27,'DM cong viec'!$G$6:$AD$31,8,0) -> 0 | J27: =HLOOKUP($C27,'DM cong viec'!$G$6:$AD$31,9,0) -> 0 | K27: =HLOOKUP($C27,'DM cong viec'!$G$6:$AD$31,10,0) -> 0 | L27: =HLOOKUP($C27,'DM cong viec'!$G$6:$AD$31,11,0) -> 0 | M27: =HLOOKUP($C27,'DM cong viec'!$G$6:$AD$31,12,0) -> 0 | N27: =HLOOKUP($C27,'DM cong viec'!$G$6:$AD$31,13,0) -> 0 | O27: =HLOOKUP($C27,'DM cong viec'!$G$6:$AD$31,14,0) -> 0 | P27: =COUNTIF(D27:O27,"X") -> 1 | Q27: =HLOOKUP($C27,'DM cong viec'!$G$6:$AD$31,17,0) -> 0 | R27: =HLOOKUP($C27,'DM cong viec'!$G$6:$AD$31,18,0) -> 0 | S27: =HLOOKUP($C27,'DM cong viec'!$G$6:$AD$31,19,0) -> 0 | T27: =HLOOKUP($C27,'DM cong viec'!$G$6:$AD$31,20,0) -> 0 | U27: =HLOOKUP($C27,'DM cong viec'!$G$6:$AD$31,21,0) -> 0 | W27: =HLOOKUP($C27,'DM cong viec'!$G$6:$AD$31,23,0) -> 0 | X27: =HLOOKUP($C27,'DM cong viec'!$G$6:$AD$31,24,0) -> 0 | Y27: =HLOOKUP($C27,'DM cong viec'!$G$6:$AD$31,25,0) -> 0 | Z27: =HLOOKUP($C27,'DM cong viec'!$G$6:$AD$31,26,0) -> 0 | AA27: =COUNTIF(Q27:Z27,"X") -> 0
A28: 16 | B28: ='[1]Dang ky dau nam'!$C$35 -> Huỳnh Thanh Nhàn | C28: 01002027 | D28: =HLOOKUP($C28,'DM cong viec'!$G$6:$AD$31,3,0) -> 0 | E28: =HLOOKUP($C28,'DM cong viec'!$G$6:$AD$31,4,0) -> 0 | F28: =HLOOKUP($C28,'DM cong viec'!$G$6:$AD$31,5,0) -> x | G28: =HLOOKUP($C28,'DM cong viec'!$G$6:$AD$31,6,0) -> 0 | H28: =HLOOKUP($C28,'DM cong viec'!$G$6:$AD$31,7,0) -> 0 | I28: =HLOOKUP($C28,'DM cong viec'!$G$6:$AD$31,8,0) -> 0 | J28: =HLOOKUP($C28,'DM cong viec'!$G$6:$AD$31,9,0) -> 0 | K28: =HLOOKUP($C28,'DM cong viec'!$G$6:$AD$31,10,0) -> 0 | L28: =HLOOKUP($C28,'DM cong viec'!$G$6:$AD$31,11,0) -> 0 | M28: =HLOOKUP($C28,'DM cong viec'!$G$6:$AD$31,12,0) -> 0 | N28: =HLOOKUP($C28,'DM cong viec'!$G$6:$AD$31,13,0) -> 0 | O28: =HLOOKUP($C28,'DM cong viec'!$G$6:$AD$31,14,0) -> 0 | P28: =COUNTIF(D28:O28,"X") -> 1 | Q28: =HLOOKUP($C28,'DM cong viec'!$G$6:$AD$31,17,0) -> 0 | R28: =HLOOKUP($C28,'DM cong viec'!$G$6:$AD$31,18,0) -> 0 | S28: =HLOOKUP($C28,'DM cong viec'!$G$6:$AD$31,19,0) -> 0 | T28: =HLOOKUP($C28,'DM cong viec'!$G$6:$AD$31,20,0) -> 0 | U28: =HLOOKUP($C28,'DM cong viec'!$G$6:$AD$31,21,0) -> 0 | W28: =HLOOKUP($C28,'DM cong viec'!$G$6:$AD$31,23,0) -> 0 | X28: =HLOOKUP($C28,'DM cong viec'!$G$6:$AD$31,24,0) -> 0 | Y28: =HLOOKUP($C28,'DM cong viec'!$G$6:$AD$31,25,0) -> 0 | Z28: =HLOOKUP($C28,'DM cong viec'!$G$6:$AD$31,26,0) -> 0 | AA28: =COUNTIF(Q28:Z28,"X") -> 0
A29: 17 | B29: Đồng Anh Tuấn | C29: 01002013 | D29: =HLOOKUP($C29,'DM cong viec'!$G$6:$AD$31,3,0) -> 0 | E29: =HLOOKUP($C29,'DM cong viec'!$G$6:$AD$31,4,0) -> 0 | F29: =HLOOKUP($C29,'DM cong viec'!$G$6:$AD$31,5,0) -> 0 | G29: =HLOOKUP($C29,'DM cong viec'!$G$6:$AD$31,6,0) -> 0 | H29: =HLOOKUP($C29,'DM cong viec'!$G$6:$AD$31,7,0) -> 0 | I29: =HLOOKUP($C29,'DM cong viec'!$G$6:$AD$31,8,0) -> 0 | J29: =HLOOKUP($C29,'DM cong viec'!$G$6:$AD$31,9,0) -> 0 | K29: =HLOOKUP($C29,'DM cong viec'!$G$6:$AD$31,10,0) -> 0 | L29: =HLOOKUP($C29,'DM cong viec'!$G$6:$AD$31,11,0) -> 0 | M29: =HLOOKUP($C29,'DM cong viec'!$G$6:$AD$31,12,0) -> 0 | N29: =HLOOKUP($C29,'DM cong viec'!$G$6:$AD$31,13,0) -> 0 | O29: =HLOOKUP($C29,'DM cong viec'!$G$6:$AD$31,14,0) -> 0 | P29: =COUNTIF(D29:O29,"X") -> 0 | Q29: =HLOOKUP($C29,'DM cong viec'!$G$6:$AD$31,17,0) -> 0 | R29: =HLOOKUP($C29,'DM cong viec'!$G$6:$AD$31,18,0) -> 0 | S29: =HLOOKUP($C29,'DM cong viec'!$G$6:$AD$31,19,0) -> 0 | T29: =HLOOKUP($C29,'DM cong viec'!$G$6:$AD$31,20,0) -> 0 | U29: =HLOOKUP($C29,'DM cong viec'!$G$6:$AD$31,21,0) -> 0 | W29: =HLOOKUP($C29,'DM cong viec'!$G$6:$AD$31,23,0) -> 0 | X29: =HLOOKUP($C29,'DM cong viec'!$G$6:$AD$31,24,0) -> 0 | Y29: =HLOOKUP($C29,'DM cong viec'!$G$6:$AD$31,25,0) -> 0 | Z29: =HLOOKUP($C29,'DM cong viec'!$G$6:$AD$31,26,0) -> 0 | AA29: =COUNTIF(Q29:Z29,"X") -> 0
A30: 18 | B30: Nguyễn Thanh Hiền | C30: 01002033 | D30: =HLOOKUP($C30,'DM cong viec'!$G$6:$AD$31,3,0) -> 0 | E30: =HLOOKUP($C30,'DM cong viec'!$G$6:$AD$31,4,0) -> 0 | F30: =HLOOKUP($C30,'DM cong viec'!$G$6:$AD$31,5,0) -> x | G30: =HLOOKUP($C30,'DM cong viec'!$G$6:$AD$31,6,0) -> 0 | H30: =HLOOKUP($C30,'DM cong viec'!$G$6:$AD$31,7,0) -> 0 | I30: =HLOOKUP($C30,'DM cong viec'!$G$6:$AD$31,8,0) -> 0 | J30: =HLOOKUP($C30,'DM cong viec'!$G$6:$AD$31,9,0) -> 0 | K30: =HLOOKUP($C30,'DM cong viec'!$G$6:$AD$31,10,0) -> 0 | L30: =HLOOKUP($C30,'DM cong viec'!$G$6:$AD$31,11,0) -> 0 | M30: =HLOOKUP($C30,'DM cong viec'!$G$6:$AD$31,12,0) -> 0 | N30: =HLOOKUP($C30,'DM cong viec'!$G$6:$AD$31,13,0) -> 0 | O30: =HLOOKUP($C30,'DM cong viec'!$G$6:$AD$31,14,0) -> 0 | P30: =COUNTIF(D30:O30,"X") -> 1 | Q30: =HLOOKUP($C30,'DM cong viec'!$G$6:$AD$31,17,0) -> 0 | R30: =HLOOKUP($C30,'DM cong viec'!$G$6:$AD$31,18,0) -> 0 | S30: =HLOOKUP($C30,'DM cong viec'!$G$6:$AD$31,19,0) -> 0 | T30: =HLOOKUP($C30,'DM cong viec'!$G$6:$AD$31,20,0) -> 0 | U30: =HLOOKUP($C30,'DM cong viec'!$G$6:$AD$31,21,0) -> 0 | W30: =HLOOKUP($C30,'DM cong viec'!$G$6:$AD$31,23,0) -> 0 | X30: =HLOOKUP($C30,'DM cong viec'!$G$6:$AD$31,24,0) -> 0 | Y30: =HLOOKUP($C30,'DM cong viec'!$G$6:$AD$31,25,0) -> 0 | Z30: =HLOOKUP($C30,'DM cong viec'!$G$6:$AD$31,26,0) -> 0 | AA30: =COUNTIF(Q30:Z30,"X") -> 0
A31: 19 | B31: Phạm Quang Tùng | C31: 01010068 | D31: =HLOOKUP($C31,'DM cong viec'!$G$6:$AD$31,3,0) -> 0 | E31: =HLOOKUP($C31,'DM cong viec'!$G$6:$AD$31,4,0) -> 0 | F31: =HLOOKUP($C31,'DM cong viec'!$G$6:$AD$31,5,0) -> 0 | G31: =HLOOKUP($C31,'DM cong viec'!$G$6:$AD$31,6,0) -> 0 | H31: =HLOOKUP($C31,'DM cong viec'!$G$6:$AD$31,7,0) -> 0 | I31: =HLOOKUP($C31,'DM cong viec'!$G$6:$AD$31,8,0) -> 0 | J31: =HLOOKUP($C31,'DM cong viec'!$G$6:$AD$31,9,0) -> 0 | K31: =HLOOKUP($C31,'DM cong viec'!$G$6:$AD$31,10,0) -> 0 | L31: =HLOOKUP($C31,'DM cong viec'!$G$6:$AD$31,11,0) -> 0 | M31: =HLOOKUP($C31,'DM cong viec'!$G$6:$AD$31,12,0) -> 0 | N31: =HLOOKUP($C31,'DM cong viec'!$G$6:$AD$31,13,0) -> 0 | O31: =HLOOKUP($C31,'DM cong viec'!$G$6:$AD$31,14,0) -> 0 | P31: =COUNTIF(D31:O31,"X") -> 0 | Q31: =HLOOKUP($C31,'DM cong viec'!$G$6:$AD$31,17,0) -> 0 | R31: =HLOOKUP($C31,'DM cong viec'!$G$6:$AD$31,18,0) -> 0 | S31: =HLOOKUP($C31,'DM cong viec'!$G$6:$AD$31,19,0) -> 0 | T31: =HLOOKUP($C31,'DM cong viec'!$G$6:$AD$31,20,0) -> 0 | U31: =HLOOKUP($C31,'DM cong viec'!$G$6:$AD$31,21,0) -> 0 | W31: =HLOOKUP($C31,'DM cong viec'!$G$6:$AD$31,23,0) -> 0 | X31: =HLOOKUP($C31,'DM cong viec'!$G$6:$AD$31,24,0) -> 0 | Y31: =HLOOKUP($C31,'DM cong viec'!$G$6:$AD$31,25,0) -> 0 | Z31: =HLOOKUP($C31,'DM cong viec'!$G$6:$AD$31,26,0) -> 0 | AA31: =COUNTIF(Q31:Z31,"X") -> 0
A32: 20 | B32: Trần Thanh Cường | C32: 01002040 | D32: =HLOOKUP($C32,'DM cong viec'!$G$6:$AD$31,3,0) -> 0 | E32: =HLOOKUP($C32,'DM cong viec'!$G$6:$AD$31,4,0) -> 0 | F32: =HLOOKUP($C32,'DM cong viec'!$G$6:$AD$31,5,0) -> x | G32: =HLOOKUP($C32,'DM cong viec'!$G$6:$AD$31,6,0) -> 0 | H32: =HLOOKUP($C32,'DM cong viec'!$G$6:$AD$31,7,0) -> 0 | I32: =HLOOKUP($C32,'DM cong viec'!$G$6:$AD$31,8,0) -> 0 | J32: =HLOOKUP($C32,'DM cong viec'!$G$6:$AD$31,9,0) -> 0 | K32: =HLOOKUP($C32,'DM cong viec'!$G$6:$AD$31,10,0) -> 0 | L32: =HLOOKUP($C32,'DM cong viec'!$G$6:$AD$31,11,0) -> 0 | M32: =HLOOKUP($C32,'DM cong viec'!$G$6:$AD$31,12,0) -> 0 | N32: =HLOOKUP($C32,'DM cong viec'!$G$6:$AD$31,13,0) -> 0 | O32: =HLOOKUP($C32,'DM cong viec'!$G$6:$AD$31,14,0) -> 0 | P32: =COUNTIF(D32:O32,"X") -> 1 | Q32: =HLOOKUP($C32,'DM cong viec'!$G$6:$AD$31,17,0) -> 0 | R32: =HLOOKUP($C32,'DM cong viec'!$G$6:$AD$31,18,0) -> 0 | S32: =HLOOKUP($C32,'DM cong viec'!$G$6:$AD$31,19,0) -> 0 | T32: =HLOOKUP($C32,'DM cong viec'!$G$6:$AD$31,20,0) -> 0 | U32: =HLOOKUP($C32,'DM cong viec'!$G$6:$AD$31,21,0) -> 0 | W32: =HLOOKUP($C32,'DM cong viec'!$G$6:$AD$31,23,0) -> 0 | X32: =HLOOKUP($C32,'DM cong viec'!$G$6:$AD$31,24,0) -> 0 | Y32: =HLOOKUP($C32,'DM cong viec'!$G$6:$AD$31,25,0) -> 0 | Z32: =HLOOKUP($C32,'DM cong viec'!$G$6:$AD$31,26,0) -> 0 | AA32: =COUNTIF(Q32:Z32,"X") -> 0
A33: 21 | B33: Vũ Anh Hiếu | C33: 01002041 | D33: =HLOOKUP($C33,'DM cong viec'!$G$6:$AD$31,3,0) -> x | E33: =HLOOKUP($C33,'DM cong viec'!$G$6:$AD$31,4,0) -> 0 | F33: =HLOOKUP($C33,'DM cong viec'!$G$6:$AD$31,5,0) -> x | G33: =HLOOKUP($C33,'DM cong viec'!$G$6:$AD$31,6,0) -> 0 | H33: =HLOOKUP($C33,'DM cong viec'!$G$6:$AD$31,7,0) -> 0 | I33: =HLOOKUP($C33,'DM cong viec'!$G$6:$AD$31,8,0) -> 0 | J33: =HLOOKUP($C33,'DM cong viec'!$G$6:$AD$31,9,0) -> 0 | K33: =HLOOKUP($C33,'DM cong viec'!$G$6:$AD$31,10,0) -> 0 | L33: =HLOOKUP($C33,'DM cong viec'!$G$6:$AD$31,11,0) -> 0 | M33: =HLOOKUP($C33,'DM cong viec'!$G$6:$AD$31,12,0) -> 0 | N33: =HLOOKUP($C33,'DM cong viec'!$G$6:$AD$31,13,0) -> 0 | O33: =HLOOKUP($C33,'DM cong viec'!$G$6:$AD$31,14,0) -> 0 | P33: =COUNTIF(D33:O33,"X") -> 2 | Q33: =HLOOKUP($C33,'DM cong viec'!$G$6:$AD$31,17,0) -> 0 | R33: =HLOOKUP($C33,'DM cong viec'!$G$6:$AD$31,18,0) -> 0 | S33: =HLOOKUP($C33,'DM cong viec'!$G$6:$AD$31,19,0) -> 0 | T33: =HLOOKUP($C33,'DM cong viec'!$G$6:$AD$31,20,0) -> 0 | U33: =HLOOKUP($C33,'DM cong viec'!$G$6:$AD$31,21,0) -> 0 | W33: =HLOOKUP($C33,'DM cong viec'!$G$6:$AD$31,23,0) -> 0 | X33: =HLOOKUP($C33,'DM cong viec'!$G$6:$AD$31,24,0) -> 0 | Y33: =HLOOKUP($C33,'DM cong viec'!$G$6:$AD$31,25,0) -> 0 | Z33: =HLOOKUP($C33,'DM cong viec'!$G$6:$AD$31,26,0) -> 0 | AA33: =COUNTIF(Q33:Z33,"X") -> 0
A34: 22 | B34: Phan Đức Hiếu | C34: 01002042 | D34: =HLOOKUP($C34,'DM cong viec'!$G$6:$AD$31,3,0) -> 0 | E34: =HLOOKUP($C34,'DM cong viec'!$G$6:$AD$31,4,0) -> 0 | F34: =HLOOKUP($C34,'DM cong viec'!$G$6:$AD$31,5,0) -> x | G34: =HLOOKUP($C34,'DM cong viec'!$G$6:$AD$31,6,0) -> 0 | H34: =HLOOKUP($C34,'DM cong viec'!$G$6:$AD$31,7,0) -> 0 | I34: =HLOOKUP($C34,'DM cong viec'!$G$6:$AD$31,8,0) -> 0 | J34: =HLOOKUP($C34,'DM cong viec'!$G$6:$AD$31,9,0) -> 0 | K34: =HLOOKUP($C34,'DM cong viec'!$G$6:$AD$31,10,0) -> 0 | L34: =HLOOKUP($C34,'DM cong viec'!$G$6:$AD$31,11,0) -> 0 | M34: =HLOOKUP($C34,'DM cong viec'!$G$6:$AD$31,12,0) -> 0 | N34: =HLOOKUP($C34,'DM cong viec'!$G$6:$AD$31,13,0) -> 0 | O34: =HLOOKUP($C34,'DM cong viec'!$G$6:$AD$31,14,0) -> 0 | P34: =COUNTIF(D34:O34,"X") -> 1 | Q34: =HLOOKUP($C34,'DM cong viec'!$G$6:$AD$31,17,0) -> 0 | R34: =HLOOKUP($C34,'DM cong viec'!$G$6:$AD$31,18,0) -> 0 | S34: =HLOOKUP($C34,'DM cong viec'!$G$6:$AD$31,19,0) -> 0 | T34: =HLOOKUP($C34,'DM cong viec'!$G$6:$AD$31,20,0) -> 0 | U34: =HLOOKUP($C34,'DM cong viec'!$G$6:$AD$31,21,0) -> 0 | W34: =HLOOKUP($C34,'DM cong viec'!$G$6:$AD$31,23,0) -> 0 | X34: =HLOOKUP($C34,'DM cong viec'!$G$6:$AD$31,24,0) -> 0 | Y34: =HLOOKUP($C34,'DM cong viec'!$G$6:$AD$31,25,0) -> 0 | Z34: =HLOOKUP($C34,'DM cong viec'!$G$6:$AD$31,26,0) -> 0 | AA34: =COUNTIF(Q34:Z34,"X") -> 0
A35: 23 | B35: Dương Văn Tâm | C35: 01002035 | D35: =HLOOKUP($C35,'DM cong viec'!$G$6:$AD$31,3,0) -> x | E35: =HLOOKUP($C35,'DM cong viec'!$G$6:$AD$31,4,0) -> 0 | F35: =HLOOKUP($C35,'DM cong viec'!$G$6:$AD$31,5,0) -> 0 | G35: =HLOOKUP($C35,'DM cong viec'!$G$6:$AD$31,6,0) -> 0 | H35: =HLOOKUP($C35,'DM cong viec'!$G$6:$AD$31,7,0) -> 0 | I35: =HLOOKUP($C35,'DM cong viec'!$G$6:$AD$31,8,0) -> 0 | J35: =HLOOKUP($C35,'DM cong viec'!$G$6:$AD$31,9,0) -> 0 | K35: =HLOOKUP($C35,'DM cong viec'!$G$6:$AD$31,10,0) -> 0 | L35: =HLOOKUP($C35,'DM cong viec'!$G$6:$AD$31,11,0) -> 0 | M35: =HLOOKUP($C35,'DM cong viec'!$G$6:$AD$31,12,0) -> 0 | N35: =HLOOKUP($C35,'DM cong viec'!$G$6:$AD$31,13,0) -> 0 | O35: =HLOOKUP($C35,'DM cong viec'!$G$6:$AD$31,14,0) -> 0 | P35: =COUNTIF(D35:O35,"X") -> 1 | Q35: =HLOOKUP($C35,'DM cong viec'!$G$6:$AD$31,17,0) -> 0 | R35: =HLOOKUP($C35,'DM cong viec'!$G$6:$AD$31,18,0) -> 0 | S35: =HLOOKUP($C35,'DM cong viec'!$G$6:$AD$31,19,0) -> 0 | T35: =HLOOKUP($C35,'DM cong viec'!$G$6:$AD$31,20,0) -> 0 | U35: =HLOOKUP($C35,'DM cong viec'!$G$6:$AD$31,21,0) -> 0 | W35: =HLOOKUP($C35,'DM cong viec'!$G$6:$AD$31,23,0) -> 0 | X35: =HLOOKUP($C35,'DM cong viec'!$G$6:$AD$31,24,0) -> 0 | Y35: =HLOOKUP($C35,'DM cong viec'!$G$6:$AD$31,25,0) -> 0 | Z35: =HLOOKUP($C35,'DM cong viec'!$G$6:$AD$31,26,0) -> 0 | AA35: =COUNTIF(Q35:Z35,"X") -> 0
A36: 24 | B36: Huỳnh Ngọc Liên | C36: 01002036 | D36: =HLOOKUP($C36,'DM cong viec'!$G$6:$AD$31,3,0) -> 0 | E36: =HLOOKUP($C36,'DM cong viec'!$G$6:$AD$31,4,0) -> x | F36: =HLOOKUP($C36,'DM cong viec'!$G$6:$AD$31,5,0) -> 0 | G36: =HLOOKUP($C36,'DM cong viec'!$G$6:$AD$31,6,0) -> 0 | H36: =HLOOKUP($C36,'DM cong viec'!$G$6:$AD$31,7,0) -> 0 | I36: =HLOOKUP($C36,'DM cong viec'!$G$6:$AD$31,8,0) -> 0 | J36: =HLOOKUP($C36,'DM cong viec'!$G$6:$AD$31,9,0) -> 0 | K36: =HLOOKUP($C36,'DM cong viec'!$G$6:$AD$31,10,0) -> 0 | L36: =HLOOKUP($C36,'DM cong viec'!$G$6:$AD$31,11,0) -> 0 | M36: =HLOOKUP($C36,'DM cong viec'!$G$6:$AD$31,12,0) -> 0 | N36: =HLOOKUP($C36,'DM cong viec'!$G$6:$AD$31,13,0) -> 0 | O36: =HLOOKUP($C36,'DM cong viec'!$G$6:$AD$31,14,0) -> 0 | P36: =COUNTIF(D36:O36,"X") -> 1 | Q36: =HLOOKUP($C36,'DM cong viec'!$G$6:$AD$31,17,0) -> 0 | R36: =HLOOKUP($C36,'DM cong viec'!$G$6:$AD$31,18,0) -> x | S36: =HLOOKUP($C36,'DM cong viec'!$G$6:$AD$31,19,0) -> 0 | T36: =HLOOKUP($C36,'DM cong viec'!$G$6:$AD$31,20,0) -> 0 | U36: =HLOOKUP($C36,'DM cong viec'!$G$6:$AD$31,21,0) -> 0 | W36: =HLOOKUP($C36,'DM cong viec'!$G$6:$AD$31,23,0) -> 0 | X36: =HLOOKUP($C36,'DM cong viec'!$G$6:$AD$31,24,0) -> 0 | Y36: =HLOOKUP($C36,'DM cong viec'!$G$6:$AD$31,25,0) -> 0 | Z36: =HLOOKUP($C36,'DM cong viec'!$G$6:$AD$31,26,0) -> 0 | AA36: =COUNTIF(Q36:Z36,"X") -> 1
A38: Lưu ý: Các đơn vị gửi file mềm qua hệ thống điện tử E-office nhà trường về phòng TC-HC-TH (Cô Trần Thị Ánh Phượng).
Q40: TRƯỞNG ĐƠN VỊ

Sheet Thi dua
A1: TRƯỜNG CAO ĐẲNG LÝ TỰ TRỌNG | F1: CỘNG HÒA XÃ HỘI CHỦ NGHĨA VIỆT NAM
A2: THÀNH PHỐ HỒ CHÍ MINH | F2: Độc lập - Tự do - Hạnh phúc
A3: PHÒNG TỔ CHỨC - HÀNH CHÍNH - TỔNG HỢP
J4: Mẫu 3
A5: DANH SÁCH XẾP LOẠI THI ĐUA THÁNG 4/2025
A7: TT | B7: Họ tên | C7: Mã E-Office | D7: Đơn vị xếp loại thi đua theo quy định | H7: Số ngày nghỉ/ tiết nghỉ | I7: Đơn vị đề nghị mức xếp loại thi đua A1, A2 và sắp xếp danh sách cá nhân theo thứ tự ưu tiên
D8: Xếp loại | E8: Lý do | F8: Công việc chung của trường | G8: Công việc riêng của đơn vị | I8: Xếp loại | J8: Lý do đề nghị
A9: I. Cán bộ quản lý | D9: =COUNTA(D10:D11) -> 2 | L9: Ghi chú | N9: Tỷ lệ xét A1, A2 không tính CBQL | O9: SL chỉ tiêu
A10: 01 | B10: Lưu Hoàng Hải Yến | C10: 01002019 | D10: =IF(AND($F10>=2,$G10>=3,H10>=0),"A1",IF(AND($F10>=3,$G10>=1,H10>=0),"A1",IF(AND($F10>=4,$G10>=0,H10>=0),"A1",IF(AND($F10>=2,$G10>=2,H10>=0),"A2",IF(AND($F10>=3,$G10>=0,H10>=0),"A2",IF(AND(OR($F10>=1,$G10>=2),H10>=-2),"A3","A4")))))) -> A2 | F10: =IFERROR(VLOOKUP($C10,'Mau 2'!$C$12:$AA$36,14,0),0) -> 3 | G10: =IFERROR(VLOOKUP($C10,'Mau 2'!$C$12:$AA$36,25,0),0) -> 0 | L10: A2 | M10: 2 việc trường và 2 việc đơn vị | N10: Không quá 30% | O10: =ROUND(23*30/100,0) -> 7
A11: 02 | B11: Huỳnh Thị Minh Ly | C11: 01004007 | D11: =IF(AND($F11>=2,$G11>=3,H11>=0),"A1",IF(AND($F11>=3,$G11>=1,H11>=0),"A1",IF(AND($F11>=4,$G11>=0,H11>=0),"A1",IF(AND($F11>=2,$G11>=2,H11>=0),"A2",IF(AND($F11>=3,$G11>=0,H11>=0),"A2",IF(AND(OR($F11>=1,$G11>=2),H11>=-2),"A3","A4")))))) -> A1 | F11: =IFERROR(VLOOKUP($C11,'Mau 2'!$C$12:$AA$36,14,0),0) -> 4 | G11: =IFERROR(VLOOKUP($C11,'Mau 2'!$C$12:$AA$36,25,0),0) -> 0 | L11: A3 | M11: 1 việc trường HOẶC 2 việc đơn vị
A12: II. Nhân viên | D12: =COUNTA(D13:D34) -> 22 | G12: =IFERROR(VLOOKUP($C12,'Mau 2'!$C$12:$AA$36,25,0),0) -> 0 | L12: A4
A13: 03 | B13: Vũ Như Quỳnh | C13: 01002017 | D13: =IF(AND($F13>=2,$G13>=3,H13>=0),"A1",IF(AND($F13>=3,$G13>=1,H13>=0),"A1",IF(AND($F13>=4,$G13>=0,H13>=0),"A1",IF(AND($F13>=2,$G13>=2,H13>=0),"A2",IF(AND($F13>=3,$G13>=0,H13>=0),"A2",IF(AND(OR($F13>=1,$G13>=2),H13>=-2),"A3","A4")))))) -> A3 | F13: =IFERROR(VLOOKUP($C13,'Mau 2'!$C$12:$AA$36,14,0),0) -> 2 | G13: =IFERROR(VLOOKUP($C13,'Mau 2'!$C$12:$AA$36,25,0),0) -> 0
A14: 04 | B14: Phan Thị Ngọc Phượng | C14: 01002018 | D14: =IF(AND($F14>=2,$G14>=3,H14>=0),"A1",IF(AND($F14>=3,$G14>=1,H14>=0),"A1",IF(AND($F14>=4,$G14>=0,H14>=0),"A1",IF(AND($F14>=2,$G14>=2,H14>=0),"A2",IF(AND($F14>=3,$G14>=0,H14>=0),"A2",IF(AND(OR($F14>=1,$G14>=2),H14>=-2),"A3","A4")))))) -> A3 | F14: =IFERROR(VLOOKUP($C14,'Mau 2'!$C$12:$AA$36,14,0),0) -> 2 | G14: =IFERROR(VLOOKUP($C14,'Mau 2'!$C$12:$AA$36,25,0),0) -> 0
A15: 05 | B15: Nguyễn Thị Bích Liễu | C15: 01002005 | D15: =IF(AND($F15>=2,$G15>=3,H15>=0),"A1",IF(AND($F15>=3,$G15>=1,H15>=0),"A1",IF(AND($F15>=4,$G15>=0,H15>=0),"A1",IF(AND($F15>=2,$G15>=2,H15>=0),"A2",IF(AND($F15>=3,$G15>=0,H15>=0),"A2",IF(AND(OR($F15>=1,$G15>=2),H15>=-2),"A3","A4")))))) -> A2 | F15: =IFERROR(VLOOKUP($C15,'Mau 2'!$C$12:$AA$36,14,0),0) -> 2 | G15: =IFERROR(VLOOKUP($C15,'Mau 2'!$C$12:$AA$36,25,0),0) -> 2
A16: 06 | B16: Nguyễn Văn Chì | C16: 01023001 | D16: =IF(AND($F16>=2,$G16>=3,H16>=0),"A1",IF(AND($F16>=3,$G16>=1,H16>=0),"A1",IF(AND($F16>=4,$G16>=0,H16>=0),"A1",IF(AND($F16>=2,$G16>=2,H16>=0),"A2",IF(AND($F16>=3,$G16>=0,H16>=0),"A2",IF(AND(OR($F16>=1,$G16>=2),H16>=-2),"A3","A4")))))) -> A3 | F16: =IFERROR(VLOOKUP($C16,'Mau 2'!$C$12:$AA$36,14,0),0) -> 2 | G16: =IFERROR(VLOOKUP($C16,'Mau 2'!$C$12:$AA$36,25,0),0) -> 0
A17: 07 | B17: Trần Thị Ánh Phượng | C17: 01017006 | D17: =IF(AND($F17>=2,$G17>=3,H17>=0),"A1",IF(AND($F17>=3,$G17>=1,H17>=0),"A1",IF(AND($F17>=4,$G17>=0,H17>=0),"A1",IF(AND($F17>=2,$G17>=2,H17>=0),"A2",IF(AND($F17>=3,$G17>=0,H17>=0),"A2",IF(AND(OR($F17>=1,$G17>=2),H17>=-2),"A3","A4")))))) -> A3 | F17: =IFERROR(VLOOKUP($C17,'Mau 2'!$C$12:$AA$36,14,0),0) -> 2 | G17: =IFERROR(VLOOKUP($C17,'Mau 2'!$C$12:$AA$36,25,0),0) -> 1
A18: 08 | B18: Nguyễn Thị Vân | C18: 01002032 | D18: =IF(AND($F18>=2,$G18>=3,H18>=0),"A1",IF(AND($F18>=3,$G18>=1,H18>=0),"A1",IF(AND($F18>=4,$G18>=0,H18>=0),"A1",IF(AND($F18>=2,$G18>=2,H18>=0),"A2",IF(AND($F18>=3,$G18>=0,H18>=0),"A2",IF(AND(OR($F18>=1,$G18>=2),H18>=-2),"A3","A4")))))) -> A2 | F18: =IFERROR(VLOOKUP($C18,'Mau 2'!$C$12:$AA$36,14,0),0) -> 2 | G18: =IFERROR(VLOOKUP($C18,'Mau 2'!$C$12:$AA$36,25,0),0) -> 2
A19: 09 | B19: Trần Thị Phương Oanh | C19: 01007007 | D19: =IF(AND($F19>=2,$G19>=3,H19>=0),"A1",IF(AND($F19>=3,$G19>=1,H19>=0),"A1",IF(AND($F19>=4,$G19>=0,H19>=0),"A1",IF(AND($F19>=2,$G19>=2,H19>=0),"A2",IF(AND($F19>=3,$G19>=0,H19>=0),"A2",IF(AND(OR($F19>=1,$G19>=2),H19>=-2),"A3","A4")))))) -> A3 | F19: =IFERROR(VLOOKUP($C19,'Mau 2'!$C$12:$AA$36,14,0),0) -> 1 | G19: =IFERROR(VLOOKUP($C19,'Mau 2'!$C$12:$AA$36,25,0),0) -> 2
A20: 10 | B20: Huỳnh Thị Xuân Mai | C20: 01007006 | D20: =IF(AND($F20>=2,$G20>=3,H20>=0),"A1",IF(AND($F20>=3,$G20>=1,H20>=0),"A1",IF(AND($F20>=4,$G20>=0,H20>=0),"A1",IF(AND($F20>=2,$G20>=2,H20>=0),"A2",IF(AND($F20>=3,$G20>=0,H20>=0),"A2",IF(AND(OR($F20>=1,$G20>=2),H20>=-2),"A3","A4")))))) -> A3 | F20: =IFERROR(VLOOKUP($C20,'Mau 2'!$C$12:$AA$36,14,0),0) -> 2 | G20: =IFERROR(VLOOKUP($C20,'Mau 2'!$C$12:$AA$36,25,0),0) -> 0
A21: 11 | B21: Phạm Hữu Tấn | C21: 01002023 | D21: =IF(AND($F21>=2,$G21>=3,H21>=0),"A1",IF(AND($F21>=3,$G21>=1,H21>=0),"A1",IF(AND($F21>=4,$G21>=0,H21>=0),"A1",IF(AND($F21>=2,$G21>=2,H21>=0),"A2",IF(AND($F21>=3,$G21>=0,H21>=0),"A2",IF(AND(OR($F21>=1,$G21>=2),H21>=-2),"A3","A4")))))) -> A4 | F21: =IFERROR(VLOOKUP($C21,'Mau 2'!$C$12:$AA$36,14,0),0) -> 0 | G21: =IFERROR(VLOOKUP($C21,'Mau 2'!$C$12:$AA$36,25,0),0) -> 0
A22: 12 | B22: Trần Văn Cu Anh | C22: 01002007 | D22: =IF(AND($F22>=2,$G22>=3,H22>=0),"A1",IF(AND($F22>=3,$G22>=1,H22>=0),"A1",IF(AND($F22>=4,$G22>=0,H22>=0),"A1",IF(AND($F22>=2,$G22>=2,H22>=0),"A2",IF(AND($F22>=3,$G22>=0,H22>=0),"A2",IF(AND(OR($F22>=1,$G22>=2),H22>=-2),"A3","A4")))))) -> A4 | F22: =IFERROR(VLOOKUP($C22,'Mau 2'!$C$12:$AA$36,14,0),0) -> 0 | G22: =IFERROR(VLOOKUP($C22,'Mau 2'!$C$12:$AA$36,25,0),0) -> 0
A23: 13 | B23: Nguyễn Hữu Xuân Vũ | C23: 01002010 | D23: A4 | E23: Nhắc nhở thực hiện nghiêm túc quy định trong ca trực | F23: =IFERROR(VLOOKUP($C23,'Mau 2'!$C$12:$AA$36,14,0),0) -> 2 | G23: =IFERROR(VLOOKUP($C23,'Mau 2'!$C$12:$AA$36,25,0),0) -> 1
A24: 14 | B24: Lê Hồng Phúc | C24: 01002012 | D24: =IF(AND($F24>=2,$G24>=3,H24>=0),"A1",IF(AND($F24>=3,$G24>=1,H24>=0),"A1",IF(AND($F24>=4,$G24>=0,H24>=0),"A1",IF(AND($F24>=2,$G24>=2,H24>=0),"A2",IF(AND($F24>=3,$G24>=0,H24>=0),"A2",IF(AND(OR($F24>=1,$G24>=2),H24>=-2),"A3","A4")))))) -> A4 | F24: =IFERROR(VLOOKUP($C24,'Mau 2'!$C$12:$AA$36,14,0),0) -> 0 | G24: =IFERROR(VLOOKUP($C24,'Mau 2'!$C$12:$AA$36,25,0),0) -> 0
A25: 15 | B25: Phạm Hữu Thành Phú | C25: 01002028 | D25: =IF(AND($F25>=2,$G25>=3,H25>=0),"A1",IF(AND($F25>=3,$G25>=1,H25>=0),"A1",IF(AND($F25>=4,$G25>=0,H25>=0),"A1",IF(AND($F25>=2,$G25>=2,H25>=0),"A2",IF(AND($F25>=3,$G25>=0,H25>=0),"A2",IF(AND(OR($F25>=1,$G25>=2),H25>=-2),"A3","A4")))))) -> A3 | F25: =IFERROR(VLOOKUP($C25,'Mau 2'!$C$12:$AA$36,14,0),0) -> 1 | G25: =IFERROR(VLOOKUP($C25,'Mau 2'!$C$12:$AA$36,25,0),0) -> 0
A26: 16 | B26: ='[1]Dang ky dau nam'!$C$35 -> Huỳnh Thanh Nhàn | C26: 01002027 | D26: =IF(AND($F26>=2,$G26>=3,H26>=0),"A1",IF(AND($F26>=3,$G26>=1,H26>=0),"A1",IF(AND($F26>=4,$G26>=0,H26>=0),"A1",IF(AND($F26>=2,$G26>=2,H26>=0),"A2",IF(AND($F26>=3,$G26>=0,H26>=0),"A2",IF(AND(OR($F26>=1,$G26>=2),H26>=-2),"A3","A4")))))) -> A3 | F26: =IFERROR(VLOOKUP($C26,'Mau 2'!$C$12:$AA$36,14,0),0) -> 1 | G26: =IFERROR(VLOOKUP($C26,'Mau 2'!$C$12:$AA$36,25,0),0) -> 0
A27: 17 | B27: Đồng Anh Tuấn | C27: 01002013 | D27: =IF(AND($F27>=2,$G27>=3,H27>=0),"A1",IF(AND($F27>=3,$G27>=1,H27>=0),"A1",IF(AND($F27>=4,$G27>=0,H27>=0),"A1",IF(AND($F27>=2,$G27>=2,H27>=0),"A2",IF(AND($F27>=3,$G27>=0,H27>=0),"A2",IF(AND(OR($F27>=1,$G27>=2),H27>=-2),"A3","A4")))))) -> A4 | E27: Nhắc nhở thực hiện nghiêm túc quy định trong ca trực | F27: =IFERROR(VLOOKUP($C27,'Mau 2'!$C$12:$AA$36,14,0),0) -> 0 | G27: =IFERROR(VLOOKUP($C27,'Mau 2'!$C$12:$AA$36,25,0),0) -> 0 | H27: 2
A28: 18 | B28: Nguyễn Thanh Hiền | C28: 01002033 | D28: =IF(AND($F28>=2,$G28>=3,H28>=0),"A1",IF(AND($F28>=3,$G28>=1,H28>=0),"A1",IF(AND($F28>=4,$G28>=0,H28>=0),"A1",IF(AND($F28>=2,$G28>=2,H28>=0),"A2",IF(AND($F28>=3,$G28>=0,H28>=0),"A2",IF(AND(OR($F28>=1,$G28>=2),H28>=-2),"A3","A4")))))) -> A3 | F28: =IFERROR(VLOOKUP($C28,'Mau 2'!$C$12:$AA$36,14,0),0) -> 1 | G28: =IFERROR(VLOOKUP($C28,'Mau 2'!$C$12:$AA$36,25,0),0) -> 0
A29: 19 | B29: Phạm Quang Tùng | C29: 01010068 | D29: =IF(AND($F29>=2,$G29>=3,H29>=0),"A1",IF(AND($F29>=3,$G29>=1,H29>=0),"A1",IF(AND($F29>=4,$G29>=0,H29>=0),"A1",IF(AND($F29>=2,$G29>=2,H29>=0),"A2",IF(AND($F29>=3,$G29>=0,H29>=0),"A2",IF(AND(OR($F29>=1,$G29>=2),H29>=-2),"A3","A4")))))) -> A4 | F29: =IFERROR(VLOOKUP($C29,'Mau 2'!$C$12:$AA$36,14,0),0) -> 0 | G29: =IFERROR(VLOOKUP($C29,'Mau 2'!$C$12:$AA$36,25,0),0) -> 0
A30: 20 | B30: Trần Thanh Cường | C30: 01002040 | D30: =IF(AND($F30>=2,$G30>=3,H30>=0),"A1",IF(AND($F30>=3,$G30>=1,H30>=0),"A1",IF(AND($F30>=4,$G30>=0,H30>=0),"A1",IF(AND($F30>=2,$G30>=2,H30>=0),"A2",IF(AND($F30>=3,$G30>=0,H30>=0),"A2",IF(AND(OR($F30>=1,$G30>=2),H30>=-2),"A3","A4")))))) -> A3 | F30: =IFERROR(VLOOKUP($C30,'Mau 2'!$C$12:$AA$36,14,0),0) -> 1 | G30: =IFERROR(VLOOKUP($C30,'Mau 2'!$C$12:$AA$36,25,0),0) -> 0
A31: 21 | B31: Vũ Anh Hiếu | C31: 01002041 | D31: =IF(AND($F31>=2,$G31>=3,H31>=0),"A1",IF(AND($F31>=3,$G31>=1,H31>=0),"A1",IF(AND($F31>=4,$G31>=0,H31>=0),"A1",IF(AND($F31>=2,$G31>=2,H31>=0),"A2",IF(AND($F31>=3,$G31>=0,H31>=0),"A2",IF(AND(OR($F31>=1,$G31>=2),H31>=-2),"A3","A4")))))) -> A3 | F31: =IFERROR(VLOOKUP($C31,'Mau 2'!$C$12:$AA$36,14,0),0) -> 2 | G31: =IFERROR(VLOOKUP($C31,'Mau 2'!$C$12:$AA$36,25,0),0) -> 0 | I31: A2 | J31: Thường xuyên hỗ trợ công tác lái xe ngoài ca trực
A32: 22 | B32: Phan Đức Hiếu | C32: 01002042 | D32: =IF(AND($F32>=2,$G32>=3,H32>=0),"A1",IF(AND($F32>=3,$G32>=1,H32>=0),"A1",IF(AND($F32>=4,$G32>=0,H32>=0),"A1",IF(AND($F32>=2,$G32>=2,H32>=0),"A2",IF(AND($F32>=3,$G32>=0,H32>=0),"A2",IF(AND(OR($F32>=1,$G32>=2),H32>=-2),"A3","A4")))))) -> A3 | F32: =IFERROR(VLOOKUP($C32,'Mau 2'!$C$12:$AA$36,14,0),0) -> 1 | G32: =IFERROR(VLOOKUP($C32,'Mau 2'!$C$12:$AA$36,25,0),0) -> 0
A33: 23 | B33: Dương Văn Tâm | C33: 01002035 | D33: =IF(AND($F33>=2,$G33>=3,H33>=0),"A1",IF(AND($F33>=3,$G33>=1,H33>=0),"A1",IF(AND($F33>=4,$G33>=0,H33>=0),"A1",IF(AND($F33>=2,$G33>=2,H33>=0),"A2",IF(AND($F33>=3,$G33>=0,H33>=0),"A2",IF(AND(OR($F33>=1,$G33>=2),H33>=-2),"A3","A4")))))) -> A3 | F33: =IFERROR(VLOOKUP($C33,'Mau 2'!$C$12:$AA$36,14,0),0) -> 1 | G33: =IFERROR(VLOOKUP($C33,'Mau 2'!$C$12:$AA$36,25,0),0) -> 0
A34: 24 | B34: Huỳnh Ngọc Liên | C34: 01002036 | D34: =IF(AND($F34>=2,$G34>=3,H34>=0),"A1",IF(AND($F34>=3,$G34>=1,H34>=0),"A1",IF(AND($F34>=4,$G34>=0,H34>=0),"A1",IF(AND($F34>=2,$G34>=2,H34>=0),"A2",IF(AND($F34>=3,$G34>=0,H34>=0),"A2",IF(AND(OR($F34>=1,$G34>=2),H34>=-2),"A3","A4")))))) -> A3 | F34: =IFERROR(VLOOKUP($C34,'Mau 2'!$C$12:$AA$36,14,0),0) -> 1 | G34: =IFERROR(VLOOKUP($C34,'Mau 2'!$C$12:$AA$36,25,0),0) -> 1
B36: Kết quả xếp loại | D36: Cán bộ quản lý | F36: Nhân viên
D37: Số lượng | E37: Tỷ lệ (%) | F37: Số lượng | G37: Tỷ lệ (%) | K37: =COUNTIF($K$10:$K$34,"A1") -> 0
A38: A1 | B38: Xếp loại A1 | D38: =COUNTIF($D$10:$D$11,$A38) -> 1 | E38: =D38/$D$9 -> 0.5 | F38: =COUNTIF($D$13:$D$34,$A38) -> 0 | G38: =F38/$D$12 -> 0 | K38: =COUNTIF($K$10:$K$34,"A2") -> 0
A39: A2 | B39: Xếp loại A2 | D39: =COUNTIF($D$10:$D$11,$A39) -> 1 | E39: =D39/$D$9 -> 0.5 | F39: =COUNTIF($D$13:$D$34,$A39) -> 2 | G39: =F39/$D$12 -> 0.090909091
A40: A3 | B40: Xếp loại A3 | D40: =COUNTIF($D$10:$D$11,$A40) -> 0 | E40: =D40/$D$9 -> 0 | F40: =COUNTIF($D$13:$D$34,$A40) -> 14 | G40: =F40/$D$12 -> 0.63636364
A41: A4 | B41: Xếp loại A4 | D41: =COUNTIF($D$10:$D$11,$A41) -> 0 | E41: =D41/$D$9 -> 0 | F41: =COUNTIF($D$13:$D$34,$A41) -> 6 | G41: =F41/$D$12 -> 0.27272727
A42: A DN | B42: Xếp loại A DN | D42: =COUNTIF($D$10:$D$11,$A42) -> 0 | E42: =D42/$D$9 -> 0 | F42: =COUNTIF($D$13:$D$34,$A42) -> 0 | G42: =F42/$D$12 -> 0
A43: B1 | B43: Xếp loại B1 | D43: =COUNTIF($D$10:$D$11,$A43) -> 0 | E43: =D43/$D$9 -> 0 | F43: =COUNTIF($D$13:$D$34,$A43) -> 0 | G43: =F43/$D$12 -> 0
A44: B2 | B44: Xếp loại B2 | D44: =COUNTIF($D$10:$D$11,$A44) -> 0 | E44: =D44/$D$9 -> 0 | F44: =COUNTIF($D$13:$D$34,$A44) -> 0 | G44: =F44/$D$12 -> 0
A45: C1 | B45: Xếp loại C1 | D45: =COUNTIF($D$10:$D$11,$A45) -> 0 | E45: =D45/$D$9 -> 0 | F45: =COUNTIF($D$13:$D$34,$A45) -> 0 | G45: =F45/$D$12 -> 0
A46: C2 | B46: Xếp loại C2 | D46: =COUNTIF($D$10:$D$11,$A46) -> 0 | E46: =D46/$D$9 -> 0 | F46: =COUNTIF($D$13:$D$34,$A46) -> 0 | G46: =F46/$D$12 -> 0
A47: D | B47: Xếp loại D | D47: =COUNTIF($D$10:$D$11,$A47) -> 0 | E47: =D47/$D$9 -> 0 | F47: =COUNTIF($D$13:$D$34,$A47) -> 0 | G47: =F47/$D$12 -> 0
A48: KXL | B48: Không xếp loại (Loại E) | D48: =COUNTIF($D$10:$D$11,$A48) -> 0 | E48: =D48/$D$9 -> 0 | F48: =COUNTIF($D$13:$D$34,$A48) -> 0 | G48: =F48/$D$12 -> 0
B49: Tổng số nhân sự: | D49: =SUM(D38:D48) -> 2 | F49: =SUM(F38:F48) -> 22
A51: Lưu ý: - Tỷ lệ xếp loại thi đua mức A1 không quá 20%, mức A2 không quá 30% trên tổng số nhân sự (trừ Trưởng, Phó đơn vị). Trưởng đơn vị đánh giá mức độ hoàn thành nhiệm vụ được giao đối với từng cá nhân và xếp loại thi đua không vượt quá tỷ lệ quy định; trường hợp có nhiều cá nhân hoàn thành xuất sắc nhiệm vụ, đơn vị đề nghị xếp loại A1, A2 với tổng tỷ lệ không vượt quá 60% và sắp xếp danh sách theo thứ tự ưu tiên từ cao xuống thấp. - Giảng viên/ Nhân viên (bao gồm Trưởng bộ môn, Tổ trưởng, Phụ trách Tổ, ...) - Các đơn vị gửi file mềm qua hệ thống điện tử E-Office và văn bản giấy về phòng TC-HC-TH (Cô Trần Thị Ánh Phượng).
F52: TPHCM, ngày tháng năm 2025
F53: TRƯỞNG ĐƠN VỊ

Sheet Mai
A2: THỐNG KÊ THỰC HIỆN CÔNG VIỆC CHUYÊN MÔN THÁNG 02/2025
A4: - Họ và tên: HUỲNH THỊ XUÂN MAI
A5: - Chức danh/chức vụ: Nhân viên
A6: - Đơn vị: Phòng Tổ chức - Hành chính - Tổng hợp
A8: TT | B8: Nhiệm vụ | C8: Tên sản phẩm đầu ra | D8: Ghi chú
A9: 1 | B9: 2 | C9: 3 | D9: 4
A10: I. | B10: CÔNG VIỆC CHÍNH
A11: 1 | B11: Thực hiện báo cáo | C11: Ba công khai Giáo dục NH 2024 - 2025 | D11: đang thực hiện
A12: 6 | C12: Quyết định số /QĐ-LTT-TC ngày 03/3/2025 thành lập Hội đồng Mua sắm vật tư thực tập - Nghiệm thu vật tư thực tập | D12: Chờ
A13: 7 | C13: Quyết định số /QĐ-LTT-TC ngày 03/3/2025 thành lập Hội đồng Duyệt danh mục sửa chữa, xây dựng - Tiếp nhận nghiệm thu hạng mục sửa chữa, xây dựng | D13: Chờ
A14: 8 | C14: Quyết định số /QĐ-LTT-TC ngày 03/3/2025 thành lập Hội đồng Đánh giá phân loại theo hiệu quả công việc hằng năm. | D14: Chờ
A15: 9 | C15: Quyết định số /QĐ-LTT-TC ngày 03/3/2025 thành lập Ban chỉ đạo Đảm bảo an toàn, an ninh thông tin mạng | D15: Chờ
A16: 10 | C16: Quyết định số /QĐ-LTT-TC ngày 03/3/2025 thành lập Ban An chỉ huy Phòng, chống thiên tai và tìm kiếm cứu nạn | D16: Chờ
A17: 11 | C17: Quyết định số /QĐ-LTT-TC ngày 03/3/2025 thành lập Đội Phòng cháy, chữa cháy tại chỗ | D17: Chờ
A18: 12 | C18: Quyết định số /QĐ-LTT-TC ngày 03/3/2025 thành lập Ban An toàn, vệ sinh lao động | D18: Chờ
A19: 13 | C19: Quyết định số /QĐ-LTT-TC ngày 03/3/2025 thành lập Ban Chủ nhiệm xây dựng "Đơn vị văn hóa" | D19: Chờ
A20: 14 | C20: Quyết định số /QĐ-LTT-TC ngày 03/3/2025 thành lập Ban An toàn giao thông | D20: Chờ
A21: 16 | B21: Báo cáo gấp gửi Thanh tra TP | C21: Công văn số 476/TTTP-P7 ngày 13/3/2025 về việc thực hiện đánh giá công tác phòng, chống tham nhũng năm 2024 trên địa bàn TP.HCM. | D21: Hoàn thành | E21: Yến giao ngày 18/3/2025
B22: Xây dựng kế hoạch | C22: Kế hoạch số 231/KH-LTT-TC ngày 09/4/2025 về công tác Phòng, chống tham nhũng năm 2025 | E22: Đã gửi Yến ngày 08/4/2025
B23: Báo cáo gấp gửi Thanh tra TP | C23: Danh sách cá nhân thuộc diện kê khai tài sản hằng năm - 2024 | D23: đã BC Yến | E23: Nhận chiều ngày 16/4/2025
B24: Hợp đồng lao động | C24: 1/ Ông Lâm Võ Hữu Duy; 2/ bà Phạm Thị Hoàng Diễm. | D24: Đã gửi TB | E24: Ngọc Phượng ngày 16/4/2025
B25: Cập nhật danh sách trả quyết định | C25: Quyết định số 188/QĐ-LTT-TC ngày 14/4/2025 về nâng phụ cấp thâm niên nhà giáo (09 QĐ) | D25: Đã gửi TB | E25: Oanh ngày 16/4/2025
B26: Cập nhật danh sách trả quyết định | C26: Quyết định số 196/QĐ-LTT-TC ngày 21/4/2025 về nâng phụ cấp thâm niên vượt khung (03 QĐ) | E26: Liễu ngày 23/4/2025
A27: 21 | B27: Thực hiện hồ sơ chấm dứt HĐLV | C27: Bà Nguyễn Hoàng Thanh Ngân, giảng viên khoa Du lịch - Khách sạn kể từ ngày 01/3/2025. | D27: Đã gửi TB | E27: Đã photo hồ sơ cá nhân, chưa nhận HS cá nhân
A28: 22 | B28: Thực hiện hồ sơ chấm dứt HĐLĐ | C28: Ông Lương Công Phi, Nhân viên trung tâm Điều hành - Quản lý dữ liệu nghỉ kể từ ngày 05/02/2025. | D28: Đã gửi TB | E28: Lương Công Phi đang giữ bản xác nhận chưa trả lại
A29: 23 | B29: Thực hiện hồ sơ chấm dứt HĐLV | C29: Ông Trần Văn Lượng, giảng viên khoa Lý luận Chính trị kể từ ngày 15/4/2025. | D29: Đã gửi TB | E29: Đã cập nhật HS, photo, chưa nhận HS cá nhân
A30: 24 | B30: Thực hiện hồ sơ chấm dứt HĐLĐ | C30: Ông Phạm Hữu Tấn, nhân viên phòng TC-HC-TH kể từ ngày 01/5/2025. | D30: Đã gửi TB | E30: Đã cập nhật HS, photo
A31: 25 | B31: Thực hiện hồ sơ chấm dứt HĐLV | C31: Ông Đinh Đồng Hiệp, giảng viên khoa Xây dựng - Nhiệt lạnh nghỉ kể từ ngày 01/5/2025 | D31: Đã gửi TB | E31: Đã cập nhật HS, photo
A32: II | B32: HỖ TRỢ PHỤC VỤ CÔNG TÁC TRƯỜNG
A33: 1 | B33: Hỗ trợ | C33: Tiếp đoàn Sở GD-ĐT

Sheet Chi

Sheet NP

Sheet Oanh

Sheet Quynh

Sheet AP
A1: TRƯỜNG CAO ĐẲNG LÝ TỰ TRỌNG TP.HCM | C1: CỘNG HÒA XÃ HỘI CHỦ NGHĨA VIỆT NAM
A2: PHÒNG TỔ CHỨC - HÀNH CHÍNH - TH | C2: Độc lập - Tự do - Hạnh phúc
A4: THỐNG KÊ CÔNG VIỆC CÁ NHÂN TRONG THÁNG 6/2024
A6: Họ và tên: Trần Thị Ánh Phượng
A7: Chức vụ: Nhân viên
A8: Số ngày công thực hiện trong tháng:
A9: (ngày công kế hoạch T10: VC 21 ngày; NLĐ 26 ngày)
A11: I. MÔ TẢ CÔNG VIỆC:
A12: STT | B12: Nhiệm vụ | C12: Tên sản phẩm đầu ra | D12: Ghi chú
A13: 1 | B13: 2 | C13: 3 | D13: 4
A14: I | B14: Công việc chính
A15: 1
A16: 2
A17: 3
A18: 4
A19: 5
A20: II | B20: Công việc hỗ trợ
A21: 01
A22: 02
A23: 03
A24: 04
A25: 05

Sheet Lieu
A1: TRƯỜNG CAO ĐẲNG LÝ TỰ TRỌNG TP.HCM | C1: CỘNG HÒA XÃ HỘI CHỦ NGHĨA VIỆT NAM
A2: PHÒNG TỔ CHỨC - HÀNH CHÍNH - TH | C2: Độc lập - Tự do - Hạnh phúc
A4: THỐNG KÊ CÔNG VIỆC CÁ NHÂN TRONG THÁNG
A6: Họ và tên: Nguyễn Thị Bích Liễu
A7: Chức vụ: Nhân viên
A8: Số ngày công thực hiện trong tháng: ……ngày
A9: (ngày công kế hoạch T10: VC 21 ngày; NLĐ 26 ngày)
A11: I. MÔ TẢ CÔNG VIỆC:
A12: STT | B12: Nhiệm vụ | C12: Tên sản phẩm đầu ra | D12: Ghi chú
A13: 1 | B13: 2 | C13: 3 | D13: 4
A14: I | B14: Công việc chính
A15: 01 | B15: Nhập/ Scan/ cất hồ sơ cá nhân
A16: 02 | B16: Nâng lương T5
A17: II | B17: Công việc hỗ trợ
A18: 03 | B18: Phối hợp với c Ly làm chữ ký số công vụ theo yêu cầu của sở nội vụ
A19: 04 | B19: Phục vụ HN tổng kết công tác đảng bộ
A20: 05
A21: 06

Sheet Van
