Workbook
Name _Hlk191996357: 'Mau 1'!$B$14

Sheet Mau 1
A1: TRƯỜNG CAO ĐẲNG LÝ TỰ TRỌNG THÀNH PHỐ HỒ CHÍ MINH PHÒNG THANH TRA GIÁO DỤC - QUAN HỆ DOANH NGHIỆP | F1: CỘNG HÒA XÃ HỘI CHỦ NGHĨA VIỆT NAM Độc lập - Tự do - Hạnh phúc
G2: Mẫu 1
A3: BẢNG TỔNG HỢP CÔNG VIỆC ĐỘT XUẤT ĐÃ THỰC HIỆN THÁNG 5/2025
A6: TT | B6: Nội dung công việc | C6: Số lượng người tham gia thực hiện | D6: Tên người tham gia thực hiện | E6: Thời gian thực hiện | F6: Kết quả thực hiện | G6: Ghi chú
A7: I. | B7: Công việc đột xuất của Trường
A8: Nhiệm vụ 1 | B8: Cung cấp nội dung, minh chứng cho đoàn kiểm tra Sở GD-ĐT Thành phố Hồ Chí Minh kiểm tra tại Trường. | C8: 6 | D8: Chiến, Dũng, Thắng, Hoàng, Chi, Hà | E8: 22/4/2025 đến khi xong | F8: Tốt
A9: Nhiệm vụ 2 | B9: Tham dự hội thi làm bánh kem nhân kỷ niệm 135 năm ngày sinh Chủ tịch Hồ Chí Minh 19/5/1890-19/5/2025. | C9: 5 | D9: Việt Anh, Hoàng, Dương, Chi, Hà | E9: Ngày 16/5/2025 | F9: Tốt
A10: Nhiệm vụ 3 | B10: Lên kế hoạnh phối hợp với Phòng cảnh sát PCCC&CNCH khu vực 14 tổ chức buổi truyên truyền PCCC cho CB-GV-NV và hơn 350 SV tham gia. | C10: 3 | D10: Chiến, Hà, Mỹ | E10: Từ ngày 12/5-17/5/2025 | F10: Tốt
A11: Nhiệm vụ 4 | B11: Hỗ trợ Cấp ủy chi bộ SV thực hiện báo cáo các chuyên đề chi bộ SV đã tổ chức sinh hoạt từ quý 1/2020 đến quý 1/2025 phục vụ công tác báo cáo thực hiện KL18 về chất lượng sinh hoạt chi bộ | C11: 1 | D11: Kim Anh | E11: 08/5/2025 - 09/5/2025 | F11: Tốt
A12: Nhiệm vụ 5 | B12: Báo cáo tài chính của đơn vị (Trường, quy mô đào tạo từ năm 2021- đến nay) | C12: 2 | D12: Chiến, Hà | E12: Ngày 19-20/5/2025 | F12: Tốt
A13: II. | B13: Công việc đột xuất của đơn vị
A14: Nhiệm vụ 1 | B14: Lên kế hoạch tổ chức buổi Talkshow và phỏng vấn tuyển dụng cho sinh viên với Công ty Cổ phần Hàng không Vietjet với sự tham gia của 300 SV gồm 03 khoa Điện - Điện tử, Cơ khí và Du lịch - Khách sạn. | C14: 3 | D14: Chiến, Hà, Hương | E14: Từ ngày 25/4-06/5/2025 | F14: Tốt
A15: Nhiệm vụ 2 | B15: Phối hợp với bãi xe xử lý 4 SV lớp 24T4-CNÔ3 nhiều lần trộm nón bảo hiểm bãi xe. | C15: 1 | D15: Hoàng | E15: Ngày 10/5/2025 | F15: Tốt
A16: Nhiệm vụ 3 | B16: Tham gia đóng góp ý kiến cho các nội dung có liên quan đến chức năng, nhiệm vụ của đơn vị để biên soạn Sổ tay GDĐH năm 2025 | C16: 5 | D16: Kim Anh, Chi, Thắng, Hoàng, Mỹ | E16: 12/5/2025 - 19/5/2025 | F16: Tốt
A17: Nhiệm vụ 4 | B17: Hỗ trợ bộ phận tuyển sinh sắp xếp lớp học để HTV quay video cho trường | C17: 1 | D17: Chi | E17: Ngày 19/5/2025 | F17: Tốt
A18: Nhiệm vụ 5 | B18: Hỗ trợ tổ chức buổi truyên truyền PCCC cho CB-GV-NV và hơn 350 SV tham gia. | C18: 3 | D18: K.Anh, Dũng, Hiếu | E18: Ngày 17/5/2025 | F18: Tốt
A19: Lưu ý: - Không ghi nhận nhiệm vụ đột xuất đối với những công việc có tính thường xuyên thuộc chức năng của đơn vị mà cá nhân được phân công phụ trách hoặc những việc mà cá nhân đã nhận được chi trả chi phí, bồi dưỡng riêng. - Các đơn vị gửi file điện tử về phòng TC-HC-TH (Cô Trần Thị Ánh Phượng) qua hệ thống điện tử E-Office (không gửi văn bản giấy)./.
E20: Thành phố Hồ Chí Minh, ngày 21 tháng 5 năm 2025
E21: TRƯỞNG ĐƠN VỊ
E25: Nguyễn Văn Chiến

Sheet Mau 2
B1: TRƯỜNG CAO ĐẲNG LÝ TỰ TRỌNG | U1: CỘNG HÒA XÃ HỘI CHỦ NGHĨA VIỆT NAM Độc lập - Tự do - Hạnh phúc
B2: THÀNH PHỐ HỒ CHÍ MINH
B3: PHÒNG THANH TRA GIÁO DỤC - QUAN HỆ DOANH NGHIỆP
AJ4: Mẫu 2
A5: THỐNG KÊ CHI TIẾT KHỐI LƯỢNG CÔNG VIỆC THỰC HIỆN THÁNG 5/2025
A7: TT | B7: Tên nội dung công việc | D7: Công việc chung của trường | V7: Công việc chung của đơn vị | AJ7: Ghi chú
B8: Họ và tên | C8: Mã E-office | D8: Nhiệm vụ 1 | E8: Nhiệm vụ 2 | F8: Nhiệm vụ 3 | G8: Nhiệm vụ 4 | H8: Nhiệm vụ 5 | I8: Nhiệm vụ 6 | J8: Nhiệm vụ 7 | K8: Nhiệm vụ 8 | L8: Nhiệm vụ 9 | M8: Nhiệm vụ 8 | N8: Nhiệm vụ 9 | O8: Nhiệm vụ 10 | P8: Nhiệm vụ 11 | Q8: Nhiệm vụ 12 | R8: Nhiệm vụ 13 | S8: Nhiệm vụ 14 | T8: Nhiệm vụ 15 | U8: Tổng cộng | V8: Nhiệm vụ 1 | W8: Nhiệm vụ 2 | X8: Nhiệm vụ 3 | Y8: Nhiệm vụ 4 | Z8: Nhiệm vụ 5 | AA8: Nhiệm vụ 6 | AB8: Nhiệm vụ 7 | AC8: Nhiệm vụ 8 | AD8: Nhiệm vụ 7 | AE8: Nhiệm vụ 8 | AF8: Nhiệm vụ 9 | AG8: Nhiệm vụ 10 | AH8: Nhiệm vụ 9 | AI8: Tổng cộng
C9: -1 | D9: -2 | E9: -3 | F9: -4 | G9: -5 | H9: -6 | I9: -7 | J9: -8 | K9: -9 | L9: -10 | M9: -9 | N9: -10 | O9: -11 | P9: -12 | Q9: -13 | R9: -14 | S9: -15 | T9: -16 | U9: -10 | V9: -19 | W9: -20 | X9: -21 | Y9: -22 | Z9: -23 | AA9: -24 | AB9: -25 | AC9: -26 | AD9: -23 | AE9: -24 | AF9: -25 | AG9: -26 | AH9: -27 | AI9: -27
A10: I. Cán bộ quản lý (Trưởng, Phó đơn vị)
A11: 01 | B11: Nguyễn Văn Chiến | C11: 01007008 | D11: X | F11: X | H11: X | U11: =COUNTIF(D11:T11,"X") -> 3 | V11: X | AI11: =COUNTIF(V11:AH11,"X") -> 1
A12: II. Giảng viên/nhân viên
A13: 01 | B13: Nguyễn Thị Kim Anh | C13: 01009018 | G13: X | U13: =COUNTIF(D13:K13,"X") -> 1 | X13: X | Z13: X | AI13: =COUNTIF(V13:AH13,"X") -> 2
A14: 02 | B14: Phạm Thị Lê Chi | C14: 01009010 | D14: X | E14: X | U14: =COUNTIF(D14:K14,"X") -> 2 | X14: X | Y14: X | AI14: =COUNTIF(V14:AH14,"X") -> 2
A15: 03 | B15: Trần Thị Thu Hà | C15: 01002004 | D15: X | E15: X | F15: X | H15: X | U15: =COUNTIF(D15:K15,"X") -> 4 | V15: X | AI15: =COUNTIF(V15:AH15,"X") -> 1
A16: 04 | B16: Nguyễn Tất Thắng | C16: 01009008 | D16: X | U16: =COUNTIF(D16:K16,"X") -> 1 | X16: X | AI16: =COUNTIF(V16:AH16,"X") -> 1
A17: 05 | B17: Mai Thu Hương | C17: 01007004 | U17: =COUNTIF(D17:K17,"X") -> 0 | V17: X | AI17: =COUNTIF(V17:AH17,"X") -> 1
A18: 06 | B18: Nguyễn Thùy Dương | C18: 01014012 | E18: X | U18: =COUNTIF(D18:K18,"X") -> 1 | AI18: =COUNTIF(V18:AH18,"X") -> 0
A19: 07 | B19: Nguyễn Trung Dũng | C19: 01002008 | D19: X | U19: =COUNTIF(D19:K19,"X") -> 1 | Z19: X | AI19: =COUNTIF(V19:AH19,"X") -> 1
A20: 08 | B20: Phạm Huy Hoàng | C20: 01009011 | D20: X | E20: X | U20: =COUNTIF(D20:K20,"X") -> 2 | W20: X | X20: X | AI20: =COUNTIF(V20:AH20,"X") -> 2
A21: 09 | B21: Huỳnh Văn Hiếu | C21: 01009019 | U21: =COUNTIF(D21:K21,"X") -> 0 | Z21: X | AI21: =COUNTIF(V21:AH21,"X") -> 1
A22: 10 | B22: Trần Anh Mỹ | C22: 01009028 | F22: X | U22: =COUNTIF(D22:K22,"X") -> 1 | X22: X | AI22: =COUNTIF(V22:AH22,"X") -> 1
A23: 11 | B23: Bùi Đức Phước | C23: 01009026 | U23: =COUNTIF(D23:K23,"X") -> 0 | AI23: =COUNTIF(V23:AH23,"X") -> 0
A24: 12 | B24: Nguyễn Thị Thảo | C24: 01007003 | U24: =COUNTIF(D24:K24,"X") -> 0 | AI24: =COUNTIF(V24:AH24,"X") -> 0
A25: 13 | B25: Lưu Hoàng Bảo Châu | C25: 01009029 | U25: =COUNTIF(D25:K25,"X") -> 0 | AI25: =COUNTIF(V25:AH25,"X") -> 0
A26: 14 | B26: Trần Việt Anh | C26: 01002038 | E26: X | U26: =COUNTIF(D26:K26,"X") -> 1 | AI26: =COUNTIF(V26:AH26,"X") -> 0
A28: Lưu ý: Các đơn vị gửi file điện tử về phòng TC-HC-TH (Cô Trần Thị Ánh Phượng) qua hệ thống điện tử E-Office (không gửi văn bản giấy).
V29: TP. Hồ Chí minh ngày 21 tháng 5 năm 2025
V30: TRƯỞNG ĐƠN VỊ
V34: Nguyễn Văn Chiến

Sheet Mau 3 
A1: TRƯỜNG CAO ĐẲNG LÝ TỰ TRỌNG | F1: CỘNG HÒA XÃ HỘI CHỦ NGHĨA VIỆT NAM
A2: THÀNH PHỐ HỒ CHÍ MINH | F2: Độc lập - Tự do - Hạnh phúc
A3: PHÒNG THANH TRA GIÁO DỤC - QUAN HỆ DOANH NGHIỆP
J4: Mẫu 3
A5: DANH SÁCH DỰ KIẾN XẾP LOẠI THI ĐUA THÁNG 5/2025
A7: TT | B7: Họ tên | C7: Mã E-Office | D7: Đơn vị xếp loại thi đua theo quy định | H7: Số ngày nghỉ/ tiết nghỉ | I7: Đơn vị đề nghị mức xếp loại thi đua A1, A2 và sắp xếp danh sách cá nhân theo thứ tự ưu tiên
D8: Xếp loại | E8: Lý do | F8: Số lượng công việc chung của trường | G8: Số lượng công việc chung của đơn vị | I8: Xếp loại | J8: Lý do đề nghị
A9: -1 | B9: -2 | C9: -3 | D9: -4 | E9: -5 | F9: -6 | G9: -7 | H9: -8 | I9: -9 | J9: -10
A10: I. Cán bộ quản lý | D10: 1
A11: 01 | B11: Nguyễn Văn Chiến | C11: 01007008 | D11: A2 | F11: ='Mau 2'!U11 -> 3 | G11: ='Mau 2'!AI11 -> 1 | H11: Nghỉ phép từ ngày 5-7/5/2025
A12: II. Giảng viên/nhân viên | D12: 14 | F12: ='Mau 2'!U12 -> 0 | G12: ='Mau 2'!AI12 -> 0
A13: 01 | B13: Nguyễn Thị Kim Anh | C13: 01009018 | D13: A3 | F13: ='Mau 2'!U13 -> 1 | G13: ='Mau 2'!AI13 -> 2
A14: 02 | B14: Phạm Thị Lê Chi | C14: 01009010 | D14: A2 | F14: ='Mau 2'!U14 -> 2 | G14: ='Mau 2'!AI14 -> 2
A15: 03 | B15: Trần Thị Thu Hà | C15: 01002004 | D15: A1 | F15: ='Mau 2'!U15 -> 4 | G15: ='Mau 2'!AI15 -> 1
A16: 04 | B16: Nguyễn Tất Thắng | C16: 01009008 | D16: A3 | F16: 1 | G16: ='Mau 2'!AI16 -> 1
A17: 05 | B17: Mai Thu Hương | C17: 01007004 | D17: A4 | F17: ='Mau 2'!U17 -> 0 | G17: ='Mau 2'!AI17 -> 1
A18: 06 | B18: Nguyễn Thùy Dương | C18: 01014012 | D18: A3 | F18: 1 | G18: ='Mau 2'!AI18 -> 0
A19: 07 | B19: Nguyễn Trung Dũng | C19: 01002008 | D19: A3 | F19: ='Mau 2'!U19 -> 1 | G19: ='Mau 2'!AI19 -> 1 | H19: Nghỉ phép ngày 09/5 và 19/5/2025
A20: 08 | B20: Phạm Huy Hoàng | C20: 01009011 | D20: A2 | F20: ='Mau 2'!U20 -> 2 | G20: ='Mau 2'!AI20 -> 2
A21: 09 | B21: Huỳnh Văn Hiếu | C21: 01009019 | D21: A4 | F21: ='Mau 2'!U21 -> 0 | G21: ='Mau 2'!AI21 -> 1
A22: 10 | B22: Trần Anh Mỹ | C22: 01009028 | D22: A3 | F22: ='Mau 2'!U22 -> 1 | G22: ='Mau 2'!AI22 -> 1
A23: 11 | B23: Bùi Đức Phước | C23: 01009026 | D23: A4 | F23: ='Mau 2'!U23 -> 0 | G23: ='Mau 2'!AI23 -> 0 | H23: Nghỉ phép ngày 10/5/2025
A24: 12 | B24: Nguyễn Thị Thảo | C24: 01007003 | D24: A4 | F24: ='Mau 2'!U24 -> 0 | G24: ='Mau 2'!AI24 -> 0
A25: 13 | B25: Lưu Hoàng Bảo Châu | C25: 01009029 | D25: ADN | F25: ='Mau 2'!U25 -> 0 | G25: ='Mau 2'!AI25 -> 0
A26: 14 | B26: Trần Việt Anh | C26: 01002038 | D26: A3 | F26: ='Mau 2'!U26 -> 1 | G26: ='Mau 2'!AI26 -> 0
B28: Kết quả xếp loại | D28: Cán bộ quản lý | F28: Giảng viên/Nhân viên
D29: Số lượng | E29: Tỷ lệ (%) | F29: Số lượng | G29: Tỷ lệ (%)
B30: Xếp loại A1 | D30: =COUNTIF($D$11:$D$11,"A1") -> 0 | E30: =ROUND(D30/$D$10,2) -> 0 | F30: =COUNTIF($D$13:$D$26,"A1") -> 1 | G30: =ROUND(F30/$D$12,2) -> 0.07
B31: Xếp loại A2 | D31: =COUNTIF($D$11:$D$11,"A2") -> 1 | E31: =ROUND(D31/$D$10,2) -> 1 | F31: =COUNTIF($D$13:$D$26,"A2") -> 2 | G31: =ROUND(F31/$D$12,2) -> 0.14
B32: Xếp loại A3 | D32: =COUNTIF($D$11:$D$11,"A3") -> 0 | E32: =ROUND(D32/$D$10,2) -> 0 | F32: =COUNTIF($D$13:$D$26,"A3") -> 6 | G32: =ROUND(F32/$D$12,2) -> 0.43
B33: Xếp loại A4 | D33: =COUNTIF($D$11:$D$11,"A4") -> 0 | E33: =ROUND(D33/$D$10,2) -> 0 | F33: =COUNTIF($D$13:$D$26,"A4") -> 4 | G33: =ROUND(F33/$D$12,2) -> 0.29
B34: Xếp loại A DN | D34: =COUNTIF($D$11:$D$11,"A DN") -> 0 | E34: =ROUND(D34/$D$10,2) -> 0 | F34: =COUNTIF($D$13:$D$26,"A DN") -> 0 | G34: =ROUND(F34/$D$12,2) -> 0
B35: Xếp loại B1 | D35: =COUNTIF($D$11:$D$11,"B1") -> 0 | E35: =ROUND(D35/$D$10,2) -> 0 | F35: =COUNTIF($D$13:$D$26,"B1") -> 0 | G35: =ROUND(F35/$D$12,2) -> 0
B36: Xếp loại B2 | D36: =COUNTIF($D$11:$D$11,"B2") -> 0 | E36: =ROUND(D36/$D$10,2) -> 0 | F36: =COUNTIF($D$13:$D$26,"B2") -> 0 | G36: =ROUND(F36/$D$12,2) -> 0
B37: Xếp loại C1 | D37: =COUNTIF($D$11:$D$11,"C1") -> 0 | E37: =ROUND(D37/$D$10,2) -> 0 | F37: =COUNTIF($D$13:$D$26,"C1") -> 0 | G37: =ROUND(F37/$D$12,2) -> 0
B38: Xếp loại C2 | D38: =COUNTIF($D$11:$D$11,"C2") -> 0 | E38: =ROUND(D38/$D$10,2) -> 0 | F38: =COUNTIF($D$13:$D$26,"C2") -> 0 | G38: =ROUND(F38/$D$12,2) -> 0
B39: Xếp loại D | D39: =COUNTIF($D$11:$D$11,"D") -> 0 | E39: =ROUND(D39/$D$10,2) -> 0 | F39: =COUNTIF($D$13:$D$26,"D") -> 0 | G39: =ROUND(F39/$D$12,2) -> 0
B40: Không xếp loại (Loại E) | D40: =COUNTIF($D$11:$D$11,"E") -> 0 | E40: =ROUND(D40/$D$10,2) -> 0 | F40: =COUNTIF($D$13:$D$26,"KXL") -> 0 | G40: =ROUND(F40/$D$12,2) -> 0
B41: Tổng số nhân sự: | D41: =SUM(D30:D40) -> 1 | F41: =SUM(F30:F40) -> 13
A43: Lưu ý: - Tỷ lệ xếp loại thi đua mức A1 không quá 20%, mức A2 không quá 30% trên tổng số nhân sự (trừ Trưởng, Phó đơn vị). Trưởng đơn vị đánh giá mức độ hoàn thành nhiệm vụ được giao đối với từng cá nhân và xếp loại thi đua không vượt quá tỷ lệ quy định; trường hợp có nhiều cá nhân hoàn thành xuất sắc nhiệm vụ, đơn vị đề nghị xếp loại A1, A2 với tổng tỷ lệ không vượt quá 60% và sắp xếp danh sách theo thứ tự ưu tiên từ cao xuống thấp. - Giảng viên/ Nhân viên (bao gồm Trưởng bộ môn, Tổ trưởng, Phụ trách Tổ, ...) - Các đơn vị gửi file mềm qua hệ thống điện tử E-Office và văn bản giấy về phòng TC-HC-TH (Cô Trần Thị Ánh Phượng).
...
