Workbook

Sheet Sheet1
A2: TRƯỜNG CAO ĐẲNG LÝ TỰ TRỌNG | E2: CỘNG HÒA XÃ HỘI CHỦ NGHĨA VIỆT NAM
A3: THÀNH PHỐ HỒ CHÍ MINH | E3: Độc lập - Tự do - Hạnh phúc
A4: PHÒNG TTGD - QHDN
A6: BẢNG TỔNG KẾT ĐÁNH GIÁ KẾT QUẢ RÈN LUYỆN
A7: Học kỳ: II Năm học: 2024-2025
A8: Lớp: 24C1-CNÔ3 Sĩ số: 50 Khoa: Động lực
A10: TT | B10: Mã số SV | C10: HỌ VÀ TÊN | E10: CỐ VẤN HỌC TẬP | G10: QUẢN LÝ SV | I10: GHI CHÚ
E11: ĐIỂM RL | F11: XẾP LOẠI | G11: ĐIỂM RL | H11: XẾP LOẠI
A12: 1 | B12: 24001747 | C12: Nguyễn Thanh | D12: Chí | G12: 60 | H12: TB
A13: 2 | B13: 24001650 | C13: Trần Văn | D13: Đạt | G13: 61 | H13: TB
A14: 3 | B14: 24001621 | C14: Lê Hoàng | D14: Đồng | G14: 57 | H14: TB
A15: 4 | B15: 24001611 | C15: Lê Huỳnh Anh | D15: Duy | G15: 62 | H15: TB
A16: 5 | B16: 24001622 | C16: Trần Hoàng | D16: Duy | G16: 58 | H16: TB
A17: 6 | B17: 24001601 | C17: Vũ Quốc | D17: Hào | G17: 60 | H17: TB
A18: 7 | B18: 24001615 | C18: Ngô Thanh | D18: Hậu | G18: 60 | H18: TB
A19: 8 | B19: 24001677 | C19: Vũ Hoàng | D19: Hiếu | G19: 50 | H19: TB
A20: 9 | B20: 24001610 | C20: Cao Ngọc | D20: Huân | G20: 60 | H20: TB
A21: 10 | B21: 24001695 | C21: Đặng Lâm Quốc | D21: Hưng | G21: 58 | H21: TB
A22: 11 | B22: 24001618 | C22: Mã Gia | D22: Huy | G22: 70 | H22: Khá | I22: Lớp phó HT
A23: 12 | B23: 24001614 | C23: Nguyễn Thái | D23: Huy | G23: 63 | H23: TB
A24: 13 | B24: 24001756 | C24: Nguyễn Văn Chí | D24: Huy | G24: 66 | H24: TB | I24: TT1
A25: 14 | B25: 24001691 | C25: Phạm Lê | D25: Huy | G25: 63 | H25: TB
A26: 15 | B26: 24001654 | C26: Nguyễn Nhật Nguyên | D26: Khang | G26: 56 | H26: TB
A27: 16 | B27: 24001786 | C27: Lê Anh | D27: Khoa | G27: 67 | H27: TB | I27: TT2
A28: 17 | B28: 24001672 | C28: Trịnh Đăng | D28: Khoa | G28: 58 | H28: TB
A29: 18 | B29: 24001725 | C29: Võ Hoàng Tấn | D29: Lộc | G29: 58 | H29: TB
A30: 19 | B30: 24001662 | C30: Đỗ Văn | D30: Lợi | G30: 58 | H30: TB
A31: 20 | B31: 24001683 | C31: Bùi Duy | D31: Mạnh | G31: 60 | H31: TB
A32: 21 | B32: 24001777 | C32: Nguyễn Ngọc | D32: Minh | G32: 52 | H32: TB
A33: 22 | B33: 24001719 | C33: Phạm Nhật | D33: Minh | G33: 60 | H33: TB
A34: 23 | B34: 24001775 | C34: Trương Nhật | D34: Minh | G34: 60 | H34: TB
A35: 24 | B35: 24001688 | C35: Y Dennis | D35: Mlô | G35: 60 | H35: TB
A36: 25 | B36: 24001798 | C36: Nguyễn Phương | D36: Nam | G36: 60 | H36: TB
A37: 26 | B37: 24001763 | C37: Nguyễn Đình | D37: Nghi | G37: 61 | H37: TB
A38: 27 | B38: 24001744 | C38: Liêu Long | D38: Nhựt | G38: 61 | H38: TB
A39: 28 | B39: 24001791 | C39: Trịnh Nguyên | D39: Phàng | G39: 50 | H39: TB
... A44: 33 | B44: 24001750 | C44: Lê Thế | D44: Quang | G44: 50 | H44: TB
A45: 34 | B45: 24001663 | C45: Nguyễn Văn | D45: Sơn | G45: 60 | H45: TB | I45: Lớp phó PT
A46: 35 | B46: 24001753 | C46: Lê Tấn | D46: Tài | G46: 60 | H46: TB
A47: 36 | B47: 24001634 | C47: Đào Thế | D47: Thành | G47: 61 | H47: TB
A48: 37 | B48: 24001629 | C48: Huỳnh Công | D48: Thuận | G48: 58 | H48: TB
A49: 38 | B49: 24001749 | C49: Nguyễn Văn | D49: Thuận | G49: 62 | H49: TB | I49: TT3
A50: 39 | B50: 24003518 | C50: Lý Quang Minh | D50: Trí | G50: 64 | H50: TB | I50: TT4
A51: 40 | B51: 24001714 | C51: Quách Thanh | D51: Triết | G51: 60 | H51: TB
A52: 41 | B52: 24001730 | C52: Mai Thành | D52: Trung | G52: 60 | H52: TB
A53: 42 | B53: 24001682 | C53: Nguyễn Bá Khánh | D53: Trung | G53: 70 | H53: Khá | I53: Lớp trưởng
A54: 43 | B54: 24001699 | C54: Nguyễn Thành | D54: Trung | G54: 61 | H54: TB
A55: 44 | B55: 24001708 | C55: Nguyễn Chí | D55: Tú | G55: 61 | H55: TB
A56: 45 | B56: 24001674 | C56: Nguyễn Hoàng | D56: Tú | G56: 61 | H56: TB
A57: 46 | B57: 24001678 | C57: Nguyễn Trần Anh | D57: Tuấn | G57: 63 | H57: TB
A58: 47 | B58: 24001690 | C58: Trương Nguyễn Quốc | D58: Việt | G58: 60 | H58: TB
A59: 48 | B59: 24001793 | C59: Nguyễn Quang | D59: Vinh | G59: 61 | H59: TB
A60: 49 | B60: 24001728 | C60: Huỳnh Thanh | D60: Vũ | G60: 58 | H60: TB
A61: 50 | B61: 24001774 | C61: Bùi Nhật Long | D61: Vỹ | G61: 61 | H61: TB
C62: TỔNG KẾT LỚP
C63: LOẠI | E63: CỐ VẤN HỌC TẬP | G63: QUẢN LÝ SV | I63: GHI CHÚ
E64: T.SỐ | F64: TỶ LỆ % | G64: T.SỐ | H64: TỶ LỆ %
C65: XUẤT SẮC | E65: =COUNTIF(F12:F61,"Xuất sắc") -> 0 | F65: =E65*100/#REF! -> #REF! | G65: =COUNTIF(H12:H61,"Xuất sắc") -> 0 | H65: =G65*100/#REF! -> #REF!
C66: TỐT | E66: =COUNTIF(F12:F61,"Tốt") -> 0 | F66: =E66*100/#REF! -> #REF! | G66: =COUNTIF(H12:H61,"Tốt") -> 0 | H66: =G66*100/#REF! -> #REF!
C67: KHÁ | E67: =COUNTIF(F12:F61,"Khá") -> 0 | F67: =E67*100/#REF! -> #REF! | G67: =COUNTIF(H12:H61,"Khá") -> 2 | H67: =G67*100/#REF! -> #REF!
C68: TRUNG BÌNH | E68: =COUNTIF(F12:F61,"TB") -> 0 | F68: =E68*100/#REF! -> #REF! | G68: =COUNTIF(H12:H61,"TB") -> 48 | H68: =G68*100/#REF! -> #REF!
C69: YẾU | E69: =COUNTIF(F12:F61,"Yếu") -> 0 | F69: =E69*100/#REF! -> #REF! | G69: =COUNTIF(H12:H61,"Yếu") -> 0 | H69: =G69*100/#REF! -> #REF!
C70: KHÔNG XẾP LOẠI | E70: =COUNTIF(F12:F61,"Không XL") -> 0 | F70: =E70*100/#REF! -> #REF! | G70: =COUNTIF(H12:H61,"Không XL") -> 0 | H70: =G70*100/#REF! -> #REF!
E72: TP. Hồ Chí Minh, ngày tháng 06 năm 2025
B73: TP. TTGD-QHDN | D73: QUẢN LÝ SINH VIÊN | G73: CỐ VẤN HỌC TẬP
B78: Nguyễn Văn Chiến | D78: Trần Việt Anh | G78: Triệu Phú Nguyên

Sheet Sheet2
A1: TRƯỜNG CAO ĐẲNG LÝ TỰ TRỌNG | E1: CỘNG HÒA XÃ HỘI CHỦ NGHĨA VIỆT NAM
A2: THÀNH PHỐ HỒ CHÍ MINH | E2: Độc lập - Tự do - Hạnh phúc
A3: KHOA XÂY DỰNG - NHIỆT LẠNH
A5: BIÊN BẢN HỌP LỚP ĐÁNH GIÁ KẾT QUẢ RÈN LUYỆN SINH VIÊN
B6: LỚP: 23C1-KML1 | D6: HỌC KỲ: II | F6: NĂM HỌC: 2024-2025
A8: 1. | B8: Thời gian họp: giờ phút, ngày tháng 06 năm 2025;
A9: 2. | B9: Địa điểm: Trực tuyến
A10: 3. | B10: Chủ tọa phiên họp và thành phần tham dự:
B11: Chủ tọa: Ông Hoàng Văn Viết; Chức vụ: Cố vấn học tập;
B12: Thư ký: Trần Đăng Khoa; Chức vụ: Lớp trưởng;
B13: Thành phần tham dự: Tập thể lớp 23C1-KML1; | H13: .
B14: Hiện diện: Sinh viên (SV);
B15: Vắng: SV không phép.
A16: 4. | B16: Nội dung cuộc họp:
A17: Căn cứ kết quả học tập, chuyên cần và thống kê nội dung tham gia hoạt động, phong trào trong học kỳ, cố vấn học tập thông qua mức điểm tự đánh giá của từng SV và xem xét, xin ý kiến đóng góp của tập thể lớp, cụ thể:
A19: TT | B19: Mã số SV | C19: HỌ VÀ TÊN | E19: SV TỰ ĐÁNH GIÁ | F19: TẬP THỂ LỚP ĐÁNH GIÁ | I19: GHI CHÚ
F20: Điểm | G20: Xếp loại | H20: Tỷ lệ % đồng ý
A21: 01 | B21: =Sheet1!B12 -> 24001747 | C21: =Sheet1!C12 -> Nguyễn Thanh | D21: =Sheet1!D12 -> Chí | H21: 1
A22: 02 | B22: =Sheet1!B13 -> 24001650 | C22: =Sheet1!C13 -> Trần Văn | D22: =Sheet1!D13 -> Đạt | H22: 1
A23: 03 | B23: =Sheet1!B14 -> 24001621 | C23: =Sheet1!C14 -> Lê Hoàng | D23: =Sheet1!D14 -> Đồng | H23: 1
A24: 04 | B24: =Sheet1!B15 -> 24001611 | C24: =Sheet1!C15 -> Lê Huỳnh Anh | D24: =Sheet1!D15 -> Duy | H24: 1
A25: 05 | B25: =Sheet1!B16 -> 24001622 | C25: =Sheet1!C16 -> Trần Hoàng | D25: =Sheet1!D16 -> Duy | H25: 1
A26: 06 | B26: =Sheet1!B17 -> 24001601 | C26: =Sheet1!C17 -> Vũ Quốc | D26: =Sheet1!D17 -> Hào | H26: 1
A27: 07 | B27: =Sheet1!B18 -> 24001615 | C27: =Sheet1!C18 -> Ngô Thanh | D27: =Sheet1!D18 -> Hậu | H27: 1
A28: 08 | B28: =Sheet1!B19 -> 24001677 | C28: =Sheet1!C19 -> Vũ Hoàng | D28: =Sheet1!D19 -> Hiếu | H28: 1
A29: 09 | B29: =Sheet1!B20 -> 24001610 | C29: =Sheet1!C20 -> Cao Ngọc | D29: =Sheet1!D20 -> Huân | H29: 1
A30: 10 | B30: =Sheet1!B21 -> 24001695 | C30: =Sheet1!C21 -> Đặng Lâm Quốc | D30: =Sheet1!D21 -> Hưng | H30: 1
A31: 11 | B31: =Sheet1!B22 -> 24001618 | C31: =Sheet1!C22 -> Mã Gia | D31: =Sheet1!D22 -> Huy | H31: 1 | I31: Lớp phó HT
A32: 12 | B32: =Sheet1!B23 -> 24001614 | C32: =Sheet1!C23 -> Nguyễn Thái | D32: =Sheet1!D23 -> Huy | H32: 1
A33: 13 | B33: =Sheet1!B24 -> 24001756 | C33: =Sheet1!C24 -> Nguyễn Văn Chí | D33: =Sheet1!D24 -> Huy | H33: 1 | I33: TT1
A34: 14 | B34: =Sheet1!B25 -> 24001691 | C34: =Sheet1!C25 -> Phạm Lê | D34: =Sheet1!D25 -> Huy | H34: 1
A35: 15 | B35: =Sheet1!B26 -> 24001654 | C35: =Sheet1!C26 -> Nguyễn Nhật Nguyên | D35: =Sheet1!D26 -> Khang | H35: 1
A36: 16 | B36: =Sheet1!B27 -> 24001786 | C36: =Sheet1!C27 -> Lê Anh | D36: =Sheet1!D27 -> Khoa | H36: 1 | I36: TT2
A37: 17 | B37: =Sheet1!B28 -> 24001672 | C37: =Sheet1!C28 -> Trịnh Đăng | D37: =Sheet1!D28 -> Khoa | H37: 1
A38: 18 | B38: =Sheet1!B29 -> 24001725 | C38: =Sheet1!C29 -> Võ Hoàng Tấn | D38: =Sheet1!D29 -> Lộc | H38: 1
A39: 19 | B39: =Sheet1!B30 -> 24001662 | C39: =Sheet1!C30 -> Đỗ Văn | D39: =Sheet1!D30 -> Lợi | H39: 1
A40: 20 | B40: =Sheet1!B31 -> 24001683 | C40: =Sheet1!C31 -> Bùi Duy | D40: =Sheet1!D31 -> Mạnh | H40: 1
A41: 21 | B41: =Sheet1!B32 -> 24001777 | C41: =Sheet1!C32 -> Nguyễn Ngọc | D41: =Sheet1!D32 -> Minh | H41: 1
A42: 22 | B42: =Sheet1!B33 -> 24001719 | C42: =Sheet1!C33 -> Phạm Nhật | D42: =Sheet1!D33 -> Minh | H42: 1
A43: 23 | B43: =Sheet1!B34 -> 24001775 | C43: =Sheet1!C34 -> Trương Nhật | D43: =Sheet1!D34 -> Minh | H43: 1
A44: 24 | B44: =Sheet1!B35 -> 24001688 | C44: =Sheet1!C35 -> Y Dennis | D44: =Sheet1!D35 -> Mlô | H44: 1
A45: 25 | B45: =Sheet1!B36 -> 24001798 | C45: =Sheet1!C36 -> Nguyễn Phương | D45: =Sheet1!D36 -> Nam | H45: 1
A46: 26 | B46: =Sheet1!B37 -> 24001763 | C46: =Sheet1!C37 -> Nguyễn Đình | D46: =Sheet1!D37 -> Nghi | H46: 1
A47: 27 | B47: =Sheet1!B38 -> 24001744 | C47: =Sheet1!C38 -> Liêu Long | D47: =Sheet1!D38 -> Nhựt | H47: 1
A48: 28 | B48: =Sheet1!B39 -> 24001791 | C48: =Sheet1!C39 -> Trịnh Nguyên | D48: =Sheet1!D39 -> Phàng | H48: 1
... A53: 33 | B53: =Sheet1!B44 -> 24001750 | C53: =Sheet1!C44 -> Lê Thế | D53: =Sheet1!D44 -> Quang | H53: 1
A54: 34 | B54: =Sheet1!B45 -> 24001663 | C54: =Sheet1!C45 -> Nguyễn Văn | D54: =Sheet1!D45 -> Sơn | H54: 1 | I54: Lớp phó PT
A55: 35 | B55: =Sheet1!B46 -> 24001753 | C55: =Sheet1!C46 -> Lê Tấn | D55: =Sheet1!D46 -> Tài | H55: 1
A56: 36 | B56: =Sheet1!B47 -> 24001634 | C56: =Sheet1!C47 -> Đào Thế | D56: =Sheet1!D47 -> Thành | H56: 1
A57: 37 | B57: =Sheet1!B48 -> 24001629 | C57: =Sheet1!C48 -> Huỳnh Công | D57: =Sheet1!D48 -> Thuận | H57: 1
A58: 38 | B58: =Sheet1!B49 -> 24001749 | C58: =Sheet1!C49 -> Nguyễn Văn | D58: =Sheet1!D49 -> Thuận | H58: 1 | I58: TT3
A59: 39 | B59: =Sheet1!B50 -> 24003518 | C59: =Sheet1!C50 -> Lý Quang Minh | D59: =Sheet1!D50 -> Trí | H59: 1 | I59: TT4
A60: 40 | B60: =Sheet1!B51 -> 24001714 | C60: =Sheet1!C51 -> Quách Thanh | D60: =Sheet1!D51 -> Triết | H60: 1
A61: 41 | B61: =Sheet1!B52 -> 24001730 | C61: =Sheet1!C52 -> Mai Thành | D61: =Sheet1!D52 -> Trung | H61: 1
A62: 42 | B62: =Sheet1!B53 -> 24001682 | C62: =Sheet1!C53 -> Nguyễn Bá Khánh | D62: =Sheet1!D53 -> Trung | H62: 1 | I62: Lớp trưởng
A63: 43 | B63: =Sheet1!B54 -> 24001699 | C63: =Sheet1!C54 -> Nguyễn Thành | D63: =Sheet1!D54 -> Trung | H63: 1
A64: 44 | B64: =Sheet1!B55 -> 24001708 | C64: =Sheet1!C55 -> Nguyễn Chí | D64: =Sheet1!D55 -> Tú | H64: 1
A65: 45 | B65: =Sheet1!B56 -> 24001674 | C65: =Sheet1!C56 -> Nguyễn Hoàng | D65: =Sheet1!D56 -> Tú | H65: 1
A66: 46 | B66: =Sheet1!B57 -> 24001678 | C66: =Sheet1!C57 -> Nguyễn Trần Anh | D66: =Sheet1!D57 -> Tuấn | H66: 1
A67: 47 | B67: =Sheet1!B58 -> 24001690 | C67: =Sheet1!C58 -> Trương Nguyễn Quốc | D67: =Sheet1!D58 -> Việt | H67: 1
A68: 48 | B68: =Sheet1!B59 -> 24001793 | C68: =Sheet1!C59 -> Nguyễn Quang | D68: =Sheet1!D59 -> Vinh | H68: 1
A69: 49 | B69: =Sheet1!B60 -> 24001728 | C69: =Sheet1!C60 -> Huỳnh Thanh | D69: =Sheet1!D60 -> Vũ | H69: 1
A70: 50 | B70: =Sheet1!B61 -> 24001774 | C70: =Sheet1!C61 -> Bùi Nhật Long | D70: =Sheet1!D61 -> Vỹ | H70: 1
B72: Tổng kết phân loại đánh giá rèn luyện của lớp:
C73: XẾP LOẠI | E73: SỐ LƯỢNG | F73: TỶ LỆ
C74: Xuất sắc | E74: =COUNTIF($G$21:$G$70,"Xuất sắc") -> 0 | F74: =E74/#REF! -> #REF!
C75: Tốt | E75: =COUNTIF($G$21:$G$70,"Tốt") -> 0 | F75: =E75/#REF! -> #REF!
C76: Khá | E76: =COUNTIF($G$21:$G$70,"Khá") -> 0 | F76: =E76/#REF! -> #REF!
C77: Trung bình | E77: 0 | F77: =E77/#REF! -> #REF!
C78: Yếu | E78: =COUNTIF($G$21:$G$70,"Yếu") -> 0 | F78: =E78/#REF! -> #REF!
C79: Không xếp loại | E79: =COUNTIF($G$21:$G$70,"Không XL") -> 0 | F79: =E79/#REF! -> #REF!
A81: Thư ký thông qua toàn văn biên bản cuộc họp, các thành viên dự họp nhất trí, không có ý kiến gì thêm. Cuộc họp kết thúc lúc giờ phút cùng ngày./.
B83: THƯ KÝ | F83: CHỦ TỌA
B88: Trần Đăng Khoa | F88: Hoàng Văn Viết
A92: Ý KIẾN CỦA LÃNH ĐẠO KHOA
A93: ………………………………………………………………..……………………………………………………….......…… ……………………………………………………..…………………………………………………………………...........…
D95: Thành phố Hồ Chí Minh, ngày … tháng 06 năm 2025
F96: KT. TRƯỞNG KHOA
F97: P. TRƯỞNG KHOA
F102: Hoàng Văn Viết
