Workbook

Sheet Sheet1
A2: TRƯỜNG CAO ĐẲNG LÝ TỰ TRỌNG | E2: CỘNG HÒA XÃ HỘI CHỦ NGHĨA VIỆT NAM
A3: THÀNH PHỐ HỒ CHÍ MINH | E3: Độc lập - Tự do - Hạnh phúc
A4: PHÒNG TTGD - QHDN
A6: BẢNG TỔNG KẾT ĐÁNH GIÁ KẾT QUẢ RÈN LUYỆN
A7: Học kỳ: II Năm học: 2024-2025
A8: Lớp: 24C1-CNÔ3 Sĩ số: 50 Khoa: Động lực
A10: TT | B10: Mã số SV | C10: HỌ VÀ TÊN | E10: CỐ VẤN HỌC TẬP | G10: QUẢN LÝ SV | I10: GHI CHÚ
E11: ĐIỂM RL | F11: XẾP LOẠI | G11: ĐIỂM RL | H11: XẾP LOẠI
A12: 1 | B12: 24001747 | C12: Nguyễn Thanh | D12: Chí | G12: 60 | H12: TB
A13: 2 | B13: 24001650 | C13: Trần Văn | D13: Đạt | G13: 61 | H13: TB
A14: 3 | B14: 24001621 | C14: Lê Hoàng | D14: Đồng | G14: 57 | H14: TB
A15: 4 | B15: 24001611 | C15: Lê Huỳnh Anh | D15: Duy | G15: 62 | H15: TB
A16: 5 | B16: 24001622 | C16: Trần Hoàng | D16: Duy | G16: 58 | H16: TB
A17: 6 | B17: 24001601 | C17: Vũ Quốc | D17: Hào | G17: 60 | H17: TB
A18: 7 | B18: 24001615 | C18: Ngô Thanh | D18: Hậu | G18: 60 | H18: TB
A19: 8 | B19: 24001677 | C19: Vũ Hoàng | D19: Hiếu | G19: 50 | H19: TB
A20: 9 | B20: 24001610 | C20: Cao Ngọc | D20: Huân | G20: 60 | H20: TB
A21: 10 | B21: 24001695 | C21: Đặng Lâm Quốc | D21: Hưng | G21: 58 | H21: TB
A22: 11 | B22: 24001618 | C22: Mã Gia | D22: Huy | G22: 70 | H22: Khá | I22: Lớp phó HT
A23: 12 | B23: 24001614 | C23: Nguyễn Thái | D23: Huy | G23: 63 | H23: TB
A24: 13 | B24: 24001756 | C24: Nguyễn Văn Chí | D24: Huy | G24: 66 | H24: TB | I24: TT1
A25: 14 | B25: 24001691 | C25: Phạm Lê | D25: Huy | G25: 63 | H25: TB
A26: 15 | B26: 24001654 | C26: Nguyễn Nhật Nguyên | D26: Khang | G26: 56 | H26: TB
A27: 16 | B27: 24001786 | C27: Lê Anh | D27: Khoa | G27: 67 | H27: TB | I27: TT2
A28: 17 | B28: 24001672 | C28: Trịnh Đăng | D28: Khoa | G28: 58 | H28: TB
A29: 18 | B29: 24001725 | C29: Võ Hoàng Tấn | D29: Lộc | G29: 58 | H29: TB
A30: 19 | B30: 24001662 | C30: Đỗ Văn | D30: Lợi | G30: 58 | H30: TB
A31: 20 | B31: 24001683 | C31: Bùi Duy | D31: Mạnh | G31: 60 | H31: TB
A32: 21 | B32: 24001777 | C32: Nguyễn Ngọc | D32: Minh | G32: 52 | H32: TB
A33: 22 | B33: 24001719 | C33: Phạm Nhật | D33: Minh | G33: 60 | H33: TB
A34: 23 | B34: 24001775 | C34: Trương Nhật | D34: Minh | G34: 60 | H34: TB
A35: 24 | B35: 24001688 | C35: Y Dennis | D35: Mlô | G35: 60 | H35: TB
A36: 25 | B36: 24001798 | C36: Nguyễn Phương | D36: Nam | G36: 60 | H36: TB
A37: 26 | B37: 24001763 | C37: Nguyễn Đình | D37: Nghi | G37: 61 | H37: TB
A38: 27 | B38: 24001744 | C38: Liêu Long | D38: Nhựt | G38: 61 | H38: TB
A39: 28 | B39: 24001791 | C39: Trịnh Nguyên | D39: Phàng | G39: 50 | H39: TB
... A44: 33 | B44: 24001750 | C44: Lê Thế | D44: Quang | G44: 50 | H44: TB
A45: 34 | B45: 24001663 | C45: Nguyễn Văn | D45: Sơn | G45: 60 | H45: TB | I45: Lớp phó PT
A46: 35 | B46: 24001753 | C46: Lê Tấn | D46: Tài | G46: 60 | H46: TB
A47: 36 | B47: 24001634 | C47: Đào Thế | D47: Thành | G47: 61 | H47: TB
...

Sheet Sheet2
A1: TRƯỜNG CAO ĐẲNG LÝ TỰ TRỌNG | E1: CỘNG HÒA XÃ HỘI CHỦ NGHĨA VIỆT NAM
A2: THÀNH PHỐ HỒ CHÍ MINH | E2: Độc lập - Tự do - Hạnh phúc
A3: KHOA XÂY DỰNG - NHIỆT LẠNH
A5: BIÊN BẢN HỌP LỚP ĐÁNH GIÁ KẾT QUẢ RÈN LUYỆN SINH VIÊN
B6: LỚP: 23C1-KML1 | D6: HỌC KỲ: II | F6: NĂM HỌC: 2024-2025
A8: 1. | B8: Thời gian họp: giờ phút, ngày tháng 06 năm 2025;
A9: 2. | B9: Địa điểm: Trực tuyến
A10: 3. | B10: Chủ tọa phiên họp và thành phần tham dự:
B11: Chủ tọa: Ông Hoàng Văn Viết; Chức vụ: Cố vấn học tập;
B12: Thư ký: Trần Đăng Khoa; Chức vụ: Lớp trưởng;
B13: Thành phần tham dự: Tập thể lớp 23C1-KML1; | H13: .
B14: Hiện diện: Sinh viên (SV);
B15: Vắng: SV không phép.
A16: 4. | B16: Nội dung cuộc họp:
A17: Căn cứ kết quả học tập, chuyên cần và thống kê nội dung tham gia hoạt động, phong trào trong học kỳ, cố vấn học tập thông qua mức điểm tự đánh giá của từng SV và xem xét, xin ý kiến đóng góp của tập thể lớp, cụ thể:
A19: TT | B19: Mã số SV | C19: HỌ VÀ TÊN | E19: SV TỰ ĐÁNH GIÁ | F19: TẬP THỂ LỚP ĐÁNH GIÁ | I19: GHI CHÚ
F20: Điểm | G20: Xếp loại | H20: Tỷ lệ % đồng ý
A21: 01 | B21: =Sheet1!B12 -> 24001747 | C21: =Sheet1!C12 -> Nguyễn Thanh | D21: =Sheet1!D12 -> Chí | H21: 1
A22: 02 | B22: =Sheet1!B13 -> 24001650 | C22: =Sheet1!C13 -> Trần Văn | D22: =Sheet1!D13 -> Đạt | H22: 1
A23: 03 | B23: =Sheet1!B14 -> 24001621 | C23: =Sheet1!C14 -> Lê Hoàng | D23: =Sheet1!D14 -> Đồng | H23: 1
A24: 04 | B24: =Sheet1!B15 -> 24001611 | C24: =Sheet1!C15 -> Lê Huỳnh Anh | D24: =Sheet1!D15 -> Duy | H24: 1
A25: 05 | B25: =Sheet1!B16 -> 24001622 | C25: =Sheet1!C16 -> Trần Hoàng | D25: =Sheet1!D16 -> Duy | H25: 1
A26: 06 | B26: =Sheet1!B17 -> 24001601 | C26: =Sheet1!C17 -> Vũ Quốc | D26: =Sheet1!D17 -> Hào | H26: 1
A27: 07 | B27: =Sheet1!B18 -> 24001615 | C27: =Sheet1!C18 -> Ngô Thanh | D27: =Sheet1!D18 -> Hậu | H27: 1
A28: 08 | B28: =Sheet1!B19 -> 24001677 | C28: =Sheet1!C19 -> Vũ Hoàng | D28: =Sheet1!D19 -> Hiếu | H28: 1
A29: 09 | B29: =Sheet1!B20 -> 24001610 | C29: =Sheet1!C20 -> Cao Ngọc | D29: =Sheet1!D20 -> Huân | H29: 1
A30: 10 | B30: =Sheet1!B21 -> 24001695 | C30: =Sheet1!C21 -> Đặng Lâm Quốc | D30: =Sheet1!D21 -> Hưng | H30: 1
A31: 11 | B31: =Sheet1!B22 -> 24001618 | C31: =Sheet1!C22 -> Mã Gia | D31: =Sheet1!D22 -> Huy | H31: 1 | I31: Lớp phó HT
A32: 12 | B32: =Sheet1!B23 -> 24001614 | C32: =Sheet1!C23 -> Nguyễn Thái | D32: =Sheet1!D23 -> Huy | H32: 1
A33: 13 | B33: =Sheet1!B24 -> 24001756 | C33: =Sheet1!C24 -> Nguyễn Văn Chí | D33: =Sheet1!D24 -> Huy | H33: 1 | I33: TT1
A34: 14 | B34: =Sheet1!B25 -> 24001691 | C34: =Sheet1!C25 -> Phạm Lê | D34: =Sheet1!D25 -> Huy | H34: 1
A35: 15 | B35: =Sheet1!B26 -> 24001654 | C35: =Sheet1!C26 -> Nguyễn Nhật Nguyên | D35: =Sheet1!D26 -> Khang | H35: 1
A36: 16 | B36: =Sheet1!B27 -> 24001786 | C36: =Sheet1!C27 -> Lê Anh | D36: =Sheet1!D27 -> Khoa | H36: 1 | I36: TT2
A37: 17 | B37: =Sheet1!B28 -> 24001672 | C37: =Sheet1!C28 -> Trịnh Đăng | D37: =Sheet1!D28 -> Khoa | H37: 1
A38: 18 | B38: =Sheet1!B29 -> 24001725 | C38: =Sheet1!C29 -> Võ Hoàng Tấn | D38: =Sheet1!D29 -> Lộc | H38: 1
A39: 19 | B39: =Sheet1!B30 -> 24001662 | C39: =Sheet1!C30 -> Đỗ Văn | D39: =Sheet1!D30 -> Lợi | H39: 1
A40: 20 | B40: =Sheet1!B31 -> 24001683 | C40: =Sheet1!C31 -> Bùi Duy | D40: =Sheet1!D31 -> Mạnh | H40: 1
A41: 21 | B41: =Sheet1!B32 -> 24001777 | C41: =Sheet1!C32 -> Nguyễn Ngọc | D41: =Sheet1!D32 -> Minh | H41: 1
A42: 22 | B42: =Sheet1!B33 -> 24001719 | C42: =Sheet1!C33 -> Phạm Nhật | D42: =Sheet1!D33 -> Minh | H42: 1
A43: 23 | B43: =Sheet1!B34 -> 24001775 | C43: =Sheet1!C34 -> Trương Nhật | D43: =Sheet1!D34 -> Minh | H43: 1
...
