Workbook

Sheet Kangatang_88

Sheet Kangatang_89

Sheet Kangatang_90

Sheet Kangatang_91

Sheet Kangatang_92

Sheet Kangatang_93

Sheet Kangatang_94

Sheet Kangatang_95

Sheet Kangatang_96

Sheet Kangatang_97

Sheet Kangatang_98

Sheet Kangatang_99

Sheet Kangatang_100

Sheet Kangatang_101

Sheet Kangatang_102

Sheet Kangatang_103

Sheet Kangatang_104

Sheet Kangatang_105

Sheet Kangatang_106

Sheet Kangatang_107

Sheet Kangatang_108

Sheet Kangatang_109

Sheet Kangatang_110

Sheet Kangatang_111

Sheet Kangatang_112

Sheet Kangatang_113

Sheet Kangatang_114

Sheet Kangatang_115

Sheet Kangatang_116

Sheet Kangatang_117

Sheet Kangatang_118

Sheet Kangatang_119

Sheet Kangatang_120

Sheet Kangatang_121

Sheet Kangatang_122

Sheet Kangatang_123

Sheet Kangatang_124

Sheet Kangatang_125

Sheet Kangatang_126

Sheet Kangatang_127

Sheet Kangatang_128

Sheet Kangatang_129

Sheet Kangatang_130

Sheet Kangatang_131

Sheet Kangatang_132

Sheet Kangatang_133

Sheet Kangatang_134

Sheet Kangatang_135

Sheet Kangatang_136

Sheet Kangatang_137

Sheet Kangatang_138

Sheet Kangatang_139

Sheet Kangatang_140

Sheet Kangatang_141

Sheet Kangatang_142

Sheet Kangatang_143

Sheet Kangatang_144

Sheet Kangatang_145

Sheet Kangatang_146

Sheet Kangatang_147

Sheet Kangatang_148

Sheet Kangatang_149

Sheet Kangatang_150

Sheet Kangatang_151

Sheet Kangatang_152

Sheet Kangatang_153

Sheet Kangatang_207

Sheet Kangatang_208

Sheet Kangatang_209

Sheet Kangatang_210

Sheet Kangatang_211

Sheet Kangatang_212

Sheet Kangatang_213

Sheet Kangatang_214

Sheet Kangatang_215

Sheet Kangatang_216

Sheet Kangatang_217

Sheet Kangatang_218

Sheet Kangatang_219

Sheet Kangatang_220

Sheet Kangatang_221

Sheet Kangatang_222

Sheet Kangatang_223

Sheet Kangatang_224

Sheet Kangatang_225

Sheet Kangatang_226

Sheet Kangatang_227

Sheet Kangatang_228

Sheet Kangatang_229

Sheet Kangatang_230

Sheet Kangatang_231

Sheet Kangatang_232

Sheet Kangatang_233

Sheet Kangatang_234

Sheet Kangatang_235

Sheet Kangatang_236

Sheet Kangatang_237

Sheet Kangatang_238

Sheet Kangatang_239

Sheet Kangatang_240

Sheet Kangatang_241

Sheet Kangatang_242

Sheet Kangatang_243

Sheet Kangatang_244

Sheet Kangatang_245

Sheet Kangatang_246

Sheet Kangatang_247

Sheet Kangatang_248

Sheet Kangatang_249

Sheet Kangatang_250

Sheet Kangatang_251

Sheet Kangatang_252

Sheet Kangatang_253

Sheet Kangatang_254

Sheet Kangatang_255

Sheet Kangatang_256

Sheet Kangatang_257

Sheet Kangatang_258

Sheet Kangatang_259

Sheet Kangatang_260

Sheet Kangatang_261

Sheet Kangatang_262

Sheet Kangatang_263

Sheet Kangatang_264

Sheet Kangatang_265

Sheet Kangatang_266

Sheet Kangatang_267

Sheet Kangatang_268

Sheet Kangatang_269

Sheet Kangatang_270

Sheet Kangatang_271

Sheet Kangatang_272

Sheet Kangatang_273

Sheet Kangatang_274

Sheet Kangatang_275

Sheet Kangatang_276

Sheet Kangatang_277

Sheet Kangatang_278

Sheet Kangatang_279

Sheet Kangatang_280

Sheet Kangatang_281

Sheet Kangatang_282

Sheet Kangatang_283

Sheet Kangatang_284

Sheet Kangatang_285

Sheet Kangatang_286

Sheet Kangatang_287

Sheet Kangatang_288

Sheet Kangatang_289

Sheet Kangatang_290

Sheet Kangatang_291

Sheet Kangatang_292

Sheet Kangatang_293

Sheet Kangatang_294

Sheet Kangatang_295

Sheet Kangatang_296

Sheet Kangatang_297

Sheet Kangatang_298

Sheet Kangatang_299

Sheet Kangatang_300

Sheet Kangatang_301

Sheet Kangatang_302

Sheet Kangatang_303

Sheet Kangatang_304

Sheet Kangatang_305

Sheet Kangatang_306

Sheet Kangatang_307

Sheet Kangatang_308

Sheet Kangatang_309

Sheet Kangatang_310

Sheet Kangatang_311

Sheet Kangatang_312

Sheet Kangatang_313

Sheet Kangatang

Sheet Kangatang_2

Sheet Kangatang_3

Sheet Kangatang_4

Sheet Kangatang_5

Sheet Kangatang_6

Sheet Kangatang_7

Sheet Kangatang_8

Sheet Kangatang_9

Sheet Kangatang_10

Sheet Kangatang_11

Sheet Kangatang_12

Sheet Kangatang_13

Sheet Kangatang_14

Sheet Kangatang_15

Sheet Kangatang_16

Sheet Kangatang_17

Sheet Kangatang_18

Sheet Kangatang_19

Sheet Kangatang_20

Sheet Kangatang_21

Sheet Kangatang_22

Sheet Kangatang_23

Sheet Kangatang_24

Sheet Kangatang_25

Sheet Kangatang_26

Sheet Kangatang_27

Sheet Kangatang_28

Sheet Kangatang_29

Sheet Kangatang_30

Sheet Kangatang_31

Sheet Kangatang_32

Sheet Kangatang_33

Sheet Kangatang_34

Sheet Kangatang_35

Sheet Kangatang_36

Sheet Kangatang_37

Sheet Kangatang_38

Sheet Kangatang_39

Sheet Kangatang_40

Sheet Kangatang_41

Sheet Kangatang_42

Sheet Kangatang_43

Sheet Kangatang_44

Sheet Kangatang_45

Sheet Kangatang_46

Sheet Kangatang_47

Sheet Kangatang_48

Sheet Kangatang_49

Sheet Kangatang_50

Sheet Kangatang_51

Sheet Kangatang_52

Sheet Kangatang_53

Sheet Kangatang_54

Sheet Kangatang_55

Sheet Kangatang_56

Sheet Kangatang_57

Sheet Kangatang_58

Sheet Kangatang_59

Sheet Kangatang_60

Sheet Kangatang_61

Sheet Kangatang_62

Sheet Kangatang_63

Sheet Kangatang_64

Sheet Kangatang_65

Sheet Kangatang_66

Sheet Kangatang_67

Sheet Kangatang_68

Sheet Kangatang_69

Sheet Kangatang_70

Sheet Kangatang_71

Sheet Kangatang_72

Sheet Kangatang_73

Sheet Kangatang_74

Sheet Kangatang_75

Sheet Kangatang_76

Sheet Kangatang_77

Sheet Kangatang_78

Sheet Kangatang_79

Sheet Kangatang_80

Sheet Kangatang_81

Sheet Kangatang_82

Sheet Kangatang_83

Sheet Kangatang_84

Sheet Kangatang_85

Sheet Kangatang_86

Sheet Kangatang_87

Sheet Kangatang_154

Sheet Kangatang_155

Sheet Kangatang_158

Sheet Kangatang_159

Sheet Kangatang_160

Sheet Kangatang_161

Sheet Kangatang_162

Sheet Kangatang_163

Sheet Kangatang_164

Sheet Kangatang_165

Sheet Kangatang_166

Sheet Kangatang_167

Sheet Kangatang_168

Sheet Kangatang_169

Sheet Kangatang_170

Sheet Kangatang_171

Sheet Kangatang_172

Sheet Kangatang_173

Sheet Kangatang_174

Sheet Kangatang_175

Sheet Kangatang_176

Sheet Kangatang_177

Sheet Kangatang_178

Sheet Kangatang_179

Sheet Kangatang_180

Sheet Kangatang_181

Sheet Kangatang_182

Sheet Kangatang_183

Sheet Kangatang_184

Sheet Kangatang_185

Sheet Kangatang_186

Sheet Kangatang_187

Sheet Kangatang_188

Sheet Kangatang_189

Sheet Kangatang_190

Sheet Kangatang_191

Sheet Kangatang_192

Sheet Kangatang_193

Sheet Kangatang_194

Sheet Kangatang_195

Sheet Kangatang_196

Sheet Kangatang_197

Sheet Kangatang_198

Sheet Kangatang_199

Sheet Kangatang_200

Sheet Kangatang_201

Sheet Kangatang_202

Sheet Kangatang_203

Sheet Kangatang_204

Sheet Kangatang_205

Sheet Kangatang_206

Sheet Kangatang_156

Sheet Kangatang_157

Sheet Kangatang_314

Sheet Kangatang_315

Sheet Kangatang_316

Sheet Kangatang_317

Sheet Kangatang_318

Sheet Kangatang_319

Sheet Kangatang_320

Sheet Kangatang_321

Sheet Kangatang_322

Sheet Kangatang_323

Sheet Kangatang_324

Sheet Kangatang_325

Sheet Kangatang_326

Sheet Kangatang_327

Sheet Kangatang_328

Sheet Kangatang_329

Sheet Kangatang_330

Sheet Kangatang_331

Sheet Kangatang_332

Sheet Kangatang_333

Sheet Kangatang_334

Sheet Kangatang_335

Sheet Kangatang_336

Sheet Kangatang_337

Sheet Kangatang_338

Sheet Kangatang_339

Sheet Kangatang_340

Sheet Kangatang_341

Sheet Kangatang_342

Sheet Kangatang_343

Sheet Kangatang_344

Sheet Kangatang_345

Sheet Kangatang_346

Sheet Kangatang_347

Sheet Kangatang_348

Sheet Kangatang_349

Sheet Kangatang_350

Sheet Kangatang_351

Sheet Kangatang_352

Sheet Kangatang_353

Sheet Kangatang_354

Sheet Kangatang_355

Sheet PTCHC
A1: UBND THÀNH PHỐ HỒ CHÍ MINH
A2: TRƯỜNG CAO ĐẲNG LÝ TỰ TRỌNG
A3: THÀNH PHỐ HỒ CHÍ MINH
A4: TỔNG HỢP THI ĐUA NĂM HỌC 2024 - 2025
A6: Stt | B6: tt | C6: Họ và tên | E6: Mã số E-office | F6: Đơn vị | G6: VC/HĐT | H6: Tháng 7/24 | J6: Tháng 8/24 | L6: Tháng 09/2024 | N6: Tháng 10/2024 | P6: Tháng 11/2024 | R6: Tháng 12/2024 | T6: Tháng 01/2025 | V6: Tháng 02/2025 | X6: Tháng 03/2025 | Z6: Tháng 04/2025 | AB6: Tháng 05/2025 | AD6: Tháng 06/2025 | AF6: Điểm trung bình 12 tháng | AG6: Cá nhân tự đánh giá | AH6: Kết quả đánh giá của đơn vị | AI6: Ý kiến đánh giá của đơn vị | AJ6: Kết quả đánh giá của chi bộ | AK6: Ý kiến đánh giá của chi bộ | AL6: Kết quả đánh giá của Hội đồng | AM6: Ý kiến đánh giá của Hội đồng | AN6: Ghi chú
A7: =IF(E7="","",SUBTOTAL(3,$E$7:E7)) -> 1 | B7: =COUNTIF($F$7:F7,F7) -> 1 | C7: Bà | D7: Lưu Hoàng Hải Yến | E7: 01002019 | F7: Phòng TC - HC - TH | G7: VC | H7: =VLOOKUP($E7,'[1]Gui chi Quynh'!$C$11:$E$397,3,0) -> A1 | I7: =VLOOKUP(H7,Sheet1!$B$2:$C$12,2,TRUE) -> 10 | J7: =VLOOKUP($E7,'[2]Gui chi Quynh'!$C$11:$E$397,3,0) -> A1 | K7: =VLOOKUP(J7,Sheet1!$B$2:$C$12,2,TRUE) -> 10 | L7: =VLOOKUP($E7,'[3]Gui chi Quynh'!$C$11:$E$396,3,0) -> A1 | M7: =VLOOKUP(L7,Sheet1!$B$2:$C$12,2,TRUE) -> 10 | N7: =VLOOKUP($E7,'[4]Gui chi Quynh'!$C$11:$E$396,3,0) -> A1 | O7: =VLOOKUP(N7,Sheet1!$B$2:$C$12,2,TRUE) -> 10 | P7: =VLOOKUP($E7,'[5]Gui chi Quynh'!$C$11:$E$394,3,0) -> A1 | Q7: =VLOOKUP(P7,Sheet1!$B$2:$C$12,2,TRUE) -> 10 | R7: =VLOOKUP($E7,'[6]Gui chi Quynh'!$C$11:$E$393,3,0) -> A1 | S7: =VLOOKUP(R7,Sheet1!$B$2:$C$12,2,TRUE) -> 10 | T7: =VLOOKUP($E7,'[7]Gui chi Quynh'!$C$11:$E$392,3,0) -> A1 | U7: =VLOOKUP(T7,Sheet1!$B$2:$C$12,2,TRUE) -> 10 | V7: =VLOOKUP($E7,'[8]Gui chi Quynh'!$C$11:$F$391,3,0) -> A1 | W7: =VLOOKUP(V7,Sheet1!$B$2:$C$12,2,TRUE) -> 10 | X7: =VLOOKUP($E7,'[9]Gui chi Quynh'!$C$11:$E$390,3,0) -> A1 | Y7: =VLOOKUP(X7,Sheet1!$B$2:$C$12,2,TRUE) -> 10 | Z7: =VLOOKUP($E7,'[10]Gui chi Quynh'!$C$11:$E$391,3,0) -> A1 | AA7: =VLOOKUP(Z7,Sheet1!$B$2:$C$12,2,TRUE) -> 10 | AC7: =VLOOKUP(AB7,Sheet1!$B$2:$C$12,2,TRUE) -> #N/A | AE7: =VLOOKUP(AD7,Sheet1!$B$2:$C$12,2,TRUE) -> #N/A | AF7: =(I7+K7+M7+O7+Q7+S7+U7+W7+Y7+AA7)/10 -> 10
A8: =IF(E8="","",SUBTOTAL(3,$E$7:E8)) -> 2 | B8: =COUNTIF($F$7:F8,F8) -> 2 | C8: Bà | D8: Huỳnh Thị Minh Ly | E8: 01004007 | F8: Phòng TC - HC - TH | G8: VC | H8: =VLOOKUP($E8,'[1]Gui chi Quynh'!$C$11:$E$397,3,0) -> A1 | I8: =VLOOKUP(H8,Sheet1!$B$2:$C$12,2,TRUE) -> 10 | J8: =VLOOKUP($E8,'[2]Gui chi Quynh'!$C$11:$E$397,3,0) -> A1 | K8: =VLOOKUP(J8,Sheet1!$B$2:$C$12,2,TRUE) -> 10 | L8: =VLOOKUP($E8,'[3]Gui chi Quynh'!$C$11:$E$396,3,0) -> A1 | M8: =VLOOKUP(L8,Sheet1!$B$2:$C$12,2,TRUE) -> 10 | N8: =VLOOKUP($E8,'[4]Gui chi Quynh'!$C$11:$E$396,3,0) -> A1 | O8: =VLOOKUP(N8,Sheet1!$B$2:$C$12,2,TRUE) -> 10 | P8: =VLOOKUP($E8,'[5]Gui chi Quynh'!$C$11:$E$394,3,0) -> A1 | Q8: =VLOOKUP(P8,Sheet1!$B$2:$C$12,2,TRUE) -> 10 | R8: =VLOOKUP($E8,'[6]Gui chi Quynh'!$C$11:$E$393,3,0) -> A1 | S8: =VLOOKUP(R8,Sheet1!$B$2:$C$12,2,TRUE) -> 10 | T8: =VLOOKUP($E8,'[7]Gui chi Quynh'!$C$11:$E$392,3,0) -> A1 | U8: =VLOOKUP(T8,Sheet1!$B$2:$C$12,2,TRUE) -> 10 | V8: =VLOOKUP($E8,'[8]Gui chi Quynh'!$C$11:$F$391,3,0) -> A1 | W8: =VLOOKUP(V8,Sheet1!$B$2:$C$12,2,TRUE) -> 10 | X8: =VLOOKUP($E8,'[9]Gui chi Quynh'!$C$11:$E$390,3,0) -> A1 | Y8: =VLOOKUP(X8,Sheet1!$B$2:$C$12,2,TRUE) -> 10 | Z8: =VLOOKUP($E8,'[10]Gui chi Quynh'!$C$11:$E$391,3,0) -> A1 | AA8: =VLOOKUP(Z8,Sheet1!$B$2:$C$12,2,TRUE) -> 10 | AC8: =VLOOKUP(AB8,Sheet1!$B$2:$C$12,2,TRUE) -> #N/A | AE8: =VLOOKUP(AD8,Sheet1!$B$2:$C$12,2,TRUE) -> #N/A | AF8: =(I8+K8+M8+O8+Q8+S8+U8+W8+Y8+AA8)/10 -> 10
A9: =IF(E9="","",SUBTOTAL(3,$E$7:E9)) -> 3 | B9: =COUNTIF($F$7:F9,F9) -> 3 | C9: Bà | D9: Vũ Như Quỳnh | E9: 01002017 | F9: Phòng TC - HC - TH | G9: VC | H9: =VLOOKUP($E9,'[1]Gui chi Quynh'!$C$11:$E$397,3,0) -> A2 | I9: =VLOOKUP(H9,Sheet1!$B$2:$C$12,2,TRUE) -> 9 | J9: =VLOOKUP($E9,'[2]Gui chi Quynh'!$C$11:$E$397,3,0) -> A2 | K9: =VLOOKUP(J9,Sheet1!$B$2:$C$12,2,TRUE) -> 9 | L9: =VLOOKUP($E9,'[3]Gui chi Quynh'!$C$11:$E$396,3,0) -> A2 | M9: =VLOOKUP(L9,Sheet1!$B$2:$C$12,2,TRUE) -> 9 | N9: =VLOOKUP($E9,'[4]Gui chi Quynh'!$C$11:$E$396,3,0) -> A3 | O9: =VLOOKUP(N9,Sheet1!$B$2:$C$12,2,TRUE) -> 8 | P9: =VLOOKUP($E9,'[5]Gui chi Quynh'!$C$11:$E$394,3,0) -> A1 | Q9: =VLOOKUP(P9,Sheet1!$B$2:$C$12,2,TRUE) -> 10 | R9: =VLOOKUP($E9,'[6]Gui chi Quynh'!$C$11:$E$393,3,0) -> A1 | S9: =VLOOKUP(R9,Sheet1!$B$2:$C$12,2,TRUE) -> 10 | T9: =VLOOKUP($E9,'[7]Gui chi Quynh'!$C$11:$E$392,3,0) -> A1 | U9: =VLOOKUP(T9,Sheet1!$B$2:$C$12,2,TRUE) -> 10 | V9: =VLOOKUP($E9,'[8]Gui chi Quynh'!$C$11:$F$391,3,0) -> A2 | W9: =VLOOKUP(V9,Sheet1!$B$2:$C$12,2,TRUE) -> 9 | X9: =VLOOKUP($E9,'[9]Gui chi Quynh'!$C$11:$E$390,3,0) -> A2 | Y9: =VLOOKUP(X9,Sheet1!$B$2:$C$12,2,TRUE) -> 9 | Z9: =VLOOKUP($E9,'[10]Gui chi Quynh'!$C$11:$E$391,3,0) -> A3 | AA9: =VLOOKUP(Z9,Sheet1!$B$2:$C$12,2,TRUE) -> 8 | AC9: =VLOOKUP(AB9,Sheet1!$B$2:$C$12,2,TRUE) -> #N/A | AE9: =VLOOKUP(AD9,Sheet1!$B$2:$C$12,2,TRUE) -> #N/A | AF9: =(I9+K9+M9+O9+Q9+S9+U9+W9+Y9+AA9)/10 -> 9.1
A10: =IF(E10="","",SUBTOTAL(3,$E$7:E10)) -> 4 | B10: =COUNTIF($F$7:F10,F10) -> 4 | C10: Bà | D10: Phan Thị Ngọc Phượng | E10: 01002018 | F10: Phòng TC - HC - TH | G10: VC | H10: =VLOOKUP($E10,'[1]Gui chi Quynh'!$C$11:$E$397,3,0) -> A1 | I10: =VLOOKUP(H10,Sheet1!$B$2:$C$12,2,TRUE) -> 10 | J10: =VLOOKUP($E10,'[2]Gui chi Quynh'!$C$11:$E$397,3,0) -> A1 | K10: =VLOOKUP(J10,Sheet1!$B$2:$C$12,2,TRUE) -> 10 | L10: =VLOOKUP($E10,'[3]Gui chi Quynh'!$C$11:$E$396,3,0) -> A1 | M10: =VLOOKUP(L10,Sheet1!$B$2:$C$12,2,TRUE) -> 10 | N10: =VLOOKUP($E10,'[4]Gui chi Quynh'!$C$11:$E$396,3,0) -> A2 | O10: =VLOOKUP(N10,Sheet1!$B$2:$C$12,2,TRUE) -> 9 | P10: =VLOOKUP($E10,'[5]Gui chi Quynh'!$C$11:$E$394,3,0) -> A1 | Q10: =VLOOKUP(P10,Sheet1!$B$2:$C$12,2,TRUE) -> 10 | R10: =VLOOKUP($E10,'[6]Gui chi Quynh'!$C$11:$E$393,3,0) -> A1 | S10: =VLOOKUP(R10,Sheet1!$B$2:$C$12,2,TRUE) -> 10 | T10: =VLOOKUP($E10,'[7]Gui chi Quynh'!$C$11:$E$392,3,0) -> A1 | U10: =VLOOKUP(T10,Sheet1!$B$2:$C$12,2,TRUE) -> 10 | V10: =VLOOKUP($E10,'[8]Gui chi Quynh'!$C$11:$F$391,3,0) -> A2 | W10: =VLOOKUP(V10,Sheet1!$B$2:$C$12,2,TRUE) -> 9 | X10: =VLOOKUP($E10,'[9]Gui chi Quynh'!$C$11:$E$390,3,0) -> A2 | Y10: =VLOOKUP(X10,Sheet1!$B$2:$C$12,2,TRUE) -> 9 | Z10: =VLOOKUP($E10,'[10]Gui chi Quynh'!$C$11:$E$391,3,0) -> A3 | AA10: =VLOOKUP(Z10,Sheet1!$B$2:$C$12,2,TRUE) -> 8 | AC10: =VLOOKUP(AB10,Sheet1!$B$2:$C$12,2,TRUE) -> #N/A | AE10: =VLOOKUP(AD10,Sheet1!$B$2:$C$12,2,TRUE) -> #N/A | AF10: =(I10+K10+M10+O10+Q10+S10+U10+W10+Y10+AA10)/10 -> 9.5
A11: =IF(E11="","",SUBTOTAL(3,$E$7:E11)) -> 5 | B11: =COUNTIF($F$7:F11,F11) -> 5 | C11: Bà | D11: Nguyễn Thị Bích Liễu | E11: 01002005 | F11: Phòng TC - HC - TH | G11: VC | H11: =VLOOKUP($E11,'[1]Gui chi Quynh'!$C$11:$E$397,3,0) -> A2 | I11: =VLOOKUP(H11,Sheet1!$B$2:$C$12,2,TRUE) -> 9 | J11: =VLOOKUP($E11,'[2]Gui chi Quynh'!$C$11:$E$397,3,0) -> A2 | K11: =VLOOKUP(J11,Sheet1!$B$2:$C$12,2,TRUE) -> 9 | L11: =VLOOKUP($E11,'[3]Gui chi Quynh'!$C$11:$E$396,3,0) -> A2 | M11: =VLOOKUP(L11,Sheet1!$B$2:$C$12,2,TRUE) -> 9 | N11: =VLOOKUP($E11,'[4]Gui chi Quynh'!$C$11:$E$396,3,0) -> A3 | O11: =VLOOKUP(N11,Sheet1!$B$2:$C$12,2,TRUE) -> 8 | P11: =VLOOKUP($E11,'[5]Gui chi Quynh'!$C$11:$E$394,3,0) -> A1 | Q11: =VLOOKUP(P11,Sheet1!$B$2:$C$12,2,TRUE) -> 10 | R11: =VLOOKUP($E11,'[6]Gui chi Quynh'!$C$11:$E$393,3,0) -> A1 | S11: =VLOOKUP(R11,Sheet1!$B$2:$C$12,2,TRUE) -> 10 | T11: =VLOOKUP($E11,'[7]Gui chi Quynh'!$C$11:$E$392,3,0) -> A2 | U11: =VLOOKUP(T11,Sheet1!$B$2:$C$12,2,TRUE) -> 9 | V11: =VLOOKUP($E11,'[8]Gui chi Quynh'!$C$11:$F$391,3,0) -> A2 | W11: =VLOOKUP(V11,Sheet1!$B$2:$C$12,2,TRUE) -> 9 | X11: =VLOOKUP($E11,'[9]Gui chi Quynh'!$C$11:$E$390,3,0) -> A2 | Y11: =VLOOKUP(X11,Sheet1!$B$2:$C$12,2,TRUE) -> 9 | Z11: =VLOOKUP($E11,'[10]Gui chi Quynh'!$C$11:$E$391,3,0) -> A2 | AA11: =VLOOKUP(Z11,Sheet1!$B$2:$C$12,2,TRUE) -> 9 | AC11: =VLOOKUP(AB11,Sheet1!$B$2:$C$12,2,TRUE) -> #N/A | AE11: =VLOOKUP(AD11,Sheet1!$B$2:$C$12,2,TRUE) -> #N/A | AF11: =(I11+K11+M11+O11+Q11+S11+U11+W11+Y11+AA11)/10 -> 9.1
A12: =IF(E12="","",SUBTOTAL(3,$E$7:E12)) -> 6 | B12: =COUNTIF($F$7:F12,F12) -> 6 | C12: Ông | D12: Nguyễn Văn Chì | E12: 01023001 | F12: Phòng TC - HC - TH | G12: VC | H12: =VLOOKUP($E12,'[1]Gui chi Quynh'!$C$11:$E$397,3,0) -> A3 | I12: =VLOOKUP(H12,Sheet1!$B$2:$C$12,2,TRUE) -> 8 | J12: =VLOOKUP($E12,'[2]Gui chi Quynh'!$C$11:$E$397,3,0) -> A2 | K12: =VLOOKUP(J12,Sheet1!$B$2:$C$12,2,TRUE) -> 9 | L12: =VLOOKUP($E12,'[3]Gui chi Quynh'!$C$11:$E$396,3,0) -> A3 | M12: =VLOOKUP(L12,Sheet1!$B$2:$C$12,2,TRUE) -> 8 | N12: =VLOOKUP($E12,'[4]Gui chi Quynh'!$C$11:$E$396,3,0) -> A2 | O12: =VLOOKUP(N12,Sheet1!$B$2:$C$12,2,TRUE) -> 9 | P12: =VLOOKUP($E12,'[5]Gui chi Quynh'!$C$11:$E$394,3,0) -> A2 | Q12: =VLOOKUP(P12,Sheet1!$B$2:$C$12,2,TRUE) -> 9 | R12: =VLOOKUP($E12,'[6]Gui chi Quynh'!$C$11:$E$393,3,0) -> A3 | S12: =VLOOKUP(R12,Sheet1!$B$2:$C$12,2,TRUE) -> 8 | T12: =VLOOKUP($E12,'[7]Gui chi Quynh'!$C$11:$E$392,3,0) -> A3 | U12: =VLOOKUP(T12,Sheet1!$B$2:$C$12,2,TRUE) -> 8 | V12: =VLOOKUP($E12,'[8]Gui chi Quynh'!$C$11:$F$391,3,0) -> A3 | W12: =VLOOKUP(V12,Sheet1!$B$2:$C$12,2,TRUE) -> 8 | X12: =VLOOKUP($E12,'[9]Gui chi Quynh'!$C$11:$E$390,3,0) -> A2 | Y12: =VLOOKUP(X12,Sheet1!$B$2:$C$12,2,TRUE) -> 9 | Z12: =VLOOKUP($E12,'[10]Gui chi Quynh'!$C$11:$E$391,3,0) -> A3 | AA12: =VLOOKUP(Z12,Sheet1!$B$2:$C$12,2,TRUE) -> 8 | AC12: =VLOOKUP(AB12,Sheet1!$B$2:$C$12,2,TRUE) -> #N/A | AE12: =VLOOKUP(AD12,Sheet1!$B$2:$C$12,2,TRUE) -> #N/A | AF12: =(I12+K12+M12+O12+Q12+S12+U12+W12+Y12+AA12)/10 -> 8.4
A13: =IF(E13="","",SUBTOTAL(3,$E$7:E13)) -> 7 | B13: =COUNTIF($F$7:F13,F13) -> 7 | C13: Bà | D13: Trần Thị Ánh Phượng | E13: 01017006 | F13: Phòng TC - HC - TH | G13: VC | H13: =VLOOKUP($E13,'[1]Gui chi Quynh'!$C$11:$E$397,3,0) -> A2 | I13: =VLOOKUP(H13,Sheet1!$B$2:$C$12,2,TRUE) -> 9 | J13: =VLOOKUP($E13,'[2]Gui chi Quynh'!$C$11:$E$397,3,0) -> A1 | K13: =VLOOKUP(J13,Sheet1!$B$2:$C$12,2,TRUE) -> 10 | L13: =VLOOKUP($E13,'[3]Gui chi Quynh'!$C$11:$E$396,3,0) -> A1 | M13: =VLOOKUP(L13,Sheet1!$B$2:$C$12,2,TRUE) -> 10 | N13: =VLOOKUP($E13,'[4]Gui chi Quynh'!$C$11:$E$396,3,0) -> A2 | O13: =VLOOKUP(N13,Sheet1!$B$2:$C$12,2,TRUE) -> 9 | P13: =VLOOKUP($E13,'[5]Gui chi Quynh'!$C$11:$E$394,3,0) -> A1 | Q13: =VLOOKUP(P13,Sheet1!$B$2:$C$12,2,TRUE) -> 10 | R13: =VLOOKUP($E13,'[6]Gui chi Quynh'!$C$11:$E$393,3,0) -> A1 | S13: =VLOOKUP(R13,Sheet1!$B$2:$C$12,2,TRUE) -> 10 | T13: =VLOOKUP($E13,'[7]Gui chi Quynh'!$C$11:$E$392,3,0) -> A1 | U13: =VLOOKUP(T13,Sheet1!$B$2:$C$12,2,TRUE) -> 10 | V13: =VLOOKUP($E13,'[8]Gui chi Quynh'!$C$11:$F$391,3,0) -> A2 | W13: =VLOOKUP(V13,Sheet1!$B$2:$C$12,2,TRUE) -> 9 | X13: =VLOOKUP($E13,'[9]Gui chi Quynh'!$C$11:$E$390,3,0) -> A2 | Y13: =VLOOKUP(X13,Sheet1!$B$2:$C$12,2,TRUE) -> 9 | Z13: =VLOOKUP($E13,'[10]Gui chi Quynh'!$C$11:$E$391,3,0) -> A3 | AA13: =VLOOKUP(Z13,Sheet1!$B$2:$C$12,2,TRUE) -> 8 | AC13: =VLOOKUP(AB13,Sheet1!$B$2:$C$12,2,TRUE) -> #N/A | AE13: =VLOOKUP(AD13,Sheet1!$B$2:$C$12,2,TRUE) -> #N/A | AF13: =(I13+K13+M13+O13+Q13+S13+U13+W13+Y13+AA13)/10 -> 9.4
A14: =IF(E14="","",SUBTOTAL(3,$E$7:E14)) -> 8 | B14: =COUNTIF($F$7:F14,F14) -> 8 | C14: Bà | D14: Nguyễn Thị Vân | E14: 01002032 | F14: Phòng TC - HC - TH | G14: VC | H14: =VLOOKUP($E14,'[1]Gui chi Quynh'!$C$11:$E$397,3,0) -> A2 | I14: =VLOOKUP(H14,Sheet1!$B$2:$C$12,2,TRUE) -> 9 | J14: =VLOOKUP($E14,'[2]Gui chi Quynh'!$C$11:$E$397,3,0) -> A2 | K14: =VLOOKUP(J14,Sheet1!$B$2:$C$12,2,TRUE) -> 9 | L14: =VLOOKUP($E14,'[3]Gui chi Quynh'!$C$11:$E$396,3,0) -> A2 | M14: =VLOOKUP(L14,Sheet1!$B$2:$C$12,2,TRUE) -> 9 | N14: =VLOOKUP($E14,'[4]Gui chi Quynh'!$C$11:$E$396,3,0) -> A2 | O14: =VLOOKUP(N14,Sheet1!$B$2:$C$12,2,TRUE) -> 9 | P14: =VLOOKUP($E14,'[5]Gui chi Quynh'!$C$11:$E$394,3,0) -> A1 | Q14: =VLOOKUP(P14,Sheet1!$B$2:$C$12,2,TRUE) -> 10 | R14: =VLOOKUP($E14,'[6]Gui chi Quynh'!$C$11:$E$393,3,0) -> A1 | S14: =VLOOKUP(R14,Sheet1!$B$2:$C$12,2,TRUE) -> 10 | T14: =VLOOKUP($E14,'[7]Gui chi Quynh'!$C$11:$E$392,3,0) -> A3 | U14: =VLOOKUP(T14,Sheet1!$B$2:$C$12,2,TRUE) -> 8 | V14: =VLOOKUP($E14,'[8]Gui chi Quynh'!$C$11:$F$391,3,0) -> A2 | W14: =VLOOKUP(V14,Sheet1!$B$2:$C$12,2,TRUE) -> 9 | X14: =VLOOKUP($E14,'[9]Gui chi Quynh'!$C$11:$E$390,3,0) -> A2 | Y14: =VLOOKUP(X14,Sheet1!$B$2:$C$12,2,TRUE) -> 9 | Z14: =VLOOKUP($E14,'[10]Gui chi Quynh'!$C$11:$E$391,3,0) -> A2 | AA14: =VLOOKUP(Z14,Sheet1!$B$2:$C$12,2,TRUE) -> 9 | AC14: =VLOOKUP(AB14,Sheet1!$B$2:$C$12,2,TRUE) -> #N/A | AE14: =VLOOKUP(AD14,Sheet1!$B$2:$C$12,2,TRUE) -> #N/A | AF14: =(I14+K14+M14+O14+Q14+S14+U14+W14+Y14+AA14)/10 -> 9.1
A15: =IF(E15="","",SUBTOTAL(3,$E$7:E15)) -> 9 | B15: =COUNTIF($F$7:F15,F15) -> 9 | C15: Bà | D15: Trần Thị Phương Oanh | E15: 01007007 | F15: Phòng TC - HC - TH | G15: VC | H15: =VLOOKUP($E15,'[1]Gui chi Quynh'!$C$11:$E$397,3,0) -> A3 | I15: =VLOOKUP(H15,Sheet1!$B$2:$C$12,2,TRUE) -> 8 | J15: =VLOOKUP($E15,'[2]Gui chi Quynh'!$C$11:$E$397,3,0) -> A2 | K15: =VLOOKUP(J15,Sheet1!$B$2:$C$12,2,TRUE) -> 9 | L15: =VLOOKUP($E15,'[3]Gui chi Quynh'!$C$11:$E$396,3,0) -> A3 | M15: =VLOOKUP(L15,Sheet1!$B$2:$C$12,2,TRUE) -> 8 | N15: =VLOOKUP($E15,'[4]Gui chi Quynh'!$C$11:$E$396,3,0) -> A3 | O15: =VLOOKUP(N15,Sheet1!$B$2:$C$12,2,TRUE) -> 8 | P15: =VLOOKUP($E15,'[5]Gui chi Quynh'!$C$11:$E$394,3,0) -> A2 | Q15: =VLOOKUP(P15,Sheet1!$B$2:$C$12,2,TRUE) -> 9 | R15: =VLOOKUP($E15,'[6]Gui chi Quynh'!$C$11:$E$393,3,0) -> A2 | S15: =VLOOKUP(R15,Sheet1!$B$2:$C$12,2,TRUE) -> 9 | T15: =VLOOKUP($E15,'[7]Gui chi Quynh'!$C$11:$E$392,3,0) -> A3 | U15: =VLOOKUP(T15,Sheet1!$B$2:$C$12,2,TRUE) -> 8 | V15: =VLOOKUP($E15,'[8]Gui chi Quynh'!$C$11:$F$391,3,0) -> A3 | W15: =VLOOKUP(V15,Sheet1!$B$2:$C$12,2,TRUE) -> 8 | X15: =VLOOKUP($E15,'[9]Gui chi Quynh'!$C$11:$E$390,3,0) -> A3 | Y15: =VLOOKUP(X15,Sheet1!$B$2:$C$12,2,TRUE) -> 8 | Z15: =VLOOKUP($E15,'[10]Gui chi Quynh'!$C$11:$E$391,3,0) -> A3 | AA15: =VLOOKUP(Z15,Sheet1!$B$2:$C$12,2,TRUE) -> 8 | AC15: =VLOOKUP(AB15,Sheet1!$B$2:$C$12,2,TRUE) -> #N/A | AE15: =VLOOKUP(AD15,Sheet1!$B$2:$C$12,2,TRUE) -> #N/A | AF15: =(I15+K15+M15+O15+Q15+S15+U15+W15+Y15+AA15)/10 -> 8.3
A16: =IF(E16="","",SUBTOTAL(3,$E$7:E16)) -> 10 | B16: =COUNTIF($F$7:F16,F16) -> 10 | C16: Bà | D16: Huỳnh Thị Xuân Mai | E16: 01007006 | F16: Phòng TC - HC - TH | G16: HĐT | H16: =VLOOKUP($E16,'[1]Gui chi Quynh'!$C$11:$E$397,3,0) -> A3 | I16: =VLOOKUP(H16,Sheet1!$B$2:$C$12,2,TRUE) -> 8 | J16: =VLOOKUP($E16,'[2]Gui chi Quynh'!$C$11:$E$397,3,0) -> A2 | K16: =VLOOKUP(J16,Sheet1!$B$2:$C$12,2,TRUE) -> 9 | L16: =VLOOKUP($E16,'[3]Gui chi Quynh'!$C$11:$E$396,3,0) -> A2 | M16: =VLOOKUP(L16,Sheet1!$B$2:$C$12,2,TRUE) -> 9 | N16: =VLOOKUP($E16,'[4]Gui chi Quynh'!$C$11:$E$396,3,0) -> A2 | O16: =VLOOKUP(N16,Sheet1!$B$2:$C$12,2,TRUE) -> 9 | P16: =VLOOKUP($E16,'[5]Gui chi Quynh'!$C$11:$E$394,3,0) -> A3 | Q16: =VLOOKUP(P16,Sheet1!$B$2:$C$12,2,TRUE) -> 8 | R16: =VLOOKUP($E16,'[6]Gui chi Quynh'!$C$11:$E$393,3,0) -> A2 | S16: =VLOOKUP(R16,Sheet1!$B$2:$C$12,2,TRUE) -> 9 | T16: =VLOOKUP($E16,'[7]Gui chi Quynh'!$C$11:$E$392,3,0) -> A3 | U16: =VLOOKUP(T16,Sheet1!$B$2:$C$12,2,TRUE) -> 8 | V16: =VLOOKUP($E16,'[8]Gui chi Quynh'!$C$11:$F$391,3,0) -> A4 | W16: =VLOOKUP(V16,Sheet1!$B$2:$C$12,2,TRUE) -> 7 | X16: =VLOOKUP($E16,'[9]Gui chi Quynh'!$C$11:$E$390,3,0) -> A3 | Y16: =VLOOKUP(X16,Sheet1!$B$2:$C$12,2,TRUE) -> 8 | Z16: =VLOOKUP($E16,'[10]Gui chi Quynh'!$C$11:$E$391,3,0) -> A3 | AA16: =VLOOKUP(Z16,Sheet1!$B$2:$C$12,2,TRUE) -> 8 | AC16: =VLOOKUP(AB16,Sheet1!$B$2:$C$12,2,TRUE) -> #N/A | AE16: =VLOOKUP(AD16,Sheet1!$B$2:$C$12,2,TRUE) -> #N/A | AF16: =(I16+K16+M16+O16+Q16+S16+U16+W16+Y16+AA16)/10 -> 8.3
A17: =IF(E17="","",SUBTOTAL(3,$E$7:E17)) -> 11 | B17: =COUNTIF($F$7:F17,F17) -> 11 | C17: Ông | D17: Trần Văn Cu Anh | E17: 01002007 | F17: Phòng TC - HC - TH | G17: HĐT | H17: =VLOOKUP($E17,'[1]Gui chi Quynh'!$C$11:$E$397,3,0) -> A4 | I17: =VLOOKUP(H17,Sheet1!$B$2:$C$12,2,TRUE) -> 7 | J17: =VLOOKUP($E17,'[2]Gui chi Quynh'!$C$11:$E$397,3,0) -> A3 | K17: =VLOOKUP(J17,Sheet1!$B$2:$C$12,2,TRUE) -> 8 | L17: =VLOOKUP($E17,'[3]Gui chi Quynh'!$C$11:$E$396,3,0) -> A3 | M17: =VLOOKUP(L17,Sheet1!$B$2:$C$12,2,TRUE) -> 8 | N17: =VLOOKUP($E17,'[4]Gui chi Quynh'!$C$11:$E$396,3,0) -> A3 | O17: =VLOOKUP(N17,Sheet1!$B$2:$C$12,2,TRUE) -> 8 | P17: =VLOOKUP($E17,'[5]Gui chi Quynh'!$C$11:$E$394,3,0) -> A3 | Q17: =VLOOKUP(P17,Sheet1!$B$2:$C$12,2,TRUE) -> 8 | R17: =VLOOKUP($E17,'[6]Gui chi Quynh'!$C$11:$E$393,3,0) -> A4 | S17: =VLOOKUP(R17,Sheet1!$B$2:$C$12,2,TRUE) -> 7 | T17: =VLOOKUP($E17,'[7]Gui chi Quynh'!$C$11:$E$392,3,0) -> A3 | U17: =VLOOKUP(T17,Sheet1!$B$2:$C$12,2,TRUE) -> 8 | V17: =VLOOKUP($E17,'[8]Gui chi Quynh'!$C$11:$F$391,3,0) -> A3 | W17: =VLOOKUP(V17,Sheet1!$B$2:$C$12,2,TRUE) -> 8 | X17: =VLOOKUP($E17,'[9]Gui chi Quynh'!$C$11:$E$390,3,0) -> A4 | Y17: =VLOOKUP(X17,Sheet1!$B$2:$C$12,2,TRUE) -> 7 | Z17: =VLOOKUP($E17,'[10]Gui chi Quynh'!$C$11:$E$391,3,0) -> A4 | AA17: =VLOOKUP(Z17,Sheet1!$B$2:$C$12,2,TRUE) -> 7 | AC17: =VLOOKUP(AB17,Sheet1!$B$2:$C$12,2,TRUE) -> #N/A | AE17: =VLOOKUP(AD17,Sheet1!$B$2:$C$12,2,TRUE) -> #N/A | AF17: =(I17+K17+M17+O17+Q17+S17+U17+W17+Y17+AA17)/10 -> 7.6
A18: =IF(E18="","",SUBTOTAL(3,$E$7:E18)) -> 12 | B18: =COUNTIF($F$7:F18,F18) -> 12 | C18: Ông | D18: Nguyễn Hữu Xuân Vũ | E18: 01002010 | F18: Phòng TC - HC - TH | G18: HĐT | H18: =VLOOKUP($E18,'[1]Gui chi Quynh'!$C$11:$E$397,3,0) -> A3 | I18: =VLOOKUP(H18,Sheet1!$B$2:$C$12,2,TRUE) -> 8 | J18: =VLOOKUP($E18,'[2]Gui chi Quynh'!$C$11:$E$397,3,0) -> A3 | K18: =VLOOKUP(J18,Sheet1!$B$2:$C$12,2,TRUE) -> 8 | L18: =VLOOKUP($E18,'[3]Gui chi Quynh'!$C$11:$E$396,3,0) -> A2 | M18: =VLOOKUP(L18,Sheet1!$B$2:$C$12,2,TRUE) -> 9 | N18: =VLOOKUP($E18,'[4]Gui chi Quynh'!$C$11:$E$396,3,0) -> A3 | O18: =VLOOKUP(N18,Sheet1!$B$2:$C$12,2,TRUE) -> 8 | P18: =VLOOKUP($E18,'[5]Gui chi Quynh'!$C$11:$E$394,3,0) -> A2 | Q18: =VLOOKUP(P18,Sheet1!$B$2:$C$12,2,TRUE) -> 9 | R18: =VLOOKUP($E18,'[6]Gui chi Quynh'!$C$11:$E$393,3,0) -> A3 | S18: =VLOOKUP(R18,Sheet1!$B$2:$C$12,2,TRUE) -> 8 | T18: =VLOOKUP($E18,'[7]Gui chi Quynh'!$C$11:$E$392,3,0) -> A3 | U18: =VLOOKUP(T18,Sheet1!$B$2:$C$12,2,TRUE) -> 8 | V18: =VLOOKUP($E18,'[8]Gui chi Quynh'!$C$11:$F$391,3,0) -> A3 | W18: =VLOOKUP(V18,Sheet1!$B$2:$C$12,2,TRUE) -> 8 | X18: =VLOOKUP($E18,'[9]Gui chi Quynh'!$C$11:$E$390,3,0) -> A2 | Y18: =VLOOKUP(X18,Sheet1!$B$2:$C$12,2,TRUE) -> 9 | Z18: =VLOOKUP($E18,'[10]Gui chi Quynh'!$C$11:$E$391,3,0) -> A4 | AA18: =VLOOKUP(Z18,Sheet1!$B$2:$C$12,2,TRUE) -> 7 | AC18: =VLOOKUP(AB18,Sheet1!$B$2:$C$12,2,TRUE) -> #N/A | AE18: =VLOOKUP(AD18,Sheet1!$B$2:$C$12,2,TRUE) -> #N/A | AF18: =(I18+K18+M18+O18+Q18+S18+U18+W18+Y18+AA18)/10 -> 8.2
A19: =IF(E19="","",SUBTOTAL(3,$E$7:E19)) -> 13 | B19: =COUNTIF($F$7:F19,F19) -> 13 | C19: Ông | D19: Lê Hồng Phúc | E19: 01002012 | F19: Phòng TC - HC - TH | G19: HĐT | H19: =VLOOKUP($E19,'[1]Gui chi Quynh'!$C$11:$E$397,3,0) -> A4 | I19: =VLOOKUP(H19,Sheet1!$B$2:$C$12,2,TRUE) -> 7 | J19: =VLOOKUP($E19,'[2]Gui chi Quynh'!$C$11:$E$397,3,0) -> A4 | K19: =VLOOKUP(J19,Sheet1!$B$2:$C$12,2,TRUE) -> 7 | L19: =VLOOKUP($E19,'[3]Gui chi Quynh'!$C$11:$E$396,3,0) -> A3 | M19: =VLOOKUP(L19,Sheet1!$B$2:$C$12,2,TRUE) -> 8 | N19: =VLOOKUP($E19,'[4]Gui chi Quynh'!$C$11:$E$396,3,0) -> A4 | O19: =VLOOKUP(N19,Sheet1!$B$2:$C$12,2,TRUE) -> 7 | P19: =VLOOKUP($E19,'[5]Gui chi Quynh'!$C$11:$E$394,3,0) -> A3 | Q19: =VLOOKUP(P19,Sheet1!$B$2:$C$12,2,TRUE) -> 8 | R19: =VLOOKUP($E19,'[6]Gui chi Quynh'!$C$11:$E$393,3,0) -> A4 | S19: =VLOOKUP(R19,Sheet1!$B$2:$C$12,2,TRUE) -> 7 | T19: =VLOOKUP($E19,'[7]Gui chi Quynh'!$C$11:$E$392,3,0) -> A3 | U19: =VLOOKUP(T19,Sheet1!$B$2:$C$12,2,TRUE) -> 8 | V19: =VLOOKUP($E19,'[8]Gui chi Quynh'!$C$11:$F$391,3,0) -> A3 | W19: =VLOOKUP(V19,Sheet1!$B$2:$C$12,2,TRUE) -> 8 | X19: =VLOOKUP($E19,'[9]Gui chi Quynh'!$C$11:$E$390,3,0) -> A4 | Y19: =VLOOKUP(X19,Sheet1!$B$2:$C$12,2,TRUE) -> 7 | Z19: =VLOOKUP($E19,'[10]Gui chi Quynh'!$C$11:$E$391,3,0) -> A4 | AA19: =VLOOKUP(Z19,Sheet1!$B$2:$C$12,2,TRUE) -> 7 | AC19: =VLOOKUP(AB19,Sheet1!$B$2:$C$12,2,TRUE) -> #N/A | AE19: =VLOOKUP(AD19,Sheet1!$B$2:$C$12,2,TRUE) -> #N/A | AF19: =(I19+K19+M19+O19+Q19+S19+U19+W19+Y19+AA19)/10 -> 7.4
A20: =IF(E20="","",SUBTOTAL(3,$E$7:E20)) -> 14 | B20: =COUNTIF($F$7:F20,F20) -> 14 | C20: Ông | D20: Phạm Hữu Thành Phú | E20: 01002028 | F20: Phòng TC - HC - TH | G20: HĐT | H20: =VLOOKUP($E20,'[1]Gui chi Quynh'!$C$11:$E$397,3,0) -> A3 | I20: =VLOOKUP(H20,Sheet1!$B$2:$C$12,2,TRUE) -> 8 | J20: =VLOOKUP($E20,'[2]Gui chi Quynh'!$C$11:$E$397,3,0) -> A4 | K20: =VLOOKUP(J20,Sheet1!$B$2:$C$12,2,TRUE) -> 7 | L20: =VLOOKUP($E20,'[3]Gui chi Quynh'!$C$11:$E$396,3,0) -> A3 | M20: =VLOOKUP(L20,Sheet1!$B$2:$C$12,2,TRUE) -> 8 | N20: =VLOOKUP($E20,'[4]Gui chi Quynh'!$C$11:$E$396,3,0) -> A3 | O20: =VLOOKUP(N20,Sheet1!$B$2:$C$12,2,TRUE) -> 8 | P20: =VLOOKUP($E20,'[5]Gui chi Quynh'!$C$11:$E$394,3,0) -> A3 | Q20: =VLOOKUP(P20,Sheet1!$B$2:$C$12,2,TRUE) -> 8 | R20: =VLOOKUP($E20,'[6]Gui chi Quynh'!$C$11:$E$393,3,0) -> A3 | S20: =VLOOKUP(R20,Sheet1!$B$2:$C$12,2,TRUE) -> 8 | T20: =VLOOKUP($E20,'[7]Gui chi Quynh'!$C$11:$E$392,3,0) -> A3 | U20: =VLOOKUP(T20,Sheet1!$B$2:$C$12,2,TRUE) -> 8 | V20: =VLOOKUP($E20,'[8]Gui chi Quynh'!$C$11:$F$391,3,0) -> A3 | W20: =VLOOKUP(V20,Sheet1!$B$2:$C$12,2,TRUE) -> 8 | X20: =VLOOKUP($E20,'[9]Gui chi Quynh'!$C$11:$E$390,3,0) -> A3 | Y20: =VLOOKUP(X20,Sheet1!$B$2:$C$12,2,TRUE) -> 8 | Z20: =VLOOKUP($E20,'[10]Gui chi Quynh'!$C$11:$E$391,3,0) -> A3 | AA20: =VLOOKUP(Z20,Sheet1!$B$2:$C$12,2,TRUE) -> 8 | AB20: A2 | AC20: =VLOOKUP(AB20,Sheet1!$B$2:$C$12,2,TRUE) -> 9 | AD20: A3 | AE20: =VLOOKUP(AD20,Sheet1!$B$2:$C$12,2,TRUE) -> 8 | AF20: =(I20+K20+M20+O20+Q20+S20+U20+W20+Y20+AA20+AC20+AE20)/12 -> 8
A21: =IF(E21="","",SUBTOTAL(3,$E$7:E21)) -> 15 | B21: =COUNTIF($F$7:F21,F21) -> 15 | C21: Ông | D21: Huỳnh Thanh Nhàn | E21: 01002027 | F21: Phòng TC - HC - TH | G21: HĐT | H21: =VLOOKUP($E21,'[1]Gui chi Quynh'!$C$11:$E$397,3,0) -> A3 | I21: =VLOOKUP(H21,Sheet1!$B$2:$C$12,2,TRUE) -> 8 | J21: =VLOOKUP($E21,'[2]Gui chi Quynh'!$C$11:$E$397,3,0) -> A3 | K21: =VLOOKUP(J21,Sheet1!$B$2:$C$12,2,TRUE) -> 8 | L21: =VLOOKUP($E21,'[3]Gui chi Quynh'!$C$11:$E$396,3,0) -> A3 | M21: =VLOOKUP(L21,Sheet1!$B$2:$C$12,2,TRUE) -> 8 | N21: =VLOOKUP($E21,'[4]Gui chi Quynh'!$C$11:$E$396,3,0) -> A3 | O21: =VLOOKUP(N21,Sheet1!$B$2:$C$12,2,TRUE) -> 8 | P21: =VLOOKUP($E21,'[5]Gui chi Quynh'!$C$11:$E$394,3,0) -> A3 | Q21: =VLOOKUP(P21,Sheet1!$B$2:$C$12,2,TRUE) -> 8 | R21: =VLOOKUP($E21,'[6]Gui chi Quynh'!$C$11:$E$393,3,0) -> A2 | S21: =VLOOKUP(R21,Sheet1!$B$2:$C$12,2,TRUE) -> 9 | T21: =VLOOKUP($E21,'[7]Gui chi Quynh'!$C$11:$E$392,3,0) -> A2 | U21: =VLOOKUP(T21,Sheet1!$B$2:$C$12,2,TRUE) -> 9 | V21: =VLOOKUP($E21,'[8]Gui chi Quynh'!$C$11:$F$391,3,0) -> A2 | W21: =VLOOKUP(V21,Sheet1!$B$2:$C$12,2,TRUE) -> 9 | X21: =VLOOKUP($E21,'[9]Gui chi Quynh'!$C$11:$E$390,3,0) -> A3 | Y21: =VLOOKUP(X21,Sheet1!$B$2:$C$12,2,TRUE) -> 8 | Z21: =VLOOKUP($E21,'[10]Gui chi Quynh'!$C$11:$E$391,3,0) -> A3 | AA21: =VLOOKUP(Z21,Sheet1!$B$2:$C$12,2,TRUE) -> 8 | AC21: =VLOOKUP(AB21,Sheet1!$B$2:$C$12,2,TRUE) -> #N/A | AE21: =VLOOKUP(AD21,Sheet1!$B$2:$C$12,2,TRUE) -> #N/A | AF21: =(I21+K21+M21+O21+Q21+S21+U21+W21+Y21+AA21)/10 -> 8.3
A22: =IF(E22="","",SUBTOTAL(3,$E$7:E22)) -> 16 | B22: =COUNTIF($F$7:F22,F22) -> 16 | C22: Ông | D22: Đồng Anh Tuấn | E22: 01002013 | F22: Phòng TC - HC - TH | G22: HĐT | H22: =VLOOKUP($E22,'[1]Gui chi Quynh'!$C$11:$E$397,3,0) -> A4 | I22: =VLOOKUP(H22,Sheet1!$B$2:$C$12,2,TRUE) -> 7 | J22: =VLOOKUP($E22,'[2]Gui chi Quynh'!$C$11:$E$397,3,0) -> A4 | K22: =VLOOKUP(J22,Sheet1!$B$2:$C$12,2,TRUE) -> 7 | L22: =VLOOKUP($E22,'[3]Gui chi Quynh'!$C$11:$E$396,3,0) -> A3 | M22: =VLOOKUP(L22,Sheet1!$B$2:$C$12,2,TRUE) -> 8 | N22: =VLOOKUP($E22,'[4]Gui chi Quynh'!$C$11:$E$396,3,0) -> A4 | O22: =VLOOKUP(N22,Sheet1!$B$2:$C$12,2,TRUE) -> 7 | P22: =VLOOKUP($E22,'[5]Gui chi Quynh'!$C$11:$E$394,3,0) -> A3 | Q22: =VLOOKUP(P22,Sheet1!$B$2:$C$12,2,TRUE) -> 8 | R22: =VLOOKUP($E22,'[6]Gui chi Quynh'!$C$11:$E$393,3,0) -> A4 | S22: =VLOOKUP(R22,Sheet1!$B$2:$C$12,2,TRUE) -> 7 | T22: =VLOOKUP($E22,'[7]Gui chi Quynh'!$C$11:$E$392,3,0) -> A3 | U22: =VLOOKUP(T22,Sheet1!$B$2:$C$12,2,TRUE) -> 8 | V22: =VLOOKUP($E22,'[8]Gui chi Quynh'!$C$11:$F$391,3,0) -> A3 | W22: =VLOOKUP(V22,Sheet1!$B$2:$C$12,2,TRUE) -> 8 | X22: =VLOOKUP($E22,'[9]Gui chi Quynh'!$C$11:$E$390,3,0) -> A4 | Y22: =VLOOKUP(X22,Sheet1!$B$2:$C$12,2,TRUE) -> 7 | Z22: =VLOOKUP($E22,'[10]Gui chi Quynh'!$C$11:$E$391,3,0) -> A4 | AA22: =VLOOKUP(Z22,Sheet1!$B$2:$C$12,2,TRUE) -> 7 | AC22: =VLOOKUP(AB22,Sheet1!$B$2:$C$12,2,TRUE) -> #N/A | AE22: =VLOOKUP(AD22,Sheet1!$B$2:$C$12,2,TRUE) -> #N/A | AF22: =(I22+K22+M22+O22+Q22+S22+U22+W22+Y22+AA22)/10 -> 7.4
A23: =IF(E23="","",SUBTOTAL(3,$E$7:E23)) -> 17 | B23: =COUNTIF($F$7:F23,F23) -> 17 | C23: Ông | D23: Nguyễn Thanh Hiền | E23: 01002033 | F23: Phòng TC - HC - TH | G23: HĐT | H23: =VLOOKUP($E23,'[1]Gui chi Quynh'!$C$11:$E$397,3,0) -> A3 | I23: =VLOOKUP(H23,Sheet1!$B$2:$C$12,2,TRUE) -> 8 | J23: =VLOOKUP($E23,'[2]Gui chi Quynh'!$C$11:$E$397,3,0) -> A3 | K23: =VLOOKUP(J23,Sheet1!$B$2:$C$12,2,TRUE) -> 8 | L23: =VLOOKUP($E23,'[3]Gui chi Quynh'!$C$11:$E$396,3,0) -> A3 | M23: =VLOOKUP(L23,Sheet1!$B$2:$C$12,2,TRUE) -> 8 | N23: =VLOOKUP($E23,'[4]Gui chi Quynh'!$C$11:$E$396,3,0) -> A3 | O23: =VLOOKUP(N23,Sheet1!$B$2:$C$12,2,TRUE) -> 8 | P23: =VLOOKUP($E23,'[5]Gui chi Quynh'!$C$11:$E$394,3,0) -> A3 | Q23: =VLOOKUP(P23,Sheet1!$B$2:$C$12,2,TRUE) -> 8 | R23: =VLOOKUP($E23,'[6]Gui chi Quynh'!$C$11:$E$393,3,0) -> A3 | S23: =VLOOKUP(R23,Sheet1!$B$2:$C$12,2,TRUE) -> 8 | T23: =VLOOKUP($E23,'[7]Gui chi Quynh'!$C$11:$E$392,3,0) -> A2 | U23: =VLOOKUP(T23,Sheet1!$B$2:$C$12,2,TRUE) -> 9 | V23: =VLOOKUP($E23,'[8]Gui chi Quynh'!$C$11:$F$391,3,0) -> A3 | W23: =VLOOKUP(V23,Sheet1!$B$2:$C$12,2,TRUE) -> 8 | X23: =VLOOKUP($E23,'[9]Gui chi Quynh'!$C$11:$E$390,3,0) -> A3 | Y23: =VLOOKUP(X23,Sheet1!$B$2:$C$12,2,TRUE) -> 8 | Z23: =VLOOKUP($E23,'[10]Gui chi Quynh'!$C$11:$E$391,3,0) -> A3 | AA23: =VLOOKUP(Z23,Sheet1!$B$2:$C$12,2,TRUE) -> 8 | AC23: =VLOOKUP(AB23,Sheet1!$B$2:$C$12,2,TRUE) -> #N/A | AE23: =VLOOKUP(AD23,Sheet1!$B$2:$C$12,2,TRUE) -> #N/A | AF23: =(I23+K23+M23+O23+Q23+S23+U23+W23+Y23+AA23)/10 -> 8.1
A24: =IF(E24="","",SUBTOTAL(3,$E$7:E24)) -> 18 | B24: =COUNTIF($F$7:F24,F24) -> 18 | C24: Ông | D24: Phạm Quang Tùng | E24: 01010068 | F24: Phòng TC - HC - TH | G24: HĐT | H24: =VLOOKUP($E24,'[1]Gui chi Quynh'!$C$11:$E$397,3,0) -> A3 | I24: =VLOOKUP(H24,Sheet1!$B$2:$C$12,2,TRUE) -> 8 | J24: =VLOOKUP($E24,'[2]Gui chi Quynh'!$C$11:$E$397,3,0) -> A4 | K24: =VLOOKUP(J24,Sheet1!$B$2:$C$12,2,TRUE) -> 7 | L24: =VLOOKUP($E24,'[3]Gui chi Quynh'!$C$11:$E$396,3,0) -> A3 | M24: =VLOOKUP(L24,Sheet1!$B$2:$C$12,2,TRUE) -> 8 | N24: =VLOOKUP($E24,'[4]Gui chi Quynh'!$C$11:$E$396,3,0) -> A4 | O24: =VLOOKUP(N24,Sheet1!$B$2:$C$12,2,TRUE) -> 7 | P24: =VLOOKUP($E24,'[5]Gui chi Quynh'!$C$11:$E$394,3,0) -> A3 | Q24: =VLOOKUP(P24,Sheet1!$B$2:$C$12,2,TRUE) -> 8 | R24: =VLOOKUP($E24,'[6]Gui chi Quynh'!$C$11:$E$393,3,0) -> A4 | S24: =VLOOKUP(R24,Sheet1!$B$2:$C$12,2,TRUE) -> 7 | T24: =VLOOKUP($E24,'[7]Gui chi Quynh'!$C$11:$E$392,3,0) -> A3 | U24: =VLOOKUP(T24,Sheet1!$B$2:$C$12,2,TRUE) -> 8 | V24: =VLOOKUP($E24,'[8]Gui chi Quynh'!$C$11:$F$391,3,0) -> A3 | W24: =VLOOKUP(V24,Sheet1!$B$2:$C$12,2,TRUE) -> 8 | X24: =VLOOKUP($E24,'[9]Gui chi Quynh'!$C$11:$E$390,3,0) -> A4 | Y24: =VLOOKUP(X24,Sheet1!$B$2:$C$12,2,TRUE) -> 7 | Z24: =VLOOKUP($E24,'[10]Gui chi Quynh'!$C$11:$E$391,3,0) -> A4 | AA24: =VLOOKUP(Z24,Sheet1!$B$2:$C$12,2,TRUE) -> 7 | AC24: =VLOOKUP(AB24,Sheet1!$B$2:$C$12,2,TRUE) -> #N/A | AE24: =VLOOKUP(AD24,Sheet1!$B$2:$C$12,2,TRUE) -> #N/A | AF24: =(I24+K24+M24+O24+Q24+S24+U24+W24+Y24+AA24)/10 -> 7.5
A25: =IF(E25="","",SUBTOTAL(3,$E$7:E25)) -> 19 | B25: =COUNTIF($F$7:F25,F25) -> 19 | C25: Ông | D25: Trần Thanh Cường | E25: 01002040 | F25: Phòng TC - HC - TH | G25: HĐT | H25: =VLOOKUP($E25,'[1]Gui chi Quynh'!$C$11:$E$397,3,0) -> A3 | I25: =VLOOKUP(H25,Sheet1!$B$2:$C$12,2,TRUE) -> 8 | J25: =VLOOKUP($E25,'[2]Gui chi Quynh'!$C$11:$E$397,3,0) -> A3 | K25: =VLOOKUP(J25,Sheet1!$B$2:$C$12,2,TRUE) -> 8 | L25: =VLOOKUP($E25,'[3]Gui chi Quynh'!$C$11:$E$396,3,0) -> A3 | M25: =VLOOKUP(L25,Sheet1!$B$2:$C$12,2,TRUE) -> 8 | N25: =VLOOKUP($E25,'[4]Gui chi Quynh'!$C$11:$E$396,3,0) -> A3 | O25: =VLOOKUP(N25,Sheet1!$B$2:$C$12,2,TRUE) -> 8 | P25: =VLOOKUP($E25,'[5]Gui chi Quynh'!$C$11:$E$394,3,0) -> A3 | Q25: =VLOOKUP(P25,Sheet1!$B$2:$C$12,2,TRUE) -> 8 | R25: =VLOOKUP($E25,'[6]Gui chi Quynh'!$C$11:$E$393,3,0) -> A3 | S25: =VLOOKUP(R25,Sheet1!$B$2:$C$12,2,TRUE) -> 8 | T25: =VLOOKUP($E25,'[7]Gui chi Quynh'!$C$11:$E$392,3,0) -> A3 | U25: =VLOOKUP(T25,Sheet1!$B$2:$C$12,2,TRUE) -> 8 | V25: =VLOOKUP($E25,'[8]Gui chi Quynh'!$C$11:$F$391,3,0) -> A3 | W25: =VLOOKUP(V25,Sheet1!$B$2:$C$12,2,TRUE) -> 8 | X25: =VLOOKUP($E25,'[9]Gui chi Quynh'!$C$11:$E$390,3,0) -> A3 | Y25: =VLOOKUP(X25,Sheet1!$B$2:$C$12,2,TRUE) -> 8 | Z25: =VLOOKUP($E25,'[10]Gui chi Quynh'!$C$11:$E$391,3,0) -> A3 | AA25: =VLOOKUP(Z25,Sheet1!$B$2:$C$12,2,TRUE) -> 8 | AC25: =VLOOKUP(AB25,Sheet1!$B$2:$C$12,2,TRUE) -> #N/A | AE25: =VLOOKUP(AD25,Sheet1!$B$2:$C$12,2,TRUE) -> #N/A | AF25: =(I25+K25+M25+O25+Q25+S25+U25+W25+Y25+AA25)/10 -> 8
A26: =IF(E26="","",SUBTOTAL(3,$E$7:E26)) -> 20 | B26: =COUNTIF($F$7:F26,F26) -> 20 | C26: Ông | D26: Vũ Anh Hiếu | E26: 01002041 | F26: Phòng TC - HC - TH | G26: HĐT | H26: =VLOOKUP($E26,'[1]Gui chi Quynh'!$C$11:$E$397,3,0) -> A3 | I26: =VLOOKUP(H26,Sheet1!$B$2:$C$12,2,TRUE) -> 8 | J26: =VLOOKUP($E26,'[2]Gui chi Quynh'!$C$11:$E$397,3,0) -> A3 | K26: =VLOOKUP(J26,Sheet1!$B$2:$C$12,2,TRUE) -> 8 | L26: =VLOOKUP($E26,'[3]Gui chi Quynh'!$C$11:$E$396,3,0) -> A2 | M26: =VLOOKUP(L26,Sheet1!$B$2:$C$12,2,TRUE) -> 9 | N26: =VLOOKUP($E26,'[4]Gui chi Quynh'!$C$11:$E$396,3,0) -> A3 | O26: =VLOOKUP(N26,Sheet1!$B$2:$C$12,2,TRUE) -> 8 | P26: =VLOOKUP($E26,'[5]Gui chi Quynh'!$C$11:$E$394,3,0) -> A3 | Q26: =VLOOKUP(P26,Sheet1!$B$2:$C$12,2,TRUE) -> 8 | R26: =VLOOKUP($E26,'[6]Gui chi Quynh'!$C$11:$E$393,3,0) -> A3 | S26: =VLOOKUP(R26,Sheet1!$B$2:$C$12,2,TRUE) -> 8 | T26: =VLOOKUP($E26,'[7]Gui chi Quynh'!$C$11:$E$392,3,0) -> A3 | U26: =VLOOKUP(T26,Sheet1!$B$2:$C$12,2,TRUE) -> 8 | V26: =VLOOKUP($E26,'[8]Gui chi Quynh'!$C$11:$F$391,3,0) -> A3 | W26: =VLOOKUP(V26,Sheet1!$B$2:$C$12,2,TRUE) -> 8 | X26: =VLOOKUP($E26,'[9]Gui chi Quynh'!$C$11:$E$390,3,0) -> A3 | Y26: =VLOOKUP(X26,Sheet1!$B$2:$C$12,2,TRUE) -> 8 | Z26: =VLOOKUP($E26,'[10]Gui chi Quynh'!$C$11:$E$391,3,0) -> A2 | AA26: =VLOOKUP(Z26,Sheet1!$B$2:$C$12,2,TRUE) -> 9 | AC26: =VLOOKUP(AB26,Sheet1!$B$2:$C$12,2,TRUE) -> #N/A | AE26: =VLOOKUP(AD26,Sheet1!$B$2:$C$12,2,TRUE) -> #N/A | AF26: =(I26+K26+M26+O26+Q26+S26+U26+W26+Y26+AA26)/10 -> 8.2
A27: =IF(E27="","",SUBTOTAL(3,$E$7:E27)) -> 21 | B27: =COUNTIF($F$7:F27,F27) -> 21 | C27: Ông | D27: Phan Đức Hiếu | E27: 01002042 | F27: Phòng TC - HC - TH | G27: HĐT | Z27: =VLOOKUP($E27,'[10]Gui chi Quynh'!$C$11:$E$391,3,0) -> A3 | AA27: =VLOOKUP(Z27,Sheet1!$B$2:$C$12,2,TRUE) -> 8 | AC27: =VLOOKUP(AB27,Sheet1!$B$2:$C$12,2,TRUE) -> #N/A | AE27: =VLOOKUP(AD27,Sheet1!$B$2:$C$12,2,TRUE) -> #N/A | AF27: =(I27+K27+M27+O27+Q27+S27+U27+W27+Y27+AA27)/10 -> 0.8 | AN27: HĐ từ 01/4/2025
A28: =IF(E28="","",SUBTOTAL(3,$E$7:E28)) -> 22 | B28: =COUNTIF($F$7:F28,F28) -> 22 | C28: Ông | D28: Dương Văn Tâm | E28: 01002035 | F28: Phòng TC - HC - TH | G28: HĐT | H28: =VLOOKUP($E28,'[1]Gui chi Quynh'!$C$11:$E$397,3,0) -> A2 | I28: =VLOOKUP(H28,Sheet1!$B$2:$C$12,2,TRUE) -> 9 | J28: =VLOOKUP($E28,'[2]Gui chi Quynh'!$C$11:$E$397,3,0) -> A2 | K28: =VLOOKUP(J28,Sheet1!$B$2:$C$12,2,TRUE) -> 9 | L28: =VLOOKUP($E28,'[3]Gui chi Quynh'!$C$11:$E$396,3,0) -> A2 | M28: =VLOOKUP(L28,Sheet1!$B$2:$C$12,2,TRUE) -> 9 | N28: =VLOOKUP($E28,'[4]Gui chi Quynh'!$C$11:$E$396,3,0) -> A2 | O28: =VLOOKUP(N28,Sheet1!$B$2:$C$12,2,TRUE) -> 9 | P28: =VLOOKUP($E28,'[5]Gui chi Quynh'!$C$11:$E$394,3,0) -> A2 | Q28: =VLOOKUP(P28,Sheet1!$B$2:$C$12,2,TRUE) -> 9 | R28: =VLOOKUP($E28,'[6]Gui chi Quynh'!$C$11:$E$393,3,0) -> A2 | S28: =VLOOKUP(R28,Sheet1!$B$2:$C$12,2,TRUE) -> 9 | T28: =VLOOKUP($E28,'[7]Gui chi Quynh'!$C$11:$E$392,3,0) -> A2 | U28: =VLOOKUP(T28,Sheet1!$B$2:$C$12,2,TRUE) -> 9 | V28: =VLOOKUP($E28,'[8]Gui chi Quynh'!$C$11:$F$391,3,0) -> A2 | W28: =VLOOKUP(V28,Sheet1!$B$2:$C$12,2,TRUE) -> 9 | X28: =VLOOKUP($E28,'[9]Gui chi Quynh'!$C$11:$E$390,3,0) -> A2 | Y28: =VLOOKUP(X28,Sheet1!$B$2:$C$12,2,TRUE) -> 9 | Z28: =VLOOKUP($E28,'[10]Gui chi Quynh'!$C$11:$E$391,3,0) -> A3 | AA28: =VLOOKUP(Z28,Sheet1!$B$2:$C$12,2,TRUE) -> 8 | AC28: =VLOOKUP(AB28,Sheet1!$B$2:$C$12,2,TRUE) -> #N/A | AE28: =VLOOKUP(AD28,Sheet1!$B$2:$C$12,2,TRUE) -> #N/A | AF28: =(I28+K28+M28+O28+Q28+S28+U28+W28+Y28+AA28)/10 -> 8.9
A29: =IF(E29="","",SUBTOTAL(3,$E$7:E29)) -> 23 | B29: =COUNTIF($F$7:F29,F29) -> 23 | C29: Bà | D29: Huỳnh Ngọc Liên | E29: 01002036 | F29: Phòng TC - HC - TH | G29: HĐT | H29: =VLOOKUP($E29,'[1]Gui chi Quynh'!$C$11:$E$397,3,0) -> A2 | I29: =VLOOKUP(H29,Sheet1!$B$2:$C$12,2,TRUE) -> 9 | J29: =VLOOKUP($E29,'[2]Gui chi Quynh'!$C$11:$E$397,3,0) -> A2 | K29: =VLOOKUP(J29,Sheet1!$B$2:$C$12,2,TRUE) -> 9 | L29: =VLOOKUP($E29,'[3]Gui chi Quynh'!$C$11:$E$396,3,0) -> A2 | M29: =VLOOKUP(L29,Sheet1!$B$2:$C$12,2,TRUE) -> 9 | N29: =VLOOKUP($E29,'[4]Gui chi Quynh'!$C$11:$E$396,3,0) -> A2 | O29: =VLOOKUP(N29,Sheet1!$B$2:$C$12,2,TRUE) -> 9 | P29: =VLOOKUP($E29,'[5]Gui chi Quynh'!$C$11:$E$394,3,0) -> A2 | Q29: =VLOOKUP(P29,Sheet1!$B$2:$C$12,2,TRUE) -> 9 | R29: =VLOOKUP($E29,'[6]Gui chi Quynh'!$C$11:$E$393,3,0) -> A3 | S29: =VLOOKUP(R29,Sheet1!$B$2:$C$12,2,TRUE) -> 8 | T29: =VLOOKUP($E29,'[7]Gui chi Quynh'!$C$11:$E$392,3,0) -> A2 | U29: =VLOOKUP(T29,Sheet1!$B$2:$C$12,2,TRUE) -> 9 | V29: =VLOOKUP($E29,'[8]Gui chi Quynh'!$C$11:$F$391,3,0) -> A3 | W29: =VLOOKUP(V29,Sheet1!$B$2:$C$12,2,TRUE) -> 8 | X29: =VLOOKUP($E29,'[9]Gui chi Quynh'!$C$11:$E$390,3,0) -> A2 | Y29: =VLOOKUP(X29,Sheet1!$B$2:$C$12,2,TRUE) -> 9 | Z29: =VLOOKUP($E29,'[10]Gui chi Quynh'!$C$11:$E$391,3,0) -> A3 | AA29: =VLOOKUP(Z29,Sheet1!$B$2:$C$12,2,TRUE) -> 8 | AC29: =VLOOKUP(AB29,Sheet1!$B$2:$C$12,2,TRUE) -> #N/A | AE29: =VLOOKUP(AD29,Sheet1!$B$2:$C$12,2,TRUE) -> #N/A | AF29: =(I29+K29+M29+O29+Q29+S29+U29+W29+Y29+AA29)/10 -> 8.7
A30: =IF(E30="","",SUBTOTAL(3,$E$7:E30)) -> 24 | B30: =COUNTIF($F$7:F30,F30) -> 24 | C30: Ông | D30: Lâm Viết Dũng | E30: 01007009 | F30: Phòng TC - HC - TH | G30: VC | H30: =VLOOKUP($E30,'[1]Gui chi Quynh'!$C$11:$E$397,3,0) -> A1 | I30: =VLOOKUP(H30,Sheet1!$B$2:$C$12,2,TRUE) -> 10 | J30: =VLOOKUP($E30,'[2]Gui chi Quynh'!$C$11:$E$397,3,0) -> A1 | K30: =VLOOKUP(J30,Sheet1!$B$2:$C$12,2,TRUE) -> 10 | L30: =VLOOKUP($E30,'[3]Gui chi Quynh'!$C$11:$E$396,3,0) -> A1 | M30: =VLOOKUP(L30,Sheet1!$B$2:$C$12,2,TRUE) -> 10 | N30: =VLOOKUP($E30,'[4]Gui chi Quynh'!$C$11:$E$396,3,0) -> A1 | O30: =VLOOKUP(N30,Sheet1!$B$2:$C$12,2,TRUE) -> 10 | P30: =VLOOKUP($E30,'[5]Gui chi Quynh'!$C$11:$E$394,3,0) -> A1 | Q30: =VLOOKUP(P30,Sheet1!$B$2:$C$12,2,TRUE) -> 10 | R30: =VLOOKUP($E30,'[6]Gui chi Quynh'!$C$11:$E$393,3,0) -> A1 | S30: =VLOOKUP(R30,Sheet1!$B$2:$C$12,2,TRUE) -> 10 | T30: =VLOOKUP($E30,'[7]Gui chi Quynh'!$C$11:$E$392,3,0) -> A1 | U30: =VLOOKUP(T30,Sheet1!$B$2:$C$12,2,TRUE) -> 10 | V30: =VLOOKUP($E30,'[8]Gui chi Quynh'!$C$11:$F$391,3,0) -> A1 | W30: =VLOOKUP(V30,Sheet1!$B$2:$C$12,2,TRUE) -> 10 | X30: =VLOOKUP($E30,'[9]Gui chi Quynh'!$C$11:$E$390,3,0) -> A4 | Y30: =VLOOKUP(X30,Sheet1!$B$2:$C$12,2,TRUE) -> 7 | Z30: =VLOOKUP($E30,'[10]Gui chi Quynh'!$C$11:$E$391,3,0) -> E | AA30: =VLOOKUP(Z30,Sheet1!$B$2:$C$12,2,TRUE) -> 0 | AC30: =VLOOKUP(AB30,Sheet1!$B$2:$C$12,2,TRUE) -> #N/A | AE30: =VLOOKUP(AD30,Sheet1!$B$2:$C$12,2,TRUE) -> #N/A
A31: =IF(E31="","",SUBTOTAL(3,$E$7:E31)) -> 25 | B31: =COUNTIF($F$7:F31,F31) -> 25 | C31: Ông | D31: Phạm Hữu Tấn | E31: 01002023 | F31: Phòng TC - HC - TH | G31: HĐT | H31: =VLOOKUP($E31,'[1]Gui chi Quynh'!$C$11:$E$397,3,0) -> A3 | I31: =VLOOKUP(H31,Sheet1!$B$2:$C$12,2,TRUE) -> 8 | J31: =VLOOKUP($E31,'[2]Gui chi Quynh'!$C$11:$E$397,3,0) -> A3 | K31: =VLOOKUP(J31,Sheet1!$B$2:$C$12,2,TRUE) -> 8 | L31: =VLOOKUP($E31,'[3]Gui chi Quynh'!$C$11:$E$396,3,0) -> A3 | M31: =VLOOKUP(L31,Sheet1!$B$2:$C$12,2,TRUE) -> 8 | N31: =VLOOKUP($E31,'[4]Gui chi Quynh'!$C$11:$E$396,3,0) -> A4 | O31: =VLOOKUP(N31,Sheet1!$B$2:$C$12,2,TRUE) -> 7 | P31: =VLOOKUP($E31,'[5]Gui chi Quynh'!$C$11:$E$394,3,0) -> A3 | Q31: =VLOOKUP(P31,Sheet1!$B$2:$C$12,2,TRUE) -> 8 | R31: =VLOOKUP($E31,'[6]Gui chi Quynh'!$C$11:$E$393,3,0) -> A4 | S31: =VLOOKUP(R31,Sheet1!$B$2:$C$12,2,TRUE) -> 7 | T31: =VLOOKUP($E31,'[7]Gui chi Quynh'!$C$11:$E$392,3,0) -> A3 | U31: =VLOOKUP(T31,Sheet1!$B$2:$C$12,2,TRUE) -> 8 | V31: =VLOOKUP($E31,'[8]Gui chi Quynh'!$C$11:$F$391,3,0) -> A3 | W31: =VLOOKUP(V31,Sheet1!$B$2:$C$12,2,TRUE) -> 8 | X31: =VLOOKUP($E31,'[9]Gui chi Quynh'!$C$11:$E$390,3,0) -> A3 | Y31: =VLOOKUP(X31,Sheet1!$B$2:$C$12,2,TRUE) -> 8 | Z31: =VLOOKUP($E31,'[10]Gui chi Quynh'!$C$11:$E$391,3,0) -> A4 | AA31: =VLOOKUP(Z31,Sheet1!$B$2:$C$12,2,TRUE) -> 7 | AC31: =VLOOKUP(AB31,Sheet1!$B$2:$C$12,2,TRUE) -> #N/A | AE31: =VLOOKUP(AD31,Sheet1!$B$2:$C$12,2,TRUE) -> #N/A | AF31: =(I31+K31+M31+O31+Q31+S31+U31+W31+Y31+AA31)/10 -> 7.7 | AN31: Nghỉ HTLĐ từ 01/5/2025
Y33: KXL | Z33: =COUNTIF($Z$7:$Z$31,"KXL") -> 0

Sheet XET CUOI NAM
A1: UBND THÀNH PHỐ HỒ CHÍ MINH
A2: TRƯỜNG CAO ĐẲNG LÝ TỰ TRỌNG
A3: THÀNH PHỐ HỒ CHÍ MINH
A4: TỔNG HỢP THI ĐUA NĂM HỌC 2024 - 2025
A6: Stt | B6: tt | D6: Họ và tên | E6: Mã số E-office | F6: Đơn vị | G6: CV | H6: VC/ HĐT | I6: Tháng 7/24 | K6: Tháng 8/24 | M6: Tháng 09/2024 | O6: Tháng 10/2024 | Q6: Tháng 11/2024 | S6: Tháng 12/2024 | U6: Tháng 01/2025 | W6: Tháng 02/2025 | Y6: Tháng 03/2025 | AA6: Tháng 04/2025 | AC6: Tháng 05/2025 | AE6: Tháng 06/2025 | AG6: Điểm trung bình 12 tháng | AH6: Cá nhân tự đánh giá | AI6: Kết quả đánh giá của đơn vị | AJ6: Ý kiến đánh giá của đơn vị | AK6: Kết quả đánh giá của chi bộ | AL6: Ý kiến đánh giá của chi bộ | AM6: Kết quả đánh giá của Hội đồng | AN6: Ý kiến đánh giá của Hội đồng | AO6: Ghi chú
B7: -1 | C7: -1 | D7: -2 | E7: -2.3333333 | F7: -2.8333333 | G7: -3.3333333 | H7: -3.8333333 | I7: -4.3333333 | J7: -4.8333333 | K7: -5.3333333 | L7: -5.8333333 | M7: -6.3333333 | N7: -6.8333333 | O7: -7.3333333 | P7: -7.8333333 | Q7: -8.3333333 | R7: -8.8333333 | S7: -9.3333333 | T7: -9.8333333 | U7: -10.333333 | V7: -10.833333 | W7: -11.333333 | X7: -11.833333 | Y7: -12.333333 | Z7: -12.833333 | AA7: -13.333333 | AB7: -13.833333 | AC7: -14.333333 | AD7: -14.833333 | AE7: -15.333333 | AF7: -15.833333 | AG7: -16.333333 | AH7: -16.833333 | AI7: -17.333333 | AJ7: -17.833333 | AK7: -18.333333 | AL7: -18.833333 | AM7: -19.333333 | AN7: -19.833333 | AO7: -20.333333
A8: =IF(E8="","",SUBTOTAL(3,$E$8:E8)) -> 1 | B8: =COUNTIF($F$8:F8,F8) -> 1 | C8: Ông | D8: Đinh Văn Đệ | E8: 01001006 | F8: BGH | G8: BGH | H8: VC | I8: =VLOOKUP($E8,'[1]Gui chi Quynh'!$C$11:$E$397,3,0) -> A1 | J8: =VLOOKUP(I8,Sheet1!$B$2:$C$12,2,TRUE) -> 10 | K8: =VLOOKUP($E8,'[2]Gui chi Quynh'!$C$11:$E$397,3,0) -> A1 | L8: =VLOOKUP(K8,Sheet1!$B$2:$C$12,2,TRUE) -> 10 | M8: =VLOOKUP($E8,'[3]Gui chi Quynh'!$C$11:$E$396,3,0) -> A1 | N8: =VLOOKUP(M8,Sheet1!$B$2:$C$12,2,TRUE) -> 10 | O8: =VLOOKUP($E8,'[4]Gui chi Quynh'!$C$11:$E$396,3,0) -> A1 | P8: =VLOOKUP(O8,Sheet1!$B$2:$C$12,2,TRUE) -> 10 | Q8: =VLOOKUP($E8,'[5]Gui chi Quynh'!$C$11:$E$394,3,0) -> A1 | R8: =VLOOKUP(Q8,Sheet1!$B$2:$C$12,2,TRUE) -> 10 | S8: =VLOOKUP($E8,'[6]Gui chi Quynh'!$C$11:$E$393,3,0) -> A1 | T8: =VLOOKUP(S8,Sheet1!$B$2:$C$12,2,TRUE) -> 10 | U8: =VLOOKUP($E8,'[7]Gui chi Quynh'!$C$11:$E$392,3,0) -> A1 | V8: =VLOOKUP(U8,Sheet1!$B$2:$C$12,2,TRUE) -> 10 | W8: =VLOOKUP($E8,'[8]Gui chi Quynh'!$C$11:$F$391,3,0) -> A1 | X8: =VLOOKUP(W8,Sheet1!$B$2:$C$12,2,TRUE) -> 10 | Y8: =VLOOKUP($E8,'[9]Gui chi Quynh'!$C$11:$E$390,3,0) -> A1 | Z8: =VLOOKUP(Y8,Sheet1!$B$2:$C$12,2,TRUE) -> 10 | AA8: =VLOOKUP($E8,'[10]Gui chi Quynh'!$C$11:$E$391,3,0) -> A1 | AB8: =VLOOKUP(AA8,Sheet1!$B$2:$C$12,2,TRUE) -> 10 | AC8: =VLOOKUP(E8,Sheet2!$E$9:$AE$343,24,0) -> A1 | AD8: =VLOOKUP(AC8,Sheet1!$B$2:$C$12,2,TRUE) -> 10 | AE8: =VLOOKUP(E8,Sheet2!$E$9:$AE$343,26,0) -> A1 | AF8: =VLOOKUP(AE8,Sheet1!$B$2:$C$12,2,TRUE) -> 10 | AG8: =(J8+L8+N8+P8+R8+T8+V8+X8+Z8+AB8+AD8+AF8)/12 -> 10 | AH8: Xuất sắc | AI8: Xuất sắc | AK8: Xuất sắc | AM8: Xuất sắc
A9: =IF(E9="","",SUBTOTAL(3,$E$8:E9)) -> 2 | B9: =COUNTIF($F$8:F9,F9) -> 2 | C9: Bà | D9: Đinh Hồng Minh | E9: 01002001 | F9: BGH | G9: BGH | H9: VC | I9: =VLOOKUP($E9,'[1]Gui chi Quynh'!$C$11:$E$397,3,0) -> A1 | J9: =VLOOKUP(I9,Sheet1!$B$2:$C$12,2,TRUE) -> 10 | K9: =VLOOKUP($E9,'[2]Gui chi Quynh'!$C$11:$E$397,3,0) -> A1 | L9: =VLOOKUP(K9,Sheet1!$B$2:$C$12,2,TRUE) -> 10 | M9: =VLOOKUP($E9,'[3]Gui chi Quynh'!$C$11:$E$396,3,0) -> A1 | N9: =VLOOKUP(M9,Sheet1!$B$2:$C$12,2,TRUE) -> 10 | O9: =VLOOKUP($E9,'[4]Gui chi Quynh'!$C$11:$E$396,3,0) -> A1 | P9: =VLOOKUP(O9,Sheet1!$B$2:$C$12,2,TRUE) -> 10 | Q9: =VLOOKUP($E9,'[5]Gui chi Quynh'!$C$11:$E$394,3,0) -> A1 | R9: =VLOOKUP(Q9,Sheet1!$B$2:$C$12,2,TRUE) -> 10 | S9: =VLOOKUP($E9,'[6]Gui chi Quynh'!$C$11:$E$393,3,0) -> A1 | T9: =VLOOKUP(S9,Sheet1!$B$2:$C$12,2,TRUE) -> 10 | U9: =VLOOKUP($E9,'[7]Gui chi Quynh'!$C$11:$E$392,3,0) -> A1 | V9: =VLOOKUP(U9,Sheet1!$B$2:$C$12,2,TRUE) -> 10 | W9: =VLOOKUP($E9,'[8]Gui chi Quynh'!$C$11:$F$391,3,0) -> A1 | X9: =VLOOKUP(W9,Sheet1!$B$2:$C$12,2,TRUE) -> 10 | Y9: =VLOOKUP($E9,'[9]Gui chi Quynh'!$C$11:$E$390,3,0) -> A1 | Z9: =VLOOKUP(Y9,Sheet1!$B$2:$C$12,2,TRUE) -> 10 | AA9: =VLOOKUP($E9,'[10]Gui chi Quynh'!$C$11:$E$391,3,0) -> A1 | AB9: =VLOOKUP(AA9,Sheet1!$B$2:$C$12,2,TRUE) -> 10 | AC9: =VLOOKUP(E9,Sheet2!$E$9:$AE$343,24,0) -> A1 | AD9: =VLOOKUP(AC9,Sheet1!$B$2:$C$12,2,TRUE) -> 10 | AE9: =VLOOKUP(E9,Sheet2!$E$9:$AE$343,26,0) -> A1 | AF9: =VLOOKUP(AE9,Sheet1!$B$2:$C$12,2,TRUE) -> 10 | AG9: =(J9+L9+N9+P9+R9+T9+V9+X9+Z9+AB9+AD9+AF9)/12 -> 10 | AH9: Tốt | AI9: Tốt | AK9: Xuất sắc | AM9: Tốt
A10: =IF(E10="","",SUBTOTAL(3,$E$8:E10)) -> 3 | B10: =COUNTIF($F$8:F10,F10) -> 3 | C10: Ông | D10: Châu Văn Bảo | E10: 01014037 | F10: BGH | G10: BGH | H10: VC | I10: =VLOOKUP($E10,'[1]Gui chi Quynh'!$C$11:$E$397,3,0) -> A1 | J10: =VLOOKUP(I10,Sheet1!$B$2:$C$12,2,TRUE) -> 10 | K10: =VLOOKUP($E10,'[2]Gui chi Quynh'!$C$11:$E$397,3,0) -> A1 | L10: =VLOOKUP(K10,Sheet1!$B$2:$C$12,2,TRUE) -> 10 | M10: =VLOOKUP($E10,'[3]Gui chi Quynh'!$C$11:$E$396,3,0) -> A1 | N10: =VLOOKUP(M10,Sheet1!$B$2:$C$12,2,TRUE) -> 10 | O10: =VLOOKUP($E10,'[4]Gui chi Quynh'!$C$11:$E$396,3,0) -> A1 | P10: =VLOOKUP(O10,Sheet1!$B$2:$C$12,2,TRUE) -> 10 | Q10: =VLOOKUP($E10,'[5]Gui chi Quynh'!$C$11:$E$394,3,0) -> A1 | R10: =VLOOKUP(Q10,Sheet1!$B$2:$C$12,2,TRUE) -> 10 | S10: =VLOOKUP($E10,'[6]Gui chi Quynh'!$C$11:$E$393,3,0) -> A1 | T10: =VLOOKUP(S10,Sheet1!$B$2:$C$12,2,TRUE) -> 10 | U10: =VLOOKUP($E10,'[7]Gui chi Quynh'!$C$11:$E$392,3,0) -> A1 | V10: =VLOOKUP(U10,Sheet1!$B$2:$C$12,2,TRUE) -> 10 | W10: =VLOOKUP($E10,'[8]Gui chi Quynh'!$C$11:$F$391,3,0) -> A1 | X10: =VLOOKUP(W10,Sheet1!$B$2:$C$12,2,TRUE) -> 10 | Y10: =VLOOKUP($E10,'[9]Gui chi Quynh'!$C$11:$E$390,3,0) -> A1 | Z10: =VLOOKUP(Y10,Sheet1!$B$2:$C$12,2,TRUE) -> 10 | AA10: =VLOOKUP($E10,'[10]Gui chi Quynh'!$C$11:$E$391,3,0) -> A1 | AB10: =VLOOKUP(AA10,Sheet1!$B$2:$C$12,2,TRUE) -> 10 | AC10: =VLOOKUP(E10,Sheet2!$E$9:$AE$343,24,0) -> A1 | AD10: =VLOOKUP(AC10,Sheet1!$B$2:$C$12,2,TRUE) -> 10 | AE10: =VLOOKUP(E10,Sheet2!$E$9:$AE$343,26,0) -> A1 | AF10: =VLOOKUP(AE10,Sheet1!$B$2:$C$12,2,TRUE) -> 10 | AG10: =(J10+L10+N10+P10+R10+T10+V10+X10+Z10+AB10+AD10+AF10)/12 -> 10 | AH10: Xuất sắc | AI10: Tốt | AK10: Xuất sắc | AM10: Tốt
A11: =IF(E11="","",SUBTOTAL(3,$E$8:E11)) -> 4 | B11: =COUNTIF($F$8:F11,F11) -> 1 | C11: Ông | D11: Nguyễn Kính | E11: 01002024 | F11: P.KH-TC | G11: TPĐV | H11: VC | I11: =VLOOKUP($E11,'[1]Gui chi Quynh'!$C$11:$E$397,3,0) -> A1 | J11: =VLOOKUP(I11,Sheet1!$B$2:$C$12,2,TRUE) -> 10 | K11: =VLOOKUP($E11,'[2]Gui chi Quynh'!$C$11:$E$397,3,0) -> A1 | L11: =VLOOKUP(K11,Sheet1!$B$2:$C$12,2,TRUE) -> 10 | M11: =VLOOKUP($E11,'[3]Gui chi Quynh'!$C$11:$E$396,3,0) -> A1 | N11: =VLOOKUP(M11,Sheet1!$B$2:$C$12,2,TRUE) -> 10 | O11: =VLOOKUP($E11,'[4]Gui chi Quynh'!$C$11:$E$396,3,0) -> A1 | P11: =VLOOKUP(O11,Sheet1!$B$2:$C$12,2,TRUE) -> 10 | Q11: =VLOOKUP($E11,'[5]Gui chi Quynh'!$C$11:$E$394,3,0) -> A1 | R11: =VLOOKUP(Q11,Sheet1!$B$2:$C$12,2,TRUE) -> 10 | S11: =VLOOKUP($E11,'[6]Gui chi Quynh'!$C$11:$E$393,3,0) -> A1 | T11: =VLOOKUP(S11,Sheet1!$B$2:$C$12,2,TRUE) -> 10 | U11: =VLOOKUP($E11,'[7]Gui chi Quynh'!$C$11:$E$392,3,0) -> A1 | V11: =VLOOKUP(U11,Sheet1!$B$2:$C$12,2,TRUE) -> 10 | W11: =VLOOKUP($E11,'[8]Gui chi Quynh'!$C$11:$F$391,3,0) -> A1 | X11: =VLOOKUP(W11,Sheet1!$B$2:$C$12,2,TRUE) -> 10 | Y11: =VLOOKUP($E11,'[9]Gui chi Quynh'!$C$11:$E$390,3,0) -> A1 | Z11: =VLOOKUP(Y11,Sheet1!$B$2:$C$12,2,TRUE) -> 10 | AA11: =VLOOKUP($E11,'[10]Gui chi Quynh'!$C$11:$E$391,3,0) -> A1 | AB11: =VLOOKUP(AA11,Sheet1!$B$2:$C$12,2,TRUE) -> 10 | AC11: =VLOOKUP(E11,Sheet2!$E$9:$AE$343,24,0) -> A1 | AD11: =VLOOKUP(AC11,Sheet1!$B$2:$C$12,2,TRUE) -> 10 | AE11: =VLOOKUP(E11,Sheet2!$E$9:$AE$343,26,0) -> A1 | AF11: =VLOOKUP(AE11,Sheet1!$B$2:$C$12,2,TRUE) -> 10 | AG11: =(J11+L11+N11+P11+R11+T11+V11+X11+Z11+AB11+AD11+AF11)/12 -> 10 | AH11: =VLOOKUP(E11,'CAC DV GUI'!$C$5:$AF$401,27,0) -> Xuất sắc | AI11: =VLOOKUP(E11,'CAC DV GUI'!$C$5:$AF$401,28,0) -> Xuất sắc | AJ11: =VLOOKUP(E11,'CAC DV GUI'!$C$5:$AF$401,29,0) -> 0 | AK11: Xuất sắc | AM11: Tốt
A12: =IF(E12="","",SUBTOTAL(3,$E$8:E12)) -> 5 | B12: =COUNTIF($F$8:F12,F12) -> 2 | C12: Bà | D12: Hồng Mộng Tuyết Dung | E12: 01003009 | F12: P.KH-TC | G12: GVNV | H12: VC | I12: =VLOOKUP($E12,'[1]Gui chi Quynh'!$C$11:$E$397,3,0) -> A1 | J12: =VLOOKUP(I12,Sheet1!$B$2:$C$12,2,TRUE) -> 10 | K12: =VLOOKUP($E12,'[2]Gui chi Quynh'!$C$11:$E$397,3,0) -> A1 | L12: =VLOOKUP(K12,Sheet1!$B$2:$C$12,2,TRUE) -> 10 | M12: =VLOOKUP($E12,'[3]Gui chi Quynh'!$C$11:$E$396,3,0) -> A1 | N12: =VLOOKUP(M12,Sheet1!$B$2:$C$12,2,TRUE) -> 10 | O12: =VLOOKUP($E12,'[4]Gui chi Quynh'!$C$11:$E$396,3,0) -> A1 | P12: =VLOOKUP(O12,Sheet1!$B$2:$C$12,2,TRUE) -> 10 | Q12: =VLOOKUP($E12,'[5]Gui chi Quynh'!$C$11:$E$394,3,0) -> A1 | R12: =VLOOKUP(Q12,Sheet1!$B$2:$C$12,2,TRUE) -> 10 | S12: =VLOOKUP($E12,'[6]Gui chi Quynh'!$C$11:$E$393,3,0) -> A2 | T12: =VLOOKUP(S12,Sheet1!$B$2:$C$12,2,TRUE) -> 9 | U12: =VLOOKUP($E12,'[7]Gui chi Quynh'!$C$11:$E$392,3,0) -> A1 | V12: =VLOOKUP(U12,Sheet1!$B$2:$C$12,2,TRUE) -> 10 | W12: =VLOOKUP($E12,'[8]Gui chi Quynh'!$C$11:$F$391,3,0) -> A3 | X12: =VLOOKUP(W12,Sheet1!$B$2:$C$12,2,TRUE) -> 8 | Y12: =VLOOKUP($E12,'[9]Gui chi Quynh'!$C$11:$E$390,3,0) -> A1 | Z12: =VLOOKUP(Y12,Sheet1!$B$2:$C$12,2,TRUE) -> 10 | AA12: =VLOOKUP($E12,'[10]Gui chi Quynh'!$C$11:$E$391,3,0) -> A2 | AB12: =VLOOKUP(AA12,Sheet1!$B$2:$C$12,2,TRUE) -> 9 | AC12: =VLOOKUP(E12,Sheet2!$E$9:$AE$343,24,0) -> A1 | AD12: =VLOOKUP(AC12,Sheet1!$B$2:$C$12,2,TRUE) -> 10 | AE12: =VLOOKUP(E12,Sheet2!$E$9:$AE$343,26,0) -> A1 | AF12: =VLOOKUP(AE12,Sheet1!$B$2:$C$12,2,TRUE) -> 10 | AG12: =(J12+L12+N12+P12+R12+T12+V12+X12+Z12+AB12+AD12+AF12)/12 -> 9.6666667 | AH12: =VLOOKUP(E12,'CAC DV GUI'!$C$5:$AF$401,27,0) -> Xuất sắc | AI12: =VLOOKUP(E12,'CAC DV GUI'!$C$5:$AF$401,28,0) -> Xuất sắc | AJ12: =VLOOKUP(E12,'CAC DV GUI'!$C$5:$AF$401,29,0) -> 0 | AM12: =AI12 -> Xuất sắc
A13: =IF(E13="","",SUBTOTAL(3,$E$8:E13)) -> 6 | B13: =COUNTIF($F$8:F13,F13) -> 3 | C13: Bà | D13: Trần Thị Minh Thoa | E13: 01003005 | F13: P.KH-TC | G13: GVNV | H13: VC | I13: =VLOOKUP($E13,'[1]Gui chi Quynh'!$C$11:$E$397,3,0) -> A1 | J13: =VLOOKUP(I13,Sheet1!$B$2:$C$12,2,TRUE) -> 10 | K13: =VLOOKUP($E13,'[2]Gui chi Quynh'!$C$11:$E$397,3,0) -> A1 | L13: =VLOOKUP(K13,Sheet1!$B$2:$C$12,2,TRUE) -> 10 | M13: =VLOOKUP($E13,'[3]Gui chi Quynh'!$C$11:$E$396,3,0) -> A1 | N13: =VLOOKUP(M13,Sheet1!$B$2:$C$12,2,TRUE) -> 10 | O13: =VLOOKUP($E13,'[4]Gui chi Quynh'!$C$11:$E$396,3,0) -> A1 | P13: =VLOOKUP(O13,Sheet1!$B$2:$C$12,2,TRUE) -> 10 | Q13: =VLOOKUP($E13,'[5]Gui chi Quynh'!$C$11:$E$394,3,0) -> A3 | R13: =VLOOKUP(Q13,Sheet1!$B$2:$C$12,2,TRUE) -> 8 | S13: =VLOOKUP($E13,'[6]Gui chi Quynh'!$C$11:$E$393,3,0) -> A1 | T13: =VLOOKUP(S13,Sheet1!$B$2:$C$12,2,TRUE) -> 10 | U13: =VLOOKUP($E13,'[7]Gui chi Quynh'!$C$11:$E$392,3,0) -> A1 | V13: =VLOOKUP(U13,Sheet1!$B$2:$C$12,2,TRUE) -> 10 | W13: =VLOOKUP($E13,'[8]Gui chi Quynh'!$C$11:$F$391,3,0) -> A1 | X13: =VLOOKUP(W13,Sheet1!$B$2:$C$12,2,TRUE) -> 10 | Y13: =VLOOKUP($E13,'[9]Gui chi Quynh'!$C$11:$E$390,3,0) -> A1 | Z13: =VLOOKUP(Y13,Sheet1!$B$2:$C$12,2,TRUE) -> 10 | AA13: =VLOOKUP($E13,'[10]Gui chi Quynh'!$C$11:$E$391,3,0) -> A2 | AB13: =VLOOKUP(AA13,Sheet1!$B$2:$C$12,2,TRUE) -> 9 | AC13: =VLOOKUP(E13,Sheet2!$E$9:$AE$343,24,0) -> A1 | AD13: =VLOOKUP(AC13,Sheet1!$B$2:$C$12,2,TRUE) -> 10 | AE13: =VLOOKUP(E13,Sheet2!$E$9:$AE$343,26,0) -> A1 | AF13: =VLOOKUP(AE13,Sheet1!$B$2:$C$12,2,TRUE) -> 10 | AG13: =(J13+L13+N13+P13+R13+T13+V13+X13+Z13+AB13+AD13+AF13)/12 -> 9.75 | AH13: =VLOOKUP(E13,'CAC DV GUI'!$C$5:$AF$401,27,0) -> Xuất sắc | AI13: =VLOOKUP(E13,'CAC DV GUI'!$C$5:$AF$401,28,0) -> Xuất sắc | AJ13: =VLOOKUP(E13,'CAC DV GUI'!$C$5:$AF$401,29,0) -> 0 | AM13: =AI13 -> Xuất sắc
A14: =IF(E14="","",SUBTOTAL(3,$E$8:E14)) -> 7 | B14: =COUNTIF($F$8:F14,F14) -> 4 | C14: Bà | D14: Võ Thị Lệ Trân | E14: 01023004 | F14: P.KH-TC | G14: GVNV | H14: VC | I14: =VLOOKUP($E14,'[1]Gui chi Quynh'!$C$11:$E$397,3,0) -> A1 | J14: =VLOOKUP(I14,Sheet1!$B$2:$C$12,2,TRUE) -> 10 | K14: =VLOOKUP($E14,'[2]Gui chi Quynh'!$C$11:$E$397,3,0) -> A1 | L14: =VLOOKUP(K14,Sheet1!$B$2:$C$12,2,TRUE) -> 10 | M14: =VLOOKUP($E14,'[3]Gui chi Quynh'!$C$11:$E$396,3,0) -> A1 | N14: =VLOOKUP(M14,Sheet1!$B$2:$C$12,2,TRUE) -> 10 | O14: =VLOOKUP($E14,'[4]Gui chi Quynh'!$C$11:$E$396,3,0) -> A1 | P14: =VLOOKUP(O14,Sheet1!$B$2:$C$12,2,TRUE) -> 10 | Q14: =VLOOKUP($E14,'[5]Gui chi Quynh'!$C$11:$E$394,3,0) -> A1 | R14: =VLOOKUP(Q14,Sheet1!$B$2:$C$12,2,TRUE) -> 10 | S14: =VLOOKUP($E14,'[6]Gui chi Quynh'!$C$11:$E$393,3,0) -> A1 | T14: =VLOOKUP(S14,Sheet1!$B$2:$C$12,2,TRUE) -> 10 | U14: =VLOOKUP($E14,'[7]Gui chi Quynh'!$C$11:$E$392,3,0) -> A3 | V14: =VLOOKUP(U14,Sheet1!$B$2:$C$12,2,TRUE) -> 8 | W14: =VLOOKUP($E14,'[8]Gui chi Quynh'!$C$11:$F$391,3,0) -> A1 | X14: =VLOOKUP(W14,Sheet1!$B$2:$C$12,2,TRUE) -> 10 | Y14: =VLOOKUP($E14,'[9]Gui chi Quynh'!$C$11:$E$390,3,0) -> A1 | Z14: =VLOOKUP(Y14,Sheet1!$B$2:$C$12,2,TRUE) -> 10 | AA14: =VLOOKUP($E14,'[10]Gui chi Quynh'!$C$11:$E$391,3,0) -> A1 | AB14: =VLOOKUP(AA14,Sheet1!$B$2:$C$12,2,TRUE) -> 10 | AC14: =VLOOKUP(E14,Sheet2!$E$9:$AE$343,24,0) -> A1 | AD14: =VLOOKUP(AC14,Sheet1!$B$2:$C$12,2,TRUE) -> 10 | AE14: =VLOOKUP(E14,Sheet2!$E$9:$AE$343,26,0) -> A1 | AF14: =VLOOKUP(AE14,Sheet1!$B$2:$C$12,2,TRUE) -> 10 | AG14: =(J14+L14+N14+P14+R14+T14+V14+X14+Z14+AB14+AD14+AF14)/12 -> 9.8333333 | AH14: =VLOOKUP(E14,'CAC DV GUI'!$C$5:$AF$401,27,0) -> Tốt | AI14: =VLOOKUP(E14,'CAC DV GUI'!$C$5:$AF$401,28,0) -> Tốt | AJ14: =VLOOKUP(E14,'CAC DV GUI'!$C$5:$AF$401,29,0) -> 0 | AM14: =AI14 -> Tốt
A15: =IF(E15="","",SUBTOTAL(3,$E$8:E15)) -> 8 | B15: =COUNTIF($F$8:F290,F15) -> 9 | C15: Bà | D15: Nguyễn Thị Minh Thùy | E15: 01003013 | F15: P.KH-TC | G15: GVNV | H15: VC | I15: =VLOOKUP($E15,'[1]Gui chi Quynh'!$C$11:$E$397,3,0) -> A3 | J15: =VLOOKUP(I15,Sheet1!$B$2:$C$12,2,TRUE) -> 8 | K15: A4 | L15: =VLOOKUP(K15,Sheet1!$B$2:$C$12,2,TRUE) -> 7 | M15: =VLOOKUP($E15,'[3]Gui chi Quynh'!$C$11:$E$396,3,0) -> A1 | N15: =VLOOKUP(M15,Sheet1!$B$2:$C$12,2,TRUE) -> 10 | O15: =VLOOKUP($E15,'[4]Gui chi Quynh'!$C$11:$E$396,3,0) -> A1 | P15: =VLOOKUP(O15,Sheet1!$B$2:$C$12,2,TRUE) -> 10 | Q15: =VLOOKUP($E15,'[5]Gui chi Quynh'!$C$11:$E$394,3,0) -> A2 | R15: =VLOOKUP(Q15,Sheet1!$B$2:$C$12,2,TRUE) -> 9 | S15: =VLOOKUP($E15,'[6]Gui chi Quynh'!$C$11:$E$393,3,0) -> A2 | T15: =VLOOKUP(S15,Sheet1!$B$2:$C$12,2,TRUE) -> 9 | U15: =VLOOKUP($E15,'[7]Gui chi Quynh'!$C$11:$E$392,3,0) -> A2 | V15: =VLOOKUP(U15,Sheet1!$B$2:$C$12,2,TRUE) -> 9 | W15: =VLOOKUP($E15,'[8]Gui chi Quynh'!$C$11:$F$391,3,0) -> A2 | X15: =VLOOKUP(W15,Sheet1!$B$2:$C$12,2,TRUE) -> 9 | Y15: =VLOOKUP($E15,'[9]Gui chi Quynh'!$C$11:$E$390,3,0) -> A3 | Z15: =VLOOKUP(Y15,Sheet1!$B$2:$C$12,2,TRUE) -> 8 | AA15: =VLOOKUP($E15,'[10]Gui chi Quynh'!$C$11:$E$391,3,0) -> A DN | AB15: 0 | AC15: =VLOOKUP(E15,Sheet2!$E$9:$AE$343,24,0) -> A DN | AE15: =VLOOKUP(E15,Sheet2!$E$9:$AE$343,26,0) -> A DN | AG15: =(J15+L15+N15+P15+R15+T15+V15+V15+X15+Z15)/9 -> 9.7777778 | AH15: =VLOOKUP(E15,'CAC DV GUI'!$C$5:$AF$401,27,0) -> Tốt | AI15: =VLOOKUP(E15,'CAC DV GUI'!$C$5:$AF$401,28,0) -> Tốt | AJ15: =VLOOKUP(E15,'CAC DV GUI'!$C$5:$AF$401,29,0) -> 0 | AM15: =AI15 -> Tốt | AO15: Nghỉ thai sản từ ngày 17/3/2025 đến 16/10/25, đánh giá 9 tháng làm việc thực tế
A16: =IF(E16="","",SUBTOTAL(3,$E$8:E16)) -> 9 | B16: =COUNTIF($F$8:F16,F16) -> 6 | C16: Bà | D16: Nguyễn Thị Hồng Thắm | E16: 01003007 | F16: P.KH-TC | G16: GVNV | H16: VC | I16: =VLOOKUP($E16,'[1]Gui chi Quynh'!$C$11:$E$397,3,0) -> A2 | J16: =VLOOKUP(I16,Sheet1!$B$2:$C$12,2,TRUE) -> 9 | K16: =VLOOKUP($E16,'[2]Gui chi Quynh'!$C$11:$E$397,3,0) -> A2 | L16: =VLOOKUP(K16,Sheet1!$B$2:$C$12,2,TRUE) -> 9 | M16: =VLOOKUP($E16,'[3]Gui chi Quynh'!$C$11:$E$396,3,0) -> A2 | N16: =VLOOKUP(M16,Sheet1!$B$2:$C$12,2,TRUE) -> 9 | O16: =VLOOKUP($E16,'[4]Gui chi Quynh'!$C$11:$E$396,3,0) -> A3 | P16: =VLOOKUP(O16,Sheet1!$B$2:$C$12,2,TRUE) -> 8 | Q16: =VLOOKUP($E16,'[5]Gui chi Quynh'!$C$11:$E$394,3,0) -> A2 | R16: =VLOOKUP(Q16,Sheet1!$B$2:$C$12,2,TRUE) -> 9 | S16: =VLOOKUP($E16,'[6]Gui chi Quynh'!$C$11:$E$393,3,0) -> A DN | T16: 0 | U16: =VLOOKUP($E16,'[7]Gui chi Quynh'!$C$11:$E$392,3,0) -> A DN | V16: 0 | W16: =VLOOKUP($E16,'[8]Gui chi Quynh'!$C$11:$F$391,3,0) -> A DN | X16: 0 | Y16: =VLOOKUP($E16,'[9]Gui chi Quynh'!$C$11:$E$390,3,0) -> A DN | Z16: 0 | AA16: =VLOOKUP($E16,'[10]Gui chi Quynh'!$C$11:$E$391,3,0) -> A DN | AB16: 0 | AC16: =VLOOKUP(E16,Sheet2!$E$9:$AE$343,24,0) -> A DN | AD16: =VLOOKUP(AC16,Sheet1!$B$2:$C$12,2,TRUE) -> #N/A | AE16: =VLOOKUP(E16,Sheet2!$E$9:$AE$343,26,0) -> A2 | AF16: =VLOOKUP(AE16,Sheet1!$B$2:$C$12,2,TRUE) -> 9 | AG16: =(J16+L16+N16+P16+R16+AF16)/6 -> 8.8333333 | AH16: =VLOOKUP(E16,'CAC DV GUI'!$C$5:$AF$401,27,0) -> Tốt | AI16: =VLOOKUP(E16,'CAC DV GUI'!$C$5:$AF$401,28,0) -> Tốt | AJ16: =VLOOKUP(E16,'CAC DV GUI'!$C$5:$AF$401,29,0) -> 0 | AM16: =AI16 -> Tốt | AO16: Nghỉ thai sản từ ngày 01/12/2024 đến 31/5/25, đánh giá 6 tháng làm việc thực tế
A17: =IF(E17="","",SUBTOTAL(3,$E$8:E17)) -> 10 | B17: =COUNTIF($F$8:F17,F17) -> 7 | C17: Bà | D17: Trần Thị Thảo Vân | E17: 01003008 | F17: P.KH-TC | G17: GVNV | H17: HĐT | I17: =VLOOKUP($E17,'[1]Gui chi Quynh'!$C$11:$E$397,3,0) -> A3 | J17: =VLOOKUP(I17,Sheet1!$B$2:$C$12,2,TRUE) -> 8 | K17: =VLOOKUP($E17,'[2]Gui chi Quynh'!$C$11:$E$397,3,0) -> A2 | L17: =VLOOKUP(K17,Sheet1!$B$2:$C$12,2,TRUE) -> 9 | M17: =VLOOKUP($E17,'[3]Gui chi Quynh'!$C$11:$E$396,3,0) -> A2 | N17: =VLOOKUP(M17,Sheet1!$B$2:$C$12,2,TRUE) -> 9 | O17: =VLOOKUP($E17,'[4]Gui chi Quynh'!$C$11:$E$396,3,0) -> A3 | P17: =VLOOKUP(O17,Sheet1!$B$2:$C$12,2,TRUE) -> 8 | Q17: =VLOOKUP($E17,'[5]Gui chi Quynh'!$C$11:$E$394,3,0) -> A2 | R17: =VLOOKUP(Q17,Sheet1!$B$2:$C$12,2,TRUE) -> 9 | S17: =VLOOKUP($E17,'[6]Gui chi Quynh'!$C$11:$E$393,3,0) -> A1 | T17: =VLOOKUP(S17,Sheet1!$B$2:$C$12,2,TRUE) -> 10 | U17: =VLOOKUP($E17,'[7]Gui chi Quynh'!$C$11:$E$392,3,0) -> A2 | V17: =VLOOKUP(U17,Sheet1!$B$2:$C$12,2,TRUE) -> 9 | W17: =VLOOKUP($E17,'[8]Gui chi Quynh'!$C$11:$F$391,3,0) -> A3 | X17: =VLOOKUP(W17,Sheet1!$B$2:$C$12,2,TRUE) -> 8 | Y17: =VLOOKUP($E17,'[9]Gui chi Quynh'!$C$11:$E$390,3,0) -> A1 | Z17: =VLOOKUP(Y17,Sheet1!$B$2:$C$12,2,TRUE) -> 10 | AA17: =VLOOKUP($E17,'[10]Gui chi Quynh'!$C$11:$E$391,3,0) -> A2 | AB17: =VLOOKUP(AA17,Sheet1!$B$2:$C$12,2,TRUE) -> 9 | AC17: =VLOOKUP(E17,Sheet2!$E$9:$AE$343,24,0) -> A1 | AD17: =VLOOKUP(AC17,Sheet1!$B$2:$C$12,2,TRUE) -> 10 | AE17: =VLOOKUP(E17,Sheet2!$E$9:$AE$343,26,0) -> A2 | AF17: =VLOOKUP(AE17,Sheet1!$B$2:$C$12,2,TRUE) -> 9 | AG17: =(J17+L17+N17+P17+R17+T17+V17+X17+Z17+AB17+AD17+AF17)/12 -> 9 | AH17: =VLOOKUP(E17,'CAC DV GUI'!$C$5:$AF$401,27,0) -> Tốt | AI17: =VLOOKUP(E17,'CAC DV GUI'!$C$5:$AF$401,28,0) -> Tốt | AJ17: =VLOOKUP(E17,'CAC DV GUI'!$C$5:$AF$401,29,0) -> 0 | AM17: =AI17 -> Tốt
A18: =IF(E18="","",SUBTOTAL(3,$E$8:E18)) -> 11 | B18: =COUNTIF($F$8:F18,F18) -> 8 | C18: Ông | D18: Huỳnh Như Ý | E18: 01003015 | F18: P.KH-TC | G18: GVNV | H18: HĐT | I18: =VLOOKUP($E18,'[1]Gui chi Quynh'!$C$11:$E$397,3,0) -> A2 | J18: =VLOOKUP(I18,Sheet1!$B$2:$C$12,2,TRUE) -> 9 | K18: =VLOOKUP($E18,'[2]Gui chi Quynh'!$C$11:$E$397,3,0) -> A2 | L18: =VLOOKUP(K18,Sheet1!$B$2:$C$12,2,TRUE) -> 9 | M18: =VLOOKUP($E18,'[3]Gui chi Quynh'!$C$11:$E$396,3,0) -> A3 | N18: =VLOOKUP(M18,Sheet1!$B$2:$C$12,2,TRUE) -> 8 | O18: =VLOOKUP($E18,'[4]Gui chi Quynh'!$C$11:$E$396,3,0) -> A2 | P18: =VLOOKUP(O18,Sheet1!$B$2:$C$12,2,TRUE) -> 9 | Q18: =VLOOKUP($E18,'[5]Gui chi Quynh'!$C$11:$E$394,3,0) -> A2 | R18: =VLOOKUP(Q18,Sheet1!$B$2:$C$12,2,TRUE) -> 9 | S18: =VLOOKUP($E18,'[6]Gui chi Quynh'!$C$11:$E$393,3,0) -> A3 | T18: =VLOOKUP(S18,Sheet1!$B$2:$C$12,2,TRUE) -> 8 | U18: =VLOOKUP($E18,'[7]Gui chi Quynh'!$C$11:$E$392,3,0) -> A1 | V18: =VLOOKUP(U18,Sheet1!$B$2:$C$12,2,TRUE) -> 10 | W18: =VLOOKUP($E18,'[8]Gui chi Quynh'!$C$11:$F$391,3,0) -> A2 | X18: =VLOOKUP(W18,Sheet1!$B$2:$C$12,2,TRUE) -> 9 | Y18: =VLOOKUP($E18,'[9]Gui chi Quynh'!$C$11:$E$390,3,0) -> A2 | Z18: =VLOOKUP(Y18,Sheet1!$B$2:$C$12,2,TRUE) -> 9 | AA18: =VLOOKUP($E18,'[10]Gui chi Quynh'!$C$11:$E$391,3,0) -> A1 | AB18: =VLOOKUP(AA18,Sheet1!$B$2:$C$12,2,TRUE) -> 10 | AC18: =VLOOKUP(E18,Sheet2!$E$9:$AE$343,24,0) -> A2 | AD18: =VLOOKUP(AC18,Sheet1!$B$2:$C$12,2,TRUE) -> 9 | AE18: =VLOOKUP(E18,Sheet2!$E$9:$AE$343,26,0) -> A1 | AF18: =VLOOKUP(AE18,Sheet1!$B$2:$C$12,2,TRUE) -> 10 | AG18: =(J18+L18+N18+P18+R18+T18+V18+X18+Z18+AB18+AD18+AF18)/12 -> 9.0833333 | AH18: =VLOOKUP(E18,'CAC DV GUI'!$C$5:$AF$401,27,0) -> Xuất sắc | AI18: =VLOOKUP(E18,'CAC DV GUI'!$C$5:$AF$401,28,0) -> Xuất sắc | AJ18: =VLOOKUP(E18,'CAC DV GUI'!$C$5:$AF$401,29,0) -> 0 | AM18: =AI18 -> Xuất sắc
A19: =IF(E19="","",SUBTOTAL(3,$E$8:E19)) -> 12 | B19: =COUNTIF($F$8:F19,F19) -> 9 | C19: Ông | D19: Nguyễn Chiến Thắng | E19: 01003016 | F19: P.KH-TC | G19: GVNV | H19: HĐT | I19: =VLOOKUP($E19,'[1]Gui chi Quynh'!$C$11:$E$397,3,0) -> A2 | J19: =VLOOKUP(I19,Sheet1!$B$2:$C$12,2,TRUE) -> 9 | K19: =VLOOKUP($E19,'[2]Gui chi Quynh'!$C$11:$E$397,3,0) -> A3 | L19: =VLOOKUP(K19,Sheet1!$B$2:$C$12,2,TRUE) -> 8 | M19: =VLOOKUP($E19,'[3]Gui chi Quynh'!$C$11:$E$396,3,0) -> A2 | N19: =VLOOKUP(M19,Sheet1!$B$2:$C$12,2,TRUE) -> 9 | O19: =VLOOKUP($E19,'[4]Gui chi Quynh'!$C$11:$E$396,3,0) -> A2 | P19: =VLOOKUP(O19,Sheet1!$B$2:$C$12,2,TRUE) -> 9 | Q19: =VLOOKUP($E19,'[5]Gui chi Quynh'!$C$11:$E$394,3,0) -> A2 | R19: =VLOOKUP(Q19,Sheet1!$B$2:$C$12,2,TRUE) -> 9 | S19: =VLOOKUP($E19,'[6]Gui chi Quynh'!$C$11:$E$393,3,0) -> A2 | T19: =VLOOKUP(S19,Sheet1!$B$2:$C$12,2,TRUE) -> 9 | U19: =VLOOKUP($E19,'[7]Gui chi Quynh'!$C$11:$E$392,3,0) -> A2 | V19: =VLOOKUP(U19,Sheet1!$B$2:$C$12,2,TRUE) -> 9 | W19: =VLOOKUP($E19,'[8]Gui chi Quynh'!$C$11:$F$391,3,0) -> A1 | X19: =VLOOKUP(W19,Sheet1!$B$2:$C$12,2,TRUE) -> 10 | Y19: =VLOOKUP($E19,'[9]Gui chi Quynh'!$C$11:$E$390,3,0) -> A2 | Z19: =VLOOKUP(Y19,Sheet1!$B$2:$C$12,2,TRUE) -> 9 | AA19: =VLOOKUP($E19,'[10]Gui chi Quynh'!$C$11:$E$391,3,0) -> A1 | AB19: =VLOOKUP(AA19,Sheet1!$B$2:$C$12,2,TRUE) -> 10 | AC19: =VLOOKUP(E19,Sheet2!$E$9:$AE$343,24,0) -> A2 | AD19: =VLOOKUP(AC19,Sheet1!$B$2:$C$12,2,TRUE) -> 9 | AE19: =VLOOKUP(E19,Sheet2!$E$9:$AE$343,26,0) -> A1 | AF19: =VLOOKUP(AE19,Sheet1!$B$2:$C$12,2,TRUE) -> 10 | AG19: =(J19+L19+N19+P19+R19+T19+V19+X19+Z19+AB19+AD19+AF19)/12 -> 9.1666667 | AH19: =VLOOKUP(E19,'CAC DV GUI'!$C$5:$AF$401,27,0) -> Tốt | AI19: =VLOOKUP(E19,'CAC DV GUI'!$C$5:$AF$401,28,0) -> Tốt | AJ19: =VLOOKUP(E19,'CAC DV GUI'!$C$5:$AF$401,29,0) -> 0 | AM19: =AI19 -> Tốt
A20: =IF(E20="","",SUBTOTAL(3,$E$8:E20)) -> 13 | B20: =COUNTIF($F$8:F20,F20) -> 1 | C20: Ông | D20: Nguyễn Thành Nam | E20: 01005007 | F20: P.TS-ĐT | G20: TPĐV | H20: VC | I20: =VLOOKUP($E20,'[1]Gui chi Quynh'!$C$11:$E$397,3,0) -> A1 | J20: =VLOOKUP(I20,Sheet1!$B$2:$C$12,2,TRUE) -> 10 | K20: =VLOOKUP($E20,'[2]Gui chi Quynh'!$C$11:$E$397,3,0) -> A1 | L20: =VLOOKUP(K20,Sheet1!$B$2:$C$12,2,TRUE) -> 10 | M20: =VLOOKUP($E20,'[3]Gui chi Quynh'!$C$11:$E$396,3,0) -> A1 | N20: =VLOOKUP(M20,Sheet1!$B$2:$C$12,2,TRUE) -> 10 | O20: =VLOOKUP($E20,'[4]Gui chi Quynh'!$C$11:$E$396,3,0) -> A1 | P20: =VLOOKUP(O20,Sheet1!$B$2:$C$12,2,TRUE) -> 10 | Q20: =VLOOKUP($E20,'[5]Gui chi Quynh'!$C$11:$E$394,3,0) -> A1 | R20: =VLOOKUP(Q20,Sheet1!$B$2:$C$12,2,TRUE) -> 10 | S20: =VLOOKUP($E20,'[6]Gui chi Quynh'!$C$11:$E$393,3,0) -> A1 | T20: =VLOOKUP(S20,Sheet1!$B$2:$C$12,2,TRUE) -> 10 | U20: =VLOOKUP($E20,'[7]Gui chi Quynh'!$C$11:$E$392,3,0) -> A1 | V20: =VLOOKUP(U20,Sheet1!$B$2:$C$12,2,TRUE) -> 10 | W20: =VLOOKUP($E20,'[8]Gui chi Quynh'!$C$11:$F$391,3,0) -> A1 | X20: =VLOOKUP(W20,Sheet1!$B$2:$C$12,2,TRUE) -> 10 | Y20: =VLOOKUP($E20,'[9]Gui chi Quynh'!$C$11:$E$390,3,0) -> A1 | Z20: =VLOOKUP(Y20,Sheet1!$B$2:$C$12,2,TRUE) -> 10 | AA20: =VLOOKUP($E20,'[10]Gui chi Quynh'!$C$11:$E$391,3,0) -> A1 | AB20: =VLOOKUP(AA20,Sheet1!$B$2:$C$12,2,TRUE) -> 10 | AC20: =VLOOKUP(E20,Sheet2!$E$9:$AE$343,24,0) -> A1 | AD20: =VLOOKUP(AC20,Sheet1!$B$2:$C$12,2,TRUE) -> 10 | AE20: =VLOOKUP(E20,Sheet2!$E$9:$AE$343,26,0) -> A1 | AF20: =VLOOKUP(AE20,Sheet1!$B$2:$C$12,2,TRUE) -> 10 | AG20: =(J20+L20+N20+P20+R20+T20+V20+X20+Z20+AB20+AD20+AF20)/12 -> 10 | AH20: =VLOOKUP(E20,'CAC DV GUI'!$C$5:$AF$401,27,0) -> Xuất sắc | AI20: =VLOOKUP(E20,'CAC DV GUI'!$C$5:$AF$401,28,0) -> Xuất sắc | AJ20: =VLOOKUP(E20,'CAC DV GUI'!$C$5:$AF$401,29,0) -> 0 | AK20: Xuất sắc | AM20: Xuất sắc
A21: =IF(E21="","",SUBTOTAL(3,$E$8:E21)) -> 14 | B21: =COUNTIF($F$8:F21,F21) -> 2 | C21: Ông | D21: Quách Minh Thử | E21: 01014007 | F21: P.TS-ĐT | G21: TPĐV | H21: VC | I21: =VLOOKUP($E21,'[1]Gui chi Quynh'!$C$11:$E$397,3,0) -> A2 | J21: =VLOOKUP(I21,Sheet1!$B$2:$C$12,2,TRUE) -> 9 | K21: =VLOOKUP($E21,'[2]Gui chi Quynh'!$C$11:$E$397,3,0) -> A1 | L21: =VLOOKUP(K21,Sheet1!$B$2:$C$12,2,TRUE) -> 10 | M21: =VLOOKUP($E21,'[3]Gui chi Quynh'!$C$11:$E$396,3,0) -> A2 | N21: =VLOOKUP(M21,Sheet1!$B$2:$C$12,2,TRUE) -> 9 | O21: =VLOOKUP($E21,'[4]Gui chi Quynh'!$C$11:$E$396,3,0) -> A2 | P21: =VLOOKUP(O21,Sheet1!$B$2:$C$12,2,TRUE) -> 9 | Q21: =VLOOKUP($E21,'[5]Gui chi Quynh'!$C$11:$E$394,3,0) -> A1 | R21: =VLOOKUP(Q21,Sheet1!$B$2:$C$12,2,TRUE) -> 10 | S21: =VLOOKUP($E21,'[6]Gui chi Quynh'!$C$11:$E$393,3,0) -> A1 | T21: =VLOOKUP(S21,Sheet1!$B$2:$C$12,2,TRUE) -> 10 | U21: =VLOOKUP($E21,'[7]Gui chi Quynh'!$C$11:$E$392,3,0) -> A1 | V21: =VLOOKUP(U21,Sheet1!$B$2:$C$12,2,TRUE) -> 10 | W21: =VLOOKUP($E21,'[8]Gui chi Quynh'!$C$11:$F$391,3,0) -> A1 | X21: =VLOOKUP(W21,Sheet1!$B$2:$C$12,2,TRUE) -> 10 | Y21: =VLOOKUP($E21,'[9]Gui chi Quynh'!$C$11:$E$390,3,0) -> A1 | Z21: =VLOOKUP(Y21,Sheet1!$B$2:$C$12,2,TRUE) -> 10 | AA21: =VLOOKUP($E21,'[10]Gui chi Quynh'!$C$11:$E$391,3,0) -> A1 | AB21: =VLOOKUP(AA21,Sheet1!$B$2:$C$12,2,TRUE) -> 10 | AC21: =VLOOKUP(E21,Sheet2!$E$9:$AE$343,24,0) -> A1 | AD21: =VLOOKUP(AC21,Sheet1!$B$2:$C$12,2,TRUE) -> 10 | AE21: =VLOOKUP(E21,Sheet2!$E$9:$AE$343,26,0) -> A1 | AF21: =VLOOKUP(AE21,Sheet1!$B$2:$C$12,2,TRUE) -> 10 | AG21: =(J21+L21+N21+P21+R21+T21+V21+X21+Z21+AB21+AD21+AF21)/12 -> 9.75 | AH21: =VLOOKUP(E21,'CAC DV GUI'!$C$5:$AF$401,27,0) -> Xuất sắc | AI21: =VLOOKUP(E21,'CAC DV GUI'!$C$5:$AF$401,28,0) -> Xuất sắc | AJ21: =VLOOKUP(E21,'CAC DV GUI'!$C$5:$AF$401,29,0) -> 0 | AK21: Xuất sắc | AM21: Tốt
A22: =IF(E22="","",SUBTOTAL(3,$E$8:E22)) -> 15 | B22: =COUNTIF($F$8:F22,F22) -> 3 | C22: Bà | D22: Nguyễn Thị Thùy | E22: 01022013 | F22: P.TS-ĐT | G22: GVNV | H22: VC | I22: =VLOOKUP($E22,'[1]Gui chi Quynh'!$C$11:$E$397,3,0) -> A1 | J22: =VLOOKUP(I22,Sheet1!$B$2:$C$12,2,TRUE) -> 10 | K22: =VLOOKUP($E22,'[2]Gui chi Quynh'!$C$11:$E$397,3,0) -> A1 | L22: =VLOOKUP(K22,Sheet1!$B$2:$C$12,2,TRUE) -> 10 | M22: =VLOOKUP($E22,'[3]Gui chi Quynh'!$C$11:$E$396,3,0) -> A1 | N22: =VLOOKUP(M22,Sheet1!$B$2:$C$12,2,TRUE) -> 10 | O22: =VLOOKUP($E22,'[4]Gui chi Quynh'!$C$11:$E$396,3,0) -> A1 | P22: =VLOOKUP(O22,Sheet1!$B$2:$C$12,2,TRUE) -> 10 | Q22: =VLOOKUP($E22,'[5]Gui chi Quynh'!$C$11:$E$394,3,0) -> A1 | R22: =VLOOKUP(Q22,Sheet1!$B$2:$C$12,2,TRUE) -> 10 | S22: =VLOOKUP($E22,'[6]Gui chi Quynh'!$C$11:$E$393,3,0) -> A1 | T22: =VLOOKUP(S22,Sheet1!$B$2:$C$12,2,TRUE) -> 10 | U22: =VLOOKUP($E22,'[7]Gui chi Quynh'!$C$11:$E$392,3,0) -> A1 | V22: =VLOOKUP(U22,Sheet1!$B$2:$C$12,2,TRUE) -> 10 | W22: =VLOOKUP($E22,'[8]Gui chi Quynh'!$C$11:$F$391,3,0) -> A1 | X22: =VLOOKUP(W22,Sheet1!$B$2:$C$12,2,TRUE) -> 10 | Y22: =VLOOKUP($E22,'[9]Gui chi Quynh'!$C$11:$E$390,3,0) -> A1 | Z22: =VLOOKUP(Y22,Sheet1!$B$2:$C$12,2,TRUE) -> 10 | AA22: =VLOOKUP($E22,'[10]Gui chi Quynh'!$C$11:$E$391,3,0) -> A1 | AB22: =VLOOKUP(AA22,Sheet1!$B$2:$C$12,2,TRUE) -> 10 | AC22: =VLOOKUP(E22,Sheet2!$E$9:$AE$343,24,0) -> A1 | AD22: =VLOOKUP(AC22,Sheet1!$B$2:$C$12,2,TRUE) -> 10 | AE22: =VLOOKUP(E22,Sheet2!$E$9:$AE$343,26,0) -> A1 | AF22: =VLOOKUP(AE22,Sheet1!$B$2:$C$12,2,TRUE) -> 10 | AG22: =(J22+L22+N22+P22+R22+T22+V22+X22+Z22+AB22+AD22+AF22)/12 -> 10 | AH22: =VLOOKUP(E22,'CAC DV GUI'!$C$5:$AF$401,27,0) -> Xuất sắc | AI22: =VLOOKUP(E22,'CAC DV GUI'!$C$5:$AF$401,28,0) -> Xuất sắc | AJ22: =VLOOKUP(E22,'CAC DV GUI'!$C$5:$AF$401,29,0) -> 0 | AM22: =AI22 -> Xuất sắc
A23: =IF(E23="","",SUBTOTAL(3,$E$8:E23)) -> 16 | B23: =COUNTIF($F$8:F23,F23) -> 4 | C23: Bà | D23: Võ Thị Xuân Thơ | E23: 01004003 | F23: P.TS-ĐT | G23: GVNV | H23: VC | I23: =VLOOKUP($E23,'[1]Gui chi Quynh'!$C$11:$E$397,3,0) -> A3 | J23: =VLOOKUP(I23,Sheet1!$B$2:$C$12,2,TRUE) -> 8 | K23: =VLOOKUP($E23,'[2]Gui chi Quynh'!$C$11:$E$397,3,0) -> A2 | L23: =VLOOKUP(K23,Sheet1!$B$2:$C$12,2,TRUE) -> 9 | M23: =VLOOKUP($E23,'[3]Gui chi Quynh'!$C$11:$E$396,3,0) -> A2 | N23: =VLOOKUP(M23,Sheet1!$B$2:$C$12,2,TRUE) -> 9 | O23: =VLOOKUP($E23,'[4]Gui chi Quynh'!$C$11:$E$396,3,0) -> A1 | P23: =VLOOKUP(O23,Sheet1!$B$2:$C$12,2,TRUE) -> 10 | Q23: =VLOOKUP($E23,'[5]Gui chi Quynh'!$C$11:$E$394,3,0) -> A1 | R23: =VLOOKUP(Q23,Sheet1!$B$2:$C$12,2,TRUE) -> 10 | S23: =VLOOKUP($E23,'[6]Gui chi Quynh'!$C$11:$E$393,3,0) -> A2 | T23: =VLOOKUP(S23,Sheet1!$B$2:$C$12,2,TRUE) -> 9 | U23: =VLOOKUP($E23,'[7]Gui chi Quynh'!$C$11:$E$392,3,0) -> A1 | V23: =VLOOKUP(U23,Sheet1!$B$2:$C$12,2,TRUE) -> 10 | W23: =VLOOKUP($E23,'[8]Gui chi Quynh'!$C$11:$F$391,3,0) -> A1 | X23: =VLOOKUP(W23,Sheet1!$B$2:$C$12,2,TRUE) -> 10 | Y23: =VLOOKUP($E23,'[9]Gui chi Quynh'!$C$11:$E$390,3,0) -> A1 | Z23: =VLOOKUP(Y23,Sheet1!$B$2:$C$12,2,TRUE) -> 10 | AA23: =VLOOKUP($E23,'[10]Gui chi Quynh'!$C$11:$E$391,3,0) -> A1 | AB23: =VLOOKUP(AA23,Sheet1!$B$2:$C$12,2,TRUE) -> 10 | AC23: =VLOOKUP(E23,Sheet2!$E$9:$AE$343,24,0) -> A1 | AD23: =VLOOKUP(AC23,Sheet1!$B$2:$C$12,2,TRUE) -> 10 | AE23: =VLOOKUP(E23,Sheet2!$E$9:$AE$343,26,0) -> A1 | AF23: =VLOOKUP(AE23,Sheet1!$B$2:$C$12,2,TRUE) -> 10 | AG23: =(J23+L23+N23+P23+R23+T23+V23+X23+Z23+AB23+AD23+AF23)/12 -> 9.5833333 | AH23: =VLOOKUP(E23,'CAC DV GUI'!$C$5:$AF$401,27,0) -> Xuất sắc | AI23: =VLOOKUP(E23,'CAC DV GUI'!$C$5:$AF$401,28,0) -> Xuất sắc | AJ23: =VLOOKUP(E23,'CAC DV GUI'!$C$5:$AF$401,29,0) -> Tích cực trong các hoạt động đột xuất, quan trọng của đơn vị | AM23: =AI23 -> Xuất sắc
A24: =IF(E24="","",SUBTOTAL(3,$E$8:E24)) -> 17 | B24: =COUNTIF($F$8:F24,F24) -> 5 | C24: Bà | D24: Nguyễn Thị Thanh Thảo | E24: 01004008 | F24: P.TS-ĐT | G24: GVNV | H24: VC | I24: =VLOOKUP($E24,'[1]Gui chi Quynh'!$C$11:$E$397,3,0) -> A2 | J24: =VLOOKUP(I24,Sheet1!$B$2:$C$12,2,TRUE) -> 9 | K24: =VLOOKUP($E24,'[2]Gui chi Quynh'!$C$11:$E$397,3,0) -> A2 | L24: =VLOOKUP(K24,Sheet1!$B$2:$C$12,2,TRUE) -> 9 | M24: =VLOOKUP($E24,'[3]Gui chi Quynh'!$C$11:$E$396,3,0) -> A2 | N24: =VLOOKUP(M24,Sheet1!$B$2:$C$12,2,TRUE) -> 9 | O24: =VLOOKUP($E24,'[4]Gui chi Quynh'!$C$11:$E$396,3,0) -> A3 | P24: =VLOOKUP(O24,Sheet1!$B$2:$C$12,2,TRUE) -> 8 | Q24: =VLOOKUP($E24,'[5]Gui chi Quynh'!$C$11:$E$394,3,0) -> A1 | R24: =VLOOKUP(Q24,Sheet1!$B$2:$C$12,2,TRUE) -> 10 | S24: =VLOOKUP($E24,'[6]Gui chi Quynh'!$C$11:$E$393,3,0) -> A3 | T24: =VLOOKUP(S24,Sheet1!$B$2:$C$12,2,TRUE) -> 8 | U24: =VLOOKUP($E24,'[7]Gui chi Quynh'!$C$11:$E$392,3,0) -> A2 | V24: =VLOOKUP(U24,Sheet1!$B$2:$C$12,2,TRUE) -> 9 | W24: =VLOOKUP($E24,'[8]Gui chi Quynh'!$C$11:$F$391,3,0) -> A2 | X24: =VLOOKUP(W24,Sheet1!$B$2:$C$12,2,TRUE) -> 9 | Y24: =VLOOKUP($E24,'[9]Gui chi Quynh'!$C$11:$E$390,3,0) -> A1 | Z24: =VLOOKUP(Y24,Sheet1!$B$2:$C$12,2,TRUE) -> 10 | AA24: =VLOOKUP($E24,'[10]Gui chi Quynh'!$C$11:$E$391,3,0) -> A1 | AB24: =VLOOKUP(AA24,Sheet1!$B$2:$C$12,2,TRUE) -> 10 | AC24: =VLOOKUP(E24,Sheet2!$E$9:$AE$343,24,0) -> A2 | AD24: =VLOOKUP(AC24,Sheet1!$B$2:$C$12,2,TRUE) -> 9 | AE24: =VLOOKUP(E24,Sheet2!$E$9:$AE$343,26,0) -> A2 | AF24: =VLOOKUP(AE24,Sheet1!$B$2:$C$12,2,TRUE) -> 9 | AG24: =(J24+L24+N24+P24+R24+T24+V24+X24+Z24+AB24+AD24+AF24)/12 -> 9.0833333 | AH24: =VLOOKUP(E24,'CAC DV GUI'!$C$5:$AF$401,27,0) -> Xuất sắc | AI24: =VLOOKUP(E24,'CAC DV GUI'!$C$5:$AF$401,28,0) -> Xuất sắc | AJ24: =VLOOKUP(E24,'CAC DV GUI'!$C$5:$AF$401,29,0) -> 0 | AM24: =AI24 -> Xuất sắc
A25: =IF(E25="","",SUBTOTAL(3,$E$8:E25)) -> 18 | B25: =COUNTIF($F$8:F25,F25) -> 6 | C25: Bà | D25: Huỳnh Thị Cẩm Hoa | E25: 01005009 | F25: P.TS-ĐT | G25: GVNV | H25: VC | I25: =VLOOKUP($E25,'[1]Gui chi Quynh'!$C$11:$E$397,3,0) -> A2 | J25: =VLOOKUP(I25,Sheet1!$B$2:$C$12,2,TRUE) -> 9 | K25: =VLOOKUP($E25,'[2]Gui chi Quynh'!$C$11:$E$397,3,0) -> A3 | L25: =VLOOKUP(K25,Sheet1!$B$2:$C$12,2,TRUE) -> 8 | M25: =VLOOKUP($E25,'[3]Gui chi Quynh'!$C$11:$E$396,3,0) -> A3 | N25: =VLOOKUP(M25,Sheet1!$B$2:$C$12,2,TRUE) -> 8 | O25: =VLOOKUP($E25,'[4]Gui chi Quynh'!$C$11:$E$396,3,0) -> A2 | P25: =VLOOKUP(O25,Sheet1!$B$2:$C$12,2,TRUE) -> 9 | Q25: =VLOOKUP($E25,'[5]Gui chi Quynh'!$C$11:$E$394,3,0) -> A2 | R25: =VLOOKUP(Q25,Sheet1!$B$2:$C$12,2,TRUE) -> 9 | S25: =VLOOKUP($E25,'[6]Gui chi Quynh'!$C$11:$E$393,3,0) -> A3 | T25: =VLOOKUP(S25,Sheet1!$B$2:$C$12,2,TRUE) -> 8 | U25: =VLOOKUP($E25,'[7]Gui chi Quynh'!$C$11:$E$392,3,0) -> A3 | V25: =VLOOKUP(U25,Sheet1!$B$2:$C$12,2,TRUE) -> 8 | W25: =VLOOKUP($E25,'[8]Gui chi Quynh'!$C$11:$F$391,3,0) -> A3 | X25: =VLOOKUP(W25,Sheet1!$B$2:$C$12,2,TRUE) -> 8 | Y25: =VLOOKUP($E25,'[9]Gui chi Quynh'!$C$11:$E$390,3,0) -> A3 | Z25: =VLOOKUP(Y25,Sheet1!$B$2:$C$12,2,TRUE) -> 8 | AA25: =VLOOKUP($E25,'[10]Gui chi Quynh'!$C$11:$E$391,3,0) -> A1 | AB25: =VLOOKUP(AA25,Sheet1!$B$2:$C$12,2,TRUE) -> 10 | AC25: =VLOOKUP(E25,Sheet2!$E$9:$AE$343,24,0) -> A1 | AD25: =VLOOKUP(AC25,Sheet1!$B$2:$C$12,2,TRUE) -> 10 | AE25: =VLOOKUP(E25,Sheet2!$E$9:$AE$343,26,0) -> A3 | AF25: =VLOOKUP(AE25,Sheet1!$B$2:$C$12,2,TRUE) -> 8 | AG25: =(J25+L25+N25+P25+R25+T25+V25+X25+Z25+AB25+AD25+AF25)/12 -> 8.5833333 | AH25: =VLOOKUP(E25,'CAC DV GUI'!$C$5:$AF$401,27,0) -> Tốt | AI25: =VLOOKUP(E25,'CAC DV GUI'!$C$5:$AF$401,28,0) -> Tốt | AJ25: =VLOOKUP(E25,'CAC DV GUI'!$C$5:$AF$401,29,0) -> 0 | AM25: =AI25 -> Tốt
A26: =IF(E26="","",SUBTOTAL(3,$E$8:E26)) -> 19 | B26: =COUNTIF($F$8:F26,F26) -> 7 | C26: Bà | D26: Giáp Thị Vượng | E26: 01004009 | F26: P.TS-ĐT | G26: GVNV | H26: VC | I26: =VLOOKUP($E26,'[1]Gui chi Quynh'!$C$11:$E$397,3,0) -> A3 | J26: =VLOOKUP(I26,Sheet1!$B$2:$C$12,2,TRUE) -> 8 | K26: =VLOOKUP($E26,'[2]Gui chi Quynh'!$C$11:$E$397,3,0) -> A2 | L26: =VLOOKUP(K26,Sheet1!$B$2:$C$12,2,TRUE) -> 9 | M26: =VLOOKUP($E26,'[3]Gui chi Quynh'!$C$11:$E$396,3,0) -> A3 | N26: =VLOOKUP(M26,Sheet1!$B$2:$C$12,2,TRUE) -> 8 | O26: =VLOOKUP($E26,'[4]Gui chi Quynh'!$C$11:$E$396,3,0) -> A3 | P26: =VLOOKUP(O26,Sheet1!$B$2:$C$12,2,TRUE) -> 8 | Q26: =VLOOKUP($E26,'[5]Gui chi Quynh'!$C$11:$E$394,3,0) -> A3 | R26: =VLOOKUP(Q26,Sheet1!$B$2:$C$12,2,TRUE) -> 8 | S26: =VLOOKUP($E26,'[6]Gui chi Quynh'!$C$11:$E$393,3,0) -> A3 | T26: =VLOOKUP(S26,Sheet1!$B$2:$C$12,2,TRUE) -> 8 | U26: =VLOOKUP($E26,'[7]Gui chi Quynh'!$C$11:$E$392,3,0) -> A3 | V26: =VLOOKUP(U26,Sheet1!$B$2:$C$12,2,TRUE) -> 8 | W26: =VLOOKUP($E26,'[8]Gui chi Quynh'!$C$11:$F$391,3,0) -> A2 | X26: =VLOOKUP(W26,Sheet1!$B$2:$C$12,2,TRUE) -> 9 | Y26: =VLOOKUP($E26,'[9]Gui chi Quynh'!$C$11:$E$390,3,0) -> A3 | Z26: =VLOOKUP(Y26,Sheet1!$B$2:$C$12,2,TRUE) -> 8 | AA26: =VLOOKUP($E26,'[10]Gui chi Quynh'!$C$11:$E$391,3,0) -> A1 | AB26: =VLOOKUP(AA26,Sheet1!$B$2:$C$12,2,TRUE) -> 10 | AC26: =VLOOKUP(E26,Sheet2!$E$9:$AE$343,24,0) -> A2 | AD26: =VLOOKUP(AC26,Sheet1!$B$2:$C$12,2,TRUE) -> 9 | AE26: =VLOOKUP(E26,Sheet2!$E$9:$AE$343,26,0) -> A3 | AF26: =VLOOKUP(AE26,Sheet1!$B$2:$C$12,2,TRUE) -> 8 | AG26: =(J26+L26+N26+P26+R26+T26+V26+X26+Z26+AB26+AD26+AF26)/12 -> 8.4166667 | AH26: =VLOOKUP(E26,'CAC DV GUI'!$C$5:$AF$401,27,0) -> Tốt | AI26: =VLOOKUP(E26,'CAC DV GUI'!$C$5:$AF$401,28,0) -> Tốt | AJ26: =VLOOKUP(E26,'CAC DV GUI'!$C$5:$AF$401,29,0) -> 0 | AM26: =AI26 -> Tốt
A27: =IF(E27="","",SUBTOTAL(3,$E$8:E27)) -> 20 | B27: =COUNTIF($F$8:F27,F27) -> 8 | C27: Bà | D27: Thái Thị My Sa | E27: 01002020 | F27: P.TS-ĐT | G27: GVNV | H27: VC | I27: =VLOOKUP($E27,'[1]Gui chi Quynh'!$C$11:$E$397,3,0) -> A2 | J27: =VLOOKUP(I27,Sheet1!$B$2:$C$12,2,TRUE) -> 9 | K27: =VLOOKUP($E27,'[2]Gui chi Quynh'!$C$11:$E$397,3,0) -> A1 | L27: =VLOOKUP(K27,Sheet1!$B$2:$C$12,2,TRUE) -> 10 | M27: =VLOOKUP($E27,'[3]Gui chi Quynh'!$C$11:$E$396,3,0) -> A2 | N27: =VLOOKUP(M27,Sheet1!$B$2:$C$12,2,TRUE) -> 9 | O27: =VLOOKUP($E27,'[4]Gui chi Quynh'!$C$11:$E$396,3,0) -> A1 | P27: =VLOOKUP(O27,Sheet1!$B$2:$C$12,2,TRUE) -> 10 | Q27: =VLOOKUP($E27,'[5]Gui chi Quynh'!$C$11:$E$394,3,0) -> A1 | R27: =VLOOKUP(Q27,Sheet1!$B$2:$C$12,2,TRUE) -> 10 | S27: =VLOOKUP($E27,'[6]Gui chi Quynh'!$C$11:$E$393,3,0) -> A4 | T27: =VLOOKUP(S27,Sheet1!$B$2:$C$12,2,TRUE) -> 7 | U27: =VLOOKUP($E27,'[7]Gui chi Quynh'!$C$11:$E$392,3,0) -> A1 | V27: =VLOOKUP(U27,Sheet1!$B$2:$C$12,2,TRUE) -> 10 | W27: =VLOOKUP($E27,'[8]Gui chi Quynh'!$C$11:$F$391,3,0) -> A1 | X27: =VLOOKUP(W27,Sheet1!$B$2:$C$12,2,TRUE) -> 10 | Y27: =VLOOKUP($E27,'[9]Gui chi Quynh'!$C$11:$E$390,3,0) -> A1 | Z27: =VLOOKUP(Y27,Sheet1!$B$2:$C$12,2,TRUE) -> 10 | AA27: =VLOOKUP($E27,'[10]Gui chi Quynh'!$C$11:$E$391,3,0) -> A1 | AB27: =VLOOKUP(AA27,Sheet1!$B$2:$C$12,2,TRUE) -> 10 | AC27: =VLOOKUP(E27,Sheet2!$E$9:$AE$343,24,0) -> A1 | AD27: =VLOOKUP(AC27,Sheet1!$B$2:$C$12,2,TRUE) -> 10 | AE27: =VLOOKUP(E27,Sheet2!$E$9:$AE$343,26,0) -> A1 | AF27: =VLOOKUP(AE27,Sheet1!$B$2:$C$12,2,TRUE) -> 10 | AG27: =(J27+L27+N27+P27+R27+T27+V27+X27+Z27+AB27+AD27+AF27)/12 -> 9.5833333 | AH27: =VLOOKUP(E27,'CAC DV GUI'!$C$5:$AF$401,27,0) -> Tốt | AI27: =VLOOKUP(E27,'CAC DV GUI'!$C$5:$AF$401,28,0) -> Tốt | AJ27: =VLOOKUP(E27,'CAC DV GUI'!$C$5:$AF$401,29,0) -> 0 | AM27: =AI27 -> Tốt
A28: =IF(E28="","",SUBTOTAL(3,$E$8:E28)) -> 21 | B28: =COUNTIF($F$8:F28,F28) -> 9 | C28: Bà | D28: Nguyễn Thị Hải Hà | E28: 01012026 | F28: P.TS-ĐT | G28: GVNV | H28: VC | I28: =VLOOKUP($E28,'[1]Gui chi Quynh'!$C$11:$E$397,3,0) -> A3 | J28: =VLOOKUP(I28,Sheet1!$B$2:$C$12,2,TRUE) -> 8 | K28: =VLOOKUP($E28,'[2]Gui chi Quynh'!$C$11:$E$397,3,0) -> A2 | L28: =VLOOKUP(K28,Sheet1!$B$2:$C$12,2,TRUE) -> 9 | M28: =VLOOKUP($E28,'[3]Gui chi Quynh'!$C$11:$E$396,3,0) -> A2 | N28: =VLOOKUP(M28,Sheet1!$B$2:$C$12,2,TRUE) -> 9 | O28: =VLOOKUP($E28,'[4]Gui chi Quynh'!$C$11:$E$396,3,0) -> A2 | P28: =VLOOKUP(O28,Sheet1!$B$2:$C$12,2,TRUE) -> 9 | Q28: =VLOOKUP($E28,'[5]Gui chi Quynh'!$C$11:$E$394,3,0) -> A3 | R28: =VLOOKUP(Q28,Sheet1!$B$2:$C$12,2,TRUE) -> 8 | S28: =VLOOKUP($E28,'[6]Gui chi Quynh'!$C$11:$E$393,3,0) -> A3 | T28: =VLOOKUP(S28,Sheet1!$B$2:$C$12,2,TRUE) -> 8 | U28: =VLOOKUP($E28,'[7]Gui chi Quynh'!$C$11:$E$392,3,0) -> A3 | V28: =VLOOKUP(U28,Sheet1!$B$2:$C$12,2,TRUE) -> 8 | W28: =VLOOKUP($E28,'[8]Gui chi Quynh'!$C$11:$F$391,3,0) -> A2 | X28: =VLOOKUP(W28,Sheet1!$B$2:$C$12,2,TRUE) -> 9 | Y28: =VLOOKUP($E28,'[9]Gui chi Quynh'!$C$11:$E$390,3,0) -> A3 | Z28: =VLOOKUP(Y28,Sheet1!$B$2:$C$12,2,TRUE) -> 8 | AA28: =VLOOKUP($E28,'[10]Gui chi Quynh'!$C$11:$E$391,3,0) -> A1 | AB28: =VLOOKUP(AA28,Sheet1!$B$2:$C$12,2,TRUE) -> 10 | AC28: =VLOOKUP(E28,Sheet2!$E$9:$AE$343,24,0) -> A2 | AD28: =VLOOKUP(AC28,Sheet1!$B$2:$C$12,2,TRUE) -> 9 | AE28: =VLOOKUP(E28,Sheet2!$E$9:$AE$343,26,0) -> A3 | AF28: =VLOOKUP(AE28,Sheet1!$B$2:$C$12,2,TRUE) -> 8 | AG28: =(J28+L28+N28+P28+R28+T28+V28+X28+Z28+AB28+AD28+AF28)/12 -> 8.5833333 | AH28: =VLOOKUP(E28,'CAC DV GUI'!$C$5:$AF$401,27,0) -> Tốt | AI28: =VLOOKUP(E28,'CAC DV GUI'!$C$5:$AF$401,28,0) -> Tốt | AJ28: =VLOOKUP(E28,'CAC DV GUI'!$C$5:$AF$401,29,0) -> 0 | AM28: =AI28 -> Tốt
A29: =IF(E29="","",SUBTOTAL(3,$E$8:E29)) -> 22 | B29: =COUNTIF($F$8:F29,F29) -> 10 | C29: Bà | D29: Nguyễn Thị Ngọc Anh | E29: 01022058 | F29: P.TS-ĐT | G29: GVNV | H29: VC | I29: =VLOOKUP($E29,'[1]Gui chi Quynh'!$C$11:$E$397,3,0) -> A3 | J29: =VLOOKUP(I29,Sheet1!$B$2:$C$12,2,TRUE) -> 8 | K29: =VLOOKUP($E29,'[2]Gui chi Quynh'!$C$11:$E$397,3,0) -> A3 | L29: =VLOOKUP(K29,Sheet1!$B$2:$C$12,2,TRUE) -> 8 | M29: =VLOOKUP($E29,'[3]Gui chi Quynh'!$C$11:$E$396,3,0) -> A3 | N29: =VLOOKUP(M29,Sheet1!$B$2:$C$12,2,TRUE) -> 8 | O29: =VLOOKUP($E29,'[4]Gui chi Quynh'!$C$11:$E$396,3,0) -> A3 | P29: =VLOOKUP(O29,Sheet1!$B$2:$C$12,2,TRUE) -> 8 | Q29: =VLOOKUP($E29,'[5]Gui chi Quynh'!$C$11:$E$394,3,0) -> A3 | R29: =VLOOKUP(Q29,Sheet1!$B$2:$C$12,2,TRUE) -> 8 | S29: =VLOOKUP($E29,'[6]Gui chi Quynh'!$C$11:$E$393,3,0) -> A3 | T29: =VLOOKUP(S29,Sheet1!$B$2:$C$12,2,TRUE) -> 8 | U29: =VLOOKUP($E29,'[7]Gui chi Quynh'!$C$11:$E$392,3,0) -> A3 | V29: =VLOOKUP(U29,Sheet1!$B$2:$C$12,2,TRUE) -> 8 | W29: =VLOOKUP($E29,'[8]Gui chi Quynh'!$C$11:$F$391,3,0) -> A3 | X29: =VLOOKUP(W29,Sheet1!$B$2:$C$12,2,TRUE) -> 8 | Y29: =VLOOKUP($E29,'[9]Gui chi Quynh'!$C$11:$E$390,3,0) -> A3 | Z29: =VLOOKUP(Y29,Sheet1!$B$2:$C$12,2,TRUE) -> 8 | AA29: =VLOOKUP($E29,'[10]Gui chi Quynh'!$C$11:$E$391,3,0) -> A1 | AB29: =VLOOKUP(AA29,Sheet1!$B$2:$C$12,2,TRUE) -> 10 | AC29: =VLOOKUP(E29,Sheet2!$E$9:$AE$343,24,0) -> A1 | AD29: =VLOOKUP(AC29,Sheet1!$B$2:$C$12,2,TRUE) -> 10 | AE29: =VLOOKUP(E29,Sheet2!$E$9:$AE$343,26,0) -> A1 | AF29: =VLOOKUP(AE29,Sheet1!$B$2:$C$12,2,TRUE) -> 10 | AG29: =(J29+L29+N29+P29+R29+T29+V29+X29+Z29+AB29+AD29+AF29)/12 -> 8.5 | AH29: =VLOOKUP(E29,'CAC DV GUI'!$C$5:$AF$401,27,0) -> Tốt | AI29: =VLOOKUP(E29,'CAC DV GUI'!$C$5:$AF$401,28,0) -> Tốt | AJ29: =VLOOKUP(E29,'CAC DV GUI'!$C$5:$AF$401,29,0) -> 0 | AM29: =AI29 -> Tốt
A30: =IF(E30="","",SUBTOTAL(3,$E$8:E30)) -> 23 | B30: =COUNTIF($F$8:F30,F30) -> 11 | C30: Bà | D30: Sỹ Thị Chung | E30: 01011017 | F30: P.TS-ĐT | G30: GVNV | H30: HĐT | I30: =VLOOKUP($E30,'[1]Gui chi Quynh'!$C$11:$E$397,3,0) -> A2 | J30: =VLOOKUP(I30,Sheet1!$B$2:$C$12,2,TRUE) -> 9 | K30: =VLOOKUP($E30,'[2]Gui chi Quynh'!$C$11:$E$397,3,0) -> A2 | L30: =VLOOKUP(K30,Sheet1!$B$2:$C$12,2,TRUE) -> 9 | M30: =VLOOKUP($E30,'[3]Gui chi Quynh'!$C$11:$E$396,3,0) -> A3 | N30: =VLOOKUP(M30,Sheet1!$B$2:$C$12,2,TRUE) -> 8 | O30: =VLOOKUP($E30,'[4]Gui chi Quynh'!$C$11:$E$396,3,0) -> A1 | P30: =VLOOKUP(O30,Sheet1!$B$2:$C$12,2,TRUE) -> 10 | Q30: =VLOOKUP($E30,'[5]Gui chi Quynh'!$C$11:$E$394,3,0) -> A2 | R30: =VLOOKUP(Q30,Sheet1!$B$2:$C$12,2,TRUE) -> 9 | S30: =VLOOKUP($E30,'[6]Gui chi Quynh'!$C$11:$E$393,3,0) -> A3 | T30: =VLOOKUP(S30,Sheet1!$B$2:$C$12,2,TRUE) -> 8 | U30: =VLOOKUP($E30,'[7]Gui chi Quynh'!$C$11:$E$392,3,0) -> A2 | V30: =VLOOKUP(U30,Sheet1!$B$2:$C$12,2,TRUE) -> 9 | W30: =VLOOKUP($E30,'[8]Gui chi Quynh'!$C$11:$F$391,3,0) -> A1 | X30: =VLOOKUP(W30,Sheet1!$B$2:$C$12,2,TRUE) -> 10 | Y30: =VLOOKUP($E30,'[9]Gui chi Quynh'!$C$11:$E$390,3,0) -> A1 | Z30: =VLOOKUP(Y30,Sheet1!$B$2:$C$12,2,TRUE) -> 10 | AA30: =VLOOKUP($E30,'[10]Gui chi Quynh'!$C$11:$E$391,3,0) -> A1 | AB30: =VLOOKUP(AA30,Sheet1!$B$2:$C$12,2,TRUE) -> 10 | AC30: =VLOOKUP(E30,Sheet2!$E$9:$AE$343,24,0) -> A1 | AD30: =VLOOKUP(AC30,Sheet1!$B$2:$C$12,2,TRUE) -> 10 | AE30: =VLOOKUP(E30,Sheet2!$E$9:$AE$343,26,0) -> A2 | AF30: =VLOOKUP(AE30,Sheet1!$B$2:$C$12,2,TRUE) -> 9 | AG30: =(J30+L30+N30+P30+R30+T30+V30+X30+Z30+AB30+AD30+AF30)/12 -> 9.25 | AH30: =VLOOKUP(E30,'CAC DV GUI'!$C$5:$AF$401,27,0) -> Tốt | AI30: =VLOOKUP(E30,'CAC DV GUI'!$C$5:$AF$401,28,0) -> Tốt | AJ30: =VLOOKUP(E30,'CAC DV GUI'!$C$5:$AF$401,29,0) -> 0 | AM30: =AI30 -> Tốt
A31: =IF(E31="","",SUBTOTAL(3,$E$8:E31)) -> 24 | B31: =COUNTIF($F$8:F31,F31) -> 12 | C31: Bà | D31: Nguyễn Thị Tất | E31: 01022059 | F31: P.TS-ĐT | G31: GVNV | H31: HĐT | I31: =VLOOKUP($E31,'[1]Gui chi Quynh'!$C$11:$E$397,3,0) -> A3 | J31: =VLOOKUP(I31,Sheet1!$B$2:$C$12,2,TRUE) -> 8 | K31: =VLOOKUP($E31,'[2]Gui chi Quynh'!$C$11:$E$397,3,0) -> A2 | L31: =VLOOKUP(K31,Sheet1!$B$2:$C$12,2,TRUE) -> 9 | M31: =VLOOKUP($E31,'[3]Gui chi Quynh'!$C$11:$E$396,3,0) -> A2 | N31: =VLOOKUP(M31,Sheet1!$B$2:$C$12,2,TRUE) -> 9 | O31: =VLOOKUP($E31,'[4]Gui chi Quynh'!$C$11:$E$396,3,0) -> A1 | P31: =VLOOKUP(O31,Sheet1!$B$2:$C$12,2,TRUE) -> 10 | Q31: =VLOOKUP($E31,'[5]Gui chi Quynh'!$C$11:$E$394,3,0) -> A2 | R31: =VLOOKUP(Q31,Sheet1!$B$2:$C$12,2,TRUE) -> 9 | S31: =VLOOKUP($E31,'[6]Gui chi Quynh'!$C$11:$E$393,3,0) -> A3 | T31: =VLOOKUP(S31,Sheet1!$B$2:$C$12,2,TRUE) -> 8 | U31: =VLOOKUP($E31,'[7]Gui chi Quynh'!$C$11:$E$392,3,0) -> A1 | V31: =VLOOKUP(U31,Sheet1!$B$2:$C$12,2,TRUE) -> 10 | W31: =VLOOKUP($E31,'[8]Gui chi Quynh'!$C$11:$F$391,3,0) -> A2 | X31: =VLOOKUP(W31,Sheet1!$B$2:$C$12,2,TRUE) -> 9 | Y31: =VLOOKUP($E31,'[9]Gui chi Quynh'!$C$11:$E$390,3,0) -> A1 | Z31: =VLOOKUP(Y31,Sheet1!$B$2:$C$12,2,TRUE) -> 10 | AA31: =VLOOKUP($E31,'[10]Gui chi Quynh'!$C$11:$E$391,3,0) -> A1 | AB31: =VLOOKUP(AA31,Sheet1!$B$2:$C$12,2,TRUE) -> 10 | AC31: =VLOOKUP(E31,Sheet2!$E$9:$AE$343,24,0) -> A1 | AD31: =VLOOKUP(AC31,Sheet1!$B$2:$C$12,2,TRUE) -> 10 | AE31: =VLOOKUP(E31,Sheet2!$E$9:$AE$343,26,0) -> A1 | AF31: =VLOOKUP(AE31,Sheet1!$B$2:$C$12,2,TRUE) -> 10 | AG31: =(J31+L31+N31+P31+R31+T31+V31+X31+Z31+AB31+AD31+AF31)/12 -> 9.3333333 | AH31: =VLOOKUP(E31,'CAC DV GUI'!$C$5:$AF$401,27,0) -> Xuất sắc | AI31: =VLOOKUP(E31,'CAC DV GUI'!$C$5:$AF$401,28,0) -> Tốt | AJ31: =VLOOKUP(E31,'CAC DV GUI'!$C$5:$AF$401,29,0) -> 0 | AM31: =AI31 -> Tốt
A32: =IF(E32="","",SUBTOTAL(3,$E$8:E32)) -> 25 | B32: =COUNTIF($F$8:F32,F32) -> 13 | C32: Bà | D32: Nguyễn Thị Nhung | E32: 01018006 | F32: P.TS-ĐT | G32: GVNV | H32: HĐT | I32: =VLOOKUP($E32,'[1]Gui chi Quynh'!$C$11:$E$397,3,0) -> A2 | J32: =VLOOKUP(I32,Sheet1!$B$2:$C$12,2,TRUE) -> 9 | K32: =VLOOKUP($E32,'[2]Gui chi Quynh'!$C$11:$E$397,3,0) -> A1 | L32: =VLOOKUP(K32,Sheet1!$B$2:$C$12,2,TRUE) -> 10 | M32: =VLOOKUP($E32,'[3]Gui chi Quynh'!$C$11:$E$396,3,0) -> A2 | N32: =VLOOKUP(M32,Sheet1!$B$2:$C$12,2,TRUE) -> 9 | O32: =VLOOKUP($E32,'[4]Gui chi Quynh'!$C$11:$E$396,3,0) -> A3 | P32: =VLOOKUP(O32,Sheet1!$B$2:$C$12,2,TRUE) -> 8 | Q32: =VLOOKUP($E32,'[5]Gui chi Quynh'!$C$11:$E$394,3,0) -> A3 | R32: =VLOOKUP(Q32,Sheet1!$B$2:$C$12,2,TRUE) -> 8 | S32: =VLOOKUP($E32,'[6]Gui chi Quynh'!$C$11:$E$393,3,0) -> A4 | T32: =VLOOKUP(S32,Sheet1!$B$2:$C$12,2,TRUE) -> 7 | U32: =VLOOKUP($E32,'[7]Gui chi Quynh'!$C$11:$E$392,3,0) -> A1 | V32: =VLOOKUP(U32,Sheet1!$B$2:$C$12,2,TRUE) -> 10 | W32: =VLOOKUP($E32,'[8]Gui chi Quynh'!$C$11:$F$391,3,0) -> A3 | X32: =VLOOKUP(W32,Sheet1!$B$2:$C$12,2,TRUE) -> 8 | Y32: =VLOOKUP($E32,'[9]Gui chi Quynh'!$C$11:$E$390,3,0) -> A3 | Z32: =VLOOKUP(Y32,Sheet1!$B$2:$C$12,2,TRUE) -> 8 | AA32: =VLOOKUP($E32,'[10]Gui chi Quynh'!$C$11:$E$391,3,0) -> A1 | AB32: =VLOOKUP(AA32,Sheet1!$B$2:$C$12,2,TRUE) -> 10 | AC32: =VLOOKUP(E32,Sheet2!$E$9:$AE$343,24,0) -> A1 | AD32: =VLOOKUP(AC32,Sheet1!$B$2:$C$12,2,TRUE) -> 10 | AE32: =VLOOKUP(E32,Sheet2!$E$9:$AE$343,26,0) -> A1 | AF32: =VLOOKUP(AE32,Sheet1!$B$2:$C$12,2,TRUE) -> 10 | AG32: =(J32+L32+N32+P32+R32+T32+V32+X32+Z32+AB32+AD32+AF32)/12 -> 8.9166667 | AH32: =VLOOKUP(E32,'CAC DV GUI'!$C$5:$AF$401,27,0) -> Tốt | AI32: =VLOOKUP(E32,'CAC DV GUI'!$C$5:$AF$401,28,0) -> Tốt | AJ32: =VLOOKUP(E32,'CAC DV GUI'!$C$5:$AF$401,29,0) -> 0 | AM32: =AI32 -> Tốt
A33: =IF(E33="","",SUBTOTAL(3,$E$8:E33)) -> 26 | B33: =COUNTIF($F$8:F33,F33) -> 14 | C33: Ông | D33: Nguyễn Việt Tiến | E33: 01004013 | F33: P.TS-ĐT | G33: GVNV | H33: HĐT | I33: =VLOOKUP($E33,'[1]Gui chi Quynh'!$C$11:$E$397,3,0) -> A1 | J33: =VLOOKUP(I33,Sheet1!$B$2:$C$12,2,TRUE) -> 10 | K33: =VLOOKUP($E33,'[2]Gui chi Quynh'!$C$11:$E$397,3,0) -> A3 | L33: =VLOOKUP(K33,Sheet1!$B$2:$C$12,2,TRUE) -> 8 | M33: =VLOOKUP($E33,'[3]Gui chi Quynh'!$C$11:$E$396,3,0) -> A3 | N33: =VLOOKUP(M33,Sheet1!$B$2:$C$12,2,TRUE) -> 8 | O33: =VLOOKUP($E33,'[4]Gui chi Quynh'!$C$11:$E$396,3,0) -> A2 | P33: =VLOOKUP(O33,Sheet1!$B$2:$C$12,2,TRUE) -> 9 | Q33: =VLOOKUP($E33,'[5]Gui chi Quynh'!$C$11:$E$394,3,0) -> A2 | R33: =VLOOKUP(Q33,Sheet1!$B$2:$C$12,2,TRUE) -> 9 | S33: =VLOOKUP($E33,'[6]Gui chi Quynh'!$C$11:$E$393,3,0) -> A3 | T33: =VLOOKUP(S33,Sheet1!$B$2:$C$12,2,TRUE) -> 8 | U33: =VLOOKUP($E33,'[7]Gui chi Quynh'!$C$11:$E$392,3,0) -> A3 | V33: =VLOOKUP(U33,Sheet1!$B$2:$C$12,2,TRUE) -> 8 | W33: =VLOOKUP($E33,'[8]Gui chi Quynh'!$C$11:$F$391,3,0) -> A3 | X33: =VLOOKUP(W33,Sheet1!$B$2:$C$12,2,TRUE) -> 8 | Y33: =VLOOKUP($E33,'[9]Gui chi Quynh'!$C$11:$E$390,3,0) -> A1 | Z33: =VLOOKUP(Y33,Sheet1!$B$2:$C$12,2,TRUE) -> 10 | AA33: =VLOOKUP($E33,'[10]Gui chi Quynh'!$C$11:$E$391,3,0) -> A1 | AB33: =VLOOKUP(AA33,Sheet1!$B$2:$C$12,2,TRUE) -> 10 | AC33: =VLOOKUP(E33,Sheet2!$E$9:$AE$343,24,0) -> A1 | AD33: =VLOOKUP(AC33,Sheet1!$B$2:$C$12,2,TRUE) -> 10 | AE33: =VLOOKUP(E33,Sheet2!$E$9:$AE$343,26,0) -> A3 | AF33: =VLOOKUP(AE33,Sheet1!$B$2:$C$12,2,TRUE) -> 8 | AG33: =(J33+L33+N33+P33+R33+T33+V33+X33+Z33+AB33+AD33+AF33)/12 -> 8.8333333 | AH33: =VLOOKUP(E33,'CAC DV GUI'!$C$5:$AF$401,27,0) -> Tốt | AI33: =VLOOKUP(E33,'CAC DV GUI'!$C$5:$AF$401,28,0) -> Tốt | AJ33: =VLOOKUP(E33,'CAC DV GUI'!$C$5:$AF$401,29,0) -> 0 | AM33: =AI33 -> Tốt
... A35: =IF(E35="","",SUBTOTAL(3,$E$8:E35)) -> 28 | B35: =COUNTIF($F$8:F35,F35) -> 16 | C35: Bà | D35: Võ Thị Mỹ Ngọc | E35: 01004021 | F35: P.TS-ĐT | G35: GVNV | H35: HĐT | I35: =VLOOKUP($E35,'[1]Gui chi Quynh'!$C$11:$E$397,3,0) -> A4 | J35: =VLOOKUP(I35,Sheet1!$B$2:$C$12,2,TRUE) -> 7 | K35: =VLOOKUP($E35,'[2]Gui chi Quynh'!$C$11:$E$397,3,0) -> A3 | L35: =VLOOKUP(K35,Sheet1!$B$2:$C$12,2,TRUE) -> 8 | M35: =VLOOKUP($E35,'[3]Gui chi Quynh'!$C$11:$E$396,3,0) -> A3 | N35: =VLOOKUP(M35,Sheet1!$B$2:$C$12,2,TRUE) -> 8 | O35: =VLOOKUP($E35,'[4]Gui chi Quynh'!$C$11:$E$396,3,0) -> A3 | P35: =VLOOKUP(O35,Sheet1!$B$2:$C$12,2,TRUE) -> 8 | Q35: =VLOOKUP($E35,'[5]Gui chi Quynh'!$C$11:$E$394,3,0) -> A3 | R35: =VLOOKUP(Q35,Sheet1!$B$2:$C$12,2,TRUE) -> 8 | S35: =VLOOKUP($E35,'[6]Gui chi Quynh'!$C$11:$E$393,3,0) -> A3 | T35: =VLOOKUP(S35,Sheet1!$B$2:$C$12,2,TRUE) -> 8 | U35: =VLOOKUP($E35,'[7]Gui chi Quynh'!$C$11:$E$392,3,0) -> A3 | V35: =VLOOKUP(U35,Sheet1!$B$2:$C$12,2,TRUE) -> 8 | W35: =VLOOKUP($E35,'[8]Gui chi Quynh'!$C$11:$F$391,3,0) -> A3 | X35: =VLOOKUP(W35,Sheet1!$B$2:$C$12,2,TRUE) -> 8 | Y35: =VLOOKUP($E35,'[9]Gui chi Quynh'!$C$11:$E$390,3,0) -> A2 | Z35: =VLOOKUP(Y35,Sheet1!$B$2:$C$12,2,TRUE) -> 9 | AA35: =VLOOKUP($E35,'[10]Gui chi Quynh'!$C$11:$E$391,3,0) -> A1 | AB35: =VLOOKUP(AA35,Sheet1!$B$2:$C$12,2,TRUE) -> 10 | AC35: =VLOOKUP(E35,Sheet2!$E$9:$AE$343,24,0) -> A1 | AD35: =VLOOKUP(AC35,Sheet1!$B$2:$C$12,2,TRUE) -> 10 | AE35: =VLOOKUP(E35,Sheet2!$E$9:$AE$343,26,0) -> A2 | AF35: =VLOOKUP(AE35,Sheet1!$B$2:$C$12,2,TRUE) -> 9 | AG35: =(J35+L35+N35+P35+R35+T35+V35+X35+Z35+AB35+AD35+AF35)/12 -> 8.4166667 | AH35: =VLOOKUP(E35,'CAC DV GUI'!$C$5:$AF$401,27,0) -> Tốt | AI35: =VLOOKUP(E35,'CAC DV GUI'!$C$5:$AF$401,28,0) -> Tốt | AJ35: =VLOOKUP(E35,'CAC DV GUI'!$C$5:$AF$401,29,0) -> 0 | AM35: =AI35 -> Tốt
A36: =IF(E36="","",SUBTOTAL(3,$E$8:E36)) -> 29 | B36: =COUNTIF($F$8:F36,F36) -> 1 | C36: Bà | D36: Lưu Hoàng Hải Yến | E36: 01002019 | F36: P.TC-HC-TH | G36: TPĐV | H36: VC | I36: =VLOOKUP($E36,'[1]Gui chi Quynh'!$C$11:$E$397,3,0) -> A1 | J36: =VLOOKUP(I36,Sheet1!$B$2:$C$12,2,TRUE) -> 10 | K36: =VLOOKUP($E36,'[2]Gui chi Quynh'!$C$11:$E$397,3,0) -> A1 | L36: =VLOOKUP(K36,Sheet1!$B$2:$C$12,2,TRUE) -> 10 | M36: =VLOOKUP($E36,'[3]Gui chi Quynh'!$C$11:$E$396,3,0) -> A1 | N36: =VLOOKUP(M36,Sheet1!$B$2:$C$12,2,TRUE) -> 10 | O36: =VLOOKUP($E36,'[4]Gui chi Quynh'!$C$11:$E$396,3,0) -> A1 | P36: =VLOOKUP(O36,Sheet1!$B$2:$C$12,2,TRUE) -> 10 | Q36: =VLOOKUP($E36,'[5]Gui chi Quynh'!$C$11:$E$394,3,0) -> A1 | R36: =VLOOKUP(Q36,Sheet1!$B$2:$C$12,2,TRUE) -> 10 | S36: =VLOOKUP($E36,'[6]Gui chi Quynh'!$C$11:$E$393,3,0) -> A1 | T36: =VLOOKUP(S36,Sheet1!$B$2:$C$12,2,TRUE) -> 10 | U36: =VLOOKUP($E36,'[7]Gui chi Quynh'!$C$11:$E$392,3,0) -> A1 | V36: =VLOOKUP(U36,Sheet1!$B$2:$C$12,2,TRUE) -> 10 | W36: =VLOOKUP($E36,'[8]Gui chi Quynh'!$C$11:$F$391,3,0) -> A1 | X36: =VLOOKUP(W36,Sheet1!$B$2:$C$12,2,TRUE) -> 10 | Y36: =VLOOKUP($E36,'[9]Gui chi Quynh'!$C$11:$E$390,3,0) -> A1 | Z36: =VLOOKUP(Y36,Sheet1!$B$2:$C$12,2,TRUE) -> 10 | AA36: =VLOOKUP($E36,'[10]Gui chi Quynh'!$C$11:$E$391,3,0) -> A1 | AB36: =VLOOKUP(AA36,Sheet1!$B$2:$C$12,2,TRUE) -> 10 | AC36: =VLOOKUP(E36,Sheet2!$E$9:$AE$343,24,0) -> A1 | AD36: =VLOOKUP(AC36,Sheet1!$B$2:$C$12,2,TRUE) -> 10 | AE36: =VLOOKUP(E36,Sheet2!$E$9:$AE$343,26,0) -> A1 | AF36: =VLOOKUP(AE36,Sheet1!$B$2:$C$12,2,TRUE) -> 10 | AG36: =(J36+L36+N36+P36+R36+T36+V36+X36+Z36+AB36+AD36+AF36)/12 -> 10 | AH36: Tốt | AI36: Xuất sắc | AK36: Xuất sắc | AM36: Xuất sắc
A37: =IF(E37="","",SUBTOTAL(3,$E$8:E37)) -> 30 | B37: =COUNTIF($F$8:F37,F37) -> 2 | C37: Bà | D37: Huỳnh Thị Minh Ly | E37: 01004007 | F37: P.TC-HC-TH | G37: TPĐV | H37: VC | I37: =VLOOKUP($E37,'[1]Gui chi Quynh'!$C$11:$E$397,3,0) -> A1 | J37: =VLOOKUP(I37,Sheet1!$B$2:$C$12,2,TRUE) -> 10 | K37: =VLOOKUP($E37,'[2]Gui chi Quynh'!$C$11:$E$397,3,0) -> A1 | L37: =VLOOKUP(K37,Sheet1!$B$2:$C$12,2,TRUE) -> 10 | M37: =VLOOKUP($E37,'[3]Gui chi Quynh'!$C$11:$E$396,3,0) -> A1 | N37: =VLOOKUP(M37,Sheet1!$B$2:$C$12,2,TRUE) -> 10 | O37: =VLOOKUP($E37,'[4]Gui chi Quynh'!$C$11:$E$396,3,0) -> A1 | P37: =VLOOKUP(O37,Sheet1!$B$2:$C$12,2,TRUE) -> 10 | Q37: =VLOOKUP($E37,'[5]Gui chi Quynh'!$C$11:$E$394,3,0) -> A1 | R37: =VLOOKUP(Q37,Sheet1!$B$2:$C$12,2,TRUE) -> 10 | S37: =VLOOKUP($E37,'[6]Gui chi Quynh'!$C$11:$E$393,3,0) -> A1 | T37: =VLOOKUP(S37,Sheet1!$B$2:$C$12,2,TRUE) -> 10 | U37: =VLOOKUP($E37,'[7]Gui chi Quynh'!$C$11:$E$392,3,0) -> A1 | V37: =VLOOKUP(U37,Sheet1!$B$2:$C$12,2,TRUE) -> 10 | W37: =VLOOKUP($E37,'[8]Gui chi Quynh'!$C$11:$F$391,3,0) -> A1 | X37: =VLOOKUP(W37,Sheet1!$B$2:$C$12,2,TRUE) -> 10 | Y37: =VLOOKUP($E37,'[9]Gui chi Quynh'!$C$11:$E$390,3,0) -> A1 | Z37: =VLOOKUP(Y37,Sheet1!$B$2:$C$12,2,TRUE) -> 10 | AA37: =VLOOKUP($E37,'[10]Gui chi Quynh'!$C$11:$E$391,3,0) -> A1 | AB37: =VLOOKUP(AA37,Sheet1!$B$2:$C$12,2,TRUE) -> 10 | AC37: =VLOOKUP(E37,Sheet2!$E$9:$AE$343,24,0) -> A1 | AD37: =VLOOKUP(AC37,Sheet1!$B$2:$C$12,2,TRUE) -> 10 | AE37: =VLOOKUP(E37,Sheet2!$E$9:$AE$343,26,0) -> A1 | AF37: =VLOOKUP(AE37,Sheet1!$B$2:$C$12,2,TRUE) -> 10 | AG37: =(J37+L37+N37+P37+R37+T37+V37+X37+Z37+AB37+AD37+AF37)/12 -> 10 | AH37: Tốt | AI37: Xuất sắc | AK37: Xuất sắc | AM37: Tốt
A38: =IF(E38="","",SUBTOTAL(3,$E$8:E38)) -> 31 | B38: =COUNTIF($F$8:F38,F38) -> 3 | C38: Bà | D38: Vũ Như Quỳnh | E38: 01002017 | F38: P.TC-HC-TH | G38: GVNV | H38: VC | I38: =VLOOKUP($E38,'[1]Gui chi Quynh'!$C$11:$E$397,3,0) -> A2 | J38: =VLOOKUP(I38,Sheet1!$B$2:$C$12,2,TRUE) -> 9 | K38: =VLOOKUP($E38,'[2]Gui chi Quynh'!$C$11:$E$397,3,0) -> A2 | L38: =VLOOKUP(K38,Sheet1!$B$2:$C$12,2,TRUE) -> 9 | M38: =VLOOKUP($E38,'[3]Gui chi Quynh'!$C$11:$E$396,3,0) -> A2 | N38: =VLOOKUP(M38,Sheet1!$B$2:$C$12,2,TRUE) -> 9 | O38: =VLOOKUP($E38,'[4]Gui chi Quynh'!$C$11:$E$396,3,0) -> A3 | P38: =VLOOKUP(O38,Sheet1!$B$2:$C$12,2,TRUE) -> 8 | Q38: =VLOOKUP($E38,'[5]Gui chi Quynh'!$C$11:$E$394,3,0) -> A1 | R38: =VLOOKUP(Q38,Sheet1!$B$2:$C$12,2,TRUE) -> 10 | S38: =VLOOKUP($E38,'[6]Gui chi Quynh'!$C$11:$E$393,3,0) -> A1 | T38: =VLOOKUP(S38,Sheet1!$B$2:$C$12,2,TRUE) -> 10 | U38: =VLOOKUP($E38,'[7]Gui chi Quynh'!$C$11:$E$392,3,0) -> A1 | V38: =VLOOKUP(U38,Sheet1!$B$2:$C$12,2,TRUE) -> 10 | W38: =VLOOKUP($E38,'[8]Gui chi Quynh'!$C$11:$F$391,3,0) -> A2 | X38: =VLOOKUP(W38,Sheet1!$B$2:$C$12,2,TRUE) -> 9 | Y38: =VLOOKUP($E38,'[9]Gui chi Quynh'!$C$11:$E$390,3,0) -> A2 | Z38: =VLOOKUP(Y38,Sheet1!$B$2:$C$12,2,TRUE) -> 9 | AA38: =VLOOKUP($E38,'[10]Gui chi Quynh'!$C$11:$E$391,3,0) -> A3 | AB38: =VLOOKUP(AA38,Sheet1!$B$2:$C$12,2,TRUE) -> 8 | AC38: =VLOOKUP(E38,Sheet2!$E$9:$AE$343,24,0) -> A3 | AD38: =VLOOKUP(AC38,Sheet1!$B$2:$C$12,2,TRUE) -> 8 | AE38: =VLOOKUP(E38,Sheet2!$E$9:$AE$343,26,0) -> A2 | AF38: =VLOOKUP(AE38,Sheet1!$B$2:$C$12,2,TRUE) -> 9 | AG38: =(J38+L38+N38+P38+R38+T38+V38+X38+Z38+AB38+AD38+AF38)/12 -> 9 | AH38: Xuất sắc | AI38: Tốt | AM38: =AI38 -> Tốt
A39: =IF(E39="","",SUBTOTAL(3,$E$8:E39)) -> 32 | B39: =COUNTIF($F$8:F39,F39) -> 4 | C39: Bà | D39: Phan Thị Ngọc Phượng | E39: 01002018 | F39: P.TC-HC-TH | G39: GVNV | H39: VC | I39: =VLOOKUP($E39,'[1]Gui chi Quynh'!$C$11:$E$397,3,0) -> A1 | J39: =VLOOKUP(I39,Sheet1!$B$2:$C$12,2,TRUE) -> 10 | K39: =VLOOKUP($E39,'[2]Gui chi Quynh'!$C$11:$E$397,3,0) -> A1 | L39: =VLOOKUP(K39,Sheet1!$B$2:$C$12,2,TRUE) -> 10 | M39: =VLOOKUP($E39,'[3]Gui chi Quynh'!$C$11:$E$396,3,0) -> A1 | N39: =VLOOKUP(M39,Sheet1!$B$2:$C$12,2,TRUE) -> 10 | O39: =VLOOKUP($E39,'[4]Gui chi Quynh'!$C$11:$E$396,3,0) -> A2 | P39: =VLOOKUP(O39,Sheet1!$B$2:$C$12,2,TRUE) -> 9 | Q39: =VLOOKUP($E39,'[5]Gui chi Quynh'!$C$11:$E$394,3,0) -> A1 | R39: =VLOOKUP(Q39,Sheet1!$B$2:$C$12,2,TRUE) -> 10 | S39: =VLOOKUP($E39,'[6]Gui chi Quynh'!$C$11:$E$393,3,0) -> A1 | T39: =VLOOKUP(S39,Sheet1!$B$2:$C$12,2,TRUE) -> 10 | U39: =VLOOKUP($E39,'[7]Gui chi Quynh'!$C$11:$E$392,3,0) -> A1 | V39: =VLOOKUP(U39,Sheet1!$B$2:$C$12,2,TRUE) -> 10 | W39: =VLOOKUP($E39,'[8]Gui chi Quynh'!$C$11:$F$391,3,0) -> A2 | X39: =VLOOKUP(W39,Sheet1!$B$2:$C$12,2,TRUE) -> 9 | Y39: =VLOOKUP($E39,'[9]Gui chi Quynh'!$C$11:$E$390,3,0) -> A2 | Z39: =VLOOKUP(Y39,Sheet1!$B$2:$C$12,2,TRUE) -> 9 | AA39: =VLOOKUP($E39,'[10]Gui chi Quynh'!$C$11:$E$391,3,0) -> A3 | AB39: =VLOOKUP(AA39,Sheet1!$B$2:$C$12,2,TRUE) -> 8 | AC39: =VLOOKUP(E39,Sheet2!$E$9:$AE$343,24,0) -> A2 | AD39: =VLOOKUP(AC39,Sheet1!$B$2:$C$12,2,TRUE) -> 9 | AE39: =VLOOKUP(E39,Sheet2!$E$9:$AE$343,26,0) -> A2 | AF39: =VLOOKUP(AE39,Sheet1!$B$2:$C$12,2,TRUE) -> 9 | AG39: =(J39+L39+N39+P39+R39+T39+V39+X39+Z39+AB39+AD39+AF39)/12 -> 9.4166667 | AH39: Xuất sắc | AI39: Tốt | AM39: =AI39 -> Tốt
A40: =IF(E40="","",SUBTOTAL(3,$E$8:E40)) -> 33 | B40: =COUNTIF($F$8:F40,F40) -> 5 | C40: Bà | D40: Nguyễn Thị Bích Liễu | E40: 01002005 | F40: P.TC-HC-TH | G40: GVNV | H40: VC | I40: =VLOOKUP($E40,'[1]Gui chi Quynh'!$C$11:$E$397,3,0) -> A2 | J40: =VLOOKUP(I40,Sheet1!$B$2:$C$12,2,TRUE) -> 9 | K40: =VLOOKUP($E40,'[2]Gui chi Quynh'!$C$11:$E$397,3,0) -> A2 | L40: =VLOOKUP(K40,Sheet1!$B$2:$C$12,2,TRUE) -> 9 | M40: =VLOOKUP($E40,'[3]Gui chi Quynh'!$C$11:$E$396,3,0) -> A2 | N40: =VLOOKUP(M40,Sheet1!$B$2:$C$12,2,TRUE) -> 9 | O40: =VLOOKUP($E40,'[4]Gui chi Quynh'!$C$11:$E$396,3,0) -> A3 | P40: =VLOOKUP(O40,Sheet1!$B$2:$C$12,2,TRUE) -> 8 | Q40: =VLOOKUP($E40,'[5]Gui chi Quynh'!$C$11:$E$394,3,0) -> A1 | R40: =VLOOKUP(Q40,Sheet1!$B$2:$C$12,2,TRUE) -> 10 | S40: =VLOOKUP($E40,'[6]Gui chi Quynh'!$C$11:$E$393,3,0) -> A1 | T40: =VLOOKUP(S40,Sheet1!$B$2:$C$12,2,TRUE) -> 10 | U40: =VLOOKUP($E40,'[7]Gui chi Quynh'!$C$11:$E$392,3,0) -> A2 | V40: =VLOOKUP(U40,Sheet1!$B$2:$C$12,2,TRUE) -> 9 | W40: =VLOOKUP($E40,'[8]Gui chi Quynh'!$C$11:$F$391,3,0) -> A2 | X40: =VLOOKUP(W40,Sheet1!$B$2:$C$12,2,TRUE) -> 9 | Y40: =VLOOKUP($E40,'[9]Gui chi Quynh'!$C$11:$E$390,3,0) -> A2 | Z40: =VLOOKUP(Y40,Sheet1!$B$2:$C$12,2,TRUE) -> 9 | AA40: =VLOOKUP($E40,'[10]Gui chi Quynh'!$C$11:$E$391,3,0) -> A2 | AB40: =VLOOKUP(AA40,Sheet1!$B$2:$C$12,2,TRUE) -> 9 | AC40: =VLOOKUP(E40,Sheet2!$E$9:$AE$343,24,0) -> A3 | AD40: =VLOOKUP(AC40,Sheet1!$B$2:$C$12,2,TRUE) -> 8 | AE40: =VLOOKUP(E40,Sheet2!$E$9:$AE$343,26,0) -> A2 | AF40: =VLOOKUP(AE40,Sheet1!$B$2:$C$12,2,TRUE) -> 9 | AG40: =(J40+L40+N40+P40+R40+T40+V40+X40+Z40+AB40+AD40+AF40)/12 -> 9 | AH40: Tốt | AI40: Tốt | AM40: =AI40 -> Tốt | AO40: Xuất sắc
A41: =IF(E41="","",SUBTOTAL(3,$E$8:E41)) -> 34 | B41: =COUNTIF($F$8:F41,F41) -> 6 | C41: Ông | D41: Nguyễn Văn Chì | E41: 01023001 | F41: P.TC-HC-TH | G41: GVNV | H41: VC | I41: =VLOOKUP($E41,'[1]Gui chi Quynh'!$C$11:$E$397,3,0) -> A3 | J41: =VLOOKUP(I41,Sheet1!$B$2:$C$12,2,TRUE) -> 8 | K41: =VLOOKUP($E41,'[2]Gui chi Quynh'!$C$11:$E$397,3,0) -> A2 | L41: =VLOOKUP(K41,Sheet1!$B$2:$C$12,2,TRUE) -> 9 | M41: =VLOOKUP($E41,'[3]Gui chi Quynh'!$C$11:$E$396,3,0) -> A3 | N41: =VLOOKUP(M41,Sheet1!$B$2:$C$12,2,TRUE) -> 8 | O41: =VLOOKUP($E41,'[4]Gui chi Quynh'!$C$11:$E$396,3,0) -> A2 | P41: =VLOOKUP(O41,Sheet1!$B$2:$C$12,2,TRUE) -> 9 | Q41: =VLOOKUP($E41,'[5]Gui chi Quynh'!$C$11:$E$394,3,0) -> A2 | R41: =VLOOKUP(Q41,Sheet1!$B$2:$C$12,2,TRUE) -> 9 | S41: =VLOOKUP($E41,'[6]Gui chi Quynh'!$C$11:$E$393,3,0) -> A3 | T41: =VLOOKUP(S41,Sheet1!$B$2:$C$12,2,TRUE) -> 8 | U41: =VLOOKUP($E41,'[7]Gui chi Quynh'!$C$11:$E$392,3,0) -> A3 | V41: =VLOOKUP(U41,Sheet1!$B$2:$C$12,2,TRUE) -> 8 | W41: =VLOOKUP($E41,'[8]Gui chi Quynh'!$C$11:$F$391,3,0) -> A3 | X41: =VLOOKUP(W41,Sheet1!$B$2:$C$12,2,TRUE) -> 8 | Y41: =VLOOKUP($E41,'[9]Gui chi Quynh'!$C$11:$E$390,3,0) -> A2 | Z41: =VLOOKUP(Y41,Sheet1!$B$2:$C$12,2,TRUE) -> 9 | AA41: =VLOOKUP($E41,'[10]Gui chi Quynh'!$C$11:$E$391,3,0) -> A3 | AB41: =VLOOKUP(AA41,Sheet1!$B$2:$C$12,2,TRUE) -> 8 | AC41: =VLOOKUP(E41,Sheet2!$E$9:$AE$343,24,0) -> A3 | AD41: =VLOOKUP(AC41,Sheet1!$B$2:$C$12,2,TRUE) -> 8 | AE41: =VLOOKUP(E41,Sheet2!$E$9:$AE$343,26,0) -> A3 | AF41: =VLOOKUP(AE41,Sheet1!$B$2:$C$12,2,TRUE) -> 8 | AG41: =(J41+L41+N41+P41+R41+T41+V41+X41+Z41+AB41+AD41+AF41)/12 -> 8.3333333 | AH41: Tốt | AI41: Tốt | AM41: =AI41 -> Tốt
A42: =IF(E42="","",SUBTOTAL(3,$E$8:E42)) -> 35 | B42: =COUNTIF($F$8:F42,F42) -> 7 | C42: Bà | D42: Trần Thị Ánh Phượng | E42: 01017006 | F42: P.TC-HC-TH | G42: GVNV | H42: VC | I42: =VLOOKUP($E42,'[1]Gui chi Quynh'!$C$11:$E$397,3,0) -> A2 | J42: =VLOOKUP(I42,Sheet1!$B$2:$C$12,2,TRUE) -> 9 | K42: =VLOOKUP($E42,'[2]Gui chi Quynh'!$C$11:$E$397,3,0) -> A1 | L42: =VLOOKUP(K42,Sheet1!$B$2:$C$12,2,TRUE) -> 10 | M42: =VLOOKUP($E42,'[3]Gui chi Quynh'!$C$11:$E$396,3,0) -> A1 | N42: =VLOOKUP(M42,Sheet1!$B$2:$C$12,2,TRUE) -> 10 | O42: =VLOOKUP($E42,'[4]Gui chi Quynh'!$C$11:$E$396,3,0) -> A2 | P42: =VLOOKUP(O42,Sheet1!$B$2:$C$12,2,TRUE) -> 9 | Q42: =VLOOKUP($E42,'[5]Gui chi Quynh'!$C$11:$E$394,3,0) -> A1 | R42: =VLOOKUP(Q42,Sheet1!$B$2:$C$12,2,TRUE) -> 10 | S42: =VLOOKUP($E42,'[6]Gui chi Quynh'!$C$11:$E$393,3,0) -> A1 | T42: =VLOOKUP(S42,Sheet1!$B$2:$C$12,2,TRUE) -> 10 | U42: =VLOOKUP($E42,'[7]Gui chi Quynh'!$C$11:$E$392,3,0) -> A1 | V42: =VLOOKUP(U42,Sheet1!$B$2:$C$12,2,TRUE) -> 10 | W42: =VLOOKUP($E42,'[8]Gui chi Quynh'!$C$11:$F$391,3,0) -> A2 | X42: =VLOOKUP(W42,Sheet1!$B$2:$C$12,2,TRUE) -> 9 | Y42: =VLOOKUP($E42,'[9]Gui chi Quynh'!$C$11:$E$390,3,0) -> A2 | Z42: =VLOOKUP(Y42,Sheet1!$B$2:$C$12,2,TRUE) -> 9 | AA42: =VLOOKUP($E42,'[10]Gui chi Quynh'!$C$11:$E$391,3,0) -> A3 | AB42: =VLOOKUP(AA42,Sheet1!$B$2:$C$12,2,TRUE) -> 8 | AC42: =VLOOKUP(E42,Sheet2!$E$9:$AE$343,24,0) -> A2 | AD42: =VLOOKUP(AC42,Sheet1!$B$2:$C$12,2,TRUE) -> 9 | AE42: =VLOOKUP(E42,Sheet2!$E$9:$AE$343,26,0) -> A2 | AF42: =VLOOKUP(AE42,Sheet1!$B$2:$C$12,2,TRUE) -> 9 | AG42: =(J42+L42+N42+P42+R42+T42+V42+X42+Z42+AB42+AD42+AF42)/12 -> 9.3333333 | AH42: Xuất sắc | AI42: Tốt | AM42: =AI42 -> Tốt
A43: =IF(E43="","",SUBTOTAL(3,$E$8:E43)) -> 36 | B43: =COUNTIF($F$8:F43,F43) -> 8 | C43: Bà | D43: Nguyễn Thị Vân | E43: 01002032 | F43: P.TC-HC-TH | G43: GVNV | H43: VC | I43: =VLOOKUP($E43,'[1]Gui chi Quynh'!$C$11:$E$397,3,0) -> A2 | J43: =VLOOKUP(I43,Sheet1!$B$2:$C$12,2,TRUE) -> 9 | K43: =VLOOKUP($E43,'[2]Gui chi Quynh'!$C$11:$E$397,3,0) -> A2 | L43: =VLOOKUP(K43,Sheet1!$B$2:$C$12,2,TRUE) -> 9 | M43: =VLOOKUP($E43,'[3]Gui chi Quynh'!$C$11:$E$396,3,0) -> A2 | N43: =VLOOKUP(M43,Sheet1!$B$2:$C$12,2,TRUE) -> 9 | O43: =VLOOKUP($E43,'[4]Gui chi Quynh'!$C$11:$E$396,3,0) -> A2 | P43: =VLOOKUP(O43,Sheet1!$B$2:$C$12,2,TRUE) -> 9 | Q43: =VLOOKUP($E43,'[5]Gui chi Quynh'!$C$11:$E$394,3,0) -> A1 | R43: =VLOOKUP(Q43,Sheet1!$B$2:$C$12,2,TRUE) -> 10 | S43: =VLOOKUP($E43,'[6]Gui chi Quynh'!$C$11:$E$393,3,0) -> A1 | T43: =VLOOKUP(S43,Sheet1!$B$2:$C$12,2,TRUE) -> 10 | U43: =VLOOKUP($E43,'[7]Gui chi Quynh'!$C$11:$E$392,3,0) -> A3 | V43: =VLOOKUP(U43,Sheet1!$B$2:$C$12,2,TRUE) -> 8 | W43: =VLOOKUP($E43,'[8]Gui chi Quynh'!$C$11:$F$391,3,0) -> A2 | X43: =VLOOKUP(W43,Sheet1!$B$2:$C$12,2,TRUE) -> 9 | Y43: =VLOOKUP($E43,'[9]Gui chi Quynh'!$C$11:$E$390,3,0) -> A2 | Z43: =VLOOKUP(Y43,Sheet1!$B$2:$C$12,2,TRUE) -> 9 | AA43: =VLOOKUP($E43,'[10]Gui chi Quynh'!$C$11:$E$391,3,0) -> A2 | AB43: =VLOOKUP(AA43,Sheet1!$B$2:$C$12,2,TRUE) -> 9 | AC43: =VLOOKUP(E43,Sheet2!$E$9:$AE$343,24,0) -> A1 | AD43: =VLOOKUP(AC43,Sheet1!$B$2:$C$12,2,TRUE) -> 10 | AE43: =VLOOKUP(E43,Sheet2!$E$9:$AE$343,26,0) -> A3 | AF43: =VLOOKUP(AE43,Sheet1!$B$2:$C$12,2,TRUE) -> 8 | AG43: =(J43+L43+N43+P43+R43+T43+V43+X43+Z43+AB43+AD43+AF43)/12 -> 9.0833333 | AH43: Tốt | AI43: Xuất sắc | AM43: =AI43 -> Xuất sắc
A44: =IF(E44="","",SUBTOTAL(3,$E$8:E44)) -> 37 | B44: =COUNTIF($F$8:F44,F44) -> 9 | C44: Bà | D44: Trần Thị Phương Oanh | E44: 01007007 | F44: P.TC-HC-TH | G44: GVNV | H44: VC | I44: =VLOOKUP($E44,'[1]Gui chi Quynh'!$C$11:$E$397,3,0) -> A3 | J44: =VLOOKUP(I44,Sheet1!$B$2:$C$12,2,TRUE) -> 8 | K44: =VLOOKUP($E44,'[2]Gui chi Quynh'!$C$11:$E$397,3,0) -> A2 | L44: =VLOOKUP(K44,Sheet1!$B$2:$C$12,2,TRUE) -> 9 | M44: =VLOOKUP($E44,'[3]Gui chi Quynh'!$C$11:$E$396,3,0) -> A3 | N44: =VLOOKUP(M44,Sheet1!$B$2:$C$12,2,TRUE) -> 8 | O44: =VLOOKUP($E44,'[4]Gui chi Quynh'!$C$11:$E$396,3,0) -> A3 | P44: =VLOOKUP(O44,Sheet1!$B$2:$C$12,2,TRUE) -> 8 | Q44: =VLOOKUP($E44,'[5]Gui chi Quynh'!$C$11:$E$394,3,0) -> A2 | R44: =VLOOKUP(Q44,Sheet1!$B$2:$C$12,2,TRUE) -> 9 | S44: =VLOOKUP($E44,'[6]Gui chi Quynh'!$C$11:$E$393,3,0) -> A2 | T44: =VLOOKUP(S44,Sheet1!$B$2:$C$12,2,TRUE) -> 9 | U44: =VLOOKUP($E44,'[7]Gui chi Quynh'!$C$11:$E$392,3,0) -> A3 | V44: =VLOOKUP(U44,Sheet1!$B$2:$C$12,2,TRUE) -> 8 | W44: =VLOOKUP($E44,'[8]Gui chi Quynh'!$C$11:$F$391,3,0) -> A3 | X44: =VLOOKUP(W44,Sheet1!$B$2:$C$12,2,TRUE) -> 8 | Y44: =VLOOKUP($E44,'[9]Gui chi Quynh'!$C$11:$E$390,3,0) -> A3 | Z44: =VLOOKUP(Y44,Sheet1!$B$2:$C$12,2,TRUE) -> 8 | AA44: =VLOOKUP($E44,'[10]Gui chi Quynh'!$C$11:$E$391,3,0) -> A3 | AB44: =VLOOKUP(AA44,Sheet1!$B$2:$C$12,2,TRUE) -> 8 | AC44: =VLOOKUP(E44,Sheet2!$E$9:$AE$343,24,0) -> A3 | AD44: =VLOOKUP(AC44,Sheet1!$B$2:$C$12,2,TRUE) -> 8 | AE44: =VLOOKUP(E44,Sheet2!$E$9:$AE$343,26,0) -> A2 | AF44: =VLOOKUP(AE44,Sheet1!$B$2:$C$12,2,TRUE) -> 9 | AG44: =(J44+L44+N44+P44+R44+T44+V44+X44+Z44+AB44+AD44+AF44)/12 -> 8.3333333 | AH44: Tốt | AI44: Tốt | AM44: =AI44 -> Tốt
A45: =IF(E45="","",SUBTOTAL(3,$E$8:E45)) -> 38 | B45: =COUNTIF($F$8:F45,F45) -> 10 | C45: Bà | D45: Huỳnh Thị Xuân Mai | E45: 01007006 | F45: P.TC-HC-TH | G45: GVNV | H45: HĐT | I45: =VLOOKUP($E45,'[1]Gui chi Quynh'!$C$11:$E$397,3,0) -> A3 | J45: =VLOOKUP(I45,Sheet1!$B$2:$C$12,2,TRUE) -> 8 | K45: =VLOOKUP($E45,'[2]Gui chi Quynh'!$C$11:$E$397,3,0) -> A2 | L45: =VLOOKUP(K45,Sheet1!$B$2:$C$12,2,TRUE) -> 9 | M45: =VLOOKUP($E45,'[3]Gui chi Quynh'!$C$11:$E$396,3,0) -> A2 | N45: =VLOOKUP(M45,Sheet1!$B$2:$C$12,2,TRUE) -> 9 | O45: =VLOOKUP($E45,'[4]Gui chi Quynh'!$C$11:$E$396,3,0) -> A2 | P45: =VLOOKUP(O45,Sheet1!$B$2:$C$12,2,TRUE) -> 9 | Q45: =VLOOKUP($E45,'[5]Gui chi Quynh'!$C$11:$E$394,3,0) -> A3 | R45: =VLOOKUP(Q45,Sheet1!$B$2:$C$12,2,TRUE) -> 8 | S45: =VLOOKUP($E45,'[6]Gui chi Quynh'!$C$11:$E$393,3,0) -> A2 | T45: =VLOOKUP(S45,Sheet1!$B$2:$C$12,2,TRUE) -> 9 | U45: =VLOOKUP($E45,'[7]Gui chi Quynh'!$C$11:$E$392,3,0) -> A3 | V45: =VLOOKUP(U45,Sheet1!$B$2:$C$12,2,TRUE) -> 8 | W45: =VLOOKUP($E45,'[8]Gui chi Quynh'!$C$11:$F$391,3,0) -> A4 | X45: =VLOOKUP(W45,Sheet1!$B$2:$C$12,2,TRUE) -> 7 | Y45: =VLOOKUP($E45,'[9]Gui chi Quynh'!$C$11:$E$390,3,0) -> A3 | Z45: =VLOOKUP(Y45,Sheet1!$B$2:$C$12,2,TRUE) -> 8 | AA45: =VLOOKUP($E45,'[10]Gui chi Quynh'!$C$11:$E$391,3,0) -> A3 | AB45: =VLOOKUP(AA45,Sheet1!$B$2:$C$12,2,TRUE) -> 8 | AC45: =VLOOKUP(E45,Sheet2!$E$9:$AE$343,24,0) -> A3 | AD45: =VLOOKUP(AC45,Sheet1!$B$2:$C$12,2,TRUE) -> 8 | AE45: =VLOOKUP(E45,Sheet2!$E$9:$AE$343,26,0) -> A4 | AF45: =VLOOKUP(AE45,Sheet1!$B$2:$C$12,2,TRUE) -> 7 | AG45: =(J45+L45+N45+P45+R45+T45+V45+X45+Z45+AB45+AD45+AF45)/12 -> 8.1666667 | AH45: Tốt | AI45: Tốt | AM45: =AI45 -> Tốt
A46: =IF(E46="","",SUBTOTAL(3,$E$8:E46)) -> 39 | B46: =COUNTIF($F$8:F46,F46) -> 11 | C46: Ông | D46: Trần Văn Cu Anh | E46: 01002007 | F46: P.TC-HC-TH | G46: GVNV | H46: HĐT | I46: =VLOOKUP($E46,'[1]Gui chi Quynh'!$C$11:$E$397,3,0) -> A4 | J46: =VLOOKUP(I46,Sheet1!$B$2:$C$12,2,TRUE) -> 7 | K46: =VLOOKUP($E46,'[2]Gui chi Quynh'!$C$11:$E$397,3,0) -> A3 | L46: =VLOOKUP(K46,Sheet1!$B$2:$C$12,2,TRUE) -> 8 | M46: =VLOOKUP($E46,'[3]Gui chi Quynh'!$C$11:$E$396,3,0) -> A3 | N46: =VLOOKUP(M46,Sheet1!$B$2:$C$12,2,TRUE) -> 8 | O46: =VLOOKUP($E46,'[4]Gui chi Quynh'!$C$11:$E$396,3,0) -> A3 | P46: =VLOOKUP(O46,Sheet1!$B$2:$C$12,2,TRUE) -> 8 | Q46: =VLOOKUP($E46,'[5]Gui chi Quynh'!$C$11:$E$394,3,0) -> A3 | R46: =VLOOKUP(Q46,Sheet1!$B$2:$C$12,2,TRUE) -> 8 | S46: =VLOOKUP($E46,'[6]Gui chi Quynh'!$C$11:$E$393,3,0) -> A4 | T46: =VLOOKUP(S46,Sheet1!$B$2:$C$12,2,TRUE) -> 7 | U46: =VLOOKUP($E46,'[7]Gui chi Quynh'!$C$11:$E$392,3,0) -> A3 | V46: =VLOOKUP(U46,Sheet1!$B$2:$C$12,2,TRUE) -> 8 | W46: =VLOOKUP($E46,'[8]Gui chi Quynh'!$C$11:$F$391,3,0) -> A3 | X46: =VLOOKUP(W46,Sheet1!$B$2:$C$12,2,TRUE) -> 8 | Y46: =VLOOKUP($E46,'[9]Gui chi Quynh'!$C$11:$E$390,3,0) -> A4 | Z46: =VLOOKUP(Y46,Sheet1!$B$2:$C$12,2,TRUE) -> 7 | AA46: =VLOOKUP($E46,'[10]Gui chi Quynh'!$C$11:$E$391,3,0) -> A4 | AB46: =VLOOKUP(AA46,Sheet1!$B$2:$C$12,2,TRUE) -> 7 | AC46: =VLOOKUP(E46,Sheet2!$E$9:$AE$343,24,0) -> A3 | AD46: =VLOOKUP(AC46,Sheet1!$B$2:$C$12,2,TRUE) -> 8 | AE46: =VLOOKUP(E46,Sheet2!$E$9:$AE$343,26,0) -> A4 | AF46: =VLOOKUP(AE46,Sheet1!$B$2:$C$12,2,TRUE) -> 7 | AG46: =(J46+L46+N46+P46+R46+T46+V46+X46+Z46+AB46+AD46+AF46)/12 -> 7.5833333 | AH46: Tốt | AI46: Tốt | AM46: =AI46 -> Tốt
A47: =IF(E47="","",SUBTOTAL(3,$E$8:E47)) -> 40 | B47: =COUNTIF($F$8:F47,F47) -> 12 | C47: Ông | D47: Nguyễn Hữu Xuân Vũ | E47: 01002010 | F47: P.TC-HC-TH | G47: GVNV | H47: HĐT | I47: =VLOOKUP($E47,'[1]Gui chi Quynh'!$C$11:$E$397,3,0) -> A3 | J47: =VLOOKUP(I47,Sheet1!$B$2:$C$12,2,TRUE) -> 8 | K47: =VLOOKUP($E47,'[2]Gui chi Quynh'!$C$11:$E$397,3,0) -> A3 | L47: =VLOOKUP(K47,Sheet1!$B$2:$C$12,2,TRUE) -> 8 | M47: =VLOOKUP($E47,'[3]Gui chi Quynh'!$C$11:$E$396,3,0) -> A2 | N47: =VLOOKUP(M47,Sheet1!$B$2:$C$12,2,TRUE) -> 9 | O47: =VLOOKUP($E47,'[4]Gui chi Quynh'!$C$11:$E$396,3,0) -> A3 | P47: =VLOOKUP(O47,Sheet1!$B$2:$C$12,2,TRUE) -> 8 | Q47: =VLOOKUP($E47,'[5]Gui chi Quynh'!$C$11:$E$394,3,0) -> A2 | R47: =VLOOKUP(Q47,Sheet1!$B$2:$C$12,2,TRUE) -> 9 | S47: =VLOOKUP($E47,'[6]Gui chi Quynh'!$C$11:$E$393,3,0) -> A3 | T47: =VLOOKUP(S47,Sheet1!$B$2:$C$12,2,TRUE) -> 8 | U47: =VLOOKUP($E47,'[7]Gui chi Quynh'!$C$11:$E$392,3,0) -> A3 | V47: =VLOOKUP(U47,Sheet1!$B$2:$C$12,2,TRUE) -> 8 | W47: =VLOOKUP($E47,'[8]Gui chi Quynh'!$C$11:$F$391,3,0) -> A3 | X47: =VLOOKUP(W47,Sheet1!$B$2:$C$12,2,TRUE) -> 8 | Y47: =VLOOKUP($E47,'[9]Gui chi Quynh'!$C$11:$E$390,3,0) -> A2 | Z47: =VLOOKUP(Y47,Sheet1!$B$2:$C$12,2,TRUE) -> 9 | AA47: =VLOOKUP($E47,'[10]Gui chi Quynh'!$C$11:$E$391,3,0) -> A4 | AB47: =VLOOKUP(AA47,Sheet1!$B$2:$C$12,2,TRUE) -> 7 | AC47: =VLOOKUP(E47,Sheet2!$E$9:$AE$343,24,0) -> A3 | AD47: =VLOOKUP(AC47,Sheet1!$B$2:$C$12,2,TRUE) -> 8 | AE47: =VLOOKUP(E47,Sheet2!$E$9:$AE$343,26,0) -> A3 | AF47: =VLOOKUP(AE47,Sheet1!$B$2:$C$12,2,TRUE) -> 8 | AG47: =(J47+L47+N47+P47+R47+T47+V47+X47+Z47+AB47+AD47+AF47)/12 -> 8.1666667 | AH47: Tốt | AI47: Tốt | AM47: =AI47 -> Tốt
A48: =IF(E48="","",SUBTOTAL(3,$E$8:E48)) -> 41 | B48: =COUNTIF($F$8:F48,F48) -> 13 | C48: Ông | D48: Lê Hồng Phúc | E48: 01002012 | F48: P.TC-HC-TH | G48: GVNV | H48: HĐT | I48: =VLOOKUP($E48,'[1]Gui chi Quynh'!$C$11:$E$397,3,0) -> A4 | J48: =VLOOKUP(I48,Sheet1!$B$2:$C$12,2,TRUE) -> 7 | K48: =VLOOKUP($E48,'[2]Gui chi Quynh'!$C$11:$E$397,3,0) -> A4 | L48: =VLOOKUP(K48,Sheet1!$B$2:$C$12,2,TRUE) -> 7 | M48: =VLOOKUP($E48,'[3]Gui chi Quynh'!$C$11:$E$396,3,0) -> A3 | N48: =VLOOKUP(M48,Sheet1!$B$2:$C$12,2,TRUE) -> 8 | O48: =VLOOKUP($E48,'[4]Gui chi Quynh'!$C$11:$E$396,3,0) -> A4 | P48: =VLOOKUP(O48,Sheet1!$B$2:$C$12,2,TRUE) -> 7 | Q48: =VLOOKUP($E48,'[5]Gui chi Quynh'!$C$11:$E$394,3,0) -> A3 | R48: =VLOOKUP(Q48,Sheet1!$B$2:$C$12,2,TRUE) -> 8 | S48: =VLOOKUP($E48,'[6]Gui chi Quynh'!$C$11:$E$393,3,0) -> A4 | T48: =VLOOKUP(S48,Sheet1!$B$2:$C$12,2,TRUE) -> 7 | U48: =VLOOKUP($E48,'[7]Gui chi Quynh'!$C$11:$E$392,3,0) -> A3 | V48: =VLOOKUP(U48,Sheet1!$B$2:$C$12,2,TRUE) -> 8 | W48: =VLOOKUP($E48,'[8]Gui chi Quynh'!$C$11:$F$391,3,0) -> A3 | X48: =VLOOKUP(W48,Sheet1!$B$2:$C$12,2,TRUE) -> 8 | Y48: =VLOOKUP($E48,'[9]Gui chi Quynh'!$C$11:$E$390,3,0) -> A4 | Z48: =VLOOKUP(Y48,Sheet1!$B$2:$C$12,2,TRUE) -> 7 | AA48: =VLOOKUP($E48,'[10]Gui chi Quynh'!$C$11:$E$391,3,0) -> A4 | AB48: =VLOOKUP(AA48,Sheet1!$B$2:$C$12,2,TRUE) -> 7 | AC48: =VLOOKUP(E48,Sheet2!$E$9:$AE$343,24,0) -> A3 | AD48: =VLOOKUP(AC48,Sheet1!$B$2:$C$12,2,TRUE) -> 8 | AE48: =VLOOKUP(E48,Sheet2!$E$9:$AE$343,26,0) -> A4 | AF48: =VLOOKUP(AE48,Sheet1!$B$2:$C$12,2,TRUE) -> 7 | AG48: =(J48+L48+N48+P48+R48+T48+V48+X48+Z48+AB48+AD48+AF48)/12 -> 7.4166667 | AH48: Tốt | AI48: Tốt | AM48: =AI48 -> Tốt
A49: =IF(E49="","",SUBTOTAL(3,$E$8:E49)) -> 42 | B49: =COUNTIF($F$8:F49,F49) -> 14 | C49: Ông | D49: Phạm Hữu Thành Phú | E49: 01002028 | F49: P.TC-HC-TH | G49: GVNV | H49: HĐT | I49: =VLOOKUP($E49,'[1]Gui chi Quynh'!$C$11:$E$397,3,0) -> A3 | J49: =VLOOKUP(I49,Sheet1!$B$2:$C$12,2,TRUE) -> 8 | K49: =VLOOKUP($E49,'[2]Gui chi Quynh'!$C$11:$E$397,3,0) -> A4 | L49: =VLOOKUP(K49,Sheet1!$B$2:$C$12,2,TRUE) -> 7 | M49: =VLOOKUP($E49,'[3]Gui chi Quynh'!$C$11:$E$396,3,0) -> A3 | N49: =VLOOKUP(M49,Sheet1!$B$2:$C$12,2,TRUE) -> 8 | O49: =VLOOKUP($E49,'[4]Gui chi Quynh'!$C$11:$E$396,3,0) -> A3 | P49: =VLOOKUP(O49,Sheet1!$B$2:$C$12,2,TRUE) -> 8 | Q49: =VLOOKUP($E49,'[5]Gui chi Quynh'!$C$11:$E$394,3,0) -> A3 | R49: =VLOOKUP(Q49,Sheet1!$B$2:$C$12,2,TRUE) -> 8 | S49: =VLOOKUP($E49,'[6]Gui chi Quynh'!$C$11:$E$393,3,0) -> A3 | T49: =VLOOKUP(S49,Sheet1!$B$2:$C$12,2,TRUE) -> 8 | U49: =VLOOKUP($E49,'[7]Gui chi Quynh'!$C$11:$E$392,3,0) -> A3 | V49: =VLOOKUP(U49,Sheet1!$B$2:$C$12,2,TRUE) -> 8 | W49: =VLOOKUP($E49,'[8]Gui chi Quynh'!$C$11:$F$391,3,0) -> A3 | X49: =VLOOKUP(W49,Sheet1!$B$2:$C$12,2,TRUE) -> 8 | Y49: =VLOOKUP($E49,'[9]Gui chi Quynh'!$C$11:$E$390,3,0) -> A3 | Z49: =VLOOKUP(Y49,Sheet1!$B$2:$C$12,2,TRUE) -> 8 | AA49: =VLOOKUP($E49,'[10]Gui chi Quynh'!$C$11:$E$391,3,0) -> A3 | AB49: =VLOOKUP(AA49,Sheet1!$B$2:$C$12,2,TRUE) -> 8 | AC49: =VLOOKUP(E49,Sheet2!$E$9:$AE$343,24,0) -> A3 | AD49: =VLOOKUP(AC49,Sheet1!$B$2:$C$12,2,TRUE) -> 8 | AE49: =VLOOKUP(E49,Sheet2!$E$9:$AE$343,26,0) -> A4 | AF49: =VLOOKUP(AE49,Sheet1!$B$2:$C$12,2,TRUE) -> 7 | AG49: =(J49+L49+N49+P49+R49+T49+V49+X49+Z49+AB49+AD49+AF49)/12 -> 7.8333333 | AH49: Xuất sắc | AI49: Xuất sắc | AM49: =AI49 -> Xuất sắc
A50: =IF(E50="","",SUBTOTAL(3,$E$8:E50)) -> 43 | B50: =COUNTIF($F$8:F50,F50) -> 15 | C50: Ông | D50: Huỳnh Thanh Nhàn | E50: 01002027 | F50: P.TC-HC-TH | G50: GVNV | H50: HĐT | I50: =VLOOKUP($E50,'[1]Gui chi Quynh'!$C$11:$E$397,3,0) -> A3 | J50: =VLOOKUP(I50,Sheet1!$B$2:$C$12,2,TRUE) -> 8 | K50: =VLOOKUP($E50,'[2]Gui chi Quynh'!$C$11:$E$397,3,0) -> A3 | L50: =VLOOKUP(K50,Sheet1!$B$2:$C$12,2,TRUE) -> 8 | M50: =VLOOKUP($E50,'[3]Gui chi Quynh'!$C$11:$E$396,3,0) -> A3 | N50: =VLOOKUP(M50,Sheet1!$B$2:$C$12,2,TRUE) -> 8 | O50: =VLOOKUP($E50,'[4]Gui chi Quynh'!$C$11:$E$396,3,0) -> A3 | P50: =VLOOKUP(O50,Sheet1!$B$2:$C$12,2,TRUE) -> 8 | Q50: =VLOOKUP($E50,'[5]Gui chi Quynh'!$C$11:$E$394,3,0) -> A3 | R50: =VLOOKUP(Q50,Sheet1!$B$2:$C$12,2,TRUE) -> 8 | S50: =VLOOKUP($E50,'[6]Gui chi Quynh'!$C$11:$E$393,3,0) -> A2 | T50: =VLOOKUP(S50,Sheet1!$B$2:$C$12,2,TRUE) -> 9 | U50: =VLOOKUP($E50,'[7]Gui chi Quynh'!$C$11:$E$392,3,0) -> A2 | V50: =VLOOKUP(U50,Sheet1!$B$2:$C$12,2,TRUE) -> 9 | W50: =VLOOKUP($E50,'[8]Gui chi Quynh'!$C$11:$F$391,3,0) -> A2 | X50: =VLOOKUP(W50,Sheet1!$B$2:$C$12,2,TRUE) -> 9 | Y50: =VLOOKUP($E50,'[9]Gui chi Quynh'!$C$11:$E$390,3,0) -> A3 | Z50: =VLOOKUP(Y50,Sheet1!$B$2:$C$12,2,TRUE) -> 8 | AA50: =VLOOKUP($E50,'[10]Gui chi Quynh'!$C$11:$E$391,3,0) -> A3 | AB50: =VLOOKUP(AA50,Sheet1!$B$2:$C$12,2,TRUE) -> 8 | AC50: =VLOOKUP(E50,Sheet2!$E$9:$AE$343,24,0) -> A4 | AD50: =VLOOKUP(AC50,Sheet1!$B$2:$C$12,2,TRUE) -> 7 | AE50: =VLOOKUP(E50,Sheet2!$E$9:$AE$343,26,0) -> A4 | AF50: =VLOOKUP(AE50,Sheet1!$B$2:$C$12,2,TRUE) -> 7 | AG50: =(J50+L50+N50+P50+R50+T50+V50+X50+Z50+AB50+AD50+AF50)/12 -> 8.0833333 | AH50: Tốt | AI50: Tốt | AM50: =AI50 -> Tốt
A51: =IF(E51="","",SUBTOTAL(3,$E$8:E51)) -> 44 | B51: =COUNTIF($F$8:F51,F51) -> 16 | C51: Ông | D51: Đồng Anh Tuấn | E51: 01002013 | F51: P.TC-HC-TH | G51: GVNV | H51: HĐT | I51: =VLOOKUP($E51,'[1]Gui chi Quynh'!$C$11:$E$397,3,0) -> A4 | J51: =VLOOKUP(I51,Sheet1!$B$2:$C$12,2,TRUE) -> 7 | K51: =VLOOKUP($E51,'[2]Gui chi Quynh'!$C$11:$E$397,3,0) -> A4 | L51: =VLOOKUP(K51,Sheet1!$B$2:$C$12,2,TRUE) -> 7 | M51: =VLOOKUP($E51,'[3]Gui chi Quynh'!$C$11:$E$396,3,0) -> A3 | N51: =VLOOKUP(M51,Sheet1!$B$2:$C$12,2,TRUE) -> 8 | O51: =VLOOKUP($E51,'[4]Gui chi Quynh'!$C$11:$E$396,3,0) -> A4 | P51: =VLOOKUP(O51,Sheet1!$B$2:$C$12,2,TRUE) -> 7 | Q51: =VLOOKUP($E51,'[5]Gui chi Quynh'!$C$11:$E$394,3,0) -> A3 | R51: =VLOOKUP(Q51,Sheet1!$B$2:$C$12,2,TRUE) -> 8 | S51: =VLOOKUP($E51,'[6]Gui chi Quynh'!$C$11:$E$393,3,0) -> A4 | T51: =VLOOKUP(S51,Sheet1!$B$2:$C$12,2,TRUE) -> 7 | U51: =VLOOKUP($E51,'[7]Gui chi Quynh'!$C$11:$E$392,3,0) -> A3 | V51: =VLOOKUP(U51,Sheet1!$B$2:$C$12,2,TRUE) -> 8 | W51: =VLOOKUP($E51,'[8]Gui chi Quynh'!$C$11:$F$391,3,0) -> A3 | X51: =VLOOKUP(W51,Sheet1!$B$2:$C$12,2,TRUE) -> 8 | Y51: =VLOOKUP($E51,'[9]Gui chi Quynh'!$C$11:$E$390,3,0) -> A4 | Z51: =VLOOKUP(Y51,Sheet1!$B$2:$C$12,2,TRUE) -> 7 | AA51: =VLOOKUP($E51,'[10]Gui chi Quynh'!$C$11:$E$391,3,0) -> A4 | AB51: =VLOOKUP(AA51,Sheet1!$B$2:$C$12,2,TRUE) -> 7 | AC51: =VLOOKUP(E51,Sheet2!$E$9:$AE$343,24,0) -> A4 | AD51: =VLOOKUP(AC51,Sheet1!$B$2:$C$12,2,TRUE) -> 7 | AE51: =VLOOKUP(E51,Sheet2!$E$9:$AE$343,26,0) -> A4 | AF51: =VLOOKUP(AE51,Sheet1!$B$2:$C$12,2,TRUE) -> 7 | AG51: =(J51+L51+N51+P51+R51+T51+V51+X51+Z51+AB51+AD51+AF51)/12 -> 7.3333333 | AH51: Tốt | AI51: Tốt | AM51: =AI51 -> Tốt
A52: =IF(E52="","",SUBTOTAL(3,$E$8:E52)) -> 45 | B52: =COUNTIF($F$8:F52,F52) -> 17 | C52: Ông | D52: Nguyễn Thanh Hiền | E52: 01002033 | F52: P.TC-HC-TH | G52: GVNV | H52: HĐT | I52: =VLOOKUP($E52,'[1]Gui chi Quynh'!$C$11:$E$397,3,0) -> A3 | J52: =VLOOKUP(I52,Sheet1!$B$2:$C$12,2,TRUE) -> 8 | K52: =VLOOKUP($E52,'[2]Gui chi Quynh'!$C$11:$E$397,3,0) -> A3 | L52: =VLOOKUP(K52,Sheet1!$B$2:$C$12,2,TRUE) -> 8 | M52: =VLOOKUP($E52,'[3]Gui chi Quynh'!$C$11:$E$396,3,0) -> A3 | N52: =VLOOKUP(M52,Sheet1!$B$2:$C$12,2,TRUE) -> 8 | O52: =VLOOKUP($E52,'[4]Gui chi Quynh'!$C$11:$E$396,3,0) -> A3 | P52: =VLOOKUP(O52,Sheet1!$B$2:$C$12,2,TRUE) -> 8 | Q52: =VLOOKUP($E52,'[5]Gui chi Quynh'!$C$11:$E$394,3,0) -> A3 | R52: =VLOOKUP(Q52,Sheet1!$B$2:$C$12,2,TRUE) -> 8 | S52: =VLOOKUP($E52,'[6]Gui chi Quynh'!$C$11:$E$393,3,0) -> A3 | T52: =VLOOKUP(S52,Sheet1!$B$2:$C$12,2,TRUE) -> 8 | U52: =VLOOKUP($E52,'[7]Gui chi Quynh'!$C$11:$E$392,3,0) -> A2 | V52: =VLOOKUP(U52,Sheet1!$B$2:$C$12,2,TRUE) -> 9 | W52: =VLOOKUP($E52,'[8]Gui chi Quynh'!$C$11:$F$391,3,0) -> A3 | X52: =VLOOKUP(W52,Sheet1!$B$2:$C$12,2,TRUE) -> 8 | Y52: =VLOOKUP($E52,'[9]Gui chi Quynh'!$C$11:$E$390,3,0) -> A3 | Z52: =VLOOKUP(Y52,Sheet1!$B$2:$C$12,2,TRUE) -> 8 | AA52: =VLOOKUP($E52,'[10]Gui chi Quynh'!$C$11:$E$391,3,0) -> A3 | AB52: =VLOOKUP(AA52,Sheet1!$B$2:$C$12,2,TRUE) -> 8 | AC52: =VLOOKUP(E52,Sheet2!$E$9:$AE$343,24,0) -> A4 | AD52: =VLOOKUP(AC52,Sheet1!$B$2:$C$12,2,TRUE) -> 7 | AE52: =VLOOKUP(E52,Sheet2!$E$9:$AE$343,26,0) -> A4 | AF52: =VLOOKUP(AE52,Sheet1!$B$2:$C$12,2,TRUE) -> 7 | AG52: =(J52+L52+N52+P52+R52+T52+V52+X52+Z52+AB52+AD52+AF52)/12 -> 7.9166667 | AH52: Tốt | AI52: Tốt | AM52: =AI52 -> Tốt
... A57: =IF(E57="","",SUBTOTAL(3,$E$8:E57)) -> 50 | B57: =COUNTIF($F$8:F57,F57) -> 22 | C57: Bà | D57: Huỳnh Ngọc Liên | E57: 01002036 | F57: P.TC-HC-TH | G57: GVNV | H57: HĐT | I57: =VLOOKUP($E57,'[1]Gui chi Quynh'!$C$11:$E$397,3,0) -> A2 | J57: =VLOOKUP(I57,Sheet1!$B$2:$C$12,2,TRUE) -> 9 | K57: =VLOOKUP($E57,'[2]Gui chi Quynh'!$C$11:$E$397,3,0) -> A2 | L57: =VLOOKUP(K57,Sheet1!$B$2:$C$12,2,TRUE) -> 9 | M57: =VLOOKUP($E57,'[3]Gui chi Quynh'!$C$11:$E$396,3,0) -> A2 | N57: =VLOOKUP(M57,Sheet1!$B$2:$C$12,2,TRUE) -> 9 | O57: =VLOOKUP($E57,'[4]Gui chi Quynh'!$C$11:$E$396,3,0) -> A2 | P57: =VLOOKUP(O57,Sheet1!$B$2:$C$12,2,TRUE) -> 9 | Q57: =VLOOKUP($E57,'[5]Gui chi Quynh'!$C$11:$E$394,3,0) -> A2 | R57: =VLOOKUP(Q57,Sheet1!$B$2:$C$12,2,TRUE) -> 9 | S57: =VLOOKUP($E57,'[6]Gui chi Quynh'!$C$11:$E$393,3,0) -> A3 | T57: =VLOOKUP(S57,Sheet1!$B$2:$C$12,2,TRUE) -> 8 | U57: =VLOOKUP($E57,'[7]Gui chi Quynh'!$C$11:$E$392,3,0) -> A2 | V57: =VLOOKUP(U57,Sheet1!$B$2:$C$12,2,TRUE) -> 9 | W57: =VLOOKUP($E57,'[8]Gui chi Quynh'!$C$11:$F$391,3,0) -> A3 | X57: =VLOOKUP(W57,Sheet1!$B$2:$C$12,2,TRUE) -> 8 | Y57: =VLOOKUP($E57,'[9]Gui chi Quynh'!$C$11:$E$390,3,0) -> A2 | Z57: =VLOOKUP(Y57,Sheet1!$B$2:$C$12,2,TRUE) -> 9 | AA57: =VLOOKUP($E57,'[10]Gui chi Quynh'!$C$11:$E$391,3,0) -> A3 | AB57: =VLOOKUP(AA57,Sheet1!$B$2:$C$12,2,TRUE) -> 8 | AC57: =VLOOKUP(E57,Sheet2!$E$9:$AE$343,24,0) -> A3 | AD57: =VLOOKUP(AC57,Sheet1!$B$2:$C$12,2,TRUE) -> 8 | AE57: =VLOOKUP(E57,Sheet2!$E$9:$AE$343,26,0) -> A2 | AF57: =VLOOKUP(AE57,Sheet1!$B$2:$C$12,2,TRUE) -> 9 | AG57: =(J57+L57+N57+P57+R57+T57+V57+X57+Z57+AB57+AD57+AF57)/12 -> 8.6666667 | AH57: Tốt | AI57: Tốt | AM57: =AI57 -> Tốt
A58: =IF(E58="","",SUBTOTAL(3,$E$8:E58)) -> 51 | B58: =COUNTIF($F$8:F58,F58) -> 1 | C58: Ông | D58: Nguyễn Văn Chiến | E58: 01007008 | F58: P.TTGD-QHDN | G58: TPĐV | H58: VC | I58: =VLOOKUP($E58,'[1]Gui chi Quynh'!$C$11:$E$397,3,0) -> A2 | J58: =VLOOKUP(I58,Sheet1!$B$2:$C$12,2,TRUE) -> 9 | K58: =VLOOKUP($E58,'[2]Gui chi Quynh'!$C$11:$E$397,3,0) -> A2 | L58: =VLOOKUP(K58,Sheet1!$B$2:$C$12,2,TRUE) -> 9 | M58: =VLOOKUP($E58,'[3]Gui chi Quynh'!$C$11:$E$396,3,0) -> A2 | N58: =VLOOKUP(M58,Sheet1!$B$2:$C$12,2,TRUE) -> 9 | O58: =VLOOKUP($E58,'[4]Gui chi Quynh'!$C$11:$E$396,3,0) -> A1 | P58: =VLOOKUP(O58,Sheet1!$B$2:$C$12,2,TRUE) -> 10 | Q58: =VLOOKUP($E58,'[5]Gui chi Quynh'!$C$11:$E$394,3,0) -> A1 | R58: =VLOOKUP(Q58,Sheet1!$B$2:$C$12,2,TRUE) -> 10 | S58: =VLOOKUP($E58,'[6]Gui chi Quynh'!$C$11:$E$393,3,0) -> A1 | T58: =VLOOKUP(S58,Sheet1!$B$2:$C$12,2,TRUE) -> 10 | U58: =VLOOKUP($E58,'[7]Gui chi Quynh'!$C$11:$E$392,3,0) -> A2 | V58: =VLOOKUP(U58,Sheet1!$B$2:$C$12,2,TRUE) -> 9 | W58: =VLOOKUP($E58,'[8]Gui chi Quynh'!$C$11:$F$391,3,0) -> A2 | X58: =VLOOKUP(W58,Sheet1!$B$2:$C$12,2,TRUE) -> 9 | Y58: =VLOOKUP($E58,'[9]Gui chi Quynh'!$C$11:$E$390,3,0) -> A1 | Z58: =VLOOKUP(Y58,Sheet1!$B$2:$C$12,2,TRUE) -> 10 | AA58: =VLOOKUP($E58,'[10]Gui chi Quynh'!$C$11:$E$391,3,0) -> A1 | AB58: =VLOOKUP(AA58,Sheet1!$B$2:$C$12,2,TRUE) -> 10 | AC58: =VLOOKUP(E58,Sheet2!$E$9:$AE$343,24,0) -> A1 | AD58: =VLOOKUP(AC58,Sheet1!$B$2:$C$12,2,TRUE) -> 10 | AE58: =VLOOKUP(E58,Sheet2!$E$9:$AE$343,26,0) -> A2 | AF58: =VLOOKUP(AE58,Sheet1!$B$2:$C$12,2,TRUE) -> 9 | AG58: =(J58+L58+N58+P58+R58+T58+V58+X58+Z58+AB58+AD58+AF58)/12 -> 9.5 | AH58: =VLOOKUP(E58,'CAC DV GUI'!$C$5:$AF$401,27,0) -> Xuất sắc | AI58: =VLOOKUP(E58,'CAC DV GUI'!$C$5:$AF$401,28,0) -> Xuất sắc | AJ58: =VLOOKUP(E58,'CAC DV GUI'!$C$5:$AF$401,29,0) -> 0 | AK58: Xuất sắc | AM58: Tốt
A59: =IF(E59="","",SUBTOTAL(3,$E$8:E59)) -> 52 | B59: =COUNTIF($F$8:F59,F59) -> 2 | C59: Bà | D59: Nguyễn Thị Kim Anh | E59: 01009018 | F59: P.TTGD-QHDN | G59: GVNV | H59: VC | I59: =VLOOKUP($E59,'[1]Gui chi Quynh'!$C$11:$E$397,3,0) -> A3 | J59: =VLOOKUP(I59,Sheet1!$B$2:$C$12,2,TRUE) -> 8 | K59: =VLOOKUP($E59,'[2]Gui chi Quynh'!$C$11:$E$397,3,0) -> A3 | L59: =VLOOKUP(K59,Sheet1!$B$2:$C$12,2,TRUE) -> 8 | M59: =VLOOKUP($E59,'[3]Gui chi Quynh'!$C$11:$E$396,3,0) -> A3 | N59: =VLOOKUP(M59,Sheet1!$B$2:$C$12,2,TRUE) -> 8 | O59: =VLOOKUP($E59,'[4]Gui chi Quynh'!$C$11:$E$396,3,0) -> A3 | P59: =VLOOKUP(O59,Sheet1!$B$2:$C$12,2,TRUE) -> 8 | Q59: =VLOOKUP($E59,'[5]Gui chi Quynh'!$C$11:$E$394,3,0) -> A2 | R59: =VLOOKUP(Q59,Sheet1!$B$2:$C$12,2,TRUE) -> 9 | S59: =VLOOKUP($E59,'[6]Gui chi Quynh'!$C$11:$E$393,3,0) -> A3 | T59: =VLOOKUP(S59,Sheet1!$B$2:$C$12,2,TRUE) -> 8 | U59: =VLOOKUP($E59,'[7]Gui chi Quynh'!$C$11:$E$392,3,0) -> A3 | V59: =VLOOKUP(U59,Sheet1!$B$2:$C$12,2,TRUE) -> 8 | W59: =VLOOKUP($E59,'[8]Gui chi Quynh'!$C$11:$F$391,3,0) -> A2 | X59: =VLOOKUP(W59,Sheet1!$B$2:$C$12,2,TRUE) -> 9 | Y59: =VLOOKUP($E59,'[9]Gui chi Quynh'!$C$11:$E$390,3,0) -> A3 | Z59: =VLOOKUP(Y59,Sheet1!$B$2:$C$12,2,TRUE) -> 8 | AA59: =VLOOKUP($E59,'[10]Gui chi Quynh'!$C$11:$E$391,3,0) -> A2 | AB59: =VLOOKUP(AA59,Sheet1!$B$2:$C$12,2,TRUE) -> 9 | AC59: =VLOOKUP(E59,Sheet2!$E$9:$AE$343,24,0) -> A3 | AD59: =VLOOKUP(AC59,Sheet1!$B$2:$C$12,2,TRUE) -> 8 | AE59: =VLOOKUP(E59,Sheet2!$E$9:$AE$343,26,0) -> A2 | AF59: =VLOOKUP(AE59,Sheet1!$B$2:$C$12,2,TRUE) -> 9 | AG59: =(J59+L59+N59+P59+R59+T59+V59+X59+Z59+AB59+AD59+AF59)/12 -> 8.3333333 | AH59: =VLOOKUP(E59,'CAC DV GUI'!$C$5:$AF$401,27,0) -> Xuất sắc | AI59: =VLOOKUP(E59,'CAC DV GUI'!$C$5:$AF$401,28,0) -> Tốt | AJ59: =VLOOKUP(E59,'CAC DV GUI'!$C$5:$AF$401,29,0) -> 0 | AM59: =AI59 -> Tốt
A60: =IF(E60="","",SUBTOTAL(3,$E$8:E60)) -> 53 | B60: =COUNTIF($F$8:F60,F60) -> 3 | C60: Bà | D60: Phạm Thị Lê Chi | E60: 01009010 | F60: P.TTGD-QHDN | G60: GVNV | H60: VC | I60: =VLOOKUP($E60,'[1]Gui chi Quynh'!$C$11:$E$397,3,0) -> A4 | J60: =VLOOKUP(I60,Sheet1!$B$2:$C$12,2,TRUE) -> 7 | K60: =VLOOKUP($E60,'[2]Gui chi Quynh'!$C$11:$E$397,3,0) -> A4 | L60: =VLOOKUP(K60,Sheet1!$B$2:$C$12,2,TRUE) -> 7 | M60: =VLOOKUP($E60,'[3]Gui chi Quynh'!$C$11:$E$396,3,0) -> A3 | N60: =VLOOKUP(M60,Sheet1!$B$2:$C$12,2,TRUE) -> 8 | O60: =VLOOKUP($E60,'[4]Gui chi Quynh'!$C$11:$E$396,3,0) -> A4 | P60: =VLOOKUP(O60,Sheet1!$B$2:$C$12,2,TRUE) -> 7 | Q60: =VLOOKUP($E60,'[5]Gui chi Quynh'!$C$11:$E$394,3,0) -> A2 | R60: =VLOOKUP(Q60,Sheet1!$B$2:$C$12,2,TRUE) -> 9 | S60: =VLOOKUP($E60,'[6]Gui chi Quynh'!$C$11:$E$393,3,0) -> A4 | T60: =VLOOKUP(S60,Sheet1!$B$2:$C$12,2,TRUE) -> 7 | U60: =VLOOKUP($E60,'[7]Gui chi Quynh'!$C$11:$E$392,3,0) -> A4 | V60: =VLOOKUP(U60,Sheet1!$B$2:$C$12,2,TRUE) -> 7 | W60: =VLOOKUP($E60,'[8]Gui chi Quynh'!$C$11:$F$391,3,0) -> A3 | X60: =VLOOKUP(W60,Sheet1!$B$2:$C$12,2,TRUE) -> 8 | Y60: =VLOOKUP($E60,'[9]Gui chi Quynh'!$C$11:$E$390,3,0) -> A3 | Z60: =VLOOKUP(Y60,Sheet1!$B$2:$C$12,2,TRUE) -> 8 | AA60: =VLOOKUP($E60,'[10]Gui chi Quynh'!$C$11:$E$391,3,0) -> A2 | AB60: =VLOOKUP(AA60,Sheet1!$B$2:$C$12,2,TRUE) -> 9 | AC60: =VLOOKUP(E60,Sheet2!$E$9:$AE$343,24,0) -> A2 | AD60: =VLOOKUP(AC60,Sheet1!$B$2:$C$12,2,TRUE) -> 9 | AE60: =VLOOKUP(E60,Sheet2!$E$9:$AE$343,26,0) -> A3 | AF60: =VLOOKUP(AE60,Sheet1!$B$2:$C$12,2,TRUE) -> 8 | AG60: =(J60+L60+N60+P60+R60+T60+V60+X60+Z60+AB60+AD60+AF60)/12 -> 7.8333333 | AH60: =VLOOKUP(E60,'CAC DV GUI'!$C$5:$AF$401,27,0) -> Tốt | AI60: =VLOOKUP(E60,'CAC DV GUI'!$C$5:$AF$401,28,0) -> Tốt | AJ60: =VLOOKUP(E60,'CAC DV GUI'!$C$5:$AF$401,29,0) -> 0 | AM60: =AI60 -> Tốt
A61: =IF(E61="","",SUBTOTAL(3,$E$8:E61)) -> 54 | B61: =COUNTIF($F$8:F61,F61) -> 4 | C61: Bà | D61: Trần Thị Thu Hà | E61: 01002004 | F61: P.TTGD-QHDN | G61: GVNV | H61: VC | I61: =VLOOKUP($E61,'[1]Gui chi Quynh'!$C$11:$E$397,3,0) -> A3 | J61: =VLOOKUP(I61,Sheet1!$B$2:$C$12,2,TRUE) -> 8 | K61: =VLOOKUP($E61,'[2]Gui chi Quynh'!$C$11:$E$397,3,0) -> A3 | L61: =VLOOKUP(K61,Sheet1!$B$2:$C$12,2,TRUE) -> 8 | M61: =VLOOKUP($E61,'[3]Gui chi Quynh'!$C$11:$E$396,3,0) -> A2 | N61: =VLOOKUP(M61,Sheet1!$B$2:$C$12,2,TRUE) -> 9 | O61: =VLOOKUP($E61,'[4]Gui chi Quynh'!$C$11:$E$396,3,0) -> A2 | P61: =VLOOKUP(O61,Sheet1!$B$2:$C$12,2,TRUE) -> 9 | Q61: =VLOOKUP($E61,'[5]Gui chi Quynh'!$C$11:$E$394,3,0) -> A1 | R61: =VLOOKUP(Q61,Sheet1!$B$2:$C$12,2,TRUE) -> 10 | S61: =VLOOKUP($E61,'[6]Gui chi Quynh'!$C$11:$E$393,3,0) -> A1 | T61: =VLOOKUP(S61,Sheet1!$B$2:$C$12,2,TRUE) -> 10 | U61: =VLOOKUP($E61,'[7]Gui chi Quynh'!$C$11:$E$392,3,0) -> A3 | V61: =VLOOKUP(U61,Sheet1!$B$2:$C$12,2,TRUE) -> 8 | W61: =VLOOKUP($E61,'[8]Gui chi Quynh'!$C$11:$F$391,3,0) -> A3 | X61: =VLOOKUP(W61,Sheet1!$B$2:$C$12,2,TRUE) -> 8 | Y61: =VLOOKUP($E61,'[9]Gui chi Quynh'!$C$11:$E$390,3,0) -> A1 | Z61: =VLOOKUP(Y61,Sheet1!$B$2:$C$12,2,TRUE) -> 10 | AA61: =VLOOKUP($E61,'[10]Gui chi Quynh'!$C$11:$E$391,3,0) -> A1 | AB61: =VLOOKUP(AA61,Sheet1!$B$2:$C$12,2,TRUE) -> 10 | AC61: =VLOOKUP(E61,Sheet2!$E$9:$AE$343,24,0) -> A1 | AD61: =VLOOKUP(AC61,Sheet1!$B$2:$C$12,2,TRUE) -> 10 | AE61: =VLOOKUP(E61,Sheet2!$E$9:$AE$343,26,0) -> A1 | AF61: =VLOOKUP(AE61,Sheet1!$B$2:$C$12,2,TRUE) -> 10 | AG61: =(J61+L61+N61+P61+R61+T61+V61+X61+Z61+AB61+AD61+AF61)/12 -> 9.1666667 | AH61: =VLOOKUP(E61,'CAC DV GUI'!$C$5:$AF$401,27,0) -> Xuất sắc | AI61: =VLOOKUP(E61,'CAC DV GUI'!$C$5:$AF$401,28,0) -> Xuất sắc | AJ61: =VLOOKUP(E61,'CAC DV GUI'!$C$5:$AF$401,29,0) -> 0 | AM61: =AI61 -> Xuất sắc
A62: =IF(E62="","",SUBTOTAL(3,$E$8:E62)) -> 55 | B62: =COUNTIF($F$8:F62,F62) -> 5 | C62: Ông | D62: Nguyễn Tất Thắng | E62: 01009008 | F62: P.TTGD-QHDN | G62: GVNV | H62: VC | I62: =VLOOKUP($E62,'[1]Gui chi Quynh'!$C$11:$E$397,3,0) -> A4 | J62: =VLOOKUP(I62,Sheet1!$B$2:$C$12,2,TRUE) -> 7 | K62: =VLOOKUP($E62,'[2]Gui chi Quynh'!$C$11:$E$397,3,0) -> A3 | L62: =VLOOKUP(K62,Sheet1!$B$2:$C$12,2,TRUE) -> 8 | M62: =VLOOKUP($E62,'[3]Gui chi Quynh'!$C$11:$E$396,3,0) -> A4 | N62: =VLOOKUP(M62,Sheet1!$B$2:$C$12,2,TRUE) -> 7 | O62: =VLOOKUP($E62,'[4]Gui chi Quynh'!$C$11:$E$396,3,0) -> A3 | P62: =VLOOKUP(O62,Sheet1!$B$2:$C$12,2,TRUE) -> 8 | Q62: =VLOOKUP($E62,'[5]Gui chi Quynh'!$C$11:$E$394,3,0) -> A3 | R62: =VLOOKUP(Q62,Sheet1!$B$2:$C$12,2,TRUE) -> 8 | S62: =VLOOKUP($E62,'[6]Gui chi Quynh'!$C$11:$E$393,3,0) -> A4 | T62: =VLOOKUP(S62,Sheet1!$B$2:$C$12,2,TRUE) -> 7 | U62: =VLOOKUP($E62,'[7]Gui chi Quynh'!$C$11:$E$392,3,0) -> A3 | V62: =VLOOKUP(U62,Sheet1!$B$2:$C$12,2,TRUE) -> 8 | W62: =VLOOKUP($E62,'[8]Gui chi Quynh'!$C$11:$F$391,3,0) -> A3 | X62: =VLOOKUP(W62,Sheet1!$B$2:$C$12,2,TRUE) -> 8 | Y62: =VLOOKUP($E62,'[9]Gui chi Quynh'!$C$11:$E$390,3,0) -> A3 | Z62: =VLOOKUP(Y62,Sheet1!$B$2:$C$12,2,TRUE) -> 8 | AA62: =VLOOKUP($E62,'[10]Gui chi Quynh'!$C$11:$E$391,3,0) -> A2 | AB62: =VLOOKUP(AA62,Sheet1!$B$2:$C$12,2,TRUE) -> 9 | AC62: =VLOOKUP(E62,Sheet2!$E$9:$AE$343,24,0) -> A3 | AD62: =VLOOKUP(AC62,Sheet1!$B$2:$C$12,2,TRUE) -> 8 | AE62: =VLOOKUP(E62,Sheet2!$E$9:$AE$343,26,0) -> A3 | AF62: =VLOOKUP(AE62,Sheet1!$B$2:$C$12,2,TRUE) -> 8 | AG62: =(J62+L62+N62+P62+R62+T62+V62+X62+Z62+AB62+AD62+AF62)/12 -> 7.8333333 | AH62: =VLOOKUP(E62,'CAC DV GUI'!$C$5:$AF$401,27,0) -> Tốt | AI62: =VLOOKUP(E62,'CAC DV GUI'!$C$5:$AF$401,28,0) -> Tốt | AJ62: =VLOOKUP(E62,'CAC DV GUI'!$C$5:$AF$401,29,0) -> 0 | AM62: =AI62 -> Tốt
A63: =IF(E63="","",SUBTOTAL(3,$E$8:E63)) -> 56 | B63: =COUNTIF($F$8:F63,F63) -> 6 | C63: Bà | D63: Mai Thu Hương | E63: 01007004 | F63: P.TTGD-QHDN | G63: GVNV | H63: VC | I63: =VLOOKUP($E63,'[1]Gui chi Quynh'!$C$11:$E$397,3,0) -> A4 | J63: =VLOOKUP(I63,Sheet1!$B$2:$C$12,2,TRUE) -> 7 | K63: =VLOOKUP($E63,'[2]Gui chi Quynh'!$C$11:$E$397,3,0) -> A4 | L63: =VLOOKUP(K63,Sheet1!$B$2:$C$12,2,TRUE) -> 7 | M63: =VLOOKUP($E63,'[3]Gui chi Quynh'!$C$11:$E$396,3,0) -> A3 | N63: =VLOOKUP(M63,Sheet1!$B$2:$C$12,2,TRUE) -> 8 | O63: =VLOOKUP($E63,'[4]Gui chi Quynh'!$C$11:$E$396,3,0) -> A3 | P63: =VLOOKUP(O63,Sheet1!$B$2:$C$12,2,TRUE) -> 8 | Q63: =VLOOKUP($E63,'[5]Gui chi Quynh'!$C$11:$E$394,3,0) -> A2 | R63: =VLOOKUP(Q63,Sheet1!$B$2:$C$12,2,TRUE) -> 9 | S63: =VLOOKUP($E63,'[6]Gui chi Quynh'!$C$11:$E$393,3,0) -> A4 | T63: =VLOOKUP(S63,Sheet1!$B$2:$C$12,2,TRUE) -> 7 | U63: =VLOOKUP($E63,'[7]Gui chi Quynh'!$C$11:$E$392,3,0) -> A4 | V63: =VLOOKUP(U63,Sheet1!$B$2:$C$12,2,TRUE) -> 7 | W63: =VLOOKUP($E63,'[8]Gui chi Quynh'!$C$11:$F$391,3,0) -> A4 | X63: =VLOOKUP(W63,Sheet1!$B$2:$C$12,2,TRUE) -> 7 | Y63: =VLOOKUP($E63,'[9]Gui chi Quynh'!$C$11:$E$390,3,0) -> A3 | Z63: =VLOOKUP(Y63,Sheet1!$B$2:$C$12,2,TRUE) -> 8 | AA63: =VLOOKUP($E63,'[10]Gui chi Quynh'!$C$11:$E$391,3,0) -> A3 | AB63: =VLOOKUP(AA63,Sheet1!$B$2:$C$12,2,TRUE) -> 8 | AC63: =VLOOKUP(E63,Sheet2!$E$9:$AE$343,24,0) -> A4 | AD63: =VLOOKUP(AC63,Sheet1!$B$2:$C$12,2,TRUE) -> 7 | AE63: =VLOOKUP(E63,Sheet2!$E$9:$AE$343,26,0) -> A3 | AF63: =VLOOKUP(AE63,Sheet1!$B$2:$C$12,2,TRUE) -> 8 | AG63: =(J63+L63+N63+P63+R63+T63+V63+X63+Z63+AB63+AD63+AF63)/12 -> 7.5833333 | AH63: =VLOOKUP(E63,'CAC DV GUI'!$C$5:$AF$401,27,0) -> Tốt | AI63: =VLOOKUP(E63,'CAC DV GUI'!$C$5:$AF$401,28,0) -> Tốt | AJ63: =VLOOKUP(E63,'CAC DV GUI'!$C$5:$AF$401,29,0) -> 0 | AM63: =AI63 -> Tốt
A64: =IF(E64="","",SUBTOTAL(3,$E$8:E64)) -> 57 | B64: =COUNTIF($F$8:F64,F64) -> 7 | C64: Bà | D64: Nguyễn Thùy Dương | E64: 01014012 | F64: P.TTGD-QHDN | G64: GVNV | H64: VC | I64: =VLOOKUP($E64,'[1]Gui chi Quynh'!$C$11:$E$397,3,0) -> A3 | J64: =VLOOKUP(I64,Sheet1!$B$2:$C$12,2,TRUE) -> 8 | K64: =VLOOKUP($E64,'[2]Gui chi Quynh'!$C$11:$E$397,3,0) -> A4 | L64: =VLOOKUP(K64,Sheet1!$B$2:$C$12,2,TRUE) -> 7 | M64: =VLOOKUP($E64,'[3]Gui chi Quynh'!$C$11:$E$396,3,0) -> A3 | N64: =VLOOKUP(M64,Sheet1!$B$2:$C$12,2,TRUE) -> 8 | O64: =VLOOKUP($E64,'[4]Gui chi Quynh'!$C$11:$E$396,3,0) -> A4 | P64: =VLOOKUP(O64,Sheet1!$B$2:$C$12,2,TRUE) -> 7 | Q64: =VLOOKUP($E64,'[5]Gui chi Quynh'!$C$11:$E$394,3,0) -> A3 | R64: =VLOOKUP(Q64,Sheet1!$B$2:$C$12,2,TRUE) -> 8 | S64: =VLOOKUP($E64,'[6]Gui chi Quynh'!$C$11:$E$393,3,0) -> A4 | T64: =VLOOKUP(S64,Sheet1!$B$2:$C$12,2,TRUE) -> 7 | U64: =VLOOKUP($E64,'[7]Gui chi Quynh'!$C$11:$E$392,3,0) -> A3 | V64: =VLOOKUP(U64,Sheet1!$B$2:$C$12,2,TRUE) -> 8 | W64: =VLOOKUP($E64,'[8]Gui chi Quynh'!$C$11:$F$391,3,0) -> A3 | X64: =VLOOKUP(W64,Sheet1!$B$2:$C$12,2,TRUE) -> 8 | Y64: =VLOOKUP($E64,'[9]Gui chi Quynh'!$C$11:$E$390,3,0) -> A3 | Z64: =VLOOKUP(Y64,Sheet1!$B$2:$C$12,2,TRUE) -> 8 | AA64: =VLOOKUP($E64,'[10]Gui chi Quynh'!$C$11:$E$391,3,0) -> A3 | AB64: =VLOOKUP(AA64,Sheet1!$B$2:$C$12,2,TRUE) -> 8 | AC64: =VLOOKUP(E64,Sheet2!$E$9:$AE$343,24,0) -> A3 | AD64: =VLOOKUP(AC64,Sheet1!$B$2:$C$12,2,TRUE) -> 8 | AE64: =VLOOKUP(E64,Sheet2!$E$9:$AE$343,26,0) -> A3 | AF64: =VLOOKUP(AE64,Sheet1!$B$2:$C$12,2,TRUE) -> 8 | AG64: =(J64+L64+N64+P64+R64+T64+V64+X64+Z64+AB64+AD64+AF64)/12 -> 7.75 | AH64: =VLOOKUP(E64,'CAC DV GUI'!$C$5:$AF$401,27,0) -> Tốt | AI64: =VLOOKUP(E64,'CAC DV GUI'!$C$5:$AF$401,28,0) -> Tốt | AJ64: =VLOOKUP(E64,'CAC DV GUI'!$C$5:$AF$401,29,0) -> 0 | AM64: =AI64 -> Tốt
A65: =IF(E65="","",SUBTOTAL(3,$E$8:E65)) -> 58 | B65: =COUNTIF($F$8:F65,F65) -> 8 | C65: Ông | D65: Nguyễn Trung Dũng | E65: 01002008 | F65: P.TTGD-QHDN | G65: GVNV | H65: HĐT | I65: =VLOOKUP($E65,'[1]Gui chi Quynh'!$C$11:$E$397,3,0) -> A3 | J65: =VLOOKUP(I65,Sheet1!$B$2:$C$12,2,TRUE) -> 8 | K65: =VLOOKUP($E65,'[2]Gui chi Quynh'!$C$11:$E$397,3,0) -> A3 | L65: =VLOOKUP(K65,Sheet1!$B$2:$C$12,2,TRUE) -> 8 | M65: =VLOOKUP($E65,'[3]Gui chi Quynh'!$C$11:$E$396,3,0) -> A3 | N65: =VLOOKUP(M65,Sheet1!$B$2:$C$12,2,TRUE) -> 8 | O65: =VLOOKUP($E65,'[4]Gui chi Quynh'!$C$11:$E$396,3,0) -> A2 | P65: =VLOOKUP(O65,Sheet1!$B$2:$C$12,2,TRUE) -> 9 | Q65: =VLOOKUP($E65,'[5]Gui chi Quynh'!$C$11:$E$394,3,0) -> A2 | R65: =VLOOKUP(Q65,Sheet1!$B$2:$C$12,2,TRUE) -> 9 | S65: =VLOOKUP($E65,'[6]Gui chi Quynh'!$C$11:$E$393,3,0) -> A4 | T65: =VLOOKUP(S65,Sheet1!$B$2:$C$12,2,TRUE) -> 7 | U65: =VLOOKUP($E65,'[7]Gui chi Quynh'!$C$11:$E$392,3,0) -> A4 | V65: =VLOOKUP(U65,Sheet1!$B$2:$C$12,2,TRUE) -> 7 | W65: =VLOOKUP($E65,'[8]Gui chi Quynh'!$C$11:$F$391,3,0) -> A2 | X65: =VLOOKUP(W65,Sheet1!$B$2:$C$12,2,TRUE) -> 9 | Y65: =VLOOKUP($E65,'[9]Gui chi Quynh'!$C$11:$E$390,3,0) -> A3 | Z65: =VLOOKUP(Y65,Sheet1!$B$2:$C$12,2,TRUE) -> 8 | AA65: =VLOOKUP($E65,'[10]Gui chi Quynh'!$C$11:$E$391,3,0) -> A3 | AB65: =VLOOKUP(AA65,Sheet1!$B$2:$C$12,2,TRUE) -> 8 | AC65: =VLOOKUP(E65,Sheet2!$E$9:$AE$343,24,0) -> A3 | AD65: =VLOOKUP(AC65,Sheet1!$B$2:$C$12,2,TRUE) -> 8 | AE65: =VLOOKUP(E65,Sheet2!$E$9:$AE$343,26,0) -> A3 | AF65: =VLOOKUP(AE65,Sheet1!$B$2:$C$12,2,TRUE) -> 8 | AG65: =(J65+L65+N65+P65+R65+T65+V65+X65+Z65+AB65+AD65+AF65)/12 -> 8.0833333 | AH65: =VLOOKUP(E65,'CAC DV GUI'!$C$5:$AF$401,27,0) -> Tốt | AI65: =VLOOKUP(E65,'CAC DV GUI'!$C$5:$AF$401,28,0) -> Tốt | AJ65: =VLOOKUP(E65,'CAC DV GUI'!$C$5:$AF$401,29,0) -> 0 | AM65: =AI65 -> Tốt
A66: =IF(E66="","",SUBTOTAL(3,$E$8:E66)) -> 59 | B66: =COUNTIF($F$8:F66,F66) -> 9 | C66: Ông | D66: Phạm Huy Hoàng | E66: 01009011 | F66: P.TTGD-QHDN | G66: GVNV | H66: HĐT | I66: =VLOOKUP($E66,'[1]Gui chi Quynh'!$C$11:$E$397,3,0) -> A3 | J66: =VLOOKUP(I66,Sheet1!$B$2:$C$12,2,TRUE) -> 8 | K66: =VLOOKUP($E66,'[2]Gui chi Quynh'!$C$11:$E$397,3,0) -> A3 | L66: =VLOOKUP(K66,Sheet1!$B$2:$C$12,2,TRUE) -> 8 | M66: =VLOOKUP($E66,'[3]Gui chi Quynh'!$C$11:$E$396,3,0) -> A3 | N66: =VLOOKUP(M66,Sheet1!$B$2:$C$12,2,TRUE) -> 8 | O66: =VLOOKUP($E66,'[4]Gui chi Quynh'!$C$11:$E$396,3,0) -> A3 | P66: =VLOOKUP(O66,Sheet1!$B$2:$C$12,2,TRUE) -> 8 | Q66: =VLOOKUP($E66,'[5]Gui chi Quynh'!$C$11:$E$394,3,0) -> A2 | R66: =VLOOKUP(Q66,Sheet1!$B$2:$C$12,2,TRUE) -> 9 | S66: =VLOOKUP($E66,'[6]Gui chi Quynh'!$C$11:$E$393,3,0) -> A4 | T66: =VLOOKUP(S66,Sheet1!$B$2:$C$12,2,TRUE) -> 7 | U66: =VLOOKUP($E66,'[7]Gui chi Quynh'!$C$11:$E$392,3,0) -> A3 | V66: =VLOOKUP(U66,Sheet1!$B$2:$C$12,2,TRUE) -> 8 | W66: =VLOOKUP($E66,'[8]Gui chi Quynh'!$C$11:$F$391,3,0) -> A3 | X66: =VLOOKUP(W66,Sheet1!$B$2:$C$12,2,TRUE) -> 8 | Y66: =VLOOKUP($E66,'[9]Gui chi Quynh'!$C$11:$E$390,3,0) -> A1 | Z66: =VLOOKUP(Y66,Sheet1!$B$2:$C$12,2,TRUE) -> 10 | AA66: =VLOOKUP($E66,'[10]Gui chi Quynh'!$C$11:$E$391,3,0) -> A2 | AB66: =VLOOKUP(AA66,Sheet1!$B$2:$C$12,2,TRUE) -> 9 | AC66: =VLOOKUP(E66,Sheet2!$E$9:$AE$343,24,0) -> A2 | AD66: =VLOOKUP(AC66,Sheet1!$B$2:$C$12,2,TRUE) -> 9 | AE66: =VLOOKUP(E66,Sheet2!$E$9:$AE$343,26,0) -> A3 | AF66: =VLOOKUP(AE66,Sheet1!$B$2:$C$12,2,TRUE) -> 8 | AG66: =(J66+L66+N66+P66+R66+T66+V66+X66+Z66+AB66+AD66+AF66)/12 -> 8.3333333 | AH66: =VLOOKUP(E66,'CAC DV GUI'!$C$5:$AF$401,27,0) -> Xuất sắc | AI66: =VLOOKUP(E66,'CAC DV GUI'!$C$5:$AF$401,28,0) -> Xuất sắc | AJ66: =VLOOKUP(E66,'CAC DV GUI'!$C$5:$AF$401,29,0) -> 0 | AM66: =AI66 -> Xuất sắc
A67: =IF(E67="","",SUBTOTAL(3,$E$8:E67)) -> 60 | B67: =COUNTIF($F$8:F67,F67) -> 10 | C67: Ông | D67: Huỳnh Văn Hiếu | E67: 01009019 | F67: P.TTGD-QHDN | G67: GVNV | H67: HĐT | I67: =VLOOKUP($E67,'[1]Gui chi Quynh'!$C$11:$E$397,3,0) -> B1 | J67: =VLOOKUP(I67,Sheet1!$B$2:$C$12,2,TRUE) -> 6 | K67: =VLOOKUP($E67,'[2]Gui chi Quynh'!$C$11:$E$397,3,0) -> A3 | L67: =VLOOKUP(K67,Sheet1!$B$2:$C$12,2,TRUE) -> 8 | M67: =VLOOKUP($E67,'[3]Gui chi Quynh'!$C$11:$E$396,3,0) -> A3 | N67: =VLOOKUP(M67,Sheet1!$B$2:$C$12,2,TRUE) -> 8 | O67: =VLOOKUP($E67,'[4]Gui chi Quynh'!$C$11:$E$396,3,0) -> A2 | P67: =VLOOKUP(O67,Sheet1!$B$2:$C$12,2,TRUE) -> 9 | Q67: =VLOOKUP($E67,'[5]Gui chi Quynh'!$C$11:$E$394,3,0) -> A3 | R67: =VLOOKUP(Q67,Sheet1!$B$2:$C$12,2,TRUE) -> 8 | S67: =VLOOKUP($E67,'[6]Gui chi Quynh'!$C$11:$E$393,3,0) -> A4 | T67: =VLOOKUP(S67,Sheet1!$B$2:$C$12,2,TRUE) -> 7 | U67: =VLOOKUP($E67,'[7]Gui chi Quynh'!$C$11:$E$392,3,0) -> A4 | V67: =VLOOKUP(U67,Sheet1!$B$2:$C$12,2,TRUE) -> 7 | W67: =VLOOKUP($E67,'[8]Gui chi Quynh'!$C$11:$F$391,3,0) -> A3 | X67: =VLOOKUP(W67,Sheet1!$B$2:$C$12,2,TRUE) -> 8 | Y67: =VLOOKUP($E67,'[9]Gui chi Quynh'!$C$11:$E$390,3,0) -> A3 | Z67: =VLOOKUP(Y67,Sheet1!$B$2:$C$12,2,TRUE) -> 8 | AA67: =VLOOKUP($E67,'[10]Gui chi Quynh'!$C$11:$E$391,3,0) -> A3 | AB67: =VLOOKUP(AA67,Sheet1!$B$2:$C$12,2,TRUE) -> 8 | AC67: =VLOOKUP(E67,Sheet2!$E$9:$AE$343,24,0) -> A4 | AD67: =VLOOKUP(AC67,Sheet1!$B$2:$C$12,2,TRUE) -> 7 | AE67: =VLOOKUP(E67,Sheet2!$E$9:$AE$343,26,0) -> A3 | AF67: =VLOOKUP(AE67,Sheet1!$B$2:$C$12,2,TRUE) -> 8 | AG67: =(J67+L67+N67+P67+R67+T67+V67+X67+Z67+AB67+AD67+AF67)/12 -> 7.6666667 | AH67: =VLOOKUP(E67,'CAC DV GUI'!$C$5:$AF$401,27,0) -> Tốt | AI67: =VLOOKUP(E67,'CAC DV GUI'!$C$5:$AF$401,28,0) -> Tốt | AJ67: =VLOOKUP(E67,'CAC DV GUI'!$C$5:$AF$401,29,0) -> 0 | AM67: =AI67 -> Tốt
A68: =IF(E68="","",SUBTOTAL(3,$E$8:E68)) -> 61 | B68: =COUNTIF($F$8:F68,F68) -> 11 | C68: Ông | D68: Trần Anh Mỹ | E68: 01009028 | F68: P.TTGD-QHDN | G68: GVNV | H68: HĐT | I68: =VLOOKUP($E68,'[1]Gui chi Quynh'!$C$11:$E$397,3,0) -> A4 | J68: =VLOOKUP(I68,Sheet1!$B$2:$C$12,2,TRUE) -> 7 | K68: =VLOOKUP($E68,'[2]Gui chi Quynh'!$C$11:$E$397,3,0) -> A4 | L68: =VLOOKUP(K68,Sheet1!$B$2:$C$12,2,TRUE) -> 7 | M68: =VLOOKUP($E68,'[3]Gui chi Quynh'!$C$11:$E$396,3,0) -> A4 | N68: =VLOOKUP(M68,Sheet1!$B$2:$C$12,2,TRUE) -> 7 | O68: =VLOOKUP($E68,'[4]Gui chi Quynh'!$C$11:$E$396,3,0) -> A4 | P68: =VLOOKUP(O68,Sheet1!$B$2:$C$12,2,TRUE) -> 7 | Q68: =VLOOKUP($E68,'[5]Gui chi Quynh'!$C$11:$E$394,3,0) -> A2 | R68: =VLOOKUP(Q68,Sheet1!$B$2:$C$12,2,TRUE) -> 9 | S68: =VLOOKUP($E68,'[6]Gui chi Quynh'!$C$11:$E$393,3,0) -> A4 | T68: =VLOOKUP(S68,Sheet1!$B$2:$C$12,2,TRUE) -> 7 | U68: =VLOOKUP($E68,'[7]Gui chi Quynh'!$C$11:$E$392,3,0) -> A4 | V68: =VLOOKUP(U68,Sheet1!$B$2:$C$12,2,TRUE) -> 7 | W68: =VLOOKUP($E68,'[8]Gui chi Quynh'!$C$11:$F$391,3,0) -> A3 | X68: =VLOOKUP(W68,Sheet1!$B$2:$C$12,2,TRUE) -> 8 | Y68: =VLOOKUP($E68,'[9]Gui chi Quynh'!$C$11:$E$390,3,0) -> A3 | Z68: =VLOOKUP(Y68,Sheet1!$B$2:$C$12,2,TRUE) -> 8 | AA68: =VLOOKUP($E68,'[10]Gui chi Quynh'!$C$11:$E$391,3,0) -> A3 | AB68: =VLOOKUP(AA68,Sheet1!$B$2:$C$12,2,TRUE) -> 8 | AC68: =VLOOKUP(E68,Sheet2!$E$9:$AE$343,24,0) -> A3 | AD68: =VLOOKUP(AC68,Sheet1!$B$2:$C$12,2,TRUE) -> 8 | AE68: =VLOOKUP(E68,Sheet2!$E$9:$AE$343,26,0) -> A3 | AF68: =VLOOKUP(AE68,Sheet1!$B$2:$C$12,2,TRUE) -> 8 | AG68: =(J68+L68+N68+P68+R68+T68+V68+X68+Z68+AB68+AD68+AF68)/12 -> 7.5833333 | AH68: =VLOOKUP(E68,'CAC DV GUI'!$C$5:$AF$401,27,0) -> Tốt | AI68: =VLOOKUP(E68,'CAC DV GUI'!$C$5:$AF$401,28,0) -> Tốt | AJ68: =VLOOKUP(E68,'CAC DV GUI'!$C$5:$AF$401,29,0) -> 0 | AM68: =AI68 -> Tốt
A69: =IF(E69="","",SUBTOTAL(3,$E$8:E69)) -> 62 | B69: =COUNTIF($F$8:F69,F69) -> 12 | C69: Ông | D69: Bùi Đức Phước | E69: 01009026 | F69: P.TTGD-QHDN | G69: GVNV | H69: HĐT | I69: =VLOOKUP($E69,'[1]Gui chi Quynh'!$C$11:$E$397,3,0) -> A3 | J69: =VLOOKUP(I69,Sheet1!$B$2:$C$12,2,TRUE) -> 8 | K69: =VLOOKUP($E69,'[2]Gui chi Quynh'!$C$11:$E$397,3,0) -> A3 | L69: =VLOOKUP(K69,Sheet1!$B$2:$C$12,2,TRUE) -> 8 | M69: =VLOOKUP($E69,'[3]Gui chi Quynh'!$C$11:$E$396,3,0) -> A4 | N69: =VLOOKUP(M69,Sheet1!$B$2:$C$12,2,TRUE) -> 7 | O69: =VLOOKUP($E69,'[4]Gui chi Quynh'!$C$11:$E$396,3,0) -> A3 | P69: =VLOOKUP(O69,Sheet1!$B$2:$C$12,2,TRUE) -> 8 | Q69: =VLOOKUP($E69,'[5]Gui chi Quynh'!$C$11:$E$394,3,0) -> A1 | R69: =VLOOKUP(Q69,Sheet1!$B$2:$C$12,2,TRUE) -> 10 | S69: =VLOOKUP($E69,'[6]Gui chi Quynh'!$C$11:$E$393,3,0) -> A4 | T69: =VLOOKUP(S69,Sheet1!$B$2:$C$12,2,TRUE) -> 7 | U69: =VLOOKUP($E69,'[7]Gui chi Quynh'!$C$11:$E$392,3,0) -> A3 | V69: =VLOOKUP(U69,Sheet1!$B$2:$C$12,2,TRUE) -> 8 | W69: =VLOOKUP($E69,'[8]Gui chi Quynh'!$C$11:$F$391,3,0) -> A3 | X69: =VLOOKUP(W69,Sheet1!$B$2:$C$12,2,TRUE) -> 8 | Y69: =VLOOKUP($E69,'[9]Gui chi Quynh'!$C$11:$E$390,3,0) -> A1 | Z69: =VLOOKUP(Y69,Sheet1!$B$2:$C$12,2,TRUE) -> 10 | AA69: =VLOOKUP($E69,'[10]Gui chi Quynh'!$C$11:$E$391,3,0) -> A1 | AB69: =VLOOKUP(AA69,Sheet1!$B$2:$C$12,2,TRUE) -> 10 | AC69: =VLOOKUP(E69,Sheet2!$E$9:$AE$343,24,0) -> A4 | AD69: =VLOOKUP(AC69,Sheet1!$B$2:$C$12,2,TRUE) -> 7 | AE69: =VLOOKUP(E69,Sheet2!$E$9:$AE$343,26,0) -> A3 | AF69: =VLOOKUP(AE69,Sheet1!$B$2:$C$12,2,TRUE) -> 8 | AG69: =(J69+L69+N69+P69+R69+T69+V69+X69+Z69+AB69+AD69+AF69)/12 -> 8.25 | AH69: =VLOOKUP(E69,'CAC DV GUI'!$C$5:$AF$401,27,0) -> Xuất sắc | AI69: =VLOOKUP(E69,'CAC DV GUI'!$C$5:$AF$401,28,0) -> Xuất sắc | AJ69: =VLOOKUP(E69,'CAC DV GUI'!$C$5:$AF$401,29,0) -> 0 | AM69: =AI69 -> Xuất sắc
A70: =IF(E70="","",SUBTOTAL(3,$E$8:E70)) -> 63 | B70: =COUNTIF($F$8:F70,F70) -> 13 | C70: Bà | D70: Nguyễn Thị Thảo | E70: 01007003 | F70: P.TTGD-QHDN | G70: GVNV | H70: HĐT | I70: =VLOOKUP($E70,'[1]Gui chi Quynh'!$C$11:$E$397,3,0) -> A4 | J70: =VLOOKUP(I70,Sheet1!$B$2:$C$12,2,TRUE) -> 7 | K70: =VLOOKUP($E70,'[2]Gui chi Quynh'!$C$11:$E$397,3,0) -> A3 | L70: =VLOOKUP(K70,Sheet1!$B$2:$C$12,2,TRUE) -> 8 | M70: =VLOOKUP($E70,'[3]Gui chi Quynh'!$C$11:$E$396,3,0) -> A4 | N70: =VLOOKUP(M70,Sheet1!$B$2:$C$12,2,TRUE) -> 7 | O70: =VLOOKUP($E70,'[4]Gui chi Quynh'!$C$11:$E$396,3,0) -> A3 | P70: =VLOOKUP(O70,Sheet1!$B$2:$C$12,2,TRUE) -> 8 | Q70: =VLOOKUP($E70,'[5]Gui chi Quynh'!$C$11:$E$394,3,0) -> A3 | R70: =VLOOKUP(Q70,Sheet1!$B$2:$C$12,2,TRUE) -> 8 | S70: =VLOOKUP($E70,'[6]Gui chi Quynh'!$C$11:$E$393,3,0) -> A4 | T70: =VLOOKUP(S70,Sheet1!$B$2:$C$12,2,TRUE) -> 7 | U70: =VLOOKUP($E70,'[7]Gui chi Quynh'!$C$11:$E$392,3,0) -> A4 | V70: =VLOOKUP(U70,Sheet1!$B$2:$C$12,2,TRUE) -> 7 | W70: =VLOOKUP($E70,'[8]Gui chi Quynh'!$C$11:$F$391,3,0) -> A4 | X70: =VLOOKUP(W70,Sheet1!$B$2:$C$12,2,TRUE) -> 7 | Y70: =VLOOKUP($E70,'[9]Gui chi Quynh'!$C$11:$E$390,3,0) -> A3 | Z70: =VLOOKUP(Y70,Sheet1!$B$2:$C$12,2,TRUE) -> 8 | AA70: =VLOOKUP($E70,'[10]Gui chi Quynh'!$C$11:$E$391,3,0) -> A3 | AB70: =VLOOKUP(AA70,Sheet1!$B$2:$C$12,2,TRUE) -> 8 | AC70: =VLOOKUP(E70,Sheet2!$E$9:$AE$343,24,0) -> A4 | AD70: =VLOOKUP(AC70,Sheet1!$B$2:$C$12,2,TRUE) -> 7 | AE70: =VLOOKUP(E70,Sheet2!$E$9:$AE$343,26,0) -> A3 | AF70: =VLOOKUP(AE70,Sheet1!$B$2:$C$12,2,TRUE) -> 8 | AG70: =(J70+L70+N70+P70+R70+T70+V70+X70+Z70+AB70+AD70+AF70)/12 -> 7.5 | AH70: =VLOOKUP(E70,'CAC DV GUI'!$C$5:$AF$401,27,0) -> Tốt | AI70: =VLOOKUP(E70,'CAC DV GUI'!$C$5:$AF$401,28,0) -> Tốt | AJ70: =VLOOKUP(E70,'CAC DV GUI'!$C$5:$AF$401,29,0) -> 0 | AM70: =AI70 -> Tốt
A71: =IF(E71="","",SUBTOTAL(3,$E$8:E71)) -> 64 | B71: =COUNTIF($F$8:F71,F71) -> 14 | C71: Bà | D71: Lưu Hoàng Bảo Châu | E71: 01009029 | F71: P.TTGD-QHDN | G71: GVNV | H71: HĐT | I71: =VLOOKUP($E71,'[1]Gui chi Quynh'!$C$11:$E$397,3,0) -> A3 | J71: =VLOOKUP(I71,Sheet1!$B$2:$C$12,2,TRUE) -> 8 | K71: =VLOOKUP($E71,'[2]Gui chi Quynh'!$C$11:$E$397,3,0) -> A3 | L71: =VLOOKUP(K71,Sheet1!$B$2:$C$12,2,TRUE) -> 8 | M71: =VLOOKUP($E71,'[3]Gui chi Quynh'!$C$11:$E$396,3,0) -> A3 | N71: =VLOOKUP(M71,Sheet1!$B$2:$C$12,2,TRUE) -> 8 | O71: =VLOOKUP($E71,'[4]Gui chi Quynh'!$C$11:$E$396,3,0) -> A3 | P71: =VLOOKUP(O71,Sheet1!$B$2:$C$12,2,TRUE) -> 8 | Q71: =VLOOKUP($E71,'[5]Gui chi Quynh'!$C$11:$E$394,3,0) -> A3 | R71: =VLOOKUP(Q71,Sheet1!$B$2:$C$12,2,TRUE) -> 8 | S71: =VLOOKUP($E71,'[6]Gui chi Quynh'!$C$11:$E$393,3,0) -> A3 | T71: =VLOOKUP(S71,Sheet1!$B$2:$C$12,2,TRUE) -> 8 | U71: =VLOOKUP($E71,'[7]Gui chi Quynh'!$C$11:$E$392,3,0) -> A4 | V71: =VLOOKUP(U71,Sheet1!$B$2:$C$12,2,TRUE) -> 7 | W71: =VLOOKUP($E71,'[8]Gui chi Quynh'!$C$11:$F$391,3,0) -> A4 | X71: =VLOOKUP(W71,Sheet1!$B$2:$C$12,2,TRUE) -> 7 | Y71: =VLOOKUP($E71,'[9]Gui chi Quynh'!$C$11:$E$390,3,0) -> A3 | Z71: =VLOOKUP(Y71,Sheet1!$B$2:$C$12,2,TRUE) -> 8 | AA71: =VLOOKUP($E71,'[10]Gui chi Quynh'!$C$11:$E$391,3,0) -> A3 | AB71: =VLOOKUP(AA71,Sheet1!$B$2:$C$12,2,TRUE) -> 8 | AC71: =VLOOKUP(E71,Sheet2!$E$9:$AE$343,24,0) -> A DN | AE71: =VLOOKUP(E71,Sheet2!$E$9:$AE$343,26,0) -> A DN | AG71: =(J71+L71+N71+P71+R71+T71+V71+X71+Z71+AB71)/10 -> 7.8 | AH71: =VLOOKUP(E71,'CAC DV GUI'!$C$5:$AF$401,27,0) -> Tốt | AI71: =VLOOKUP(E71,'CAC DV GUI'!$C$5:$AF$401,28,0) -> Tốt | AJ71: =VLOOKUP(E71,'CAC DV GUI'!$C$5:$AF$401,29,0) -> 0 | AM71: =AI71 -> Tốt | AO71: Nghỉ hộ sản từ tháng 5/2025, đánh giá 10 tháng làm việc thực tế.
A72: =IF(E72="","",SUBTOTAL(3,$E$8:E72)) -> 65 | B72: =COUNTIF($F$8:F72,F72) -> 15 | C72: Ông | D72: Trần Việt Anh | E72: 01002038 | F72: P.TTGD-QHDN | G72: GVNV | H72: HĐT | I72: =VLOOKUP($E72,'[1]Gui chi Quynh'!$C$11:$E$397,3,0) -> B1 | J72: =VLOOKUP(I72,Sheet1!$B$2:$C$12,2,TRUE) -> 6 | K72: =VLOOKUP($E72,'[2]Gui chi Quynh'!$C$11:$E$397,3,0) -> A3 | L72: =VLOOKUP(K72,Sheet1!$B$2:$C$12,2,TRUE) -> 8 | M72: =VLOOKUP($E72,'[3]Gui chi Quynh'!$C$11:$E$396,3,0) -> A4 | N72: =VLOOKUP(M72,Sheet1!$B$2:$C$12,2,TRUE) -> 7 | O72: =VLOOKUP($E72,'[4]Gui chi Quynh'!$C$11:$E$396,3,0) -> B2 | P72: =VLOOKUP(O72,Sheet1!$B$2:$C$12,2,TRUE) -> 5 | Q72: =VLOOKUP($E72,'[5]Gui chi Quynh'!$C$11:$E$394,3,0) -> A3 | R72: =VLOOKUP(Q72,Sheet1!$B$2:$C$12,2,TRUE) -> 8 | S72: =VLOOKUP($E72,'[6]Gui chi Quynh'!$C$11:$E$393,3,0) -> A4 | T72: =VLOOKUP(S72,Sheet1!$B$2:$C$12,2,TRUE) -> 7 | U72: =VLOOKUP($E72,'[7]Gui chi Quynh'!$C$11:$E$392,3,0) -> A4 | V72: =VLOOKUP(U72,Sheet1!$B$2:$C$12,2,TRUE) -> 7 | W72: =VLOOKUP($E72,'[8]Gui chi Quynh'!$C$11:$F$391,3,0) -> A4 | X72: =VLOOKUP(W72,Sheet1!$B$2:$C$12,2,TRUE) -> 7 | Y72: =VLOOKUP($E72,'[9]Gui chi Quynh'!$C$11:$E$390,3,0) -> A3 | Z72: =VLOOKUP(Y72,Sheet1!$B$2:$C$12,2,TRUE) -> 8 | AA72: =VLOOKUP($E72,'[10]Gui chi Quynh'!$C$11:$E$391,3,0) -> A3 | AB72: =VLOOKUP(AA72,Sheet1!$B$2:$C$12,2,TRUE) -> 8 | AC72: =VLOOKUP(E72,Sheet2!$E$9:$AE$343,24,0) -> A3 | AD72: =VLOOKUP(AC72,Sheet1!$B$2:$C$12,2,TRUE) -> 8 | AE72: =VLOOKUP(E72,Sheet2!$E$9:$AE$343,26,0) -> A3 | AF72: =VLOOKUP(AE72,Sheet1!$B$2:$C$12,2,TRUE) -> 8 | AG72: =(J72+L72+N72+P72+R72+T72+V72+X72+Z72+AB72+AD72+AF72)/12 -> 7.25 | AH72: =VLOOKUP(E72,'CAC DV GUI'!$C$5:$AF$401,27,0) -> Tốt | AI72: =VLOOKUP(E72,'CAC DV GUI'!$C$5:$AF$401,28,0) -> Tốt | AJ72: =VLOOKUP(E72,'CAC DV GUI'!$C$5:$AF$401,29,0) -> 0 | AM72: =AI72 -> Tốt
A73: =IF(E73="","",SUBTOTAL(3,$E$8:E73)) -> 66 | B73: =COUNTIF($F$8:F73,F73) -> 1 | C73: Ông | D73: Nguyễn Chí Nhân | E73: 01009009 | F73: P.KT-ĐBCL | G73: TPĐV | H73: VC | I73: =VLOOKUP($E73,'[1]Gui chi Quynh'!$C$11:$E$397,3,0) -> A2 | J73: =VLOOKUP(I73,Sheet1!$B$2:$C$12,2,TRUE) -> 9 | K73: =VLOOKUP($E73,'[2]Gui chi Quynh'!$C$11:$E$397,3,0) -> A4 | L73: =VLOOKUP(K73,Sheet1!$B$2:$C$12,2,TRUE) -> 7 | M73: =VLOOKUP($E73,'[3]Gui chi Quynh'!$C$11:$E$396,3,0) -> A2 | N73: =VLOOKUP(M73,Sheet1!$B$2:$C$12,2,TRUE) -> 9 | O73: =VLOOKUP($E73,'[4]Gui chi Quynh'!$C$11:$E$396,3,0) -> A2 | P73: =VLOOKUP(O73,Sheet1!$B$2:$C$12,2,TRUE) -> 9 | Q73: =VLOOKUP($E73,'[5]Gui chi Quynh'!$C$11:$E$394,3,0) -> A2 | R73: =VLOOKUP(Q73,Sheet1!$B$2:$C$12,2,TRUE) -> 9 | S73: =VLOOKUP($E73,'[6]Gui chi Quynh'!$C$11:$E$393,3,0) -> A2 | T73: =VLOOKUP(S73,Sheet1!$B$2:$C$12,2,TRUE) -> 9 | U73: =VLOOKUP($E73,'[7]Gui chi Quynh'!$C$11:$E$392,3,0) -> A2 | V73: =VLOOKUP(U73,Sheet1!$B$2:$C$12,2,TRUE) -> 9 | W73: =VLOOKUP($E73,'[8]Gui chi Quynh'!$C$11:$F$391,3,0) -> A2 | X73: =VLOOKUP(W73,Sheet1!$B$2:$C$12,2,TRUE) -> 9 | Y73: =VLOOKUP($E73,'[9]Gui chi Quynh'!$C$11:$E$390,3,0) -> A2 | Z73: =VLOOKUP(Y73,Sheet1!$B$2:$C$12,2,TRUE) -> 9 | AA73: =VLOOKUP($E73,'[10]Gui chi Quynh'!$C$11:$E$391,3,0) -> A1 | AB73: =VLOOKUP(AA73,Sheet1!$B$2:$C$12,2,TRUE) -> 10 | AC73: =VLOOKUP(E73,Sheet2!$E$9:$AE$343,24,0) -> A1 | AD73: =VLOOKUP(AC73,Sheet1!$B$2:$C$12,2,TRUE) -> 10 | AE73: =VLOOKUP(E73,Sheet2!$E$9:$AE$343,26,0) -> A1 | AF73: =VLOOKUP(AE73,Sheet1!$B$2:$C$12,2,TRUE) -> 10 | AG73: =(J73+L73+N73+P73+R73+T73+V73+X73+Z73+AB73+AD73+AF73)/12 -> 9.0833333 | AH73: =VLOOKUP(E73,'CAC DV GUI'!$C$5:$AF$401,27,0) -> Tốt | AI73: =VLOOKUP(E73,'CAC DV GUI'!$C$5:$AF$401,28,0) -> Tốt | AJ73: =VLOOKUP(E73,'CAC DV GUI'!$C$5:$AF$401,29,0) -> 0 | AK73: Xuất sắc | AM73: Tốt
A74: =IF(E74="","",SUBTOTAL(3,$E$8:E74)) -> 67 | B74: =COUNTIF($F$8:F74,F74) -> 2 | C74: Bà | D74: Nguyễn Thị Kim Dung | E74: 01003002 | F74: P.KT-ĐBCL | G74: TPĐV | H74: VC | I74: =VLOOKUP($E74,'[1]Gui chi Quynh'!$C$11:$E$397,3,0) -> A3 | J74: =VLOOKUP(I74,Sheet1!$B$2:$C$12,2,TRUE) -> 8 | K74: =VLOOKUP($E74,'[2]Gui chi Quynh'!$C$11:$E$397,3,0) -> A2 | L74: =VLOOKUP(K74,Sheet1!$B$2:$C$12,2,TRUE) -> 9 | M74: =VLOOKUP($E74,'[3]Gui chi Quynh'!$C$11:$E$396,3,0) -> A3 | N74: =VLOOKUP(M74,Sheet1!$B$2:$C$12,2,TRUE) -> 8 | O74: =VLOOKUP($E74,'[4]Gui chi Quynh'!$C$11:$E$396,3,0) -> A1 | P74: =VLOOKUP(O74,Sheet1!$B$2:$C$12,2,TRUE) -> 10 | Q74: =VLOOKUP($E74,'[5]Gui chi Quynh'!$C$11:$E$394,3,0) -> A2 | R74: =VLOOKUP(Q74,Sheet1!$B$2:$C$12,2,TRUE) -> 9 | S74: =VLOOKUP($E74,'[6]Gui chi Quynh'!$C$11:$E$393,3,0) -> A2 | T74: =VLOOKUP(S74,Sheet1!$B$2:$C$12,2,TRUE) -> 9 | U74: =VLOOKUP($E74,'[7]Gui chi Quynh'!$C$11:$E$392,3,0) -> A2 | V74: =VLOOKUP(U74,Sheet1!$B$2:$C$12,2,TRUE) -> 9 | W74: =VLOOKUP($E74,'[8]Gui chi Quynh'!$C$11:$F$391,3,0) -> A3 | X74: =VLOOKUP(W74,Sheet1!$B$2:$C$12,2,TRUE) -> 8 | Y74: =VLOOKUP($E74,'[9]Gui chi Quynh'!$C$11:$E$390,3,0) -> A3 | Z74: =VLOOKUP(Y74,Sheet1!$B$2:$C$12,2,TRUE) -> 8 | AA74: =VLOOKUP($E74,'[10]Gui chi Quynh'!$C$11:$E$391,3,0) -> A2 | AB74: =VLOOKUP(AA74,Sheet1!$B$2:$C$12,2,TRUE) -> 9 | AC74: =VLOOKUP(E74,Sheet2!$E$9:$AE$343,24,0) -> A2 | AD74: =VLOOKUP(AC74,Sheet1!$B$2:$C$12,2,TRUE) -> 9 | AE74: =VLOOKUP(E74,Sheet2!$E$9:$AE$343,26,0) -> A2 | AF74: =VLOOKUP(AE74,Sheet1!$B$2:$C$12,2,TRUE) -> 9 | AG74: =(J74+L74+N74+P74+R74+T74+V74+X74+Z74+AB74+AD74+AF74)/12 -> 8.75 | AH74: =VLOOKUP(E74,'CAC DV GUI'!$C$5:$AF$401,27,0) -> Tốt | AI74: =VLOOKUP(E74,'CAC DV GUI'!$C$5:$AF$401,28,0) -> Tốt | AJ74: =VLOOKUP(E74,'CAC DV GUI'!$C$5:$AF$401,29,0) -> 0 | AK74: Xuất sắc | AM74: Tốt
A75: =IF(E75="","",SUBTOTAL(3,$E$8:E75)) -> 68 | B75: =COUNTIF($F$8:F75,F75) -> 3 | C75: Bà | D75: Vũ Thị Thu Thủy | E75: 01013032 | F75: P.KT-ĐBCL | G75: GVNV | H75: VC | I75: =VLOOKUP($E75,'[1]Gui chi Quynh'!$C$11:$E$397,3,0) -> A3 | J75: =VLOOKUP(I75,Sheet1!$B$2:$C$12,2,TRUE) -> 8 | K75: =VLOOKUP($E75,'[2]Gui chi Quynh'!$C$11:$E$397,3,0) -> A1 | L75: =VLOOKUP(K75,Sheet1!$B$2:$C$12,2,TRUE) -> 10 | M75: =VLOOKUP($E75,'[3]Gui chi Quynh'!$C$11:$E$396,3,0) -> A3 | N75: =VLOOKUP(M75,Sheet1!$B$2:$C$12,2,TRUE) -> 8 | O75: =VLOOKUP($E75,'[4]Gui chi Quynh'!$C$11:$E$396,3,0) -> A3 | P75: =VLOOKUP(O75,Sheet1!$B$2:$C$12,2,TRUE) -> 8 | Q75: =VLOOKUP($E75,'[5]Gui chi Quynh'!$C$11:$E$394,3,0) -> A3 | R75: =VLOOKUP(Q75,Sheet1!$B$2:$C$12,2,TRUE) -> 8 | S75: =VLOOKUP($E75,'[6]Gui chi Quynh'!$C$11:$E$393,3,0) -> A3 | T75: =VLOOKUP(S75,Sheet1!$B$2:$C$12,2,TRUE) -> 8 | U75: =VLOOKUP($E75,'[7]Gui chi Quynh'!$C$11:$E$392,3,0) -> A2 | V75: =VLOOKUP(U75,Sheet1!$B$2:$C$12,2,TRUE) -> 9 | W75: =VLOOKUP($E75,'[8]Gui chi Quynh'!$C$11:$F$391,3,0) -> A3 | X75: =VLOOKUP(W75,Sheet1!$B$2:$C$12,2,TRUE) -> 8 | Y75: =VLOOKUP($E75,'[9]Gui chi Quynh'!$C$11:$E$390,3,0) -> A3 | Z75: =VLOOKUP(Y75,Sheet1!$B$2:$C$12,2,TRUE) -> 8 | AA75: =VLOOKUP($E75,'[10]Gui chi Quynh'!$C$11:$E$391,3,0) -> A3 | AB75: =VLOOKUP(AA75,Sheet1!$B$2:$C$12,2,TRUE) -> 8 | AC75: =VLOOKUP(E75,Sheet2!$E$9:$AE$343,24,0) -> A3 | AD75: =VLOOKUP(AC75,Sheet1!$B$2:$C$12,2,TRUE) -> 8 | AE75: =VLOOKUP(E75,Sheet2!$E$9:$AE$343,26,0) -> A3 | AF75: =VLOOKUP(AE75,Sheet1!$B$2:$C$12,2,TRUE) -> 8 | AG75: =(J75+L75+N75+P75+R75+T75+V75+X75+Z75+AB75+AD75+AF75)/12 -> 8.25 | AH75: =VLOOKUP(E75,'CAC DV GUI'!$C$5:$AF$401,27,0) -> Tốt | AI75: =VLOOKUP(E75,'CAC DV GUI'!$C$5:$AF$401,28,0) -> Tốt | AJ75: =VLOOKUP(E75,'CAC DV GUI'!$C$5:$AF$401,29,0) -> 0 | AM75: =AI75 -> Tốt
A76: =IF(E76="","",SUBTOTAL(3,$E$8:E76)) -> 69 | B76: =COUNTIF($F$8:F76,F76) -> 4 | C76: Bà | D76: Nguyễn Thị Tuyết | E76: 01022061 | F76: P.KT-ĐBCL | G76: GVNV | H76: VC | I76: =VLOOKUP($E76,'[1]Gui chi Quynh'!$C$11:$E$397,3,0) -> A3 | J76: =VLOOKUP(I76,Sheet1!$B$2:$C$12,2,TRUE) -> 8 | K76: =VLOOKUP($E76,'[2]Gui chi Quynh'!$C$11:$E$397,3,0) -> A3 | L76: =VLOOKUP(K76,Sheet1!$B$2:$C$12,2,TRUE) -> 8 | M76: =VLOOKUP($E76,'[3]Gui chi Quynh'!$C$11:$E$396,3,0) -> A2 | N76: =VLOOKUP(M76,Sheet1!$B$2:$C$12,2,TRUE) -> 9 | O76: =VLOOKUP($E76,'[4]Gui chi Quynh'!$C$11:$E$396,3,0) -> A2 | P76: =VLOOKUP(O76,Sheet1!$B$2:$C$12,2,TRUE) -> 9 | Q76: =VLOOKUP($E76,'[5]Gui chi Quynh'!$C$11:$E$394,3,0) -> A2 | R76: =VLOOKUP(Q76,Sheet1!$B$2:$C$12,2,TRUE) -> 9 | S76: =VLOOKUP($E76,'[6]Gui chi Quynh'!$C$11:$E$393,3,0) -> A2 | T76: =VLOOKUP(S76,Sheet1!$B$2:$C$12,2,TRUE) -> 9 | U76: =VLOOKUP($E76,'[7]Gui chi Quynh'!$C$11:$E$392,3,0) -> A2 | V76: =VLOOKUP(U76,Sheet1!$B$2:$C$12,2,TRUE) -> 9 | W76: =VLOOKUP($E76,'[8]Gui chi Quynh'!$C$11:$F$391,3,0) -> A3 | X76: =VLOOKUP(W76,Sheet1!$B$2:$C$12,2,TRUE) -> 8 | Y76: =VLOOKUP($E76,'[9]Gui chi Quynh'!$C$11:$E$390,3,0) -> A3 | Z76: =VLOOKUP(Y76,Sheet1!$B$2:$C$12,2,TRUE) -> 8 | AA76: =VLOOKUP($E76,'[10]Gui chi Quynh'!$C$11:$E$391,3,0) -> A2 | AB76: =VLOOKUP(AA76,Sheet1!$B$2:$C$12,2,TRUE) -> 9 | AC76: =VLOOKUP(E76,Sheet2!$E$9:$AE$343,24,0) -> A2 | AD76: =VLOOKUP(AC76,Sheet1!$B$2:$C$12,2,TRUE) -> 9 | AE76: =VLOOKUP(E76,Sheet2!$E$9:$AE$343,26,0) -> A2 | AF76: =VLOOKUP(AE76,Sheet1!$B$2:$C$12,2,TRUE) -> 9 | AG76: =(J76+L76+N76+P76+R76+T76+V76+X76+Z76+AB76+AD76+AF76)/12 -> 8.6666667 | AH76: =VLOOKUP(E76,'CAC DV GUI'!$C$5:$AF$401,27,0) -> Tốt | AI76: =VLOOKUP(E76,'CAC DV GUI'!$C$5:$AF$401,28,0) -> Tốt | AJ76: =VLOOKUP(E76,'CAC DV GUI'!$C$5:$AF$401,29,0) -> 0 | AM76: =AI76 -> Tốt
A77: =IF(E77="","",SUBTOTAL(3,$E$8:E77)) -> 70 | B77: =COUNTIF($F$8:F77,F77) -> 5 | C77: Ông | D77: Lương Minh Dũng | E77: 01015027 | F77: P.KT-ĐBCL | G77: GVNV | H77: VC | I77: =VLOOKUP($E77,'[1]Gui chi Quynh'!$C$11:$E$397,3,0) -> A3 | J77: =VLOOKUP(I77,Sheet1!$B$2:$C$12,2,TRUE) -> 8 | K77: =VLOOKUP($E77,'[2]Gui chi Quynh'!$C$11:$E$397,3,0) -> A3 | L77: =VLOOKUP(K77,Sheet1!$B$2:$C$12,2,TRUE) -> 8 | M77: =VLOOKUP($E77,'[3]Gui chi Quynh'!$C$11:$E$396,3,0) -> A2 | N77: =VLOOKUP(M77,Sheet1!$B$2:$C$12,2,TRUE) -> 9 | O77: =VLOOKUP($E77,'[4]Gui chi Quynh'!$C$11:$E$396,3,0) -> A2 | P77: =VLOOKUP(O77,Sheet1!$B$2:$C$12,2,TRUE) -> 9 | Q77: =VLOOKUP($E77,'[5]Gui chi Quynh'!$C$11:$E$394,3,0) -> A1 | R77: =VLOOKUP(Q77,Sheet1!$B$2:$C$12,2,TRUE) -> 10 | S77: =VLOOKUP($E77,'[6]Gui chi Quynh'!$C$11:$E$393,3,0) -> A2 | T77: =VLOOKUP(S77,Sheet1!$B$2:$C$12,2,TRUE) -> 9 | U77: =VLOOKUP($E77,'[7]Gui chi Quynh'!$C$11:$E$392,3,0) -> A1 | V77: =VLOOKUP(U77,Sheet1!$B$2:$C$12,2,TRUE) -> 10 | W77: =VLOOKUP($E77,'[8]Gui chi Quynh'!$C$11:$F$391,3,0) -> A3 | X77: =VLOOKUP(W77,Sheet1!$B$2:$C$12,2,TRUE) -> 8 | Y77: =VLOOKUP($E77,'[9]Gui chi Quynh'!$C$11:$E$390,3,0) -> A3 | Z77: =VLOOKUP(Y77,Sheet1!$B$2:$C$12,2,TRUE) -> 8 | AA77: =VLOOKUP($E77,'[10]Gui chi Quynh'!$C$11:$E$391,3,0) -> A1 | AB77: =VLOOKUP(AA77,Sheet1!$B$2:$C$12,2,TRUE) -> 10 | AC77: =VLOOKUP(E77,Sheet2!$E$9:$AE$343,24,0) -> A1 | AD77: =VLOOKUP(AC77,Sheet1!$B$2:$C$12,2,TRUE) -> 10 | AE77: =VLOOKUP(E77,Sheet2!$E$9:$AE$343,26,0) -> A2 | AF77: =VLOOKUP(AE77,Sheet1!$B$2:$C$12,2,TRUE) -> 9 | AG77: =(J77+L77+N77+P77+R77+T77+V77+X77+Z77+AB77+AD77+AF77)/12 -> 9 | AH77: =VLOOKUP(E77,'CAC DV GUI'!$C$5:$AF$401,27,0) -> Tốt | AI77: =VLOOKUP(E77,'CAC DV GUI'!$C$5:$AF$401,28,0) -> Xuất sắc | AJ77: =VLOOKUP(E77,'CAC DV GUI'!$C$5:$AF$401,29,0) -> 0 | AM77: =AI77 -> Xuất sắc
A78: =IF(E78="","",SUBTOTAL(3,$E$8:E78)) -> 71 | B78: =COUNTIF($F$8:F78,F78) -> 6 | C78: Bà | D78: Mai Nguyễn Hoàng Yến | E78: 01010038 | F78: P.KT-ĐBCL | G78: GVNV | H78: VC | I78: =VLOOKUP($E78,'[1]Gui chi Quynh'!$C$11:$E$397,3,0) -> A3 | J78: =VLOOKUP(I78,Sheet1!$B$2:$C$12,2,TRUE) -> 8 | K78: =VLOOKUP($E78,'[2]Gui chi Quynh'!$C$11:$E$397,3,0) -> A1 | L78: =VLOOKUP(K78,Sheet1!$B$2:$C$12,2,TRUE) -> 10 | M78: =VLOOKUP($E78,'[3]Gui chi Quynh'!$C$11:$E$396,3,0) -> A2 | N78: =VLOOKUP(M78,Sheet1!$B$2:$C$12,2,TRUE) -> 9 | O78: =VLOOKUP($E78,'[4]Gui chi Quynh'!$C$11:$E$396,3,0) -> A2 | P78: =VLOOKUP(O78,Sheet1!$B$2:$C$12,2,TRUE) -> 9 | Q78: =VLOOKUP($E78,'[5]Gui chi Quynh'!$C$11:$E$394,3,0) -> A3 | R78: =VLOOKUP(Q78,Sheet1!$B$2:$C$12,2,TRUE) -> 8 | S78: =VLOOKUP($E78,'[6]Gui chi Quynh'!$C$11:$E$393,3,0) -> A3 | T78: =VLOOKUP(S78,Sheet1!$B$2:$C$12,2,TRUE) -> 8 | U78: =VLOOKUP($E78,'[7]Gui chi Quynh'!$C$11:$E$392,3,0) -> A3 | V78: =VLOOKUP(U78,Sheet1!$B$2:$C$12,2,TRUE) -> 8 | W78: =VLOOKUP($E78,'[8]Gui chi Quynh'!$C$11:$F$391,3,0) -> A3 | X78: =VLOOKUP(W78,Sheet1!$B$2:$C$12,2,TRUE) -> 8 | Y78: =VLOOKUP($E78,'[9]Gui chi Quynh'!$C$11:$E$390,3,0) -> A2 | Z78: =VLOOKUP(Y78,Sheet1!$B$2:$C$12,2,TRUE) -> 9 | AA78: =VLOOKUP($E78,'[10]Gui chi Quynh'!$C$11:$E$391,3,0) -> A2 | AB78: =VLOOKUP(AA78,Sheet1!$B$2:$C$12,2,TRUE) -> 9 | AC78: =VLOOKUP(E78,Sheet2!$E$9:$AE$343,24,0) -> A3 | AD78: =VLOOKUP(AC78,Sheet1!$B$2:$C$12,2,TRUE) -> 8 | AE78: =VLOOKUP(E78,Sheet2!$E$9:$AE$343,26,0) -> A3 | AF78: =VLOOKUP(AE78,Sheet1!$B$2:$C$12,2,TRUE) -> 8 | AG78: =(J78+L78+N78+P78+R78+T78+V78+X78+Z78+AB78+AD78+AF78)/12 -> 8.5 | AH78: =VLOOKUP(E78,'CAC DV GUI'!$C$5:$AF$401,27,0) -> Xuất sắc | AI78: =VLOOKUP(E78,'CAC DV GUI'!$C$5:$AF$401,28,0) -> Tốt | AJ78: =VLOOKUP(E78,'CAC DV GUI'!$C$5:$AF$401,29,0) -> 0 | AM78: =AI78 -> Tốt
A79: =IF(E79="","",SUBTOTAL(3,$E$8:E79)) -> 72 | B79: =COUNTIF($F$8:F79,F79) -> 7 | C79: Ông | D79: Lê Xuân Thiện | E79: 01002002 | F79: P.KT-ĐBCL | G79: GVNV | H79: VC | I79: =VLOOKUP($E79,'[1]Gui chi Quynh'!$C$11:$E$397,3,0) -> A1 | J79: =VLOOKUP(I79,Sheet1!$B$2:$C$12,2,TRUE) -> 10 | K79: =VLOOKUP($E79,'[2]Gui chi Quynh'!$C$11:$E$397,3,0) -> A3 | L79: =VLOOKUP(K79,Sheet1!$B$2:$C$12,2,TRUE) -> 8 | M79: =VLOOKUP($E79,'[3]Gui chi Quynh'!$C$11:$E$396,3,0) -> A3 | N79: =VLOOKUP(M79,Sheet1!$B$2:$C$12,2,TRUE) -> 8 | O79: =VLOOKUP($E79,'[4]Gui chi Quynh'!$C$11:$E$396,3,0) -> A2 | P79: =VLOOKUP(O79,Sheet1!$B$2:$C$12,2,TRUE) -> 9 | Q79: =VLOOKUP($E79,'[5]Gui chi Quynh'!$C$11:$E$394,3,0) -> A1 | R79: =VLOOKUP(Q79,Sheet1!$B$2:$C$12,2,TRUE) -> 10 | S79: =VLOOKUP($E79,'[6]Gui chi Quynh'!$C$11:$E$393,3,0) -> A1 | T79: =VLOOKUP(S79,Sheet1!$B$2:$C$12,2,TRUE) -> 10 | U79: =VLOOKUP($E79,'[7]Gui chi Quynh'!$C$11:$E$392,3,0) -> A3 | V79: =VLOOKUP(U79,Sheet1!$B$2:$C$12,2,TRUE) -> 8 | W79: =VLOOKUP($E79,'[8]Gui chi Quynh'!$C$11:$F$391,3,0) -> A3 | X79: =VLOOKUP(W79,Sheet1!$B$2:$C$12,2,TRUE) -> 8 | Y79: =VLOOKUP($E79,'[9]Gui chi Quynh'!$C$11:$E$390,3,0) -> A3 | Z79: =VLOOKUP(Y79,Sheet1!$B$2:$C$12,2,TRUE) -> 8 | AA79: =VLOOKUP($E79,'[10]Gui chi Quynh'!$C$11:$E$391,3,0) -> A3 | AB79: =VLOOKUP(AA79,Sheet1!$B$2:$C$12,2,TRUE) -> 8 | AC79: =VLOOKUP(E79,Sheet2!$E$9:$AE$343,24,0) -> A3 | AD79: =VLOOKUP(AC79,Sheet1!$B$2:$C$12,2,TRUE) -> 8 | AE79: =VLOOKUP(E79,Sheet2!$E$9:$AE$343,26,0) -> A2 | AF79: =VLOOKUP(AE79,Sheet1!$B$2:$C$12,2,TRUE) -> 9 | AG79: =(J79+L79+N79+P79+R79+T79+V79+X79+Z79+AB79+AD79+AF79)/12 -> 8.6666667 | AH79: =VLOOKUP(E79,'CAC DV GUI'!$C$5:$AF$401,27,0) -> Tốt | AI79: =VLOOKUP(E79,'CAC DV GUI'!$C$5:$AF$401,28,0) -> Tốt | AJ79: =VLOOKUP(E79,'CAC DV GUI'!$C$5:$AF$401,29,0) -> 0 | AM79: =AI79 -> Tốt
A80: =IF(E80="","",SUBTOTAL(3,$E$8:E80)) -> 73 | B80: =COUNTIF($F$8:F80,F80) -> 8 | C80: Bà | D80: Nguyễn Yến Nhi | E80: 01006006 | F80: P.KT-ĐBCL | G80: GVNV | H80: HĐT | I80: =VLOOKUP($E80,'[1]Gui chi Quynh'!$C$11:$E$397,3,0) -> A3 | J80: =VLOOKUP(I80,Sheet1!$B$2:$C$12,2,TRUE) -> 8 | K80: =VLOOKUP($E80,'[2]Gui chi Quynh'!$C$11:$E$397,3,0) -> A1 | L80: =VLOOKUP(K80,Sheet1!$B$2:$C$12,2,TRUE) -> 10 | M80: =VLOOKUP($E80,'[3]Gui chi Quynh'!$C$11:$E$396,3,0) -> A DN | O80: =VLOOKUP($E80,'[4]Gui chi Quynh'!$C$11:$E$396,3,0) -> A DN | Q80: =VLOOKUP($E80,'[5]Gui chi Quynh'!$C$11:$E$394,3,0) -> A DN | S80: =VLOOKUP($E80,'[6]Gui chi Quynh'!$C$11:$E$393,3,0) -> A DN | U80: =VLOOKUP($E80,'[7]Gui chi Quynh'!$C$11:$E$392,3,0) -> A DN | W80: =VLOOKUP($E80,'[8]Gui chi Quynh'!$C$11:$F$391,3,0) -> A DN | Y80: =VLOOKUP($E80,'[9]Gui chi Quynh'!$C$11:$E$390,3,0) -> A3 | Z80: =VLOOKUP(Y80,Sheet1!$B$2:$C$12,2,TRUE) -> 8 | AA80: =VLOOKUP($E80,'[10]Gui chi Quynh'!$C$11:$E$391,3,0) -> A3 | AB80: =VLOOKUP(AA80,Sheet1!$B$2:$C$12,2,TRUE) -> 8 | AC80: =VLOOKUP(E80,Sheet2!$E$9:$AE$343,24,0) -> A3 | AD80: =VLOOKUP(AC80,Sheet1!$B$2:$C$12,2,TRUE) -> 8 | AE80: =VLOOKUP(E80,Sheet2!$E$9:$AE$343,26,0) -> A3 | AF80: =VLOOKUP(AE80,Sheet1!$B$2:$C$12,2,TRUE) -> 8 | AG80: =(J80+L80+N80+P80+R80+T80+V80+X80+Z80+AB80+AD80+AF80)/6 -> 8.3333333 | AH80: =VLOOKUP(E80,'CAC DV GUI'!$C$5:$AF$401,27,0) -> Tốt | AI80: =VLOOKUP(E80,'CAC DV GUI'!$C$5:$AF$401,28,0) -> Tốt | AJ80: =VLOOKUP(E80,'CAC DV GUI'!$C$5:$AF$401,29,0) -> 0 | AM80: =AI80 -> Tốt | AO80: nghỉ thai sản từ ngày 9/9/2024 đến 8/3/25, đánh giá 6 tháng làm việc thực tế
A81: =IF(E81="","",SUBTOTAL(3,$E$8:E81)) -> 74 | B81: =COUNTIF($F$8:F81,F81) -> 1 | C81: Ông | D81: Nguyễn Trọng Nghĩa | E81: 01025001 | F81: P.QLKH-HTQT | G81: TPĐV | H81: VC | I81: =VLOOKUP($E81,'[1]Gui chi Quynh'!$C$11:$E$397,3,0) -> A1 | J81: =VLOOKUP(I81,Sheet1!$B$2:$C$12,2,TRUE) -> 10 | K81: =VLOOKUP($E81,'[2]Gui chi Quynh'!$C$11:$E$397,3,0) -> A2 | L81: =VLOOKUP(K81,Sheet1!$B$2:$C$12,2,TRUE) -> 9 | M81: =VLOOKUP($E81,'[3]Gui chi Quynh'!$C$11:$E$396,3,0) -> A4 | N81: =VLOOKUP(M81,Sheet1!$B$2:$C$12,2,TRUE) -> 7 | O81: =VLOOKUP($E81,'[4]Gui chi Quynh'!$C$11:$E$396,3,0) -> A1 | P81: =VLOOKUP(O81,Sheet1!$B$2:$C$12,2,TRUE) -> 10 | Q81: =VLOOKUP($E81,'[5]Gui chi Quynh'!$C$11:$E$394,3,0) -> A1 | R81: =VLOOKUP(Q81,Sheet1!$B$2:$C$12,2,TRUE) -> 10 | S81: =VLOOKUP($E81,'[6]Gui chi Quynh'!$C$11:$E$393,3,0) -> A1 | T81: =VLOOKUP(S81,Sheet1!$B$2:$C$12,2,TRUE) -> 10 | U81: =VLOOKUP($E81,'[7]Gui chi Quynh'!$C$11:$E$392,3,0) -> A1 | V81: =VLOOKUP(U81,Sheet1!$B$2:$C$12,2,TRUE) -> 10 | W81: =VLOOKUP($E81,'[8]Gui chi Quynh'!$C$11:$F$391,3,0) -> A1 | X81: =VLOOKUP(W81,Sheet1!$B$2:$C$12,2,TRUE) -> 10 | Y81: =VLOOKUP($E81,'[9]Gui chi Quynh'!$C$11:$E$390,3,0) -> A1 | Z81: =VLOOKUP(Y81,Sheet1!$B$2:$C$12,2,TRUE) -> 10 | AA81: =VLOOKUP($E81,'[10]Gui chi Quynh'!$C$11:$E$391,3,0) -> A1 | AB81: =VLOOKUP(AA81,Sheet1!$B$2:$C$12,2,TRUE) -> 10 | AC81: =VLOOKUP(E81,Sheet2!$E$9:$AE$343,24,0) -> A1 | AD81: =VLOOKUP(AC81,Sheet1!$B$2:$C$12,2,TRUE) -> 10 | AE81: =VLOOKUP(E81,Sheet2!$E$9:$AE$343,26,0) -> A1 | AF81: =VLOOKUP(AE81,Sheet1!$B$2:$C$12,2,TRUE) -> 10 | AG81: =(J81+L81+N81+P81+R81+T81+V81+X81+Z81+AB81+AD81+AF81)/12 -> 9.6666667 | AH81: =VLOOKUP(E81,'CAC DV GUI'!$C$5:$AF$401,27,0) -> Xuất sắc | AI81: =VLOOKUP(E81,'CAC DV GUI'!$C$5:$AF$401,28,0) -> Xuất sắc | AJ81: =VLOOKUP(E81,'CAC DV GUI'!$C$5:$AF$401,29,0) -> 0 | AK81: Xuất sắc | AM81: Tốt
A82: =IF(E82="","",SUBTOTAL(3,$E$8:E82)) -> 75 | B82: =COUNTIF($F$8:F82,F82) -> 2 | C82: Bà | D82: Lê Thị Hải Đăng | E82: 01002039 | F82: P.QLKH-HTQT | G82: GVNV | H82: VC | I82: =VLOOKUP($E82,'[1]Gui chi Quynh'!$C$11:$E$397,3,0) -> A2 | J82: =VLOOKUP(I82,Sheet1!$B$2:$C$12,2,TRUE) -> 9 | K82: =VLOOKUP($E82,'[2]Gui chi Quynh'!$C$11:$E$397,3,0) -> A2 | L82: =VLOOKUP(K82,Sheet1!$B$2:$C$12,2,TRUE) -> 9 | M82: =VLOOKUP($E82,'[3]Gui chi Quynh'!$C$11:$E$396,3,0) -> A2 | N82: =VLOOKUP(M82,Sheet1!$B$2:$C$12,2,TRUE) -> 9 | O82: =VLOOKUP($E82,'[4]Gui chi Quynh'!$C$11:$E$396,3,0) -> A2 | P82: =VLOOKUP(O82,Sheet1!$B$2:$C$12,2,TRUE) -> 9 | Q82: =VLOOKUP($E82,'[5]Gui chi Quynh'!$C$11:$E$394,3,0) -> A2 | R82: =VLOOKUP(Q82,Sheet1!$B$2:$C$12,2,TRUE) -> 9 | S82: =VLOOKUP($E82,'[6]Gui chi Quynh'!$C$11:$E$393,3,0) -> A2 | T82: =VLOOKUP(S82,Sheet1!$B$2:$C$12,2,TRUE) -> 9 | U82: =VLOOKUP($E82,'[7]Gui chi Quynh'!$C$11:$E$392,3,0) -> A2 | V82: =VLOOKUP(U82,Sheet1!$B$2:$C$12,2,TRUE) -> 9 | W82: =VLOOKUP($E82,'[8]Gui chi Quynh'!$C$11:$F$391,3,0) -> A2 | X82: =VLOOKUP(W82,Sheet1!$B$2:$C$12,2,TRUE) -> 9 | Y82: =VLOOKUP($E82,'[9]Gui chi Quynh'!$C$11:$E$390,3,0) -> A2 | Z82: =VLOOKUP(Y82,Sheet1!$B$2:$C$12,2,TRUE) -> 9 | AA82: =VLOOKUP($E82,'[10]Gui chi Quynh'!$C$11:$E$391,3,0) -> A2 | AB82: =VLOOKUP(AA82,Sheet1!$B$2:$C$12,2,TRUE) -> 9 | AC82: =VLOOKUP(E82,Sheet2!$E$9:$AE$343,24,0) -> A2 | AD82: =VLOOKUP(AC82,Sheet1!$B$2:$C$12,2,TRUE) -> 9 | AE82: =VLOOKUP(E82,Sheet2!$E$9:$AE$343,26,0) -> A2 | AF82: =VLOOKUP(AE82,Sheet1!$B$2:$C$12,2,TRUE) -> 9 | AG82: =(J82+L82+N82+P82+R82+T82+V82+X82+Z82+AB82+AD82+AF82)/12 -> 9 | AH82: =VLOOKUP(E82,'CAC DV GUI'!$C$5:$AF$401,27,0) -> Xuất sắc | AI82: =VLOOKUP(E82,'CAC DV GUI'!$C$5:$AF$401,28,0) -> Xuất sắc | AJ82: =VLOOKUP(E82,'CAC DV GUI'!$C$5:$AF$401,29,0) -> 0 | AM82: =AI82 -> Xuất sắc
A83: =IF(E83="","",SUBTOTAL(3,$E$8:E83)) -> 76 | B83: =COUNTIF($F$8:F83,F83) -> 3 | C83: Ông | D83: Lê Tiến Dũng | E83: 01005003 | F83: P.QLKH-HTQT | G83: GVNV | H83: HĐT | I83: =VLOOKUP($E83,'[1]Gui chi Quynh'!$C$11:$E$397,3,0) -> A2 | J83: =VLOOKUP(I83,Sheet1!$B$2:$C$12,2,TRUE) -> 9 | K83: =VLOOKUP($E83,'[2]Gui chi Quynh'!$C$11:$E$397,3,0) -> A2 | L83: =VLOOKUP(K83,Sheet1!$B$2:$C$12,2,TRUE) -> 9 | M83: =VLOOKUP($E83,'[3]Gui chi Quynh'!$C$11:$E$396,3,0) -> A3 | N83: =VLOOKUP(M83,Sheet1!$B$2:$C$12,2,TRUE) -> 8 | O83: =VLOOKUP($E83,'[4]Gui chi Quynh'!$C$11:$E$396,3,0) -> A1 | P83: =VLOOKUP(O83,Sheet1!$B$2:$C$12,2,TRUE) -> 10 | Q83: =VLOOKUP($E83,'[5]Gui chi Quynh'!$C$11:$E$394,3,0) -> A1 | R83: =VLOOKUP(Q83,Sheet1!$B$2:$C$12,2,TRUE) -> 10 | S83: =VLOOKUP($E83,'[6]Gui chi Quynh'!$C$11:$E$393,3,0) -> A2 | T83: =VLOOKUP(S83,Sheet1!$B$2:$C$12,2,TRUE) -> 9 | U83: =VLOOKUP($E83,'[7]Gui chi Quynh'!$C$11:$E$392,3,0) -> A1 | V83: =VLOOKUP(U83,Sheet1!$B$2:$C$12,2,TRUE) -> 10 | W83: =VLOOKUP($E83,'[8]Gui chi Quynh'!$C$11:$F$391,3,0) -> A1 | X83: =VLOOKUP(W83,Sheet1!$B$2:$C$12,2,TRUE) -> 10 | Y83: =VLOOKUP($E83,'[9]Gui chi Quynh'!$C$11:$E$390,3,0) -> A1 | Z83: =VLOOKUP(Y83,Sheet1!$B$2:$C$12,2,TRUE) -> 10 | AA83: =VLOOKUP($E83,'[10]Gui chi Quynh'!$C$11:$E$391,3,0) -> A1 | AB83: =VLOOKUP(AA83,Sheet1!$B$2:$C$12,2,TRUE) -> 10 | AC83: =VLOOKUP(E83,Sheet2!$E$9:$AE$343,24,0) -> A1 | AD83: =VLOOKUP(AC83,Sheet1!$B$2:$C$12,2,TRUE) -> 10 | AE83: =VLOOKUP(E83,Sheet2!$E$9:$AE$343,26,0) -> A1 | AF83: =VLOOKUP(AE83,Sheet1!$B$2:$C$12,2,TRUE) -> 10 | AG83: =(J83+L83+N83+P83+R83+T83+V83+X83+Z83+AB83+AD83+AF83)/12 -> 9.5833333 | AH83: =VLOOKUP(E83,'CAC DV GUI'!$C$5:$AF$401,27,0) -> Xuất sắc | AI83: =VLOOKUP(E83,'CAC DV GUI'!$C$5:$AF$401,28,0) -> Xuất sắc | AJ83: =VLOOKUP(E83,'CAC DV GUI'!$C$5:$AF$401,29,0) -> 0 | AM83: =AI83 -> Xuất sắc
A84: =IF(E84="","",SUBTOTAL(3,$E$8:E84)) -> 77 | B84: =COUNTIF($F$8:F84,F84) -> 4 | C84: Bà | D84: Lê Trần Thanh Nga | E84: 01005011 | F84: P.QLKH-HTQT | G84: GVNV | H84: HĐT | I84: =VLOOKUP($E84,'[1]Gui chi Quynh'!$C$11:$E$397,3,0) -> A3 | J84: =VLOOKUP(I84,Sheet1!$B$2:$C$12,2,TRUE) -> 8 | K84: =VLOOKUP($E84,'[2]Gui chi Quynh'!$C$11:$E$397,3,0) -> A3 | L84: =VLOOKUP(K84,Sheet1!$B$2:$C$12,2,TRUE) -> 8 | M84: =VLOOKUP($E84,'[3]Gui chi Quynh'!$C$11:$E$396,3,0) -> A4 | N84: =VLOOKUP(M84,Sheet1!$B$2:$C$12,2,TRUE) -> 7 | O84: =VLOOKUP($E84,'[4]Gui chi Quynh'!$C$11:$E$396,3,0) -> A3 | P84: =VLOOKUP(O84,Sheet1!$B$2:$C$12,2,TRUE) -> 8 | Q84: =VLOOKUP($E84,'[5]Gui chi Quynh'!$C$11:$E$394,3,0) -> A3 | R84: =VLOOKUP(Q84,Sheet1!$B$2:$C$12,2,TRUE) -> 8 | S84: =VLOOKUP($E84,'[6]Gui chi Quynh'!$C$11:$E$393,3,0) -> A3 | T84: =VLOOKUP(S84,Sheet1!$B$2:$C$12,2,TRUE) -> 8 | U84: =VLOOKUP($E84,'[7]Gui chi Quynh'!$C$11:$E$392,3,0) -> A4 | V84: =VLOOKUP(U84,Sheet1!$B$2:$C$12,2,TRUE) -> 7 | W84: =VLOOKUP($E84,'[8]Gui chi Quynh'!$C$11:$F$391,3,0) -> A4 | X84: =VLOOKUP(W84,Sheet1!$B$2:$C$12,2,TRUE) -> 7 | Y84: =VLOOKUP($E84,'[9]Gui chi Quynh'!$C$11:$E$390,3,0) -> A4 | Z84: =VLOOKUP(Y84,Sheet1!$B$2:$C$12,2,TRUE) -> 7 | AA84: =VLOOKUP($E84,'[10]Gui chi Quynh'!$C$11:$E$391,3,0) -> A3 | AB84: =VLOOKUP(AA84,Sheet1!$B$2:$C$12,2,TRUE) -> 8 | AC84: =VLOOKUP(E84,Sheet2!$E$9:$AE$343,24,0) -> A3 | AD84: =VLOOKUP(AC84,Sheet1!$B$2:$C$12,2,TRUE) -> 8 | AE84: =VLOOKUP(E84,Sheet2!$E$9:$AE$343,26,0) -> A3 | AF84: =VLOOKUP(AE84,Sheet1!$B$2:$C$12,2,TRUE) -> 8 | AG84: =(J84+L84+N84+P84+R84+T84+V84+X84+Z84+AB84+AD84+AF84)/12 -> 7.6666667 | AH84: =VLOOKUP(E84,'CAC DV GUI'!$C$5:$AF$401,27,0) -> Tốt | AI84: =VLOOKUP(E84,'CAC DV GUI'!$C$5:$AF$401,28,0) -> Tốt | AJ84: =VLOOKUP(E84,'CAC DV GUI'!$C$5:$AF$401,29,0) -> 0 | AM84: =AI84 -> Tốt
A85: =IF(E85="","",SUBTOTAL(3,$E$8:E85)) -> 78 | B85: =COUNTIF($F$8:F85,F85) -> 1 | C85: Ông | D85: Lê Quang Liêm | E85: 01008028 | F85: P.QT-DV | G85: TPĐV | H85: VC | I85: =VLOOKUP($E85,'[1]Gui chi Quynh'!$C$11:$E$397,3,0) -> A1 | J85: =VLOOKUP(I85,Sheet1!$B$2:$C$12,2,TRUE) -> 10 | K85: =VLOOKUP($E85,'[2]Gui chi Quynh'!$C$11:$E$397,3,0) -> A1 | L85: =VLOOKUP(K85,Sheet1!$B$2:$C$12,2,TRUE) -> 10 | M85: =VLOOKUP($E85,'[3]Gui chi Quynh'!$C$11:$E$396,3,0) -> A1 | N85: =VLOOKUP(M85,Sheet1!$B$2:$C$12,2,TRUE) -> 10 | O85: =VLOOKUP($E85,'[4]Gui chi Quynh'!$C$11:$E$396,3,0) -> A1 | P85: =VLOOKUP(O85,Sheet1!$B$2:$C$12,2,TRUE) -> 10 | Q85: =VLOOKUP($E85,'[5]Gui chi Quynh'!$C$11:$E$394,3,0) -> A1 | R85: =VLOOKUP(Q85,Sheet1!$B$2:$C$12,2,TRUE) -> 10 | S85: =VLOOKUP($E85,'[6]Gui chi Quynh'!$C$11:$E$393,3,0) -> A1 | T85: =VLOOKUP(S85,Sheet1!$B$2:$C$12,2,TRUE) -> 10 | U85: =VLOOKUP($E85,'[7]Gui chi Quynh'!$C$11:$E$392,3,0) -> A1 | V85: =VLOOKUP(U85,Sheet1!$B$2:$C$12,2,TRUE) -> 10 | W85: =VLOOKUP($E85,'[8]Gui chi Quynh'!$C$11:$F$391,3,0) -> A1 | X85: =VLOOKUP(W85,Sheet1!$B$2:$C$12,2,TRUE) -> 10 | Y85: =VLOOKUP($E85,'[9]Gui chi Quynh'!$C$11:$E$390,3,0) -> A1 | Z85: =VLOOKUP(Y85,Sheet1!$B$2:$C$12,2,TRUE) -> 10 | AA85: =VLOOKUP($E85,'[10]Gui chi Quynh'!$C$11:$E$391,3,0) -> A1 | AB85: =VLOOKUP(AA85,Sheet1!$B$2:$C$12,2,TRUE) -> 10 | AC85: =VLOOKUP(E85,Sheet2!$E$9:$AE$343,24,0) -> A1 | AD85: =VLOOKUP(AC85,Sheet1!$B$2:$C$12,2,TRUE) -> 10 | AE85: =VLOOKUP(E85,Sheet2!$E$9:$AE$343,26,0) -> A1 | AF85: =VLOOKUP(AE85,Sheet1!$B$2:$C$12,2,TRUE) -> 10 | AG85: =(J85+L85+N85+P85+R85+T85+V85+X85+Z85+AB85+AD85+AF85)/12 -> 10 | AH85: =VLOOKUP(E85,'CAC DV GUI'!$C$5:$AF$401,27,0) -> Xuất sắc | AI85: =VLOOKUP(E85,'CAC DV GUI'!$C$5:$AF$401,28,0) -> Xuất sắc | AJ85: =VLOOKUP(E85,'CAC DV GUI'!$C$5:$AF$401,29,0) -> 0 | AK85: Xuất sắc | AM85: Tốt
A86: =IF(E86="","",SUBTOTAL(3,$E$8:E86)) -> 79 | B86: =COUNTIF($F$8:F86,F86) -> 2 | C86: Ông | D86: Nguyễn Văn Thành | E86: 01008002 | F86: P.QT-DV | G86: TPĐV | H86: VC | I86: =VLOOKUP($E86,'[1]Gui chi Quynh'!$C$11:$E$397,3,0) -> A2 | J86: =VLOOKUP(I86,Sheet1!$B$2:$C$12,2,TRUE) -> 9 | K86: =VLOOKUP($E86,'[2]Gui chi Quynh'!$C$11:$E$397,3,0) -> A1 | L86: =VLOOKUP(K86,Sheet1!$B$2:$C$12,2,TRUE) -> 10 | M86: =VLOOKUP($E86,'[3]Gui chi Quynh'!$C$11:$E$396,3,0) -> A2 | N86: =VLOOKUP(M86,Sheet1!$B$2:$C$12,2,TRUE) -> 9 | O86: =VLOOKUP($E86,'[4]Gui chi Quynh'!$C$11:$E$396,3,0) -> A1 | P86: =VLOOKUP(O86,Sheet1!$B$2:$C$12,2,TRUE) -> 10 | Q86: =VLOOKUP($E86,'[5]Gui chi Quynh'!$C$11:$E$394,3,0) -> A1 | R86: =VLOOKUP(Q86,Sheet1!$B$2:$C$12,2,TRUE) -> 10 | S86: =VLOOKUP($E86,'[6]Gui chi Quynh'!$C$11:$E$393,3,0) -> A1 | T86: =VLOOKUP(S86,Sheet1!$B$2:$C$12,2,TRUE) -> 10 | U86: =VLOOKUP($E86,'[7]Gui chi Quynh'!$C$11:$E$392,3,0) -> A1 | V86: =VLOOKUP(U86,Sheet1!$B$2:$C$12,2,TRUE) -> 10 | W86: =VLOOKUP($E86,'[8]Gui chi Quynh'!$C$11:$F$391,3,0) -> A1 | X86: =VLOOKUP(W86,Sheet1!$B$2:$C$12,2,TRUE) -> 10 | Y86: =VLOOKUP($E86,'[9]Gui chi Quynh'!$C$11:$E$390,3,0) -> A1 | Z86: =VLOOKUP(Y86,Sheet1!$B$2:$C$12,2,TRUE) -> 10 | AA86: =VLOOKUP($E86,'[10]Gui chi Quynh'!$C$11:$E$391,3,0) -> A1 | AB86: =VLOOKUP(AA86,Sheet1!$B$2:$C$12,2,TRUE) -> 10 | AC86: =VLOOKUP(E86,Sheet2!$E$9:$AE$343,24,0) -> A1 | AD86: =VLOOKUP(AC86,Sheet1!$B$2:$C$12,2,TRUE) -> 10 | AE86: =VLOOKUP(E86,Sheet2!$E$9:$AE$343,26,0) -> A1 | AF86: =VLOOKUP(AE86,Sheet1!$B$2:$C$12,2,TRUE) -> 10 | AG86: =(J86+L86+N86+P86+R86+T86+V86+X86+Z86+AB86+AD86+AF86)/12 -> 9.8333333 | AH86: =VLOOKUP(E86,'CAC DV GUI'!$C$5:$AF$401,27,0) -> Xuất sắc | AI86: =VLOOKUP(E86,'CAC DV GUI'!$C$5:$AF$401,28,0) -> Xuất sắc | AJ86: =VLOOKUP(E86,'CAC DV GUI'!$C$5:$AF$401,29,0) -> 0 | AK86: Xuất sắc | AM86: Tốt
A87: =IF(E87="","",SUBTOTAL(3,$E$8:E87)) -> 80 | B87: =COUNTIF($F$8:F87,F87) -> 3 | C87: Ông | D87: Phan Hữu Tước | E87: 01008049 | F87: P.QT-DV | G87: TPĐV | H87: VC | I87: =VLOOKUP($E87,'[1]Gui chi Quynh'!$C$11:$E$397,3,0) -> A1 | J87: =VLOOKUP(I87,Sheet1!$B$2:$C$12,2,TRUE) -> 10 | K87: =VLOOKUP($E87,'[2]Gui chi Quynh'!$C$11:$E$397,3,0) -> A1 | L87: =VLOOKUP(K87,Sheet1!$B$2:$C$12,2,TRUE) -> 10 | M87: =VLOOKUP($E87,'[3]Gui chi Quynh'!$C$11:$E$396,3,0) -> A1 | N87: =VLOOKUP(M87,Sheet1!$B$2:$C$12,2,TRUE) -> 10 | O87: =VLOOKUP($E87,'[4]Gui chi Quynh'!$C$11:$E$396,3,0) -> A1 | P87: =VLOOKUP(O87,Sheet1!$B$2:$C$12,2,TRUE) -> 10 | Q87: =VLOOKUP($E87,'[5]Gui chi Quynh'!$C$11:$E$394,3,0) -> A1 | R87: =VLOOKUP(Q87,Sheet1!$B$2:$C$12,2,TRUE) -> 10 | S87: =VLOOKUP($E87,'[6]Gui chi Quynh'!$C$11:$E$393,3,0) -> A1 | T87: =VLOOKUP(S87,Sheet1!$B$2:$C$12,2,TRUE) -> 10 | U87: =VLOOKUP($E87,'[7]Gui chi Quynh'!$C$11:$E$392,3,0) -> A1 | V87: =VLOOKUP(U87,Sheet1!$B$2:$C$12,2,TRUE) -> 10 | W87: =VLOOKUP($E87,'[8]Gui chi Quynh'!$C$11:$F$391,3,0) -> A1 | X87: =VLOOKUP(W87,Sheet1!$B$2:$C$12,2,TRUE) -> 10 | Y87: =VLOOKUP($E87,'[9]Gui chi Quynh'!$C$11:$E$390,3,0) -> A1 | Z87: =VLOOKUP(Y87,Sheet1!$B$2:$C$12,2,TRUE) -> 10 | AA87: =VLOOKUP($E87,'[10]Gui chi Quynh'!$C$11:$E$391,3,0) -> A1 | AB87: =VLOOKUP(AA87,Sheet1!$B$2:$C$12,2,TRUE) -> 10 | AC87: =VLOOKUP(E87,Sheet2!$E$9:$AE$343,24,0) -> A1 | AD87: =VLOOKUP(AC87,Sheet1!$B$2:$C$12,2,TRUE) -> 10 | AE87: =VLOOKUP(E87,Sheet2!$E$9:$AE$343,26,0) -> A1 | AF87: =VLOOKUP(AE87,Sheet1!$B$2:$C$12,2,TRUE) -> 10 | AG87: =(J87+L87+N87+P87+R87+T87+V87+X87+Z87+AB87+AD87+AF87)/12 -> 10 | AH87: =VLOOKUP(E87,'CAC DV GUI'!$C$5:$AF$401,27,0) -> Xuất sắc | AI87: =VLOOKUP(E87,'CAC DV GUI'!$C$5:$AF$401,28,0) -> Xuất sắc | AJ87: =VLOOKUP(E87,'CAC DV GUI'!$C$5:$AF$401,29,0) -> 0 | AK87: Xuất sắc | AM87: Tốt
A88: =IF(E88="","",SUBTOTAL(3,$E$8:E88)) -> 81 | B88: =COUNTIF($F$8:F88,F88) -> 4 | C88: Ông | D88: Nguyễn Trọng Phú | E88: 01008004 | F88: P.QT-DV | G88: GVNV | H88: VC | I88: =VLOOKUP($E88,'[1]Gui chi Quynh'!$C$11:$E$397,3,0) -> A2 | J88: =VLOOKUP(I88,Sheet1!$B$2:$C$12,2,TRUE) -> 9 | K88: =VLOOKUP($E88,'[2]Gui chi Quynh'!$C$11:$E$397,3,0) -> A3 | L88: =VLOOKUP(K88,Sheet1!$B$2:$C$12,2,TRUE) -> 8 | M88: =VLOOKUP($E88,'[3]Gui chi Quynh'!$C$11:$E$396,3,0) -> A1 | N88: =VLOOKUP(M88,Sheet1!$B$2:$C$12,2,TRUE) -> 10 | O88: =VLOOKUP($E88,'[4]Gui chi Quynh'!$C$11:$E$396,3,0) -> A1 | P88: =VLOOKUP(O88,Sheet1!$B$2:$C$12,2,TRUE) -> 10 | Q88: =VLOOKUP($E88,'[5]Gui chi Quynh'!$C$11:$E$394,3,0) -> A1 | R88: =VLOOKUP(Q88,Sheet1!$B$2:$C$12,2,TRUE) -> 10 | S88: =VLOOKUP($E88,'[6]Gui chi Quynh'!$C$11:$E$393,3,0) -> A1 | T88: =VLOOKUP(S88,Sheet1!$B$2:$C$12,2,TRUE) -> 10 | U88: =VLOOKUP($E88,'[7]Gui chi Quynh'!$C$11:$E$392,3,0) -> A1 | V88: =VLOOKUP(U88,Sheet1!$B$2:$C$12,2,TRUE) -> 10 | W88: =VLOOKUP($E88,'[8]Gui chi Quynh'!$C$11:$F$391,3,0) -> A2 | X88: =VLOOKUP(W88,Sheet1!$B$2:$C$12,2,TRUE) -> 9 | Y88: =VLOOKUP($E88,'[9]Gui chi Quynh'!$C$11:$E$390,3,0) -> A1 | Z88: =VLOOKUP(Y88,Sheet1!$B$2:$C$12,2,TRUE) -> 10 | AA88: =VLOOKUP($E88,'[10]Gui chi Quynh'!$C$11:$E$391,3,0) -> A1 | AB88: =VLOOKUP(AA88,Sheet1!$B$2:$C$12,2,TRUE) -> 10 | AC88: =VLOOKUP(E88,Sheet2!$E$9:$AE$343,24,0) -> A1 | AD88: =VLOOKUP(AC88,Sheet1!$B$2:$C$12,2,TRUE) -> 10 | AE88: =VLOOKUP(E88,Sheet2!$E$9:$AE$343,26,0) -> A1 | AF88: =VLOOKUP(AE88,Sheet1!$B$2:$C$12,2,TRUE) -> 10 | AG88: =(J88+L88+N88+P88+R88+T88+V88+X88+Z88+AB88+AD88+AF88)/12 -> 9.6666667 | AH88: =VLOOKUP(E88,'CAC DV GUI'!$C$5:$AF$401,27,0) -> Xuất sắc | AI88: =VLOOKUP(E88,'CAC DV GUI'!$C$5:$AF$401,28,0) -> Xuất sắc | AJ88: =VLOOKUP(E88,'CAC DV GUI'!$C$5:$AF$401,29,0) -> 0 | AM88: =AI88 -> Xuất sắc
A89: =IF(E89="","",SUBTOTAL(3,$E$8:E89)) -> 82 | B89: =COUNTIF($F$8:F89,F89) -> 5 | C89: Ông | D89: Phan Đức Long | E89: 01009007 | F89: P.QT-DV | G89: GVNV | H89: VC | I89: =VLOOKUP($E89,'[1]Gui chi Quynh'!$C$11:$E$397,3,0) -> A2 | J89: =VLOOKUP(I89,Sheet1!$B$2:$C$12,2,TRUE) -> 9 | K89: =VLOOKUP($E89,'[2]Gui chi Quynh'!$C$11:$E$397,3,0) -> A3 | L89: =VLOOKUP(K89,Sheet1!$B$2:$C$12,2,TRUE) -> 8 | M89: =VLOOKUP($E89,'[3]Gui chi Quynh'!$C$11:$E$396,3,0) -> A3 | N89: =VLOOKUP(M89,Sheet1!$B$2:$C$12,2,TRUE) -> 8 | O89: =VLOOKUP($E89,'[4]Gui chi Quynh'!$C$11:$E$396,3,0) -> A3 | P89: =VLOOKUP(O89,Sheet1!$B$2:$C$12,2,TRUE) -> 8 | Q89: =VLOOKUP($E89,'[5]Gui chi Quynh'!$C$11:$E$394,3,0) -> A2 | R89: =VLOOKUP(Q89,Sheet1!$B$2:$C$12,2,TRUE) -> 9 | S89: =VLOOKUP($E89,'[6]Gui chi Quynh'!$C$11:$E$393,3,0) -> A1 | T89: =VLOOKUP(S89,Sheet1!$B$2:$C$12,2,TRUE) -> 10 | U89: =VLOOKUP($E89,'[7]Gui chi Quynh'!$C$11:$E$392,3,0) -> A1 | V89: =VLOOKUP(U89,Sheet1!$B$2:$C$12,2,TRUE) -> 10 | W89: =VLOOKUP($E89,'[8]Gui chi Quynh'!$C$11:$F$391,3,0) -> A1 | X89: =VLOOKUP(W89,Sheet1!$B$2:$C$12,2,TRUE) -> 10 | Y89: =VLOOKUP($E89,'[9]Gui chi Quynh'!$C$11:$E$390,3,0) -> A1 | Z89: =VLOOKUP(Y89,Sheet1!$B$2:$C$12,2,TRUE) -> 10 | AA89: =VLOOKUP($E89,'[10]Gui chi Quynh'!$C$11:$E$391,3,0) -> A1 | AB89: =VLOOKUP(AA89,Sheet1!$B$2:$C$12,2,TRUE) -> 10 | AC89: =VLOOKUP(E89,Sheet2!$E$9:$AE$343,24,0) -> A2 | AD89: =VLOOKUP(AC89,Sheet1!$B$2:$C$12,2,TRUE) -> 9 | AE89: =VLOOKUP(E89,Sheet2!$E$9:$AE$343,26,0) -> A1 | AF89: =VLOOKUP(AE89,Sheet1!$B$2:$C$12,2,TRUE) -> 10 | AG89: =(J89+L89+N89+P89+R89+T89+V89+X89+Z89+AB89+AD89+AF89)/12 -> 9.25 | AH89: =VLOOKUP(E89,'CAC DV GUI'!$C$5:$AF$401,27,0) -> Xuất sắc | AI89: =VLOOKUP(E89,'CAC DV GUI'!$C$5:$AF$401,28,0) -> Tốt | AJ89: =VLOOKUP(E89,'CAC DV GUI'!$C$5:$AF$401,29,0) -> 0 | AM89: =AI89 -> Tốt
A90: =IF(E90="","",SUBTOTAL(3,$E$8:E90)) -> 83 | B90: =COUNTIF($F$8:F90,F90) -> 6 | C90: Ông | D90: Giáp Văn Thịnh | E90: 01008008 | F90: P.QT-DV | G90: GVNV | H90: VC | I90: =VLOOKUP($E90,'[1]Gui chi Quynh'!$C$11:$E$397,3,0) -> A2 | J90: =VLOOKUP(I90,Sheet1!$B$2:$C$12,2,TRUE) -> 9 | K90: =VLOOKUP($E90,'[2]Gui chi Quynh'!$C$11:$E$397,3,0) -> A1 | L90: =VLOOKUP(K90,Sheet1!$B$2:$C$12,2,TRUE) -> 10 | M90: =VLOOKUP($E90,'[3]Gui chi Quynh'!$C$11:$E$396,3,0) -> A2 | N90: =VLOOKUP(M90,Sheet1!$B$2:$C$12,2,TRUE) -> 9 | O90: =VLOOKUP($E90,'[4]Gui chi Quynh'!$C$11:$E$396,3,0) -> A2 | P90: =VLOOKUP(O90,Sheet1!$B$2:$C$12,2,TRUE) -> 9 | Q90: =VLOOKUP($E90,'[5]Gui chi Quynh'!$C$11:$E$394,3,0) -> A2 | R90: =VLOOKUP(Q90,Sheet1!$B$2:$C$12,2,TRUE) -> 9 | S90: =VLOOKUP($E90,'[6]Gui chi Quynh'!$C$11:$E$393,3,0) -> A2 | T90: =VLOOKUP(S90,Sheet1!$B$2:$C$12,2,TRUE) -> 9 | U90: =VLOOKUP($E90,'[7]Gui chi Quynh'!$C$11:$E$392,3,0) -> A1 | V90: =VLOOKUP(U90,Sheet1!$B$2:$C$12,2,TRUE) -> 10 | W90: =VLOOKUP($E90,'[8]Gui chi Quynh'!$C$11:$F$391,3,0) -> A2 | X90: =VLOOKUP(W90,Sheet1!$B$2:$C$12,2,TRUE) -> 9 | Y90: =VLOOKUP($E90,'[9]Gui chi Quynh'!$C$11:$E$390,3,0) -> A1 | Z90: =VLOOKUP(Y90,Sheet1!$B$2:$C$12,2,TRUE) -> 10 | AA90: =VLOOKUP($E90,'[10]Gui chi Quynh'!$C$11:$E$391,3,0) -> A1 | AB90: =VLOOKUP(AA90,Sheet1!$B$2:$C$12,2,TRUE) -> 10 | AC90: =VLOOKUP(E90,Sheet2!$E$9:$AE$343,24,0) -> A1 | AD90: =VLOOKUP(AC90,Sheet1!$B$2:$C$12,2,TRUE) -> 10 | AE90: =VLOOKUP(E90,Sheet2!$E$9:$AE$343,26,0) -> A1 | AF90: =VLOOKUP(AE90,Sheet1!$B$2:$C$12,2,TRUE) -> 10 | AG90: =(J90+L90+N90+P90+R90+T90+V90+X90+Z90+AB90+AD90+AF90)/12 -> 9.5 | AH90: =VLOOKUP(E90,'CAC DV GUI'!$C$5:$AF$401,27,0) -> Xuất sắc | AI90: =VLOOKUP(E90,'CAC DV GUI'!$C$5:$AF$401,28,0) -> Tốt | AJ90: =VLOOKUP(E90,'CAC DV GUI'!$C$5:$AF$401,29,0) -> 0 | AM90: =AI90 -> Tốt
A91: =IF(E91="","",SUBTOTAL(3,$E$8:E91)) -> 84 | B91: =COUNTIF($F$8:F91,F91) -> 7 | C91: Ông | D91: Vũ Ngọc Quang | E91: 01008006 | F91: P.QT-DV | G91: GVNV | H91: VC | I91: =VLOOKUP($E91,'[1]Gui chi Quynh'!$C$11:$E$397,3,0) -> A1 | J91: =VLOOKUP(I91,Sheet1!$B$2:$C$12,2,TRUE) -> 10 | K91: =VLOOKUP($E91,'[2]Gui chi Quynh'!$C$11:$E$397,3,0) -> A1 | L91: =VLOOKUP(K91,Sheet1!$B$2:$C$12,2,TRUE) -> 10 | M91: =VLOOKUP($E91,'[3]Gui chi Quynh'!$C$11:$E$396,3,0) -> A3 | N91: =VLOOKUP(M91,Sheet1!$B$2:$C$12,2,TRUE) -> 8 | O91: =VLOOKUP($E91,'[4]Gui chi Quynh'!$C$11:$E$396,3,0) -> A2 | P91: =VLOOKUP(O91,Sheet1!$B$2:$C$12,2,TRUE) -> 9 | Q91: =VLOOKUP($E91,'[5]Gui chi Quynh'!$C$11:$E$394,3,0) -> A1 | R91: =VLOOKUP(Q91,Sheet1!$B$2:$C$12,2,TRUE) -> 10 | S91: =VLOOKUP($E91,'[6]Gui chi Quynh'!$C$11:$E$393,3,0) -> A2 | T91: =VLOOKUP(S91,Sheet1!$B$2:$C$12,2,TRUE) -> 9 | U91: =VLOOKUP($E91,'[7]Gui chi Quynh'!$C$11:$E$392,3,0) -> A1 | V91: =VLOOKUP(U91,Sheet1!$B$2:$C$12,2,TRUE) -> 10 | W91: =VLOOKUP($E91,'[8]Gui chi Quynh'!$C$11:$F$391,3,0) -> A1 | X91: =VLOOKUP(W91,Sheet1!$B$2:$C$12,2,TRUE) -> 10 | Y91: =VLOOKUP($E91,'[9]Gui chi Quynh'!$C$11:$E$390,3,0) -> A1 | Z91: =VLOOKUP(Y91,Sheet1!$B$2:$C$12,2,TRUE) -> 10 | AA91: =VLOOKUP($E91,'[10]Gui chi Quynh'!$C$11:$E$391,3,0) -> A1 | AB91: =VLOOKUP(AA91,Sheet1!$B$2:$C$12,2,TRUE) -> 10 | AC91: =VLOOKUP(E91,Sheet2!$E$9:$AE$343,24,0) -> A1 | AD91: =VLOOKUP(AC91,Sheet1!$B$2:$C$12,2,TRUE) -> 10 | AE91: =VLOOKUP(E91,Sheet2!$E$9:$AE$343,26,0) -> A1 | AF91: =VLOOKUP(AE91,Sheet1!$B$2:$C$12,2,TRUE) -> 10 | AG91: =(J91+L91+N91+P91+R91+T91+V91+X91+Z91+AB91+AD91+AF91)/12 -> 9.6666667 | AH91: =VLOOKUP(E91,'CAC DV GUI'!$C$5:$AF$401,27,0) -> Xuất sắc | AI91: =VLOOKUP(E91,'CAC DV GUI'!$C$5:$AF$401,28,0) -> Xuất sắc | AJ91: =VLOOKUP(E91,'CAC DV GUI'!$C$5:$AF$401,29,0) -> 0 | AM91: =AI91 -> Xuất sắc
A92: =IF(E92="","",SUBTOTAL(3,$E$8:E92)) -> 85 | B92: =COUNTIF($F$8:F92,F92) -> 8 | C92: Ông | D92: Ninh Đỗ Hiệp | E92: 01017009 | F92: P.QT-DV | G92: GVNV | H92: VC | I92: =VLOOKUP($E92,'[1]Gui chi Quynh'!$C$11:$E$397,3,0) -> A4 | J92: =VLOOKUP(I92,Sheet1!$B$2:$C$12,2,TRUE) -> 7 | K92: =VLOOKUP($E92,'[2]Gui chi Quynh'!$C$11:$E$397,3,0) -> A4 | L92: =VLOOKUP(K92,Sheet1!$B$2:$C$12,2,TRUE) -> 7 | M92: =VLOOKUP($E92,'[3]Gui chi Quynh'!$C$11:$E$396,3,0) -> A4 | N92: =VLOOKUP(M92,Sheet1!$B$2:$C$12,2,TRUE) -> 7 | O92: =VLOOKUP($E92,'[4]Gui chi Quynh'!$C$11:$E$396,3,0) -> A4 | P92: =VLOOKUP(O92,Sheet1!$B$2:$C$12,2,TRUE) -> 7 | Q92: =VLOOKUP($E92,'[5]Gui chi Quynh'!$C$11:$E$394,3,0) -> A DN | R92: 0 | S92: =VLOOKUP($E92,'[6]Gui chi Quynh'!$C$11:$E$393,3,0) -> A4 | T92: =VLOOKUP(S92,Sheet1!$B$2:$C$12,2,TRUE) -> 7 | U92: =VLOOKUP($E92,'[7]Gui chi Quynh'!$C$11:$E$392,3,0) -> A4 | V92: =VLOOKUP(U92,Sheet1!$B$2:$C$12,2,TRUE) -> 7 | W92: =VLOOKUP($E92,'[8]Gui chi Quynh'!$C$11:$F$391,3,0) -> A3 | X92: =VLOOKUP(W92,Sheet1!$B$2:$C$12,2,TRUE) -> 8 | Y92: =VLOOKUP($E92,'[9]Gui chi Quynh'!$C$11:$E$390,3,0) -> A4 | Z92: =VLOOKUP(Y92,Sheet1!$B$2:$C$12,2,TRUE) -> 7 | AA92: =VLOOKUP($E92,'[10]Gui chi Quynh'!$C$11:$E$391,3,0) -> A4 | AB92: =VLOOKUP(AA92,Sheet1!$B$2:$C$12,2,TRUE) -> 7 | AC92: =VLOOKUP(E92,Sheet2!$E$9:$AE$343,24,0) -> A4 | AD92: =VLOOKUP(AC92,Sheet1!$B$2:$C$12,2,TRUE) -> 7 | AE92: =VLOOKUP(E92,Sheet2!$E$9:$AE$343,26,0) -> A3 | AF92: =VLOOKUP(AE92,Sheet1!$B$2:$C$12,2,TRUE) -> 8 | AG92: =(J92+L92+N92+P92+R92+T92+V92+X92+Z92+AB92+AD92+AF92)/11 -> 7.1818182 | AH92: =VLOOKUP(E92,'CAC DV GUI'!$C$5:$AF$401,27,0) -> Xuất sắc | AI92: =VLOOKUP(E92,'CAC DV GUI'!$C$5:$AF$401,28,0) -> Tốt | AJ92: =VLOOKUP(E92,'CAC DV GUI'!$C$5:$AF$401,29,0) -> 0 | AM92: =AI92 -> Tốt | AO92: Nghỉ chế độ ốm đau tháng 11/2024, đánh giá 11 tháng làm việc thực tế
A93: =IF(E93="","",SUBTOTAL(3,$E$8:E93)) -> 86 | B93: =COUNTIF($F$8:F93,F93) -> 9 | C93: Ông | D93: Lê Hồng Anh Tuấn | E93: 01008005 | F93: P.QT-DV | G93: GVNV | H93: VC | I93: =VLOOKUP($E93,'[1]Gui chi Quynh'!$C$11:$E$397,3,0) -> A3 | J93: =VLOOKUP(I93,Sheet1!$B$2:$C$12,2,TRUE) -> 8 | K93: =VLOOKUP($E93,'[2]Gui chi Quynh'!$C$11:$E$397,3,0) -> A2 | L93: =VLOOKUP(K93,Sheet1!$B$2:$C$12,2,TRUE) -> 9 | M93: =VLOOKUP($E93,'[3]Gui chi Quynh'!$C$11:$E$396,3,0) -> A2 | N93: =VLOOKUP(M93,Sheet1!$B$2:$C$12,2,TRUE) -> 9 | O93: =VLOOKUP($E93,'[4]Gui chi Quynh'!$C$11:$E$396,3,0) -> A2 | P93: =VLOOKUP(O93,Sheet1!$B$2:$C$12,2,TRUE) -> 9 | Q93: =VLOOKUP($E93,'[5]Gui chi Quynh'!$C$11:$E$394,3,0) -> A2 | R93: =VLOOKUP(Q93,Sheet1!$B$2:$C$12,2,TRUE) -> 9 | S93: =VLOOKUP($E93,'[6]Gui chi Quynh'!$C$11:$E$393,3,0) -> A2 | T93: =VLOOKUP(S93,Sheet1!$B$2:$C$12,2,TRUE) -> 9 | U93: =VLOOKUP($E93,'[7]Gui chi Quynh'!$C$11:$E$392,3,0) -> A1 | V93: =VLOOKUP(U93,Sheet1!$B$2:$C$12,2,TRUE) -> 10 | W93: =VLOOKUP($E93,'[8]Gui chi Quynh'!$C$11:$F$391,3,0) -> A1 | X93: =VLOOKUP(W93,Sheet1!$B$2:$C$12,2,TRUE) -> 10 | Y93: =VLOOKUP($E93,'[9]Gui chi Quynh'!$C$11:$E$390,3,0) -> A2 | Z93: =VLOOKUP(Y93,Sheet1!$B$2:$C$12,2,TRUE) -> 9 | AA93: =VLOOKUP($E93,'[10]Gui chi Quynh'!$C$11:$E$391,3,0) -> A1 | AB93: =VLOOKUP(AA93,Sheet1!$B$2:$C$12,2,TRUE) -> 10 | AC93: =VLOOKUP(E93,Sheet2!$E$9:$AE$343,24,0) -> A1 | AD93: =VLOOKUP(AC93,Sheet1!$B$2:$C$12,2,TRUE) -> 10 | AE93: =VLOOKUP(E93,Sheet2!$E$9:$AE$343,26,0) -> A1 | AF93: =VLOOKUP(AE93,Sheet1!$B$2:$C$12,2,TRUE) -> 10 | AG93: =(J93+L93+N93+P93+R93+T93+V93+X93+Z93+AB93+AD93+AF93)/12 -> 9.3333333 | AH93: =VLOOKUP(E93,'CAC DV GUI'!$C$5:$AF$401,27,0) -> Xuất sắc | AI93: =VLOOKUP(E93,'CAC DV GUI'!$C$5:$AF$401,28,0) -> Tốt | AJ93: =VLOOKUP(E93,'CAC DV GUI'!$C$5:$AF$401,29,0) -> 0 | AM93: =AI93 -> Tốt
A94: =IF(E94="","",SUBTOTAL(3,$E$8:E94)) -> 87 | B94: =COUNTIF($F$8:F94,F94) -> 10 | C94: Bà | D94: Bùi Thị Dương | E94: 01009014 | F94: P.QT-DV | G94: GVNV | H94: VC | I94: =VLOOKUP($E94,'[1]Gui chi Quynh'!$C$11:$E$397,3,0) -> A3 | J94: =VLOOKUP(I94,Sheet1!$B$2:$C$12,2,TRUE) -> 8 | K94: =VLOOKUP($E94,'[2]Gui chi Quynh'!$C$11:$E$397,3,0) -> A3 | L94: =VLOOKUP(K94,Sheet1!$B$2:$C$12,2,TRUE) -> 8 | M94: =VLOOKUP($E94,'[3]Gui chi Quynh'!$C$11:$E$396,3,0) -> A3 | N94: =VLOOKUP(M94,Sheet1!$B$2:$C$12,2,TRUE) -> 8 | O94: =VLOOKUP($E94,'[4]Gui chi Quynh'!$C$11:$E$396,3,0) -> A3 | P94: =VLOOKUP(O94,Sheet1!$B$2:$C$12,2,TRUE) -> 8 | Q94: =VLOOKUP($E94,'[5]Gui chi Quynh'!$C$11:$E$394,3,0) -> A3 | R94: =VLOOKUP(Q94,Sheet1!$B$2:$C$12,2,TRUE) -> 8 | S94: =VLOOKUP($E94,'[6]Gui chi Quynh'!$C$11:$E$393,3,0) -> A4 | T94: =VLOOKUP(S94,Sheet1!$B$2:$C$12,2,TRUE) -> 7 | U94: =VLOOKUP($E94,'[7]Gui chi Quynh'!$C$11:$E$392,3,0) -> A4 | V94: =VLOOKUP(U94,Sheet1!$B$2:$C$12,2,TRUE) -> 7 | W94: =VLOOKUP($E94,'[8]Gui chi Quynh'!$C$11:$F$391,3,0) -> A3 | X94: =VLOOKUP(W94,Sheet1!$B$2:$C$12,2,TRUE) -> 8 | Y94: =VLOOKUP($E94,'[9]Gui chi Quynh'!$C$11:$E$390,3,0) -> A3 | Z94: =VLOOKUP(Y94,Sheet1!$B$2:$C$12,2,TRUE) -> 8 | AA94: =VLOOKUP($E94,'[10]Gui chi Quynh'!$C$11:$E$391,3,0) -> A4 | AB94: =VLOOKUP(AA94,Sheet1!$B$2:$C$12,2,TRUE) -> 7 | AC94: =VLOOKUP(E94,Sheet2!$E$9:$AE$343,24,0) -> A4 | AD94: =VLOOKUP(AC94,Sheet1!$B$2:$C$12,2,TRUE) -> 7 | AE94: =VLOOKUP(E94,Sheet2!$E$9:$AE$343,26,0) -> B1 | AF94: =VLOOKUP(AE94,Sheet1!$B$2:$C$12,2,TRUE) -> 6 | AG94: =(J94+L94+N94+P94+R94+T94+V94+X94+Z94+AB94+AD94+AF94)/12 -> 7.5 | AH94: =VLOOKUP(E94,'CAC DV GUI'!$C$5:$AF$401,27,0) -> Tốt | AI94: =VLOOKUP(E94,'CAC DV GUI'!$C$5:$AF$401,28,0) -> Tốt | AJ94: =VLOOKUP(E94,'CAC DV GUI'!$C$5:$AF$401,29,0) -> 0 | AM94: =AI94 -> Tốt
A95: =IF(E95="","",SUBTOTAL(3,$E$8:E95)) -> 88 | B95: =COUNTIF($F$8:F95,F95) -> 11 | C95: Bà | D95: Trần Thị Thu | E95: 01008021 | F95: P.QT-DV | G95: GVNV | H95: HĐT | I95: =VLOOKUP($E95,'[1]Gui chi Quynh'!$C$11:$E$397,3,0) -> A3 | J95: =VLOOKUP(I95,Sheet1!$B$2:$C$12,2,TRUE) -> 8 | K95: =VLOOKUP($E95,'[2]Gui chi Quynh'!$C$11:$E$397,3,0) -> A1 | L95: =VLOOKUP(K95,Sheet1!$B$2:$C$12,2,TRUE) -> 10 | M95: =VLOOKUP($E95,'[3]Gui chi Quynh'!$C$11:$E$396,3,0) -> A3 | N95: =VLOOKUP(M95,Sheet1!$B$2:$C$12,2,TRUE) -> 8 | O95: =VLOOKUP($E95,'[4]Gui chi Quynh'!$C$11:$E$396,3,0) -> A3 | P95: =VLOOKUP(O95,Sheet1!$B$2:$C$12,2,TRUE) -> 8 | Q95: =VLOOKUP($E95,'[5]Gui chi Quynh'!$C$11:$E$394,3,0) -> A2 | R95: =VLOOKUP(Q95,Sheet1!$B$2:$C$12,2,TRUE) -> 9 | S95: =VLOOKUP($E95,'[6]Gui chi Quynh'!$C$11:$E$393,3,0) -> A2 | T95: =VLOOKUP(S95,Sheet1!$B$2:$C$12,2,TRUE) -> 9 | U95: =VLOOKUP($E95,'[7]Gui chi Quynh'!$C$11:$E$392,3,0) -> A1 | V95: =VLOOKUP(U95,Sheet1!$B$2:$C$12,2,TRUE) -> 10 | W95: =VLOOKUP($E95,'[8]Gui chi Quynh'!$C$11:$F$391,3,0) -> A2 | X95: =VLOOKUP(W95,Sheet1!$B$2:$C$12,2,TRUE) -> 9 | Y95: =VLOOKUP($E95,'[9]Gui chi Quynh'!$C$11:$E$390,3,0) -> A1 | Z95: =VLOOKUP(Y95,Sheet1!$B$2:$C$12,2,TRUE) -> 10 | AA95: =VLOOKUP($E95,'[10]Gui chi Quynh'!$C$11:$E$391,3,0) -> A1 | AB95: =VLOOKUP(AA95,Sheet1!$B$2:$C$12,2,TRUE) -> 10 | AC95: =VLOOKUP(E95,Sheet2!$E$9:$AE$343,24,0) -> A2 | AD95: =VLOOKUP(AC95,Sheet1!$B$2:$C$12,2,TRUE) -> 9 | AE95: =VLOOKUP(E95,Sheet2!$E$9:$AE$343,26,0) -> A2 | AF95: =VLOOKUP(AE95,Sheet1!$B$2:$C$12,2,TRUE) -> 9 | AG95: =(J95+L95+N95+P95+R95+T95+V95+X95+Z95+AB95+AD95+AF95)/12 -> 9.0833333 | AH95: =VLOOKUP(E95,'CAC DV GUI'!$C$5:$AF$401,27,0) -> Tốt | AI95: =VLOOKUP(E95,'CAC DV GUI'!$C$5:$AF$401,28,0) -> Xuất sắc | AJ95: =VLOOKUP(E95,'CAC DV GUI'!$C$5:$AF$401,29,0) -> 0 | AM95: =AI95 -> Xuất sắc
A96: =IF(E96="","",SUBTOTAL(3,$E$8:E96)) -> 89 | B96: =COUNTIF($F$8:F96,F96) -> 12 | C96: Bà | D96: Dương Thị Thủy | E96: 01008009 | F96: P.QT-DV | G96: GVNV | H96: HĐT | I96: =VLOOKUP($E96,'[1]Gui chi Quynh'!$C$11:$E$397,3,0) -> A3 | J96: =VLOOKUP(I96,Sheet1!$B$2:$C$12,2,TRUE) -> 8 | K96: =VLOOKUP($E96,'[2]Gui chi Quynh'!$C$11:$E$397,3,0) -> A DN | M96: =VLOOKUP($E96,'[3]Gui chi Quynh'!$C$11:$E$396,3,0) -> A DN | O96: =VLOOKUP($E96,'[4]Gui chi Quynh'!$C$11:$E$396,3,0) -> A DN | Q96: =VLOOKUP($E96,'[5]Gui chi Quynh'!$C$11:$E$394,3,0) -> A DN | S96: =VLOOKUP($E96,'[6]Gui chi Quynh'!$C$11:$E$393,3,0) -> A DN | U96: =VLOOKUP($E96,'[7]Gui chi Quynh'!$C$11:$E$392,3,0) -> A DN | W96: =VLOOKUP($E96,'[8]Gui chi Quynh'!$C$11:$F$391,3,0) -> A3 | X96: =VLOOKUP(W96,Sheet1!$B$2:$C$12,2,TRUE) -> 8 | Y96: =VLOOKUP($E96,'[9]Gui chi Quynh'!$C$11:$E$390,3,0) -> A1 | Z96: =VLOOKUP(Y96,Sheet1!$B$2:$C$12,2,TRUE) -> 10 | AA96: =VLOOKUP($E96,'[10]Gui chi Quynh'!$C$11:$E$391,3,0) -> A2 | AB96: =VLOOKUP(AA96,Sheet1!$B$2:$C$12,2,TRUE) -> 9 | AC96: =VLOOKUP(E96,Sheet2!$E$9:$AE$343,24,0) -> A2 | AD96: =VLOOKUP(AC96,Sheet1!$B$2:$C$12,2,TRUE) -> 9 | AE96: =VLOOKUP(E96,Sheet2!$E$9:$AE$343,26,0) -> A1 | AF96: =VLOOKUP(AE96,Sheet1!$B$2:$C$12,2,TRUE) -> 10 | AG96: =(J96+L96+N96+P96+R96+T96+V96+X96+Z96+AB96+AD96+AF96)/6 -> 9 | AH96: =VLOOKUP(E96,'CAC DV GUI'!$C$5:$AF$401,27,0) -> Tốt | AI96: =VLOOKUP(E96,'CAC DV GUI'!$C$5:$AF$401,28,0) -> Tốt | AJ96: =VLOOKUP(E96,'CAC DV GUI'!$C$5:$AF$401,29,0) -> 0 | AM96: =AI96 -> Tốt | AO96: nghỉ thai sản từ ngày 01/8/2024 đến 31/01/2025, đánh giá 6 tháng làm việc thực tế
A97: =IF(E97="","",SUBTOTAL(3,$E$8:E97)) -> 90 | B97: =COUNTIF($F$8:F97,F97) -> 13 | C97: Bà | D97: Đỗ Thị Bích Thủy | E97: 01008031 | F97: P.QT-DV | G97: GVNV | H97: HĐT | I97: =VLOOKUP($E97,'[1]Gui chi Quynh'!$C$11:$E$397,3,0) -> A3 | J97: =VLOOKUP(I97,Sheet1!$B$2:$C$12,2,TRUE) -> 8 | K97: =VLOOKUP($E97,'[2]Gui chi Quynh'!$C$11:$E$397,3,0) -> A2 | L97: =VLOOKUP(K97,Sheet1!$B$2:$C$12,2,TRUE) -> 9 | M97: =VLOOKUP($E97,'[3]Gui chi Quynh'!$C$11:$E$396,3,0) -> A3 | N97: =VLOOKUP(M97,Sheet1!$B$2:$C$12,2,TRUE) -> 8 | O97: =VLOOKUP($E97,'[4]Gui chi Quynh'!$C$11:$E$396,3,0) -> A3 | P97: =VLOOKUP(O97,Sheet1!$B$2:$C$12,2,TRUE) -> 8 | Q97: =VLOOKUP($E97,'[5]Gui chi Quynh'!$C$11:$E$394,3,0) -> A2 | R97: =VLOOKUP(Q97,Sheet1!$B$2:$C$12,2,TRUE) -> 9 | S97: =VLOOKUP($E97,'[6]Gui chi Quynh'!$C$11:$E$393,3,0) -> A3 | T97: =VLOOKUP(S97,Sheet1!$B$2:$C$12,2,TRUE) -> 8 | U97: =VLOOKUP($E97,'[7]Gui chi Quynh'!$C$11:$E$392,3,0) -> A3 | V97: =VLOOKUP(U97,Sheet1!$B$2:$C$12,2,TRUE) -> 8 | W97: =VLOOKUP($E97,'[8]Gui chi Quynh'!$C$11:$F$391,3,0) -> A3 | X97: =VLOOKUP(W97,Sheet1!$B$2:$C$12,2,TRUE) -> 8 | Y97: =VLOOKUP($E97,'[9]Gui chi Quynh'!$C$11:$E$390,3,0) -> A2 | Z97: =VLOOKUP(Y97,Sheet1!$B$2:$C$12,2,TRUE) -> 9 | AA97: =VLOOKUP($E97,'[10]Gui chi Quynh'!$C$11:$E$391,3,0) -> A3 | AB97: =VLOOKUP(AA97,Sheet1!$B$2:$C$12,2,TRUE) -> 8 | AC97: =VLOOKUP(E97,Sheet2!$E$9:$AE$343,24,0) -> A4 | AD97: =VLOOKUP(AC97,Sheet1!$B$2:$C$12,2,TRUE) -> 7 | AE97: =VLOOKUP(E97,Sheet2!$E$9:$AE$343,26,0) -> A3 | AF97: =VLOOKUP(AE97,Sheet1!$B$2:$C$12,2,TRUE) -> 8 | AG97: =(J97+L97+N97+P97+R97+T97+V97+X97+Z97+AB97+AD97+AF97)/12 -> 8.1666667 | AH97: =VLOOKUP(E97,'CAC DV GUI'!$C$5:$AF$401,27,0) -> Tốt | AI97: =VLOOKUP(E97,'CAC DV GUI'!$C$5:$AF$401,28,0) -> Tốt | AJ97: =VLOOKUP(E97,'CAC DV GUI'!$C$5:$AF$401,29,0) -> 0 | AM97: =AI97 -> Tốt
A98: =IF(E98="","",SUBTOTAL(3,$E$8:E98)) -> 91 | B98: =COUNTIF($F$8:F98,F98) -> 14 | C98: Bà | D98: Trần Kim Tươi | E98: 01008039 | F98: P.QT-DV | G98: GVNV | H98: HĐT | I98: =VLOOKUP($E98,'[1]Gui chi Quynh'!$C$11:$E$397,3,0) -> A3 | J98: =VLOOKUP(I98,Sheet1!$B$2:$C$12,2,TRUE) -> 8 | K98: =VLOOKUP($E98,'[2]Gui chi Quynh'!$C$11:$E$397,3,0) -> A2 | L98: =VLOOKUP(K98,Sheet1!$B$2:$C$12,2,TRUE) -> 9 | M98: =VLOOKUP($E98,'[3]Gui chi Quynh'!$C$11:$E$396,3,0) -> A3 | N98: =VLOOKUP(M98,Sheet1!$B$2:$C$12,2,TRUE) -> 8 | O98: =VLOOKUP($E98,'[4]Gui chi Quynh'!$C$11:$E$396,3,0) -> A3 | P98: =VLOOKUP(O98,Sheet1!$B$2:$C$12,2,TRUE) -> 8 | Q98: =VLOOKUP($E98,'[5]Gui chi Quynh'!$C$11:$E$394,3,0) -> A2 | R98: =VLOOKUP(Q98,Sheet1!$B$2:$C$12,2,TRUE) -> 9 | S98: =VLOOKUP($E98,'[6]Gui chi Quynh'!$C$11:$E$393,3,0) -> A3 | T98: =VLOOKUP(S98,Sheet1!$B$2:$C$12,2,TRUE) -> 8 | U98: =VLOOKUP($E98,'[7]Gui chi Quynh'!$C$11:$E$392,3,0) -> A3 | V98: =VLOOKUP(U98,Sheet1!$B$2:$C$12,2,TRUE) -> 8 | W98: =VLOOKUP($E98,'[8]Gui chi Quynh'!$C$11:$F$391,3,0) -> A3 | X98: =VLOOKUP(W98,Sheet1!$B$2:$C$12,2,TRUE) -> 8 | Y98: =VLOOKUP($E98,'[9]Gui chi Quynh'!$C$11:$E$390,3,0) -> A2 | Z98: =VLOOKUP(Y98,Sheet1!$B$2:$C$12,2,TRUE) -> 9 | AA98: =VLOOKUP($E98,'[10]Gui chi Quynh'!$C$11:$E$391,3,0) -> A2 | AB98: =VLOOKUP(AA98,Sheet1!$B$2:$C$12,2,TRUE) -> 9 | AC98: =VLOOKUP(E98,Sheet2!$E$9:$AE$343,24,0) -> A4 | AD98: =VLOOKUP(AC98,Sheet1!$B$2:$C$12,2,TRUE) -> 7 | AE98: =VLOOKUP(E98,Sheet2!$E$9:$AE$343,26,0) -> A3 | AF98: =VLOOKUP(AE98,Sheet1!$B$2:$C$12,2,TRUE) -> 8 | AG98: =(J98+L98+N98+P98+R98+T98+V98+X98+Z98+AB98+AD98+AF98)/12 -> 8.25 | AH98: =VLOOKUP(E98,'CAC DV GUI'!$C$5:$AF$401,27,0) -> Tốt | AI98: =VLOOKUP(E98,'CAC DV GUI'!$C$5:$AF$401,28,0) -> Tốt | AJ98: =VLOOKUP(E98,'CAC DV GUI'!$C$5:$AF$401,29,0) -> 0 | AM98: =AI98 -> Tốt
