Workbook

Sheet Kangatang_88

Sheet Kangatang_89

Sheet Kangatang_90

Sheet Kangatang_91

Sheet Kangatang_92

Sheet Kangatang_93

Sheet Kangatang_94

Sheet Kangatang_95

Sheet Kangatang_96

Sheet Kangatang_97

Sheet Kangatang_98

Sheet Kangatang_99

Sheet Kangatang_100

Sheet Kangatang_101

Sheet Kangatang_102

Sheet Kangatang_103

Sheet Kangatang_104

Sheet Kangatang_105

Sheet Kangatang_106

Sheet Kangatang_107

Sheet Kangatang_108

Sheet Kangatang_109

Sheet Kangatang_110

Sheet Kangatang_111

Sheet Kangatang_112

Sheet Kangatang_113

Sheet Kangatang_114

Sheet Kangatang_115

Sheet Kangatang_116

Sheet Kangatang_117

Sheet Kangatang_118

Sheet Kangatang_119

Sheet Kangatang_120

Sheet Kangatang_121

Sheet Kangatang_122

Sheet Kangatang_123

Sheet Kangatang_124

Sheet Kangatang_125

Sheet Kangatang_126

Sheet Kangatang_127

Sheet Kangatang_128

Sheet Kangatang_129

Sheet Kangatang_130

Sheet Kangatang_131

Sheet Kangatang_132

Sheet Kangatang_133

Sheet Kangatang_134

Sheet Kangatang_135

Sheet Kangatang_136

Sheet Kangatang_137

Sheet Kangatang_138

Sheet Kangatang_139

Sheet Kangatang_140

Sheet Kangatang_141

Sheet Kangatang_142

Sheet Kangatang_143

Sheet Kangatang_144

Sheet Kangatang_145

Sheet Kangatang_146

Sheet Kangatang_147

Sheet Kangatang_148

Sheet Kangatang_149

Sheet Kangatang_150

Sheet Kangatang_151

Sheet Kangatang_152

Sheet Kangatang_153

Sheet Kangatang_207

Sheet Kangatang_208

Sheet Kangatang_209

Sheet Kangatang_210

Sheet Kangatang_211

Sheet Kangatang_212

Sheet Kangatang_213

Sheet Kangatang_214

Sheet Kangatang_215

Sheet Kangatang_216

Sheet Kangatang_217

Sheet Kangatang_218

Sheet Kangatang_219

Sheet Kangatang_220

Sheet Kangatang_221

Sheet Kangatang_222

Sheet Kangatang_223

Sheet Kangatang_224

Sheet Kangatang_225

Sheet Kangatang_226

Sheet Kangatang_227

Sheet Kangatang_228

Sheet Kangatang_229

Sheet Kangatang_230

Sheet Kangatang_231

Sheet Kangatang_232

Sheet Kangatang_233

Sheet Kangatang_234

Sheet Kangatang_235

Sheet Kangatang_236

Sheet Kangatang_237

Sheet Kangatang_238

Sheet Kangatang_239

Sheet Kangatang_240

Sheet Kangatang_241

Sheet Kangatang_242

Sheet Kangatang_243

Sheet Kangatang_244

Sheet Kangatang_245

Sheet Kangatang_246

Sheet Kangatang_247

Sheet Kangatang_248

Sheet Kangatang_249

Sheet Kangatang_250

Sheet Kangatang_251

Sheet Kangatang_252

Sheet Kangatang_253

Sheet Kangatang_254

Sheet Kangatang_255

Sheet Kangatang_256

Sheet Kangatang_257

Sheet Kangatang_258

Sheet Kangatang_259

Sheet Kangatang_260

Sheet Kangatang_261

Sheet Kangatang_262

Sheet Kangatang_263

Sheet Kangatang_264

Sheet Kangatang_265

Sheet Kangatang_266

Sheet Kangatang_267

Sheet Kangatang_268

Sheet Kangatang_269

Sheet Kangatang_270

Sheet Kangatang_271

Sheet Kangatang_272

Sheet Kangatang_273

Sheet Kangatang_274

Sheet Kangatang_275

Sheet Kangatang_276

Sheet Kangatang_277

Sheet Kangatang_278

Sheet Kangatang_279

Sheet Kangatang_280

Sheet Kangatang_281

Sheet Kangatang_282

Sheet Kangatang_283

Sheet Kangatang_284

Sheet Kangatang_285

Sheet Kangatang_286

Sheet Kangatang_287

Sheet Kangatang_288

Sheet Kangatang_289

Sheet Kangatang_290

Sheet Kangatang_291

Sheet Kangatang_292

Sheet Kangatang_293

Sheet Kangatang_294

Sheet Kangatang_295

Sheet Kangatang_296

Sheet Kangatang_297

Sheet Kangatang_298

Sheet Kangatang_299

Sheet Kangatang_300

Sheet Kangatang_301

Sheet Kangatang_302

Sheet Kangatang_303

Sheet Kangatang_304

Sheet Kangatang_305

Sheet Kangatang_306

Sheet Kangatang_307

Sheet Kangatang_308

Sheet Kangatang_309

Sheet Kangatang_310

Sheet Kangatang_311

Sheet Kangatang_312

Sheet Kangatang_313

Sheet Kangatang

Sheet Kangatang_2

Sheet Kangatang_3

Sheet Kangatang_4

Sheet Kangatang_5

Sheet Kangatang_6

Sheet Kangatang_7

Sheet Kangatang_8

Sheet Kangatang_9

Sheet Kangatang_10

Sheet Kangatang_11

Sheet Kangatang_12

Sheet Kangatang_13

Sheet Kangatang_14

Sheet Kangatang_15

Sheet Kangatang_16

Sheet Kangatang_17

Sheet Kangatang_18

Sheet Kangatang_19

Sheet Kangatang_20

Sheet Kangatang_21

Sheet Kangatang_22

Sheet Kangatang_23

Sheet Kangatang_24

Sheet Kangatang_25

Sheet Kangatang_26

Sheet Kangatang_27

Sheet Kangatang_28

Sheet Kangatang_29

Sheet Kangatang_30

Sheet Kangatang_31

Sheet Kangatang_32

Sheet Kangatang_33

Sheet Kangatang_34

Sheet Kangatang_35

Sheet Kangatang_36

Sheet Kangatang_37

Sheet Kangatang_38

Sheet Kangatang_39

Sheet Kangatang_40

Sheet Kangatang_41

Sheet Kangatang_42

Sheet Kangatang_43

Sheet Kangatang_44

Sheet Kangatang_45

Sheet Kangatang_46

Sheet Kangatang_47

Sheet Kangatang_48

Sheet Kangatang_49

Sheet Kangatang_50

Sheet Kangatang_51

Sheet Kangatang_52

Sheet Kangatang_53

Sheet Kangatang_54

Sheet Kangatang_55

Sheet Kangatang_56

Sheet Kangatang_57

Sheet Kangatang_58

Sheet Kangatang_59

Sheet Kangatang_60

Sheet Kangatang_61

Sheet Kangatang_62

Sheet Kangatang_63

Sheet Kangatang_64

Sheet Kangatang_65

Sheet Kangatang_66

Sheet Kangatang_67

Sheet Kangatang_68

Sheet Kangatang_69

Sheet Kangatang_70

Sheet Kangatang_71

Sheet Kangatang_72

Sheet Kangatang_73

Sheet Kangatang_74

Sheet Kangatang_75

Sheet Kangatang_76

Sheet Kangatang_77

Sheet Kangatang_78

Sheet Kangatang_79

Sheet Kangatang_80

Sheet Kangatang_81

Sheet Kangatang_82

Sheet Kangatang_83

Sheet Kangatang_84

Sheet Kangatang_85

Sheet Kangatang_86

Sheet Kangatang_87

Sheet Kangatang_154

Sheet Kangatang_155

Sheet Kangatang_158

Sheet Kangatang_159

Sheet Kangatang_160

Sheet Kangatang_161

Sheet Kangatang_162

Sheet Kangatang_163

Sheet Kangatang_164

Sheet Kangatang_165

Sheet Kangatang_166

Sheet Kangatang_167

Sheet Kangatang_168

Sheet Kangatang_169

Sheet Kangatang_170

Sheet Kangatang_171

Sheet Kangatang_172

Sheet Kangatang_173

Sheet Kangatang_174

Sheet Kangatang_175

Sheet Kangatang_176

Sheet Kangatang_177

Sheet Kangatang_178

Sheet Kangatang_179

Sheet Kangatang_180

Sheet Kangatang_181

Sheet Kangatang_182

Sheet Kangatang_183

Sheet Kangatang_184

Sheet Kangatang_185

Sheet Kangatang_186

Sheet Kangatang_187

Sheet Kangatang_188

Sheet Kangatang_189

Sheet Kangatang_190

Sheet Kangatang_191

Sheet Kangatang_192

Sheet Kangatang_193

Sheet Kangatang_194

Sheet Kangatang_195

Sheet Kangatang_196

Sheet Kangatang_197

Sheet Kangatang_198

Sheet Kangatang_199

Sheet Kangatang_200

Sheet Kangatang_201

Sheet Kangatang_202

Sheet Kangatang_203

Sheet Kangatang_204

Sheet Kangatang_205

Sheet Kangatang_206

Sheet Kangatang_156

Sheet Kangatang_157

Sheet Kangatang_314

Sheet Kangatang_315

Sheet Kangatang_316

Sheet Kangatang_317

Sheet Kangatang_318

Sheet Kangatang_319

Sheet Kangatang_320

Sheet Kangatang_321

Sheet Kangatang_322

Sheet Kangatang_323

Sheet Kangatang_324

Sheet Kangatang_325

Sheet Kangatang_326

Sheet Kangatang_327

Sheet Kangatang_328

Sheet Kangatang_329

Sheet Kangatang_330

Sheet Kangatang_331

Sheet Kangatang_332

Sheet Kangatang_333

Sheet Kangatang_334

Sheet Kangatang_335

Sheet Kangatang_336

Sheet Kangatang_337

Sheet Kangatang_338

Sheet Kangatang_339

Sheet Kangatang_340

Sheet Kangatang_341

Sheet Kangatang_342

Sheet Kangatang_343

Sheet Kangatang_344

Sheet Kangatang_345

Sheet Kangatang_346

Sheet Kangatang_347

Sheet Kangatang_348

Sheet Kangatang_349

Sheet Kangatang_350

Sheet Kangatang_351

Sheet Kangatang_352

Sheet Kangatang_353

Sheet Kangatang_354

Sheet Kangatang_355

Sheet PTCHC
A1: UBND THÀNH PHỐ HỒ CHÍ MINH
A2: TRƯỜNG CAO ĐẲNG LÝ TỰ TRỌNG
A3: THÀNH PHỐ HỒ CHÍ MINH
A4: TỔNG HỢP THI ĐUA NĂM HỌC 2024 - 2025
A6: Stt | B6: tt | C6: Họ và tên | E6: Mã số E-office | F6: Đơn vị | G6: VC/HĐT | H6: Tháng 7/24 | J6: Tháng 8/24 | L6: Tháng 09/2024 | N6: Tháng 10/2024 | P6: Tháng 11/2024 | R6: Tháng 12/2024 | T6: Tháng 01/2025 | V6: Tháng 02/2025 | X6: Tháng 03/2025 | Z6: Tháng 04/2025 | AB6: Tháng 05/2025 | AD6: Tháng 06/2025 | AF6: Điểm trung bình 12 tháng | AG6: Cá nhân tự đánh giá | AH6: Kết quả đánh giá của đơn vị | AI6: Ý kiến đánh giá của đơn vị | AJ6: Kết quả đánh giá của chi bộ | AK6: Ý kiến đánh giá của chi bộ | AL6: Kết quả đánh giá của Hội đồng | AM6: Ý kiến đánh giá của Hội đồng | AN6: Ghi chú
A7: =IF(E7="","",SUBTOTAL(3,$E$7:E7)) -> 1 | B7: =COUNTIF($F$7:F7,F7) -> 1 | C7: Bà | D7: Lưu Hoàng Hải Yến | E7: 01002019 | F7: Phòng TC - HC - TH | G7: VC | H7: =VLOOKUP($E7,'[1]Gui chi Quynh'!$C$11:$E$397,3,0) -> A1 | I7: =VLOOKUP(H7,Sheet1!$B$2:$C$12,2,TRUE) -> 10 | J7: =VLOOKUP($E7,'[2]Gui chi Quynh'!$C$11:$E$397,3,0) -> A1 | K7: =VLOOKUP(J7,Sheet1!$B$2:$C$12,2,TRUE) -> 10 | L7: =VLOOKUP($E7,'[3]Gui chi Quynh'!$C$11:$E$396,3,0) -> A1 | M7: =VLOOKUP(L7,Sheet1!$B$2:$C$12,2,TRUE) -> 10 | N7: =VLOOKUP($E7,'[4]Gui chi Quynh'!$C$11:$E$396,3,0) -> A1 | O7: =VLOOKUP(N7,Sheet1!$B$2:$C$12,2,TRUE) -> 10 | P7: =VLOOKUP($E7,'[5]Gui chi Quynh'!$C$11:$E$394,3,0) -> A1 | Q7: =VLOOKUP(P7,Sheet1!$B$2:$C$12,2,TRUE) -> 10 | R7: =VLOOKUP($E7,'[6]Gui chi Quynh'!$C$11:$E$393,3,0) -> A1 | S7: =VLOOKUP(R7,Sheet1!$B$2:$C$12,2,TRUE) -> 10 | T7: =VLOOKUP($E7,'[7]Gui chi Quynh'!$C$11:$E$392,3,0) -> A1 | U7: =VLOOKUP(T7,Sheet1!$B$2:$C$12,2,TRUE) -> 10 | V7: =VLOOKUP($E7,'[8]Gui chi Quynh'!$C$11:$F$391,3,0) -> A1 | W7: =VLOOKUP(V7,Sheet1!$B$2:$C$12,2,TRUE) -> 10 | X7: =VLOOKUP($E7,'[9]Gui chi Quynh'!$C$11:$E$390,3,0) -> A1 | Y7: =VLOOKUP(X7,Sheet1!$B$2:$C$12,2,TRUE) -> 10 | Z7: =VLOOKUP($E7,'[10]Gui chi Quynh'!$C$11:$E$391,3,0) -> A1 | AA7: =VLOOKUP(Z7,Sheet1!$B$2:$C$12,2,TRUE) -> 10 | AC7: =VLOOKUP(AB7,Sheet1!$B$2:$C$12,2,TRUE) -> #N/A | AE7: =VLOOKUP(AD7,Sheet1!$B$2:$C$12,2,TRUE) -> #N/A | AF7: =(I7+K7+M7+O7+Q7+S7+U7+W7+Y7+AA7)/10 -> 10
A8: =IF(E8="","",SUBTOTAL(3,$E$7:E8)) -> 2 | B8: =COUNTIF($F$7:F8,F8) -> 2 | C8: Bà | D8: Huỳnh Thị Minh Ly | E8: 01004007 | F8: Phòng TC - HC - TH | G8: VC | H8: =VLOOKUP($E8,'[1]Gui chi Quynh'!$C$11:$E$397,3,0) -> A1 | I8: =VLOOKUP(H8,Sheet1!$B$2:$C$12,2,TRUE) -> 10 | J8: =VLOOKUP($E8,'[2]Gui chi Quynh'!$C$11:$E$397,3,0) -> A1 | K8: =VLOOKUP(J8,Sheet1!$B$2:$C$12,2,TRUE) -> 10 | L8: =VLOOKUP($E8,'[3]Gui chi Quynh'!$C$11:$E$396,3,0) -> A1 | M8: =VLOOKUP(L8,Sheet1!$B$2:$C$12,2,TRUE) -> 10 | N8: =VLOOKUP($E8,'[4]Gui chi Quynh'!$C$11:$E$396,3,0) -> A1 | O8: =VLOOKUP(N8,Sheet1!$B$2:$C$12,2,TRUE) -> 10 | P8: =VLOOKUP($E8,'[5]Gui chi Quynh'!$C$11:$E$394,3,0) -> A1 | Q8: =VLOOKUP(P8,Sheet1!$B$2:$C$12,2,TRUE) -> 10 | R8: =VLOOKUP($E8,'[6]Gui chi Quynh'!$C$11:$E$393,3,0) -> A1 | S8: =VLOOKUP(R8,Sheet1!$B$2:$C$12,2,TRUE) -> 10 | T8: =VLOOKUP($E8,'[7]Gui chi Quynh'!$C$11:$E$392,3,0) -> A1 | U8: =VLOOKUP(T8,Sheet1!$B$2:$C$12,2,TRUE) -> 10 | V8: =VLOOKUP($E8,'[8]Gui chi Quynh'!$C$11:$F$391,3,0) -> A1 | W8: =VLOOKUP(V8,Sheet1!$B$2:$C$12,2,TRUE) -> 10 | X8: =VLOOKUP($E8,'[9]Gui chi Quynh'!$C$11:$E$390,3,0) -> A1 | Y8: =VLOOKUP(X8,Sheet1!$B$2:$C$12,2,TRUE) -> 10 | Z8: =VLOOKUP($E8,'[10]Gui chi Quynh'!$C$11:$E$391,3,0) -> A1 | AA8: =VLOOKUP(Z8,Sheet1!$B$2:$C$12,2,TRUE) -> 10 | AC8: =VLOOKUP(AB8,Sheet1!$B$2:$C$12,2,TRUE) -> #N/A | AE8: =VLOOKUP(AD8,Sheet1!$B$2:$C$12,2,TRUE) -> #N/A | AF8: =(I8+K8+M8+O8+Q8+S8+U8+W8+Y8+AA8)/10 -> 10
A9: =IF(E9="","",SUBTOTAL(3,$E$7:E9)) -> 3 | B9: =COUNTIF($F$7:F9,F9) -> 3 | C9: Bà | D9: Vũ Như Quỳnh | E9: 01002017 | F9: Phòng TC - HC - TH | G9: VC | H9: =VLOOKUP($E9,'[1]Gui chi Quynh'!$C$11:$E$397,3,0) -> A2 | I9: =VLOOKUP(H9,Sheet1!$B$2:$C$12,2,TRUE) -> 9 | J9: =VLOOKUP($E9,'[2]Gui chi Quynh'!$C$11:$E$397,3,0) -> A2 | K9: =VLOOKUP(J9,Sheet1!$B$2:$C$12,2,TRUE) -> 9 | L9: =VLOOKUP($E9,'[3]Gui chi Quynh'!$C$11:$E$396,3,0) -> A2 | M9: =VLOOKUP(L9,Sheet1!$B$2:$C$12,2,TRUE) -> 9 | N9: =VLOOKUP($E9,'[4]Gui chi Quynh'!$C$11:$E$396,3,0) -> A3 | O9: =VLOOKUP(N9,Sheet1!$B$2:$C$12,2,TRUE) -> 8 | P9: =VLOOKUP($E9,'[5]Gui chi Quynh'!$C$11:$E$394,3,0) -> A1 | Q9: =VLOOKUP(P9,Sheet1!$B$2:$C$12,2,TRUE) -> 10 | R9: =VLOOKUP($E9,'[6]Gui chi Quynh'!$C$11:$E$393,3,0) -> A1 | S9: =VLOOKUP(R9,Sheet1!$B$2:$C$12,2,TRUE) -> 10 | T9: =VLOOKUP($E9,'[7]Gui chi Quynh'!$C$11:$E$392,3,0) -> A1 | U9: =VLOOKUP(T9,Sheet1!$B$2:$C$12,2,TRUE) -> 10 | V9: =VLOOKUP($E9,'[8]Gui chi Quynh'!$C$11:$F$391,3,0) -> A2 | W9: =VLOOKUP(V9,Sheet1!$B$2:$C$12,2,TRUE) -> 9 | X9: =VLOOKUP($E9,'[9]Gui chi Quynh'!$C$11:$E$390,3,0) -> A2 | Y9: =VLOOKUP(X9,Sheet1!$B$2:$C$12,2,TRUE) -> 9 | Z9: =VLOOKUP($E9,'[10]Gui chi Quynh'!$C$11:$E$391,3,0) -> A3 | AA9: =VLOOKUP(Z9,Sheet1!$B$2:$C$12,2,TRUE) -> 8 | AC9: =VLOOKUP(AB9,Sheet1!$B$2:$C$12,2,TRUE) -> #N/A | AE9: =VLOOKUP(AD9,Sheet1!$B$2:$C$12,2,TRUE) -> #N/A | AF9: =(I9+K9+M9+O9+Q9+S9+U9+W9+Y9+AA9)/10 -> 9.1
A10: =IF(E10="","",SUBTOTAL(3,$E$7:E10)) -> 4 | B10: =COUNTIF($F$7:F10,F10) -> 4 | C10: Bà | D10: Phan Thị Ngọc Phượng | E10: 01002018 | F10: Phòng TC - HC - TH | G10: VC | H10: =VLOOKUP($E10,'[1]Gui chi Quynh'!$C$11:$E$397,3,0) -> A1 | I10: =VLOOKUP(H10,Sheet1!$B$2:$C$12,2,TRUE) -> 10 | J10: =VLOOKUP($E10,'[2]Gui chi Quynh'!$C$11:$E$397,3,0) -> A1 | K10: =VLOOKUP(J10,Sheet1!$B$2:$C$12,2,TRUE) -> 10 | L10: =VLOOKUP($E10,'[3]Gui chi Quynh'!$C$11:$E$396,3,0) -> A1 | M10: =VLOOKUP(L10,Sheet1!$B$2:$C$12,2,TRUE) -> 10 | N10: =VLOOKUP($E10,'[4]Gui chi Quynh'!$C$11:$E$396,3,0) -> A2 | O10: =VLOOKUP(N10,Sheet1!$B$2:$C$12,2,TRUE) -> 9 | P10: =VLOOKUP($E10,'[5]Gui chi Quynh'!$C$11:$E$394,3,0) -> A1 | Q10: =VLOOKUP(P10,Sheet1!$B$2:$C$12,2,TRUE) -> 10 | R10: =VLOOKUP($E10,'[6]Gui chi Quynh'!$C$11:$E$393,3,0) -> A1 | S10: =VLOOKUP(R10,Sheet1!$B$2:$C$12,2,TRUE) -> 10 | T10: =VLOOKUP($E10,'[7]Gui chi Quynh'!$C$11:$E$392,3,0) -> A1 | U10: =VLOOKUP(T10,Sheet1!$B$2:$C$12,2,TRUE) -> 10 | V10: =VLOOKUP($E10,'[8]Gui chi Quynh'!$C$11:$F$391,3,0) -> A2 | W10: =VLOOKUP(V10,Sheet1!$B$2:$C$12,2,TRUE) -> 9 | X10: =VLOOKUP($E10,'[9]Gui chi Quynh'!$C$11:$E$390,3,0) -> A2 | Y10: =VLOOKUP(X10,Sheet1!$B$2:$C$12,2,TRUE) -> 9 | Z10: =VLOOKUP($E10,'[10]Gui chi Quynh'!$C$11:$E$391,3,0) -> A3 | AA10: =VLOOKUP(Z10,Sheet1!$B$2:$C$12,2,TRUE) -> 8 | AC10: =VLOOKUP(AB10,Sheet1!$B$2:$C$12,2,TRUE) -> #N/A | AE10: =VLOOKUP(AD10,Sheet1!$B$2:$C$12,2,TRUE) -> #N/A | AF10: =(I10+K10+M10+O10+Q10+S10+U10+W10+Y10+AA10)/10 -> 9.5
A11: =IF(E11="","",SUBTOTAL(3,$E$7:E11)) -> 5 | B11: =COUNTIF($F$7:F11,F11) -> 5 | C11: Bà | D11: Nguyễn Thị Bích Liễu | E11: 01002005 | F11: Phòng TC - HC - TH | G11: VC | H11: =VLOOKUP($E11,'[1]Gui chi Quynh'!$C$11:$E$397,3,0) -> A2 | I11: =VLOOKUP(H11,Sheet1!$B$2:$C$12,2,TRUE) -> 9 | J11: =VLOOKUP($E11,'[2]Gui chi Quynh'!$C$11:$E$397,3,0) -> A2 | K11: =VLOOKUP(J11,Sheet1!$B$2:$C$12,2,TRUE) -> 9 | L11: =VLOOKUP($E11,'[3]Gui chi Quynh'!$C$11:$E$396,3,0) -> A2 | M11: =VLOOKUP(L11,Sheet1!$B$2:$C$12,2,TRUE) -> 9 | N11: =VLOOKUP($E11,'[4]Gui chi Quynh'!$C$11:$E$396,3,0) -> A3 | O11: =VLOOKUP(N11,Sheet1!$B$2:$C$12,2,TRUE) -> 8 | P11: =VLOOKUP($E11,'[5]Gui chi Quynh'!$C$11:$E$394,3,0) -> A1 | Q11: =VLOOKUP(P11,Sheet1!$B$2:$C$12,2,TRUE) -> 10 | R11: =VLOOKUP($E11,'[6]Gui chi Quynh'!$C$11:$E$393,3,0) -> A1 | S11: =VLOOKUP(R11,Sheet1!$B$2:$C$12,2,TRUE) -> 10 | T11: =VLOOKUP($E11,'[7]Gui chi Quynh'!$C$11:$E$392,3,0) -> A2 | U11: =VLOOKUP(T11,Sheet1!$B$2:$C$12,2,TRUE) -> 9 | V11: =VLOOKUP($E11,'[8]Gui chi Quynh'!$C$11:$F$391,3,0) -> A2 | W11: =VLOOKUP(V11,Sheet1!$B$2:$C$12,2,TRUE) -> 9 | X11: =VLOOKUP($E11,'[9]Gui chi Quynh'!$C$11:$E$390,3,0) -> A2 | Y11: =VLOOKUP(X11,Sheet1!$B$2:$C$12,2,TRUE) -> 9 | Z11: =VLOOKUP($E11,'[10]Gui chi Quynh'!$C$11:$E$391,3,0) -> A2 | AA11: =VLOOKUP(Z11,Sheet1!$B$2:$C$12,2,TRUE) -> 9 | AC11: =VLOOKUP(AB11,Sheet1!$B$2:$C$12,2,TRUE) -> #N/A | AE11: =VLOOKUP(AD11,Sheet1!$B$2:$C$12,2,TRUE) -> #N/A | AF11: =(I11+K11+M11+O11+Q11+S11+U11+W11+Y11+AA11)/10 -> 9.1
A12: =IF(E12="","",SUBTOTAL(3,$E$7:E12)) -> 6 | B12: =COUNTIF($F$7:F12,F12) -> 6 | C12: Ông | D12: Nguyễn Văn Chì | E12: 01023001 | F12: Phòng TC - HC - TH | G12: VC | H12: =VLOOKUP($E12,'[1]Gui chi Quynh'!$C$11:$E$397,3,0) -> A3 | I12: =VLOOKUP(H12,Sheet1!$B$2:$C$12,2,TRUE) -> 8 | J12: =VLOOKUP($E12,'[2]Gui chi Quynh'!$C$11:$E$397,3,0) -> A2 | K12: =VLOOKUP(J12,Sheet1!$B$2:$C$12,2,TRUE) -> 9 | L12: =VLOOKUP($E12,'[3]Gui chi Quynh'!$C$11:$E$396,3,0) -> A3 | M12: =VLOOKUP(L12,Sheet1!$B$2:$C$12,2,TRUE) -> 8 | N12: =VLOOKUP($E12,'[4]Gui chi Quynh'!$C$11:$E$396,3,0) -> A2 | O12: =VLOOKUP(N12,Sheet1!$B$2:$C$12,2,TRUE) -> 9 | P12: =VLOOKUP($E12,'[5]Gui chi Quynh'!$C$11:$E$394,3,0) -> A2 | Q12: =VLOOKUP(P12,Sheet1!$B$2:$C$12,2,TRUE) -> 9 | R12: =VLOOKUP($E12,'[6]Gui chi Quynh'!$C$11:$E$393,3,0) -> A3 | S12: =VLOOKUP(R12,Sheet1!$B$2:$C$12,2,TRUE) -> 8 | T12: =VLOOKUP($E12,'[7]Gui chi Quynh'!$C$11:$E$392,3,0) -> A3 | U12: =VLOOKUP(T12,Sheet1!$B$2:$C$12,2,TRUE) -> 8 | V12: =VLOOKUP($E12,'[8]Gui chi Quynh'!$C$11:$F$391,3,0) -> A3 | W12: =VLOOKUP(V12,Sheet1!$B$2:$C$12,2,TRUE) -> 8 | X12: =VLOOKUP($E12,'[9]Gui chi Quynh'!$C$11:$E$390,3,0) -> A2 | Y12: =VLOOKUP(X12,Sheet1!$B$2:$C$12,2,TRUE) -> 9 | Z12: =VLOOKUP($E12,'[10]Gui chi Quynh'!$C$11:$E$391,3,0) -> A3 | AA12: =VLOOKUP(Z12,Sheet1!$B$2:$C$12,2,TRUE) -> 8 | AC12: =VLOOKUP(AB12,Sheet1!$B$2:$C$12,2,TRUE) -> #N/A | AE12: =VLOOKUP(AD12,Sheet1!$B$2:$C$12,2,TRUE) -> #N/A | AF12: =(I12+K12+M12+O12+Q12+S12+U12+W12+Y12+AA12)/10 -> 8.4
A13: =IF(E13="","",SUBTOTAL(3,$E$7:E13)) -> 7 | B13: =COUNTIF($F$7:F13,F13) -> 7 | C13: Bà | D13: Trần Thị Ánh Phượng | E13: 01017006 | F13: Phòng TC - HC - TH | G13: VC | H13: =VLOOKUP($E13,'[1]Gui chi Quynh'!$C$11:$E$397,3,0) -> A2 | I13: =VLOOKUP(H13,Sheet1!$B$2:$C$12,2,TRUE) -> 9 | J13: =VLOOKUP($E13,'[2]Gui chi Quynh'!$C$11:$E$397,3,0) -> A1 | K13: =VLOOKUP(J13,Sheet1!$B$2:$C$12,2,TRUE) -> 10 | L13: =VLOOKUP($E13,'[3]Gui chi Quynh'!$C$11:$E$396,3,0) -> A1 | M13: =VLOOKUP(L13,Sheet1!$B$2:$C$12,2,TRUE) -> 10 | N13: =VLOOKUP($E13,'[4]Gui chi Quynh'!$C$11:$E$396,3,0) -> A2 | O13: =VLOOKUP(N13,Sheet1!$B$2:$C$12,2,TRUE) -> 9 | P13: =VLOOKUP($E13,'[5]Gui chi Quynh'!$C$11:$E$394,3,0) -> A1 | Q13: =VLOOKUP(P13,Sheet1!$B$2:$C$12,2,TRUE) -> 10 | R13: =VLOOKUP($E13,'[6]Gui chi Quynh'!$C$11:$E$393,3,0) -> A1 | S13: =VLOOKUP(R13,Sheet1!$B$2:$C$12,2,TRUE) -> 10 | T13: =VLOOKUP($E13,'[7]Gui chi Quynh'!$C$11:$E$392,3,0) -> A1 | U13: =VLOOKUP(T13,Sheet1!$B$2:$C$12,2,TRUE) -> 10 | V13: =VLOOKUP($E13,'[8]Gui chi Quynh'!$C$11:$F$391,3,0) -> A2 | W13: =VLOOKUP(V13,Sheet1!$B$2:$C$12,2,TRUE) -> 9 | X13: =VLOOKUP($E13,'[9]Gui chi Quynh'!$C$11:$E$390,3,0) -> A2 | Y13: =VLOOKUP(X13,Sheet1!$B$2:$C$12,2,TRUE) -> 9 | Z13: =VLOOKUP($E13,'[10]Gui chi Quynh'!$C$11:$E$391,3,0) -> A3 | AA13: =VLOOKUP(Z13,Sheet1!$B$2:$C$12,2,TRUE) -> 8 | AC13: =VLOOKUP(AB13,Sheet1!$B$2:$C$12,2,TRUE) -> #N/A | AE13: =VLOOKUP(AD13,Sheet1!$B$2:$C$12,2,TRUE) -> #N/A | AF13: =(I13+K13+M13+O13+Q13+S13+U13+W13+Y13+AA13)/10 -> 9.4
A14: =IF(E14="","",SUBTOTAL(3,$E$7:E14)) -> 8 | B14: =COUNTIF($F$7:F14,F14) -> 8 | C14: Bà | D14: Nguyễn Thị Vân | E14: 01002032 | F14: Phòng TC - HC - TH | G14: VC | H14: =VLOOKUP($E14,'[1]Gui chi Quynh'!$C$11:$E$397,3,0) -> A2 | I14: =VLOOKUP(H14,Sheet1!$B$2:$C$12,2,TRUE) -> 9 | J14: =VLOOKUP($E14,'[2]Gui chi Quynh'!$C$11:$E$397,3,0) -> A2 | K14: =VLOOKUP(J14,Sheet1!$B$2:$C$12,2,TRUE) -> 9 | L14: =VLOOKUP($E14,'[3]Gui chi Quynh'!$C$11:$E$396,3,0) -> A2 | M14: =VLOOKUP(L14,Sheet1!$B$2:$C$12,2,TRUE) -> 9 | N14: =VLOOKUP($E14,'[4]Gui chi Quynh'!$C$11:$E$396,3,0) -> A2 | O14: =VLOOKUP(N14,Sheet1!$B$2:$C$12,2,TRUE) -> 9 | P14: =VLOOKUP($E14,'[5]Gui chi Quynh'!$C$11:$E$394,3,0) -> A1 | Q14: =VLOOKUP(P14,Sheet1!$B$2:$C$12,2,TRUE) -> 10 | R14: =VLOOKUP($E14,'[6]Gui chi Quynh'!$C$11:$E$393,3,0) -> A1 | S14: =VLOOKUP(R14,Sheet1!$B$2:$C$12,2,TRUE) -> 10 | T14: =VLOOKUP($E14,'[7]Gui chi Quynh'!$C$11:$E$392,3,0) -> A3 | U14: =VLOOKUP(T14,Sheet1!$B$2:$C$12,2,TRUE) -> 8 | V14: =VLOOKUP($E14,'[8]Gui chi Quynh'!$C$11:$F$391,3,0) -> A2 | W14: =VLOOKUP(V14,Sheet1!$B$2:$C$12,2,TRUE) -> 9 | X14: =VLOOKUP($E14,'[9]Gui chi Quynh'!$C$11:$E$390,3,0) -> A2 | Y14: =VLOOKUP(X14,Sheet1!$B$2:$C$12,2,TRUE) -> 9 | Z14: =VLOOKUP($E14,'[10]Gui chi Quynh'!$C$11:$E$391,3,0) -> A2 | AA14: =VLOOKUP(Z14,Sheet1!$B$2:$C$12,2,TRUE) -> 9 | AC14: =VLOOKUP(AB14,Sheet1!$B$2:$C$12,2,TRUE) -> #N/A | AE14: =VLOOKUP(AD14,Sheet1!$B$2:$C$12,2,TRUE) -> #N/A | AF14: =(I14+K14+M14+O14+Q14+S14+U14+W14+Y14+AA14)/10 -> 9.1
A15: =IF(E15="","",SUBTOTAL(3,$E$7:E15)) -> 9 | B15: =COUNTIF($F$7:F15,F15) -> 9 | C15: Bà | D15: Trần Thị Phương Oanh | E15: 01007007 | F15: Phòng TC - HC - TH | G15: VC | H15: =VLOOKUP($E15,'[1]Gui chi Quynh'!$C$11:$E$397,3,0) -> A3 | I15: =VLOOKUP(H15,Sheet1!$B$2:$C$12,2,TRUE) -> 8 | J15: =VLOOKUP($E15,'[2]Gui chi Quynh'!$C$11:$E$397,3,0) -> A2 | K15: =VLOOKUP(J15,Sheet1!$B$2:$C$12,2,TRUE) -> 9 | L15: =VLOOKUP($E15,'[3]Gui chi Quynh'!$C$11:$E$396,3,0) -> A3 | M15: =VLOOKUP(L15,Sheet1!$B$2:$C$12,2,TRUE) -> 8 | N15: =VLOOKUP($E15,'[4]Gui chi Quynh'!$C$11:$E$396,3,0) -> A3 | O15: =VLOOKUP(N15,Sheet1!$B$2:$C$12,2,TRUE) -> 8 | P15: =VLOOKUP($E15,'[5]Gui chi Quynh'!$C$11:$E$394,3,0) -> A2 | Q15: =VLOOKUP(P15,Sheet1!$B$2:$C$12,2,TRUE) -> 9 | R15: =VLOOKUP($E15,'[6]Gui chi Quynh'!$C$11:$E$393,3,0) -> A2 | S15: =VLOOKUP(R15,Sheet1!$B$2:$C$12,2,TRUE) -> 9 | T15: =VLOOKUP($E15,'[7]Gui chi Quynh'!$C$11:$E$392,3,0) -> A3 | U15: =VLOOKUP(T15,Sheet1!$B$2:$C$12,2,TRUE) -> 8 | V15: =VLOOKUP($E15,'[8]Gui chi Quynh'!$C$11:$F$391,3,0) -> A3 | W15: =VLOOKUP(V15,Sheet1!$B$2:$C$12,2,TRUE) -> 8 | X15: =VLOOKUP($E15,'[9]Gui chi Quynh'!$C$11:$E$390,3,0) -> A3 | Y15: =VLOOKUP(X15,Sheet1!$B$2:$C$12,2,TRUE) -> 8 | Z15: =VLOOKUP($E15,'[10]Gui chi Quynh'!$C$11:$E$391,3,0) -> A3 | AA15: =VLOOKUP(Z15,Sheet1!$B$2:$C$12,2,TRUE) -> 8 | AC15: =VLOOKUP(AB15,Sheet1!$B$2:$C$12,2,TRUE) -> #N/A | AE15: =VLOOKUP(AD15,Sheet1!$B$2:$C$12,2,TRUE) -> #N/A | AF15: =(I15+K15+M15+O15+Q15+S15+U15+W15+Y15+AA15)/10 -> 8.3
A16: =IF(E16="","",SUBTOTAL(3,$E$7:E16)) -> 10 | B16: =COUNTIF($F$7:F16,F16) -> 10 | C16: Bà | D16: Huỳnh Thị Xuân Mai | E16: 01007006 | F16: Phòng TC - HC - TH | G16: HĐT | H16: =VLOOKUP($E16,'[1]Gui chi Quynh'!$C$11:$E$397,3,0) -> A3 | I16: =VLOOKUP(H16,Sheet1!$B$2:$C$12,2,TRUE) -> 8 | J16: =VLOOKUP($E16,'[2]Gui chi Quynh'!$C$11:$E$397,3,0) -> A2 | K16: =VLOOKUP(J16,Sheet1!$B$2:$C$12,2,TRUE) -> 9 | L16: =VLOOKUP($E16,'[3]Gui chi Quynh'!$C$11:$E$396,3,0) -> A2 | M16: =VLOOKUP(L16,Sheet1!$B$2:$C$12,2,TRUE) -> 9 | N16: =VLOOKUP($E16,'[4]Gui chi Quynh'!$C$11:$E$396,3,0) -> A2 | O16: =VLOOKUP(N16,Sheet1!$B$2:$C$12,2,TRUE) -> 9 | P16: =VLOOKUP($E16,'[5]Gui chi Quynh'!$C$11:$E$394,3,0) -> A3 | Q16: =VLOOKUP(P16,Sheet1!$B$2:$C$12,2,TRUE) -> 8 | R16: =VLOOKUP($E16,'[6]Gui chi Quynh'!$C$11:$E$393,3,0) -> A2 | S16: =VLOOKUP(R16,Sheet1!$B$2:$C$12,2,TRUE) -> 9 | T16: =VLOOKUP($E16,'[7]Gui chi Quynh'!$C$11:$E$392,3,0) -> A3 | U16: =VLOOKUP(T16,Sheet1!$B$2:$C$12,2,TRUE) -> 8 | V16: =VLOOKUP($E16,'[8]Gui chi Quynh'!$C$11:$F$391,3,0) -> A4 | W16: =VLOOKUP(V16,Sheet1!$B$2:$C$12,2,TRUE) -> 7 | X16: =VLOOKUP($E16,'[9]Gui chi Quynh'!$C$11:$E$390,3,0) -> A3 | Y16: =VLOOKUP(X16,Sheet1!$B$2:$C$12,2,TRUE) -> 8 | Z16: =VLOOKUP($E16,'[10]Gui chi Quynh'!$C$11:$E$391,3,0) -> A3 | AA16: =VLOOKUP(Z16,Sheet1!$B$2:$C$12,2,TRUE) -> 8 | AC16: =VLOOKUP(AB16,Sheet1!$B$2:$C$12,2,TRUE) -> #N/A | AE16: =VLOOKUP(AD16,Sheet1!$B$2:$C$12,2,TRUE) -> #N/A | AF16: =(I16+K16+M16+O16+Q16+S16+U16+W16+Y16+AA16)/10 -> 8.3
A17: =IF(E17="","",SUBTOTAL(3,$E$7:E17)) -> 11 | B17: =COUNTIF($F$7:F17,F17) -> 11 | C17: Ông | D17: Trần Văn Cu Anh | E17: 01002007 | F17: Phòng TC - HC - TH | G17: HĐT | H17: =VLOOKUP($E17,'[1]Gui chi Quynh'!$C$11:$E$397,3,0) -> A4 | I17: =VLOOKUP(H17,Sheet1!$B$2:$C$12,2,TRUE) -> 7 | J17: =VLOOKUP($E17,'[2]Gui chi Quynh'!$C$11:$E$397,3,0) -> A3 | K17: =VLOOKUP(J17,Sheet1!$B$2:$C$12,2,TRUE) -> 8 | L17: =VLOOKUP($E17,'[3]Gui chi Quynh'!$C$11:$E$396,3,0) -> A3 | M17: =VLOOKUP(L17,Sheet1!$B$2:$C$12,2,TRUE) -> 8 | N17: =VLOOKUP($E17,'[4]Gui chi Quynh'!$C$11:$E$396,3,0) -> A3 | O17: =VLOOKUP(N17,Sheet1!$B$2:$C$12,2,TRUE) -> 8 | P17: =VLOOKUP($E17,'[5]Gui chi Quynh'!$C$11:$E$394,3,0) -> A3 | Q17: =VLOOKUP(P17,Sheet1!$B$2:$C$12,2,TRUE) -> 8 | R17: =VLOOKUP($E17,'[6]Gui chi Quynh'!$C$11:$E$393,3,0) -> A4 | S17: =VLOOKUP(R17,Sheet1!$B$2:$C$12,2,TRUE) -> 7 | T17: =VLOOKUP($E17,'[7]Gui chi Quynh'!$C$11:$E$392,3,0) -> A3 | U17: =VLOOKUP(T17,Sheet1!$B$2:$C$12,2,TRUE) -> 8 | V17: =VLOOKUP($E17,'[8]Gui chi Quynh'!$C$11:$F$391,3,0) -> A3 | W17: =VLOOKUP(V17,Sheet1!$B$2:$C$12,2,TRUE) -> 8 | X17: =VLOOKUP($E17,'[9]Gui chi Quynh'!$C$11:$E$390,3,0) -> A4 | Y17: =VLOOKUP(X17,Sheet1!$B$2:$C$12,2,TRUE) -> 7 | Z17: =VLOOKUP($E17,'[10]Gui chi Quynh'!$C$11:$E$391,3,0) -> A4 | AA17: =VLOOKUP(Z17,Sheet1!$B$2:$C$12,2,TRUE) -> 7 | AC17: =VLOOKUP(AB17,Sheet1!$B$2:$C$12,2,TRUE) -> #N/A | AE17: =VLOOKUP(AD17,Sheet1!$B$2:$C$12,2,TRUE) -> #N/A | AF17: =(I17+K17+M17+O17+Q17+S17+U17+W17+Y17+AA17)/10 -> 7.6
A18: =IF(E18="","",SUBTOTAL(3,$E$7:E18)) -> 12 | B18: =COUNTIF($F$7:F18,F18) -> 12 | C18: Ông | D18: Nguyễn Hữu Xuân Vũ | E18: 01002010 | F18: Phòng TC - HC - TH | G18: HĐT | H18: =VLOOKUP($E18,'[1]Gui chi Quynh'!$C$11:$E$397,3,0) -> A3 | I18: =VLOOKUP(H18,Sheet1!$B$2:$C$12,2,TRUE) -> 8 | J18: =VLOOKUP($E18,'[2]Gui chi Quynh'!$C$11:$E$397,3,0) -> A3 | K18: =VLOOKUP(J18,Sheet1!$B$2:$C$12,2,TRUE) -> 8 | L18: =VLOOKUP($E18,'[3]Gui chi Quynh'!$C$11:$E$396,3,0) -> A2 | M18: =VLOOKUP(L18,Sheet1!$B$2:$C$12,2,TRUE) -> 9 | N18: =VLOOKUP($E18,'[4]Gui chi Quynh'!$C$11:$E$396,3,0) -> A3 | O18: =VLOOKUP(N18,Sheet1!$B$2:$C$12,2,TRUE) -> 8 | P18: =VLOOKUP($E18,'[5]Gui chi Quynh'!$C$11:$E$394,3,0) -> A2 | Q18: =VLOOKUP(P18,Sheet1!$B$2:$C$12,2,TRUE) -> 9 | R18: =VLOOKUP($E18,'[6]Gui chi Quynh'!$C$11:$E$393,3,0) -> A3 | S18: =VLOOKUP(R18,Sheet1!$B$2:$C$12,2,TRUE) -> 8 | T18: =VLOOKUP($E18,'[7]Gui chi Quynh'!$C$11:$E$392,3,0) -> A3 | U18: =VLOOKUP(T18,Sheet1!$B$2:$C$12,2,TRUE) -> 8 | V18: =VLOOKUP($E18,'[8]Gui chi Quynh'!$C$11:$F$391,3,0) -> A3 | W18: =VLOOKUP(V18,Sheet1!$B$2:$C$12,2,TRUE) -> 8 | X18: =VLOOKUP($E18,'[9]Gui chi Quynh'!$C$11:$E$390,3,0) -> A2 | Y18: =VLOOKUP(X18,Sheet1!$B$2:$C$12,2,TRUE) -> 9 | Z18: =VLOOKUP($E18,'[10]Gui chi Quynh'!$C$11:$E$391,3,0) -> A4 | AA18: =VLOOKUP(Z18,Sheet1!$B$2:$C$12,2,TRUE) -> 7 | AC18: =VLOOKUP(AB18,Sheet1!$B$2:$C$12,2,TRUE) -> #N/A | AE18: =VLOOKUP(AD18,Sheet1!$B$2:$C$12,2,TRUE) -> #N/A | AF18: =(I18+K18+M18+O18+Q18+S18+U18+W18+Y18+AA18)/10 -> 8.2
A19: =IF(E19="","",SUBTOTAL(3,$E$7:E19)) -> 13 | B19: =COUNTIF($F$7:F19,F19) -> 13 | C19: Ông | D19: Lê Hồng Phúc | E19: 01002012 | F19: Phòng TC - HC - TH | G19: HĐT | H19: =VLOOKUP($E19,'[1]Gui chi Quynh'!$C$11:$E$397,3,0) -> A4 | I19: =VLOOKUP(H19,Sheet1!$B$2:$C$12,2,TRUE) -> 7 | J19: =VLOOKUP($E19,'[2]Gui chi Quynh'!$C$11:$E$397,3,0) -> A4 | K19: =VLOOKUP(J19,Sheet1!$B$2:$C$12,2,TRUE) -> 7 | L19: =VLOOKUP($E19,'[3]Gui chi Quynh'!$C$11:$E$396,3,0) -> A3 | M19: =VLOOKUP(L19,Sheet1!$B$2:$C$12,2,TRUE) -> 8 | N19: =VLOOKUP($E19,'[4]Gui chi Quynh'!$C$11:$E$396,3,0) -> A4 | O19: =VLOOKUP(N19,Sheet1!$B$2:$C$12,2,TRUE) -> 7 | P19: =VLOOKUP($E19,'[5]Gui chi Quynh'!$C$11:$E$394,3,0) -> A3 | Q19: =VLOOKUP(P19,Sheet1!$B$2:$C$12,2,TRUE) -> 8 | R19: =VLOOKUP($E19,'[6]Gui chi Quynh'!$C$11:$E$393,3,0) -> A4 | S19: =VLOOKUP(R19,Sheet1!$B$2:$C$12,2,TRUE) -> 7 | T19: =VLOOKUP($E19,'[7]Gui chi Quynh'!$C$11:$E$392,3,0) -> A3 | U19: =VLOOKUP(T19,Sheet1!$B$2:$C$12,2,TRUE) -> 8 | V19: =VLOOKUP($E19,'[8]Gui chi Quynh'!$C$11:$F$391,3,0) -> A3 | W19: =VLOOKUP(V19,Sheet1!$B$2:$C$12,2,TRUE) -> 8 | X19: =VLOOKUP($E19,'[9]Gui chi Quynh'!$C$11:$E$390,3,0) -> A4 | Y19: =VLOOKUP(X19,Sheet1!$B$2:$C$12,2,TRUE) -> 7 | Z19: =VLOOKUP($E19,'[10]Gui chi Quynh'!$C$11:$E$391,3,0) -> A4 | AA19: =VLOOKUP(Z19,Sheet1!$B$2:$C$12,2,TRUE) -> 7 | AC19: =VLOOKUP(AB19,Sheet1!$B$2:$C$12,2,TRUE) -> #N/A | AE19: =VLOOKUP(AD19,Sheet1!$B$2:$C$12,2,TRUE) -> #N/A | AF19: =(I19+K19+M19+O19+Q19+S19+U19+W19+Y19+AA19)/10 -> 7.4
A20: =IF(E20="","",SUBTOTAL(3,$E$7:E20)) -> 14 | B20: =COUNTIF($F$7:F20,F20) -> 14 | C20: Ông | D20: Phạm Hữu Thành Phú | E20: 01002028 | F20: Phòng TC - HC - TH | G20: HĐT | H20: =VLOOKUP($E20,'[1]Gui chi Quynh'!$C$11:$E$397,3,0) -> A3 | I20: =VLOOKUP(H20,Sheet1!$B$2:$C$12,2,TRUE) -> 8 | J20: =VLOOKUP($E20,'[2]Gui chi Quynh'!$C$11:$E$397,3,0) -> A4 | K20: =VLOOKUP(J20,Sheet1!$B$2:$C$12,2,TRUE) -> 7 | L20: =VLOOKUP($E20,'[3]Gui chi Quynh'!$C$11:$E$396,3,0) -> A3 | M20: =VLOOKUP(L20,Sheet1!$B$2:$C$12,2,TRUE) -> 8 | N20: =VLOOKUP($E20,'[4]Gui chi Quynh'!$C$11:$E$396,3,0) -> A3 | O20: =VLOOKUP(N20,Sheet1!$B$2:$C$12,2,TRUE) -> 8 | P20: =VLOOKUP($E20,'[5]Gui chi Quynh'!$C$11:$E$394,3,0) -> A3 | Q20: =VLOOKUP(P20,Sheet1!$B$2:$C$12,2,TRUE) -> 8 | R20: =VLOOKUP($E20,'[6]Gui chi Quynh'!$C$11:$E$393,3,0) -> A3 | S20: =VLOOKUP(R20,Sheet1!$B$2:$C$12,2,TRUE) -> 8 | T20: =VLOOKUP($E20,'[7]Gui chi Quynh'!$C$11:$E$392,3,0) -> A3 | U20: =VLOOKUP(T20,Sheet1!$B$2:$C$12,2,TRUE) -> 8 | V20: =VLOOKUP($E20,'[8]Gui chi Quynh'!$C$11:$F$391,3,0) -> A3 | W20: =VLOOKUP(V20,Sheet1!$B$2:$C$12,2,TRUE) -> 8 | X20: =VLOOKUP($E20,'[9]Gui chi Quynh'!$C$11:$E$390,3,0) -> A3 | Y20: =VLOOKUP(X20,Sheet1!$B$2:$C$12,2,TRUE) -> 8 | Z20: =VLOOKUP($E20,'[10]Gui chi Quynh'!$C$11:$E$391,3,0) -> A3 | AA20: =VLOOKUP(Z20,Sheet1!$B$2:$C$12,2,TRUE) -> 8 | AB20: A2 | AC20: =VLOOKUP(AB20,Sheet1!$B$2:$C$12,2,TRUE) -> 9 | AD20: A3 | AE20: =VLOOKUP(AD20,Sheet1!$B$2:$C$12,2,TRUE) -> 8 | AF20: =(I20+K20+M20+O20+Q20+S20+U20+W20+Y20+AA20+AC20+AE20)/12 -> 8
A21: =IF(E21="","",SUBTOTAL(3,$E$7:E21)) -> 15 | B21: =COUNTIF($F$7:F21,F21) -> 15 | C21: Ông | D21: Huỳnh Thanh Nhàn | E21: 01002027 | F21: Phòng TC - HC - TH | G21: HĐT | H21: =VLOOKUP($E21,'[1]Gui chi Quynh'!$C$11:$E$397,3,0) -> A3 | I21: =VLOOKUP(H21,Sheet1!$B$2:$C$12,2,TRUE) -> 8 | J21: =VLOOKUP($E21,'[2]Gui chi Quynh'!$C$11:$E$397,3,0) -> A3 | K21: =VLOOKUP(J21,Sheet1!$B$2:$C$12,2,TRUE) -> 8 | L21: =VLOOKUP($E21,'[3]Gui chi Quynh'!$C$11:$E$396,3,0) -> A3 | M21: =VLOOKUP(L21,Sheet1!$B$2:$C$12,2,TRUE) -> 8 | N21: =VLOOKUP($E21,'[4]Gui chi Quynh'!$C$11:$E$396,3,0) -> A3 | O21: =VLOOKUP(N21,Sheet1!$B$2:$C$12,2,TRUE) -> 8 | P21: =VLOOKUP($E21,'[5]Gui chi Quynh'!$C$11:$E$394,3,0) -> A3 | Q21: =VLOOKUP(P21,Sheet1!$B$2:$C$12,2,TRUE) -> 8 | R21: =VLOOKUP($E21,'[6]Gui chi Quynh'!$C$11:$E$393,3,0) -> A2 | S21: =VLOOKUP(R21,Sheet1!$B$2:$C$12,2,TRUE) -> 9 | T21: =VLOOKUP($E21,'[7]Gui chi Quynh'!$C$11:$E$392,3,0) -> A2 | U21: =VLOOKUP(T21,Sheet1!$B$2:$C$12,2,TRUE) -> 9 | V21: =VLOOKUP($E21,'[8]Gui chi Quynh'!$C$11:$F$391,3,0) -> A2 | W21: =VLOOKUP(V21,Sheet1!$B$2:$C$12,2,TRUE) -> 9 | X21: =VLOOKUP($E21,'[9]Gui chi Quynh'!$C$11:$E$390,3,0) -> A3 | Y21: =VLOOKUP(X21,Sheet1!$B$2:$C$12,2,TRUE) -> 8 | Z21: =VLOOKUP($E21,'[10]Gui chi Quynh'!$C$11:$E$391,3,0) -> A3 | AA21: =VLOOKUP(Z21,Sheet1!$B$2:$C$12,2,TRUE) -> 8 | AC21: =VLOOKUP(AB21,Sheet1!$B$2:$C$12,2,TRUE) -> #N/A | AE21: =VLOOKUP(AD21,Sheet1!$B$2:$C$12,2,TRUE) -> #N/A | AF21: =(I21+K21+M21+O21+Q21+S21+U21+W21+Y21+AA21)/10 -> 8.3
A22: =IF(E22="","",SUBTOTAL(3,$E$7:E22)) -> 16 | B22: =COUNTIF($F$7:F22,F22) -> 16 | C22: Ông | D22: Đồng Anh Tuấn | E22: 01002013 | F22: Phòng TC - HC - TH | G22: HĐT | H22: =VLOOKUP($E22,'[1]Gui chi Quynh'!$C$11:$E$397,3,0) -> A4 | I22: =VLOOKUP(H22,Sheet1!$B$2:$C$12,2,TRUE) -> 7 | J22: =VLOOKUP($E22,'[2]Gui chi Quynh'!$C$11:$E$397,3,0) -> A4 | K22: =VLOOKUP(J22,Sheet1!$B$2:$C$12,2,TRUE) -> 7 | L22: =VLOOKUP($E22,'[3]Gui chi Quynh'!$C$11:$E$396,3,0) -> A3 | M22: =VLOOKUP(L22,Sheet1!$B$2:$C$12,2,TRUE) -> 8 | N22: =VLOOKUP($E22,'[4]Gui chi Quynh'!$C$11:$E$396,3,0) -> A4 | O22: =VLOOKUP(N22,Sheet1!$B$2:$C$12,2,TRUE) -> 7 | P22: =VLOOKUP($E22,'[5]Gui chi Quynh'!$C$11:$E$394,3,0) -> A3 | Q22: =VLOOKUP(P22,Sheet1!$B$2:$C$12,2,TRUE) -> 8 | R22: =VLOOKUP($E22,'[6]Gui chi Quynh'!$C$11:$E$393,3,0) -> A4 | S22: =VLOOKUP(R22,Sheet1!$B$2:$C$12,2,TRUE) -> 7 | T22: =VLOOKUP($E22,'[7]Gui chi Quynh'!$C$11:$E$392,3,0) -> A3 | U22: =VLOOKUP(T22,Sheet1!$B$2:$C$12,2,TRUE) -> 8 | V22: =VLOOKUP($E22,'[8]Gui chi Quynh'!$C$11:$F$391,3,0) -> A3 | W22: =VLOOKUP(V22,Sheet1!$B$2:$C$12,2,TRUE) -> 8 | X22: =VLOOKUP($E22,'[9]Gui chi Quynh'!$C$11:$E$390,3,0) -> A4 | Y22: =VLOOKUP(X22,Sheet1!$B$2:$C$12,2,TRUE) -> 7 | Z22: =VLOOKUP($E22,'[10]Gui chi Quynh'!$C$11:$E$391,3,0) -> A4 | AA22: =VLOOKUP(Z22,Sheet1!$B$2:$C$12,2,TRUE) -> 7 | AC22: =VLOOKUP(AB22,Sheet1!$B$2:$C$12,2,TRUE) -> #N/A | AE22: =VLOOKUP(AD22,Sheet1!$B$2:$C$12,2,TRUE) -> #N/A | AF22: =(I22+K22+M22+O22+Q22+S22+U22+W22+Y22+AA22)/10 -> 7.4
A23: =IF(E23="","",SUBTOTAL(3,$E$7:E23)) -> 17 | B23: =COUNTIF($F$7:F23,F23) -> 17 | C23: Ông | D23: Nguyễn Thanh Hiền | E23: 01002033 | F23: Phòng TC - HC - TH | G23: HĐT | H23: =VLOOKUP($E23,'[1]Gui chi Quynh'!$C$11:$E$397,3,0) -> A3 | I23: =VLOOKUP(H23,Sheet1!$B$2:$C$12,2,TRUE) -> 8 | J23: =VLOOKUP($E23,'[2]Gui chi Quynh'!$C$11:$E$397,3,0) -> A3 | K23: =VLOOKUP(J23,Sheet1!$B$2:$C$12,2,TRUE) -> 8 | L23: =VLOOKUP($E23,'[3]Gui chi Quynh'!$C$11:$E$396,3,0) -> A3 | M23: =VLOOKUP(L23,Sheet1!$B$2:$C$12,2,TRUE) -> 8 | N23: =VLOOKUP($E23,'[4]Gui chi Quynh'!$C$11:$E$396,3,0) -> A3 | O23: =VLOOKUP(N23,Sheet1!$B$2:$C$12,2,TRUE) -> 8 | P23: =VLOOKUP($E23,'[5]Gui chi Quynh'!$C$11:$E$394,3,0) -> A3 | Q23: =VLOOKUP(P23,Sheet1!$B$2:$C$12,2,TRUE) -> 8 | R23: =VLOOKUP($E23,'[6]Gui chi Quynh'!$C$11:$E$393,3,0) -> A3 | S23: =VLOOKUP(R23,Sheet1!$B$2:$C$12,2,TRUE) -> 8 | T23: =VLOOKUP($E23,'[7]Gui chi Quynh'!$C$11:$E$392,3,0) -> A2 | U23: =VLOOKUP(T23,Sheet1!$B$2:$C$12,2,TRUE) -> 9 | V23: =VLOOKUP($E23,'[8]Gui chi Quynh'!$C$11:$F$391,3,0) -> A3 | W23: =VLOOKUP(V23,Sheet1!$B$2:$C$12,2,TRUE) -> 8 | X23: =VLOOKUP($E23,'[9]Gui chi Quynh'!$C$11:$E$390,3,0) -> A3 | Y23: =VLOOKUP(X23,Sheet1!$B$2:$C$12,2,TRUE) -> 8 | Z23: =VLOOKUP($E23,'[10]Gui chi Quynh'!$C$11:$E$391,3,0) -> A3 | AA23: =VLOOKUP(Z23,Sheet1!$B$2:$C$12,2,TRUE) -> 8 | AC23: =VLOOKUP(AB23,Sheet1!$B$2:$C$12,2,TRUE) -> #N/A | AE23: =VLOOKUP(AD23,Sheet1!$B$2:$C$12,2,TRUE) -> #N/A | AF23: =(I23+K23+M23+O23+Q23+S23+U23+W23+Y23+AA23)/10 -> 8.1
A24: =IF(E24="","",SUBTOTAL(3,$E$7:E24)) -> 18 | B24: =COUNTIF($F$7:F24,F24) -> 18 | C24: Ông | D24: Phạm Quang Tùng | E24: 01010068 | F24: Phòng TC - HC - TH | G24: HĐT | H24: =VLOOKUP($E24,'[1]Gui chi Quynh'!$C$11:$E$397,3,0) -> A3 | I24: =VLOOKUP(H24,Sheet1!$B$2:$C$12,2,TRUE) -> 8 | J24: =VLOOKUP($E24,'[2]Gui chi Quynh'!$C$11:$E$397,3,0) -> A4 | K24: =VLOOKUP(J24,Sheet1!$B$2:$C$12,2,TRUE) -> 7 | L24: =VLOOKUP($E24,'[3]Gui chi Quynh'!$C$11:$E$396,3,0) -> A3 | M24: =VLOOKUP(L24,Sheet1!$B$2:$C$12,2,TRUE) -> 8 | N24: =VLOOKUP($E24,'[4]Gui chi Quynh'!$C$11:$E$396,3,0) -> A4 | O24: =VLOOKUP(N24,Sheet1!$B$2:$C$12,2,TRUE) -> 7 | P24: =VLOOKUP($E24,'[5]Gui chi Quynh'!$C$11:$E$394,3,0) -> A3 | Q24: =VLOOKUP(P24,Sheet1!$B$2:$C$12,2,TRUE) -> 8 | R24: =VLOOKUP($E24,'[6]Gui chi Quynh'!$C$11:$E$393,3,0) -> A4 | S24: =VLOOKUP(R24,Sheet1!$B$2:$C$12,2,TRUE) -> 7 | T24: =VLOOKUP($E24,'[7]Gui chi Quynh'!$C$11:$E$392,3,0) -> A3 | U24: =VLOOKUP(T24,Sheet1!$B$2:$C$12,2,TRUE) -> 8 | V24: =VLOOKUP($E24,'[8]Gui chi Quynh'!$C$11:$F$391,3,0) -> A3 | W24: =VLOOKUP(V24,Sheet1!$B$2:$C$12,2,TRUE) -> 8 | X24: =VLOOKUP($E24,'[9]Gui chi Quynh'!$C$11:$E$390,3,0) -> A4 | Y24: =VLOOKUP(X24,Sheet1!$B$2:$C$12,2,TRUE) -> 7 | Z24: =VLOOKUP($E24,'[10]Gui chi Quynh'!$C$11:$E$391,3,0) -> A4 | AA24: =VLOOKUP(Z24,Sheet1!$B$2:$C$12,2,TRUE) -> 7 | AC24: =VLOOKUP(AB24,Sheet1!$B$2:$C$12,2,TRUE) -> #N/A | AE24: =VLOOKUP(AD24,Sheet1!$B$2:$C$12,2,TRUE) -> #N/A | AF24: =(I24+K24+M24+O24+Q24+S24+U24+W24+Y24+AA24)/10 -> 7.5
A25: =IF(E25="","",SUBTOTAL(3,$E$7:E25)) -> 19 | B25: =COUNTIF($F$7:F25,F25) -> 19 | C25: Ông | D25: Trần Thanh Cường | E25: 01002040 | F25: Phòng TC - HC - TH | G25: HĐT | H25: =VLOOKUP($E25,'[1]Gui chi Quynh'!$C$11:$E$397,3,0) -> A3 | I25: =VLOOKUP(H25,Sheet1!$B$2:$C$12,2,TRUE) -> 8 | J25: =VLOOKUP($E25,'[2]Gui chi Quynh'!$C$11:$E$397,3,0) -> A3 | K25: =VLOOKUP(J25,Sheet1!$B$2:$C$12,2,TRUE) -> 8 | L25: =VLOOKUP($E25,'[3]Gui chi Quynh'!$C$11:$E$396,3,0) -> A3 | M25: =VLOOKUP(L25,Sheet1!$B$2:$C$12,2,TRUE) -> 8 | N25: =VLOOKUP($E25,'[4]Gui chi Quynh'!$C$11:$E$396,3,0) -> A3 | O25: =VLOOKUP(N25,Sheet1!$B$2:$C$12,2,TRUE) -> 8 | P25: =VLOOKUP($E25,'[5]Gui chi Quynh'!$C$11:$E$394,3,0) -> A3 | Q25: =VLOOKUP(P25,Sheet1!$B$2:$C$12,2,TRUE) -> 8 | R25: =VLOOKUP($E25,'[6]Gui chi Quynh'!$C$11:$E$393,3,0) -> A3 | S25: =VLOOKUP(R25,Sheet1!$B$2:$C$12,2,TRUE) -> 8 | T25: =VLOOKUP($E25,'[7]Gui chi Quynh'!$C$11:$E$392,3,0) -> A3 | U25: =VLOOKUP(T25,Sheet1!$B$2:$C$12,2,TRUE) -> 8 | V25: =VLOOKUP($E25,'[8]Gui chi Quynh'!$C$11:$F$391,3,0) -> A3 | W25: =VLOOKUP(V25,Sheet1!$B$2:$C$12,2,TRUE) -> 8 | X25: =VLOOKUP($E25,'[9]Gui chi Quynh'!$C$11:$E$390,3,0) -> A3 | Y25: =VLOOKUP(X25,Sheet1!$B$2:$C$12,2,TRUE) -> 8 | Z25: =VLOOKUP($E25,'[10]Gui chi Quynh'!$C$11:$E$391,3,0) -> A3 | AA25: =VLOOKUP(Z25,Sheet1!$B$2:$C$12,2,TRUE) -> 8 | AC25: =VLOOKUP(AB25,Sheet1!$B$2:$C$12,2,TRUE) -> #N/A | AE25: =VLOOKUP(AD25,Sheet1!$B$2:$C$12,2,TRUE) -> #N/A | AF25: =(I25+K25+M25+O25+Q25+S25+U25+W25+Y25+AA25)/10 -> 8
A26: =IF(E26="","",SUBTOTAL(3,$E$7:E26)) -> 20 | B26: =COUNTIF($F$7:F26,F26) -> 20 | C26: Ông | D26: Vũ Anh Hiếu | E26: 01002041 | F26: Phòng TC - HC - TH | G26: HĐT | H26: =VLOOKUP($E26,'[1]Gui chi Quynh'!$C$11:$E$397,3,0) -> A3 | I26: =VLOOKUP(H26,Sheet1!$B$2:$C$12,2,TRUE) -> 8 | J26: =VLOOKUP($E26,'[2]Gui chi Quynh'!$C$11:$E$397,3,0) -> A3 | K26: =VLOOKUP(J26,Sheet1!$B$2:$C$12,2,TRUE) -> 8 | L26: =VLOOKUP($E26,'[3]Gui chi Quynh'!$C$11:$E$396,3,0) -> A2 | M26: =VLOOKUP(L26,Sheet1!$B$2:$C$12,2,TRUE) -> 9 | N26: =VLOOKUP($E26,'[4]Gui chi Quynh'!$C$11:$E$396,3,0) -> A3 | O26: =VLOOKUP(N26,Sheet1!$B$2:$C$12,2,TRUE) -> 8 | P26: =VLOOKUP($E26,'[5]Gui chi Quynh'!$C$11:$E$394,3,0) -> A3 | Q26: =VLOOKUP(P26,Sheet1!$B$2:$C$12,2,TRUE) -> 8 | R26: =VLOOKUP($E26,'[6]Gui chi Quynh'!$C$11:$E$393,3,0) -> A3 | S26: =VLOOKUP(R26,Sheet1!$B$2:$C$12,2,TRUE) -> 8 | T26: =VLOOKUP($E26,'[7]Gui chi Quynh'!$C$11:$E$392,3,0) -> A3 | U26: =VLOOKUP(T26,Sheet1!$B$2:$C$12,2,TRUE) -> 8 | V26: =VLOOKUP($E26,'[8]Gui chi Quynh'!$C$11:$F$391,3,0) -> A3 | W26: =VLOOKUP(V26,Sheet1!$B$2:$C$12,2,TRUE) -> 8 | X26: =VLOOKUP($E26,'[9]Gui chi Quynh'!$C$11:$E$390,3,0) -> A3 | Y26: =VLOOKUP(X26,Sheet1!$B$2:$C$12,2,TRUE) -> 8 | Z26: =VLOOKUP($E26,'[10]Gui chi Quynh'!$C$11:$E$391,3,0) -> A2 | AA26: =VLOOKUP(Z26,Sheet1!$B$2:$C$12,2,TRUE) -> 9 | AC26: =VLOOKUP(AB26,Sheet1!$B$2:$C$12,2,TRUE) -> #N/A | AE26: =VLOOKUP(AD26,Sheet1!$B$2:$C$12,2,TRUE) -> #N/A | AF26: =(I26+K26+M26+O26+Q26+S26+U26+W26+Y26+AA26)/10 -> 8.2
A27: =IF(E27="","",SUBTOTAL(3,$E$7:E27)) -> 21 | B27: =COUNTIF($F$7:F27,F27) -> 21 | C27: Ông | D27: Phan Đức Hiếu | E27: 01002042 | F27: Phòng TC - HC - TH | G27: HĐT | Z27: =VLOOKUP($E27,'[10]Gui chi Quynh'!$C$11:$E$391,3,0) -> A3 | AA27: =VLOOKUP(Z27,Sheet1!$B$2:$C$12,2,TRUE) -> 8 | AC27: =VLOOKUP(AB27,Sheet1!$B$2:$C$12,2,TRUE) -> #N/A | AE27: =VLOOKUP(AD27,Sheet1!$B$2:$C$12,2,TRUE) -> #N/A | AF27: =(I27+K27+M27+O27+Q27+S27+U27+W27+Y27+AA27)/10 -> 0.8 | AN27: HĐ từ 01/4/2025
A28: =IF(E28="","",SUBTOTAL(3,$E$7:E28)) -> 22 | B28: =COUNTIF($F$7:F28,F28) -> 22 | C28: Ông | D28: Dương Văn Tâm | E28: 01002035 | F28: Phòng TC - HC - TH | G28: HĐT | H28: =VLOOKUP($E28,'[1]Gui chi Quynh'!$C$11:$E$397,3,0) -> A2 | I28: =VLOOKUP(H28,Sheet1!$B$2:$C$12,2,TRUE) -> 9 | J28: =VLOOKUP($E28,'[2]Gui chi Quynh'!$C$11:$E$397,3,0) -> A2 | K28: =VLOOKUP(J28,Sheet1!$B$2:$C$12,2,TRUE) -> 9 | L28: =VLOOKUP($E28,'[3]Gui chi Quynh'!$C$11:$E$396,3,0) -> A2 | M28: =VLOOKUP(L28,Sheet1!$B$2:$C$12,2,TRUE) -> 9 | N28: =VLOOKUP($E28,'[4]Gui chi Quynh'!$C$11:$E$396,3,0) -> A2 | O28: =VLOOKUP(N28,Sheet1!$B$2:$C$12,2,TRUE) -> 9 | P28: =VLOOKUP($E28,'[5]Gui chi Quynh'!$C$11:$E$394,3,0) -> A2 | Q28: =VLOOKUP(P28,Sheet1!$B$2:$C$12,2,TRUE) -> 9 | R28: =VLOOKUP($E28,'[6]Gui chi Quynh'!$C$11:$E$393,3,0) -> A2 | S28: =VLOOKUP(R28,Sheet1!$B$2:$C$12,2,TRUE) -> 9 | T28: =VLOOKUP($E28,'[7]Gui chi Quynh'!$C$11:$E$392,3,0) -> A2 | U28: =VLOOKUP(T28,Sheet1!$B$2:$C$12,2,TRUE) -> 9 | V28: =VLOOKUP($E28,'[8]Gui chi Quynh'!$C$11:$F$391,3,0) -> A2 | W28: =VLOOKUP(V28,Sheet1!$B$2:$C$12,2,TRUE) -> 9 | X28: =VLOOKUP($E28,'[9]Gui chi Quynh'!$C$11:$E$390,3,0) -> A2 | Y28: =VLOOKUP(X28,Sheet1!$B$2:$C$12,2,TRUE) -> 9 | Z28: =VLOOKUP($E28,'[10]Gui chi Quynh'!$C$11:$E$391,3,0) -> A3 | AA28: =VLOOKUP(Z28,Sheet1!$B$2:$C$12,2,TRUE) -> 8 | AC28: =VLOOKUP(AB28,Sheet1!$B$2:$C$12,2,TRUE) -> #N/A | AE28: =VLOOKUP(AD28,Sheet1!$B$2:$C$12,2,TRUE) -> #N/A | AF28: =(I28+K28+M28+O28+Q28+S28+U28+W28+Y28+AA28)/10 -> 8.9
A29: =IF(E29="","",SUBTOTAL(3,$E$7:E29)) -> 23 | B29: =COUNTIF($F$7:F29,F29) -> 23 | C29: Bà | D29: Huỳnh Ngọc Liên | E29: 01002036 | F29: Phòng TC - HC - TH | G29: HĐT | H29: =VLOOKUP($E29,'[1]Gui chi Quynh'!$C$11:$E$397,3,0) -> A2 | I29: =VLOOKUP(H29,Sheet1!$B$2:$C$12,2,TRUE) -> 9 | J29: =VLOOKUP($E29,'[2]Gui chi Quynh'!$C$11:$E$397,3,0) -> A2 | K29: =VLOOKUP(J29,Sheet1!$B$2:$C$12,2,TRUE) -> 9 | L29: =VLOOKUP($E29,'[3]Gui chi Quynh'!$C$11:$E$396,3,0) -> A2 | M29: =VLOOKUP(L29,Sheet1!$B$2:$C$12,2,TRUE) -> 9 | N29: =VLOOKUP($E29,'[4]Gui chi Quynh'!$C$11:$E$396,3,0) -> A2 | O29: =VLOOKUP(N29,Sheet1!$B$2:$C$12,2,TRUE) -> 9 | P29: =VLOOKUP($E29,'[5]Gui chi Quynh'!$C$11:$E$394,3,0) -> A2 | Q29: =VLOOKUP(P29,Sheet1!$B$2:$C$12,2,TRUE) -> 9 | R29: =VLOOKUP($E29,'[6]Gui chi Quynh'!$C$11:$E$393,3,0) -> A3 | S29: =VLOOKUP(R29,Sheet1!$B$2:$C$12,2,TRUE) -> 8 | T29: =VLOOKUP($E29,'[7]Gui chi Quynh'!$C$11:$E$392,3,0) -> A2 | U29: =VLOOKUP(T29,Sheet1!$B$2:$C$12,2,TRUE) -> 9 | V29: =VLOOKUP($E29,'[8]Gui chi Quynh'!$C$11:$F$391,3,0) -> A3 | W29: =VLOOKUP(V29,Sheet1!$B$2:$C$12,2,TRUE) -> 8 | X29: =VLOOKUP($E29,'[9]Gui chi Quynh'!$C$11:$E$390,3,0) -> A2 | Y29: =VLOOKUP(X29,Sheet1!$B$2:$C$12,2,TRUE) -> 9 | Z29: =VLOOKUP($E29,'[10]Gui chi Quynh'!$C$11:$E$391,3,0) -> A3 | AA29: =VLOOKUP(Z29,Sheet1!$B$2:$C$12,2,TRUE) -> 8 | AC29: =VLOOKUP(AB29,Sheet1!$B$2:$C$12,2,TRUE) -> #N/A | AE29: =VLOOKUP(AD29,Sheet1!$B$2:$C$12,2,TRUE) -> #N/A | AF29: =(I29+K29+M29+O29+Q29+S29+U29+W29+Y29+AA29)/10 -> 8.7
A30: =IF(E30="","",SUBTOTAL(3,$E$7:E30)) -> 24 | B30: =COUNTIF($F$7:F30,F30) -> 24 | C30: Ông | D30: Lâm Viết Dũng | E30: 01007009 | F30: Phòng TC - HC - TH | G30: VC | H30: =VLOOKUP($E30,'[1]Gui chi Quynh'!$C$11:$E$397,3,0) -> A1 | I30: =VLOOKUP(H30,Sheet1!$B$2:$C$12,2,TRUE) -> 10 | J30: =VLOOKUP($E30,'[2]Gui chi Quynh'!$C$11:$E$397,3,0) -> A1 | K30: =VLOOKUP(J30,Sheet1!$B$2:$C$12,2,TRUE) -> 10 | L30: =VLOOKUP($E30,'[3]Gui chi Quynh'!$C$11:$E$396,3,0) -> A1 | M30: =VLOOKUP(L30,Sheet1!$B$2:$C$12,2,TRUE) -> 10 | N30: =VLOOKUP($E30,'[4]Gui chi Quynh'!$C$11:$E$396,3,0) -> A1 | O30: =VLOOKUP(N30,Sheet1!$B$2:$C$12,2,TRUE) -> 10 | P30: =VLOOKUP($E30,'[5]Gui chi Quynh'!$C$11:$E$394,3,0) -> A1 | Q30: =VLOOKUP(P30,Sheet1!$B$2:$C$12,2,TRUE) -> 10 | R30: =VLOOKUP($E30,'[6]Gui chi Quynh'!$C$11:$E$393,3,0) -> A1 | S30: =VLOOKUP(R30,Sheet1!$B$2:$C$12,2,TRUE) -> 10 | T30: =VLOOKUP($E30,'[7]Gui chi Quynh'!$C$11:$E$392,3,0) -> A1 | U30: =VLOOKUP(T30,Sheet1!$B$2:$C$12,2,TRUE) -> 10 | V30: =VLOOKUP($E30,'[8]Gui chi Quynh'!$C$11:$F$391,3,0) -> A1 | W30: =VLOOKUP(V30,Sheet1!$B$2:$C$12,2,TRUE) -> 10 | X30: =VLOOKUP($E30,'[9]Gui chi Quynh'!$C$11:$E$390,3,0) -> A4 | Y30: =VLOOKUP(X30,Sheet1!$B$2:$C$12,2,TRUE) -> 7 | Z30: =VLOOKUP($E30,'[10]Gui chi Quynh'!$C$11:$E$391,3,0) -> E | AA30: =VLOOKUP(Z30,Sheet1!$B$2:$C$12,2,TRUE) -> 0 | AC30: =VLOOKUP(AB30,Sheet1!$B$2:$C$12,2,TRUE) -> #N/A | AE30: =VLOOKUP(AD30,Sheet1!$B$2:$C$12,2,TRUE) -> #N/A
A31: =IF(E31="","",SUBTOTAL(3,$E$7:E31)) -> 25 | B31: =COUNTIF($F$7:F31,F31) -> 25 | C31: Ông | D31: Phạm Hữu Tấn | E31: 01002023 | F31: Phòng TC - HC - TH | G31: HĐT | H31: =VLOOKUP($E31,'[1]Gui chi Quynh'!$C$11:$E$397,3,0) -> A3 | I31: =VLOOKUP(H31,Sheet1!$B$2:$C$12,2,TRUE) -> 8 | J31: =VLOOKUP($E31,'[2]Gui chi Quynh'!$C$11:$E$397,3,0) -> A3 | K31: =VLOOKUP(J31,Sheet1!$B$2:$C$12,2,TRUE) -> 8 | L31: =VLOOKUP($E31,'[3]Gui chi Quynh'!$C$11:$E$396,3,0) -> A3 | M31: =VLOOKUP(L31,Sheet1!$B$2:$C$12,2,TRUE) -> 8 | N31: =VLOOKUP($E31,'[4]Gui chi Quynh'!$C$11:$E$396,3,0) -> A4 | O31: =VLOOKUP(N31,Sheet1!$B$2:$C$12,2,TRUE) -> 7 | P31: =VLOOKUP($E31,'[5]Gui chi Quynh'!$C$11:$E$394,3,0) -> A3 | Q31: =VLOOKUP(P31,Sheet1!$B$2:$C$12,2,TRUE) -> 8 | R31: =VLOOKUP($E31,'[6]Gui chi Quynh'!$C$11:$E$393,3,0) -> A4 | S31: =VLOOKUP(R31,Sheet1!$B$2:$C$12,2,TRUE) -> 7 | T31: =VLOOKUP($E31,'[7]Gui chi Quynh'!$C$11:$E$392,3,0) -> A3 | U31: =VLOOKUP(T31,Sheet1!$B$2:$C$12,2,TRUE) -> 8 | V31: =VLOOKUP($E31,'[8]Gui chi Quynh'!$C$11:$F$391,3,0) -> A3 | W31: =VLOOKUP(V31,Sheet1!$B$2:$C$12,2,TRUE) -> 8 | X31: =VLOOKUP($E31,'[9]Gui chi Quynh'!$C$11:$E$390,3,0) -> A3 | Y31: =VLOOKUP(X31,Sheet1!$B$2:$C$12,2,TRUE) -> 8 | Z31: =VLOOKUP($E31,'[10]Gui chi Quynh'!$C$11:$E$391,3,0) -> A4 | AA31: =VLOOKUP(Z31,Sheet1!$B$2:$C$12,2,TRUE) -> 7 | AC31: =VLOOKUP(AB31,Sheet1!$B$2:$C$12,2,TRUE) -> #N/A | AE31: =VLOOKUP(AD31,Sheet1!$B$2:$C$12,2,TRUE) -> #N/A | AF31: =(I31+K31+M31+O31+Q31+S31+U31+W31+Y31+AA31)/10 -> 7.7 | AN31: Nghỉ HTLĐ từ 01/5/2025
Y33: KXL | Z33: =COUNTIF($Z$7:$Z$31,"KXL") -> 0

Sheet XET CUOI NAM
A1: UBND THÀNH PHỐ HỒ CHÍ MINH
A2: TRƯỜNG CAO ĐẲNG LÝ TỰ TRỌNG
A3: THÀNH PHỐ HỒ CHÍ MINH
A4: TỔNG HỢP THI ĐUA NĂM HỌC 2024 - 2025
A6: Stt | B6: tt | D6: Họ và tên | E6: Mã số E-office | F6: Đơn vị | G6: CV | H6: VC/ HĐT | I6: Tháng 7/24 | K6: Tháng 8/24 | M6: Tháng 09/2024 | O6: Tháng 10/2024 | Q6: Tháng 11/2024 | S6: Tháng 12/2024 | U6: Tháng 01/2025 | W6: Tháng 02/2025 | Y6: Tháng 03/2025 | AA6: Tháng 04/2025 | AC6: Tháng 05/2025 | AE6: Tháng 06/2025 | AG6: Điểm trung bình 12 tháng | AH6: Cá nhân tự đánh giá | AI6: Kết quả đánh giá của đơn vị | AJ6: Ý kiến đánh giá của đơn vị | AK6: Kết quả đánh giá của chi bộ | AL6: Ý kiến đánh giá của chi bộ | AM6: Kết quả đánh giá của Hội đồng | AN6: Ý kiến đánh giá của Hội đồng | AO6: Ghi chú
B7: -1 | C7: -1 | D7: -2 | E7: -2.3333333 | F7: -2.8333333 | G7: -3.3333333 | H7: -3.8333333 | I7: -4.3333333 | J7: -4.8333333 | K7: -5.3333333 | L7: -5.8333333 | M7: -6.3333333 | N7: -6.8333333 | O7: -7.3333333 | P7: -7.8333333 | Q7: -8.3333333 | R7: -8.8333333 | S7: -9.3333333 | T7: -9.8333333 | U7: -10.333333 | V7: -10.833333 | W7: -11.333333 | X7: -11.833333 | Y7: -12.333333 | Z7: -12.833333 | AA7: -13.333333 | AB7: -13.833333 | AC7: -14.333333 | AD7: -14.833333 | AE7: -15.333333 | AF7: -15.833333 | AG7: -16.333333 | AH7: -16.833333 | AI7: -17.333333 | AJ7: -17.833333 | AK7: -18.333333 | AL7: -18.833333 | AM7: -19.333333 | AN7: -19.833333 | AO7: -20.333333
A8: =IF(E8="","",SUBTOTAL(3,$E$8:E8)) -> 1 | B8: =COUNTIF($F$8:F8,F8) -> 1 | C8: Ông | D8: Đinh Văn Đệ | E8: 01001006 | F8: BGH | G8: BGH | H8: VC | I8: =VLOOKUP($E8,'[1]Gui chi Quynh'!$C$11:$E$397,3,0) -> A1 | J8: =VLOOKUP(I8,Sheet1!$B$2:$C$12,2,TRUE) -> 10 | K8: =VLOOKUP($E8,'[2]Gui chi Quynh'!$C$11:$E$397,3,0) -> A1 | L8: =VLOOKUP(K8,Sheet1!$B$2:$C$12,2,TRUE) -> 10 | M8: =VLOOKUP($E8,'[3]Gui chi Quynh'!$C$11:$E$396,3,0) -> A1 | N8: =VLOOKUP(M8,Sheet1!$B$2:$C$12,2,TRUE) -> 10 | O8: =VLOOKUP($E8,'[4]Gui chi Quynh'!$C$11:$E$396,3,0) -> A1 | P8: =VLOOKUP(O8,Sheet1!$B$2:$C$12,2,TRUE) -> 10 | Q8: =VLOOKUP($E8,'[5]Gui chi Quynh'!$C$11:$E$394,3,0) -> A1 | R8: =VLOOKUP(Q8,Sheet1!$B$2:$C$12,2,TRUE) -> 10 | S8: =VLOOKUP($E8,'[6]Gui chi Quynh'!$C$11:$E$393,3,0) -> A1 | T8: =VLOOKUP(S8,Sheet1!$B$2:$C$12,2,TRUE) -> 10 | U8: =VLOOKUP($E8,'[7]Gui chi Quynh'!$C$11:$E$392,3,0) -> A1 | V8: =VLOOKUP(U8,Sheet1!$B$2:$C$12,2,TRUE) -> 10 | W8: =VLOOKUP($E8,'[8]Gui chi Quynh'!$C$11:$F$391,3,0) -> A1 | X8: =VLOOKUP(W8,Sheet1!$B$2:$C$12,2,TRUE) -> 10 | Y8: =VLOOKUP($E8,'[9]Gui chi Quynh'!$C$11:$E$390,3,0) -> A1 | Z8: =VLOOKUP(Y8,Sheet1!$B$2:$C$12,2,TRUE) -> 10 | AA8: =VLOOKUP($E8,'[10]Gui chi Quynh'!$C$11:$E$391,3,0) -> A1 | AB8: =VLOOKUP(AA8,Sheet1!$B$2:$C$12,2,TRUE) -> 10 | AC8: =VLOOKUP(E8,Sheet2!$E$9:$AE$343,24,0) -> A1 | AD8: =VLOOKUP(AC8,Sheet1!$B$2:$C$12,2,TRUE) -> 10 | AE8: =VLOOKUP(E8,Sheet2!$E$9:$AE$343,26,0) -> A1 | AF8: =VLOOKUP(AE8,Sheet1!$B$2:$C$12,2,TRUE) -> 10 | AG8: =(J8+L8+N8+P8+R8+T8+V8+X8+Z8+AB8+AD8+AF8)/12 -> 10 | AH8: Xuất sắc | AI8: Xuất sắc | AK8: Xuất sắc | AM8: Xuất sắc
A9: =IF(E9="","",SUBTOTAL(3,$E$8:E9)) -> 2 | B9: =COUNTIF($F$8:F9,F9) -> 2 | C9: Bà | D9: Đinh Hồng Minh | E9: 01002001 | F9: BGH | G9: BGH | H9: VC | I9: =VLOOKUP($E9,'[1]Gui chi Quynh'!$C$11:$E$397,3,0) -> A1 | J9: =VLOOKUP(I9,Sheet1!$B$2:$C$12,2,TRUE) -> 10 | K9: =VLOOKUP($E9,'[2]Gui chi Quynh'!$C$11:$E$397,3,0) -> A1 | L9: =VLOOKUP(K9,Sheet1!$B$2:$C$12,2,TRUE) -> 10 | M9: =VLOOKUP($E9,'[3]Gui chi Quynh'!$C$11:$E$396,3,0) -> A1 | N9: =VLOOKUP(M9,Sheet1!$B$2:$C$12,2,TRUE) -> 10 | O9: =VLOOKUP($E9,'[4]Gui chi Quynh'!$C$11:$E$396,3,0) -> A1 | P9: =VLOOKUP(O9,Sheet1!$B$2:$C$12,2,TRUE) -> 10 | Q9: =VLOOKUP($E9,'[5]Gui chi Quynh'!$C$11:$E$394,3,0) -> A1 | R9: =VLOOKUP(Q9,Sheet1!$B$2:$C$12,2,TRUE) -> 10 | S9: =VLOOKUP($E9,'[6]Gui chi Quynh'!$C$11:$E$393,3,0) -> A1 | T9: =VLOOKUP(S9,Sheet1!$B$2:$C$12,2,TRUE) -> 10 | U9: =VLOOKUP($E9,'[7]Gui chi Quynh'!$C$11:$E$392,3,0) -> A1 | V9: =VLOOKUP(U9,Sheet1!$B$2:$C$12,2,TRUE) -> 10 | W9: =VLOOKUP($E9,'[8]Gui chi Quynh'!$C$11:$F$391,3,0) -> A1 | X9: =VLOOKUP(W9,Sheet1!$B$2:$C$12,2,TRUE) -> 10 | Y9: =VLOOKUP($E9,'[9]Gui chi Quynh'!$C$11:$E$390,3,0) -> A1 | Z9: =VLOOKUP(Y9,Sheet1!$B$2:$C$12,2,TRUE) -> 10 | AA9: =VLOOKUP($E9,'[10]Gui chi Quynh'!$C$11:$E$391,3,0) -> A1 | AB9: =VLOOKUP(AA9,Sheet1!$B$2:$C$12,2,TRUE) -> 10 | AC9: =VLOOKUP(E9,Sheet2!$E$9:$AE$343,24,0) -> A1 | AD9: =VLOOKUP(AC9,Sheet1!$B$2:$C$12,2,TRUE) -> 10 | AE9: =VLOOKUP(E9,Sheet2!$E$9:$AE$343,26,0) -> A1 | AF9: =VLOOKUP(AE9,Sheet1!$B$2:$C$12,2,TRUE) -> 10 | AG9: =(J9+L9+N9+P9+R9+T9+V9+X9+Z9+AB9+AD9+AF9)/12 -> 10 | AH9: Tốt | AI9: Tốt | AK9: Xuất sắc | AM9: Tốt
A10: =IF(E10="","",SUBTOTAL(3,$E$8:E10)) -> 3 | B10: =COUNTIF($F$8:F10,F10) -> 3 | C10: Ông | D10: Châu Văn Bảo | E10: 01014037 | F10: BGH | G10: BGH | H10: VC | I10: =VLOOKUP($E10,'[1]Gui chi Quynh'!$C$11:$E$397,3,0) -> A1 | J10: =VLOOKUP(I10,Sheet1!$B$2:$C$12,2,TRUE) -> 10 | K10: =VLOOKUP($E10,'[2]Gui chi Quynh'!$C$11:$E$397,3,0) -> A1 | L10: =VLOOKUP(K10,Sheet1!$B$2:$C$12,2,TRUE) -> 10 | M10: =VLOOKUP($E10,'[3]Gui chi Quynh'!$C$11:$E$396,3,0) -> A1 | N10: =VLOOKUP(M10,Sheet1!$B$2:$C$12,2,TRUE) -> 10 | O10: =VLOOKUP($E10,'[4]Gui chi Quynh'!$C$11:$E$396,3,0) -> A1 | P10: =VLOOKUP(O10,Sheet1!$B$2:$C$12,2,TRUE) -> 10 | Q10: =VLOOKUP($E10,'[5]Gui chi Quynh'!$C$11:$E$394,3,0) -> A1 | R10: =VLOOKUP(Q10,Sheet1!$B$2:$C$12,2,TRUE) -> 10 | S10: =VLOOKUP($E10,'[6]Gui chi Quynh'!$C$11:$E$393,3,0) -> A1 | T10: =VLOOKUP(S10,Sheet1!$B$2:$C$12,2,TRUE) -> 10 | U10: =VLOOKUP($E10,'[7]Gui chi Quynh'!$C$11:$E$392,3,0) -> A1 | V10: =VLOOKUP(U10,Sheet1!$B$2:$C$12,2,TRUE) -> 10 | W10: =VLOOKUP($E10,'[8]Gui chi Quynh'!$C$11:$F$391,3,0) -> A1 | X10: =VLOOKUP(W10,Sheet1!$B$2:$C$12,2,TRUE) -> 10 | Y10: =VLOOKUP($E10,'[9]Gui chi Quynh'!$C$11:$E$390,3,0) -> A1 | Z10: =VLOOKUP(Y10,Sheet1!$B$2:$C$12,2,TRUE) -> 10 | AA10: =VLOOKUP($E10,'[10]Gui chi Quynh'!$C$11:$E$391,3,0) -> A1 | AB10: =VLOOKUP(AA10,Sheet1!$B$2:$C$12,2,TRUE) -> 10 | AC10: =VLOOKUP(E10,Sheet2!$E$9:$AE$343,24,0) -> A1 | AD10: =VLOOKUP(AC10,Sheet1!$B$2:$C$12,2,TRUE) -> 10 | AE10: =VLOOKUP(E10,Sheet2!$E$9:$AE$343,26,0) -> A1 | AF10: =VLOOKUP(AE10,Sheet1!$B$2:$C$12,2,TRUE) -> 10 | AG10: =(J10+L10+N10+P10+R10+T10+V10+X10+Z10+AB10+AD10+AF10)/12 -> 10 | AH10: Xuất sắc | AI10: Tốt | AK10: Xuất sắc | AM10: Tốt
A11: =IF(E11="","",SUBTOTAL(3,$E$8:E11)) -> 4 | B11: =COUNTIF($F$8:F11,F11) -> 1 | C11: Ông | D11: Nguyễn Kính | E11: 01002024 | F11: P.KH-TC | G11: TPĐV | H11: VC | I11: =VLOOKUP($E11,'[1]Gui chi Quynh'!$C$11:$E$397,3,0) -> A1 | J11: =VLOOKUP(I11,Sheet1!$B$2:$C$12,2,TRUE) -> 10 | K11: =VLOOKUP($E11,'[2]Gui chi Quynh'!$C$11:$E$397,3,0) -> A1 | L11: =VLOOKUP(K11,Sheet1!$B$2:$C$12,2,TRUE) -> 10 | M11: =VLOOKUP($E11,'[3]Gui chi Quynh'!$C$11:$E$396,3,0) -> A1 | N11: =VLOOKUP(M11,Sheet1!$B$2:$C$12,2,TRUE) -> 10 | O11: =VLOOKUP($E11,'[4]Gui chi Quynh'!$C$11:$E$396,3,0) -> A1 | P11: =VLOOKUP(O11,Sheet1!$B$2:$C$12,2,TRUE) -> 10 | Q11: =VLOOKUP($E11,'[5]Gui chi Quynh'!$C$11:$E$394,3,0) -> A1 | R11: =VLOOKUP(Q11,Sheet1!$B$2:$C$12,2,TRUE) -> 10 | S11: =VLOOKUP($E11,'[6]Gui chi Quynh'!$C$11:$E$393,3,0) -> A1 | T11: =VLOOKUP(S11,Sheet1!$B$2:$C$12,2,TRUE) -> 10 | U11: =VLOOKUP($E11,'[7]Gui chi Quynh'!$C$11:$E$392,3,0) -> A1 | V11: =VLOOKUP(U11,Sheet1!$B$2:$C$12,2,TRUE) -> 10 | W11: =VLOOKUP($E11,'[8]Gui chi Quynh'!$C$11:$F$391,3,0) -> A1 | X11: =VLOOKUP(W11,Sheet1!$B$2:$C$12,2,TRUE) -> 10 | Y11: =VLOOKUP($E11,'[9]Gui chi Quynh'!$C$11:$E$390,3,0) -> A1 | Z11: =VLOOKUP(Y11,Sheet1!$B$2:$C$12,2,TRUE) -> 10 | AA11: =VLOOKUP($E11,'[10]Gui chi Quynh'!$C$11:$E$391,3,0) -> A1 | AB11: =VLOOKUP(AA11,Sheet1!$B$2:$C$12,2,TRUE) -> 10 | AC11: =VLOOKUP(E11,Sheet2!$E$9:$AE$343,24,0) -> A1 | AD11: =VLOOKUP(AC11,Sheet1!$B$2:$C$12,2,TRUE) -> 10 | AE11: =VLOOKUP(E11,Sheet2!$E$9:$AE$343,26,0) -> A1 | AF11: =VLOOKUP(AE11,Sheet1!$B$2:$C$12,2,TRUE) -> 10 | AG11: =(J11+L11+N11+P11+R11+T11+V11+X11+Z11+AB11+AD11+AF11)/12 -> 10 | AH11: =VLOOKUP(E11,'CAC DV GUI'!$C$5:$AF$401,27,0) -> Xuất sắc | AI11: =VLOOKUP(E11,'CAC DV GUI'!$C$5:$AF$401,28,0) -> Xuất sắc | AJ11: =VLOOKUP(E11,'CAC DV GUI'!$C$5:$AF$401,29,0) -> 0 | AK11: Xuất sắc | AM11: Tốt
A12: =IF(E12="","",SUBTOTAL(3,$E$8:E12)) -> 5 | B12: =COUNTIF($F$8:F12,F12) -> 2 | C12: Bà | D12: Hồng Mộng Tuyết Dung | E12: 01003009 | F12: P.KH-TC | G12: GVNV | H12: VC | I12: =VLOOKUP($E12,'[1]Gui chi Quynh'!$C$11:$E$397,3,0) -> A1 | J12: =VLOOKUP(I12,Sheet1!$B$2:$C$12,2,TRUE) -> 10 | K12: =VLOOKUP($E12,'[2]Gui chi Quynh'!$C$11:$E$397,3,0) -> A1 | L12: =VLOOKUP(K12,Sheet1!$B$2:$C$12,2,TRUE) -> 10 | M12: =VLOOKUP($E12,'[3]Gui chi Quynh'!$C$11:$E$396,3,0) -> A1 | N12: =VLOOKUP(M12,Sheet1!$B$2:$C$12,2,TRUE) -> 10 | O12: =VLOOKUP($E12,'[4]Gui chi Quynh'!$C$11:$E$396,3,0) -> A1 | P12: =VLOOKUP(O12,Sheet1!$B$2:$C$12,2,TRUE) -> 10 | Q12: =VLOOKUP($E12,'[5]Gui chi Quynh'!$C$11:$E$394,3,0) -> A1 | R12: =VLOOKUP(Q12,Sheet1!$B$2:$C$12,2,TRUE) -> 10 | S12: =VLOOKUP($E12,'[6]Gui chi Quynh'!$C$11:$E$393,3,0) -> A2 | T12: =VLOOKUP(S12,Sheet1!$B$2:$C$12,2,TRUE) -> 9 | U12: =VLOOKUP($E12,'[7]Gui chi Quynh'!$C$11:$E$392,3,0) -> A1 | V12: =VLOOKUP(U12,Sheet1!$B$2:$C$12,2,TRUE) -> 10 | W12: =VLOOKUP($E12,'[8]Gui chi Quynh'!$C$11:$F$391,3,0) -> A3 | X12: =VLOOKUP(W12,Sheet1!$B$2:$C$12,2,TRUE) -> 8 | Y12: =VLOOKUP($E12,'[9]Gui chi Quynh'!$C$11:$E$390,3,0) -> A1 | Z12: =VLOOKUP(Y12,Sheet1!$B$2:$C$12,2,TRUE) -> 10 | AA12: =VLOOKUP($E12,'[10]Gui chi Quynh'!$C$11:$E$391,3,0) -> A2 | AB12: =VLOOKUP(AA12,Sheet1!$B$2:$C$12,2,TRUE) -> 9 | AC12: =VLOOKUP(E12,Sheet2!$E$9:$AE$343,24,0) -> A1 | AD12: =VLOOKUP(AC12,Sheet1!$B$2:$C$12,2,TRUE) -> 10 | AE12: =VLOOKUP(E12,Sheet2!$E$9:$AE$343,26,0) -> A1 | AF12: =VLOOKUP(AE12,Sheet1!$B$2:$C$12,2,TRUE) -> 10 | AG12: =(J12+L12+N12+P12+R12+T12+V12+X12+Z12+AB12+AD12+AF12)/12 -> 9.6666667 | AH12: =VLOOKUP(E12,'CAC DV GUI'!$C$5:$AF$401,27,0) -> Xuất sắc | AI12: =VLOOKUP(E12,'CAC DV GUI'!$C$5:$AF$401,28,0) -> Xuất sắc | AJ12: =VLOOKUP(E12,'CAC DV GUI'!$C$5:$AF$401,29,0) -> 0 | AM12: =AI12 -> Xuất sắc
A13: =IF(E13="","",SUBTOTAL(3,$E$8:E13)) -> 6 | B13: =COUNTIF($F$8:F13,F13) -> 3 | C13: Bà | D13: Trần Thị Minh Thoa | E13: 01003005 | F13: P.KH-TC | G13: GVNV | H13: VC | I13: =VLOOKUP($E13,'[1]Gui chi Quynh'!$C$11:$E$397,3,0) -> A1 | J13: =VLOOKUP(I13,Sheet1!$B$2:$C$12,2,TRUE) -> 10 | K13: =VLOOKUP($E13,'[2]Gui chi Quynh'!$C$11:$E$397,3,0) -> A1 | L13: =VLOOKUP(K13,Sheet1!$B$2:$C$12,2,TRUE) -> 10 | M13: =VLOOKUP($E13,'[3]Gui chi Quynh'!$C$11:$E$396,3,0) -> A1 | N13: =VLOOKUP(M13,Sheet1!$B$2:$C$12,2,TRUE) -> 10 | O13: =VLOOKUP($E13,'[4]Gui chi Quynh'!$C$11:$E$396,3,0) -> A1 | P13: =VLOOKUP(O13,Sheet1!$B$2:$C$12,2,TRUE) -> 10 | Q13: =VLOOKUP($E13,'[5]Gui chi Quynh'!$C$11:$E$394,3,0) -> A3 | R13: =VLOOKUP(Q13,Sheet1!$B$2:$C$12,2,TRUE) -> 8 | S13: =VLOOKUP($E13,'[6]Gui chi Quynh'!$C$11:$E$393,3,0) -> A1 | T13: =VLOOKUP(S13,Sheet1!$B$2:$C$12,2,TRUE) -> 10 | U13: =VLOOKUP($E13,'[7]Gui chi Quynh'!$C$11:$E$392,3,0) -> A1 | V13: =VLOOKUP(U13,Sheet1!$B$2:$C$12,2,TRUE) -> 10 | W13: =VLOOKUP($E13,'[8]Gui chi Quynh'!$C$11:$F$391,3,0) -> A1 | X13: =VLOOKUP(W13,Sheet1!$B$2:$C$12,2,TRUE) -> 10 | Y13: =VLOOKUP($E13,'[9]Gui chi Quynh'!$C$11:$E$390,3,0) -> A1 | Z13: =VLOOKUP(Y13,Sheet1!$B$2:$C$12,2,TRUE) -> 10 | AA13: =VLOOKUP($E13,'[10]Gui chi Quynh'!$C$11:$E$391,3,0) -> A2 | AB13: =VLOOKUP(AA13,Sheet1!$B$2:$C$12,2,TRUE) -> 9 | AC13: =VLOOKUP(E13,Sheet2!$E$9:$AE$343,24,0) -> A1 | AD13: =VLOOKUP(AC13,Sheet1!$B$2:$C$12,2,TRUE) -> 10 | AE13: =VLOOKUP(E13,Sheet2!$E$9:$AE$343,26,0) -> A1 | AF13: =VLOOKUP(AE13,Sheet1!$B$2:$C$12,2,TRUE) -> 10 | AG13: =(J13+L13+N13+P13+R13+T13+V13+X13+Z13+AB13+AD13+AF13)/12 -> 9.75 | AH13: =VLOOKUP(E13,'CAC DV GUI'!$C$5:$AF$401,27,0) -> Xuất sắc | AI13: =VLOOKUP(E13,'CAC DV GUI'!$C$5:$AF$401,28,0) -> Xuất sắc | AJ13: =VLOOKUP(E13,'CAC DV GUI'!$C$5:$AF$401,29,0) -> 0 | AM13: =AI13 -> Xuất sắc
A14: =IF(E14="","",SUBTOTAL(3,$E$8:E14)) -> 7 | B14: =COUNTIF($F$8:F14,F14) -> 4 | C14: Bà | D14: Võ Thị Lệ Trân | E14: 01023004 | F14: P.KH-TC | G14: GVNV | H14: VC | I14: =VLOOKUP($E14,'[1]Gui chi Quynh'!$C$11:$E$397,3,0) -> A1 | J14: =VLOOKUP(I14,Sheet1!$B$2:$C$12,2,TRUE) -> 10 | K14: =VLOOKUP($E14,'[2]Gui chi Quynh'!$C$11:$E$397,3,0) -> A1 | L14: =VLOOKUP(K14,Sheet1!$B$2:$C$12,2,TRUE) -> 10 | M14: =VLOOKUP($E14,'[3]Gui chi Quynh'!$C$11:$E$396,3,0) -> A1 | N14: =VLOOKUP(M14,Sheet1!$B$2:$C$12,2,TRUE) -> 10 | O14: =VLOOKUP($E14,'[4]Gui chi Quynh'!$C$11:$E$396,3,0) -> A1 | P14: =VLOOKUP(O14,Sheet1!$B$2:$C$12,2,TRUE) -> 10 | Q14: =VLOOKUP($E14,'[5]Gui chi Quynh'!$C$11:$E$394,3,0) -> A1 | R14: =VLOOKUP(Q14,Sheet1!$B$2:$C$12,2,TRUE) -> 10 | S14: =VLOOKUP($E14,'[6]Gui chi Quynh'!$C$11:$E$393,3,0) -> A1 | T14: =VLOOKUP(S14,Sheet1!$B$2:$C$12,2,TRUE) -> 10 | U14: =VLOOKUP($E14,'[7]Gui chi Quynh'!$C$11:$E$392,3,0) -> A3 | V14: =VLOOKUP(U14,Sheet1!$B$2:$C$12,2,TRUE) -> 8 | W14: =VLOOKUP($E14,'[8]Gui chi Quynh'!$C$11:$F$391,3,0) -> A1 | X14: =VLOOKUP(W14,Sheet1!$B$2:$C$12,2,TRUE) -> 10 | Y14: =VLOOKUP($E14,'[9]Gui chi Quynh'!$C$11:$E$390,3,0) -> A1 | Z14: =VLOOKUP(Y14,Sheet1!$B$2:$C$12,2,TRUE) -> 10 | AA14: =VLOOKUP($E14,'[10]Gui chi Quynh'!$C$11:$E$391,3,0) -> A1 | AB14: =VLOOKUP(AA14,Sheet1!$B$2:$C$12,2,TRUE) -> 10 | AC14: =VLOOKUP(E14,Sheet2!$E$9:$AE$343,24,0) -> A1 | AD14: =VLOOKUP(AC14,Sheet1!$B$2:$C$12,2,TRUE) -> 10 | AE14: =VLOOKUP(E14,Sheet2!$E$9:$AE$343,26,0) -> A1 | AF14: =VLOOKUP(AE14,Sheet1!$B$2:$C$12,2,TRUE) -> 10 | AG14: =(J14+L14+N14+P14+R14+T14+V14+X14+Z14+AB14+AD14+AF14)/12 -> 9.8333333 | AH14: =VLOOKUP(E14,'CAC DV GUI'!$C$5:$AF$401,27,0) -> Tốt | AI14: =VLOOKUP(E14,'CAC DV GUI'!$C$5:$AF$401,28,0) -> Tốt | AJ14: =VLOOKUP(E14,'CAC DV GUI'!$C$5:$AF$401,29,0) -> 0 | AM14: =AI14 -> Tốt
A15: =IF(E15="","",SUBTOTAL(3,$E$8:E15)) -> 8 | B15: =COUNTIF($F$8:F290,F15) -> 9 | C15: Bà | D15: Nguyễn Thị Minh Thùy | E15: 01003013 | F15: P.KH-TC | G15: GVNV | H15: VC | I15: =VLOOKUP($E15,'[1]Gui chi Quynh'!$C$11:$E$397,3,0) -> A3 | J15: =VLOOKUP(I15,Sheet1!$B$2:$C$12,2,TRUE) -> 8 | K15: A4 | L15: =VLOOKUP(K15,Sheet1!$B$2:$C$12,2,TRUE) -> 7 | M15: =VLOOKUP($E15,'[3]Gui chi Quynh'!$C$11:$E$396,3,0) -> A1 | N15: =VLOOKUP(M15,Sheet1!$B$2:$C$12,2,TRUE) -> 10 | O15: =VLOOKUP($E15,'[4]Gui chi Quynh'!$C$11:$E$396,3,0) -> A1 | P15: =VLOOKUP(O15,Sheet1!$B$2:$C$12,2,TRUE) -> 10 | Q15: =VLOOKUP($E15,'[5]Gui chi Quynh'!$C$11:$E$394,3,0) -> A2 | R15: =VLOOKUP(Q15,Sheet1!$B$2:$C$12,2,TRUE) -> 9 | S15: =VLOOKUP($E15,'[6]Gui chi Quynh'!$C$11:$E$393,3,0) -> A2 | T15: =VLOOKUP(S15,Sheet1!$B$2:$C$12,2,TRUE) -> 9 | U15: =VLOOKUP($E15,'[7]Gui chi Quynh'!$C$11:$E$392,3,0) -> A2 | V15: =VLOOKUP(U15,Sheet1!$B$2:$C$12,2,TRUE) -> 9 | W15: =VLOOKUP($E15,'[8]Gui chi Quynh'!$C$11:$F$391,3,0) -> A2 | X15: =VLOOKUP(W15,Sheet1!$B$2:$C$12,2,TRUE) -> 9 | Y15: =VLOOKUP($E15,'[9]Gui chi Quynh'!$C$11:$E$390,3,0) -> A3 | Z15: =VLOOKUP(Y15,Sheet1!$B$2:$C$12,2,TRUE) -> 8 | AA15: =VLOOKUP($E15,'[10]Gui chi Quynh'!$C$11:$E$391,3,0) -> A DN | AB15: 0 | AC15: =VLOOKUP(E15,Sheet2!$E$9:$AE$343,24,0) -> A DN | AE15: =VLOOKUP(E15,Sheet2!$E$9:$AE$343,26,0) -> A DN | AG15: =(J15+L15+N15+P15+R15+T15+V15+V15+X15+Z15)/9 -> 9.7777778 | AH15: =VLOOKUP(E15,'CAC DV GUI'!$C$5:$AF$401,27,0) -> Tốt | AI15: =VLOOKUP(E15,'CAC DV GUI'!$C$5:$AF$401,28,0) -> Tốt | AJ15: =VLOOKUP(E15,'CAC DV GUI'!$C$5:$AF$401,29,0) -> 0 | AM15: =AI15 -> Tốt | AO15: Nghỉ thai sản từ ngày 17/3/2025 đến 16/10/25, đánh giá 9 tháng làm việc thực tế
