Workbook

Sheet TH.T3
A1: ỦY BAN NHÂN DÂN TP.HCM | U1: CỘNG HÒA XÃ HỘI CHỦ NGHĨA VIỆT NAM
A2: TRƯỜNG CAO ĐẲNG LÝ TỰ TRỌNG | Y2: Độc lập - Tự do - Hạnh phúc
A3: THÀNH PHỐ HỒ CHÍ MINH | AA3: Mẫu C04-HD
AA4: (Ban hành theo TT số: 107/2017/TT-BTC
AA5: ngày 10/10/2017 của Bộ Tài chính)
A6: BẢNG THANH TOÁN THU NHẬP TĂNG THÊM
A7: Tháng 03 năm 2024
A8: ỦY BAN NHÂN DÂN TP.HCM | S8: CỘNG HÒA XÃ HỘI CHỦ NGHĨA VIỆT NAM
A9: TRƯỜNG CAO ĐẲNG LÝ TỰ TRỌNG | S9: Độc lập - Tự do - Hạnh phúc
A10: THÀNH PHỐ HỒ CHÍ MINH
A12: BẢNG THU NHẬP TĂNG THÊM - LƯƠNG THEO HỆ SỐ ĐIỀU CHỈNH THÁNG 01 NĂM 2024
A13: CÁN BỘ VIÊN CHỨC TRONG CHỈ TIÊU BIÊN CHẾ
A14: (Chi theo Chương II - "Những quy định cụ thể"/ Mục 2 - "Chi thanh toán cá nhân"/ Điều 17 - "Các khoản thanh toán cá nhân"/ Khoản b - "Thu nhập tăng thêm" trong Quy chế chi tiêu nội bộ năm 2023 ban hành kèm theo Quyết định số 739/QĐ-LTT-KHTC ngày 02 tháng 11 năm 2022)
A15: Mức lương tối thiểu hệ số 1 = 1.800.000 | C15: 1490000 | G15: 1800000 | X15: Đơn vị tính: đồng
A18: STT | B18: HỌ VÀ TÊN | D18: Số tài khoản thẻ ATM OCB | E18: Số tài khoản thẻ ATM AGRIBANK | F18: HS (hide) | G18: VK (hide) | H18: HS THỰC HƯỞNG (hide) | I18: HSPC (hide) | J18: CẤP BẬC CHỨC VỤ | K18: HS LƯƠNG +PCCV | L18: CỘNG LƯƠNG (hide) | M18: XẾP LOẠI | N18: Mức lương theo hệ số điều chỉnh | O18: Số ngày công kế hoạch | P18: Số ngày công thực hiện | Q18: Lương điều chỉnh tính theo ngày công thực hiện/tháng | R18: HỆ SỐ TRUY LÃNH LƯƠNG (CỘT NÀY HIDE) | S18: Truy lãnh lương điều chỉnh do truy lãnh lương | T18: HỆ SỐ TRUY LÃNH PCCV (CỘT NÀY HIDE) | U18: Truy lãnh lương điều chỉnh do truy lãnh PCCV | V18: Trường hỗ trợ 1% BHYT | W18: Truy lãnh từ T1/23 đến T2/24 | X18: THÀNH TIỀN | Y18: Hệ số chia thêm | Z18: Mức chia thêm | AA18: Thành tiền | AB18: Ghi chú
A19: A | B19: B | F19: 03 | G19: 04 | H19: 05 | I19: 06 | J19: C | K19: 2 | L19: 3 = 1 x 2 | N19: D | O19: 06 | P19: 07 | Q19: 08 | R19: 16 | S19: 09 | T19: 18 | U19: 10 | V19: Bỏ | X19: 11 | Y19: 1 | Z19: 2 | AA19: 3 = 1 x 2 | AC19: D
B20: Biên chế
A21: THÀNH PHỐ HỒ CHÍ MINH
A23: BẢNG THU NHẬP TĂNG THÊM - LƯƠNG THEO HỆ SỐ ĐIỀU CHỈNH THÁNG 03 NĂM 2024
A24: CÁN BỘ VIÊN CHỨC TRONG CHỈ TIÊU BIÊN CHẾ
A25: (Chi theo Chương II - "Những quy định cụ thể"/ Mục 2 - "Chi thanh toán cá nhân"/ Điều 17 - "Các khoản thanh toán cá nhân"/ Khoản b - "Thu nhập tăng thêm" trong Quy chế chi tiêu nội bộ năm 2023 ban hành kèm theo Quyết định số 739/QĐ-LTT-KHTC ngày 02 tháng 11 năm 2022)
A26: Mức lương tối thiểu hệ số 1 = 1.800.000 | C26: 1490000 | G26: 1800000 | X26: Đơn vị tính: đồng
A28: STT | B28: HỌ VÀ TÊN | D28: Số tài khoản thẻ ATM OCB | E28: Số tài khoản thẻ ATM AGRIBANK | F28: HS (hide) | G28: VK (hide) | H28: HS THỰC HƯỞNG (hide) | I28: HSPC (hide) | K28: HS LƯƠNG +PCCV | L28: CỘNG LƯƠNG (hide) | M28: XẾP LOẠI | N28: Mức lương theo hệ số điều chỉnh | O28: Số ngày công kế hoạch | P28: Số ngày công thực hiện | Q28: Lương điều chỉnh tính theo ngày công thực hiện/tháng | R28: HỆ SỐ TRUY LÃNH LƯƠNG (CỘT NÀY HIDE) | S28: Truy lãnh lương điều chỉnh do truy lãnh lương | T28: HỆ SỐ TRUY LÃNH PCCV (CỘT NÀY HIDE) | U28: Truy lãnh lương điều chỉnh do truy lãnh PCCV | V28: Trường hỗ trợ 1% BHYT | X28: THÀNH TIỀN | AB28: GHI CHÚ
A29: 01 | B29: 02 | F29: 03 | G29: 04 | H29: 05 | I29: 06 | K29: 03 | L29: 08 | M29: 04 | N29: 05 | O29: 06 | P29: 07 | Q29: 08 | R29: 16 | S29: 09 | T29: 18 | U29: 10 | V29: Bỏ | X29: 11 | AB29: 12
A30: =_xlfn.AGGREGATE(4,7,A$29:A29)+1 -> 1 | B30: Phạm Hữu Lộc | C30: LỘC | D30: 0016100006544007 | E30: 1603215001126 | F30: 5.76 | G30: 0 | H30: =F30+(F30*G30) -> 5.76 | I30: 0.9 | J30: =VLOOKUP(B30,TH!B21:J353,9,FALSE) -> Hiệu trưởng | K30: =H30+I30 -> 6.66 | L30: =K30*$G$26 -> 11988000 | M30: =VLOOKUP(B30,'[1]Gui chi Quynh'!$B$11:$E$400,4,FALSE) -> A1 | N30: =IF(M30="A1",L30*1.6,IF(M30="A2",L30*1.4,IF(M30="A3",L30*1.2,IF(M30="A4",L30*1,IF(M30="B1",L30*0.7,IF(M30="B2",L30*0.5,IF(M30="C1",L30*0.3,IF(M30="C2",L30*0.2,0)))))))) -> 19180800 | O30: 21 | P30: =IFERROR(INDEX('[2]CN BC'!$J$10:$J$276,MATCH(B30,'[2]CN BC'!$H$10:$H$276,0)),"") -> 30 | Q30: =IF(P30>=O30,N30,N30/O30*P30) -> 19180800 | S30: =R30*$G$26*1.6 -> 0 | U30: =T30*$G$26*1 -> 0 | V30: =IF(OR(M30="A DN",M30="KXL", M30=""),"0",ROUND(K30*0.01*$G$26+R30*1%*$G$26+T30*1%*$G$26,)) -> 119880 | X30: =(Q30+S30+U30)+W30 -> 19180800 | Y30: =X30/Z30 -> 10.656 | Z30: 1800000 | AA30: =Y30*Z30 -> 19180800 | AB30: =A30 -> 1 | AC30: =IFERROR(INDEX('[2]CN BC'!$M$10:$M$276,MATCH(B30,'[2]CN BC'!$H$10:$H$276,0)),"") -> 0 | AD30: BGH
A31: =_xlfn.AGGREGATE(4,7,A$29:A30)+1 -> 2 | B31: Đinh Văn Đệ | C31: ĐỆ | D31: 0016100006699008 | E31: 1603215001371 | F31: 4.98 | G31: 0.07 | H31: =F31+(F31*G31) -> 5.3286 | I31: 0.7 | J31: =VLOOKUP(B31,TH!B22:J354,9,FALSE) -> Phó Hiệu trưởng | K31: =H31+I31 -> 6.0286 | L31: =K31*$G$26 -> 10851480 | M31: =VLOOKUP(B31,'[1]Gui chi Quynh'!$B$11:$E$400,4,FALSE) -> A1 | N31: =IF(M31="A1",L31*1.6,IF(M31="A2",L31*1.4,IF(M31="A3",L31*1.2,IF(M31="A4",L31*1,IF(M31="B1",L31*0.7,IF(M31="B2",L31*0.5,IF(M31="C1",L31*0.3,IF(M31="C2",L31*0.2,0)))))))) -> 17362368 | O31: 21 | P31: =IFERROR(INDEX('[2]CN BC'!$J$10:$J$276,MATCH(B31,'[2]CN BC'!$H$10:$H$276,0)),"") -> 28 | Q31: =IF(P31>=O31,N31,N31/O31*P31) -> 17362368 | S31: =R31*$G$26*1.6 -> 0 | U31: =T31*$G$26*1 -> 0 | V31: =IF(OR(M31="A DN",M31="KXL", M31=""),"0",ROUND(K31*0.01*$G$26+R31*1%*$G$26+T31*1%*$G$26,)) -> 108515 | X31: =(Q31+S31+U31)+W31 -> 17362368 | Y31: =X31/Z31 -> 9.64576 | Z31: 1800000 | AA31: =Y31*Z31 -> 17362368 | AB31: =A31 -> 2 | AC31: =IFERROR(INDEX('[2]CN BC'!$M$10:$M$276,MATCH(B31,'[2]CN BC'!$H$10:$H$276,0)),"") -> 0 | AD31: BGH
A32: =_xlfn.AGGREGATE(4,7,A$29:A31)+1 -> 3 | B32: Đinh Hồng Minh | C32: MINH | D32: 0016100006543008 | E32: 1603205186191 | F32: 4.98 | G32: 0.08 | H32: =F32+(F32*G32) -> 5.3784 | I32: 0.7 | J32: =VLOOKUP(B32,TH!B23:J355,9,FALSE) -> Phó Hiệu trưởng | K32: =H32+I32 -> 6.0784 | L32: =K32*$G$26 -> 10941120 | M32: =VLOOKUP(B32,'[1]Gui chi Quynh'!$B$11:$E$400,4,FALSE) -> A1 | N32: =IF(M32="A1",L32*1.6,IF(M32="A2",L32*1.4,IF(M32="A3",L32*1.2,IF(M32="A4",L32*1,IF(M32="B1",L32*0.7,IF(M32="B2",L32*0.5,IF(M32="C1",L32*0.3,IF(M32="C2",L32*0.2,0)))))))) -> 17505792 | O32: 21 | P32: =IFERROR(INDEX('[2]CN BC'!$J$10:$J$276,MATCH(B32,'[2]CN BC'!$H$10:$H$276,0)),"") -> 28 | Q32: =IF(P32>=O32,N32,N32/O32*P32) -> 17505792 | S32: =R32*$G$26*1.6 -> 0 | U32: =T32*$G$26*1 -> 0 | V32: =IF(OR(M32="A DN",M32="KXL", M32=""),"0",ROUND(K32*0.01*$G$26+R32*1%*$G$26+T32*1%*$G$26,)) -> 109411 | X32: =(Q32+S32+U32)+W32 -> 17505792 | Y32: =X32/Z32 -> 9.72544 | Z32: 1800000 | AA32: =Y32*Z32 -> 17505792 | AB32: =A32 -> 3 | AC32: =IFERROR(INDEX('[2]CN BC'!$M$10:$M$276,MATCH(B32,'[2]CN BC'!$H$10:$H$276,0)),"") -> 0 | AD32: BGH
A33: =_xlfn.AGGREGATE(4,7,A$29:A32)+1 -> 4 | B33: Châu Văn Bảo | D33: 0016100006674008 | E33: 1603215001359 | F33: 4.65 | H33: =F33+(F33*G33) -> 4.65 | I33: 0.7 | J33: =VLOOKUP(B33,TH!B24:J356,9,FALSE) -> Phó Hiệu trưởng | K33: =H33+I33 -> 5.35 | L33: =K33*$G$26 -> 9630000 | M33: =VLOOKUP(B33,'[1]Gui chi Quynh'!$B$11:$E$400,4,FALSE) -> A1 | N33: =IF(M33="A1",L33*1.6,IF(M33="A2",L33*1.4,IF(M33="A3",L33*1.2,IF(M33="A4",L33*1,IF(M33="B1",L33*0.7,IF(M33="B2",L33*0.5,IF(M33="C1",L33*0.3,IF(M33="C2",L33*0.2,0)))))))) -> 15408000 | O33: 21 | P33: =IFERROR(INDEX('[2]CN BC'!$J$10:$J$276,MATCH(B33,'[2]CN BC'!$H$10:$H$276,0)),"") -> 29 | Q33: =IF(P33>=O33,N33,N33/O33*P33) -> 15408000 | S33: =R33*$G$26*1 -> 0 | U33: =T33*$G$26*1 -> 0 | V33: =IF(OR(M33="A DN",M33="KXL", M33=""),"0",ROUND(K33*0.01*$G$26+R33*1%*$G$26+T33*1%*$G$26,)) -> 96300 | X33: =(Q33+S33+U33)+W33 -> 15408000 | Y33: =X33/Z33 -> 8.56 | Z33: 1800000 | AA33: =Y33*Z33 -> 15408000 | AB33: =A33 -> 4 | AC33: =IFERROR(INDEX('[2]CN BC'!$M$10:$M$276,MATCH(B33,'[2]CN BC'!$H$10:$H$276,0)),"") -> 0 | AD33: BGH
A34: =_xlfn.AGGREGATE(4,7,A$29:A33)+1 -> 5 | B34: Lâm Viết Dũng | C34: DŨNG | D34: 0016106868686866 | E34: 1603215002237 | F34: 4.98 | G34: 0.05 | H34: =F34+(F34*G34) -> 5.229 | I34: 0.45 | J34: =VLOOKUP(B34,TH!B25:J357,9,FALSE) -> Trưởng phòng TC - HC - TH | K34: =H34+I34 -> 5.679 | L34: =K34*$G$26 -> 10222200 | M34: =VLOOKUP(B34,'[1]Gui chi Quynh'!$B$11:$E$400,4,FALSE) -> A1 | N34: =IF(M34="A1",L34*1.6,IF(M34="A2",L34*1.4,IF(M34="A3",L34*1.2,IF(M34="A4",L34*1,IF(M34="B1",L34*0.7,IF(M34="B2",L34*0.5,IF(M34="C1",L34*0.3,IF(M34="C2",L34*0.2,0)))))))) -> 16355520 | O34: 21 | P34: =IFERROR(INDEX('[2]CN BC'!$J$10:$J$276,MATCH(B34,'[2]CN BC'!$H$10:$H$276,0)),"") -> 29 | Q34: =IF(P34>=O34,N34,N34/O34*P34) -> 16355520 | S34: =R34*$G$26*1 -> 0 | U34: =T34*$G$26*1 -> 0 | V34: =IF(OR(M34="A DN",M34="KXL", M34=""),"0",ROUND(K34*0.01*$G$26+R34*1%*$G$26+T34*1%*$G$26,)) -> 102222 | X34: =(Q34+S34+U34)+W34 -> 16355520 | Y34: =X34/Z34 -> 9.0864 | Z34: 1800000 | AA34: =Y34*Z34 -> 16355520 | AB34: =A34 -> 5 | AC34: =IFERROR(INDEX('[2]CN BC'!$M$10:$M$276,MATCH(B34,'[2]CN BC'!$H$10:$H$276,0)),"") -> 0 | AD34: TCHC
A35: =_xlfn.AGGREGATE(4,7,A$29:A34)+1 -> 6 | B35: Lưu Hoàng Hải Yến | C35: YẾN | D35: 0016100006799005 | E35: 1603205353720 | F35: 3.33 | H35: =F35+(F35*G35) -> 3.33 | I35: 0.35 | J35: =VLOOKUP(B35,TH!B26:J358,9,FALSE) -> Phó Trưởng phòng Tổ chức - Hành chính - TH | K35: =H35+I35 -> 3.68 | L35: =K35*$G$26 -> 6624000 | M35: =VLOOKUP(B35,'[1]Gui chi Quynh'!$B$11:$E$400,4,FALSE) -> A2 | N35: =IF(M35="A1",L35*1.6,IF(M35="A2",L35*1.4,IF(M35="A3",L35*1.2,IF(M35="A4",L35*1,IF(M35="B1",L35*0.7,IF(M35="B2",L35*0.5,IF(M35="C1",L35*0.3,IF(M35="C2",L35*0.2,0)))))))) -> 9273600 | O35: 21 | P35: =IFERROR(INDEX('[2]CN BC'!$J$10:$J$276,MATCH(B35,'[2]CN BC'!$H$10:$H$276,0)),"") -> 22.5 | Q35: =IF(P35>=O35,N35,N35/O35*P35) -> 9273600 | S35: =R35*$G$26*1 -> 0 | U35: =T35*$G$26*1 -> 0 | V35: =IF(OR(M35="A DN",M35="KXL", M35=""),"0",ROUND(K35*0.01*$G$26+R35*1%*$G$26+T35*1%*$G$26,)) -> 66240 | X35: =(Q35+S35+U35)+W35 -> 9273600 | Y35: =X35/Z35 -> 5.152 | Z35: 1800000 | AA35: =Y35*Z35 -> 9273600 | AB35: =A35 -> 6 | AC35: =IFERROR(INDEX('[2]CN BC'!$M$10:$M$276,MATCH(B35,'[2]CN BC'!$H$10:$H$276,0)),"") -> Trừ 1 ngày nghỉ phép 28/3 | AD35: TCHC
A36: =_xlfn.AGGREGATE(4,7,A$29:A35)+1 -> 7 | B36: Huỳnh Thị Minh Ly | C36: LY | D36: 0016100006518006 | E36: 1603205185719 | F36: 3 | H36: =F36+(F36*G36) -> 3 | I36: 0.35 | J36: =VLOOKUP(B36,TH!B27:J359,9,FALSE) -> Phó Trưởng phòng Tổ chức - Hành chính - TH | K36: =H36+I36 -> 3.35 | L36: =K36*$G$26 -> 6030000 | M36: =VLOOKUP(B36,'[1]Gui chi Quynh'!$B$11:$E$400,4,FALSE) -> A1 | N36: =IF(M36="A1",L36*1.6,IF(M36="A2",L36*1.4,IF(M36="A3",L36*1.2,IF(M36="A4",L36*1,IF(M36="B1",L36*0.7,IF(M36="B2",L36*0.5,IF(M36="C1",L36*0.3,IF(M36="C2",L36*0.2,0)))))))) -> 9648000 | O36: 21 | P36: =IFERROR(INDEX('[2]CN BC'!$J$10:$J$276,MATCH(B36,'[2]CN BC'!$H$10:$H$276,0)),"") -> 28 | Q36: =IF(P36>=O36,N36,N36/O36*P36) -> 9648000 | S36: =R36*$G$26*1 -> 0 | U36: =T36*$G$26*1 -> 0 | V36: =IF(OR(M36="A DN",M36="KXL", M36=""),"0",ROUND(K36*0.01*$G$26+R36*1%*$G$26+T36*1%*$G$26,)) -> 60300 | X36: =(Q36+S36+U36)+W36 -> 9648000 | Y36: =X36/Z36 -> 5.36 | Z36: 1800000 | AA36: =Y36*Z36 -> 9648000 | AB36: =A36 -> 7 | AC36: =IFERROR(INDEX('[2]CN BC'!$M$10:$M$276,MATCH(B36,'[2]CN BC'!$H$10:$H$276,0)),"") -> 0 | AD36: TCHC | AE36: =52+50+124+99 -> 325
A37: =_xlfn.AGGREGATE(4,7,A$29:A36)+1 -> 8 | B37: Phan Thị Ngọc Phượng | C37: PHƯỢNG | D37: 0016100006635002 | E37: 1603205186162 | F37: 3.66 | H37: =F37+(F37*G37) -> 3.66 | J37: =VLOOKUP(B37,TH!B28:J360,9,FALSE) -> NV Phòng Tổ chức - Hành chính - Tổng hợp | K37: =H37+I37 -> 3.66 | L37: =K37*$G$26 -> 6588000 | M37: =VLOOKUP(B37,'[1]Gui chi Quynh'!$B$11:$E$400,4,FALSE) -> A1 | N37: =IF(M37="A1",L37*1.6,IF(M37="A2",L37*1.4,IF(M37="A3",L37*1.2,IF(M37="A4",L37*1,IF(M37="B1",L37*0.7,IF(M37="B2",L37*0.5,IF(M37="C1",L37*0.3,IF(M37="C2",L37*0.2,0)))))))) -> 10540800 | O37: 21 | P37: =IFERROR(INDEX('[2]CN BC'!$J$10:$J$276,MATCH(B37,'[2]CN BC'!$H$10:$H$276,0)),"") -> 24 | Q37: =IF(P37>=O37,N37,N37/O37*P37) -> 10540800 | S37: =R37*$G$26*1 -> 0 | U37: =T37*$G$26*1 -> 0 | V37: =IF(OR(M37="A DN",M37="KXL", M37=""),"0",ROUND(K37*0.01*$G$26+R37*1%*$G$26+T37*1%*$G$26,)) -> 65880 | X37: =(Q37+S37+U37)+W37 -> 10540800 | Y37: =X37/Z37 -> 5.856 | Z37: 1800000 | AA37: =Y37*Z37 -> 10540800 | AB37: =A37 -> 8 | AC37: =IFERROR(INDEX('[2]CN BC'!$M$10:$M$276,MATCH(B37,'[2]CN BC'!$H$10:$H$276,0)),"") -> 0 | AD37: TCHC
A38: =_xlfn.AGGREGATE(4,7,A$29:A37)+1 -> 9 | B38: Vũ Như Quỳnh | C38: QUỲNH | D38: 0016100006771003 | E38: 1603205186127 | F38: 3.99 | H38: =F38+(F38*G38) -> 3.99 | J38: =VLOOKUP(B38,TH!B29:J361,9,FALSE) -> NV Phòng Tổ chức - Hành chính - Tổng hợp | K38: =H38+I38 -> 3.99 | L38: =K38*$G$26 -> 7182000 | M38: =VLOOKUP(B38,'[1]Gui chi Quynh'!$B$11:$E$400,4,FALSE) -> A2 | N38: =IF(M38="A1",L38*1.6,IF(M38="A2",L38*1.4,IF(M38="A3",L38*1.2,IF(M38="A4",L38*1,IF(M38="B1",L38*0.7,IF(M38="B2",L38*0.5,IF(M38="C1",L38*0.3,IF(M38="C2",L38*0.2,0)))))))) -> 10054800 | O38: 21 | P38: =IFERROR(INDEX('[2]CN BC'!$J$10:$J$276,MATCH(B38,'[2]CN BC'!$H$10:$H$276,0)),"") -> 23 | Q38: =IF(P38>=O38,N38,N38/O38*P38) -> 10054800 | S38: =R38*$G$26*1 -> 0 | U38: =T38*$G$26*1 -> 0 | V38: =IF(OR(M38="A DN",M38="KXL", M38=""),"0",ROUND(K38*0.01*$G$26+R38*1%*$G$26+T38*1%*$G$26,)) -> 71820 | X38: =(Q38+S38+U38)+W38 -> 10054800 | Y38: =X38/Z38 -> 5.586 | Z38: 1800000 | AA38: =Y38*Z38 -> 10054800 | AB38: =A38 -> 9 | AC38: =IFERROR(INDEX('[2]CN BC'!$M$10:$M$276,MATCH(B38,'[2]CN BC'!$H$10:$H$276,0)),"") -> 0 | AD38: TCHC
A39: =_xlfn.AGGREGATE(4,7,A$29:A38)+1 -> 10 | B39: Nguyễn Thị Bích Liễu | C39: LIỄU | D39: 0016100006663006 | E39: 1603205249292 | F39: 3.46 | H39: =F39+(F39*G39) -> 3.46 | J39: =VLOOKUP(B39,TH!B30:J362,9,FALSE) -> NV Phòng Tổ chức - Hành chính - Tổng hợp | K39: =H39+I39 -> 3.46 | L39: =K39*$G$26 -> 6228000 | M39: =VLOOKUP(B39,'[1]Gui chi Quynh'!$B$11:$E$400,4,FALSE) -> A2 | N39: =IF(M39="A1",L39*1.6,IF(M39="A2",L39*1.4,IF(M39="A3",L39*1.2,IF(M39="A4",L39*1,IF(M39="B1",L39*0.7,IF(M39="B2",L39*0.5,IF(M39="C1",L39*0.3,IF(M39="C2",L39*0.2,0)))))))) -> 8719200 | O39: 21 | P39: =IFERROR(INDEX('[2]CN BC'!$J$10:$J$276,MATCH(B39,'[2]CN BC'!$H$10:$H$276,0)),"") -> 23 | Q39: =IF(P39>=O39,N39,N39/O39*P39) -> 8719200 | S39: =R39*$G$26*1 -> 0 | U39: =T39*$G$26*1 -> 0 | V39: =IF(OR(M39="A DN",M39="KXL", M39=""),"0",ROUND(K39*0.01*$G$26+R39*1%*$G$26+T39*1%*$G$26,)) -> 62280 | X39: =(Q39+S39+U39)+W39 -> 8719200 | Y39: =X39/Z39 -> 4.844 | Z39: 1800000 | AA39: =Y39*Z39 -> 8719200 | AB39: =A39 -> 10 | AC39: =IFERROR(INDEX('[2]CN BC'!$M$10:$M$276,MATCH(B39,'[2]CN BC'!$H$10:$H$276,0)),"") -> 0 | AD39: TCHC
A40: =_xlfn.AGGREGATE(4,7,A$29:A39)+1 -> 11 | B40: Nguyễn Văn Chì | C40: CHÌ | D40: 0016100006765003 | E40: 1603205280047 | F40: 3.66 | H40: =F40+(F40*G40) -> 3.66 | J40: =VLOOKUP(B40,TH!B31:J363,9,FALSE) -> NV Phòng Tổ chức - Hành chính - Tổng hợp | K40: =H40+I40 -> 3.66 | L40: =K40*$G$26 -> 6588000 | M40: =VLOOKUP(B40,'[1]Gui chi Quynh'!$B$11:$E$400,4,FALSE) -> A3 | N40: =IF(M40="A1",L40*1.6,IF(M40="A2",L40*1.4,IF(M40="A3",L40*1.2,IF(M40="A4",L40*1,IF(M40="B1",L40*0.7,IF(M40="B2",L40*0.5,IF(M40="C1",L40*0.3,IF(M40="C2",L40*0.2,0)))))))) -> 7905600 | O40: 21 | P40: =IFERROR(INDEX('[2]CN BC'!$J$10:$J$276,MATCH(B40,'[2]CN BC'!$H$10:$H$276,0)),"") -> 22 | Q40: =IF(P40>=O40,N40,N40/O40*P40) -> 7905600 | S40: =R40*$G$26*1 -> 0 | U40: =T40*$G$26*1 -> 0 | V40: =IF(OR(M40="A DN",M40="KXL", M40=""),"0",ROUND(K40*0.01*$G$26+R40*1%*$G$26+T40*1%*$G$26,)) -> 65880 | X40: =(Q40+S40+U40)+W40 -> 7905600 | Y40: =X40/Z40 -> 4.392 | Z40: 1800000 | AA40: =Y40*Z40 -> 7905600 | AB40: =A40 -> 11 | AC40: =IFERROR(INDEX('[2]CN BC'!$M$10:$M$276,MATCH(B40,'[2]CN BC'!$H$10:$H$276,0)),"") -> 0 | AD40: TCHC
A41: =_xlfn.AGGREGATE(4,7,A$29:A40)+1 -> 12 | B41: Trần Thị Ánh Phượng | C41: PHƯỢNG | D41: 0016100006767006 | E41: 1603205246134 | F41: 3.66 | H41: =F41+(F41*G41) -> 3.66 | J41: =VLOOKUP(B41,TH!B32:J364,9,FALSE) -> NV Phòng Tổ chức - Hành chính - Tổng hợp | K41: =H41+I41 -> 3.66 | L41: =K41*$G$26 -> 6588000 | M41: =VLOOKUP(B41,'[1]Gui chi Quynh'!$B$11:$E$400,4,FALSE) -> A2 | N41: =IF(M41="A1",L41*1.6,IF(M41="A2",L41*1.4,IF(M41="A3",L41*1.2,IF(M41="A4",L41*1,IF(M41="B1",L41*0.7,IF(M41="B2",L41*0.5,IF(M41="C1",L41*0.3,IF(M41="C2",L41*0.2,0)))))))) -> 9223200 | O41: 21 | P41: =IFERROR(INDEX('[2]CN BC'!$J$10:$J$276,MATCH(B41,'[2]CN BC'!$H$10:$H$276,0)),"") -> 21.5 | Q41: =IF(P41>=O41,N41,N41/O41*P41) -> 9223200 | S41: =R41*$G$26*1 -> 0 | U41: =T41*$G$26*1 -> 0 | V41: =IF(OR(M41="A DN",M41="KXL", M41=""),"0",ROUND(K41*0.01*$G$26+R41*1%*$G$26+T41*1%*$G$26,)) -> 65880 | W41: 8053980 | X41: =(Q41+S41+U41)+W41 -> 17277180 | Y41: =X41/Z41 -> 9.5984333 | Z41: 1800000 | AA41: =Y41*Z41 -> 17277180 | AB41: =A41 -> 12 | AC41: =IFERROR(INDEX('[2]CN BC'!$M$10:$M$276,MATCH(B41,'[2]CN BC'!$H$10:$H$276,0)),"") -> Trừ 1 ngày nghỉ phép 1/3 | AD41: TCHC
A42: =_xlfn.AGGREGATE(4,7,A$29:A41)+1 -> 13 | B42: Trần Thị Phương Oanh | C42: OANH | D42: 0016100006576006 | E42: 1603205178794 | F42: 3.66 | H42: =F42+(F42*G42) -> 3.66 | J42: =VLOOKUP(B42,TH!B33:J365,9,FALSE) -> NV Phòng Tổ chức - Hành chính - Tổng hợp | K42: =H42+I42 -> 3.66 | L42: =K42*$G$26 -> 6588000 | M42: =VLOOKUP(B42,'[1]Gui chi Quynh'!$B$11:$E$400,4,FALSE) -> A2 | N42: =IF(M42="A1",L42*1.6,IF(M42="A2",L42*1.4,IF(M42="A3",L42*1.2,IF(M42="A4",L42*1,IF(M42="B1",L42*0.7,IF(M42="B2",L42*0.5,IF(M42="C1",L42*0.3,IF(M42="C2",L42*0.2,0)))))))) -> 9223200 | O42: 21 | P42: =IFERROR(INDEX('[2]CN BC'!$J$10:$J$276,MATCH(B42,'[2]CN BC'!$H$10:$H$276,0)),"") -> 21.5 | Q42: =IF(P42>=O42,N42,N42/O42*P42) -> 9223200 | S42: =R42*$G$26*1.4 -> 0 | U42: =T42*$G$26*1 -> 0 | V42: =IF(OR(M42="A DN",M42="KXL", M42=""),"0",ROUND(K42*0.01*$G$26+R42*1%*$G$26+T42*1%*$G$26,)) -> 65880 | X42: =(Q42+S42+U42)+W42 -> 9223200 | Y42: =X42/Z42 -> 5.124 | Z42: 1800000 | AA42: =Y42*Z42 -> 9223200 | AB42: =A42 -> 13 | AC42: =IFERROR(INDEX('[2]CN BC'!$M$10:$M$276,MATCH(B42,'[2]CN BC'!$H$10:$H$276,0)),"") -> 0 | AD42: TCHC
A43: =_xlfn.AGGREGATE(4,7,A$29:A42)+1 -> 14 | B43: Thân Thị Nhung | C43: NHUNG | D43: 0016100006832002 | E43: 1603205360856 | F43: 3.33 | H43: =F43+(F43*G43) -> 3.33 | J43: =VLOOKUP(B43,TH!B34:J366,9,FALSE) -> NV Phòng Tổ chức - Hành chính - Tổng hợp | K43: =H43+I43 -> 3.33 | L43: =K43*$G$26 -> 5994000 | M43: =VLOOKUP(B43,'[1]Gui chi Quynh'!$B$11:$E$400,4,FALSE) -> A2 | N43: =IF(M43="A1",L43*1.6,IF(M43="A2",L43*1.4,IF(M43="A3",L43*1.2,IF(M43="A4",L43*1,IF(M43="B1",L43*0.7,IF(M43="B2",L43*0.5,IF(M43="C1",L43*0.3,IF(M43="C2",L43*0.2,0)))))))) -> 8391600 | O43: 21 | P43: =IFERROR(INDEX('[2]CN BC'!$J$10:$J$276,MATCH(B43,'[2]CN BC'!$H$10:$H$276,0)),"") -> 21.5 | Q43: =IF(P43>=O43,N43,N43/O43*P43) -> 8391600 | S43: =R43*$G$26*1 -> 0 | U43: =T43*$G$26*1 -> 0 | V43: =IF(OR(M43="A DN",M43="KXL", M43=""),"0",ROUND(K43*0.01*$G$26+R43*1%*$G$26+T43*1%*$G$26,)) -> 59940 | X43: =(Q43+S43+U43)+W43 -> 8391600 | Y43: =X43/Z43 -> 4.662 | Z43: 1800000 | AA43: =Y43*Z43 -> 8391600 | AB43: =A43 -> 14 | AC43: =IFERROR(INDEX('[2]CN BC'!$M$10:$M$276,MATCH(B43,'[2]CN BC'!$H$10:$H$276,0)),"") -> 0 | AD43: TCHC
A44: =_xlfn.AGGREGATE(4,7,A$29:A43)+1 -> 15 | B44: Nguyễn Thị Vân | C44: VÂN | D44: 0016100006864001 | E44: 1603205545491 | F44: =2.46+0.15 -> 2.61 | H44: =F44+(F44*G44) -> 2.61 | J44: =VLOOKUP(B44,TH!B35:J367,9,FALSE) -> NV Phòng Tổ chức - Hành chính - Tổng hợp | K44: =H44+I44 -> 2.61 | L44: =K44*$G$26 -> 4698000 | M44: =VLOOKUP(B44,'[1]Gui chi Quynh'!$B$11:$E$400,4,FALSE) -> A2 | N44: =IF(M44="A1",L44*1.6,IF(M44="A2",L44*1.4,IF(M44="A3",L44*1.2,IF(M44="A4",L44*1,IF(M44="B1",L44*0.7,IF(M44="B2",L44*0.5,IF(M44="C1",L44*0.3,IF(M44="C2",L44*0.2,0)))))))) -> 6577200 | O44: 21 | P44: =IFERROR(INDEX('[2]CN BC'!$J$10:$J$276,MATCH(B44,'[2]CN BC'!$H$10:$H$276,0)),"") -> 24 | Q44: =IF(P44>=O44,N44,N44/O44*P44) -> 6577200 | S44: =R44*$G$26*1 -> 0 | U44: =T44*$G$26*1 -> 0 | V44: =IF(OR(M44="A DN",M44="KXL", M44=""),"0",ROUND(K44*0.01*$G$26+R44*1%*$G$26+T44*1%*$G$26,)) -> 46980 | W44: 5616000 | X44: =(Q44+S44+U44)+W44 -> 12193200 | Y44: =X44/Z44 -> 6.774 | Z44: 1800000 | AA44: =Y44*Z44 -> 12193200 | AB44: =A44 -> 15 | AC44: =IFERROR(INDEX('[2]CN BC'!$M$10:$M$276,MATCH(B44,'[2]CN BC'!$H$10:$H$276,0)),"") -> 0
A45: =_xlfn.AGGREGATE(4,7,A$29:A44)+1 -> 16 | B45: Lê Thị Hải Đăng | F45: 3.66 | H45: =F45+(F45*G45) -> 3.66 | J45: =VLOOKUP(B45,TH!B36:J368,9,FALSE) -> NV Phòng Tổ chức - Hành chính - Tổng hợp | K45: =H45+I45 -> 3.66 | L45: =K45*$G$26 -> 6588000 | M45: =VLOOKUP(B45,'[1]Gui chi Quynh'!$B$11:$E$400,4,FALSE) -> A2 | N45: =IF(M45="A1",L45*1.6,IF(M45="A2",L45*1.4,IF(M45="A3",L45*1.2,IF(M45="A4",L45*1,IF(M45="B1",L45*0.7,IF(M45="B2",L45*0.5,IF(M45="C1",L45*0.3,IF(M45="C2",L45*0.2,0)))))))) -> 9223200 | O45: 21 | P45: =IFERROR(INDEX('[2]CN BC'!$J$10:$J$276,MATCH(B45,'[2]CN BC'!$H$10:$H$276,0)),"") -> 22 | Q45: =IF(P45>=O45,N45,N45/O45*P45) -> 9223200 | S45: =R45*$G$26*1 -> 0 | U45: =T45*$G$26*1 -> 0 | V45: =IF(OR(M45="A DN",M45="KXL", M45=""),"0",ROUND(K45*0.01*$G$26+R45*1%*$G$26+T45*1%*$G$26,)) -> 65880 | X45: =(Q45+S45+U45)+W45 -> 9223200 | Y45: =X45/Z45 -> 5.124 | Z45: 1800000 | AA45: =Y45*Z45 -> 9223200 | AB45: =A45 -> 16 | AC45: =IFERROR(INDEX('[2]CN BC'!$M$10:$M$276,MATCH(B45,'[2]CN BC'!$H$10:$H$276,0)),"") -> 0
...

Sheet TH
A1: ỦY BAN NHÂN DÂN TP.HCM | U1: CỘNG HÒA XÃ HỘI CHỦ NGHĨA VIỆT NAM
A2: TRƯỜNG CAO ĐẲNG LÝ TỰ TRỌNG | Z2: Độc lập - Tự do - Hạnh phúc
A3: THÀNH PHỐ HỒ CHÍ MINH | AB3: Mẫu C04-HD
AB4: (Ban hành theo TT số: 107/2017/TT-BTC
AB5: ngày 10/10/2017 của Bộ Tài chính)
A6: BẢNG THANH TOÁN THU NHẬP TĂNG THÊM
A7: Tháng 02 năm 2024
A8: ỦY BAN NHÂN DÂN TP.HCM | S8: CỘNG HÒA XÃ HỘI CHỦ NGHĨA VIỆT NAM
A9: TRƯỜNG CAO ĐẲNG LÝ TỰ TRỌNG | S9: Độc lập - Tự do - Hạnh phúc
A10: THÀNH PHỐ HỒ CHÍ MINH
A12: BẢNG THU NHẬP TĂNG THÊM - LƯƠNG THEO HỆ SỐ ĐIỀU CHỈNH THÁNG 01 NĂM 2024
A13: CÁN BỘ VIÊN CHỨC TRONG CHỈ TIÊU BIÊN CHẾ
A14: (Chi theo Chương II - "Những quy định cụ thể"/ Mục 2 - "Chi thanh toán cá nhân"/ Điều 17 - "Các khoản thanh toán cá nhân"/ Khoản b - "Thu nhập tăng thêm" trong Quy chế chi tiêu nội bộ năm 2023 ban hành kèm theo Quyết định số 739/QĐ-LTT-KHTC ngày 02 tháng 11 năm 2022)
A15: Mức lương tối thiểu hệ số 1 = 1.800.000 | C15: 1490000 | G15: 1800000 | W15: Đơn vị tính: đồng
A18: STT | B18: HỌ VÀ TÊN | D18: Số tài khoản thẻ ATM OCB | E18: Số tài khoản thẻ ATM AGRIBANK | F18: HS (hide) | G18: VK (hide) | H18: HS THỰC HƯỞNG (hide) | I18: HSPC (hide) | J18: CẤP BẬC CHỨC VỤ | K18: HS LƯƠNG +PCCV | L18: CỘNG LƯƠNG (hide) | M18: XẾP LOẠI | N18: Mức lương theo hệ số điều chỉnh | O18: Số ngày công kế hoạch | P18: Số ngày công thực hiện | Q18: Lương điều chỉnh tính theo ngày công thực hiện/tháng | R18: HỆ SỐ TRUY LÃNH LƯƠNG (CỘT NÀY HIDE) | S18: Truy lãnh lương điều chỉnh do truy lãnh lương | T18: HỆ SỐ TRUY LÃNH PCCV (CỘT NÀY HIDE) | U18: Truy lãnh lương điều chỉnh do truy lãnh PCCV | V18: Trường hỗ trợ 1% BHYT | W18: THÀNH TIỀN | X18: Truy lãnh ABC T01/2024 | Y18: Thực lãnh | Z18: Hệ số chia thêm | AA18: Mức chia thêm | AB18: Thành tiền | AC18: Ghi chú
A19: A | B19: B | F19: 03 | G19: 04 | H19: 05 | I19: 06 | J19: C | K19: 2 | L19: 3 = 1 x 2 | N19: D | O19: 06 | P19: 07 | Q19: 08 | R19: 16 | S19: 09 | T19: 18 | U19: 10 | V19: Bỏ | W19: 11 | Z19: 1 | AA19: 2 | AB19: 3 = 1 x 2 | AD19: D
B20: Biên chế
A21: =_xlfn.AGGREGATE(4,7,A$19:A19)+1 -> 1 | B21: Phạm Hữu Lộc | C21: LỘC | D21: 0016100006544007 | E21: 1603215001126 | F21: 5.76 | G21: 0 | H21: =F21+(F21*G21) -> 5.76 | I21: 0.9 | J21: =VLOOKUP(B21,[4]CN!$B$33:$J$365,9,FALSE) -> Hiệu trưởng | K21: =H21+I21 -> 6.66 | L21: =K21*$G$15 -> 11988000 | M21: =VLOOKUP(B21,'[5]Gui chi Quynh'!$B$11:$E$400,4,FALSE) -> A1 | N21: =IF(M21="A1",L21*1.6,IF(M21="A2",L21*1.4,IF(M21="A3",L21*1.2,IF(M21="A4",L21*1,IF(M21="B1",L21*0.7,IF(M21="B2",L21*0.5,IF(M21="C1",L21*0.3,IF(M21="C2",L21*0.2,0)))))))) -> 19180800 | O21: 16 | P21: =IFERROR(INDEX('[6]CN BC'!$J$10:$J$277,MATCH(B21,'[6]CN BC'!$H$10:$H$277,0)),"") -> 23 | Q21: =IF(P21>=O21,N21,N21/O21*P21) -> 19180800 | S21: =R21*$G$15*1.6 -> 0 | U21: =T21*$G$15*1 -> 0 | V21: =IF(OR(M21="A DN",M21="KXL", M21=""),"0",ROUND(K21*0.01*$G$15+R21*1%*$G$15+T21*1%*$G$15,)) -> 119880 | W21: =(Q21+S21+U21) -> 19180800 | X21: =IFERROR(INDEX([7]TL!$X$12:$X$200,MATCH(B21,[7]TL!$B$12:$B$200,0)),"0") -> 0 | Y21: =ROUND(W21+X21,0) -> 19180800 | Z21: =Y21/AA21 -> 10.656 | AA21: 1800000 | AB21: =Z21*AA21 -> 19180800 | AC21: =A21 -> 1 | AD21: =IFERROR(INDEX('[6]CN BC'!$M$10:$M$276,MATCH(B21,'[6]CN BC'!$H$10:$H$276,0)),"") -> 0 | AE21: BGH
A22: =_xlfn.AGGREGATE(4,7,A$19:A21)+1 -> 2 | B22: Đinh Văn Đệ | C22: ĐỆ | D22: 0016100006699008 | E22: 1603215001371 | F22: 4.98 | G22: 0.07 | H22: =F22+(F22*G22) -> 5.3286 | I22: 0.7 | J22: =VLOOKUP(B22,[4]CN!$B$33:$J$365,9,FALSE) -> Phó Hiệu trưởng | K22: =H22+I22 -> 6.0286 | L22: =K22*$G$15 -> 10851480 | M22: =VLOOKUP(B22,'[5]Gui chi Quynh'!$B$11:$E$400,4,FALSE) -> A1 | N22: =IF(M22="A1",L22*1.6,IF(M22="A2",L22*1.4,IF(M22="A3",L22*1.2,IF(M22="A4",L22*1,IF(M22="B1",L22*0.7,IF(M22="B2",L22*0.5,IF(M22="C1",L22*0.3,IF(M22="C2",L22*0.2,0)))))))) -> 17362368 | O22: 16 | P22: =IFERROR(INDEX('[6]CN BC'!$J$10:$J$277,MATCH(B22,'[6]CN BC'!$H$10:$H$277,0)),"") -> 21 | Q22: =IF(P22>=O22,N22,N22/O22*P22) -> 17362368 | S22: =R22*$G$15*1.6 -> 0 | U22: =T22*$G$15*1 -> 0 | V22: =IF(OR(M22="A DN",M22="KXL", M22=""),"0",ROUND(K22*0.01*$G$15+R22*1%*$G$15+T22*1%*$G$15,)) -> 108515 | W22: =(Q22+S22+U22) -> 17362368 | X22: =IFERROR(INDEX([7]TL!$X$12:$X$200,MATCH(B22,[7]TL!$B$12:$B$200,0)),"0") -> 0 | Y22: =W22+X22 -> 17362368 | Z22: =Y22/AA22 -> 9.64576 | AA22: 1800000 | AB22: =Z22*AA22 -> 17362368 | AC22: =A22 -> 2 | AD22: =IFERROR(INDEX('[6]CN BC'!$M$10:$M$276,MATCH(B22,'[6]CN BC'!$H$10:$H$276,0)),"") -> 0 | AE22: BGH
A23: =_xlfn.AGGREGATE(4,7,A$19:A22)+1 -> 3 | B23: Đinh Hồng Minh | C23: MINH | D23: 0016100006543008 | E23: 1603205186191 | F23: 4.98 | G23: 0.08 | H23: =F23+(F23*G23) -> 5.3784 | I23: 0.7 | J23: =VLOOKUP(B23,[4]CN!$B$33:$J$365,9,FALSE) -> Phó Hiệu trưởng | K23: =H23+I23 -> 6.0784 | L23: =K23*$G$15 -> 10941120 | M23: =VLOOKUP(B23,'[5]Gui chi Quynh'!$B$11:$E$400,4,FALSE) -> A1 | N23: =IF(M23="A1",L23*1.6,IF(M23="A2",L23*1.4,IF(M23="A3",L23*1.2,IF(M23="A4",L23*1,IF(M23="B1",L23*0.7,IF(M23="B2",L23*0.5,IF(M23="C1",L23*0.3,IF(M23="C2",L23*0.2,0)))))))) -> 17505792 | O23: 16 | P23: =IFERROR(INDEX('[6]CN BC'!$J$10:$J$277,MATCH(B23,'[6]CN BC'!$H$10:$H$277,0)),"") -> 22 | Q23: =IF(P23>=O23,N23,N23/O23*P23) -> 17505792 | S23: =R23*$G$15*1.6 -> 0 | U23: =T23*$G$15*1 -> 0 | V23: =IF(OR(M23="A DN",M23="KXL", M23=""),"0",ROUND(K23*0.01*$G$15+R23*1%*$G$15+T23*1%*$G$15,)) -> 109411 | W23: =(Q23+S23+U23) -> 17505792 | X23: =IFERROR(INDEX([7]TL!$X$12:$X$200,MATCH(B23,[7]TL!$B$12:$B$200,0)),"0") -> 0 | Y23: =W23+X23 -> 17505792 | Z23: =Y23/AA23 -> 9.72544 | AA23: 1800000 | AB23: =Z23*AA23 -> 17505792 | AC23: =A23 -> 3 | AD23: =IFERROR(INDEX('[6]CN BC'!$M$10:$M$276,MATCH(B23,'[6]CN BC'!$H$10:$H$276,0)),"") -> 0 | AE23: BGH
A24: =_xlfn.AGGREGATE(4,7,A$19:A23)+1 -> 4 | B24: Châu Văn Bảo | D24: 0016100006674008 | E24: 1603215001359 | F24: 4.65 | H24: =F24+(F24*G24) -> 4.65 | I24: 0.7 | J24: =VLOOKUP(B24,[4]CN!$B$33:$J$365,9,FALSE) -> Phó Hiệu trưởng | K24: =H24+I24 -> 5.35 | L24: =K24*$G$15 -> 9630000 | M24: =VLOOKUP(B24,'[5]Gui chi Quynh'!$B$11:$E$400,4,FALSE) -> A1 | N24: =IF(M24="A1",L24*1.6,IF(M24="A2",L24*1.4,IF(M24="A3",L24*1.2,IF(M24="A4",L24*1,IF(M24="B1",L24*0.7,IF(M24="B2",L24*0.5,IF(M24="C1",L24*0.3,IF(M24="C2",L24*0.2,0)))))))) -> 15408000 | O24: 16 | P24: =IFERROR(INDEX('[6]CN BC'!$J$10:$J$277,MATCH(B24,'[6]CN BC'!$H$10:$H$277,0)),"") -> 20 | Q24: =IF(P24>=O24,N24,N24/O24*P24) -> 15408000 | S24: =R24*$G$15*1 -> 0 | U24: =T24*$G$15*1 -> 0 | V24: =IF(OR(M24="A DN",M24="KXL", M24=""),"0",ROUND(K24*0.01*$G$15+R24*1%*$G$15+T24*1%*$G$15,)) -> 96300 | W24: =(Q24+S24+U24) -> 15408000 | X24: =IFERROR(INDEX([7]TL!$X$12:$X$200,MATCH(B24,[7]TL!$B$12:$B$200,0)),"0") -> 0 | Y24: =W24+X24 -> 15408000 | Z24: =Y24/AA24 -> 8.56 | AA24: 1800000 | AB24: =Z24*AA24 -> 15408000 | AC24: =A24 -> 4 | AD24: =IFERROR(INDEX('[6]CN BC'!$M$10:$M$276,MATCH(B24,'[6]CN BC'!$H$10:$H$276,0)),"") -> 0 | AE24: BGH
A25: =_xlfn.AGGREGATE(4,7,A$19:A24)+1 -> 5 | B25: Lâm Viết Dũng | C25: DŨNG | D25: 0016106868686866 | E25: 1603215002237 | F25: 4.98 | G25: 0.05 | H25: =F25+(F25*G25) -> 5.229 | I25: 0.45 | J25: =VLOOKUP(B25,[4]CN!$B$33:$J$365,9,FALSE) -> Trưởng phòng TC - HC - TH | K25: =H25+I25 -> 5.679 | L25: =K25*$G$15 -> 10222200 | M25: =VLOOKUP(B25,'[5]Gui chi Quynh'!$B$11:$E$400,4,FALSE) -> A1 | N25: =IF(M25="A1",L25*1.6,IF(M25="A2",L25*1.4,IF(M25="A3",L25*1.2,IF(M25="A4",L25*1,IF(M25="B1",L25*0.7,IF(M25="B2",L25*0.5,IF(M25="C1",L25*0.3,IF(M25="C2",L25*0.2,0)))))))) -> 16355520 | O25: 16 | P25: =IFERROR(INDEX('[6]CN BC'!$J$10:$J$277,MATCH(B25,'[6]CN BC'!$H$10:$H$277,0)),"") -> 23 | Q25: =IF(P25>=O25,N25,N25/O25*P25) -> 16355520 | S25: =R25*$G$15*1 -> 0 | U25: =T25*$G$15*1 -> 0 | V25: =IF(OR(M25="A DN",M25="KXL", M25=""),"0",ROUND(K25*0.01*$G$15+R25*1%*$G$15+T25*1%*$G$15,)) -> 102222 | W25: =(Q25+S25+U25) -> 16355520 | X25: =IFERROR(INDEX([7]TL!$X$12:$X$200,MATCH(B25,[7]TL!$B$12:$B$200,0)),"0") -> 0 | Y25: =W25+X25 -> 16355520 | Z25: =Y25/AA25 -> 9.0864 | AA25: 1800000 | AB25: =Z25*AA25 -> 16355520 | AC25: =A25 -> 5 | AD25: =IFERROR(INDEX('[6]CN BC'!$M$10:$M$276,MATCH(B25,'[6]CN BC'!$H$10:$H$276,0)),"") -> 0 | AE25: TCHC
A26: =_xlfn.AGGREGATE(4,7,A$19:A25)+1 -> 6 | B26: Lưu Hoàng Hải Yến | C26: YẾN | D26: 0016100006799005 | E26: 1603205353720 | F26: 3.33 | H26: =F26+(F26*G26) -> 3.33 | I26: 0.35 | J26: =VLOOKUP(B26,[4]CN!$B$33:$J$365,9,FALSE) -> Phó Trưởng phòng Tổ chức - Hành chính - TH | K26: =H26+I26 -> 3.68 | L26: =K26*$G$15 -> 6624000 | M26: =VLOOKUP(B26,'[5]Gui chi Quynh'!$B$11:$E$400,4,FALSE) -> A1 | N26: =IF(M26="A1",L26*1.6,IF(M26="A2",L26*1.4,IF(M26="A3",L26*1.2,IF(M26="A4",L26*1,IF(M26="B1",L26*0.7,IF(M26="B2",L26*0.5,IF(M26="C1",L26*0.3,IF(M26="C2",L26*0.2,0)))))))) -> 10598400 | O26: 16 | P26: =IFERROR(INDEX('[6]CN BC'!$J$10:$J$277,MATCH(B26,'[6]CN BC'!$H$10:$H$277,0)),"") -> 18 | Q26: =IF(P26>=O26,N26,N26/O26*P26) -> 10598400 | S26: =R26*$G$15*1 -> 0 | U26: =T26*$G$15*1 -> 0 | V26: =IF(OR(M26="A DN",M26="KXL", M26=""),"0",ROUND(K26*0.01*$G$15+R26*1%*$G$15+T26*1%*$G$15,)) -> 66240 | W26: =(Q26+S26+U26) -> 10598400 | X26: =IFERROR(INDEX([7]TL!$X$12:$X$200,MATCH(B26,[7]TL!$B$12:$B$200,0)),"0") -> 0 | Y26: =W26+X26 -> 10598400 | Z26: =Y26/AA26 -> 5.888 | AA26: 1800000 | AB26: =Z26*AA26 -> 10598400 | AC26: =A26 -> 6 | AD26: =IFERROR(INDEX('[6]CN BC'!$M$10:$M$276,MATCH(B26,'[6]CN BC'!$H$10:$H$276,0)),"") -> 0 | AE26: TCHC
A27: =_xlfn.AGGREGATE(4,7,A$19:A26)+1 -> 7 | B27: Huỳnh Thị Minh Ly | C27: LY | D27: 0016100006518006 | E27: 1603205185719 | F27: 3 | H27: =F27+(F27*G27) -> 3 | I27: 0.35 | J27: =VLOOKUP(B27,[4]CN!$B$33:$J$365,9,FALSE) -> Phó Trưởng phòng Tổ chức - Hành chính - TH | K27: =H27+I27 -> 3.35 | L27: =K27*$G$15 -> 6030000 | M27: =VLOOKUP(B27,'[5]Gui chi Quynh'!$B$11:$E$400,4,FALSE) -> A1 | N27: =IF(M27="A1",L27*1.6,IF(M27="A2",L27*1.4,IF(M27="A3",L27*1.2,IF(M27="A4",L27*1,IF(M27="B1",L27*0.7,IF(M27="B2",L27*0.5,IF(M27="C1",L27*0.3,IF(M27="C2",L27*0.2,0)))))))) -> 9648000 | O27: 16 | P27: =IFERROR(INDEX('[6]CN BC'!$J$10:$J$277,MATCH(B27,'[6]CN BC'!$H$10:$H$277,0)),"") -> 22 | Q27: =IF(P27>=O27,N27,N27/O27*P27) -> 9648000 | S27: =R27*$G$15*1 -> 0 | U27: =T27*$G$15*1 -> 0 | V27: =IF(OR(M27="A DN",M27="KXL", M27=""),"0",ROUND(K27*0.01*$G$15+R27*1%*$G$15+T27*1%*$G$15,)) -> 60300 | W27: =(Q27+S27+U27) -> 9648000 | X27: =IFERROR(INDEX([7]TL!$X$12:$X$200,MATCH(B27,[7]TL!$B$12:$B$200,0)),"0") -> 0 | Y27: =W27+X27 -> 9648000 | Z27: =Y27/AA27 -> 5.36 | AA27: 1800000 | AB27: =Z27*AA27 -> 9648000 | AC27: =A27 -> 7 | AD27: =IFERROR(INDEX('[6]CN BC'!$M$10:$M$276,MATCH(B27,'[6]CN BC'!$H$10:$H$276,0)),"") -> 0 | AE27: TCHC | AF27: =52+50+124+99 -> 325
A28: =_xlfn.AGGREGATE(4,7,A$19:A27)+1 -> 8 | B28: Phan Thị Ngọc Phượng | C28: PHƯỢNG | D28: 0016100006635002 | E28: 1603205186162 | F28: 3.66 | H28: =F28+(F28*G28) -> 3.66 | J28: =VLOOKUP(B28,[4]CN!$B$33:$J$365,9,FALSE) -> NV Phòng Tổ chức - Hành chính - Tổng hợp | K28: =H28+I28 -> 3.66 | L28: =K28*$G$15 -> 6588000 | M28: =VLOOKUP(B28,'[5]Gui chi Quynh'!$B$11:$E$400,4,FALSE) -> A1 | N28: =IF(M28="A1",L28*1.6,IF(M28="A2",L28*1.4,IF(M28="A3",L28*1.2,IF(M28="A4",L28*1,IF(M28="B1",L28*0.7,IF(M28="B2",L28*0.5,IF(M28="C1",L28*0.3,IF(M28="C2",L28*0.2,0)))))))) -> 10540800 | O28: 16 | P28: =IFERROR(INDEX('[6]CN BC'!$J$10:$J$277,MATCH(B28,'[6]CN BC'!$H$10:$H$277,0)),"") -> 17 | Q28: =IF(P28>=O28,N28,N28/O28*P28) -> 10540800 | S28: =R28*$G$15*1 -> 0 | U28: =T28*$G$15*1 -> 0 | V28: =IF(OR(M28="A DN",M28="KXL", M28=""),"0",ROUND(K28*0.01*$G$15+R28*1%*$G$15+T28*1%*$G$15,)) -> 65880 | W28: =(Q28+S28+U28) -> 10540800 | X28: =IFERROR(INDEX([7]TL!$X$12:$X$200,MATCH(B28,[7]TL!$B$12:$B$200,0)),"0") -> 0 | Y28: =W28+X28 -> 10540800 | Z28: =Y28/AA28 -> 5.856 | AA28: 1800000 | AB28: =Z28*AA28 -> 10540800 | AC28: =A28 -> 8 | AD28: =IFERROR(INDEX('[6]CN BC'!$M$10:$M$276,MATCH(B28,'[6]CN BC'!$H$10:$H$276,0)),"") -> 0 | AE28: TCHC
A29: =_xlfn.AGGREGATE(4,7,A$19:A28)+1 -> 9 | B29: Vũ Như Quỳnh | C29: QUỲNH | D29: 0016100006771003 | E29: 1603205186127 | F29: 3.66 | H29: =F29+(F29*G29) -> 3.66 | J29: =VLOOKUP(B29,[4]CN!$B$33:$J$365,9,FALSE) -> NV Phòng Tổ chức - Hành chính - Tổng hợp | K29: =H29+I29 -> 3.66 | L29: =K29*$G$15 -> 6588000 | M29: =VLOOKUP(B29,'[5]Gui chi Quynh'!$B$11:$E$400,4,FALSE) -> A1 | N29: =IF(M29="A1",L29*1.6,IF(M29="A2",L29*1.4,IF(M29="A3",L29*1.2,IF(M29="A4",L29*1,IF(M29="B1",L29*0.7,IF(M29="B2",L29*0.5,IF(M29="C1",L29*0.3,IF(M29="C2",L29*0.2,0)))))))) -> 10540800 | O29: 16 | P29: =IFERROR(INDEX('[6]CN BC'!$J$10:$J$277,MATCH(B29,'[6]CN BC'!$H$10:$H$277,0)),"") -> 16.5 | Q29: =IF(P29>=O29,N29,N29/O29*P29) -> 10540800 | S29: =R29*$G$15*1 -> 0 | U29: =T29*$G$15*1 -> 0 | V29: =IF(OR(M29="A DN",M29="KXL", M29=""),"0",ROUND(K29*0.01*$G$15+R29*1%*$G$15+T29*1%*$G$15,)) -> 65880 | W29: =(Q29+S29+U29) -> 10540800 | X29: =IFERROR(INDEX([7]TL!$X$12:$X$200,MATCH(B29,[7]TL!$B$12:$B$200,0)),"0") -> 0 | Y29: =W29+X29 -> 10540800 | Z29: =Y29/AA29 -> 5.856 | AA29: 1800000 | AB29: =Z29*AA29 -> 10540800 | AC29: =A29 -> 9 | AD29: =IFERROR(INDEX('[6]CN BC'!$M$10:$M$276,MATCH(B29,'[6]CN BC'!$H$10:$H$276,0)),"") -> 0 | AE29: TCHC
A30: =_xlfn.AGGREGATE(4,7,A$19:A29)+1 -> 10 | B30: Nguyễn Thị Bích Liễu | C30: LIỄU | D30: 0016100006663006 | E30: 1603205249292 | F30: 3.46 | H30: =F30+(F30*G30) -> 3.46 | J30: =VLOOKUP(B30,[4]CN!$B$33:$J$365,9,FALSE) -> NV Phòng Tổ chức - Hành chính - Tổng hợp | K30: =H30+I30 -> 3.46 | L30: =K30*$G$15 -> 6228000 | M30: =VLOOKUP(B30,'[5]Gui chi Quynh'!$B$11:$E$400,4,FALSE) -> A1 | N30: =IF(M30="A1",L30*1.6,IF(M30="A2",L30*1.4,IF(M30="A3",L30*1.2,IF(M30="A4",L30*1,IF(M30="B1",L30*0.7,IF(M30="B2",L30*0.5,IF(M30="C1",L30*0.3,IF(M30="C2",L30*0.2,0)))))))) -> 9964800 | O30: 16 | P30: =IFERROR(INDEX('[6]CN BC'!$J$10:$J$277,MATCH(B30,'[6]CN BC'!$H$10:$H$277,0)),"") -> 17 | Q30: =IF(P30>=O30,N30,N30/O30*P30) -> 9964800 | S30: =R30*$G$15*1 -> 0 | U30: =T30*$G$15*1 -> 0 | V30: =IF(OR(M30="A DN",M30="KXL", M30=""),"0",ROUND(K30*0.01*$G$15+R30*1%*$G$15+T30*1%*$G$15,)) -> 62280 | W30: =(Q30+S30+U30) -> 9964800 | X30: =IFERROR(INDEX([7]TL!$X$12:$X$200,MATCH(B30,[7]TL!$B$12:$B$200,0)),"0") -> 0 | Y30: =W30+X30 -> 9964800 | Z30: =Y30/AA30 -> 5.536 | AA30: 1800000 | AB30: =Z30*AA30 -> 9964800 | AC30: =A30 -> 10 | AD30: =IFERROR(INDEX('[6]CN BC'!$M$10:$M$276,MATCH(B30,'[6]CN BC'!$H$10:$H$276,0)),"") -> 0 | AE30: TCHC
A31: =_xlfn.AGGREGATE(4,7,A$19:A30)+1 -> 11 | B31: Nguyễn Văn Chì | C31: CHÌ | D31: 0016100006765003 | E31: 1603205280047 | F31: 3.66 | H31: =F31+(F31*G31) -> 3.66 | J31: =VLOOKUP(B31,[4]CN!$B$33:$J$365,9,FALSE) -> NV Phòng Tổ chức - Hành chính - Tổng hợp | K31: =H31+I31 -> 3.66 | L31: =K31*$G$15 -> 6588000 | M31: =VLOOKUP(B31,'[5]Gui chi Quynh'!$B$11:$E$400,4,FALSE) -> A4 | N31: =IF(M31="A1",L31*1.6,IF(M31="A2",L31*1.4,IF(M31="A3",L31*1.2,IF(M31="A4",L31*1,IF(M31="B1",L31*0.7,IF(M31="B2",L31*0.5,IF(M31="C1",L31*0.3,IF(M31="C2",L31*0.2,0)))))))) -> 6588000 | O31: 16 | P31: =IFERROR(INDEX('[6]CN BC'!$J$10:$J$277,MATCH(B31,'[6]CN BC'!$H$10:$H$277,0)),"") -> 14 | Q31: =IF(P31>=O31,N31,N31/O31*P31) -> 5764500 | S31: =R31*$G$15*1 -> 0 | U31: =T31*$G$15*1 -> 0 | V31: =IF(OR(M31="A DN",M31="KXL", M31=""),"0",ROUND(K31*0.01*$G$15+R31*1%*$G$15+T31*1%*$G$15,)) -> 65880 | W31: =(Q31+S31+U31) -> 5764500 | X31: =IFERROR(INDEX([7]TL!$X$12:$X$200,MATCH(B31,[7]TL!$B$12:$B$200,0)),"0") -> 0 | Y31: =W31+X31 -> 5764500 | Z31: =Y31/AA31 -> 3.2025 | AA31: 1800000 | AB31: =Z31*AA31 -> 5764500 | AC31: =A31 -> 11 | AD31: =IFERROR(INDEX('[6]CN BC'!$M$10:$M$276,MATCH(B31,'[6]CN BC'!$H$10:$H$276,0)),"") -> 0 | AE31: TCHC
A32: =_xlfn.AGGREGATE(4,7,A$19:A31)+1 -> 12 | B32: Trần Thị Ánh Phượng | C32: PHƯỢNG | D32: 0016100006767006 | E32: 1603205246134 | F32: 3.33 | H32: =F32+(F32*G32) -> 3.33 | J32: =VLOOKUP(B32,[4]CN!$B$33:$J$365,9,FALSE) -> NV Phòng Tổ chức - Hành chính - Tổng hợp | K32: =H32+I32 -> 3.33 | L32: =K32*$G$15 -> 5994000 | M32: =VLOOKUP(B32,'[5]Gui chi Quynh'!$B$11:$E$400,4,FALSE) -> A1 | N32: =IF(M32="A1",L32*1.6,IF(M32="A2",L32*1.4,IF(M32="A3",L32*1.2,IF(M32="A4",L32*1,IF(M32="B1",L32*0.7,IF(M32="B2",L32*0.5,IF(M32="C1",L32*0.3,IF(M32="C2",L32*0.2,0)))))))) -> 9590400 | O32: 16 | P32: =IFERROR(INDEX('[6]CN BC'!$J$10:$J$277,MATCH(B32,'[6]CN BC'!$H$10:$H$277,0)),"") -> 16.5 | Q32: =IF(P32>=O32,N32,N32/O32*P32) -> 9590400 | S32: =R32*$G$15*1 -> 0 | U32: =T32*$G$15*1 -> 0 | V32: =IF(OR(M32="A DN",M32="KXL", M32=""),"0",ROUND(K32*0.01*$G$15+R32*1%*$G$15+T32*1%*$G$15,)) -> 59940 | W32: =(Q32+S32+U32) -> 9590400 | X32: =IFERROR(INDEX([7]TL!$X$12:$X$200,MATCH(B32,[7]TL!$B$12:$B$200,0)),"0") -> 0 | Y32: =W32+X32 -> 9590400 | Z32: =Y32/AA32 -> 5.328 | AA32: 1800000 | AB32: =Z32*AA32 -> 9590400 | AC32: =A32 -> 12 | AD32: =IFERROR(INDEX('[6]CN BC'!$M$10:$M$276,MATCH(B32,'[6]CN BC'!$H$10:$H$276,0)),"") -> 0 | AE32: TCHC
A33: =_xlfn.AGGREGATE(4,7,A$19:A32)+1 -> 13 | B33: Trần Thị Phương Oanh | C33: OANH | D33: 0016100006576006 | E33: 1603205178794 | F33: 3.66 | H33: =F33+(F33*G33) -> 3.66 | J33: =VLOOKUP(B33,[4]CN!$B$33:$J$365,9,FALSE) -> NV Phòng Tổ chức - Hành chính - Tổng hợp | K33: =H33+I33 -> 3.66 | L33: =K33*$G$15 -> 6588000 | M33: =VLOOKUP(B33,'[5]Gui chi Quynh'!$B$11:$E$400,4,FALSE) -> A3 | N33: =IF(M33="A1",L33*1.6,IF(M33="A2",L33*1.4,IF(M33="A3",L33*1.2,IF(M33="A4",L33*1,IF(M33="B1",L33*0.7,IF(M33="B2",L33*0.5,IF(M33="C1",L33*0.3,IF(M33="C2",L33*0.2,0)))))))) -> 7905600 | O33: 16 | P33: =IFERROR(INDEX('[6]CN BC'!$J$10:$J$277,MATCH(B33,'[6]CN BC'!$H$10:$H$277,0)),"") -> 16 | Q33: =IF(P33>=O33,N33,N33/O33*P33) -> 7905600 | S33: =R33*$G$15*1.4 -> 0 | U33: =T33*$G$15*1 -> 0 | V33: =IF(OR(M33="A DN",M33="KXL", M33=""),"0",ROUND(K33*0.01*$G$15+R33*1%*$G$15+T33*1%*$G$15,)) -> 65880 | W33: =(Q33+S33+U33) -> 7905600 | X33: =IFERROR(INDEX([7]TL!$X$12:$X$200,MATCH(B33,[7]TL!$B$12:$B$200,0)),"0") -> 0 | Y33: =W33+X33 -> 7905600 | Z33: =Y33/AA33 -> 4.392 | AA33: 1800000 | AB33: =Z33*AA33 -> 7905600 | AC33: =A33 -> 13 | AD33: =IFERROR(INDEX('[6]CN BC'!$M$10:$M$276,MATCH(B33,'[6]CN BC'!$H$10:$H$276,0)),"") -> 0 | AE33: TCHC
A34: =_xlfn.AGGREGATE(4,7,A$19:A33)+1 -> 14 | B34: Thân Thị Nhung | C34: NHUNG | D34: 0016100006832002 | E34: 1603205360856 | F34: 3.33 | H34: =F34+(F34*G34) -> 3.33 | J34: =VLOOKUP(B34,[4]CN!$B$33:$J$365,9,FALSE) -> NV Phòng Tổ chức - Hành chính - Tổng hợp | K34: =H34+I34 -> 3.33 | L34: =K34*$G$15 -> 5994000 | M34: =VLOOKUP(B34,'[5]Gui chi Quynh'!$B$11:$E$400,4,FALSE) -> A4 | N34: =IF(M34="A1",L34*1.6,IF(M34="A2",L34*1.4,IF(M34="A3",L34*1.2,IF(M34="A4",L34*1,IF(M34="B1",L34*0.7,IF(M34="B2",L34*0.5,IF(M34="C1",L34*0.3,IF(M34="C2",L34*0.2,0)))))))) -> 5994000 | O34: 16 | P34: =IFERROR(INDEX('[6]CN BC'!$J$10:$J$277,MATCH(B34,'[6]CN BC'!$H$10:$H$277,0)),"") -> 13 | Q34: =IF(P34>=O34,N34,N34/O34*P34) -> 4870125 | S34: =R34*$G$15*1 -> 0 | U34: =T34*$G$15*1 -> 0 | V34: =IF(OR(M34="A DN",M34="KXL", M34=""),"0",ROUND(K34*0.01*$G$15+R34*1%*$G$15+T34*1%*$G$15,)) -> 59940 | W34: =(Q34+S34+U34) -> 4870125 | X34: =IFERROR(INDEX([7]TL!$X$12:$X$200,MATCH(B34,[7]TL!$B$12:$B$200,0)),"0") -> 0 | Y34: =W34+X34 -> 4870125 | Z34: =Y34/AA34 -> 2.705625 | AA34: 1800000 | AB34: =Z34*AA34 -> 4870125 | AC34: =A34 -> 14 | AD34: =IFERROR(INDEX('[6]CN BC'!$M$10:$M$276,MATCH(B34,'[6]CN BC'!$H$10:$H$276,0)),"") -> Trừ 3 ngày nghỉ phép 5+6+7/2 | AE34: TCHC
A35: =_xlfn.AGGREGATE(4,7,A$19:A34)+1 -> 15 | B35: Nguyễn Thị Vân | C35: VÂN | D35: 0016100006864001 | E35: 1603205545491 | F35: 2.41 | H35: =F35+(F35*G35) -> 2.41 | J35: =VLOOKUP(B35,[4]CN!$B$33:$J$365,9,FALSE) -> NV Phòng Tổ chức - Hành chính - Tổng hợp | K35: =H35+I35 -> 2.41 | L35: =K35*$G$15 -> 4338000 | M35: =VLOOKUP(B35,'[5]Gui chi Quynh'!$B$11:$E$400,4,FALSE) -> A2 | N35: =IF(M35="A1",L35*1.6,IF(M35="A2",L35*1.4,IF(M35="A3",L35*1.2,IF(M35="A4",L35*1,IF(M35="B1",L35*0.7,IF(M35="B2",L35*0.5,IF(M35="C1",L35*0.3,IF(M35="C2",L35*0.2,0)))))))) -> 6073200 | O35: 16 | P35: =IFERROR(INDEX('[6]CN BC'!$J$10:$J$277,MATCH(B35,'[6]CN BC'!$H$10:$H$277,0)),"") -> 18 | Q35: =IF(P35>=O35,N35,N35/O35*P35) -> 6073200 | S35: =R35*$G$15*1 -> 0 | U35: =T35*$G$15*1 -> 0 | V35: =IF(OR(M35="A DN",M35="KXL", M35=""),"0",ROUND(K35*0.01*$G$15+R35*1%*$G$15+T35*1%*$G$15,)) -> 43380 | W35: =(Q35+S35+U35) -> 6073200 | X35: =IFERROR(INDEX([7]TL!$X$12:$X$200,MATCH(B35,[7]TL!$B$12:$B$200,0)),"0") -> 0 | Y35: =W35+X35 -> 6073200 | Z35: =Y35/AA35 -> 3.374 | AA35: 1800000 | AB35: =Z35*AA35 -> 6073200 | AC35: =A35 -> 15 | AD35: =IFERROR(INDEX('[6]CN BC'!$M$10:$M$276,MATCH(B35,'[6]CN BC'!$H$10:$H$276,0)),"") -> 0
A36: =_xlfn.AGGREGATE(4,7,A$19:A35)+1 -> 16 | B36: Lê Thị Hải Đăng | F36: 3.66 | H36: =F36+(F36*G36) -> 3.66 | J36: =VLOOKUP(B36,[4]CN!$B$33:$J$365,9,FALSE) -> NV Phòng Tổ chức - Hành chính - Tổng hợp | K36: =H36+I36 -> 3.66 | L36: =K36*$G$15 -> 6588000 | M36: =VLOOKUP(B36,'[5]Gui chi Quynh'!$B$11:$E$400,4,FALSE) -> A3 | N36: =IF(M36="A1",L36*1.6,IF(M36="A2",L36*1.4,IF(M36="A3",L36*1.2,IF(M36="A4",L36*1,IF(M36="B1",L36*0.7,IF(M36="B2",L36*0.5,IF(M36="C1",L36*0.3,IF(M36="C2",L36*0.2,0)))))))) -> 7905600 | O36: 16 | P36: =IFERROR(INDEX('[6]CN BC'!$J$10:$J$277,MATCH(B36,'[6]CN BC'!$H$10:$H$277,0)),"") -> 16 | Q36: =IF(P36>=O36,N36,N36/O36*P36) -> 7905600 | S36: =R36*$G$15*1 -> 0 | U36: =T36*$G$15*1 -> 0 | V36: =IF(OR(M36="A DN",M36="KXL", M36=""),"0",ROUND(K36*0.01*$G$15+R36*1%*$G$15+T36*1%*$G$15,)) -> 65880 | W36: =(Q36+S36+U36) -> 7905600 | X36: =IFERROR(INDEX([7]TL!$X$12:$X$200,MATCH(B36,[7]TL!$B$12:$B$200,0)),"0") -> 0 | Y36: =W36+X36 -> 7905600 | Z36: =Y36/AA36 -> 4.392 | AA36: 1800000 | AB36: =Z36*AA36 -> 7905600 | AC36: =A36 -> 16 | AD36: =IFERROR(INDEX('[6]CN BC'!$M$10:$M$276,MATCH(B36,'[6]CN BC'!$H$10:$H$276,0)),"") -> 0
A37: =_xlfn.AGGREGATE(4,7,A$19:A36)+1 -> 17 | B37: Lê Quang Liêm | C37: LIÊM | D37: 0016100006806001 | E37: 1603215001365 | F37: 4.98 | G37: 0.05 | H37: =F37+(F37*G37) -> 5.229 | I37: 0.45 | J37: =VLOOKUP(B37,[4]CN!$B$33:$J$365,9,FALSE) -> Trưởng phòng Quản trị - Dịch vụ | K37: =H37+I37 -> 5.679 | L37: =K37*$G$15 -> 10222200 | M37: =VLOOKUP(B37,'[5]Gui chi Quynh'!$B$11:$E$400,4,FALSE) -> A1 | N37: =IF(M37="A1",L37*1.6,IF(M37="A2",L37*1.4,IF(M37="A3",L37*1.2,IF(M37="A4",L37*1,IF(M37="B1",L37*0.7,IF(M37="B2",L37*0.5,IF(M37="C1",L37*0.3,IF(M37="C2",L37*0.2,0)))))))) -> 16355520 | O37: 16 | P37: =IFERROR(INDEX('[6]CN BC'!$J$10:$J$277,MATCH(B37,'[6]CN BC'!$H$10:$H$277,0)),"") -> 19 | Q37: =IF(P37>=O37,N37,N37/O37*P37) -> 16355520 | S37: =R37*$G$15*1 -> 0 | U37: =T37*$G$15*1 -> 0 | V37: =IF(OR(M37="A DN",M37="KXL", M37=""),"0",ROUND(K37*0.01*$G$15+R37*1%*$G$15+T37*1%*$G$15,)) -> 102222 | W37: =(Q37+S37+U37) -> 16355520 | X37: =IFERROR(INDEX([7]TL!$X$12:$X$200,MATCH(B37,[7]TL!$B$12:$B$200,0)),"0") -> 0 | Y37: =W37+X37 -> 16355520 | Z37: =Y37/AA37 -> 9.0864 | AA37: 1800000 | AB37: =Z37*AA37 -> 16355520 | AC37: =A37 -> 17 | AD37: =IFERROR(INDEX('[6]CN BC'!$M$10:$M$276,MATCH(B37,'[6]CN BC'!$H$10:$H$276,0)),"") -> 0
A38: =_xlfn.AGGREGATE(4,7,A$19:A37)+1 -> 18 | B38: Nguyễn Văn Thành | C38: THÀNH | D38: 0016100006495006 | E38: 1603205182190 | F38: 4.98 | G38: 0.07 | H38: =F38+(F38*G38) -> 5.3286 | I38: 0.35 | J38: =VLOOKUP(B38,[4]CN!$B$33:$J$365,9,FALSE) -> Phó TP. Quản trị - Dịch vụ | K38: =H38+I38 -> 5.6786 | L38: =K38*$G$15 -> 10221480 | M38: =VLOOKUP(B38,'[5]Gui chi Quynh'!$B$11:$E$400,4,FALSE) -> A1 | N38: =IF(M38="A1",L38*1.6,IF(M38="A2",L38*1.4,IF(M38="A3",L38*1.2,IF(M38="A4",L38*1,IF(M38="B1",L38*0.7,IF(M38="B2",L38*0.5,IF(M38="C1",L38*0.3,IF(M38="C2",L38*0.2,0)))))))) -> 16354368 | O38: 16 | P38: =IFERROR(INDEX('[6]CN BC'!$J$10:$J$277,MATCH(B38,'[6]CN BC'!$H$10:$H$277,0)),"") -> 19 | Q38: =IF(P38>=O38,N38,N38/O38*P38) -> 16354368 | S38: =R38*$G$15*1 -> 0 | U38: =T38*$G$15*1 -> 0 | V38: =IF(OR(M38="A DN",M38="KXL", M38=""),"0",ROUND(K38*0.01*$G$15+R38*1%*$G$15+T38*1%*$G$15,)) -> 102215 | W38: =(Q38+S38+U38) -> 16354368 | X38: =IFERROR(INDEX([7]TL!$X$12:$X$200,MATCH(B38,[7]TL!$B$12:$B$200,0)),"0") -> 0 | Y38: =W38+X38 -> 16354368 | Z38: =Y38/AA38 -> 9.08576 | AA38: 1800000 | AB38: =Z38*AA38 -> 16354368 | AC38: =A38 -> 18 | AD38: =IFERROR(INDEX('[6]CN BC'!$M$10:$M$276,MATCH(B38,'[6]CN BC'!$H$10:$H$276,0)),"") -> 0
A39: =_xlfn.AGGREGATE(4,7,A$19:A38)+1 -> 19 | B39: Nguyễn Trọng Phú | C39: PHÚ | D39: 0016100006505001 | E39: 1603205185935 | F39: 3.65 | H39: =F39+(F39*G39) -> 3.65 | I39: 0.25 | J39: =VLOOKUP(B39,[4]CN!$B$33:$J$365,9,FALSE) -> NV Phòng Quản trị - Dịch vụ | K39: =H39+I39 -> 3.9 | L39: =K39*$G$15 -> 7020000 | M39: =VLOOKUP(B39,'[5]Gui chi Quynh'!$B$11:$E$400,4,FALSE) -> A4 | N39: =IF(M39="A1",L39*1.6,IF(M39="A2",L39*1.4,IF(M39="A3",L39*1.2,IF(M39="A4",L39*1,IF(M39="B1",L39*0.7,IF(M39="B2",L39*0.5,IF(M39="C1",L39*0.3,IF(M39="C2",L39*0.2,0)))))))) -> 7020000 | O39: 16 | P39: =IFERROR(INDEX('[6]CN BC'!$J$10:$J$277,MATCH(B39,'[6]CN BC'!$H$10:$H$277,0)),"") -> 14 | Q39: =IF(P39>=O39,N39,N39/O39*P39) -> 6142500 | S39: =R39*$G$15*1 -> 0 | U39: =T39*$G$15*1 -> 0 | V39: =IF(OR(M39="A DN",M39="KXL", M39=""),"0",ROUND(K39*0.01*$G$15+R39*1%*$G$15+T39*1%*$G$15,)) -> 70200 | W39: =(Q39+S39+U39) -> 6142500 | X39: =IFERROR(INDEX([7]TL!$X$12:$X$200,MATCH(B39,[7]TL!$B$12:$B$200,0)),"0") -> 0 | Y39: =W39+X39 -> 6142500 | Z39: =Y39/AA39 -> 3.4125 | AA39: 1800000 | AB39: =Z39*AA39 -> 6142500 | AC39: =A39 -> 19 | AD39: =IFERROR(INDEX('[6]CN BC'!$M$10:$M$276,MATCH(B39,'[6]CN BC'!$H$10:$H$276,0)),"") -> Trừ 4 ngày nghỉ phép 5+6+7+15/2
A40: =_xlfn.AGGREGATE(4,7,A$19:A39)+1 -> 20 | B40: Vũ Ngọc Quang | C40: QUANG | D40: 0016100006807008 | E40: 1603205185912 | F40: 3.26 | H40: =F40+(F40*G40) -> 3.26 | J40: =VLOOKUP(B40,[4]CN!$B$33:$J$365,9,FALSE) -> NV Phòng Quản trị - Dịch vụ | K40: =H40+I40 -> 3.26 | L40: =K40*$G$15 -> 5868000 | M40: =VLOOKUP(B40,'[5]Gui chi Quynh'!$B$11:$E$400,4,FALSE) -> A3 | N40: =IF(M40="A1",L40*1.6,IF(M40="A2",L40*1.4,IF(M40="A3",L40*1.2,IF(M40="A4",L40*1,IF(M40="B1",L40*0.7,IF(M40="B2",L40*0.5,IF(M40="C1",L40*0.3,IF(M40="C2",L40*0.2,0)))))))) -> 7041600 | O40: 16 | P40: =IFERROR(INDEX('[6]CN BC'!$J$10:$J$277,MATCH(B40,'[6]CN BC'!$H$10:$H$277,0)),"") -> 15 | Q40: =IF(P40>=O40,N40,N40/O40*P40) -> 6601500 | S40: =R40*$G$15*1 -> 0 | U40: =T40*$G$15*1 -> 0 | V40: =IF(OR(M40="A DN",M40="KXL", M40=""),"0",ROUND(K40*0.01*$G$15+R40*1%*$G$15+T40*1%*$G$15,)) -> 58680 | W40: =(Q40+S40+U40) -> 6601500 | X40: =IFERROR(INDEX([7]TL!$X$12:$X$200,MATCH(B40,[7]TL!$B$12:$B$200,0)),"0") -> 0 | Y40: =W40+X40 -> 6601500 | Z40: =Y40/AA40 -> 3.6675 | AA40: 1800000 | AB40: =Z40*AA40 -> 6601500 | AC40: =A40 -> 20 | AD40: =IFERROR(INDEX('[6]CN BC'!$M$10:$M$276,MATCH(B40,'[6]CN BC'!$H$10:$H$276,0)),"") -> Trừ 1 ngày nghỉ phép 7/2
A41: =_xlfn.AGGREGATE(4,7,A$19:A40)+1 -> 21 | B41: Giáp Văn Thịnh | C41: THỊNH | D41: 0016100006599006 | E41: 1603205246157 | F41: 3.46 | H41: =F41+(F41*G41) -> 3.46 | J41: =VLOOKUP(B41,[4]CN!$B$33:$J$365,9,FALSE) -> Nhân viên phòng Quản trị - Dịch vụ | K41: =H41+I41 -> 3.46 | L41: =K41*$G$15 -> 6228000 | M41: =VLOOKUP(B41,'[5]Gui chi Quynh'!$B$11:$E$400,4,FALSE) -> A1 | N41: =IF(M41="A1",L41*1.6,IF(M41="A2",L41*1.4,IF(M41="A3",L41*1.2,IF(M41="A4",L41*1,IF(M41="B1",L41*0.7,IF(M41="B2",L41*0.5,IF(M41="C1",L41*0.3,IF(M41="C2",L41*0.2,0)))))))) -> 9964800 | O41: 16 | P41: =IFERROR(INDEX('[6]CN BC'!$J$10:$J$277,MATCH(B41,'[6]CN BC'!$H$10:$H$277,0)),"") -> 16 | Q41: =IF(P41>=O41,N41,N41/O41*P41) -> 9964800 | S41: =R41*$G$15*1 -> 0 | U41: =T41*$G$15*1 -> 0 | V41: =IF(OR(M41="A DN",M41="KXL", M41=""),"0",ROUND(K41*0.01*$G$15+R41*1%*$G$15+T41*1%*$G$15,)) -> 62280 | W41: =(Q41+S41+U41) -> 9964800 | X41: =IFERROR(INDEX([7]TL!$X$12:$X$200,MATCH(B41,[7]TL!$B$12:$B$200,0)),"0") -> 0 | Y41: =W41+X41 -> 9964800 | Z41: =Y41/AA41 -> 5.536 | AA41: 1800000 | AB41: =Z41*AA41 -> 9964800 | AC41: =A41 -> 21 | AD41: =IFERROR(INDEX('[6]CN BC'!$M$10:$M$276,MATCH(B41,'[6]CN BC'!$H$10:$H$276,0)),"") -> 0
A42: =_xlfn.AGGREGATE(4,7,A$19:A41)+1 -> 22 | B42: Lê Hồng Anh Tuấn | C42: TUẤN | D42: 0016100006493003 | E42: 1603205348129 | F42: 3.34 | H42: =F42+(F42*G42) -> 3.34 | J42: =VLOOKUP(B42,[4]CN!$B$33:$J$365,9,FALSE) -> Nhân viên phòng Quản trị - Dịch vụ | K42: =H42+I42 -> 3.34 | L42: =K42*$G$15 -> 6012000 | M42: =VLOOKUP(B42,'[5]Gui chi Quynh'!$B$11:$E$400,4,FALSE) -> A1 | N42: =IF(M42="A1",L42*1.6,IF(M42="A2",L42*1.4,IF(M42="A3",L42*1.2,IF(M42="A4",L42*1,IF(M42="B1",L42*0.7,IF(M42="B2",L42*0.5,IF(M42="C1",L42*0.3,IF(M42="C2",L42*0.2,0)))))))) -> 9619200 | O42: 16 | P42: =IFERROR(INDEX('[6]CN BC'!$J$10:$J$277,MATCH(B42,'[6]CN BC'!$H$10:$H$277,0)),"") -> 16 | Q42: =IF(P42>=O42,N42,N42/O42*P42) -> 9619200 | S42: =R42*$G$15*1 -> 0 | U42: =T42*$G$15*1 -> 0 | V42: =IF(OR(M42="A DN",M42="KXL", M42=""),"0",ROUND(K42*0.01*$G$15+R42*1%*$G$15+T42*1%*$G$15,)) -> 60120 | W42: =(Q42+S42+U42) -> 9619200 | X42: =IFERROR(INDEX([7]TL!$X$12:$X$200,MATCH(B42,[7]TL!$B$12:$B$200,0)),"0") -> 0 | Y42: =W42+X42 -> 9619200 | Z42: =Y42/AA42 -> 5.344 | AA42: 1800000 | AB42: =Z42*AA42 -> 9619200 | AC42: =A42 -> 22 | AD42: =IFERROR(INDEX('[6]CN BC'!$M$10:$M$276,MATCH(B42,'[6]CN BC'!$H$10:$H$276,0)),"") -> 0
A43: =_xlfn.AGGREGATE(4,7,A$19:A42)+1 -> 23 | B43: Ninh Đỗ Hiệp | C43: HIỆP | D43: 0016100006690003 | E43: 1603205245965 | F43: 3.66 | H43: =F43+(F43*G43) -> 3.66 | J43: =VLOOKUP(B43,[4]CN!$B$33:$J$365,9,FALSE) -> Nhân viên phòng Quản trị - Dịch vụ | K43: =H43+I43 -> 3.66 | L43: =K43*$G$15 -> 6588000 | M43: =VLOOKUP(B43,'[5]Gui chi Quynh'!$B$11:$E$400,4,FALSE) -> A3 | N43: =IF(M43="A1",L43*1.6,IF(M43="A2",L43*1.4,IF(M43="A3",L43*1.2,IF(M43="A4",L43*1,IF(M43="B1",L43*0.7,IF(M43="B2",L43*0.5,IF(M43="C1",L43*0.3,IF(M43="C2",L43*0.2,0)))))))) -> 7905600 | O43: 16 | P43: =IFERROR(INDEX('[6]CN BC'!$J$10:$J$277,MATCH(B43,'[6]CN BC'!$H$10:$H$277,0)),"") -> 16 | Q43: =IF(P43>=O43,N43,N43/O43*P43) -> 7905600 | S43: =R43*$G$15*1 -> 0 | U43: =T43*$G$15*1 -> 0 | V43: =IF(OR(M43="A DN",M43="KXL", M43=""),"0",ROUND(K43*0.01*$G$15+R43*1%*$G$15+T43*1%*$G$15,)) -> 65880 | W43: =(Q43+S43+U43) -> 7905600 | X43: =IFERROR(INDEX([7]TL!$X$12:$X$200,MATCH(B43,[7]TL!$B$12:$B$200,0)),"0") -> 0 | Y43: =W43+X43 -> 7905600 | Z43: =Y43/AA43 -> 4.392 | AA43: 1800000 | AB43: =Z43*AA43 -> 7905600 | AC43: =A43 -> 23 | AD43: =IFERROR(INDEX('[6]CN BC'!$M$10:$M$276,MATCH(B43,'[6]CN BC'!$H$10:$H$276,0)),"") -> 0
...

Sheet TL
A1: ỦY BAN NHÂN DÂN TP.HCM | R1: CỘNG HÒA XÃ HỘI CHỦ NGHĨA VIỆT NAM
A2: TRƯỜNG CAO ĐẲNG LÝ TỰ TRỌNG | R2: Độc lập - Tự do - Hạnh phúc
A3: THÀNH PHỐ HỒ CHÍ MINH
A5: BẢNG TRUY LÃNH THU NHẬP TĂNG THÊM - LƯƠNG THEO HỆ SỐ ĐIỀU CHỈNH THÁNG 01 NĂM 2024
A6: CÁN BỘ VIÊN CHỨC TRONG CHỈ TIÊU BIÊN CHẾ
A7: (Chi theo Chương II - "Những quy định cụ thể"/ Mục 2 - "Chi thanh toán cá nhân"/ Điều 17 - "Các khoản thanh toán cá nhân"/ Khoản b - "Thu nhập tăng thêm" trong Quy chế chi tiêu nội bộ năm 2023 ban hành kèm theo Quyết định số 739/QĐ-LTT-KHTC ngày 02 tháng 11 năm 2022)
A8: Mức lương tối thiểu hệ số 1 = 1.800.000 | C8: 1490000 | G8: 1800000 | V8: Đơn vị tính: đồng
A10: STT | B10: HỌ VÀ TÊN | D10: Số tài khoản thẻ ATM OCB | E10: Số tài khoản thẻ ATM AGRIBANK | F10: HS (hide) | G10: VK (hide) | H10: HS THỰC HƯỞNG (hide) | I10: HSPC (hide) | J10: HS LƯƠNG +PCCV | K10: CỘNG LƯƠNG (hide) | L10: XẾP LOẠI | M10: Mức lương theo hệ số điều chỉnh | N10: Số ngày công kế hoạch | O10: Số ngày công thực hiện | P10: Lương điều chỉnh tính theo ngày công thực hiện/tháng | Q10: HỆ SỐ TRUY LÃNH LƯƠNG (CỘT NÀY HIDE) | R10: Truy lãnh lương điều chỉnh do truy lãnh lương | S10: HỆ SỐ TRUY LÃNH PCCV (CỘT NÀY HIDE) | T10: Truy lãnh lương điều chỉnh do truy lãnh PCCV | U10: Trường hỗ trợ 1% BHYT | V10: THÀNH TIỀN | W10: ĐÃ NHẬN | X10: CHÊNH LỆCH | Y10: GHI CHÚ
A11: 01 | B11: 02 | F11: 03 | G11: 04 | H11: 05 | I11: 06 | J11: 03 | K11: 08 | L11: 04 | M11: 05 | N11: 06 | O11: 07 | P11: 08 | Q11: 16 | R11: 09 | S11: 18 | T11: 10 | U11: Bỏ | V11: 11 | Y11: 12
A12: =_xlfn.AGGREGATE(4,7,A$11:A11)+1 -> 1 | B12: Phạm Quang Vũ | C12: VŨ | D12: 0016100007211001 | E12: 1603215003961 | F12: 3.66 | H12: =F12+(F12*G12) -> 3.66 | I12: 0.45 | J12: =H12+I12 -> 4.11 | K12: =J12*TL!$G$8 -> 7398000 | L12: =VLOOKUP(B12,'[8]Gui chi Quynh'!$B$11:$E$401,4,FALSE) -> A2 | M12: =IF(L12="A1",K12*1.6,IF(L12="A2",K12*1.4,IF(L12="A3",K12*1.2,IF(L12="A4",K12*1,IF(L12="B1",K12*0.7,IF(L12="B2",K12*0.5,IF(L12="C1",K12*0.3,IF(L12="C2",K12*0.2,0)))))))) -> 10357200 | N12: 19 | O12: =IFERROR(INDEX('[9]CN BC'!$J$10:$J$277,MATCH(B12,'[9]CN BC'!$H$10:$H$277,0)),"") -> 19 | P12: =IF(O12>=N12,M12,M12/N12*O12) -> 10357200 | R12: =Q12*$G$8*1 -> 0 | T12: =S12*$G$8*1 -> 0 | U12: =IF(OR(L12="A DN",L12="KXL", L12=""),"0",ROUND(J12*0.01*$G$8+Q12*1%*$G$8+S12*1%*$G$8,)) -> 73980 | V12: =(P12+R12+T12) -> 10357200 | W12: =VLOOKUP(B12,CN!B13:O271,15,FALSE) -> #REF! | X12: =V12-W12 -> #REF! | Y12: =A12 -> 1 | Z12: =IFERROR(INDEX('[10]CN BC'!$M$10:$M$276,MATCH(B12,'[10]CN BC'!$H$10:$H$276,0)),"") -> 0
A13: =_xlfn.AGGREGATE(4,7,A$11:A12)+1 -> 2 | B13: Trình Minh Phong | D13: 0004100004671006 | E13: 1603205634954 | F13: 2.67 | H13: =F13+(F13*G13) -> 2.67 | J13: =H13+I13 -> 2.67 | K13: =J13*$G$8 -> 4806000 | L13: =VLOOKUP(B13,'[8]Gui chi Quynh'!$B$11:$E$401,4,FALSE) -> A4 | M13: =IF(L13="A1",K13*1.6,IF(L13="A2",K13*1.4,IF(L13="A3",K13*1.2,IF(L13="A4",K13*1,IF(L13="B1",K13*0.7,IF(L13="B2",K13*0.5,IF(L13="C1",K13*0.3,IF(L13="C2",K13*0.2,0)))))))) -> 4806000 | N13: 19 | O13: =IFERROR(INDEX('[9]CN BC'!$J$10:$J$277,MATCH(B13,'[9]CN BC'!$H$10:$H$277,0)),"") -> 19 | P13: =IF(O13>=N13,M13,M13/N13*O13) -> 4806000 | R13: =Q13*$G$8*1 -> 0 | T13: =S13*$G$8*1 -> 0 | U13: =IF(OR(L13="A DN",L13="KXL", L13=""),"0",ROUND(J13*0.01*$G$8+Q13*1%*$G$8+S13*1%*$G$8,)) -> 48060 | V13: =(P13+R13+T13) -> 4806000 | W13: =VLOOKUP(B13,CN!B13:O272,15,FALSE) -> #REF! | X13: =V13-W13 -> #REF! | Y13: =A13 -> 2 | Z13: =IFERROR(INDEX('[10]CN BC'!$M$10:$M$276,MATCH(B13,'[10]CN BC'!$H$10:$H$276,0)),"") -> 0
A14: =_xlfn.AGGREGATE(4,7,A$11:A13)+1 -> 3 | B14: Trần Ngọc Tuấn | D14: 0016100029229001 | F14: 2.34 | H14: =F14+(F14*G14) -> 2.34 | J14: =H14+I14 -> 2.34 | K14: =J14*$G$8 -> 4212000 | L14: =VLOOKUP(B14,'[8]Gui chi Quynh'!$B$11:$E$401,4,FALSE) -> A3 | M14: =IF(L14="A1",K14*1.6,IF(L14="A2",K14*1.4,IF(L14="A3",K14*1.2,IF(L14="A4",K14*1,IF(L14="B1",K14*0.7,IF(L14="B2",K14*0.5,IF(L14="C1",K14*0.3,IF(L14="C2",K14*0.2,0)))))))) -> 5054400 | N14: 19 | O14: =IFERROR(INDEX('[9]CN BC'!$J$10:$J$277,MATCH(B14,'[9]CN BC'!$H$10:$H$277,0)),"") -> 19 | P14: =IF(O14>=N14,M14,M14/N14*O14) -> 5054400 | R14: =Q14*$G$8*1 -> 0 | T14: =S14*$G$8*1 -> 0 | U14: =IF(OR(L14="A DN",L14="KXL", L14=""),"0",ROUND(J14*0.01*$G$8+Q14*1%*$G$8+S14*1%*$G$8,)) -> 42120 | V14: =(P14+R14+T14) -> 5054400 | W14: =VLOOKUP(B14,CN!B14:O273,15,FALSE) -> #REF! | X14: =V14-W14 -> #REF! | Y14: =A14 -> 3 | Z14: =IFERROR(INDEX('[10]CN BC'!$M$10:$M$276,MATCH(B14,'[10]CN BC'!$H$10:$H$276,0)),"") -> 0
A15: =_xlfn.AGGREGATE(4,7,A$11:A14)+1 -> 4 | B15: Trịnh Hoàng Hiệp | C15: HIỆP | D15: 0016100006608005 | E15: 1603205458242 | F15: 3.99 | H15: =F15+(F15*G15) -> 3.99 | I15: 0.45 | J15: =H15+I15 -> 4.44 | K15: =J15*$G$8 -> 7992000 | L15: =VLOOKUP(B15,'[8]Gui chi Quynh'!$B$11:$E$401,4,FALSE) -> A3 | M15: =IF(L15="A1",K15*1.6,IF(L15="A2",K15*1.4,IF(L15="A3",K15*1.2,IF(L15="A4",K15*1,IF(L15="B1",K15*0.7,IF(L15="B2",K15*0.5,IF(L15="C1",K15*0.3,IF(L15="C2",K15*0.2,0)))))))) -> 9590400 | N15: 19 | O15: =IFERROR(INDEX('[9]CN BC'!$J$10:$J$277,MATCH(B15,'[9]CN BC'!$H$10:$H$277,0)),"") -> 19 | P15: =IF(O15>=N15,M15,M15/N15*O15) -> 9590400 | R15: =Q15*$G$8*1 -> 0 | T15: =S15*$G$8*1 -> 0 | U15: =IF(OR(L15="A DN",L15="KXL", L15=""),"0",ROUND(J15*0.01*$G$8+Q15*1%*$G$8+S15*1%*$G$8,)) -> 79920 | V15: =(P15+R15+T15) -> 9590400 | W15: =VLOOKUP(B15,CN!B15:O274,15,FALSE) -> #REF! | X15: =V15-W15 -> #REF! | Y15: =A15 -> 4 | Z15: =IFERROR(INDEX('[10]CN BC'!$M$10:$M$276,MATCH(B15,'[10]CN BC'!$H$10:$H$276,0)),"") -> 0 | AA15: 1
A16: =_xlfn.AGGREGATE(4,7,A$11:A15)+1 -> 5 | B16: Trần Thị Ngọc Dung | D16: 0016100006602007 | E16: 1603215003876 | F16: 3 | H16: =F16+(F16*G16) -> 3 | J16: =H16+I16 -> 3 | K16: =J16*$G$8 -> 5400000 | L16: =VLOOKUP(B16,'[8]Gui chi Quynh'!$B$11:$E$401,4,FALSE) -> A4 | M16: =IF(L16="A1",K16*1.6,IF(L16="A2",K16*1.4,IF(L16="A3",K16*1.2,IF(L16="A4",K16*1,IF(L16="B1",K16*0.7,IF(L16="B2",K16*0.5,IF(L16="C1",K16*0.3,IF(L16="C2",K16*0.2,0)))))))) -> 5400000 | N16: 19 | O16: =IFERROR(INDEX('[9]CN BC'!$J$10:$J$277,MATCH(B16,'[9]CN BC'!$H$10:$H$277,0)),"") -> 19 | P16: =IF(O16>=N16,M16,M16/N16*O16) -> 5400000 | R16: =Q16*$G$8*1 -> 0 | T16: =S16*$G$8*1 -> 0 | U16: =IF(OR(L16="A DN",L16="KXL", L16=""),"0",ROUND(J16*0.01*$G$8+Q16*1%*$G$8+S16*1%*$G$8,)) -> 54000 | V16: =(P16+R16+T16) -> 5400000 | W16: =VLOOKUP(B16,CN!B16:O275,15,FALSE) -> #REF! | X16: =V16-W16 -> #REF! | Y16: =A16 -> 5 | Z16: =IFERROR(INDEX('[10]CN BC'!$M$10:$M$276,MATCH(B16,'[10]CN BC'!$H$10:$H$276,0)),"") -> 0 | AA16: 2
A17: =_xlfn.AGGREGATE(4,7,A$11:A16)+1 -> 6 | B17: Cao Xuân Giang | D17: 0016100007755001 | E17: 1603215005603 | F17: 3 | H17: =F17+(F17*G17) -> 3 | J17: =H17+I17 -> 3 | K17: =J17*$G$8 -> 5400000 | L17: =VLOOKUP(B17,'[8]Gui chi Quynh'!$B$11:$E$401,4,FALSE) -> A4 | M17: =IF(L17="A1",K17*1.6,IF(L17="A2",K17*1.4,IF(L17="A3",K17*1.2,IF(L17="A4",K17*1,IF(L17="B1",K17*0.7,IF(L17="B2",K17*0.5,IF(L17="C1",K17*0.3,IF(L17="C2",K17*0.2,0)))))))) -> 5400000 | N17: 19 | O17: =IFERROR(INDEX('[9]CN BC'!$J$10:$J$277,MATCH(B17,'[9]CN BC'!$H$10:$H$277,0)),"") -> 19 | P17: =IF(O17>=N17,M17,M17/N17*O17) -> 5400000 | R17: =Q17*$G$8*1 -> 0 | T17: =S17*$G$8*1 -> 0 | U17: =IF(OR(L17="A DN",L17="KXL", L17=""),"0",ROUND(J17*0.01*$G$8+Q17*1%*$G$8+S17*1%*$G$8,)) -> 54000 | V17: =(P17+R17+T17) -> 5400000 | W17: =VLOOKUP(B17,CN!B16:O276,15,FALSE) -> #REF! | X17: =V17-W17 -> #REF! | Y17: =A17 -> 6 | Z17: =IFERROR(INDEX('[10]CN BC'!$M$10:$M$276,MATCH(B17,'[10]CN BC'!$H$10:$H$276,0)),"") -> 0 | AA17: 3
A18: =_xlfn.AGGREGATE(4,7,A$11:A17)+1 -> 7 | B18: Phạm Quỳnh Như | C18: NHƯ | D18: 0016100006603003 | E18: 1603205458417 | F18: 3.66 | H18: =F18+(F18*G18) -> 3.66 | I18: 0.35 | J18: =H18+I18 -> 4.01 | K18: =J18*$G$8 -> 7218000 | L18: =VLOOKUP(B18,'[8]Gui chi Quynh'!$B$11:$E$401,4,FALSE) -> A2 | M18: =IF(L18="A1",K18*1.6,IF(L18="A2",K18*1.4,IF(L18="A3",K18*1.2,IF(L18="A4",K18*1,IF(L18="B1",K18*0.7,IF(L18="B2",K18*0.5,IF(L18="C1",K18*0.3,IF(L18="C2",K18*0.2,0)))))))) -> 10105200 | N18: 19 | O18: =IFERROR(INDEX('[9]CN BC'!$J$10:$J$277,MATCH(B18,'[9]CN BC'!$H$10:$H$277,0)),"") -> 19 | P18: =IF(O18>=N18,M18,M18/N18*O18) -> 10105200 | R18: =Q18*$G$8*1 -> 0 | T18: =S18*$G$8*1 -> 0 | U18: =IF(OR(L18="A DN",L18="KXL", L18=""),"0",ROUND(J18*0.01*$G$8+Q18*1%*$G$8+S18*1%*$G$8,)) -> 72180 | V18: =(P18+R18+T18) -> 10105200 | W18: =VLOOKUP(B18,CN!B17:O277,15,FALSE) -> #N/A | X18: =V18-W18 -> #N/A | Y18: =A18 -> 7 | Z18: =IFERROR(INDEX('[10]CN BC'!$M$10:$M$276,MATCH(B18,'[10]CN BC'!$H$10:$H$276,0)),"") -> 0 | AA18: 4
