Workbook

Sheet TH.T3
A1: ỦY BAN NHÂN DÂN TP.HCM | U1: CỘNG HÒA XÃ HỘI CHỦ NGHĨA VIỆT NAM
A2: TRƯỜNG CAO ĐẲNG LÝ TỰ TRỌNG | Y2: Độc lập - Tự do - Hạnh phúc
A3: THÀNH PHỐ HỒ CHÍ MINH | AA3: Mẫu C04-HD
AA4: (Ban hành theo TT số: 107/2017/TT-BTC
AA5: ngày 10/10/2017 của Bộ Tài chính)
A6: BẢNG THANH TOÁN THU NHẬP TĂNG THÊM
A7: Tháng 03 năm 2024
A8: ỦY BAN NHÂN DÂN TP.HCM | S8: CỘNG HÒA XÃ HỘI CHỦ NGHĨA VIỆT NAM
A9: TRƯỜNG CAO ĐẲNG LÝ TỰ TRỌNG | S9: Độc lập - Tự do - Hạnh phúc
A10: THÀNH PHỐ HỒ CHÍ MINH
A12: BẢNG THU NHẬP TĂNG THÊM - LƯƠNG THEO HỆ SỐ ĐIỀU CHỈNH THÁNG 01 NĂM 2024
A13: CÁN BỘ VIÊN CHỨC TRONG CHỈ TIÊU BIÊN CHẾ
A14: (Chi theo Chương II - "Những quy định cụ thể"/ Mục 2 - "Chi thanh toán cá nhân"/ Điều 17 - "Các khoản thanh toán cá nhân"/ Khoản b - "Thu nhập tăng thêm" trong Quy chế chi tiêu nội bộ năm 2023 ban hành kèm theo Quyết định số 739/QĐ-LTT-KHTC ngày 02 tháng 11 năm 2022)
A15: Mức lương tối thiểu hệ số 1 = 1.800.000 | C15: 1490000 | G15: 1800000 | X15: Đơn vị tính: đồng
A18: STT | B18: HỌ VÀ TÊN | D18: Số tài khoản thẻ ATM OCB | E18: Số tài khoản thẻ ATM AGRIBANK | F18: HS (hide) | G18: VK (hide) | H18: HS THỰC HƯỞNG (hide) | I18: HSPC (hide) | J18: CẤP BẬC CHỨC VỤ | K18: HS LƯƠNG +PCCV | L18: CỘNG LƯƠNG (hide) | M18: XẾP LOẠI | N18: Mức lương theo hệ số điều chỉnh | O18: Số ngày công kế hoạch | P18: Số ngày công thực hiện | Q18: Lương điều chỉnh tính theo ngày công thực hiện/tháng | R18: HỆ SỐ TRUY LÃNH LƯƠNG (CỘT NÀY HIDE) | S18: Truy lãnh lương điều chỉnh do truy lãnh lương | T18: HỆ SỐ TRUY LÃNH PCCV (CỘT NÀY HIDE) | U18: Truy lãnh lương điều chỉnh do truy lãnh PCCV | V18: Trường hỗ trợ 1% BHYT | W18: Truy lãnh từ T1/23 đến T2/24 | X18: THÀNH TIỀN | Y18: Hệ số chia thêm | Z18: Mức chia thêm | AA18: Thành tiền | AB18: Ghi chú
A19: A | B19: B | F19: 03 | G19: 04 | H19: 05 | I19: 06 | J19: C | K19: 2 | L19: 3 = 1 x 2 | N19: D | O19: 06 | P19: 07 | Q19: 08 | R19: 16 | S19: 09 | T19: 18 | U19: 10 | V19: Bỏ | X19: 11 | Y19: 1 | Z19: 2 | AA19: 3 = 1 x 2 | AC19: D
B20: Biên chế
A21: THÀNH PHỐ HỒ CHÍ MINH
A23: BẢNG THU NHẬP TĂNG THÊM - LƯƠNG THEO HỆ SỐ ĐIỀU CHỈNH THÁNG 03 NĂM 2024
A24: CÁN BỘ VIÊN CHỨC TRONG CHỈ TIÊU BIÊN CHẾ
A25: (Chi theo Chương II - "Những quy định cụ thể"/ Mục 2 - "Chi thanh toán cá nhân"/ Điều 17 - "Các khoản thanh toán cá nhân"/ Khoản b - "Thu nhập tăng thêm" trong Quy chế chi tiêu nội bộ năm 2023 ban hành kèm theo Quyết định số 739/QĐ-LTT-KHTC ngày 02 tháng 11 năm 2022)
A26: Mức lương tối thiểu hệ số 1 = 1.800.000 | C26: 1490000 | G26: 1800000 | X26: Đơn vị tính: đồng
A28: STT | B28: HỌ VÀ TÊN | D28: Số tài khoản thẻ ATM OCB | E28: Số tài khoản thẻ ATM AGRIBANK | F28: HS (hide) | G28: VK (hide) | H28: HS THỰC HƯỞNG (hide) | I28: HSPC (hide) | K28: HS LƯƠNG +PCCV | L28: CỘNG LƯƠNG (hide) | M28: XẾP LOẠI | N28: Mức lương theo hệ số điều chỉnh | O28: Số ngày công kế hoạch | P28: Số ngày công thực hiện | Q28: Lương điều chỉnh tính theo ngày công thực hiện/tháng | R28: HỆ SỐ TRUY LÃNH LƯƠNG (CỘT NÀY HIDE) | S28: Truy lãnh lương điều chỉnh do truy lãnh lương | T28: HỆ SỐ TRUY LÃNH PCCV (CỘT NÀY HIDE) | U28: Truy lãnh lương điều chỉnh do truy lãnh PCCV | V28: Trường hỗ trợ 1% BHYT | X28: THÀNH TIỀN | AB28: GHI CHÚ
A29: 01 | B29: 02 | F29: 03 | G29: 04 | H29: 05 | I29: 06 | K29: 03 | L29: 08 | M29: 04 | N29: 05 | O29: 06 | P29: 07 | Q29: 08 | R29: 16 | S29: 09 | T29: 18 | U29: 10 | V29: Bỏ | X29: 11 | AB29: 12
A30: =_xlfn.AGGREGATE(4,7,A$29:A29)+1 -> 1 | B30: Phạm Hữu Lộc | C30: LỘC | D30: 0016100006544007 | E30: 1603215001126 | F30: 5.76 | G30: 0 | H30: =F30+(F30*G30) -> 5.76 | I30: 0.9 | J30: =VLOOKUP(B30,TH!B21:J353,9,FALSE) -> Hiệu trưởng | K30: =H30+I30 -> 6.66 | L30: =K30*$G$26 -> 11988000 | M30: =VLOOKUP(B30,'[1]Gui chi Quynh'!$B$11:$E$400,4,FALSE) -> A1 | N30: =IF(M30="A1",L30*1.6,IF(M30="A2",L30*1.4,IF(M30="A3",L30*1.2,IF(M30="A4",L30*1,IF(M30="B1",L30*0.7,IF(M30="B2",L30*0.5,IF(M30="C1",L30*0.3,IF(M30="C2",L30*0.2,0)))))))) -> 19180800 | O30: 21 | P30: =IFERROR(INDEX('[2]CN BC'!$J$10:$J$276,MATCH(B30,'[2]CN BC'!$H$10:$H$276,0)),"") -> 30 | Q30: =IF(P30>=O30,N30,N30/O30*P30) -> 19180800 | S30: =R30*$G$26*1.6 -> 0 | U30: =T30*$G$26*1 -> 0 | V30: =IF(OR(M30="A DN",M30="KXL", M30=""),"0",ROUND(K30*0.01*$G$26+R30*1%*$G$26+T30*1%*$G$26,)) -> 119880 | X30: =(Q30+S30+U30)+W30 -> 19180800 | Y30: =X30/Z30 -> 10.656 | Z30: 1800000 | AA30: =Y30*Z30 -> 19180800 | AB30: =A30 -> 1 | AC30: =IFERROR(INDEX('[2]CN BC'!$M$10:$M$276,MATCH(B30,'[2]CN BC'!$H$10:$H$276,0)),"") -> 0 | AD30: BGH
A31: =_xlfn.AGGREGATE(4,7,A$29:A30)+1 -> 2 | B31: Đinh Văn Đệ | C31: ĐỆ | D31: 0016100006699008 | E31: 1603215001371 | F31: 4.98 | G31: 0.07 | H31: =F31+(F31*G31) -> 5.3286 | I31: 0.7 | J31: =VLOOKUP(B31,TH!B22:J354,9,FALSE) -> Phó Hiệu trưởng | K31: =H31+I31 -> 6.0286 | L31: =K31*$G$26 -> 10851480 | M31: =VLOOKUP(B31,'[1]Gui chi Quynh'!$B$11:$E$400,4,FALSE) -> A1 | N31: =IF(M31="A1",L31*1.6,IF(M31="A2",L31*1.4,IF(M31="A3",L31*1.2,IF(M31="A4",L31*1,IF(M31="B1",L31*0.7,IF(M31="B2",L31*0.5,IF(M31="C1",L31*0.3,IF(M31="C2",L31*0.2,0)))))))) -> 17362368 | O31: 21 | P31: =IFERROR(INDEX('[2]CN BC'!$J$10:$J$276,MATCH(B31,'[2]CN BC'!$H$10:$H$276,0)),"") -> 28 | Q31: =IF(P31>=O31,N31,N31/O31*P31) -> 17362368 | S31: =R31*$G$26*1.6 -> 0 | U31: =T31*$G$26*1 -> 0 | V31: =IF(OR(M31="A DN",M31="KXL", M31=""),"0",ROUND(K31*0.01*$G$26+R31*1%*$G$26+T31*1%*$G$26,)) -> 108515 | X31: =(Q31+S31+U31)+W31 -> 17362368 | Y31: =X31/Z31 -> 9.64576 | Z31: 1800000 | AA31: =Y31*Z31 -> 17362368 | AB31: =A31 -> 2 | AC31: =IFERROR(INDEX('[2]CN BC'!$M$10:$M$276,MATCH(B31,'[2]CN BC'!$H$10:$H$276,0)),"") -> 0 | AD31: BGH
A32: =_xlfn.AGGREGATE(4,7,A$29:A31)+1 -> 3 | B32: Đinh Hồng Minh | C32: MINH | D32: 0016100006543008 | E32: 1603205186191 | F32: 4.98 | G32: 0.08 | H32: =F32+(F32*G32) -> 5.3784 | I32: 0.7 | J32: =VLOOKUP(B32,TH!B23:J355,9,FALSE) -> Phó Hiệu trưởng | K32: =H32+I32 -> 6.0784 | L32: =K32*$G$26 -> 10941120 | M32: =VLOOKUP(B32,'[1]Gui chi Quynh'!$B$11:$E$400,4,FALSE) -> A1 | N32: =IF(M32="A1",L32*1.6,IF(M32="A2",L32*1.4,IF(M32="A3",L32*1.2,IF(M32="A4",L32*1,IF(M32="B1",L32*0.7,IF(M32="B2",L32*0.5,IF(M32="C1",L32*0.3,IF(M32="C2",L32*0.2,0)))))))) -> 17505792 | O32: 21 | P32: =IFERROR(INDEX('[2]CN BC'!$J$10:$J$276,MATCH(B32,'[2]CN BC'!$H$10:$H$276,0)),"") -> 28 | Q32: =IF(P32>=O32,N32,N32/O32*P32) -> 17505792 | S32: =R32*$G$26*1.6 -> 0 | U32: =T32*$G$26*1 -> 0 | V32: =IF(OR(M32="A DN",M32="KXL", M32=""),"0",ROUND(K32*0.01*$G$26+R32*1%*$G$26+T32*1%*$G$26,)) -> 109411 | X32: =(Q32+S32+U32)+W32 -> 17505792 | Y32: =X32/Z32 -> 9.72544 | Z32: 1800000 | AA32: =Y32*Z32 -> 17505792 | AB32: =A32 -> 3 | AC32: =IFERROR(INDEX('[2]CN BC'!$M$10:$M$276,MATCH(B32,'[2]CN BC'!$H$10:$H$276,0)),"") -> 0 | AD32: BGH
A33: =_xlfn.AGGREGATE(4,7,A$29:A32)+1 -> 4 | B33: Châu Văn Bảo | D33: 0016100006674008 | E33: 1603215001359 | F33: 4.65 | H33: =F33+(F33*G33) -> 4.65 | I33: 0.7 | J33: =VLOOKUP(B33,TH!B24:J356,9,FALSE) -> Phó Hiệu trưởng | K33: =H33+I33 -> 5.35 | L33: =K33*$G$26 -> 9630000 | M33: =VLOOKUP(B33,'[1]Gui chi Quynh'!$B$11:$E$400,4,FALSE) -> A1 | N33: =IF(M33="A1",L33*1.6,IF(M33="A2",L33*1.4,IF(M33="A3",L33*1.2,IF(M33="A4",L33*1,IF(M33="B1",L33*0.7,IF(M33="B2",L33*0.5,IF(M33="C1",L33*0.3,IF(M33="C2",L33*0.2,0)))))))) -> 15408000 | O33: 21 | P33: =IFERROR(INDEX('[2]CN BC'!$J$10:$J$276,MATCH(B33,'[2]CN BC'!$H$10:$H$276,0)),"") -> 29 | Q33: =IF(P33>=O33,N33,N33/O33*P33) -> 15408000 | S33: =R33*$G$26*1 -> 0 | U33: =T33*$G$26*1 -> 0 | V33: =IF(OR(M33="A DN",M33="KXL", M33=""),"0",ROUND(K33*0.01*$G$26+R33*1%*$G$26+T33*1%*$G$26,)) -> 96300 | X33: =(Q33+S33+U33)+W33 -> 15408000 | Y33: =X33/Z33 -> 8.56 | Z33: 1800000 | AA33: =Y33*Z33 -> 15408000 | AB33: =A33 -> 4 | AC33: =IFERROR(INDEX('[2]CN BC'!$M$10:$M$276,MATCH(B33,'[2]CN BC'!$H$10:$H$276,0)),"") -> 0 | AD33: BGH
A34: =_xlfn.AGGREGATE(4,7,A$29:A33)+1 -> 5 | B34: Lâm Viết Dũng | C34: DŨNG | D34: 0016106868686866 | E34: 1603215002237 | F34: 4.98 | G34: 0.05 | H34: =F34+(F34*G34) -> 5.229 | I34: 0.45 | J34: =VLOOKUP(B34,TH!B25:J357,9,FALSE) -> Trưởng phòng TC - HC - TH | K34: =H34+I34 -> 5.679 | L34: =K34*$G$26 -> 10222200 | M34: =VLOOKUP(B34,'[1]Gui chi Quynh'!$B$11:$E$400,4,FALSE) -> A1 | N34: =IF(M34="A1",L34*1.6,IF(M34="A2",L34*1.4,IF(M34="A3",L34*1.2,IF(M34="A4",L34*1,IF(M34="B1",L34*0.7,IF(M34="B2",L34*0.5,IF(M34="C1",L34*0.3,IF(M34="C2",L34*0.2,0)))))))) -> 16355520 | O34: 21 | P34: =IFERROR(INDEX('[2]CN BC'!$J$10:$J$276,MATCH(B34,'[2]CN BC'!$H$10:$H$276,0)),"") -> 29 | Q34: =IF(P34>=O34,N34,N34/O34*P34) -> 16355520 | S34: =R34*$G$26*1 -> 0 | U34: =T34*$G$26*1 -> 0 | V34: =IF(OR(M34="A DN",M34="KXL", M34=""),"0",ROUND(K34*0.01*$G$26+R34*1%*$G$26+T34*1%*$G$26,)) -> 102222 | X34: =(Q34+S34+U34)+W34 -> 16355520 | Y34: =X34/Z34 -> 9.0864 | Z34: 1800000 | AA34: =Y34*Z34 -> 16355520 | AB34: =A34 -> 5 | AC34: =IFERROR(INDEX('[2]CN BC'!$M$10:$M$276,MATCH(B34,'[2]CN BC'!$H$10:$H$276,0)),"") -> 0 | AD34: TCHC
A35: =_xlfn.AGGREGATE(4,7,A$29:A34)+1 -> 6 | B35: Lưu Hoàng Hải Yến | C35: YẾN | D35: 0016100006799005 | E35: 1603205353720 | F35: 3.33 | H35: =F35+(F35*G35) -> 3.33 | I35: 0.35 | J35: =VLOOKUP(B35,TH!B26:J358,9,FALSE) -> Phó Trưởng phòng Tổ chức - Hành chính - TH | K35: =H35+I35 -> 3.68 | L35: =K35*$G$26 -> 6624000 | M35: =VLOOKUP(B35,'[1]Gui chi Quynh'!$B$11:$E$400,4,FALSE) -> A2 | N35: =IF(M35="A1",L35*1.6,IF(M35="A2",L35*1.4,IF(M35="A3",L35*1.2,IF(M35="A4",L35*1,IF(M35="B1",L35*0.7,IF(M35="B2",L35*0.5,IF(M35="C1",L35*0.3,IF(M35="C2",L35*0.2,0)))))))) -> 9273600 | O35: 21 | P35: =IFERROR(INDEX('[2]CN BC'!$J$10:$J$276,MATCH(B35,'[2]CN BC'!$H$10:$H$276,0)),"") -> 22.5 | Q35: =IF(P35>=O35,N35,N35/O35*P35) -> 9273600 | S35: =R35*$G$26*1 -> 0 | U35: =T35*$G$26*1 -> 0 | V35: =IF(OR(M35="A DN",M35="KXL", M35=""),"0",ROUND(K35*0.01*$G$26+R35*1%*$G$26+T35*1%*$G$26,)) -> 66240 | X35: =(Q35+S35+U35)+W35 -> 9273600 | Y35: =X35/Z35 -> 5.152 | Z35: 1800000 | AA35: =Y35*Z35 -> 9273600 | AB35: =A35 -> 6 | AC35: =IFERROR(INDEX('[2]CN BC'!$M$10:$M$276,MATCH(B35,'[2]CN BC'!$H$10:$H$276,0)),"") -> Trừ 1 ngày nghỉ phép 28/3 | AD35: TCHC
A36: =_xlfn.AGGREGATE(4,7,A$29:A35)+1 -> 7 | B36: Huỳnh Thị Minh Ly | C36: LY | D36: 0016100006518006 | E36: 1603205185719 | F36: 3 | H36: =F36+(F36*G36) -> 3 | I36: 0.35 | J36: =VLOOKUP(B36,TH!B27:J359,9,FALSE) -> Phó Trưởng phòng Tổ chức - Hành chính - TH | K36: =H36+I36 -> 3.35 | L36: =K36*$G$26 -> 6030000 | M36: =VLOOKUP(B36,'[1]Gui chi Quynh'!$B$11:$E$400,4,FALSE) -> A1 | N36: =IF(M36="A1",L36*1.6,IF(M36="A2",L36*1.4,IF(M36="A3",L36*1.2,IF(M36="A4",L36*1,IF(M36="B1",L36*0.7,IF(M36="B2",L36*0.5,IF(M36="C1",L36*0.3,IF(M36="C2",L36*0.2,0)))))))) -> 9648000 | O36: 21 | P36: =IFERROR(INDEX('[2]CN BC'!$J$10:$J$276,MATCH(B36,'[2]CN BC'!$H$10:$H$276,0)),"") -> 28 | Q36: =IF(P36>=O36,N36,N36/O36*P36) -> 9648000 | S36: =R36*$G$26*1 -> 0 | U36: =T36*$G$26*1 -> 0 | V36: =IF(OR(M36="A DN",M36="KXL", M36=""),"0",ROUND(K36*0.01*$G$26+R36*1%*$G$26+T36*1%*$G$26,)) -> 60300 | X36: =(Q36+S36+U36)+W36 -> 9648000 | Y36: =X36/Z36 -> 5.36 | Z36: 1800000 | AA36: =Y36*Z36 -> 9648000 | AB36: =A36 -> 7 | AC36: =IFERROR(INDEX('[2]CN BC'!$M$10:$M$276,MATCH(B36,'[2]CN BC'!$H$10:$H$276,0)),"") -> 0 | AD36: TCHC | AE36: =52+50+124+99 -> 325
A37: =_xlfn.AGGREGATE(4,7,A$29:A36)+1 -> 8 | B37: Phan Thị Ngọc Phượng | C37: PHƯỢNG | D37: 0016100006635002 | E37: 1603205186162 | F37: 3.66 | H37: =F37+(F37*G37) -> 3.66 | J37: =VLOOKUP(B37,TH!B28:J360,9,FALSE) -> NV Phòng Tổ chức - Hành chính - Tổng hợp | K37: =H37+I37 -> 3.66 | L37: =K37*$G$26 -> 6588000 | M37: =VLOOKUP(B37,'[1]Gui chi Quynh'!$B$11:$E$400,4,FALSE) -> A1 | N37: =IF(M37="A1",L37*1.6,IF(M37="A2",L37*1.4,IF(M37="A3",L37*1.2,IF(M37="A4",L37*1,IF(M37="B1",L37*0.7,IF(M37="B2",L37*0.5,IF(M37="C1",L37*0.3,IF(M37="C2",L37*0.2,0)))))))) -> 10540800 | O37: 21 | P37: =IFERROR(INDEX('[2]CN BC'!$J$10:$J$276,MATCH(B37,'[2]CN BC'!$H$10:$H$276,0)),"") -> 24 | Q37: =IF(P37>=O37,N37,N37/O37*P37) -> 10540800 | S37: =R37*$G$26*1 -> 0 | U37: =T37*$G$26*1 -> 0 | V37: =IF(OR(M37="A DN",M37="KXL", M37=""),"0",ROUND(K37*0.01*$G$26+R37*1%*$G$26+T37*1%*$G$26,)) -> 65880 | X37: =(Q37+S37+U37)+W37 -> 10540800 | Y37: =X37/Z37 -> 5.856 | Z37: 1800000 | AA37: =Y37*Z37 -> 10540800 | AB37: =A37 -> 8 | AC37: =IFERROR(INDEX('[2]CN BC'!$M$10:$M$276,MATCH(B37,'[2]CN BC'!$H$10:$H$276,0)),"") -> 0 | AD37: TCHC
A38: =_xlfn.AGGREGATE(4,7,A$29:A37)+1 -> 9 | B38: Vũ Như Quỳnh | C38: QUỲNH | D38: 0016100006771003 | E38: 1603205186127 | F38: 3.99 | H38: =F38+(F38*G38) -> 3.99 | J38: =VLOOKUP(B38,TH!B29:J361,9,FALSE) -> NV Phòng Tổ chức - Hành chính - Tổng hợp | K38: =H38+I38 -> 3.99 | L38: =K38*$G$26 -> 7182000 | M38: =VLOOKUP(B38,'[1]Gui chi Quynh'!$B$11:$E$400,4,FALSE) -> A2 | N38: =IF(M38="A1",L38*1.6,IF(M38="A2",L38*1.4,IF(M38="A3",L38*1.2,IF(M38="A4",L38*1,IF(M38="B1",L38*0.7,IF(M38="B2",L38*0.5,IF(M38="C1",L38*0.3,IF(M38="C2",L38*0.2,0)))))))) -> 10054800 | O38: 21 | P38: =IFERROR(INDEX('[2]CN BC'!$J$10:$J$276,MATCH(B38,'[2]CN BC'!$H$10:$H$276,0)),"") -> 23 | Q38: =IF(P38>=O38,N38,N38/O38*P38) -> 10054800 | S38: =R38*$G$26*1 -> 0 | U38: =T38*$G$26*1 -> 0 | V38: =IF(OR(M38="A DN",M38="KXL", M38=""),"0",ROUND(K38*0.01*$G$26+R38*1%*$G$26+T38*1%*$G$26,)) -> 71820 | X38: =(Q38+S38+U38)+W38 -> 10054800 | Y38: =X38/Z38 -> 5.586 | Z38: 1800000 | AA38: =Y38*Z38 -> 10054800 | AB38: =A38 -> 9 | AC38: =IFERROR(INDEX('[2]CN BC'!$M$10:$M$276,MATCH(B38,'[2]CN BC'!$H$10:$H$276,0)),"") -> 0 | AD38: TCHC
A39: =_xlfn.AGGREGATE(4,7,A$29:A38)+1 -> 10 | B39: Nguyễn Thị Bích Liễu | C39: LIỄU | D39: 0016100006663006 | E39: 1603205249292 | F39: 3.46 | H39: =F39+(F39*G39) -> 3.46 | J39: =VLOOKUP(B39,TH!B30:J362,9,FALSE) -> NV Phòng Tổ chức - Hành chính - Tổng hợp | K39: =H39+I39 -> 3.46 | L39: =K39*$G$26 -> 6228000 | M39: =VLOOKUP(B39,'[1]Gui chi Quynh'!$B$11:$E$400,4,FALSE) -> A2 | N39: =IF(M39="A1",L39*1.6,IF(M39="A2",L39*1.4,IF(M39="A3",L39*1.2,IF(M39="A4",L39*1,IF(M39="B1",L39*0.7,IF(M39="B2",L39*0.5,IF(M39="C1",L39*0.3,IF(M39="C2",L39*0.2,0)))))))) -> 8719200 | O39: 21 | P39: =IFERROR(INDEX('[2]CN BC'!$J$10:$J$276,MATCH(B39,'[2]CN BC'!$H$10:$H$276,0)),"") -> 23 | Q39: =IF(P39>=O39,N39,N39/O39*P39) -> 8719200 | S39: =R39*$G$26*1 -> 0 | U39: =T39*$G$26*1 -> 0 | V39: =IF(OR(M39="A DN",M39="KXL", M39=""),"0",ROUND(K39*0.01*$G$26+R39*1%*$G$26+T39*1%*$G$26,)) -> 62280 | X39: =(Q39+S39+U39)+W39 -> 8719200 | Y39: =X39/Z39 -> 4.844 | Z39: 1800000 | AA39: =Y39*Z39 -> 8719200 | AB39: =A39 -> 10 | AC39: =IFERROR(INDEX('[2]CN BC'!$M$10:$M$276,MATCH(B39,'[2]CN BC'!$H$10:$H$276,0)),"") -> 0 | AD39: TCHC
A40: =_xlfn.AGGREGATE(4,7,A$29:A39)+1 -> 11 | B40: Nguyễn Văn Chì | C40: CHÌ | D40: 0016100006765003 | E40: 1603205280047 | F40: 3.66 | H40: =F40+(F40*G40) -> 3.66 | J40: =VLOOKUP(B40,TH!B31:J363,9,FALSE) -> NV Phòng Tổ chức - Hành chính - Tổng hợp | K40: =H40+I40 -> 3.66 | L40: =K40*$G$26 -> 6588000 | M40: =VLOOKUP(B40,'[1]Gui chi Quynh'!$B$11:$E$400,4,FALSE) -> A3 | N40: =IF(M40="A1",L40*1.6,IF(M40="A2",L40*1.4,IF(M40="A3",L40*1.2,IF(M40="A4",L40*1,IF(M40="B1",L40*0.7,IF(M40="B2",L40*0.5,IF(M40="C1",L40*0.3,IF(M40="C2",L40*0.2,0)))))))) -> 7905600 | O40: 21 | P40: =IFERROR(INDEX('[2]CN BC'!$J$10:$J$276,MATCH(B40,'[2]CN BC'!$H$10:$H$276,0)),"") -> 22 | Q40: =IF(P40>=O40,N40,N40/O40*P40) -> 7905600 | S40: =R40*$G$26*1 -> 0 | U40: =T40*$G$26*1 -> 0 | V40: =IF(OR(M40="A DN",M40="KXL", M40=""),"0",ROUND(K40*0.01*$G$26+R40*1%*$G$26+T40*1%*$G$26,)) -> 65880 | X40: =(Q40+S40+U40)+W40 -> 7905600 | Y40: =X40/Z40 -> 4.392 | Z40: 1800000 | AA40: =Y40*Z40 -> 7905600 | AB40: =A40 -> 11 | AC40: =IFERROR(INDEX('[2]CN BC'!$M$10:$M$276,MATCH(B40,'[2]CN BC'!$H$10:$H$276,0)),"") -> 0 | AD40: TCHC
A41: =_xlfn.AGGREGATE(4,7,A$29:A40)+1 -> 12 | B41: Trần Thị Ánh Phượng | C41: PHƯỢNG | D41: 0016100006767006 | E41: 1603205246134 | F41: 3.66 | H41: =F41+(F41*G41) -> 3.66 | J41: =VLOOKUP(B41,TH!B32:J364,9,FALSE) -> NV Phòng Tổ chức - Hành chính - Tổng hợp | K41: =H41+I41 -> 3.66 | L41: =K41*$G$26 -> 6588000 | M41: =VLOOKUP(B41,'[1]Gui chi Quynh'!$B$11:$E$400,4,FALSE) -> A2 | N41: =IF(M41="A1",L41*1.6,IF(M41="A2",L41*1.4,IF(M41="A3",L41*1.2,IF(M41="A4",L41*1,IF(M41="B1",L41*0.7,IF(M41="B2",L41*0.5,IF(M41="C1",L41*0.3,IF(M41="C2",L41*0.2,0)))))))) -> 9223200 | O41: 21 | P41: =IFERROR(INDEX('[2]CN BC'!$J$10:$J$276,MATCH(B41,'[2]CN BC'!$H$10:$H$276,0)),"") -> 21.5 | Q41: =IF(P41>=O41,N41,N41/O41*P41) -> 9223200 | S41: =R41*$G$26*1 -> 0 | U41: =T41*$G$26*1 -> 0 | V41: =IF(OR(M41="A DN",M41="KXL", M41=""),"0",ROUND(K41*0.01*$G$26+R41*1%*$G$26+T41*1%*$G$26,)) -> 65880 | W41: 8053980 | X41: =(Q41+S41+U41)+W41 -> 17277180 | Y41: =X41/Z41 -> 9.5984333 | Z41: 1800000 | AA41: =Y41*Z41 -> 17277180 | AB41: =A41 -> 12 | AC41: =IFERROR(INDEX('[2]CN BC'!$M$10:$M$276,MATCH(B41,'[2]CN BC'!$H$10:$H$276,0)),"") -> Trừ 1 ngày nghỉ phép 1/3 | AD41: TCHC
A42: =_xlfn.AGGREGATE(4,7,A$29:A41)+1 -> 13 | B42: Trần Thị Phương Oanh | C42: OANH | D42: 0016100006576006 | E42: 1603205178794 | F42: 3.66 | H42: =F42+(F42*G42) -> 3.66 | J42: =VLOOKUP(B42,TH!B33:J365,9,FALSE) -> NV Phòng Tổ chức - Hành chính - Tổng hợp | K42: =H42+I42 -> 3.66 | L42: =K42*$G$26 -> 6588000 | M42: =VLOOKUP(B42,'[1]Gui chi Quynh'!$B$11:$E$400,4,FALSE) -> A2 | N42: =IF(M42="A1",L42*1.6,IF(M42="A2",L42*1.4,IF(M42="A3",L42*1.2,IF(M42="A4",L42*1,IF(M42="B1",L42*0.7,IF(M42="B2",L42*0.5,IF(M42="C1",L42*0.3,IF(M42="C2",L42*0.2,0)))))))) -> 9223200 | O42: 21 | P42: =IFERROR(INDEX('[2]CN BC'!$J$10:$J$276,MATCH(B42,'[2]CN BC'!$H$10:$H$276,0)),"") -> 21.5 | Q42: =IF(P42>=O42,N42,N42/O42*P42) -> 9223200 | S42: =R42*$G$26*1.4 -> 0 | U42: =T42*$G$26*1 -> 0 | V42: =IF(OR(M42="A DN",M42="KXL", M42=""),"0",ROUND(K42*0.01*$G$26+R42*1%*$G$26+T42*1%*$G$26,)) -> 65880 | X42: =(Q42+S42+U42)+W42 -> 9223200 | Y42: =X42/Z42 -> 5.124 | Z42: 1800000 | AA42: =Y42*Z42 -> 9223200 | AB42: =A42 -> 13 | AC42: =IFERROR(INDEX('[2]CN BC'!$M$10:$M$276,MATCH(B42,'[2]CN BC'!$H$10:$H$276,0)),"") -> 0 | AD42: TCHC
A43: =_xlfn.AGGREGATE(4,7,A$29:A42)+1 -> 14 | B43: Thân Thị Nhung | C43: NHUNG | D43: 0016100006832002 | E43: 1603205360856 | F43: 3.33 | H43: =F43+(F43*G43) -> 3.33 | J43: =VLOOKUP(B43,TH!B34:J366,9,FALSE) -> NV Phòng Tổ chức - Hành chính - Tổng hợp | K43: =H43+I43 -> 3.33 | L43: =K43*$G$26 -> 5994000 | M43: =VLOOKUP(B43,'[1]Gui chi Quynh'!$B$11:$E$400,4,FALSE) -> A2 | N43: =IF(M43="A1",L43*1.6,IF(M43="A2",L43*1.4,IF(M43="A3",L43*1.2,IF(M43="A4",L43*1,IF(M43="B1",L43*0.7,IF(M43="B2",L43*0.5,IF(M43="C1",L43*0.3,IF(M43="C2",L43*0.2,0)))))))) -> 8391600 | O43: 21 | P43: =IFERROR(INDEX('[2]CN BC'!$J$10:$J$276,MATCH(B43,'[2]CN BC'!$H$10:$H$276,0)),"") -> 21.5 | Q43: =IF(P43>=O43,N43,N43/O43*P43) -> 8391600 | S43: =R43*$G$26*1 -> 0 | U43: =T43*$G$26*1 -> 0 | V43: =IF(OR(M43="A DN",M43="KXL", M43=""),"0",ROUND(K43*0.01*$G$26+R43*1%*$G$26+T43*1%*$G$26,)) -> 59940 | X43: =(Q43+S43+U43)+W43 -> 8391600 | Y43: =X43/Z43 -> 4.662 | Z43: 1800000 | AA43: =Y43*Z43 -> 8391600 | AB43: =A43 -> 14 | AC43: =IFERROR(INDEX('[2]CN BC'!$M$10:$M$276,MATCH(B43,'[2]CN BC'!$H$10:$H$276,0)),"") -> 0 | AD43: TCHC
A44: =_xlfn.AGGREGATE(4,7,A$29:A43)+1 -> 15 | B44: Nguyễn Thị Vân | C44: VÂN | D44: 0016100006864001 | E44: 1603205545491 | F44: =2.46+0.15 -> 2.61 | H44: =F44+(F44*G44) -> 2.61 | J44: =VLOOKUP(B44,TH!B35:J367,9,FALSE) -> NV Phòng Tổ chức - Hành chính - Tổng hợp | K44: =H44+I44 -> 2.61 | L44: =K44*$G$26 -> 4698000 | M44: =VLOOKUP(B44,'[1]Gui chi Quynh'!$B$11:$E$400,4,FALSE) -> A2 | N44: =IF(M44="A1",L44*1.6,IF(M44="A2",L44*1.4,IF(M44="A3",L44*1.2,IF(M44="A4",L44*1,IF(M44="B1",L44*0.7,IF(M44="B2",L44*0.5,IF(M44="C1",L44*0.3,IF(M44="C2",L44*0.2,0)))))))) -> 6577200 | O44: 21 | P44: =IFERROR(INDEX('[2]CN BC'!$J$10:$J$276,MATCH(B44,'[2]CN BC'!$H$10:$H$276,0)),"") -> 24 | Q44: =IF(P44>=O44,N44,N44/O44*P44) -> 6577200 | S44: =R44*$G$26*1 -> 0 | U44: =T44*$G$26*1 -> 0 | V44: =IF(OR(M44="A DN",M44="KXL", M44=""),"0",ROUND(K44*0.01*$G$26+R44*1%*$G$26+T44*1%*$G$26,)) -> 46980 | W44: 5616000 | X44: =(Q44+S44+U44)+W44 -> 12193200 | Y44: =X44/Z44 -> 6.774 | Z44: 1800000 | AA44: =Y44*Z44 -> 12193200 | AB44: =A44 -> 15 | AC44: =IFERROR(INDEX('[2]CN BC'!$M$10:$M$276,MATCH(B44,'[2]CN BC'!$H$10:$H$276,0)),"") -> 0
A45: =_xlfn.AGGREGATE(4,7,A$29:A44)+1 -> 16 | B45: Lê Thị Hải Đăng | F45: 3.66 | H45: =F45+(F45*G45) -> 3.66 | J45: =VLOOKUP(B45,TH!B36:J368,9,FALSE) -> NV Phòng Tổ chức - Hành chính - Tổng hợp | K45: =H45+I45 -> 3.66 | L45: =K45*$G$26 -> 6588000 | M45: =VLOOKUP(B45,'[1]Gui chi Quynh'!$B$11:$E$400,4,FALSE) -> A2 | N45: =IF(M45="A1",L45*1.6,IF(M45="A2",L45*1.4,IF(M45="A3",L45*1.2,IF(M45="A4",L45*1,IF(M45="B1",L45*0.7,IF(M45="B2",L45*0.5,IF(M45="C1",L45*0.3,IF(M45="C2",L45*0.2,0)))))))) -> 9223200 | O45: 21 | P45: =IFERROR(INDEX('[2]CN BC'!$J$10:$J$276,MATCH(B45,'[2]CN BC'!$H$10:$H$276,0)),"") -> 22 | Q45: =IF(P45>=O45,N45,N45/O45*P45) -> 9223200 | S45: =R45*$G$26*1 -> 0 | U45: =T45*$G$26*1 -> 0 | V45: =IF(OR(M45="A DN",M45="KXL", M45=""),"0",ROUND(K45*0.01*$G$26+R45*1%*$G$26+T45*1%*$G$26,)) -> 65880 | X45: =(Q45+S45+U45)+W45 -> 9223200 | Y45: =X45/Z45 -> 5.124 | Z45: 1800000 | AA45: =Y45*Z45 -> 9223200 | AB45: =A45 -> 16 | AC45: =IFERROR(INDEX('[2]CN BC'!$M$10:$M$276,MATCH(B45,'[2]CN BC'!$H$10:$H$276,0)),"") -> 0
A46: =_xlfn.AGGREGATE(4,7,A$29:A45)+1 -> 17 | B46: Lê Quang Liêm | C46: LIÊM | D46: 0016100006806001 | E46: 1603215001365 | F46: 4.98 | G46: 0.05 | H46: =F46+(F46*G46) -> 5.229 | I46: 0.45 | J46: =VLOOKUP(B46,TH!B37:J369,9,FALSE) -> Trưởng phòng Quản trị - Dịch vụ | K46: =H46+I46 -> 5.679 | L46: =K46*$G$26 -> 10222200 | M46: =VLOOKUP(B46,'[1]Gui chi Quynh'!$B$11:$E$400,4,FALSE) -> A1 | N46: =IF(M46="A1",L46*1.6,IF(M46="A2",L46*1.4,IF(M46="A3",L46*1.2,IF(M46="A4",L46*1,IF(M46="B1",L46*0.7,IF(M46="B2",L46*0.5,IF(M46="C1",L46*0.3,IF(M46="C2",L46*0.2,0)))))))) -> 16355520 | O46: 21 | P46: =IFERROR(INDEX('[2]CN BC'!$J$10:$J$276,MATCH(B46,'[2]CN BC'!$H$10:$H$276,0)),"") -> 26 | Q46: =IF(P46>=O46,N46,N46/O46*P46) -> 16355520 | S46: =R46*$G$26*1 -> 0 | U46: =T46*$G$26*1 -> 0 | V46: =IF(OR(M46="A DN",M46="KXL", M46=""),"0",ROUND(K46*0.01*$G$26+R46*1%*$G$26+T46*1%*$G$26,)) -> 102222 | X46: =(Q46+S46+U46)+W46 -> 16355520 | Y46: =X46/Z46 -> 9.0864 | Z46: 1800000 | AA46: =Y46*Z46 -> 16355520 | AB46: =A46 -> 17 | AC46: =IFERROR(INDEX('[2]CN BC'!$M$10:$M$276,MATCH(B46,'[2]CN BC'!$H$10:$H$276,0)),"") -> 0
A47: =_xlfn.AGGREGATE(4,7,A$29:A46)+1 -> 18 | B47: Nguyễn Văn Thành | C47: THÀNH | D47: 0016100006495006 | E47: 1603205182190 | F47: 4.98 | G47: 0.07 | H47: =F47+(F47*G47) -> 5.3286 | I47: 0.35 | J47: =VLOOKUP(B47,TH!B38:J370,9,FALSE) -> Phó TP. Quản trị - Dịch vụ | K47: =H47+I47 -> 5.6786 | L47: =K47*$G$26 -> 10221480 | M47: =VLOOKUP(B47,'[1]Gui chi Quynh'!$B$11:$E$400,4,FALSE) -> A1 | N47: =IF(M47="A1",L47*1.6,IF(M47="A2",L47*1.4,IF(M47="A3",L47*1.2,IF(M47="A4",L47*1,IF(M47="B1",L47*0.7,IF(M47="B2",L47*0.5,IF(M47="C1",L47*0.3,IF(M47="C2",L47*0.2,0)))))))) -> 16354368 | O47: 21 | P47: =IFERROR(INDEX('[2]CN BC'!$J$10:$J$276,MATCH(B47,'[2]CN BC'!$H$10:$H$276,0)),"") -> 26 | Q47: =IF(P47>=O47,N47,N47/O47*P47) -> 16354368 | S47: =R47*$G$26*1 -> 0 | U47: =T47*$G$26*1 -> 0 | V47: =IF(OR(M47="A DN",M47="KXL", M47=""),"0",ROUND(K47*0.01*$G$26+R47*1%*$G$26+T47*1%*$G$26,)) -> 102215 | X47: =(Q47+S47+U47)+W47 -> 16354368 | Y47: =X47/Z47 -> 9.08576 | Z47: 1800000 | AA47: =Y47*Z47 -> 16354368 | AB47: =A47 -> 18 | AC47: =IFERROR(INDEX('[2]CN BC'!$M$10:$M$276,MATCH(B47,'[2]CN BC'!$H$10:$H$276,0)),"") -> 0
A48: =_xlfn.AGGREGATE(4,7,A$29:A47)+1 -> 19 | B48: Nguyễn Trọng Phú | C48: PHÚ | D48: 0016100006505001 | E48: 1603205185935 | F48: 3.65 | H48: =F48+(F48*G48) -> 3.65 | I48: 0.25 | J48: =VLOOKUP(B48,TH!B39:J371,9,FALSE) -> NV Phòng Quản trị - Dịch vụ | K48: =H48+I48 -> 3.9 | L48: =K48*$G$26 -> 7020000 | M48: =VLOOKUP(B48,'[1]Gui chi Quynh'!$B$11:$E$400,4,FALSE) -> A1 | N48: =IF(M48="A1",L48*1.6,IF(M48="A2",L48*1.4,IF(M48="A3",L48*1.2,IF(M48="A4",L48*1,IF(M48="B1",L48*0.7,IF(M48="B2",L48*0.5,IF(M48="C1",L48*0.3,IF(M48="C2",L48*0.2,0)))))))) -> 11232000 | O48: 21 | P48: =IFERROR(INDEX('[2]CN BC'!$J$10:$J$276,MATCH(B48,'[2]CN BC'!$H$10:$H$276,0)),"") -> 26 | Q48: =IF(P48>=O48,N48,N48/O48*P48) -> 11232000 | S48: =R48*$G$26*1 -> 0 | U48: =T48*$G$26*1 -> 0 | V48: =IF(OR(M48="A DN",M48="KXL", M48=""),"0",ROUND(K48*0.01*$G$26+R48*1%*$G$26+T48*1%*$G$26,)) -> 70200 | X48: =(Q48+S48+U48)+W48 -> 11232000 | Y48: =X48/Z48 -> 6.24 | Z48: 1800000 | AA48: =Y48*Z48 -> 11232000 | AB48: =A48 -> 19 | AC48: =IFERROR(INDEX('[2]CN BC'!$M$10:$M$276,MATCH(B48,'[2]CN BC'!$H$10:$H$276,0)),"") -> 0
A49: =_xlfn.AGGREGATE(4,7,A$29:A48)+1 -> 20 | B49: Vũ Ngọc Quang | C49: QUANG | D49: 0016100006807008 | E49: 1603205185912 | F49: 3.46 | H49: =F49+(F49*G49) -> 3.46 | J49: =VLOOKUP(B49,TH!B40:J372,9,FALSE) -> NV Phòng Quản trị - Dịch vụ | K49: =H49+I49 -> 3.46 | L49: =K49*$G$26 -> 6228000 | M49: =VLOOKUP(B49,'[1]Gui chi Quynh'!$B$11:$E$400,4,FALSE) -> A2 | N49: =IF(M49="A1",L49*1.6,IF(M49="A2",L49*1.4,IF(M49="A3",L49*1.2,IF(M49="A4",L49*1,IF(M49="B1",L49*0.7,IF(M49="B2",L49*0.5,IF(M49="C1",L49*0.3,IF(M49="C2",L49*0.2,0)))))))) -> 8719200 | O49: 21 | P49: =IFERROR(INDEX('[2]CN BC'!$J$10:$J$276,MATCH(B49,'[2]CN BC'!$H$10:$H$276,0)),"") -> 21 | Q49: =IF(P49>=O49,N49,N49/O49*P49) -> 8719200 | S49: =R49*$G$26*1 -> 0 | U49: =T49*$G$26*1 -> 0 | V49: =IF(OR(M49="A DN",M49="KXL", M49=""),"0",ROUND(K49*0.01*$G$26+R49*1%*$G$26+T49*1%*$G$26,)) -> 62280 | X49: =(Q49+S49+U49)+W49 -> 8719200 | Y49: =X49/Z49 -> 4.844 | Z49: 1800000 | AA49: =Y49*Z49 -> 8719200 | AB49: =A49 -> 20 | AC49: =IFERROR(INDEX('[2]CN BC'!$M$10:$M$276,MATCH(B49,'[2]CN BC'!$H$10:$H$276,0)),"") -> 0
A50: =_xlfn.AGGREGATE(4,7,A$29:A49)+1 -> 21 | B50: Giáp Văn Thịnh | C50: THỊNH | D50: 0016100006599006 | E50: 1603205246157 | F50: 3.46 | H50: =F50+(F50*G50) -> 3.46 | J50: =VLOOKUP(B50,TH!B41:J373,9,FALSE) -> Nhân viên phòng Quản trị - Dịch vụ | K50: =H50+I50 -> 3.46 | L50: =K50*$G$26 -> 6228000 | M50: =VLOOKUP(B50,'[1]Gui chi Quynh'!$B$11:$E$400,4,FALSE) -> A1 | N50: =IF(M50="A1",L50*1.6,IF(M50="A2",L50*1.4,IF(M50="A3",L50*1.2,IF(M50="A4",L50*1,IF(M50="B1",L50*0.7,IF(M50="B2",L50*0.5,IF(M50="C1",L50*0.3,IF(M50="C2",L50*0.2,0)))))))) -> 9964800 | O50: 21 | P50: =IFERROR(INDEX('[2]CN BC'!$J$10:$J$276,MATCH(B50,'[2]CN BC'!$H$10:$H$276,0)),"") -> 21 | Q50: =IF(P50>=O50,N50,N50/O50*P50) -> 9964800 | S50: =R50*$G$26*1 -> 0 | U50: =T50*$G$26*1 -> 0 | V50: =IF(OR(M50="A DN",M50="KXL", M50=""),"0",ROUND(K50*0.01*$G$26+R50*1%*$G$26+T50*1%*$G$26,)) -> 62280 | X50: =(Q50+S50+U50)+W50 -> 9964800 | Y50: =X50/Z50 -> 5.536 | Z50: 1800000 | AA50: =Y50*Z50 -> 9964800 | AB50: =A50 -> 21 | AC50: =IFERROR(INDEX('[2]CN BC'!$M$10:$M$276,MATCH(B50,'[2]CN BC'!$H$10:$H$276,0)),"") -> 0
A51: =_xlfn.AGGREGATE(4,7,A$29:A50)+1 -> 22 | B51: Lê Hồng Anh Tuấn | C51: TUẤN | D51: 0016100006493003 | E51: 1603205348129 | F51: 3.34 | H51: =F51+(F51*G51) -> 3.34 | J51: =VLOOKUP(B51,TH!B42:J374,9,FALSE) -> Nhân viên phòng Quản trị - Dịch vụ | K51: =H51+I51 -> 3.34 | L51: =K51*$G$26 -> 6012000 | M51: =VLOOKUP(B51,'[1]Gui chi Quynh'!$B$11:$E$400,4,FALSE) -> A2 | N51: =IF(M51="A1",L51*1.6,IF(M51="A2",L51*1.4,IF(M51="A3",L51*1.2,IF(M51="A4",L51*1,IF(M51="B1",L51*0.7,IF(M51="B2",L51*0.5,IF(M51="C1",L51*0.3,IF(M51="C2",L51*0.2,0)))))))) -> 8416800 | O51: 21 | P51: =IFERROR(INDEX('[2]CN BC'!$J$10:$J$276,MATCH(B51,'[2]CN BC'!$H$10:$H$276,0)),"") -> 22 | Q51: =IF(P51>=O51,N51,N51/O51*P51) -> 8416800 | S51: =R51*$G$26*1 -> 0 | U51: =T51*$G$26*1 -> 0 | V51: =IF(OR(M51="A DN",M51="KXL", M51=""),"0",ROUND(K51*0.01*$G$26+R51*1%*$G$26+T51*1%*$G$26,)) -> 60120 | X51: =(Q51+S51+U51)+W51 -> 8416800 | Y51: =X51/Z51 -> 4.676 | Z51: 1800000 | AA51: =Y51*Z51 -> 8416800 | AB51: =A51 -> 22 | AC51: =IFERROR(INDEX('[2]CN BC'!$M$10:$M$276,MATCH(B51,'[2]CN BC'!$H$10:$H$276,0)),"") -> 0
A52: =_xlfn.AGGREGATE(4,7,A$29:A51)+1 -> 23 | B52: Ninh Đỗ Hiệp | C52: HIỆP | D52: 0016100006690003 | E52: 1603205245965 | F52: 3.66 | H52: =F52+(F52*G52) -> 3.66 | J52: =VLOOKUP(B52,TH!B43:J375,9,FALSE) -> Nhân viên phòng Quản trị - Dịch vụ | K52: =H52+I52 -> 3.66 | L52: =K52*$G$26 -> 6588000 | M52: =VLOOKUP(B52,'[1]Gui chi Quynh'!$B$11:$E$400,4,FALSE) -> A3 | N52: =IF(M52="A1",L52*1.6,IF(M52="A2",L52*1.4,IF(M52="A3",L52*1.2,IF(M52="A4",L52*1,IF(M52="B1",L52*0.7,IF(M52="B2",L52*0.5,IF(M52="C1",L52*0.3,IF(M52="C2",L52*0.2,0)))))))) -> 7905600 | O52: 21 | P52: =IFERROR(INDEX('[2]CN BC'!$J$10:$J$276,MATCH(B52,'[2]CN BC'!$H$10:$H$276,0)),"") -> 21 | Q52: =IF(P52>=O52,N52,N52/O52*P52) -> 7905600 | S52: =R52*$G$26*1 -> 0 | U52: =T52*$G$26*1 -> 0 | V52: =IF(OR(M52="A DN",M52="KXL", M52=""),"0",ROUND(K52*0.01*$G$26+R52*1%*$G$26+T52*1%*$G$26,)) -> 65880 | X52: =(Q52+S52+U52)+W52 -> 7905600 | Y52: =X52/Z52 -> 4.392 | Z52: 1800000 | AA52: =Y52*Z52 -> 7905600 | AB52: =A52 -> 23 | AC52: =IFERROR(INDEX('[2]CN BC'!$M$10:$M$276,MATCH(B52,'[2]CN BC'!$H$10:$H$276,0)),"") -> 0
A53: =_xlfn.AGGREGATE(4,7,A$29:A52)+1 -> 24 | B53: Nguyễn Tiến Việt Dũng | C53: DŨNG | D53: 0016100006678003 | E53: 1603205357238 | F53: 3.03 | H53: =F53+(F53*G53) -> 3.03 | J53: =VLOOKUP(B53,TH!B44:J376,9,FALSE) -> Nhân viên P. QT-DV | K53: =H53+I53 -> 3.03 | L53: =K53*$G$26 -> 5454000 | M53: =VLOOKUP(B53,'[1]Gui chi Quynh'!$B$11:$E$400,4,FALSE) -> A2 | N53: =IF(M53="A1",L53*1.6,IF(M53="A2",L53*1.4,IF(M53="A3",L53*1.2,IF(M53="A4",L53*1,IF(M53="B1",L53*0.7,IF(M53="B2",L53*0.5,IF(M53="C1",L53*0.3,IF(M53="C2",L53*0.2,0)))))))) -> 7635600 | O53: 21 | P53: =IFERROR(INDEX('[2]CN BC'!$J$10:$J$276,MATCH(B53,'[2]CN BC'!$H$10:$H$276,0)),"") -> 25 | Q53: =IF(P53>=O53,N53,N53/O53*P53) -> 7635600 | S53: =R53*$G$26*1 -> 0 | U53: =T53*$G$26*1 -> 0 | V53: =IF(OR(M53="A DN",M53="KXL", M53=""),"0",ROUND(K53*0.01*$G$26+R53*1%*$G$26+T53*1%*$G$26,)) -> 54540 | X53: =(Q53+S53+U53)+W53 -> 7635600 | Y53: =X53/Z53 -> 4.242 | Z53: 1800000 | AA53: =Y53*Z53 -> 7635600 | AB53: =A53 -> 24 | AC53: =IFERROR(INDEX('[2]CN BC'!$M$10:$M$276,MATCH(B53,'[2]CN BC'!$H$10:$H$276,0)),"") -> 0
A54: =_xlfn.AGGREGATE(4,7,A$29:A53)+1 -> 25 | B54: Bùi Đặng Hoàng Tuấn | C54: TUẤN | D54: 0016100006679007 | E54: 1603205302590 | F54: 3.34 | H54: =F54+(F54*G54) -> 3.34 | J54: =VLOOKUP(B54,TH!B45:J377,9,FALSE) -> Nhân viên P. QT-DV | K54: =H54+I54 -> 3.34 | L54: =K54*$G$26 -> 6012000 | M54: =VLOOKUP(B54,'[1]Gui chi Quynh'!$B$11:$E$400,4,FALSE) -> A2 | N54: =IF(M54="A1",L54*1.6,IF(M54="A2",L54*1.4,IF(M54="A3",L54*1.2,IF(M54="A4",L54*1,IF(M54="B1",L54*0.7,IF(M54="B2",L54*0.5,IF(M54="C1",L54*0.3,IF(M54="C2",L54*0.2,0)))))))) -> 8416800 | O54: 21 | P54: =IFERROR(INDEX('[2]CN BC'!$J$10:$J$276,MATCH(B54,'[2]CN BC'!$H$10:$H$276,0)),"") -> 28 | Q54: =IF(P54>=O54,N54,N54/O54*P54) -> 8416800 | S54: =R54*$G$26*1 -> 0 | U54: =T54*$G$26*1 -> 0 | V54: =IF(OR(M54="A DN",M54="KXL", M54=""),"0",ROUND(K54*0.01*$G$26+R54*1%*$G$26+T54*1%*$G$26,)) -> 60120 | X54: =(Q54+S54+U54)+W54 -> 8416800 | Y54: =X54/Z54 -> 4.676 | Z54: 1800000 | AA54: =Y54*Z54 -> 8416800 | AB54: =A54 -> 25 | AC54: =IFERROR(INDEX('[2]CN BC'!$M$10:$M$276,MATCH(B54,'[2]CN BC'!$H$10:$H$276,0)),"") -> 0
A55: =_xlfn.AGGREGATE(4,7,A$29:A54)+1 -> 26 | B55: Nguyễn Cao Thắng | C55: THẮNG | D55: 0016100006770007 | E55: 1603205431614 | F55: 3 | H55: =F55+(F55*G55) -> 3 | I55: 0.35 | J55: =VLOOKUP(B55,TH!B46:J378,9,FALSE) -> NV P. QT Dịch vụ | K55: =H55+I55 -> 3.35 | L55: =K55*$G$26 -> 6030000 | M55: =VLOOKUP(B55,'[1]Gui chi Quynh'!$B$11:$E$400,4,FALSE) -> A1 | N55: =IF(M55="A1",L55*1.6,IF(M55="A2",L55*1.4,IF(M55="A3",L55*1.2,IF(M55="A4",L55*1,IF(M55="B1",L55*0.7,IF(M55="B2",L55*0.5,IF(M55="C1",L55*0.3,IF(M55="C2",L55*0.2,0)))))))) -> 9648000 | O55: 21 | P55: =IFERROR(INDEX('[2]CN BC'!$J$10:$J$276,MATCH(B55,'[2]CN BC'!$H$10:$H$276,0)),"") -> 31 | Q55: =IF(P55>=O55,N55,N55/O55*P55) -> 9648000 | S55: =R55*$G$26*1.6 -> 0 | U55: =T55*$G$26*1 -> 0 | V55: =IF(OR(M55="A DN",M55="KXL", M55=""),"0",ROUND(K55*0.01*$G$26+R55*1%*$G$26+T55*1%*$G$26,)) -> 60300 | X55: =(Q55+S55+U55)+W55 -> 9648000 | Y55: =X55/Z55 -> 5.36 | Z55: 1800000 | AA55: =Y55*Z55 -> 9648000 | AB55: =A55 -> 26 | AC55: =IFERROR(INDEX('[2]CN BC'!$M$10:$M$276,MATCH(B55,'[2]CN BC'!$H$10:$H$276,0)),"") -> 0
A56: =_xlfn.AGGREGATE(4,7,A$29:A55)+1 -> 27 | B56: Võ Tấn Kiệt | D56: 0016100006511001 | E56: 1603215002809 | F56: 2.67 | H56: =F56+(F56*G56) -> 2.67 | J56: =VLOOKUP(B56,TH!B47:J379,9,FALSE) -> NV P. QT Dịch vụ | K56: =H56+I56 -> 2.67 | L56: =K56*$G$26 -> 4806000 | M56: =VLOOKUP(B56,'[1]Gui chi Quynh'!$B$11:$E$400,4,FALSE) -> A1 | N56: =IF(M56="A1",L56*1.6,IF(M56="A2",L56*1.4,IF(M56="A3",L56*1.2,IF(M56="A4",L56*1,IF(M56="B1",L56*0.7,IF(M56="B2",L56*0.5,IF(M56="C1",L56*0.3,IF(M56="C2",L56*0.2,0)))))))) -> 7689600 | O56: 21 | P56: =IFERROR(INDEX('[2]CN BC'!$J$10:$J$276,MATCH(B56,'[2]CN BC'!$H$10:$H$276,0)),"") -> 28 | Q56: =IF(P56>=O56,N56,N56/O56*P56) -> 7689600 | S56: =R56*$G$26*1 -> 0 | U56: =T56*$G$26*1 -> 0 | V56: =IF(OR(M56="A DN",M56="KXL", M56=""),"0",ROUND(K56*0.01*$G$26+R56*1%*$G$26+T56*1%*$G$26,)) -> 48060 | X56: =(Q56+S56+U56)+W56 -> 7689600 | Y56: =X56/Z56 -> 4.272 | Z56: 1800000 | AA56: =Y56*Z56 -> 7689600 | AB56: =A56 -> 27 | AC56: =IFERROR(INDEX('[2]CN BC'!$M$10:$M$276,MATCH(B56,'[2]CN BC'!$H$10:$H$276,0)),"") -> 0
A57: =_xlfn.AGGREGATE(4,7,A$29:A56)+1 -> 28 | B57: Phan Đức Long | C57: LONG | D57: 0016100006708007 | E57: 1603205179180 | F57: 4.98 | G57: 0.05 | H57: =F57+(F57*G57) -> 5.229 | I57: 0.25 | J57: =VLOOKUP(B57,TH!B48:J380,9,FALSE) -> Nhân viên phòng Quản trị - Dịch vụ | K57: =H57+I57 -> 5.479 | L57: =K57*$G$26 -> 9862200 | M57: =VLOOKUP(B57,'[1]Gui chi Quynh'!$B$11:$E$400,4,FALSE) -> A2 | N57: =IF(M57="A1",L57*1.6,IF(M57="A2",L57*1.4,IF(M57="A3",L57*1.2,IF(M57="A4",L57*1,IF(M57="B1",L57*0.7,IF(M57="B2",L57*0.5,IF(M57="C1",L57*0.3,IF(M57="C2",L57*0.2,0)))))))) -> 13807080 | O57: 21 | P57: =IFERROR(INDEX('[2]CN BC'!$J$10:$J$276,MATCH(B57,'[2]CN BC'!$H$10:$H$276,0)),"") -> 26 | Q57: =IF(P57>=O57,N57,N57/O57*P57) -> 13807080 | S57: =R57*$G$26*1 -> 0 | U57: =T57*$G$26*1 -> 0 | V57: =IF(OR(M57="A DN",M57="KXL", M57=""),"0",ROUND(K57*0.01*$G$26+R57*1%*$G$26+T57*1%*$G$26,)) -> 98622 | X57: =(Q57+S57+U57)+W57 -> 13807080 | Y57: =X57/Z57 -> 7.6706 | Z57: 1800000 | AA57: =Y57*Z57 -> 13807080 | AB57: =A57 -> 28 | AC57: =IFERROR(INDEX('[2]CN BC'!$M$10:$M$276,MATCH(B57,'[2]CN BC'!$H$10:$H$276,0)),"") -> 0
A58: =_xlfn.AGGREGATE(4,7,A$29:A57)+1 -> 29 | B58: Bùi Thị Dương | C58: DƯƠNG | D58: 0016100006716002 | E58: 1603205182619 | F58: 3.66 | H58: =F58+(F58*G58) -> 3.66 | J58: =VLOOKUP(B58,TH!B49:J381,9,FALSE) -> Nhân viên phòng Quản trị - Dịch vụ | K58: =H58+I58 -> 3.66 | L58: =K58*$G$26 -> 6588000 | M58: =VLOOKUP(B58,'[1]Gui chi Quynh'!$B$11:$E$400,4,FALSE) -> B2 | N58: =IF(M58="A1",L58*1.6,IF(M58="A2",L58*1.4,IF(M58="A3",L58*1.2,IF(M58="A4",L58*1,IF(M58="B1",L58*0.7,IF(M58="B2",L58*0.5,IF(M58="C1",L58*0.3,IF(M58="C2",L58*0.2,0)))))))) -> 3294000 | O58: 21 | P58: =IFERROR(INDEX('[2]CN BC'!$J$10:$J$276,MATCH(B58,'[2]CN BC'!$H$10:$H$276,0)),"") -> 25 | Q58: =IF(P58>=O58,N58,N58/O58*P58) -> 3294000 | S58: =R58*$G$26*0.8 -> 0 | U58: =T58*$G$26*1 -> 0 | V58: =IF(OR(M58="A DN",M58="KXL", M58=""),"0",ROUND(K58*0.01*$G$26+R58*1%*$G$26+T58*1%*$G$26,)) -> 65880 | X58: =(Q58+S58+U58)+W58 -> 3294000 | Y58: =X58/Z58 -> 1.83 | Z58: 1800000 | AA58: =Y58*Z58 -> 3294000 | AB58: =A58 -> 29 | AC58: Cá nhân đi làm trễ nhiều lần trong tháng. Thống nhất đề nghị xếp loại B2 của đơn vị
A59: =_xlfn.AGGREGATE(4,7,A$29:A58)+1 -> 30 | B59: Phan Hữu Tước | F59: 4.06 | G59: 0.1 | H59: =F59+(F59*G59) -> 4.466 | I59: 0.35 | J59: =VLOOKUP(B59,TH!B50:J382,9,FALSE) -> Nhân viên phòng Quản trị - Dịch vụ | K59: =H59+I59 -> 4.816 | L59: =K59*$G$26 -> 8668800 | M59: =VLOOKUP(B59,'[1]Gui chi Quynh'!$B$11:$E$400,4,FALSE) -> A1 | N59: =IF(M59="A1",L59*1.6,IF(M59="A2",L59*1.4,IF(M59="A3",L59*1.2,IF(M59="A4",L59*1,IF(M59="B1",L59*0.7,IF(M59="B2",L59*0.5,IF(M59="C1",L59*0.3,IF(M59="C2",L59*0.2,0)))))))) -> 13870080 | O59: 21 | P59: =IFERROR(INDEX('[2]CN BC'!$J$10:$J$276,MATCH(B59,'[2]CN BC'!$H$10:$H$276,0)),"") -> 25 | Q59: =IF(P59>=O59,N59,N59/O59*P59) -> 13870080 | S59: =R59*$G$26*0.8 -> 0 | U59: =T59*$G$26*1 -> 0 | V59: =IF(OR(M59="A DN",M59="KXL", M59=""),"0",ROUND(K59*0.01*$G$26+R59*1%*$G$26+T59*1%*$G$26,)) -> 86688 | X59: =(Q59+S59+U59)+W59 -> 13870080 | Y59: =X59/Z59 -> 7.7056 | Z59: 1800000 | AA59: =Y59*Z59 -> 13870080 | AB59: =A59 -> 30 | AC59: =IFERROR(INDEX('[2]CN BC'!$M$10:$M$276,MATCH(B59,'[2]CN BC'!$H$10:$H$276,0)),"") -> 0
A60: =_xlfn.AGGREGATE(4,7,A$29:A59)+1 -> 31 | B60: Trang Thị Xuân Uyên | C60: UYÊN | D60: 0016100006567007 | E60: 1603205186156 | F60: 4.65 | H60: =F60+(F60*G60) -> 4.65 | I60: 0.45 | J60: =VLOOKUP(B60,TH!B51:J383,9,FALSE) -> Trưởng TT Y tế | K60: =H60+I60 -> 5.1 | L60: =K60*$G$26 -> 9180000 | M60: =VLOOKUP(B60,'[1]Gui chi Quynh'!$B$11:$E$400,4,FALSE) -> A1 | N60: =IF(M60="A1",L60*1.6,IF(M60="A2",L60*1.4,IF(M60="A3",L60*1.2,IF(M60="A4",L60*1,IF(M60="B1",L60*0.7,IF(M60="B2",L60*0.5,IF(M60="C1",L60*0.3,IF(M60="C2",L60*0.2,0)))))))) -> 14688000 | O60: 21 | P60: =IFERROR(INDEX('[2]CN BC'!$J$10:$J$276,MATCH(B60,'[2]CN BC'!$H$10:$H$276,0)),"") -> 26 | Q60: =IF(P60>=O60,N60,N60/O60*P60) -> 14688000 | S60: =R60*$G$26*1 -> 0 | U60: =T60*$G$26*1 -> 0 | V60: =IF(OR(M60="A DN",M60="KXL", M60=""),"0",ROUND(K60*0.01*$G$26+R60*1%*$G$26+T60*1%*$G$26,)) -> 91800 | X60: =(Q60+S60+U60)+W60 -> 14688000 | Y60: =X60/Z60 -> 8.16 | Z60: 1800000 | AA60: =Y60*Z60 -> 14688000 | AB60: =A60 -> 31 | AC60: =IFERROR(INDEX('[2]CN BC'!$M$10:$M$276,MATCH(B60,'[2]CN BC'!$H$10:$H$276,0)),"") -> 0
A61: =_xlfn.AGGREGATE(4,7,A$29:A60)+1 -> 32 | B61: Bùi Thị Lan Anh | C61: ANH | D61: 0016100006725001 | E61: 1603205247426 | F61: 3.66 | H61: =F61+(F61*G61) -> 3.66 | J61: =VLOOKUP(B61,TH!B52:J384,9,FALSE) -> Nhân viên Trung tâm Y tế | K61: =H61+I61 -> 3.66 | L61: =K61*$G$26 -> 6588000 | M61: =VLOOKUP(B61,'[1]Gui chi Quynh'!$B$11:$E$400,4,FALSE) -> A2 | N61: =IF(M61="A1",L61*1.6,IF(M61="A2",L61*1.4,IF(M61="A3",L61*1.2,IF(M61="A4",L61*1,IF(M61="B1",L61*0.7,IF(M61="B2",L61*0.5,IF(M61="C1",L61*0.3,IF(M61="C2",L61*0.2,0)))))))) -> 9223200 | O61: 21 | P61: =IFERROR(INDEX('[2]CN BC'!$J$10:$J$276,MATCH(B61,'[2]CN BC'!$H$10:$H$276,0)),"") -> 26 | Q61: =IF(P61>=O61,N61,N61/O61*P61) -> 9223200 | S61: =R61*$G$26*1 -> 0 | U61: =T61*$G$26*1 -> 0 | V61: =IF(OR(M61="A DN",M61="KXL", M61=""),"0",ROUND(K61*0.01*$G$26+R61*1%*$G$26+T61*1%*$G$26,)) -> 65880 | X61: =(Q61+S61+U61)+W61 -> 9223200 | Y61: =X61/Z61 -> 5.124 | Z61: 1800000 | AA61: =Y61*Z61 -> 9223200 | AB61: =A61 -> 32 | AC61: =IFERROR(INDEX('[2]CN BC'!$M$10:$M$276,MATCH(B61,'[2]CN BC'!$H$10:$H$276,0)),"") -> 0
A62: =_xlfn.AGGREGATE(4,7,A$29:A61)+1 -> 33 | B62: Nguyễn Kính | C62: KÍNH | D62: 0016100006705008 | E62: 1603205457393 | F62: 4.98 | G62: 0.37 | H62: =F62+(F62*G62) -> 6.8226 | I62: 0.45 | J62: =VLOOKUP(B62,TH!B53:J385,9,FALSE) -> TP. Kế hoạch - Tài chính | K62: =H62+I62 -> 7.2726 | L62: =K62*$G$26 -> 13090680 | M62: =VLOOKUP(B62,'[1]Gui chi Quynh'!$B$11:$E$400,4,FALSE) -> A1 | N62: =IF(M62="A1",L62*1.6,IF(M62="A2",L62*1.4,IF(M62="A3",L62*1.2,IF(M62="A4",L62*1,IF(M62="B1",L62*0.7,IF(M62="B2",L62*0.5,IF(M62="C1",L62*0.3,IF(M62="C2",L62*0.2,0)))))))) -> 20945088 | O62: 21 | P62: =IFERROR(INDEX('[2]CN BC'!$J$10:$J$276,MATCH(B62,'[2]CN BC'!$H$10:$H$276,0)),"") -> 27 | Q62: =IF(P62>=O62,N62,N62/O62*P62) -> 20945088 | S62: =R62*$G$26*1 -> 0 | U62: =T62*$G$26*1 -> 0 | V62: =IF(OR(M62="A DN",M62="KXL", M62=""),"0",ROUND(K62*0.01*$G$26+R62*1%*$G$26+T62*1%*$G$26,)) -> 130907 | X62: =(Q62+S62+U62)+W62 -> 20945088 | Y62: =X62/Z62 -> 11.63616 | Z62: 1800000 | AA62: =Y62*Z62 -> 20945088 | AB62: =A62 -> 33 | AC62: =IFERROR(INDEX('[2]CN BC'!$M$10:$M$276,MATCH(B62,'[2]CN BC'!$H$10:$H$276,0)),"") -> 0
A63: =_xlfn.AGGREGATE(4,7,A$29:A62)+1 -> 34 | B63: Hồng Mộng Tuyết Dung | C63: DUNG | D63: 0016100006512008 | E63: 1603205203183 | F63: 3.99 | H63: =F63+(F63*G63) -> 3.99 | J63: =VLOOKUP(B63,TH!B54:J386,9,FALSE) -> NV phòng KH-TC | K63: =H63+I63 -> 3.99 | L63: =K63*$G$26 -> 7182000 | M63: =VLOOKUP(B63,'[1]Gui chi Quynh'!$B$11:$E$400,4,FALSE) -> A1 | N63: =IF(M63="A1",L63*1.6,IF(M63="A2",L63*1.4,IF(M63="A3",L63*1.2,IF(M63="A4",L63*1,IF(M63="B1",L63*0.7,IF(M63="B2",L63*0.5,IF(M63="C1",L63*0.3,IF(M63="C2",L63*0.2,0)))))))) -> 11491200 | O63: 21 | P63: =IFERROR(INDEX('[2]CN BC'!$J$10:$J$276,MATCH(B63,'[2]CN BC'!$H$10:$H$276,0)),"") -> 25 | Q63: =IF(P63>=O63,N63,N63/O63*P63) -> 11491200 | S63: =R63*$G$26*1 -> 0 | U63: =T63*$G$26*1 -> 0 | V63: =IF(OR(M63="A DN",M63="KXL", M63=""),"0",ROUND(K63*0.01*$G$26+R63*1%*$G$26+T63*1%*$G$26,)) -> 71820 | X63: =(Q63+S63+U63)+W63 -> 11491200 | Y63: =X63/Z63 -> 6.384 | Z63: 1800000 | AA63: =Y63*Z63 -> 11491200 | AB63: =A63 -> 34 | AC63: =IFERROR(INDEX('[2]CN BC'!$M$10:$M$276,MATCH(B63,'[2]CN BC'!$H$10:$H$276,0)),"") -> 0
A64: =_xlfn.AGGREGATE(4,7,A$29:A63)+1 -> 35 | B64: Trần Thị Minh Thoa | C64: THOA | D64: 0016100006515007 | E64: 1603205178873 | F64: 3.66 | H64: =F64+(F64*G64) -> 3.66 | J64: =VLOOKUP(B64,TH!B55:J387,9,FALSE) -> NV phòng KH-TC | K64: =H64+I64 -> 3.66 | L64: =K64*$G$26 -> 6588000 | M64: =VLOOKUP(B64,'[1]Gui chi Quynh'!$B$11:$E$400,4,FALSE) -> A1 | N64: =IF(M64="A1",L64*1.6,IF(M64="A2",L64*1.4,IF(M64="A3",L64*1.2,IF(M64="A4",L64*1,IF(M64="B1",L64*0.7,IF(M64="B2",L64*0.5,IF(M64="C1",L64*0.3,IF(M64="C2",L64*0.2,0)))))))) -> 10540800 | O64: 21 | P64: =IFERROR(INDEX('[2]CN BC'!$J$10:$J$276,MATCH(B64,'[2]CN BC'!$H$10:$H$276,0)),"") -> 25 | Q64: =IF(P64>=O64,N64,N64/O64*P64) -> 10540800 | S64: =R64*$G$26*1.6 -> 0 | U64: =T64*$G$26*1 -> 0 | V64: =IF(OR(M64="A DN",M64="KXL", M64=""),"0",ROUND(K64*0.01*$G$26+R64*1%*$G$26+T64*1%*$G$26,)) -> 65880 | X64: =(Q64+S64+U64)+W64 -> 10540800 | Y64: =X64/Z64 -> 5.856 | Z64: 1800000 | AA64: =Y64*Z64 -> 10540800 | AB64: =A64 -> 35 | AC64: =IFERROR(INDEX('[2]CN BC'!$M$10:$M$276,MATCH(B64,'[2]CN BC'!$H$10:$H$276,0)),"") -> 0
A65: =_xlfn.AGGREGATE(4,7,A$29:A64)+1 -> 36 | B65: Nguyễn Thị Hồng Thắm | C65: THẮM | D65: 0016100006681004 | E65: 1603205372861 | F65: 2.67 | H65: =F65+(F65*G65) -> 2.67 | J65: =VLOOKUP(B65,TH!B56:J388,9,FALSE) -> NV phòng KH-TC | K65: =H65+I65 -> 2.67 | L65: =K65*$G$26 -> 4806000 | M65: =VLOOKUP(B65,'[1]Gui chi Quynh'!$B$11:$E$400,4,FALSE) -> A2 | N65: =IF(M65="A1",L65*1.6,IF(M65="A2",L65*1.4,IF(M65="A3",L65*1.2,IF(M65="A4",L65*1,IF(M65="B1",L65*0.7,IF(M65="B2",L65*0.5,IF(M65="C1",L65*0.3,IF(M65="C2",L65*0.2,0)))))))) -> 6728400 | O65: 21 | P65: =IFERROR(INDEX('[2]CN BC'!$J$10:$J$276,MATCH(B65,'[2]CN BC'!$H$10:$H$276,0)),"") -> 26 | Q65: =IF(P65>=O65,N65,N65/O65*P65) -> 6728400 | S65: =R65*$G$26*1 -> 0 | U65: =T65*$G$26*1 -> 0 | V65: =IF(OR(M65="A DN",M65="KXL", M65=""),"0",ROUND(K65*0.01*$G$26+R65*1%*$G$26+T65*1%*$G$26,)) -> 48060 | X65: =(Q65+S65+U65)+W65 -> 6728400 | Y65: =X65/Z65 -> 3.738 | Z65: 1800000 | AA65: =Y65*Z65 -> 6728400 | AB65: =A65 -> 36 | AC65: =IFERROR(INDEX('[2]CN BC'!$M$10:$M$276,MATCH(B65,'[2]CN BC'!$H$10:$H$276,0)),"") -> 0
A66: =_xlfn.AGGREGATE(4,7,A$29:A65)+1 -> 37 | B66: Võ Thị Lệ Trân | C66: TRÂN | D66: 0016100006524006 | E66: 1603205185357 | F66: 3.66 | H66: =F66+(F66*G66) -> 3.66 | J66: =VLOOKUP(B66,TH!B57:J389,9,FALSE) -> NV Phòng KH-TC | K66: =H66+I66 -> 3.66 | L66: =K66*$G$26 -> 6588000 | M66: =VLOOKUP(B66,'[1]Gui chi Quynh'!$B$11:$E$400,4,FALSE) -> A1 | N66: =IF(M66="A1",L66*1.6,IF(M66="A2",L66*1.4,IF(M66="A3",L66*1.2,IF(M66="A4",L66*1,IF(M66="B1",L66*0.7,IF(M66="B2",L66*0.5,IF(M66="C1",L66*0.3,IF(M66="C2",L66*0.2,0)))))))) -> 10540800 | O66: 21 | P66: =IFERROR(INDEX('[2]CN BC'!$J$10:$J$276,MATCH(B66,'[2]CN BC'!$H$10:$H$276,0)),"") -> 25 | Q66: =IF(P66>=O66,N66,N66/O66*P66) -> 10540800 | S66: =R66*$G$26*1 -> 0 | U66: =T66*$G$26*1 -> 0 | V66: =IF(OR(M66="A DN",M66="KXL", M66=""),"0",ROUND(K66*0.01*$G$26+R66*1%*$G$26+T66*1%*$G$26,)) -> 65880 | X66: =(Q66+S66+U66)+W66 -> 10540800 | Y66: =X66/Z66 -> 5.856 | Z66: 1800000 | AA66: =Y66*Z66 -> 10540800 | AB66: =A66 -> 37 | AC66: =IFERROR(INDEX('[2]CN BC'!$M$10:$M$276,MATCH(B66,'[2]CN BC'!$H$10:$H$276,0)),"") -> 0
A67: =_xlfn.AGGREGATE(4,7,A$29:A66)+1 -> 38 | B67: Nguyễn Văn Chiến | C67: CHIẾN | D67: 0016100006548002 | E67: 1603205341369 | F67: 4.32 | H67: =F67+(F67*G67) -> 4.32 | I67: 0.45 | J67: Trưởng phòng Thanh tra GD - Quan hệ DN | K67: =H67+I67 -> 4.77 | L67: =K67*$G$26 -> 8586000 | M67: =VLOOKUP(B67,'[1]Gui chi Quynh'!$B$11:$E$400,4,FALSE) -> A1 | N67: =IF(M67="A1",L67*1.6,IF(M67="A2",L67*1.4,IF(M67="A3",L67*1.2,IF(M67="A4",L67*1,IF(M67="B1",L67*0.7,IF(M67="B2",L67*0.5,IF(M67="C1",L67*0.3,IF(M67="C2",L67*0.2,0)))))))) -> 13737600 | O67: 21 | P67: =IFERROR(INDEX('[2]CN BC'!$J$10:$J$276,MATCH(B67,'[2]CN BC'!$H$10:$H$276,0)),"") -> 27 | Q67: =IF(P67>=O67,N67,N67/O67*P67) -> 13737600 | S67: 0 | U67: =T67*$G$26*1 -> 0 | V67: =IF(OR(M67="A DN",M67="KXL", M67=""),"0",ROUND(K67*0.01*$G$26+R67*1%*$G$26+T67*1%*$G$26,)) -> 85860 | X67: =(Q67+S67+U67)+W67 -> 13737600 | Y67: =X67/Z67 -> 7.632 | Z67: 1800000 | AA67: =Y67*Z67 -> 13737600 | AB67: =A67 -> 38 | AC67: =IFERROR(INDEX('[2]CN BC'!$M$10:$M$276,MATCH(B67,'[2]CN BC'!$H$10:$H$276,0)),"") -> 0
A68: =_xlfn.AGGREGATE(4,7,A$29:A67)+1 -> 39 | B68: Nguyễn Thùy Dương | C68: DƯƠNG | D68: 0016100006640006 | E68: 1603205356140 | F68: 3.99 | H68: =F68+(F68*G68) -> 3.99 | J68: Nhân viên phòng Thanh tra GD - Quan hệ DN | K68: =H68+I68 -> 3.99 | L68: =K68*$G$26 -> 7182000 | M68: =VLOOKUP(B68,'[1]Gui chi Quynh'!$B$11:$E$400,4,FALSE) -> A4 | N68: =IF(M68="A1",L68*1.6,IF(M68="A2",L68*1.4,IF(M68="A3",L68*1.2,IF(M68="A4",L68*1,IF(M68="B1",L68*0.7,IF(M68="B2",L68*0.5,IF(M68="C1",L68*0.3,IF(M68="C2",L68*0.2,0)))))))) -> 7182000 | O68: 21 | P68: =IFERROR(INDEX('[2]CN BC'!$J$10:$J$276,MATCH(B68,'[2]CN BC'!$H$10:$H$276,0)),"") -> 22 | Q68: =IF(P68>=O68,N68,N68/O68*P68) -> 7182000 | S68: =R68*$G$26*1 -> 0 | U68: =T68*$G$26*1 -> 0 | V68: =IF(OR(M68="A DN",M68="KXL", M68=""),"0",ROUND(K68*0.01*$G$26+R68*1%*$G$26+T68*1%*$G$26,)) -> 71820 | X68: =(Q68+S68+U68)+W68 -> 7182000 | Y68: =X68/Z68 -> 3.99 | Z68: 1800000 | AA68: =Y68*Z68 -> 7182000 | AB68: =A68 -> 39 | AC68: =IFERROR(INDEX('[2]CN BC'!$M$10:$M$276,MATCH(B68,'[2]CN BC'!$H$10:$H$276,0)),"") -> 0
A69: =_xlfn.AGGREGATE(4,7,A$29:A68)+1 -> 40 | B69: Nguyễn Thị Ngọc Anh | C69: ANH | D69: 0016100006654007 | E69: 1603205182727 | F69: 4.65 | H69: =F69+(F69*G69) -> 4.65 | J69: Nhân viên phòng Thanh tra GD - Quan hệ DN | K69: =H69+I69 -> 4.65 | L69: =K69*$G$26 -> 8370000 | M69: =VLOOKUP(B69,'[1]Gui chi Quynh'!$B$11:$E$400,4,FALSE) -> A3 | N69: =IF(M69="A1",L69*1.6,IF(M69="A2",L69*1.4,IF(M69="A3",L69*1.2,IF(M69="A4",L69*1,IF(M69="B1",L69*0.7,IF(M69="B2",L69*0.5,IF(M69="C1",L69*0.3,IF(M69="C2",L69*0.2,0)))))))) -> 10044000 | O69: 21 | P69: =IFERROR(INDEX('[2]CN BC'!$J$10:$J$276,MATCH(B69,'[2]CN BC'!$H$10:$H$276,0)),"") -> 24.5 | Q69: =IF(P69>=O69,N69,N69/O69*P69) -> 10044000 | R69: 0 | S69: =R69*$G$26*1 -> 0 | U69: =T69*$G$26*1 -> 0 | V69: =IF(OR(M69="A DN",M69="KXL", M69=""),"0",ROUND(K69*0.01*$G$26+R69*1%*$G$26+T69*1%*$G$26,)) -> 83700 | X69: =(Q69+S69+U69)+W69 -> 10044000 | Y69: =X69/Z69 -> 5.58 | Z69: 1800000 | AA69: =Y69*Z69 -> 10044000 | AB69: =A69 -> 40 | AC69: =IFERROR(INDEX('[2]CN BC'!$M$10:$M$276,MATCH(B69,'[2]CN BC'!$H$10:$H$276,0)),"") -> Trừ 1 ngày nghỉ phép 1/3
A70: =_xlfn.AGGREGATE(4,7,A$29:A69)+1 -> 41 | B70: Lê Xuân Thiện | C70: THIỆN | D70: 0016100006766007 | E70: 1603205185958 | F70: 4.98 | G70: 0.07 | H70: =F70+(F70*G70) -> 5.3286 | I70: 0.45 | J70: Nhân viên phòng Thanh tra GD - Quan hệ DN | K70: =H70+I70 -> 5.7786 | L70: =K70*$G$26 -> 10401480 | M70: =VLOOKUP(B70,'[1]Gui chi Quynh'!$B$11:$E$400,4,FALSE) -> A1 | N70: =IF(M70="A1",L70*1.6,IF(M70="A2",L70*1.4,IF(M70="A3",L70*1.2,IF(M70="A4",L70*1,IF(M70="B1",L70*0.7,IF(M70="B2",L70*0.5,IF(M70="C1",L70*0.3,IF(M70="C2",L70*0.2,0)))))))) -> 16642368 | O70: 21 | P70: =IFERROR(INDEX('[2]CN BC'!$J$10:$J$276,MATCH(B70,'[2]CN BC'!$H$10:$H$276,0)),"") -> 24 | Q70: =IF(P70>=O70,N70,N70/O70*P70) -> 16642368 | S70: =R70*$G$26*1 -> 0 | U70: =T70*$G$26*1 -> 0 | V70: =IF(OR(M70="A DN",M70="KXL", M70=""),"0",ROUND(K70*0.01*$G$26+R70*1%*$G$26+T70*1%*$G$26,)) -> 104015 | X70: =(Q70+S70+U70)+W70 -> 16642368 | Y70: =X70/Z70 -> 9.24576 | Z70: 1800000 | AA70: =Y70*Z70 -> 16642368 | AB70: =A70 -> 41 | AC70: =IFERROR(INDEX('[2]CN BC'!$M$10:$M$276,MATCH(B70,'[2]CN BC'!$H$10:$H$276,0)),"") -> 0 | AG70: 5000000
A71: =_xlfn.AGGREGATE(4,7,A$29:A70)+1 -> 42 | B71: Nguyễn Thị Kim Anh | C71: ANH | D71: 0016100006719001 | E71: 1603205189653 | F71: 3.99 | H71: =F71+(F71*G71) -> 3.99 | J71: Nhân viên phòng Thanh tra GD - Quan hệ DN | K71: =H71+I71 -> 3.99 | L71: =K71*$G$26 -> 7182000 | M71: =VLOOKUP(B71,'[1]Gui chi Quynh'!$B$11:$E$400,4,FALSE) -> A4 | N71: =IF(M71="A1",L71*1.6,IF(M71="A2",L71*1.4,IF(M71="A3",L71*1.2,IF(M71="A4",L71*1,IF(M71="B1",L71*0.7,IF(M71="B2",L71*0.5,IF(M71="C1",L71*0.3,IF(M71="C2",L71*0.2,0)))))))) -> 7182000 | O71: 21 | P71: =IFERROR(INDEX('[2]CN BC'!$J$10:$J$276,MATCH(B71,'[2]CN BC'!$H$10:$H$276,0)),"") -> 22 | Q71: =IF(P71>=O71,N71,N71/O71*P71) -> 7182000 | S71: =R71*$G$26*1 -> 0 | U71: =T71*$G$26*1 -> 0 | V71: =IF(OR(M71="A DN",M71="KXL", M71=""),"0",ROUND(K71*0.01*$G$26+R71*1%*$G$26+T71*1%*$G$26,)) -> 71820 | X71: =(Q71+S71+U71)+W71 -> 7182000 | Y71: =X71/Z71 -> 3.99 | Z71: 1800000 | AA71: =Y71*Z71 -> 7182000 | AB71: =A71 -> 42 | AC71: =IFERROR(INDEX('[2]CN BC'!$M$10:$M$276,MATCH(B71,'[2]CN BC'!$H$10:$H$276,0)),"") -> 0
A72: =_xlfn.AGGREGATE(4,7,A$29:A71)+1 -> 43 | B72: Phạm Thị Lê Chi | C72: CHI | D72: 0016100006714007 | E72: 1603205250618 | F72: 3.66 | H72: =F72+(F72*G72) -> 3.66 | J72: Nhân viên phòng Thanh tra GD - Quan hệ DN | K72: =H72+I72 -> 3.66 | L72: =K72*$G$26 -> 6588000 | M72: =VLOOKUP(B72,'[1]Gui chi Quynh'!$B$11:$E$400,4,FALSE) -> A4 | N72: =IF(M72="A1",L72*1.6,IF(M72="A2",L72*1.4,IF(M72="A3",L72*1.2,IF(M72="A4",L72*1,IF(M72="B1",L72*0.7,IF(M72="B2",L72*0.5,IF(M72="C1",L72*0.3,IF(M72="C2",L72*0.2,0)))))))) -> 6588000 | O72: 21 | P72: =IFERROR(INDEX('[2]CN BC'!$J$10:$J$276,MATCH(B72,'[2]CN BC'!$H$10:$H$276,0)),"") -> 22 | Q72: =IF(P72>=O72,N72,N72/O72*P72) -> 6588000 | S72: =R72*$G$26*1 -> 0 | U72: =T72*$G$26*1 -> 0 | V72: =IF(OR(M72="A DN",M72="KXL", M72=""),"0",ROUND(K72*0.01*$G$26+R72*1%*$G$26+T72*1%*$G$26,)) -> 65880 | X72: =(Q72+S72+U72)+W72 -> 6588000 | Y72: =X72/Z72 -> 3.66 | Z72: 1800000 | AA72: =Y72*Z72 -> 6588000 | AB72: =A72 -> 43 | AC72: =IFERROR(INDEX('[2]CN BC'!$M$10:$M$276,MATCH(B72,'[2]CN BC'!$H$10:$H$276,0)),"") -> 0
A73: =_xlfn.AGGREGATE(4,7,A$29:A72)+1 -> 44 | B73: Trần Thị Thu Hà | C73: HÀ | D73: 0016100006711008 | E73: 1603205186179 | F73: 4.32 | H73: =F73+(F73*G73) -> 4.32 | J73: Nhân viên phòng Thanh tra GD - Quan hệ DN | K73: =H73+I73 -> 4.32 | L73: =K73*$G$26 -> 7776000 | M73: =VLOOKUP(B73,'[1]Gui chi Quynh'!$B$11:$E$400,4,FALSE) -> A2 | N73: =IF(M73="A1",L73*1.6,IF(M73="A2",L73*1.4,IF(M73="A3",L73*1.2,IF(M73="A4",L73*1,IF(M73="B1",L73*0.7,IF(M73="B2",L73*0.5,IF(M73="C1",L73*0.3,IF(M73="C2",L73*0.2,0)))))))) -> 10886400 | O73: 21 | P73: =IFERROR(INDEX('[2]CN BC'!$J$10:$J$276,MATCH(B73,'[2]CN BC'!$H$10:$H$276,0)),"") -> 24 | Q73: =IF(P73>=O73,N73,N73/O73*P73) -> 10886400 | S73: =R73*$G$26*1 -> 0 | U73: =T73*$G$26*1 -> 0 | V73: =IF(OR(M73="A DN",M73="KXL", M73=""),"0",ROUND(K73*0.01*$G$26+R73*1%*$G$26+T73*1%*$G$26,)) -> 77760 | X73: =(Q73+S73+U73)+W73 -> 10886400 | Y73: =X73/Z73 -> 6.048 | Z73: 1800000 | AA73: =Y73*Z73 -> 10886400 | AB73: =A73 -> 44 | AC73: =IFERROR(INDEX('[2]CN BC'!$M$10:$M$276,MATCH(B73,'[2]CN BC'!$H$10:$H$276,0)),"") -> 0
A74: =_xlfn.AGGREGATE(4,7,A$29:A73)+1 -> 45 | B74: Nguyễn Tất Thắng | C74: THẮNG | D74: 0016100006715006 | E74: 1603205179109 | F74: 4.32 | H74: =F74+(F74*G74) -> 4.32 | J74: Nhân viên phòng Thanh tra GD - Quan hệ DN | K74: =H74+I74 -> 4.32 | L74: =K74*$G$26 -> 7776000 | M74: =VLOOKUP(B74,'[1]Gui chi Quynh'!$B$11:$E$400,4,FALSE) -> A4 | N74: =IF(M74="A1",L74*1.6,IF(M74="A2",L74*1.4,IF(M74="A3",L74*1.2,IF(M74="A4",L74*1,IF(M74="B1",L74*0.7,IF(M74="B2",L74*0.5,IF(M74="C1",L74*0.3,IF(M74="C2",L74*0.2,0)))))))) -> 7776000 | O74: 21 | P74: =IFERROR(INDEX('[2]CN BC'!$J$10:$J$276,MATCH(B74,'[2]CN BC'!$H$10:$H$276,0)),"") -> 21 | Q74: =IF(P74>=O74,N74,N74/O74*P74) -> 7776000 | S74: =R74*$G$26*1 -> 0 | U74: =T74*$G$26*1 -> 0 | V74: =IF(OR(M74="A DN",M74="KXL", M74=""),"0",ROUND(K74*0.01*$G$26+R74*1%*$G$26+T74*1%*$G$26,)) -> 77760 | X74: =(Q74+S74+U74)+W74 -> 7776000 | Y74: =X74/Z74 -> 4.32 | Z74: 1800000 | AA74: =Y74*Z74 -> 7776000 | AB74: =A74 -> 45 | AC74: =IFERROR(INDEX('[2]CN BC'!$M$10:$M$276,MATCH(B74,'[2]CN BC'!$H$10:$H$276,0)),"") -> 0
A75: =_xlfn.AGGREGATE(4,7,A$29:A74)+1 -> 46 | B75: Mai Thu Hương | C75: HƯƠNG | D75: 0016100006498005 | E75: 1603205273823 | F75: 3.66 | H75: =F75+(F75*G75) -> 3.66 | J75: Nhân viên phòng Thanh tra GD - Quan hệ DN | K75: =H75+I75 -> 3.66 | L75: =K75*$G$26 -> 6588000 | M75: =VLOOKUP(B75,'[1]Gui chi Quynh'!$B$11:$E$400,4,FALSE) -> A4 | N75: =IF(M75="A1",L75*1.6,IF(M75="A2",L75*1.4,IF(M75="A3",L75*1.2,IF(M75="A4",L75*1,IF(M75="B1",L75*0.7,IF(M75="B2",L75*0.5,IF(M75="C1",L75*0.3,IF(M75="C2",L75*0.2,0)))))))) -> 6588000 | O75: 21 | P75: =IFERROR(INDEX('[2]CN BC'!$J$10:$J$276,MATCH(B75,'[2]CN BC'!$H$10:$H$276,0)),"") -> 22 | Q75: =IF(P75>=O75,N75,N75/O75*P75) -> 6588000 | S75: =R75*$G$26*1 -> 0 | U75: =T75*$G$26*1 -> 0 | V75: =IF(OR(M75="A DN",M75="KXL", M75=""),"0",ROUND(K75*0.01*$G$26+R75*1%*$G$26+T75*1%*$G$26,)) -> 65880 | X75: =(Q75+S75+U75)+W75 -> 6588000 | Y75: =X75/Z75 -> 3.66 | Z75: 1800000 | AA75: =Y75*Z75 -> 6588000 | AB75: =A75 -> 46 | AC75: =IFERROR(INDEX('[2]CN BC'!$M$10:$M$276,MATCH(B75,'[2]CN BC'!$H$10:$H$276,0)),"") -> 0
A76: =_xlfn.AGGREGATE(4,7,A$29:A75)+1 -> 47 | B76: Huỳnh Thị Cẩm Hoa | C76: HOA | D76: 0016100006568003 | E76: 1603215003383 | F76: 3.66 | H76: =F76+(F76*G76) -> 3.66 | J76: =VLOOKUP(B76,TH!B67:J399,9,FALSE) -> Nhân viên phòng Tuyển sinh - Đào tạo | K76: =H76+I76 -> 3.66 | L76: =K76*$G$26 -> 6588000 | M76: =VLOOKUP(B76,'[1]Gui chi Quynh'!$B$11:$E$400,4,FALSE) -> A3 | N76: =IF(M76="A1",L76*1.6,IF(M76="A2",L76*1.4,IF(M76="A3",L76*1.2,IF(M76="A4",L76*1,IF(M76="B1",L76*0.7,IF(M76="B2",L76*0.5,IF(M76="C1",L76*0.3,IF(M76="C2",L76*0.2,0)))))))) -> 7905600 | O76: 21 | P76: =IFERROR(INDEX('[2]CN BC'!$J$10:$J$276,MATCH(B76,'[2]CN BC'!$H$10:$H$276,0)),"") -> 23.5 | Q76: =IF(P76>=O76,N76,N76/O76*P76) -> 7905600 | S76: =R76*$G$26*1 -> 0 | U76: =T76*$G$26*1 -> 0 | V76: =IF(OR(M76="A DN",M76="KXL", M76=""),"0",ROUND(K76*0.01*$G$26+R76*1%*$G$26+T76*1%*$G$26,)) -> 65880 | X76: =(Q76+S76+U76)+W76 -> 7905600 | Y76: =X76/Z76 -> 4.392 | Z76: 1800000 | AA76: =Y76*Z76 -> 7905600 | AB76: =A76 -> 47 | AC76: =IFERROR(INDEX('[2]CN BC'!$M$10:$M$276,MATCH(B76,'[2]CN BC'!$H$10:$H$276,0)),"") -> 0
A77: =_xlfn.AGGREGATE(4,7,A$29:A76)+1 -> 48 | B77: Nguyễn Thành Nam | C77: NAM | D77: 0016100006648007 | E77: 1603215002713 | F77: 4.74 | H77: =F77+(F77*G77) -> 4.74 | I77: 0.45 | J77: =VLOOKUP(B77,TH!B68:J400,9,FALSE) -> Trưởng phòng Tuyển sinh - Đào tạo | K77: =H77+I77 -> 5.19 | L77: =K77*$G$26 -> 9342000 | M77: =VLOOKUP(B77,'[1]Gui chi Quynh'!$B$11:$E$400,4,FALSE) -> A1 | N77: =IF(M77="A1",L77*1.6,IF(M77="A2",L77*1.4,IF(M77="A3",L77*1.2,IF(M77="A4",L77*1,IF(M77="B1",L77*0.7,IF(M77="B2",L77*0.5,IF(M77="C1",L77*0.3,IF(M77="C2",L77*0.2,0)))))))) -> 14947200 | O77: 21 | P77: =IFERROR(INDEX('[2]CN BC'!$J$10:$J$276,MATCH(B77,'[2]CN BC'!$H$10:$H$276,0)),"") -> 26.5 | Q77: =IF(P77>=O77,N77,N77/O77*P77) -> 14947200 | S77: =R77*$G$26*1.6 -> 0 | U77: =T77*$G$26*1 -> 0 | V77: =IF(OR(M77="A DN",M77="KXL", M77=""),"0",ROUND(K77*0.01*$G$26+R77*1%*$G$26+T77*1%*$G$26,)) -> 93420 | W77: 3672000 | X77: =(Q77+S77+U77)+W77 -> 18619200 | Y77: =X77/Z77 -> 10.344 | Z77: 1800000 | AA77: =Y77*Z77 -> 18619200 | AB77: =A77 -> 48 | AC77: =IFERROR(INDEX('[2]CN BC'!$M$10:$M$276,MATCH(B77,'[2]CN BC'!$H$10:$H$276,0)),"") -> 0
A78: =_xlfn.AGGREGATE(4,7,A$29:A77)+1 -> 49 | B78: Quách Minh Thử | C78: THỬ | D78: 0016100006528001 | E78: 1603205182415 | F78: 4.32 | H78: =F78+(F78*G78) -> 4.32 | I78: 0.35 | J78: =VLOOKUP(B78,TH!B69:J401,9,FALSE) -> Phó TP. Tuyể sinh - Đào tạo | K78: =H78+I78 -> 4.67 | L78: =K78*$G$26 -> 8406000 | M78: =VLOOKUP(B78,'[1]Gui chi Quynh'!$B$11:$E$400,4,FALSE) -> A1 | N78: =IF(M78="A1",L78*1.6,IF(M78="A2",L78*1.4,IF(M78="A3",L78*1.2,IF(M78="A4",L78*1,IF(M78="B1",L78*0.7,IF(M78="B2",L78*0.5,IF(M78="C1",L78*0.3,IF(M78="C2",L78*0.2,0)))))))) -> 13449600 | O78: 21 | P78: =IFERROR(INDEX('[2]CN BC'!$J$10:$J$276,MATCH(B78,'[2]CN BC'!$H$10:$H$276,0)),"") -> 31 | Q78: =IF(P78>=O78,N78,N78/O78*P78) -> 13449600 | S78: =R78*$G$26*1 -> 0 | U78: =T78*$G$26*1 -> 0 | V78: =IF(OR(M78="A DN",M78="KXL", M78=""),"0",ROUND(K78*0.01*$G$26+R78*1%*$G$26+T78*1%*$G$26,)) -> 84060 | X78: =(Q78+S78+U78)+W78 -> 13449600 | Y78: =X78/Z78 -> 7.472 | Z78: 1800000 | AA78: =Y78*Z78 -> 13449600 | AB78: =A78 -> 49 | AC78: =IFERROR(INDEX('[2]CN BC'!$M$10:$M$276,MATCH(B78,'[2]CN BC'!$H$10:$H$276,0)),"") -> 0
A79: =_xlfn.AGGREGATE(4,7,A$29:A78)+1 -> 50 | B79: Võ Thị Xuân Thơ | C79: THƠ | D79: 0016100006527005 | E79: 1603205185760 | F79: 4.65 | H79: =F79+(F79*G79) -> 4.65 | J79: =VLOOKUP(B79,TH!B70:J402,9,FALSE) -> Nhân viên phòng TS - Đào tạo | K79: =H79+I79 -> 4.65 | L79: =K79*$G$26 -> 8370000 | M79: =VLOOKUP(B79,'[1]Gui chi Quynh'!$B$11:$E$400,4,FALSE) -> A2 | N79: =IF(M79="A1",L79*1.6,IF(M79="A2",L79*1.4,IF(M79="A3",L79*1.2,IF(M79="A4",L79*1,IF(M79="B1",L79*0.7,IF(M79="B2",L79*0.5,IF(M79="C1",L79*0.3,IF(M79="C2",L79*0.2,0)))))))) -> 11718000 | O79: 21 | P79: =IFERROR(INDEX('[2]CN BC'!$J$10:$J$276,MATCH(B79,'[2]CN BC'!$H$10:$H$276,0)),"") -> 26.5 | Q79: =IF(P79>=O79,N79,N79/O79*P79) -> 11718000 | S79: =R79*$G$26*1 -> 0 | U79: =T79*$G$26*1 -> 0 | V79: =IF(OR(M79="A DN",M79="KXL", M79=""),"0",ROUND(K79*0.01*$G$26+R79*1%*$G$26+T79*1%*$G$26,)) -> 83700 | X79: =(Q79+S79+U79)+W79 -> 11718000 | Y79: =X79/Z79 -> 6.51 | Z79: 1800000 | AA79: =Y79*Z79 -> 11718000 | AB79: =A79 -> 50 | AC79: =IFERROR(INDEX('[2]CN BC'!$M$10:$M$276,MATCH(B79,'[2]CN BC'!$H$10:$H$276,0)),"") -> 0
A80: =_xlfn.AGGREGATE(4,7,A$29:A79)+1 -> 51 | B80: Nguyễn Thị Thanh Thảo | C80: THẢO | D80: 0016100006521007 | E80: 1603205182394 | F80: 3.99 | H80: =F80+(F80*G80) -> 3.99 | J80: =VLOOKUP(B80,TH!B71:J403,9,FALSE) -> Nhân viên phòng TS - Đào tạo | K80: =H80+I80 -> 3.99 | L80: =K80*$G$26 -> 7182000 | M80: =VLOOKUP(B80,'[1]Gui chi Quynh'!$B$11:$E$400,4,FALSE) -> A1 | N80: =IF(M80="A1",L80*1.6,IF(M80="A2",L80*1.4,IF(M80="A3",L80*1.2,IF(M80="A4",L80*1,IF(M80="B1",L80*0.7,IF(M80="B2",L80*0.5,IF(M80="C1",L80*0.3,IF(M80="C2",L80*0.2,0)))))))) -> 11491200 | O80: 21 | P80: =IFERROR(INDEX('[2]CN BC'!$J$10:$J$276,MATCH(B80,'[2]CN BC'!$H$10:$H$276,0)),"") -> 25 | Q80: =IF(P80>=O80,N80,N80/O80*P80) -> 11491200 | S80: =R80*$G$26*1 -> 0 | U80: =T80*$G$26*1 -> 0 | V80: =IF(OR(M80="A DN",M80="KXL", M80=""),"0",ROUND(K80*0.01*$G$26+R80*1%*$G$26+T80*1%*$G$26,)) -> 71820 | X80: =(Q80+S80+U80)+W80 -> 11491200 | Y80: =X80/Z80 -> 6.384 | Z80: 1800000 | AA80: =Y80*Z80 -> 11491200 | AB80: =A80 -> 51 | AC80: =IFERROR(INDEX('[2]CN BC'!$M$10:$M$276,MATCH(B80,'[2]CN BC'!$H$10:$H$276,0)),"") -> 0
A81: =_xlfn.AGGREGATE(4,7,A$29:A80)+1 -> 52 | B81: Giáp Thị Vượng | C81: VƯỢNG | D81: 0016100006526009 | E81: 1603205246090 | F81: 3.33 | H81: =F81+(F81*G81) -> 3.33 | J81: =VLOOKUP(B81,TH!B72:J404,9,FALSE) -> Nhân viên phòng TS - Đào tạo | K81: =H81+I81 -> 3.33 | L81: =K81*$G$26 -> 5994000 | M81: =VLOOKUP(B81,'[1]Gui chi Quynh'!$B$11:$E$400,4,FALSE) -> A3 | N81: =IF(M81="A1",L81*1.6,IF(M81="A2",L81*1.4,IF(M81="A3",L81*1.2,IF(M81="A4",L81*1,IF(M81="B1",L81*0.7,IF(M81="B2",L81*0.5,IF(M81="C1",L81*0.3,IF(M81="C2",L81*0.2,0)))))))) -> 7192800 | O81: 21 | P81: =IFERROR(INDEX('[2]CN BC'!$J$10:$J$276,MATCH(B81,'[2]CN BC'!$H$10:$H$276,0)),"") -> 27 | Q81: =IF(P81>=O81,N81,N81/O81*P81) -> 7192800 | R81: 0 | S81: =R81*$G$26*1 -> 0 | U81: =T81*$G$26*1 -> 0 | V81: =IF(OR(M81="A DN",M81="KXL", M81=""),"0",ROUND(K81*0.01*$G$26+R81*1%*$G$26+T81*1%*$G$26,)) -> 59940 | X81: =(Q81+S81+U81)+W81 -> 7192800 | Y81: =X81/Z81 -> 3.996 | Z81: 1800000 | AA81: =Y81*Z81 -> 7192800 | AB81: =A81 -> 52 | AC81: =IFERROR(INDEX('[2]CN BC'!$M$10:$M$276,MATCH(B81,'[2]CN BC'!$H$10:$H$276,0)),"") -> 0
A82: =_xlfn.AGGREGATE(4,7,A$29:A81)+1 -> 53 | B82: Nguyễn Thị Thùy | C82: THÙY | D82: 0016100006535008 | E82: 1603205182762 | F82: 3.96 | H82: =F82+(F82*G82) -> 3.96 | J82: =VLOOKUP(B82,TH!B73:J405,9,FALSE) -> Nhân viên phòng TS - Đào tạo | K82: =H82+I82 -> 3.96 | L82: =K82*$G$26 -> 7128000 | M82: =VLOOKUP(B82,'[1]Gui chi Quynh'!$B$11:$E$400,4,FALSE) -> A1 | N82: =IF(M82="A1",L82*1.6,IF(M82="A2",L82*1.4,IF(M82="A3",L82*1.2,IF(M82="A4",L82*1,IF(M82="B1",L82*0.7,IF(M82="B2",L82*0.5,IF(M82="C1",L82*0.3,IF(M82="C2",L82*0.2,0)))))))) -> 11404800 | O82: 21 | P82: =IFERROR(INDEX('[2]CN BC'!$J$10:$J$276,MATCH(B82,'[2]CN BC'!$H$10:$H$276,0)),"") -> 26.5 | Q82: =IF(P82>=O82,N82,N82/O82*P82) -> 11404800 | S82: =R82*$G$26*1 -> 0 | U82: =T82*$G$26*1 -> 0 | V82: =IF(OR(M82="A DN",M82="KXL", M82=""),"0",ROUND(K82*0.01*$G$26+R82*1%*$G$26+T82*1%*$G$26,)) -> 71280 | X82: =(Q82+S82+U82)+W82 -> 11404800 | Y82: =X82/Z82 -> 6.336 | Z82: 1800000 | AA82: =Y82*Z82 -> 11404800 | AB82: =A82 -> 53 | AC82: =IFERROR(INDEX('[2]CN BC'!$M$10:$M$276,MATCH(B82,'[2]CN BC'!$H$10:$H$276,0)),"") -> 0
A83: =_xlfn.AGGREGATE(4,7,A$29:A82)+1 -> 54 | B83: Nguyễn Thị Hải Hà | C83: HÀ | D83: 0016100006541008 | E83: 1603205182178 | F83: 3.66 | H83: =F83+(F83*G83) -> 3.66 | J83: =VLOOKUP(B83,TH!B74:J406,9,FALSE) -> Nhân viên phòng TS - Đào tạo | K83: =H83+I83 -> 3.66 | L83: =K83*$G$26 -> 6588000 | M83: =VLOOKUP(B83,'[1]Gui chi Quynh'!$B$11:$E$400,4,FALSE) -> A2 | N83: =IF(M83="A1",L83*1.6,IF(M83="A2",L83*1.4,IF(M83="A3",L83*1.2,IF(M83="A4",L83*1,IF(M83="B1",L83*0.7,IF(M83="B2",L83*0.5,IF(M83="C1",L83*0.3,IF(M83="C2",L83*0.2,0)))))))) -> 9223200 | O83: 21 | P83: =IFERROR(INDEX('[2]CN BC'!$J$10:$J$276,MATCH(B83,'[2]CN BC'!$H$10:$H$276,0)),"") -> 26 | Q83: =IF(P83>=O83,N83,N83/O83*P83) -> 9223200 | S83: =R83*$G$26*1.6 -> 0 | U83: =T83*$G$26*1 -> 0 | V83: =IF(OR(M83="A DN",M83="KXL", M83=""),"0",ROUND(K83*0.01*$G$26+R83*1%*$G$26+T83*1%*$G$26,)) -> 65880 | X83: =(Q83+S83+U83)+W83 -> 9223200 | Y83: =X83/Z83 -> 5.124 | Z83: 1800000 | AA83: =Y83*Z83 -> 9223200 | AB83: =A83 -> 54 | AC83: =IFERROR(INDEX('[2]CN BC'!$M$10:$M$276,MATCH(B83,'[2]CN BC'!$H$10:$H$276,0)),"") -> 0
A84: =_xlfn.AGGREGATE(4,7,A$29:A83)+1 -> 55 | B84: Thái Thị My Sa | C84: SA | D84: 0016100006768002 | E84: 1603205351697 | F84: 3.33 | H84: =F84+(F84*G84) -> 3.33 | J84: =VLOOKUP(B84,TH!B75:J407,9,FALSE) -> Nhân viên phòng TS - Đào tạo | K84: =H84+I84 -> 3.33 | L84: =K84*$G$26 -> 5994000 | M84: =VLOOKUP(B84,'[1]Gui chi Quynh'!$B$11:$E$400,4,FALSE) -> A1 | N84: =IF(M84="A1",L84*1.6,IF(M84="A2",L84*1.4,IF(M84="A3",L84*1.2,IF(M84="A4",L84*1,IF(M84="B1",L84*0.7,IF(M84="B2",L84*0.5,IF(M84="C1",L84*0.3,IF(M84="C2",L84*0.2,0)))))))) -> 9590400 | O84: 21 | P84: =IFERROR(INDEX('[2]CN BC'!$J$10:$J$276,MATCH(B84,'[2]CN BC'!$H$10:$H$276,0)),"") -> 26.5 | Q84: =IF(P84>=O84,N84,N84/O84*P84) -> 9590400 | S84: =R84*$G$26*1 -> 0 | U84: =T84*$G$26*1 -> 0 | V84: =IF(OR(M84="A DN",M84="KXL", M84=""),"0",ROUND(K84*0.01*$G$26+R84*1%*$G$26+T84*1%*$G$26,)) -> 59940 | X84: =(Q84+S84+U84)+W84 -> 9590400 | Y84: =X84/Z84 -> 5.328 | Z84: 1800000 | AA84: =Y84*Z84 -> 9590400 | AB84: =A84 -> 55 | AC84: =IFERROR(INDEX('[2]CN BC'!$M$10:$M$276,MATCH(B84,'[2]CN BC'!$H$10:$H$276,0)),"") -> 0
A85: =_xlfn.AGGREGATE(4,7,A$29:A84)+1 -> 56 | B85: Mai Nguyễn Hoàng Yến | C85: YẾN | D85: 0016100006652004 | E85: 1603205357194 | F85: 3.33 | H85: =F85+(F85*G85) -> 3.33 | J85: =VLOOKUP(B85,TH!B76:J408,9,FALSE) -> Nhân viên phòng Tuyển sinh - Đào tạo | K85: =H85+I85 -> 3.33 | L85: =K85*$G$26 -> 5994000 | M85: =VLOOKUP(B85,'[1]Gui chi Quynh'!$B$11:$E$400,4,FALSE) -> A3 | N85: =IF(M85="A1",L85*1.6,IF(M85="A2",L85*1.4,IF(M85="A3",L85*1.2,IF(M85="A4",L85*1,IF(M85="B1",L85*0.7,IF(M85="B2",L85*0.5,IF(M85="C1",L85*0.3,IF(M85="C2",L85*0.2,0)))))))) -> 7192800 | O85: 21 | P85: =IFERROR(INDEX('[2]CN BC'!$J$10:$J$276,MATCH(B85,'[2]CN BC'!$H$10:$H$276,0)),"") -> 27 | Q85: =IF(P85>=O85,N85,N85/O85*P85) -> 7192800 | S85: =R85*$G$26*1 -> 0 | U85: =T85*$G$26*1 -> 0 | V85: =IF(OR(M85="A DN",M85="KXL", M85=""),"0",ROUND(K85*0.01*$G$26+R85*1%*$G$26+T85*1%*$G$26,)) -> 59940 | X85: =(Q85+S85+U85)+W85 -> 7192800 | Y85: =X85/Z85 -> 3.996 | Z85: 1800000 | AA85: =Y85*Z85 -> 7192800 | AB85: =A85 -> 56 | AC85: =IFERROR(INDEX('[2]CN BC'!$M$10:$M$276,MATCH(B85,'[2]CN BC'!$H$10:$H$276,0)),"") -> 0
A86: =_xlfn.AGGREGATE(4,7,A$29:A85)+1 -> 57 | B86: Nguyễn Chí Nhân | C86: NHÂN | D86: 0016100006689005 | E86: 1603205182184 | F86: 4.65 | H86: =F86+(F86*G86) -> 4.65 | I86: 0.45 | J86: =VLOOKUP(B86,TH!B77:J409,9,FALSE) -> Trưởng phòng Khảo thí và ĐBCL | K86: =H86+I86 -> 5.1 | L86: =K86*$G$26 -> 9180000 | M86: =VLOOKUP(B86,'[1]Gui chi Quynh'!$B$11:$E$400,4,FALSE) -> A2 | N86: =IF(M86="A1",L86*1.6,IF(M86="A2",L86*1.4,IF(M86="A3",L86*1.2,IF(M86="A4",L86*1,IF(M86="B1",L86*0.7,IF(M86="B2",L86*0.5,IF(M86="C1",L86*0.3,IF(M86="C2",L86*0.2,0)))))))) -> 12852000 | O86: 21 | P86: =IFERROR(INDEX('[2]CN BC'!$J$10:$J$276,MATCH(B86,'[2]CN BC'!$H$10:$H$276,0)),"") -> 25 | Q86: =IF(P86>=O86,N86,N86/O86*P86) -> 12852000 | S86: =R86*$G$26*1 -> 0 | U86: =T86*$G$26*1 -> 0 | V86: =IF(OR(M86="A DN",M86="KXL", M86=""),"0",ROUND(K86*0.01*$G$26+R86*1%*$G$26+T86*1%*$G$26,)) -> 91800 | X86: =(Q86+S86+U86)+W86 -> 12852000 | Y86: =X86/Z86 -> 7.14 | Z86: 1800000 | AA86: =Y86*Z86 -> 12852000 | AB86: =A86 -> 57 | AC86: =IFERROR(INDEX('[2]CN BC'!$M$10:$M$276,MATCH(B86,'[2]CN BC'!$H$10:$H$276,0)),"") -> 0
A87: =_xlfn.AGGREGATE(4,7,A$29:A86)+1 -> 58 | B87: Nguyễn Thị Kim Dung | C87: DUNG | D87: 0016100006682008 | E87: 1603205182336 | F87: 4.32 | H87: =F87+(F87*G87) -> 4.32 | I87: 0.35 | J87: =VLOOKUP(B87,TH!B78:J410,9,FALSE) -> Phó TP. Kế hoạch - Tài chính | K87: =H87+I87 -> 4.67 | L87: =K87*$G$26 -> 8406000 | M87: =VLOOKUP(B87,'[1]Gui chi Quynh'!$B$11:$E$400,4,FALSE) -> A1 | N87: =IF(M87="A1",L87*1.6,IF(M87="A2",L87*1.4,IF(M87="A3",L87*1.2,IF(M87="A4",L87*1,IF(M87="B1",L87*0.7,IF(M87="B2",L87*0.5,IF(M87="C1",L87*0.3,IF(M87="C2",L87*0.2,0)))))))) -> 13449600 | O87: 21 | P87: =IFERROR(INDEX('[2]CN BC'!$J$10:$J$276,MATCH(B87,'[2]CN BC'!$H$10:$H$276,0)),"") -> 22 | Q87: =IF(P87>=O87,N87,N87/O87*P87) -> 13449600 | S87: =R87*$G$26*1 -> 0 | U87: =T87*$G$26*1 -> 0 | V87: =IF(OR(M87="A DN",M87="KXL", M87=""),"0",ROUND(K87*0.01*$G$26+R87*1%*$G$26+T87*1%*$G$26,)) -> 84060 | X87: =(Q87+S87+U87)+W87 -> 13449600 | Y87: =X87/Z87 -> 7.472 | Z87: 1800000 | AA87: =Y87*Z87 -> 13449600 | AB87: =A87 -> 58 | AC87: =IFERROR(INDEX('[2]CN BC'!$M$10:$M$276,MATCH(B87,'[2]CN BC'!$H$10:$H$276,0)),"") -> 0
A88: =_xlfn.AGGREGATE(4,7,A$29:A87)+1 -> 59 | B88: Nguyễn Thanh Sơn | C88: SƠN (B) | D88: 0016100006721006 | E88: 1603205303449 | F88: 4.98 | G88: 0.2 | H88: =F88+(F88*G88) -> 5.976 | J88: =VLOOKUP(B88,TH!B79:J411,9,FALSE) -> Nhân viên phòng Khảo thí và ĐBCL | K88: =H88+I88 -> 5.976 | L88: =K88*$G$26 -> 10756800 | M88: =VLOOKUP(B88,'[1]Gui chi Quynh'!$B$11:$E$400,4,FALSE) -> A3 | N88: =IF(M88="A1",L88*1.6,IF(M88="A2",L88*1.4,IF(M88="A3",L88*1.2,IF(M88="A4",L88*1,IF(M88="B1",L88*0.7,IF(M88="B2",L88*0.5,IF(M88="C1",L88*0.3,IF(M88="C2",L88*0.2,0)))))))) -> 12908160 | O88: 21 | P88: =IFERROR(INDEX('[2]CN BC'!$J$10:$J$276,MATCH(B88,'[2]CN BC'!$H$10:$H$276,0)),"") -> 21 | Q88: =IF(P88>=O88,N88,N88/O88*P88) -> 12908160 | S88: =R88*$G$26*1 -> 0 | U88: =T88*$G$26*1 -> 0 | V88: =IF(OR(M88="A DN",M88="KXL", M88=""),"0",ROUND(K88*0.01*$G$26+R88*1%*$G$26+T88*1%*$G$26,)) -> 107568 | X88: =(Q88+S88+U88)+W88 -> 12908160 | Y88: =X88/Z88 -> 7.1712 | Z88: 1800000 | AA88: =Y88*Z88 -> 12908160 | AB88: =A88 -> 59 | AC88: =IFERROR(INDEX('[2]CN BC'!$M$10:$M$276,MATCH(B88,'[2]CN BC'!$H$10:$H$276,0)),"") -> 0
A89: =_xlfn.AGGREGATE(4,7,A$29:A88)+1 -> 60 | B89: Vũ Thị Thu Thủy | C89: THỦY | D89: 0016100006685007 | E89: 1603205182575 | F89: 3.66 | H89: =F89+(F89*G89) -> 3.66 | J89: =VLOOKUP(B89,TH!B80:J412,9,FALSE) -> Nhân viên phòng Khảo thí và ĐBCL | K89: =H89+I89 -> 3.66 | L89: =K89*$G$26 -> 6588000 | M89: =VLOOKUP(B89,'[1]Gui chi Quynh'!$B$11:$E$400,4,FALSE) -> A3 | N89: =IF(M89="A1",L89*1.6,IF(M89="A2",L89*1.4,IF(M89="A3",L89*1.2,IF(M89="A4",L89*1,IF(M89="B1",L89*0.7,IF(M89="B2",L89*0.5,IF(M89="C1",L89*0.3,IF(M89="C2",L89*0.2,0)))))))) -> 7905600 | O89: 21 | P89: =IFERROR(INDEX('[2]CN BC'!$J$10:$J$276,MATCH(B89,'[2]CN BC'!$H$10:$H$276,0)),"") -> 21 | Q89: =IF(P89>=O89,N89,N89/O89*P89) -> 7905600 | S89: =R89*$G$26*0.8 -> 0 | U89: =T89*$G$26*1 -> 0 | V89: =IF(OR(M89="A DN",M89="KXL", M89=""),"0",ROUND(K89*0.01*$G$26+R89*1%*$G$26+T89*1%*$G$26,)) -> 65880 | X89: =(Q89+S89+U89)+W89 -> 7905600 | Y89: =X89/Z89 -> 4.392 | Z89: 1800000 | AA89: =Y89*Z89 -> 7905600 | AB89: =A89 -> 60 | AC89: =IFERROR(INDEX('[2]CN BC'!$M$10:$M$276,MATCH(B89,'[2]CN BC'!$H$10:$H$276,0)),"") -> 0
A90: =_xlfn.AGGREGATE(4,7,A$29:A89)+1 -> 61 | B90: Nguyễn Thị Tuyết | C90: TUYẾT | D90: 0016100006733004 | E90: 1603205182756 | F90: 3.66 | H90: =F90+(F90*G90) -> 3.66 | J90: =VLOOKUP(B90,TH!B81:J413,9,FALSE) -> Nhân viên phòng Khảo thí và ĐBCL | K90: =H90+I90 -> 3.66 | L90: =K90*$G$26 -> 6588000 | M90: =VLOOKUP(B90,'[1]Gui chi Quynh'!$B$11:$E$400,4,FALSE) -> A3 | N90: =IF(M90="A1",L90*1.6,IF(M90="A2",L90*1.4,IF(M90="A3",L90*1.2,IF(M90="A4",L90*1,IF(M90="B1",L90*0.7,IF(M90="B2",L90*0.5,IF(M90="C1",L90*0.3,IF(M90="C2",L90*0.2,0)))))))) -> 7905600 | O90: 21 | P90: =IFERROR(INDEX('[2]CN BC'!$J$10:$J$276,MATCH(B90,'[2]CN BC'!$H$10:$H$276,0)),"") -> 21 | Q90: =IF(P90>=O90,N90,N90/O90*P90) -> 7905600 | S90: =R90*$G$26*0.8 -> 0 | U90: =T90*$G$26*1 -> 0 | V90: =IF(OR(M90="A DN",M90="KXL", M90=""),"0",ROUND(K90*0.01*$G$26+R90*1%*$G$26+T90*1%*$G$26,)) -> 65880 | X90: =(Q90+S90+U90)+W90 -> 7905600 | Y90: =X90/Z90 -> 4.392 | Z90: 1800000 | AA90: =Y90*Z90 -> 7905600 | AB90: =A90 -> 61 | AC90: =IFERROR(INDEX('[2]CN BC'!$M$10:$M$276,MATCH(B90,'[2]CN BC'!$H$10:$H$276,0)),"") -> 0
A91: =_xlfn.AGGREGATE(4,7,A$29:A90)+1 -> 62 | B91: Lương Minh Dũng | C91: DŨNG | D91: 0016100006792008 | E91: 1603205286752 | F91: 3.66 | H91: =F91+(F91*G91) -> 3.66 | J91: =VLOOKUP(B91,TH!B82:J414,9,FALSE) -> Nhân viên phòng Khảo thí và ĐBCL | K91: =H91+I91 -> 3.66 | L91: =K91*$G$26 -> 6588000 | M91: =VLOOKUP(B91,'[1]Gui chi Quynh'!$B$11:$E$400,4,FALSE) -> A2 | N91: =IF(M91="A1",L91*1.6,IF(M91="A2",L91*1.4,IF(M91="A3",L91*1.2,IF(M91="A4",L91*1,IF(M91="B1",L91*0.7,IF(M91="B2",L91*0.5,IF(M91="C1",L91*0.3,IF(M91="C2",L91*0.2,0)))))))) -> 9223200 | O91: 21 | P91: =IFERROR(INDEX('[2]CN BC'!$J$10:$J$276,MATCH(B91,'[2]CN BC'!$H$10:$H$276,0)),"") -> 22 | Q91: =IF(P91>=O91,N91,N91/O91*P91) -> 9223200 | S91: =R91*$G$26*0.8 -> 0 | U91: =T91*$G$26*1 -> 0 | V91: =IF(OR(M91="A DN",M91="KXL", M91=""),"0",ROUND(K91*0.01*$G$26+R91*1%*$G$26+T91*1%*$G$26,)) -> 65880 | X91: =(Q91+S91+U91)+W91 -> 9223200 | Y91: =X91/Z91 -> 5.124 | Z91: 1800000 | AA91: =Y91*Z91 -> 9223200 | AB91: =A91 -> 62 | AC91: =IFERROR(INDEX('[2]CN BC'!$M$10:$M$276,MATCH(B91,'[2]CN BC'!$H$10:$H$276,0)),"") -> 0
A92: =_xlfn.AGGREGATE(4,7,A$29:A91)+1 -> 63 | B92: Trương Thị Hồng | D92: 0016100006657006 | E92: 1603205186603 | F92: 3 | H92: =F92+(F92*G92) -> 3 | I92: 0.35 | J92: =VLOOKUP(B92,TH!B83:J415,9,FALSE) -> Nhân viên phòng Khảo thí và ĐBCL | K92: =H92+I92 -> 3.35 | L92: =K92*$G$26 -> 6030000 | M92: =VLOOKUP(B92,'[1]Gui chi Quynh'!$B$11:$E$400,4,FALSE) -> A1 | N92: =IF(M92="A1",L92*1.6,IF(M92="A2",L92*1.4,IF(M92="A3",L92*1.2,IF(M92="A4",L92*1,IF(M92="B1",L92*0.7,IF(M92="B2",L92*0.5,IF(M92="C1",L92*0.3,IF(M92="C2",L92*0.2,0)))))))) -> 9648000 | O92: 21 | P92: =IFERROR(INDEX('[2]CN BC'!$J$10:$J$276,MATCH(B92,'[2]CN BC'!$H$10:$H$276,0)),"") -> 26 | Q92: =IF(P92>=O92,N92,N92/O92*P92) -> 9648000 | S92: =R92*$G$26*1 -> 0 | U92: =T92*$G$26*1 -> 0 | V92: =IF(OR(M92="A DN",M92="KXL", M92=""),"0",ROUND(K92*0.01*$G$26+R92*1%*$G$26+T92*1%*$G$26,)) -> 60300 | X92: =(Q92+S92+U92)+W92 -> 9648000 | Y92: =X92/Z92 -> 5.36 | Z92: 1800000 | AA92: =Y92*Z92 -> 9648000 | AB92: =A92 -> 63 | AC92: =IFERROR(INDEX('[2]CN BC'!$M$10:$M$276,MATCH(B92,'[2]CN BC'!$H$10:$H$276,0)),"") -> 0
A93: =_xlfn.AGGREGATE(4,7,A$29:A92)+1 -> 64 | B93: Nguyễn Hữu Thiện | C93: THIỆN | D93: 0016100006563001 | E93: 1603205185147 | F93: 3.66 | H93: =F93+(F93*G93) -> 3.66 | I93: 0.45 | J93: =VLOOKUP(B93,TH!B84:J416,9,FALSE) -> Trưởng TT Điều hành và QLDL | K93: =H93+I93 -> 4.11 | L93: =K93*$G$26 -> 7398000 | M93: =VLOOKUP(B93,'[1]Gui chi Quynh'!$B$11:$E$400,4,FALSE) -> A1 | N93: =IF(M93="A1",L93*1.6,IF(M93="A2",L93*1.4,IF(M93="A3",L93*1.2,IF(M93="A4",L93*1,IF(M93="B1",L93*0.7,IF(M93="B2",L93*0.5,IF(M93="C1",L93*0.3,IF(M93="C2",L93*0.2,0)))))))) -> 11836800 | O93: 21 | P93: =IFERROR(INDEX('[2]CN BC'!$J$10:$J$276,MATCH(B93,'[2]CN BC'!$H$10:$H$276,0)),"") -> 27 | Q93: =IF(P93>=O93,N93,N93/O93*P93) -> 11836800 | S93: =R93*$G$26*1 -> 0 | U93: =T93*$G$26*1 -> 0 | V93: =IF(OR(M93="A DN",M93="KXL", M93=""),"0",ROUND(K93*0.01*$G$26+R93*1%*$G$26+T93*1%*$G$26,)) -> 73980 | X93: =(Q93+S93+U93)+W93 -> 11836800 | Y93: =X93/Z93 -> 6.576 | Z93: 1800000 | AA93: =Y93*Z93 -> 11836800 | AB93: =A93 -> 64 | AC93: =IFERROR(INDEX('[2]CN BC'!$M$10:$M$276,MATCH(B93,'[2]CN BC'!$H$10:$H$276,0)),"") -> 0
A94: =_xlfn.AGGREGATE(4,7,A$29:A93)+1 -> 65 | B94: Trương Hữu Lộc | C94: LỘC | D94: 0016100006562005 | E94: 1603205246010 | F94: 3.66 | H94: =F94+(F94*G94) -> 3.66 | J94: =VLOOKUP(B94,TH!B85:J417,9,FALSE) -> NV Trung tâm ĐH và QLDL | K94: =H94+I94 -> 3.66 | L94: =K94*$G$26 -> 6588000 | M94: =VLOOKUP(B94,'[1]Gui chi Quynh'!$B$11:$E$400,4,FALSE) -> A2 | N94: =IF(M94="A1",L94*1.6,IF(M94="A2",L94*1.4,IF(M94="A3",L94*1.2,IF(M94="A4",L94*1,IF(M94="B1",L94*0.7,IF(M94="B2",L94*0.5,IF(M94="C1",L94*0.3,IF(M94="C2",L94*0.2,0)))))))) -> 9223200 | O94: 21 | P94: =IFERROR(INDEX('[2]CN BC'!$J$10:$J$276,MATCH(B94,'[2]CN BC'!$H$10:$H$276,0)),"") -> 25 | Q94: =IF(P94>=O94,N94,N94/O94*P94) -> 9223200 | S94: =R94*$G$26*1 -> 0 | U94: =T94*$G$26*1 -> 0 | V94: =IF(OR(M94="A DN",M94="KXL", M94=""),"0",ROUND(K94*0.01*$G$26+R94*1%*$G$26+T94*1%*$G$26,)) -> 65880 | X94: =(Q94+S94+U94)+W94 -> 9223200 | Y94: =X94/Z94 -> 5.124 | Z94: 1800000 | AA94: =Y94*Z94 -> 9223200 | AB94: =A94 -> 65 | AC94: =IFERROR(INDEX('[2]CN BC'!$M$10:$M$276,MATCH(B94,'[2]CN BC'!$H$10:$H$276,0)),"") -> 0
A95: =_xlfn.AGGREGATE(4,7,A$29:A94)+1 -> 66 | B95: Vương Hội Khánh | C95: KHÁNH | D95: 0016100006542004 | E95: 1603205254263 | F95: 3.26 | H95: =F95+(F95*G95) -> 3.26 | J95: =VLOOKUP(B95,TH!B86:J418,9,FALSE) -> Nhân viên TT Điều hành và QLDL | K95: =H95+I95 -> 3.26 | L95: =K95*$G$26 -> 5868000 | M95: =VLOOKUP(B95,'[1]Gui chi Quynh'!$B$11:$E$400,4,FALSE) -> A2 | N95: =IF(M95="A1",L95*1.6,IF(M95="A2",L95*1.4,IF(M95="A3",L95*1.2,IF(M95="A4",L95*1,IF(M95="B1",L95*0.7,IF(M95="B2",L95*0.5,IF(M95="C1",L95*0.3,IF(M95="C2",L95*0.2,0)))))))) -> 8215200 | O95: 21 | P95: =IFERROR(INDEX('[2]CN BC'!$J$10:$J$276,MATCH(B95,'[2]CN BC'!$H$10:$H$276,0)),"") -> 26 | Q95: =IF(P95>=O95,N95,N95/O95*P95) -> 8215200 | S95: =R95*$G$26*1.2 -> 0 | U95: =T95*$G$26*1 -> 0 | V95: =IF(OR(M95="A DN",M95="KXL", M95=""),"0",ROUND(K95*0.01*$G$26+R95*1%*$G$26+T95*1%*$G$26,)) -> 58680 | X95: =(Q95+S95+U95)+W95 -> 8215200 | Y95: =X95/Z95 -> 4.564 | Z95: 1800000 | AA95: =Y95*Z95 -> 8215200 | AB95: =A95 -> 66 | AC95: =IFERROR(INDEX('[2]CN BC'!$M$10:$M$276,MATCH(B95,'[2]CN BC'!$H$10:$H$276,0)),"") -> 0
A96: =_xlfn.AGGREGATE(4,7,A$29:A95)+1 -> 67 | B96: Hồ Ngọc Chi | D96: 0016100007759007 | E96: 1603215005599 | F96: 3.66 | H96: =F96+(F96*G96) -> 3.66 | I96: 0.45 | J96: =VLOOKUP(B96,TH!B87:J419,9,FALSE) -> Phụ trách TT Thư viện | K96: =H96+I96 -> 4.11 | L96: =K96*$G$26 -> 7398000 | M96: =VLOOKUP(B96,'[1]Gui chi Quynh'!$B$11:$E$400,4,FALSE) -> A3 | N96: =IF(M96="A1",L96*1.6,IF(M96="A2",L96*1.4,IF(M96="A3",L96*1.2,IF(M96="A4",L96*1,IF(M96="B1",L96*0.7,IF(M96="B2",L96*0.5,IF(M96="C1",L96*0.3,IF(M96="C2",L96*0.2,0)))))))) -> 8877600 | O96: 21 | P96: =IFERROR(INDEX('[2]CN BC'!$J$10:$J$276,MATCH(B96,'[2]CN BC'!$H$10:$H$276,0)),"") -> 21.5 | Q96: =IF(P96>=O96,N96,N96/O96*P96) -> 8877600 | S96: =R96*$G$26*1 -> 0 | U96: =T96*$G$26*1 -> 0 | V96: =IF(OR(M96="A DN",M96="KXL", M96=""),"0",ROUND(K96*0.01*$G$26+R96*1%*$G$26+T96*1%*$G$26,)) -> 73980 | X96: =(Q96+S96+U96)+W96 -> 8877600 | Y96: =X96/Z96 -> 4.932 | Z96: 1800000 | AA96: =Y96*Z96 -> 8877600 | AB96: =A96 -> 67 | AC96: =IFERROR(INDEX('[2]CN BC'!$M$10:$M$276,MATCH(B96,'[2]CN BC'!$H$10:$H$276,0)),"") -> 0
A97: =_xlfn.AGGREGATE(4,7,A$29:A96)+1 -> 68 | B97: Đặng Thu Hà | C97: HÀ | D97: 0016100006633007 | E97: 1603205246400 | F97: 3.33 | H97: =F97+(F97*G97) -> 3.33 | J97: =VLOOKUP(B97,TH!B88:J420,9,FALSE) -> Nhân viên TT Thư viện | K97: =H97+I97 -> 3.33 | L97: =K97*$G$26 -> 5994000 | M97: =VLOOKUP(B97,'[1]Gui chi Quynh'!$B$11:$E$400,4,FALSE) -> A3 | N97: =IF(M97="A1",L97*1.6,IF(M97="A2",L97*1.4,IF(M97="A3",L97*1.2,IF(M97="A4",L97*1,IF(M97="B1",L97*0.7,IF(M97="B2",L97*0.5,IF(M97="C1",L97*0.3,IF(M97="C2",L97*0.2,0)))))))) -> 7192800 | O97: 21 | P97: =IFERROR(INDEX('[2]CN BC'!$J$10:$J$276,MATCH(B97,'[2]CN BC'!$H$10:$H$276,0)),"") -> 22.5 | Q97: =IF(P97>=O97,N97,N97/O97*P97) -> 7192800 | S97: =R97*$G$26*1 -> 0 | U97: =T97*$G$26*1 -> 0 | V97: =IF(OR(M97="A DN",M97="KXL", M97=""),"0",ROUND(K97*0.01*$G$26+R97*1%*$G$26+T97*1%*$G$26,)) -> 59940 | X97: =(Q97+S97+U97)+W97 -> 7192800 | Y97: =X97/Z97 -> 3.996 | Z97: 1800000 | AA97: =Y97*Z97 -> 7192800 | AB97: =A97 -> 68 | AC97: =IFERROR(INDEX('[2]CN BC'!$M$10:$M$276,MATCH(B97,'[2]CN BC'!$H$10:$H$276,0)),"") -> 0
A98: =_xlfn.AGGREGATE(4,7,A$29:A97)+1 -> 69 | B98: Trần Thị Diễm Thúy | C98: THÚY | D98: 0016100006561009 | E98: 1603205185623 | F98: 3.33 | H98: =F98+(F98*G98) -> 3.33 | J98: =VLOOKUP(B98,TH!B89:J421,9,FALSE) -> Nhân viên TT Thư viện | K98: =H98+I98 -> 3.33 | L98: =K98*$G$26 -> 5994000 | M98: =VLOOKUP(B98,'[1]Gui chi Quynh'!$B$11:$E$400,4,FALSE) -> A3 | N98: =IF(M98="A1",L98*1.6,IF(M98="A2",L98*1.4,IF(M98="A3",L98*1.2,IF(M98="A4",L98*1,IF(M98="B1",L98*0.7,IF(M98="B2",L98*0.5,IF(M98="C1",L98*0.3,IF(M98="C2",L98*0.2,0)))))))) -> 7192800 | O98: 21 | P98: =IFERROR(INDEX('[2]CN BC'!$J$10:$J$276,MATCH(B98,'[2]CN BC'!$H$10:$H$276,0)),"") -> 21.5 | Q98: =IF(P98>=O98,N98,N98/O98*P98) -> 7192800 | S98: =R98*$G$26*1 -> 0 | U98: =T98*$G$26*1 -> 0 | V98: =IF(OR(M98="A DN",M98="KXL", M98=""),"0",ROUND(K98*0.01*$G$26+R98*1%*$G$26+T98*1%*$G$26,)) -> 59940 | X98: =(Q98+S98+U98)+W98 -> 7192800 | Y98: =X98/Z98 -> 3.996 | Z98: 1800000 | AA98: =Y98*Z98 -> 7192800 | AB98: =A98 -> 69 | AC98: =IFERROR(INDEX('[2]CN BC'!$M$10:$M$276,MATCH(B98,'[2]CN BC'!$H$10:$H$276,0)),"") -> 0
A99: =_xlfn.AGGREGATE(4,7,A$29:A98)+1 -> 70 | B99: Nguyễn Tứ Cảnh | C99: CẢNH | D99: 0016100006501006 | E99: 1603205179013 | F99: 4.98 | G99: 0.05 | H99: =F99+(F99*G99) -> 5.229 | J99: =VLOOKUP(B99,TH!B90:J422,9,FALSE) -> Nhân viên TT Thư viện | K99: =H99+I99 -> 5.229 | L99: =K99*$G$26 -> 9412200 | M99: =VLOOKUP(B99,'[1]Gui chi Quynh'!$B$11:$E$400,4,FALSE) -> A4 | N99: =IF(M99="A1",L99*1.6,IF(M99="A2",L99*1.4,IF(M99="A3",L99*1.2,IF(M99="A4",L99*1,IF(M99="B1",L99*0.7,IF(M99="B2",L99*0.5,IF(M99="C1",L99*0.3,IF(M99="C2",L99*0.2,0)))))))) -> 9412200 | O99: 21 | P99: =IFERROR(INDEX('[2]CN BC'!$J$10:$J$276,MATCH(B99,'[2]CN BC'!$H$10:$H$276,0)),"") -> 21 | Q99: =IF(P99>=O99,N99,N99/O99*P99) -> 9412200 | S99: =R99*$G$26*1 -> 0 | U99: =T99*$G$26*1 -> 0 | V99: =IF(OR(M99="A DN",M99="KXL", M99=""),"0",ROUND(K99*0.01*$G$26+R99*1%*$G$26+T99*1%*$G$26,)) -> 94122 | X99: =(Q99+S99+U99)+W99 -> 9412200 | Y99: =X99/Z99 -> 5.229 | Z99: 1800000 | AA99: =Y99*Z99 -> 9412200 | AB99: =A99 -> 70 | AC99: =IFERROR(INDEX('[2]CN BC'!$M$10:$M$276,MATCH(B99,'[2]CN BC'!$H$10:$H$276,0)),"") -> 0
A100: =_xlfn.AGGREGATE(4,7,A$29:A99)+1 -> 71 | B100: Nguyễn Trọng Nghĩa | C100: NGHĨA | D100: 0016100006639008 | E100: 1603215002243 | F100: 4.98 | H100: =F100+(F100*G100) -> 4.98 | I100: 0.45 | J100: =VLOOKUP(B100,TH!B91:J423,9,FALSE) -> Trưởng phòng KHCN & HTQT | K100: =H100+I100 -> 5.43 | L100: =K100*$G$26 -> 9774000 | M100: =VLOOKUP(B100,'[1]Gui chi Quynh'!$B$11:$E$400,4,FALSE) -> A2 | N100: =IF(M100="A1",L100*1.6,IF(M100="A2",L100*1.4,IF(M100="A3",L100*1.2,IF(M100="A4",L100*1,IF(M100="B1",L100*0.7,IF(M100="B2",L100*0.5,IF(M100="C1",L100*0.3,IF(M100="C2",L100*0.2,0)))))))) -> 13683600 | O100: 21 | P100: =IFERROR(INDEX('[2]CN BC'!$J$10:$J$276,MATCH(B100,'[2]CN BC'!$H$10:$H$276,0)),"") -> 21 | Q100: =IF(P100>=O100,N100,N100/O100*P100) -> 13683600 | S100: =R100*$G$26*1 -> 0 | U100: =T100*$G$26*1 -> 0 | V100: =IF(OR(M100="A DN",M100="KXL", M100=""),"0",ROUND(K100*0.01*$G$26+R100*1%*$G$26+T100*1%*$G$26,)) -> 97740 | X100: =(Q100+S100+U100)+W100 -> 13683600 | Y100: =X100/Z100 -> 7.602 | Z100: 1800000 | AA100: =Y100*Z100 -> 13683600 | AB100: =A100 -> 71 | AC100: =IFERROR(INDEX('[2]CN BC'!$M$10:$M$276,MATCH(B100,'[2]CN BC'!$H$10:$H$276,0)),"") -> 0
A101: =_xlfn.AGGREGATE(4,7,A$29:A100)+1 -> 72 | B101: Lương Xuân Thịnh | C101: THỊNH | D101: 0016100006540001 | E101: 1603205354978 | F101: 2.67 | H101: =F101+(F101*G101) -> 2.67 | I101: 0.45 | J101: =VLOOKUP(B101,TH!B92:J424,9,FALSE) -> Giám đốc TT Đào tạo Lý Tự Trọng | K101: =H101+I101 -> 3.12 | L101: =K101*TH.T3!$G$26 -> 5616000 | M101: =VLOOKUP(B101,'[1]Gui chi Quynh'!$B$11:$E$400,4,FALSE) -> A1 | N101: =IF(M101="A1",L101*1.6,IF(M101="A2",L101*1.4,IF(M101="A3",L101*1.2,IF(M101="A4",L101*1,IF(M101="B1",L101*0.7,IF(M101="B2",L101*0.5,IF(M101="C1",L101*0.3,IF(M101="C2",L101*0.2,0)))))))) -> 8985600 | O101: 21 | P101: =IFERROR(INDEX('[2]CN BC'!$J$10:$J$276,MATCH(B101,'[2]CN BC'!$H$10:$H$276,0)),"") -> 31 | Q101: =IF(P101>=O101,N101,N101/O101*P101) -> 8985600 | S101: =R101*TH.T3!$G$26*1 -> 0 | U101: =T101*[3]CN!$G$8*0.65 -> 0 | V101: =IF(OR(M101="A DN",M101="KXL", M101=""),"0",ROUND(K101*0.01*TH.T3!$G$26+R101*1%*TH.T3!$G$26+T101*1%*TH.T3!$G$26,)) -> 56160 | X101: =(Q101+S101+U101)+W101 -> 8985600 | Y101: =X101/Z101 -> 4.992 | Z101: 1800000 | AA101: =Y101*Z101 -> 8985600 | AB101: =A101 -> 72 | AC101: =IFERROR(INDEX('[2]CN BC'!$M$10:$M$276,MATCH(B101,'[2]CN BC'!$H$10:$H$276,0)),"") -> 0
A102: =_xlfn.AGGREGATE(4,7,A$29:A101)+1 -> 73 | B102: Đỗ Thị Tâm | C102: TÂM | D102: 0016100006552007 | E102: 1603205179059 | F102: 3.34 | H102: =F102+(F102*G102) -> 3.34 | I102: 0 | J102: =VLOOKUP(B102,TH!B93:J425,9,FALSE) -> Nhân viên Trung tâm Lý Tự Trọng | K102: =I102+H102 -> 3.34 | L102: =K102*TH.T3!$G$26 -> 6012000 | M102: =VLOOKUP(B102,'[1]Gui chi Quynh'!$B$11:$E$400,4,FALSE) -> A4 | N102: =IF(M102="A1",L102*1.6,IF(M102="A2",L102*1.4,IF(M102="A3",L102*1.2,IF(M102="A4",L102*1,IF(M102="B1",L102*0.7,IF(M102="B2",L102*0.5,IF(M102="C1",L102*0.3,IF(M102="C2",L102*0.2,0)))))))) -> 6012000 | O102: 21 | P102: =IFERROR(INDEX('[2]CN BC'!$J$10:$J$276,MATCH(B102,'[2]CN BC'!$H$10:$H$276,0)),"") -> 28 | Q102: =IF(P102>=O102,N102,N102/O102*P102) -> 6012000 | S102: =R102*$H$27*0.65 -> 0 | U102: =T102*$H$27*0.65 -> 0 | V102: =L102*1% -> 60120 | X102: =(Q102+S102+U102)+W102 -> 6012000 | Y102: =X102/Z102 -> 3.34 | Z102: 1800000 | AA102: =Y102*Z102 -> 6012000 | AB102: =A102 -> 73 | AC102: =IFERROR(INDEX('[2]CN BC'!$M$10:$M$276,MATCH(B102,'[2]CN BC'!$H$10:$H$276,0)),"") -> 0
A103: =_xlfn.AGGREGATE(4,7,A$29:A102)+1 -> 74 | B103: Trịnh Hoàng Hiệp | C103: HIỆP | D103: 0016100006608005 | E103: 1603205458242 | F103: 3.99 | H103: =F103+(F103*G103) -> 3.99 | I103: 0.45 | J103: Trưởng khoa Kinh tế | K103: =H103+I103 -> 4.44 | L103: =K103*$G$26 -> 7992000 | M103: =VLOOKUP(B103,'[1]Gui chi Quynh'!$B$11:$E$400,4,FALSE) -> A1 | N103: =IF(M103="A1",L103*1.6,IF(M103="A2",L103*1.4,IF(M103="A3",L103*1.2,IF(M103="A4",L103*1,IF(M103="B1",L103*0.7,IF(M103="B2",L103*0.5,IF(M103="C1",L103*0.3,IF(M103="C2",L103*0.2,0)))))))) -> 12787200 | O103: 21 | P103: =IFERROR(INDEX('[2]CN BC'!$J$10:$J$276,MATCH(B103,'[2]CN BC'!$H$10:$H$276,0)),"") -> 21 | Q103: =IF(P103>=O103,N103,N103/O103*P103) -> 12787200 | S103: =R103*$G$26*1 -> 0 | U103: =T103*$G$26*1 -> 0 | V103: =IF(OR(M103="A DN",M103="KXL", M103=""),"0",ROUND(K103*0.01*$G$26+R103*1%*$G$26+T103*1%*$G$26,)) -> 79920 | X103: =(Q103+S103+U103)+W103 -> 12787200 | Y103: =X103/Z103 -> 7.104 | Z103: 1800000 | AA103: =Y103*Z103 -> 12787200 | AB103: =A103 -> 74 | AC103: =IFERROR(INDEX('[2]CN BC'!$M$10:$M$276,MATCH(B103,'[2]CN BC'!$H$10:$H$276,0)),"") -> 0 | AD103: 1
A104: =_xlfn.AGGREGATE(4,7,A$29:A103)+1 -> 75 | B104: Trần Thị Ngọc Dung | D104: 0016100006602007 | E104: 1603215003876 | F104: 3 | H104: =F104+(F104*G104) -> 3 | J104: =VLOOKUP(B104,TH!B98:J430,9,FALSE) -> Giảng viên khoa Kinh tế | K104: =H104+I104 -> 3 | L104: =K104*$G$26 -> 5400000 | M104: =VLOOKUP(B104,'[1]Gui chi Quynh'!$B$11:$E$400,4,FALSE) -> A3 | N104: =IF(M104="A1",L104*1.6,IF(M104="A2",L104*1.4,IF(M104="A3",L104*1.2,IF(M104="A4",L104*1,IF(M104="B1",L104*0.7,IF(M104="B2",L104*0.5,IF(M104="C1",L104*0.3,IF(M104="C2",L104*0.2,0)))))))) -> 6480000 | O104: 21 | P104: =IFERROR(INDEX('[2]CN BC'!$J$10:$J$276,MATCH(B104,'[2]CN BC'!$H$10:$H$276,0)),"") -> 21 | Q104: =IF(P104>=O104,N104,N104/O104*P104) -> 6480000 | S104: =R104*$G$26*1 -> 0 | U104: =T104*$G$26*1 -> 0 | V104: =IF(OR(M104="A DN",M104="KXL", M104=""),"0",ROUND(K104*0.01*$G$26+R104*1%*$G$26+T104*1%*$G$26,)) -> 54000 | X104: =(Q104+S104+U104)+W104 -> 6480000 | Y104: =X104/Z104 -> 3.6 | Z104: 1800000 | AA104: =Y104*Z104 -> 6480000 | AB104: =A104 -> 75 | AC104: =IFERROR(INDEX('[2]CN BC'!$M$10:$M$276,MATCH(B104,'[2]CN BC'!$H$10:$H$276,0)),"") -> 0 | AD104: 2
A105: =_xlfn.AGGREGATE(4,7,A$29:A104)+1 -> 76 | B105: Cao Xuân Giang | D105: 0016100007755001 | E105: 1603215005603 | F105: 3 | H105: =F105+(F105*G105) -> 3 | J105: =VLOOKUP(B105,TH!B99:J431,9,FALSE) -> Giảng viên khoa Kinh tế | K105: =H105+I105 -> 3 | L105: =K105*$G$26 -> 5400000 | M105: =VLOOKUP(B105,'[1]Gui chi Quynh'!$B$11:$E$400,4,FALSE) -> A4 | N105: =IF(M105="A1",L105*1.6,IF(M105="A2",L105*1.4,IF(M105="A3",L105*1.2,IF(M105="A4",L105*1,IF(M105="B1",L105*0.7,IF(M105="B2",L105*0.5,IF(M105="C1",L105*0.3,IF(M105="C2",L105*0.2,0)))))))) -> 5400000 | O105: 21 | P105: =IFERROR(INDEX('[2]CN BC'!$J$10:$J$276,MATCH(B105,'[2]CN BC'!$H$10:$H$276,0)),"") -> 21 | Q105: =IF(P105>=O105,N105,N105/O105*P105) -> 5400000 | S105: =R105*$G$26*1 -> 0 | U105: =T105*$G$26*1 -> 0 | V105: =IF(OR(M105="A DN",M105="KXL", M105=""),"0",ROUND(K105*0.01*$G$26+R105*1%*$G$26+T105*1%*$G$26,)) -> 54000 | X105: =(Q105+S105+U105)+W105 -> 5400000 | Y105: =X105/Z105 -> 3 | Z105: 1800000 | AA105: =Y105*Z105 -> 5400000 | AB105: =A105 -> 76 | AC105: =IFERROR(INDEX('[2]CN BC'!$M$10:$M$276,MATCH(B105,'[2]CN BC'!$H$10:$H$276,0)),"") -> 0 | AD105: 3
...

Sheet TH
A1: ỦY BAN NHÂN DÂN TP.HCM | U1: CỘNG HÒA XÃ HỘI CHỦ NGHĨA VIỆT NAM
A2: TRƯỜNG CAO ĐẲNG LÝ TỰ TRỌNG | Z2: Độc lập - Tự do - Hạnh phúc
A3: THÀNH PHỐ HỒ CHÍ MINH | AB3: Mẫu C04-HD
AB4: (Ban hành theo TT số: 107/2017/TT-BTC
AB5: ngày 10/10/2017 của Bộ Tài chính)
A6: BẢNG THANH TOÁN THU NHẬP TĂNG THÊM
A7: Tháng 02 năm 2024
A8: ỦY BAN NHÂN DÂN TP.HCM | S8: CỘNG HÒA XÃ HỘI CHỦ NGHĨA VIỆT NAM
A9: TRƯỜNG CAO ĐẲNG LÝ TỰ TRỌNG | S9: Độc lập - Tự do - Hạnh phúc
A10: THÀNH PHỐ HỒ CHÍ MINH
A12: BẢNG THU NHẬP TĂNG THÊM - LƯƠNG THEO HỆ SỐ ĐIỀU CHỈNH THÁNG 01 NĂM 2024
A13: CÁN BỘ VIÊN CHỨC TRONG CHỈ TIÊU BIÊN CHẾ
A14: (Chi theo Chương II - "Những quy định cụ thể"/ Mục 2 - "Chi thanh toán cá nhân"/ Điều 17 - "Các khoản thanh toán cá nhân"/ Khoản b - "Thu nhập tăng thêm" trong Quy chế chi tiêu nội bộ năm 2023 ban hành kèm theo Quyết định số 739/QĐ-LTT-KHTC ngày 02 tháng 11 năm 2022)
A15: Mức lương tối thiểu hệ số 1 = 1.800.000 | C15: 1490000 | G15: 1800000 | W15: Đơn vị tính: đồng
A18: STT | B18: HỌ VÀ TÊN | D18: Số tài khoản thẻ ATM OCB | E18: Số tài khoản thẻ ATM AGRIBANK | F18: HS (hide) | G18: VK (hide) | H18: HS THỰC HƯỞNG (hide) | I18: HSPC (hide) | J18: CẤP BẬC CHỨC VỤ | K18: HS LƯƠNG +PCCV | L18: CỘNG LƯƠNG (hide) | M18: XẾP LOẠI | N18: Mức lương theo hệ số điều chỉnh | O18: Số ngày công kế hoạch | P18: Số ngày công thực hiện | Q18: Lương điều chỉnh tính theo ngày công thực hiện/tháng | R18: HỆ SỐ TRUY LÃNH LƯƠNG (CỘT NÀY HIDE) | S18: Truy lãnh lương điều chỉnh do truy lãnh lương | T18: HỆ SỐ TRUY LÃNH PCCV (CỘT NÀY HIDE) | U18: Truy lãnh lương điều chỉnh do truy lãnh PCCV | V18: Trường hỗ trợ 1% BHYT | W18: THÀNH TIỀN | X18: Truy lãnh ABC T01/2024 | Y18: Thực lãnh | Z18: Hệ số chia thêm | AA18: Mức chia thêm | AB18: Thành tiền | AC18: Ghi chú
A19: A | B19: B | F19: 03 | G19: 04 | H19: 05 | I19: 06 | J19: C | K19: 2 | L19: 3 = 1 x 2 | N19: D | O19: 06 | P19: 07 | Q19: 08 | R19: 16 | S19: 09 | T19: 18 | U19: 10 | V19: Bỏ | W19: 11 | Z19: 1 | AA19: 2 | AB19: 3 = 1 x 2 | AD19: D
B20: Biên chế
A21: =_xlfn.AGGREGATE(4,7,A$19:A19)+1 -> 1 | B21: Phạm Hữu Lộc | C21: LỘC | D21: 0016100006544007 | E21: 1603215001126 | F21: 5.76 | G21: 0 | H21: =F21+(F21*G21) -> 5.76 | I21: 0.9 | J21: =VLOOKUP(B21,[4]CN!$B$33:$J$365,9,FALSE) -> Hiệu trưởng | K21: =H21+I21 -> 6.66 | L21: =K21*$G$15 -> 11988000 | M21: =VLOOKUP(B21,'[5]Gui chi Quynh'!$B$11:$E$400,4,FALSE) -> A1 | N21: =IF(M21="A1",L21*1.6,IF(M21="A2",L21*1.4,IF(M21="A3",L21*1.2,IF(M21="A4",L21*1,IF(M21="B1",L21*0.7,IF(M21="B2",L21*0.5,IF(M21="C1",L21*0.3,IF(M21="C2",L21*0.2,0)))))))) -> 19180800 | O21: 16 | P21: =IFERROR(INDEX('[6]CN BC'!$J$10:$J$277,MATCH(B21,'[6]CN BC'!$H$10:$H$277,0)),"") -> 23 | Q21: =IF(P21>=O21,N21,N21/O21*P21) -> 19180800 | S21: =R21*$G$15*1.6 -> 0 | U21: =T21*$G$15*1 -> 0 | V21: =IF(OR(M21="A DN",M21="KXL", M21=""),"0",ROUND(K21*0.01*$G$15+R21*1%*$G$15+T21*1%*$G$15,)) -> 119880 | W21: =(Q21+S21+U21) -> 19180800 | X21: =IFERROR(INDEX([7]TL!$X$12:$X$200,MATCH(B21,[7]TL!$B$12:$B$200,0)),"0") -> 0 | Y21: =ROUND(W21+X21,0) -> 19180800 | Z21: =Y21/AA21 -> 10.656 | AA21: 1800000 | AB21: =Z21*AA21 -> 19180800 | AC21: =A21 -> 1 | AD21: =IFERROR(INDEX('[6]CN BC'!$M$10:$M$276,MATCH(B21,'[6]CN BC'!$H$10:$H$276,0)),"") -> 0 | AE21: BGH
A22: =_xlfn.AGGREGATE(4,7,A$19:A21)+1 -> 2 | B22: Đinh Văn Đệ | C22: ĐỆ | D22: 0016100006699008 | E22: 1603215001371 | F22: 4.98 | G22: 0.07 | H22: =F22+(F22*G22) -> 5.3286 | I22: 0.7 | J22: =VLOOKUP(B22,[4]CN!$B$33:$J$365,9,FALSE) -> Phó Hiệu trưởng | K22: =H22+I22 -> 6.0286 | L22: =K22*$G$15 -> 10851480 | M22: =VLOOKUP(B22,'[5]Gui chi Quynh'!$B$11:$E$400,4,FALSE) -> A1 | N22: =IF(M22="A1",L22*1.6,IF(M22="A2",L22*1.4,IF(M22="A3",L22*1.2,IF(M22="A4",L22*1,IF(M22="B1",L22*0.7,IF(M22="B2",L22*0.5,IF(M22="C1",L22*0.3,IF(M22="C2",L22*0.2,0)))))))) -> 17362368 | O22: 16 | P22: =IFERROR(INDEX('[6]CN BC'!$J$10:$J$277,MATCH(B22,'[6]CN BC'!$H$10:$H$277,0)),"") -> 21 | Q22: =IF(P22>=O22,N22,N22/O22*P22) -> 17362368 | S22: =R22*$G$15*1.6 -> 0 | U22: =T22*$G$15*1 -> 0 | V22: =IF(OR(M22="A DN",M22="KXL", M22=""),"0",ROUND(K22*0.01*$G$15+R22*1%*$G$15+T22*1%*$G$15,)) -> 108515 | W22: =(Q22+S22+U22) -> 17362368 | X22: =IFERROR(INDEX([7]TL!$X$12:$X$200,MATCH(B22,[7]TL!$B$12:$B$200,0)),"0") -> 0 | Y22: =W22+X22 -> 17362368 | Z22: =Y22/AA22 -> 9.64576 | AA22: 1800000 | AB22: =Z22*AA22 -> 17362368 | AC22: =A22 -> 2 | AD22: =IFERROR(INDEX('[6]CN BC'!$M$10:$M$276,MATCH(B22,'[6]CN BC'!$H$10:$H$276,0)),"") -> 0 | AE22: BGH
A23: =_xlfn.AGGREGATE(4,7,A$19:A22)+1 -> 3 | B23: Đinh Hồng Minh | C23: MINH | D23: 0016100006543008 | E23: 1603205186191 | F23: 4.98 | G23: 0.08 | H23: =F23+(F23*G23) -> 5.3784 | I23: 0.7 | J23: =VLOOKUP(B23,[4]CN!$B$33:$J$365,9,FALSE) -> Phó Hiệu trưởng | K23: =H23+I23 -> 6.0784 | L23: =K23*$G$15 -> 10941120 | M23: =VLOOKUP(B23,'[5]Gui chi Quynh'!$B$11:$E$400,4,FALSE) -> A1 | N23: =IF(M23="A1",L23*1.6,IF(M23="A2",L23*1.4,IF(M23="A3",L23*1.2,IF(M23="A4",L23*1,IF(M23="B1",L23*0.7,IF(M23="B2",L23*0.5,IF(M23="C1",L23*0.3,IF(M23="C2",L23*0.2,0)))))))) -> 17505792 | O23: 16 | P23: =IFERROR(INDEX('[6]CN BC'!$J$10:$J$277,MATCH(B23,'[6]CN BC'!$H$10:$H$277,0)),"") -> 22 | Q23: =IF(P23>=O23,N23,N23/O23*P23) -> 17505792 | S23: =R23*$G$15*1.6 -> 0 | U23: =T23*$G$15*1 -> 0 | V23: =IF(OR(M23="A DN",M23="KXL", M23=""),"0",ROUND(K23*0.01*$G$15+R23*1%*$G$15+T23*1%*$G$15,)) -> 109411 | W23: =(Q23+S23+U23) -> 17505792 | X23: =IFERROR(INDEX([7]TL!$X$12:$X$200,MATCH(B23,[7]TL!$B$12:$B$200,0)),"0") -> 0 | Y23: =W23+X23 -> 17505792 | Z23: =Y23/AA23 -> 9.72544 | AA23: 1800000 | AB23: =Z23*AA23 -> 17505792 | AC23: =A23 -> 3 | AD23: =IFERROR(INDEX('[6]CN BC'!$M$10:$M$276,MATCH(B23,'[6]CN BC'!$H$10:$H$276,0)),"") -> 0 | AE23: BGH
A24: =_xlfn.AGGREGATE(4,7,A$19:A23)+1 -> 4 | B24: Châu Văn Bảo | D24: 0016100006674008 | E24: 1603215001359 | F24: 4.65 | H24: =F24+(F24*G24) -> 4.65 | I24: 0.7 | J24: =VLOOKUP(B24,[4]CN!$B$33:$J$365,9,FALSE) -> Phó Hiệu trưởng | K24: =H24+I24 -> 5.35 | L24: =K24*$G$15 -> 9630000 | M24: =VLOOKUP(B24,'[5]Gui chi Quynh'!$B$11:$E$400,4,FALSE) -> A1 | N24: =IF(M24="A1",L24*1.6,IF(M24="A2",L24*1.4,IF(M24="A3",L24*1.2,IF(M24="A4",L24*1,IF(M24="B1",L24*0.7,IF(M24="B2",L24*0.5,IF(M24="C1",L24*0.3,IF(M24="C2",L24*0.2,0)))))))) -> 15408000 | O24: 16 | P24: =IFERROR(INDEX('[6]CN BC'!$J$10:$J$277,MATCH(B24,'[6]CN BC'!$H$10:$H$277,0)),"") -> 20 | Q24: =IF(P24>=O24,N24,N24/O24*P24) -> 15408000 | S24: =R24*$G$15*1 -> 0 | U24: =T24*$G$15*1 -> 0 | V24: =IF(OR(M24="A DN",M24="KXL", M24=""),"0",ROUND(K24*0.01*$G$15+R24*1%*$G$15+T24*1%*$G$15,)) -> 96300 | W24: =(Q24+S24+U24) -> 15408000 | X24: =IFERROR(INDEX([7]TL!$X$12:$X$200,MATCH(B24,[7]TL!$B$12:$B$200,0)),"0") -> 0 | Y24: =W24+X24 -> 15408000 | Z24: =Y24/AA24 -> 8.56 | AA24: 1800000 | AB24: =Z24*AA24 -> 15408000 | AC24: =A24 -> 4 | AD24: =IFERROR(INDEX('[6]CN BC'!$M$10:$M$276,MATCH(B24,'[6]CN BC'!$H$10:$H$276,0)),"") -> 0 | AE24: BGH
A25: =_xlfn.AGGREGATE(4,7,A$19:A24)+1 -> 5 | B25: Lâm Viết Dũng | C25: DŨNG | D25: 0016106868686866 | E25: 1603215002237 | F25: 4.98 | G25: 0.05 | H25: =F25+(F25*G25) -> 5.229 | I25: 0.45 | J25: =VLOOKUP(B25,[4]CN!$B$33:$J$365,9,FALSE) -> Trưởng phòng TC - HC - TH | K25: =H25+I25 -> 5.679 | L25: =K25*$G$15 -> 10222200 | M25: =VLOOKUP(B25,'[5]Gui chi Quynh'!$B$11:$E$400,4,FALSE) -> A1 | N25: =IF(M25="A1",L25*1.6,IF(M25="A2",L25*1.4,IF(M25="A3",L25*1.2,IF(M25="A4",L25*1,IF(M25="B1",L25*0.7,IF(M25="B2",L25*0.5,IF(M25="C1",L25*0.3,IF(M25="C2",L25*0.2,0)))))))) -> 16355520 | O25: 16 | P25: =IFERROR(INDEX('[6]CN BC'!$J$10:$J$277,MATCH(B25,'[6]CN BC'!$H$10:$H$277,0)),"") -> 23 | Q25: =IF(P25>=O25,N25,N25/O25*P25) -> 16355520 | S25: =R25*$G$15*1 -> 0 | U25: =T25*$G$15*1 -> 0 | V25: =IF(OR(M25="A DN",M25="KXL", M25=""),"0",ROUND(K25*0.01*$G$15+R25*1%*$G$15+T25*1%*$G$15,)) -> 102222 | W25: =(Q25+S25+U25) -> 16355520 | X25: =IFERROR(INDEX([7]TL!$X$12:$X$200,MATCH(B25,[7]TL!$B$12:$B$200,0)),"0") -> 0 | Y25: =W25+X25 -> 16355520 | Z25: =Y25/AA25 -> 9.0864 | AA25: 1800000 | AB25: =Z25*AA25 -> 16355520 | AC25: =A25 -> 5 | AD25: =IFERROR(INDEX('[6]CN BC'!$M$10:$M$276,MATCH(B25,'[6]CN BC'!$H$10:$H$276,0)),"") -> 0 | AE25: TCHC
A26: =_xlfn.AGGREGATE(4,7,A$19:A25)+1 -> 6 | B26: Lưu Hoàng Hải Yến | C26: YẾN | D26: 0016100006799005 | E26: 1603205353720 | F26: 3.33 | H26: =F26+(F26*G26) -> 3.33 | I26: 0.35 | J26: =VLOOKUP(B26,[4]CN!$B$33:$J$365,9,FALSE) -> Phó Trưởng phòng Tổ chức - Hành chính - TH | K26: =H26+I26 -> 3.68 | L26: =K26*$G$15 -> 6624000 | M26: =VLOOKUP(B26,'[5]Gui chi Quynh'!$B$11:$E$400,4,FALSE) -> A1 | N26: =IF(M26="A1",L26*1.6,IF(M26="A2",L26*1.4,IF(M26="A3",L26*1.2,IF(M26="A4",L26*1,IF(M26="B1",L26*0.7,IF(M26="B2",L26*0.5,IF(M26="C1",L26*0.3,IF(M26="C2",L26*0.2,0)))))))) -> 10598400 | O26: 16 | P26: =IFERROR(INDEX('[6]CN BC'!$J$10:$J$277,MATCH(B26,'[6]CN BC'!$H$10:$H$277,0)),"") -> 18 | Q26: =IF(P26>=O26,N26,N26/O26*P26) -> 10598400 | S26: =R26*$G$15*1 -> 0 | U26: =T26*$G$15*1 -> 0 | V26: =IF(OR(M26="A DN",M26="KXL", M26=""),"0",ROUND(K26*0.01*$G$15+R26*1%*$G$15+T26*1%*$G$15,)) -> 66240 | W26: =(Q26+S26+U26) -> 10598400 | X26: =IFERROR(INDEX([7]TL!$X$12:$X$200,MATCH(B26,[7]TL!$B$12:$B$200,0)),"0") -> 0 | Y26: =W26+X26 -> 10598400 | Z26: =Y26/AA26 -> 5.888 | AA26: 1800000 | AB26: =Z26*AA26 -> 10598400 | AC26: =A26 -> 6 | AD26: =IFERROR(INDEX('[6]CN BC'!$M$10:$M$276,MATCH(B26,'[6]CN BC'!$H$10:$H$276,0)),"") -> 0 | AE26: TCHC
A27: =_xlfn.AGGREGATE(4,7,A$19:A26)+1 -> 7 | B27: Huỳnh Thị Minh Ly | C27: LY | D27: 0016100006518006 | E27: 1603205185719 | F27: 3 | H27: =F27+(F27*G27) -> 3 | I27: 0.35 | J27: =VLOOKUP(B27,[4]CN!$B$33:$J$365,9,FALSE) -> Phó Trưởng phòng Tổ chức - Hành chính - TH | K27: =H27+I27 -> 3.35 | L27: =K27*$G$15 -> 6030000 | M27: =VLOOKUP(B27,'[5]Gui chi Quynh'!$B$11:$E$400,4,FALSE) -> A1 | N27: =IF(M27="A1",L27*1.6,IF(M27="A2",L27*1.4,IF(M27="A3",L27*1.2,IF(M27="A4",L27*1,IF(M27="B1",L27*0.7,IF(M27="B2",L27*0.5,IF(M27="C1",L27*0.3,IF(M27="C2",L27*0.2,0)))))))) -> 9648000 | O27: 16 | P27: =IFERROR(INDEX('[6]CN BC'!$J$10:$J$277,MATCH(B27,'[6]CN BC'!$H$10:$H$277,0)),"") -> 22 | Q27: =IF(P27>=O27,N27,N27/O27*P27) -> 9648000 | S27: =R27*$G$15*1 -> 0 | U27: =T27*$G$15*1 -> 0 | V27: =IF(OR(M27="A DN",M27="KXL", M27=""),"0",ROUND(K27*0.01*$G$15+R27*1%*$G$15+T27*1%*$G$15,)) -> 60300 | W27: =(Q27+S27+U27) -> 9648000 | X27: =IFERROR(INDEX([7]TL!$X$12:$X$200,MATCH(B27,[7]TL!$B$12:$B$200,0)),"0") -> 0 | Y27: =W27+X27 -> 9648000 | Z27: =Y27/AA27 -> 5.36 | AA27: 1800000 | AB27: =Z27*AA27 -> 9648000 | AC27: =A27 -> 7 | AD27: =IFERROR(INDEX('[6]CN BC'!$M$10:$M$276,MATCH(B27,'[6]CN BC'!$H$10:$H$276,0)),"") -> 0 | AE27: TCHC | AF27: =52+50+124+99 -> 325
A28: =_xlfn.AGGREGATE(4,7,A$19:A27)+1 -> 8 | B28: Phan Thị Ngọc Phượng | C28: PHƯỢNG | D28: 0016100006635002 | E28: 1603205186162 | F28: 3.66 | H28: =F28+(F28*G28) -> 3.66 | J28: =VLOOKUP(B28,[4]CN!$B$33:$J$365,9,FALSE) -> NV Phòng Tổ chức - Hành chính - Tổng hợp | K28: =H28+I28 -> 3.66 | L28: =K28*$G$15 -> 6588000 | M28: =VLOOKUP(B28,'[5]Gui chi Quynh'!$B$11:$E$400,4,FALSE) -> A1 | N28: =IF(M28="A1",L28*1.6,IF(M28="A2",L28*1.4,IF(M28="A3",L28*1.2,IF(M28="A4",L28*1,IF(M28="B1",L28*0.7,IF(M28="B2",L28*0.5,IF(M28="C1",L28*0.3,IF(M28="C2",L28*0.2,0)))))))) -> 10540800 | O28: 16 | P28: =IFERROR(INDEX('[6]CN BC'!$J$10:$J$277,MATCH(B28,'[6]CN BC'!$H$10:$H$277,0)),"") -> 17 | Q28: =IF(P28>=O28,N28,N28/O28*P28) -> 10540800 | S28: =R28*$G$15*1 -> 0 | U28: =T28*$G$15*1 -> 0 | V28: =IF(OR(M28="A DN",M28="KXL", M28=""),"0",ROUND(K28*0.01*$G$15+R28*1%*$G$15+T28*1%*$G$15,)) -> 65880 | W28: =(Q28+S28+U28) -> 10540800 | X28: =IFERROR(INDEX([7]TL!$X$12:$X$200,MATCH(B28,[7]TL!$B$12:$B$200,0)),"0") -> 0 | Y28: =W28+X28 -> 10540800 | Z28: =Y28/AA28 -> 5.856 | AA28: 1800000 | AB28: =Z28*AA28 -> 10540800 | AC28: =A28 -> 8 | AD28: =IFERROR(INDEX('[6]CN BC'!$M$10:$M$276,MATCH(B28,'[6]CN BC'!$H$10:$H$276,0)),"") -> 0 | AE28: TCHC
A29: =_xlfn.AGGREGATE(4,7,A$19:A28)+1 -> 9 | B29: Vũ Như Quỳnh | C29: QUỲNH | D29: 0016100006771003 | E29: 1603205186127 | F29: 3.66 | H29: =F29+(F29*G29) -> 3.66 | J29: =VLOOKUP(B29,[4]CN!$B$33:$J$365,9,FALSE) -> NV Phòng Tổ chức - Hành chính - Tổng hợp | K29: =H29+I29 -> 3.66 | L29: =K29*$G$15 -> 6588000 | M29: =VLOOKUP(B29,'[5]Gui chi Quynh'!$B$11:$E$400,4,FALSE) -> A1 | N29: =IF(M29="A1",L29*1.6,IF(M29="A2",L29*1.4,IF(M29="A3",L29*1.2,IF(M29="A4",L29*1,IF(M29="B1",L29*0.7,IF(M29="B2",L29*0.5,IF(M29="C1",L29*0.3,IF(M29="C2",L29*0.2,0)))))))) -> 10540800 | O29: 16 | P29: =IFERROR(INDEX('[6]CN BC'!$J$10:$J$277,MATCH(B29,'[6]CN BC'!$H$10:$H$277,0)),"") -> 16.5 | Q29: =IF(P29>=O29,N29,N29/O29*P29) -> 10540800 | S29: =R29*$G$15*1 -> 0 | U29: =T29*$G$15*1 -> 0 | V29: =IF(OR(M29="A DN",M29="KXL", M29=""),"0",ROUND(K29*0.01*$G$15+R29*1%*$G$15+T29*1%*$G$15,)) -> 65880 | W29: =(Q29+S29+U29) -> 10540800 | X29: =IFERROR(INDEX([7]TL!$X$12:$X$200,MATCH(B29,[7]TL!$B$12:$B$200,0)),"0") -> 0 | Y29: =W29+X29 -> 10540800 | Z29: =Y29/AA29 -> 5.856 | AA29: 1800000 | AB29: =Z29*AA29 -> 10540800 | AC29: =A29 -> 9 | AD29: =IFERROR(INDEX('[6]CN BC'!$M$10:$M$276,MATCH(B29,'[6]CN BC'!$H$10:$H$276,0)),"") -> 0 | AE29: TCHC
A30: =_xlfn.AGGREGATE(4,7,A$19:A29)+1 -> 10 | B30: Nguyễn Thị Bích Liễu | C30: LIỄU | D30: 0016100006663006 | E30: 1603205249292 | F30: 3.46 | H30: =F30+(F30*G30) -> 3.46 | J30: =VLOOKUP(B30,[4]CN!$B$33:$J$365,9,FALSE) -> NV Phòng Tổ chức - Hành chính - Tổng hợp | K30: =H30+I30 -> 3.46 | L30: =K30*$G$15 -> 6228000 | M30: =VLOOKUP(B30,'[5]Gui chi Quynh'!$B$11:$E$400,4,FALSE) -> A1 | N30: =IF(M30="A1",L30*1.6,IF(M30="A2",L30*1.4,IF(M30="A3",L30*1.2,IF(M30="A4",L30*1,IF(M30="B1",L30*0.7,IF(M30="B2",L30*0.5,IF(M30="C1",L30*0.3,IF(M30="C2",L30*0.2,0)))))))) -> 9964800 | O30: 16 | P30: =IFERROR(INDEX('[6]CN BC'!$J$10:$J$277,MATCH(B30,'[6]CN BC'!$H$10:$H$277,0)),"") -> 17 | Q30: =IF(P30>=O30,N30,N30/O30*P30) -> 9964800 | S30: =R30*$G$15*1 -> 0 | U30: =T30*$G$15*1 -> 0 | V30: =IF(OR(M30="A DN",M30="KXL", M30=""),"0",ROUND(K30*0.01*$G$15+R30*1%*$G$15+T30*1%*$G$15,)) -> 62280 | W30: =(Q30+S30+U30) -> 9964800 | X30: =IFERROR(INDEX([7]TL!$X$12:$X$200,MATCH(B30,[7]TL!$B$12:$B$200,0)),"0") -> 0 | Y30: =W30+X30 -> 9964800 | Z30: =Y30/AA30 -> 5.536 | AA30: 1800000 | AB30: =Z30*AA30 -> 9964800 | AC30: =A30 -> 10 | AD30: =IFERROR(INDEX('[6]CN BC'!$M$10:$M$276,MATCH(B30,'[6]CN BC'!$H$10:$H$276,0)),"") -> 0 | AE30: TCHC
A31: =_xlfn.AGGREGATE(4,7,A$19:A30)+1 -> 11 | B31: Nguyễn Văn Chì | C31: CHÌ | D31: 0016100006765003 | E31: 1603205280047 | F31: 3.66 | H31: =F31+(F31*G31) -> 3.66 | J31: =VLOOKUP(B31,[4]CN!$B$33:$J$365,9,FALSE) -> NV Phòng Tổ chức - Hành chính - Tổng hợp | K31: =H31+I31 -> 3.66 | L31: =K31*$G$15 -> 6588000 | M31: =VLOOKUP(B31,'[5]Gui chi Quynh'!$B$11:$E$400,4,FALSE) -> A4 | N31: =IF(M31="A1",L31*1.6,IF(M31="A2",L31*1.4,IF(M31="A3",L31*1.2,IF(M31="A4",L31*1,IF(M31="B1",L31*0.7,IF(M31="B2",L31*0.5,IF(M31="C1",L31*0.3,IF(M31="C2",L31*0.2,0)))))))) -> 6588000 | O31: 16 | P31: =IFERROR(INDEX('[6]CN BC'!$J$10:$J$277,MATCH(B31,'[6]CN BC'!$H$10:$H$277,0)),"") -> 14 | Q31: =IF(P31>=O31,N31,N31/O31*P31) -> 5764500 | S31: =R31*$G$15*1 -> 0 | U31: =T31*$G$15*1 -> 0 | V31: =IF(OR(M31="A DN",M31="KXL", M31=""),"0",ROUND(K31*0.01*$G$15+R31*1%*$G$15+T31*1%*$G$15,)) -> 65880 | W31: =(Q31+S31+U31) -> 5764500 | X31: =IFERROR(INDEX([7]TL!$X$12:$X$200,MATCH(B31,[7]TL!$B$12:$B$200,0)),"0") -> 0 | Y31: =W31+X31 -> 5764500 | Z31: =Y31/AA31 -> 3.2025 | AA31: 1800000 | AB31: =Z31*AA31 -> 5764500 | AC31: =A31 -> 11 | AD31: =IFERROR(INDEX('[6]CN BC'!$M$10:$M$276,MATCH(B31,'[6]CN BC'!$H$10:$H$276,0)),"") -> 0 | AE31: TCHC
A32: =_xlfn.AGGREGATE(4,7,A$19:A31)+1 -> 12 | B32: Trần Thị Ánh Phượng | C32: PHƯỢNG | D32: 0016100006767006 | E32: 1603205246134 | F32: 3.33 | H32: =F32+(F32*G32) -> 3.33 | J32: =VLOOKUP(B32,[4]CN!$B$33:$J$365,9,FALSE) -> NV Phòng Tổ chức - Hành chính - Tổng hợp | K32: =H32+I32 -> 3.33 | L32: =K32*$G$15 -> 5994000 | M32: =VLOOKUP(B32,'[5]Gui chi Quynh'!$B$11:$E$400,4,FALSE) -> A1 | N32: =IF(M32="A1",L32*1.6,IF(M32="A2",L32*1.4,IF(M32="A3",L32*1.2,IF(M32="A4",L32*1,IF(M32="B1",L32*0.7,IF(M32="B2",L32*0.5,IF(M32="C1",L32*0.3,IF(M32="C2",L32*0.2,0)))))))) -> 9590400 | O32: 16 | P32: =IFERROR(INDEX('[6]CN BC'!$J$10:$J$277,MATCH(B32,'[6]CN BC'!$H$10:$H$277,0)),"") -> 16.5 | Q32: =IF(P32>=O32,N32,N32/O32*P32) -> 9590400 | S32: =R32*$G$15*1 -> 0 | U32: =T32*$G$15*1 -> 0 | V32: =IF(OR(M32="A DN",M32="KXL", M32=""),"0",ROUND(K32*0.01*$G$15+R32*1%*$G$15+T32*1%*$G$15,)) -> 59940 | W32: =(Q32+S32+U32) -> 9590400 | X32: =IFERROR(INDEX([7]TL!$X$12:$X$200,MATCH(B32,[7]TL!$B$12:$B$200,0)),"0") -> 0 | Y32: =W32+X32 -> 9590400 | Z32: =Y32/AA32 -> 5.328 | AA32: 1800000 | AB32: =Z32*AA32 -> 9590400 | AC32: =A32 -> 12 | AD32: =IFERROR(INDEX('[6]CN BC'!$M$10:$M$276,MATCH(B32,'[6]CN BC'!$H$10:$H$276,0)),"") -> 0 | AE32: TCHC
A33: =_xlfn.AGGREGATE(4,7,A$19:A32)+1 -> 13 | B33: Trần Thị Phương Oanh | C33: OANH | D33: 0016100006576006 | E33: 1603205178794 | F33: 3.66 | H33: =F33+(F33*G33) -> 3.66 | J33: =VLOOKUP(B33,[4]CN!$B$33:$J$365,9,FALSE) -> NV Phòng Tổ chức - Hành chính - Tổng hợp | K33: =H33+I33 -> 3.66 | L33: =K33*$G$15 -> 6588000 | M33: =VLOOKUP(B33,'[5]Gui chi Quynh'!$B$11:$E$400,4,FALSE) -> A3 | N33: =IF(M33="A1",L33*1.6,IF(M33="A2",L33*1.4,IF(M33="A3",L33*1.2,IF(M33="A4",L33*1,IF(M33="B1",L33*0.7,IF(M33="B2",L33*0.5,IF(M33="C1",L33*0.3,IF(M33="C2",L33*0.2,0)))))))) -> 7905600 | O33: 16 | P33: =IFERROR(INDEX('[6]CN BC'!$J$10:$J$277,MATCH(B33,'[6]CN BC'!$H$10:$H$277,0)),"") -> 16 | Q33: =IF(P33>=O33,N33,N33/O33*P33) -> 7905600 | S33: =R33*$G$15*1.4 -> 0 | U33: =T33*$G$15*1 -> 0 | V33: =IF(OR(M33="A DN",M33="KXL", M33=""),"0",ROUND(K33*0.01*$G$15+R33*1%*$G$15+T33*1%*$G$15,)) -> 65880 | W33: =(Q33+S33+U33) -> 7905600 | X33: =IFERROR(INDEX([7]TL!$X$12:$X$200,MATCH(B33,[7]TL!$B$12:$B$200,0)),"0") -> 0 | Y33: =W33+X33 -> 7905600 | Z33: =Y33/AA33 -> 4.392 | AA33: 1800000 | AB33: =Z33*AA33 -> 7905600 | AC33: =A33 -> 13 | AD33: =IFERROR(INDEX('[6]CN BC'!$M$10:$M$276,MATCH(B33,'[6]CN BC'!$H$10:$H$276,0)),"") -> 0 | AE33: TCHC
A34: =_xlfn.AGGREGATE(4,7,A$19:A33)+1 -> 14 | B34: Thân Thị Nhung | C34: NHUNG | D34: 0016100006832002 | E34: 1603205360856 | F34: 3.33 | H34: =F34+(F34*G34) -> 3.33 | J34: =VLOOKUP(B34,[4]CN!$B$33:$J$365,9,FALSE) -> NV Phòng Tổ chức - Hành chính - Tổng hợp | K34: =H34+I34 -> 3.33 | L34: =K34*$G$15 -> 5994000 | M34: =VLOOKUP(B34,'[5]Gui chi Quynh'!$B$11:$E$400,4,FALSE) -> A4 | N34: =IF(M34="A1",L34*1.6,IF(M34="A2",L34*1.4,IF(M34="A3",L34*1.2,IF(M34="A4",L34*1,IF(M34="B1",L34*0.7,IF(M34="B2",L34*0.5,IF(M34="C1",L34*0.3,IF(M34="C2",L34*0.2,0)))))))) -> 5994000 | O34: 16 | P34: =IFERROR(INDEX('[6]CN BC'!$J$10:$J$277,MATCH(B34,'[6]CN BC'!$H$10:$H$277,0)),"") -> 13 | Q34: =IF(P34>=O34,N34,N34/O34*P34) -> 4870125 | S34: =R34*$G$15*1 -> 0 | U34: =T34*$G$15*1 -> 0 | V34: =IF(OR(M34="A DN",M34="KXL", M34=""),"0",ROUND(K34*0.01*$G$15+R34*1%*$G$15+T34*1%*$G$15,)) -> 59940 | W34: =(Q34+S34+U34) -> 4870125 | X34: =IFERROR(INDEX([7]TL!$X$12:$X$200,MATCH(B34,[7]TL!$B$12:$B$200,0)),"0") -> 0 | Y34: =W34+X34 -> 4870125 | Z34: =Y34/AA34 -> 2.705625 | AA34: 1800000 | AB34: =Z34*AA34 -> 4870125 | AC34: =A34 -> 14 | AD34: =IFERROR(INDEX('[6]CN BC'!$M$10:$M$276,MATCH(B34,'[6]CN BC'!$H$10:$H$276,0)),"") -> Trừ 3 ngày nghỉ phép 5+6+7/2 | AE34: TCHC
A35: =_xlfn.AGGREGATE(4,7,A$19:A34)+1 -> 15 | B35: Nguyễn Thị Vân | C35: VÂN | D35: 0016100006864001 | E35: 1603205545491 | F35: 2.41 | H35: =F35+(F35*G35) -> 2.41 | J35: =VLOOKUP(B35,[4]CN!$B$33:$J$365,9,FALSE) -> NV Phòng Tổ chức - Hành chính - Tổng hợp | K35: =H35+I35 -> 2.41 | L35: =K35*$G$15 -> 4338000 | M35: =VLOOKUP(B35,'[5]Gui chi Quynh'!$B$11:$E$400,4,FALSE) -> A2 | N35: =IF(M35="A1",L35*1.6,IF(M35="A2",L35*1.4,IF(M35="A3",L35*1.2,IF(M35="A4",L35*1,IF(M35="B1",L35*0.7,IF(M35="B2",L35*0.5,IF(M35="C1",L35*0.3,IF(M35="C2",L35*0.2,0)))))))) -> 6073200 | O35: 16 | P35: =IFERROR(INDEX('[6]CN BC'!$J$10:$J$277,MATCH(B35,'[6]CN BC'!$H$10:$H$277,0)),"") -> 18 | Q35: =IF(P35>=O35,N35,N35/O35*P35) -> 6073200 | S35: =R35*$G$15*1 -> 0 | U35: =T35*$G$15*1 -> 0 | V35: =IF(OR(M35="A DN",M35="KXL", M35=""),"0",ROUND(K35*0.01*$G$15+R35*1%*$G$15+T35*1%*$G$15,)) -> 43380 | W35: =(Q35+S35+U35) -> 6073200 | X35: =IFERROR(INDEX([7]TL!$X$12:$X$200,MATCH(B35,[7]TL!$B$12:$B$200,0)),"0") -> 0 | Y35: =W35+X35 -> 6073200 | Z35: =Y35/AA35 -> 3.374 | AA35: 1800000 | AB35: =Z35*AA35 -> 6073200 | AC35: =A35 -> 15 | AD35: =IFERROR(INDEX('[6]CN BC'!$M$10:$M$276,MATCH(B35,'[6]CN BC'!$H$10:$H$276,0)),"") -> 0
A36: =_xlfn.AGGREGATE(4,7,A$19:A35)+1 -> 16 | B36: Lê Thị Hải Đăng | F36: 3.66 | H36: =F36+(F36*G36) -> 3.66 | J36: =VLOOKUP(B36,[4]CN!$B$33:$J$365,9,FALSE) -> NV Phòng Tổ chức - Hành chính - Tổng hợp | K36: =H36+I36 -> 3.66 | L36: =K36*$G$15 -> 6588000 | M36: =VLOOKUP(B36,'[5]Gui chi Quynh'!$B$11:$E$400,4,FALSE) -> A3 | N36: =IF(M36="A1",L36*1.6,IF(M36="A2",L36*1.4,IF(M36="A3",L36*1.2,IF(M36="A4",L36*1,IF(M36="B1",L36*0.7,IF(M36="B2",L36*0.5,IF(M36="C1",L36*0.3,IF(M36="C2",L36*0.2,0)))))))) -> 7905600 | O36: 16 | P36: =IFERROR(INDEX('[6]CN BC'!$J$10:$J$277,MATCH(B36,'[6]CN BC'!$H$10:$H$277,0)),"") -> 16 | Q36: =IF(P36>=O36,N36,N36/O36*P36) -> 7905600 | S36: =R36*$G$15*1 -> 0 | U36: =T36*$G$15*1 -> 0 | V36: =IF(OR(M36="A DN",M36="KXL", M36=""),"0",ROUND(K36*0.01*$G$15+R36*1%*$G$15+T36*1%*$G$15,)) -> 65880 | W36: =(Q36+S36+U36) -> 7905600 | X36: =IFERROR(INDEX([7]TL!$X$12:$X$200,MATCH(B36,[7]TL!$B$12:$B$200,0)),"0") -> 0 | Y36: =W36+X36 -> 7905600 | Z36: =Y36/AA36 -> 4.392 | AA36: 1800000 | AB36: =Z36*AA36 -> 7905600 | AC36: =A36 -> 16 | AD36: =IFERROR(INDEX('[6]CN BC'!$M$10:$M$276,MATCH(B36,'[6]CN BC'!$H$10:$H$276,0)),"") -> 0
A37: =_xlfn.AGGREGATE(4,7,A$19:A36)+1 -> 17 | B37: Lê Quang Liêm | C37: LIÊM | D37: 0016100006806001 | E37: 1603215001365 | F37: 4.98 | G37: 0.05 | H37: =F37+(F37*G37) -> 5.229 | I37: 0.45 | J37: =VLOOKUP(B37,[4]CN!$B$33:$J$365,9,FALSE) -> Trưởng phòng Quản trị - Dịch vụ | K37: =H37+I37 -> 5.679 | L37: =K37*$G$15 -> 10222200 | M37: =VLOOKUP(B37,'[5]Gui chi Quynh'!$B$11:$E$400,4,FALSE) -> A1 | N37: =IF(M37="A1",L37*1.6,IF(M37="A2",L37*1.4,IF(M37="A3",L37*1.2,IF(M37="A4",L37*1,IF(M37="B1",L37*0.7,IF(M37="B2",L37*0.5,IF(M37="C1",L37*0.3,IF(M37="C2",L37*0.2,0)))))))) -> 16355520 | O37: 16 | P37: =IFERROR(INDEX('[6]CN BC'!$J$10:$J$277,MATCH(B37,'[6]CN BC'!$H$10:$H$277,0)),"") -> 19 | Q37: =IF(P37>=O37,N37,N37/O37*P37) -> 16355520 | S37: =R37*$G$15*1 -> 0 | U37: =T37*$G$15*1 -> 0 | V37: =IF(OR(M37="A DN",M37="KXL", M37=""),"0",ROUND(K37*0.01*$G$15+R37*1%*$G$15+T37*1%*$G$15,)) -> 102222 | W37: =(Q37+S37+U37) -> 16355520 | X37: =IFERROR(INDEX([7]TL!$X$12:$X$200,MATCH(B37,[7]TL!$B$12:$B$200,0)),"0") -> 0 | Y37: =W37+X37 -> 16355520 | Z37: =Y37/AA37 -> 9.0864 | AA37: 1800000 | AB37: =Z37*AA37 -> 16355520 | AC37: =A37 -> 17 | AD37: =IFERROR(INDEX('[6]CN BC'!$M$10:$M$276,MATCH(B37,'[6]CN BC'!$H$10:$H$276,0)),"") -> 0
A38: =_xlfn.AGGREGATE(4,7,A$19:A37)+1 -> 18 | B38: Nguyễn Văn Thành | C38: THÀNH | D38: 0016100006495006 | E38: 1603205182190 | F38: 4.98 | G38: 0.07 | H38: =F38+(F38*G38) -> 5.3286 | I38: 0.35 | J38: =VLOOKUP(B38,[4]CN!$B$33:$J$365,9,FALSE) -> Phó TP. Quản trị - Dịch vụ | K38: =H38+I38 -> 5.6786 | L38: =K38*$G$15 -> 10221480 | M38: =VLOOKUP(B38,'[5]Gui chi Quynh'!$B$11:$E$400,4,FALSE) -> A1 | N38: =IF(M38="A1",L38*1.6,IF(M38="A2",L38*1.4,IF(M38="A3",L38*1.2,IF(M38="A4",L38*1,IF(M38="B1",L38*0.7,IF(M38="B2",L38*0.5,IF(M38="C1",L38*0.3,IF(M38="C2",L38*0.2,0)))))))) -> 16354368 | O38: 16 | P38: =IFERROR(INDEX('[6]CN BC'!$J$10:$J$277,MATCH(B38,'[6]CN BC'!$H$10:$H$277,0)),"") -> 19 | Q38: =IF(P38>=O38,N38,N38/O38*P38) -> 16354368 | S38: =R38*$G$15*1 -> 0 | U38: =T38*$G$15*1 -> 0 | V38: =IF(OR(M38="A DN",M38="KXL", M38=""),"0",ROUND(K38*0.01*$G$15+R38*1%*$G$15+T38*1%*$G$15,)) -> 102215 | W38: =(Q38+S38+U38) -> 16354368 | X38: =IFERROR(INDEX([7]TL!$X$12:$X$200,MATCH(B38,[7]TL!$B$12:$B$200,0)),"0") -> 0 | Y38: =W38+X38 -> 16354368 | Z38: =Y38/AA38 -> 9.08576 | AA38: 1800000 | AB38: =Z38*AA38 -> 16354368 | AC38: =A38 -> 18 | AD38: =IFERROR(INDEX('[6]CN BC'!$M$10:$M$276,MATCH(B38,'[6]CN BC'!$H$10:$H$276,0)),"") -> 0
A39: =_xlfn.AGGREGATE(4,7,A$19:A38)+1 -> 19 | B39: Nguyễn Trọng Phú | C39: PHÚ | D39: 0016100006505001 | E39: 1603205185935 | F39: 3.65 | H39: =F39+(F39*G39) -> 3.65 | I39: 0.25 | J39: =VLOOKUP(B39,[4]CN!$B$33:$J$365,9,FALSE) -> NV Phòng Quản trị - Dịch vụ | K39: =H39+I39 -> 3.9 | L39: =K39*$G$15 -> 7020000 | M39: =VLOOKUP(B39,'[5]Gui chi Quynh'!$B$11:$E$400,4,FALSE) -> A4 | N39: =IF(M39="A1",L39*1.6,IF(M39="A2",L39*1.4,IF(M39="A3",L39*1.2,IF(M39="A4",L39*1,IF(M39="B1",L39*0.7,IF(M39="B2",L39*0.5,IF(M39="C1",L39*0.3,IF(M39="C2",L39*0.2,0)))))))) -> 7020000 | O39: 16 | P39: =IFERROR(INDEX('[6]CN BC'!$J$10:$J$277,MATCH(B39,'[6]CN BC'!$H$10:$H$277,0)),"") -> 14 | Q39: =IF(P39>=O39,N39,N39/O39*P39) -> 6142500 | S39: =R39*$G$15*1 -> 0 | U39: =T39*$G$15*1 -> 0 | V39: =IF(OR(M39="A DN",M39="KXL", M39=""),"0",ROUND(K39*0.01*$G$15+R39*1%*$G$15+T39*1%*$G$15,)) -> 70200 | W39: =(Q39+S39+U39) -> 6142500 | X39: =IFERROR(INDEX([7]TL!$X$12:$X$200,MATCH(B39,[7]TL!$B$12:$B$200,0)),"0") -> 0 | Y39: =W39+X39 -> 6142500 | Z39: =Y39/AA39 -> 3.4125 | AA39: 1800000 | AB39: =Z39*AA39 -> 6142500 | AC39: =A39 -> 19 | AD39: =IFERROR(INDEX('[6]CN BC'!$M$10:$M$276,MATCH(B39,'[6]CN BC'!$H$10:$H$276,0)),"") -> Trừ 4 ngày nghỉ phép 5+6+7+15/2
A40: =_xlfn.AGGREGATE(4,7,A$19:A39)+1 -> 20 | B40: Vũ Ngọc Quang | C40: QUANG | D40: 0016100006807008 | E40: 1603205185912 | F40: 3.26 | H40: =F40+(F40*G40) -> 3.26 | J40: =VLOOKUP(B40,[4]CN!$B$33:$J$365,9,FALSE) -> NV Phòng Quản trị - Dịch vụ | K40: =H40+I40 -> 3.26 | L40: =K40*$G$15 -> 5868000 | M40: =VLOOKUP(B40,'[5]Gui chi Quynh'!$B$11:$E$400,4,FALSE) -> A3 | N40: =IF(M40="A1",L40*1.6,IF(M40="A2",L40*1.4,IF(M40="A3",L40*1.2,IF(M40="A4",L40*1,IF(M40="B1",L40*0.7,IF(M40="B2",L40*0.5,IF(M40="C1",L40*0.3,IF(M40="C2",L40*0.2,0)))))))) -> 7041600 | O40: 16 | P40: =IFERROR(INDEX('[6]CN BC'!$J$10:$J$277,MATCH(B40,'[6]CN BC'!$H$10:$H$277,0)),"") -> 15 | Q40: =IF(P40>=O40,N40,N40/O40*P40) -> 6601500 | S40: =R40*$G$15*1 -> 0 | U40: =T40*$G$15*1 -> 0 | V40: =IF(OR(M40="A DN",M40="KXL", M40=""),"0",ROUND(K40*0.01*$G$15+R40*1%*$G$15+T40*1%*$G$15,)) -> 58680 | W40: =(Q40+S40+U40) -> 6601500 | X40: =IFERROR(INDEX([7]TL!$X$12:$X$200,MATCH(B40,[7]TL!$B$12:$B$200,0)),"0") -> 0 | Y40: =W40+X40 -> 6601500 | Z40: =Y40/AA40 -> 3.6675 | AA40: 1800000 | AB40: =Z40*AA40 -> 6601500 | AC40: =A40 -> 20 | AD40: =IFERROR(INDEX('[6]CN BC'!$M$10:$M$276,MATCH(B40,'[6]CN BC'!$H$10:$H$276,0)),"") -> Trừ 1 ngày nghỉ phép 7/2
A41: =_xlfn.AGGREGATE(4,7,A$19:A40)+1 -> 21 | B41: Giáp Văn Thịnh | C41: THỊNH | D41: 0016100006599006 | E41: 1603205246157 | F41: 3.46 | H41: =F41+(F41*G41) -> 3.46 | J41: =VLOOKUP(B41,[4]CN!$B$33:$J$365,9,FALSE) -> Nhân viên phòng Quản trị - Dịch vụ | K41: =H41+I41 -> 3.46 | L41: =K41*$G$15 -> 6228000 | M41: =VLOOKUP(B41,'[5]Gui chi Quynh'!$B$11:$E$400,4,FALSE) -> A1 | N41: =IF(M41="A1",L41*1.6,IF(M41="A2",L41*1.4,IF(M41="A3",L41*1.2,IF(M41="A4",L41*1,IF(M41="B1",L41*0.7,IF(M41="B2",L41*0.5,IF(M41="C1",L41*0.3,IF(M41="C2",L41*0.2,0)))))))) -> 9964800 | O41: 16 | P41: =IFERROR(INDEX('[6]CN BC'!$J$10:$J$277,MATCH(B41,'[6]CN BC'!$H$10:$H$277,0)),"") -> 16 | Q41: =IF(P41>=O41,N41,N41/O41*P41) -> 9964800 | S41: =R41*$G$15*1 -> 0 | U41: =T41*$G$15*1 -> 0 | V41: =IF(OR(M41="A DN",M41="KXL", M41=""),"0",ROUND(K41*0.01*$G$15+R41*1%*$G$15+T41*1%*$G$15,)) -> 62280 | W41: =(Q41+S41+U41) -> 9964800 | X41: =IFERROR(INDEX([7]TL!$X$12:$X$200,MATCH(B41,[7]TL!$B$12:$B$200,0)),"0") -> 0 | Y41: =W41+X41 -> 9964800 | Z41: =Y41/AA41 -> 5.536 | AA41: 1800000 | AB41: =Z41*AA41 -> 9964800 | AC41: =A41 -> 21 | AD41: =IFERROR(INDEX('[6]CN BC'!$M$10:$M$276,MATCH(B41,'[6]CN BC'!$H$10:$H$276,0)),"") -> 0
A42: =_xlfn.AGGREGATE(4,7,A$19:A41)+1 -> 22 | B42: Lê Hồng Anh Tuấn | C42: TUẤN | D42: 0016100006493003 | E42: 1603205348129 | F42: 3.34 | H42: =F42+(F42*G42) -> 3.34 | J42: =VLOOKUP(B42,[4]CN!$B$33:$J$365,9,FALSE) -> Nhân viên phòng Quản trị - Dịch vụ | K42: =H42+I42 -> 3.34 | L42: =K42*$G$15 -> 6012000 | M42: =VLOOKUP(B42,'[5]Gui chi Quynh'!$B$11:$E$400,4,FALSE) -> A1 | N42: =IF(M42="A1",L42*1.6,IF(M42="A2",L42*1.4,IF(M42="A3",L42*1.2,IF(M42="A4",L42*1,IF(M42="B1",L42*0.7,IF(M42="B2",L42*0.5,IF(M42="C1",L42*0.3,IF(M42="C2",L42*0.2,0)))))))) -> 9619200 | O42: 16 | P42: =IFERROR(INDEX('[6]CN BC'!$J$10:$J$277,MATCH(B42,'[6]CN BC'!$H$10:$H$277,0)),"") -> 16 | Q42: =IF(P42>=O42,N42,N42/O42*P42) -> 9619200 | S42: =R42*$G$15*1 -> 0 | U42: =T42*$G$15*1 -> 0 | V42: =IF(OR(M42="A DN",M42="KXL", M42=""),"0",ROUND(K42*0.01*$G$15+R42*1%*$G$15+T42*1%*$G$15,)) -> 60120 | W42: =(Q42+S42+U42) -> 9619200 | X42: =IFERROR(INDEX([7]TL!$X$12:$X$200,MATCH(B42,[7]TL!$B$12:$B$200,0)),"0") -> 0 | Y42: =W42+X42 -> 9619200 | Z42: =Y42/AA42 -> 5.344 | AA42: 1800000 | AB42: =Z42*AA42 -> 9619200 | AC42: =A42 -> 22 | AD42: =IFERROR(INDEX('[6]CN BC'!$M$10:$M$276,MATCH(B42,'[6]CN BC'!$H$10:$H$276,0)),"") -> 0
A43: =_xlfn.AGGREGATE(4,7,A$19:A42)+1 -> 23 | B43: Ninh Đỗ Hiệp | C43: HIỆP | D43: 0016100006690003 | E43: 1603205245965 | F43: 3.66 | H43: =F43+(F43*G43) -> 3.66 | J43: =VLOOKUP(B43,[4]CN!$B$33:$J$365,9,FALSE) -> Nhân viên phòng Quản trị - Dịch vụ | K43: =H43+I43 -> 3.66 | L43: =K43*$G$15 -> 6588000 | M43: =VLOOKUP(B43,'[5]Gui chi Quynh'!$B$11:$E$400,4,FALSE) -> A3 | N43: =IF(M43="A1",L43*1.6,IF(M43="A2",L43*1.4,IF(M43="A3",L43*1.2,IF(M43="A4",L43*1,IF(M43="B1",L43*0.7,IF(M43="B2",L43*0.5,IF(M43="C1",L43*0.3,IF(M43="C2",L43*0.2,0)))))))) -> 7905600 | O43: 16 | P43: =IFERROR(INDEX('[6]CN BC'!$J$10:$J$277,MATCH(B43,'[6]CN BC'!$H$10:$H$277,0)),"") -> 16 | Q43: =IF(P43>=O43,N43,N43/O43*P43) -> 7905600 | S43: =R43*$G$15*1 -> 0 | U43: =T43*$G$15*1 -> 0 | V43: =IF(OR(M43="A DN",M43="KXL", M43=""),"0",ROUND(K43*0.01*$G$15+R43*1%*$G$15+T43*1%*$G$15,)) -> 65880 | W43: =(Q43+S43+U43) -> 7905600 | X43: =IFERROR(INDEX([7]TL!$X$12:$X$200,MATCH(B43,[7]TL!$B$12:$B$200,0)),"0") -> 0 | Y43: =W43+X43 -> 7905600 | Z43: =Y43/AA43 -> 4.392 | AA43: 1800000 | AB43: =Z43*AA43 -> 7905600 | AC43: =A43 -> 23 | AD43: =IFERROR(INDEX('[6]CN BC'!$M$10:$M$276,MATCH(B43,'[6]CN BC'!$H$10:$H$276,0)),"") -> 0
A44: =_xlfn.AGGREGATE(4,7,A$19:A43)+1 -> 24 | B44: Nguyễn Tiến Việt Dũng | C44: DŨNG | D44: 0016100006678003 | E44: 1603205357238 | F44: 3.03 | H44: =F44+(F44*G44) -> 3.03 | J44: =VLOOKUP(B44,[4]CN!$B$33:$J$365,9,FALSE) -> Nhân viên P. QT-DV | K44: =H44+I44 -> 3.03 | L44: =K44*$G$15 -> 5454000 | M44: =VLOOKUP(B44,'[5]Gui chi Quynh'!$B$11:$E$400,4,FALSE) -> A4 | N44: =IF(M44="A1",L44*1.6,IF(M44="A2",L44*1.4,IF(M44="A3",L44*1.2,IF(M44="A4",L44*1,IF(M44="B1",L44*0.7,IF(M44="B2",L44*0.5,IF(M44="C1",L44*0.3,IF(M44="C2",L44*0.2,0)))))))) -> 5454000 | O44: 16 | P44: =IFERROR(INDEX('[6]CN BC'!$J$10:$J$277,MATCH(B44,'[6]CN BC'!$H$10:$H$277,0)),"") -> 16 | Q44: =IF(P44>=O44,N44,N44/O44*P44) -> 5454000 | S44: =R44*$G$15*1 -> 0 | U44: =T44*$G$15*1 -> 0 | V44: =IF(OR(M44="A DN",M44="KXL", M44=""),"0",ROUND(K44*0.01*$G$15+R44*1%*$G$15+T44*1%*$G$15,)) -> 54540 | W44: =(Q44+S44+U44) -> 5454000 | X44: =IFERROR(INDEX([7]TL!$X$12:$X$200,MATCH(B44,[7]TL!$B$12:$B$200,0)),"0") -> 0 | Y44: =W44+X44 -> 5454000 | Z44: =Y44/AA44 -> 3.03 | AA44: 1800000 | AB44: =Z44*AA44 -> 5454000 | AC44: =A44 -> 24 | AD44: =IFERROR(INDEX('[6]CN BC'!$M$10:$M$276,MATCH(B44,'[6]CN BC'!$H$10:$H$276,0)),"") -> 0
A45: =_xlfn.AGGREGATE(4,7,A$19:A44)+1 -> 25 | B45: Bùi Đặng Hoàng Tuấn | C45: TUẤN | D45: 0016100006679007 | E45: 1603205302590 | F45: 3.34 | H45: =F45+(F45*G45) -> 3.34 | J45: =VLOOKUP(B45,[4]CN!$B$33:$J$365,9,FALSE) -> Nhân viên P. QT-DV | K45: =H45+I45 -> 3.34 | L45: =K45*$G$15 -> 6012000 | M45: =VLOOKUP(B45,'[5]Gui chi Quynh'!$B$11:$E$400,4,FALSE) -> A3 | N45: =IF(M45="A1",L45*1.6,IF(M45="A2",L45*1.4,IF(M45="A3",L45*1.2,IF(M45="A4",L45*1,IF(M45="B1",L45*0.7,IF(M45="B2",L45*0.5,IF(M45="C1",L45*0.3,IF(M45="C2",L45*0.2,0)))))))) -> 7214400 | O45: 16 | P45: =IFERROR(INDEX('[6]CN BC'!$J$10:$J$277,MATCH(B45,'[6]CN BC'!$H$10:$H$277,0)),"") -> 16 | Q45: =IF(P45>=O45,N45,N45/O45*P45) -> 7214400 | S45: =R45*$G$15*1 -> 0 | U45: =T45*$G$15*1 -> 0 | V45: =IF(OR(M45="A DN",M45="KXL", M45=""),"0",ROUND(K45*0.01*$G$15+R45*1%*$G$15+T45*1%*$G$15,)) -> 60120 | W45: =(Q45+S45+U45) -> 7214400 | X45: =IFERROR(INDEX([7]TL!$X$12:$X$200,MATCH(B45,[7]TL!$B$12:$B$200,0)),"0") -> 0 | Y45: =W45+X45 -> 7214400 | Z45: =Y45/AA45 -> 4.008 | AA45: 1800000 | AB45: =Z45*AA45 -> 7214400 | AC45: =A45 -> 25 | AD45: =IFERROR(INDEX('[6]CN BC'!$M$10:$M$276,MATCH(B45,'[6]CN BC'!$H$10:$H$276,0)),"") -> 0
A46: =_xlfn.AGGREGATE(4,7,A$19:A45)+1 -> 26 | B46: Nguyễn Cao Thắng | C46: THẮNG | D46: 0016100006770007 | E46: 1603205431614 | F46: 3 | H46: =F46+(F46*G46) -> 3 | I46: 0.35 | J46: =VLOOKUP(B46,[4]CN!$B$33:$J$365,9,FALSE) -> NV P. QT Dịch vụ | K46: =H46+I46 -> 3.35 | L46: =K46*$G$15 -> 6030000 | M46: =VLOOKUP(B46,'[5]Gui chi Quynh'!$B$11:$E$400,4,FALSE) -> A1 | N46: =IF(M46="A1",L46*1.6,IF(M46="A2",L46*1.4,IF(M46="A3",L46*1.2,IF(M46="A4",L46*1,IF(M46="B1",L46*0.7,IF(M46="B2",L46*0.5,IF(M46="C1",L46*0.3,IF(M46="C2",L46*0.2,0)))))))) -> 9648000 | O46: 16 | P46: =IFERROR(INDEX('[6]CN BC'!$J$10:$J$277,MATCH(B46,'[6]CN BC'!$H$10:$H$277,0)),"") -> 19 | Q46: =IF(P46>=O46,N46,N46/O46*P46) -> 9648000 | S46: =R46*$G$15*1.6 -> 0 | U46: =T46*$G$15*1 -> 0 | V46: =IF(OR(M46="A DN",M46="KXL", M46=""),"0",ROUND(K46*0.01*$G$15+R46*1%*$G$15+T46*1%*$G$15,)) -> 60300 | W46: =(Q46+S46+U46) -> 9648000 | X46: =IFERROR(INDEX([7]TL!$X$12:$X$200,MATCH(B46,[7]TL!$B$12:$B$200,0)),"0") -> 0 | Y46: =W46+X46 -> 9648000 | Z46: =Y46/AA46 -> 5.36 | AA46: 1800000 | AB46: =Z46*AA46 -> 9648000 | AC46: =A46 -> 26 | AD46: =IFERROR(INDEX('[6]CN BC'!$M$10:$M$276,MATCH(B46,'[6]CN BC'!$H$10:$H$276,0)),"") -> 0
A47: =_xlfn.AGGREGATE(4,7,A$19:A46)+1 -> 27 | B47: Võ Tấn Kiệt | D47: 0016100006511001 | E47: 1603215002809 | F47: 2.67 | H47: =F47+(F47*G47) -> 2.67 | J47: =VLOOKUP(B47,[4]CN!$B$33:$J$365,9,FALSE) -> NV P. QT Dịch vụ | K47: =H47+I47 -> 2.67 | L47: =K47*$G$15 -> 4806000 | M47: =VLOOKUP(B47,'[5]Gui chi Quynh'!$B$11:$E$400,4,FALSE) -> A3 | N47: =IF(M47="A1",L47*1.6,IF(M47="A2",L47*1.4,IF(M47="A3",L47*1.2,IF(M47="A4",L47*1,IF(M47="B1",L47*0.7,IF(M47="B2",L47*0.5,IF(M47="C1",L47*0.3,IF(M47="C2",L47*0.2,0)))))))) -> 5767200 | O47: 16 | P47: =IFERROR(INDEX('[6]CN BC'!$J$10:$J$277,MATCH(B47,'[6]CN BC'!$H$10:$H$277,0)),"") -> 16 | Q47: =IF(P47>=O47,N47,N47/O47*P47) -> 5767200 | S47: =R47*$G$15*1 -> 0 | U47: =T47*$G$15*1 -> 0 | V47: =IF(OR(M47="A DN",M47="KXL", M47=""),"0",ROUND(K47*0.01*$G$15+R47*1%*$G$15+T47*1%*$G$15,)) -> 48060 | W47: =(Q47+S47+U47) -> 5767200 | X47: =IFERROR(INDEX([7]TL!$X$12:$X$200,MATCH(B47,[7]TL!$B$12:$B$200,0)),"0") -> 0 | Y47: =W47+X47 -> 5767200 | Z47: =Y47/AA47 -> 3.204 | AA47: 1800000 | AB47: =Z47*AA47 -> 5767200 | AC47: =A47 -> 27 | AD47: =IFERROR(INDEX('[6]CN BC'!$M$10:$M$276,MATCH(B47,'[6]CN BC'!$H$10:$H$276,0)),"") -> 0
A48: =_xlfn.AGGREGATE(4,7,A$19:A47)+1 -> 28 | B48: Phan Đức Long | C48: LONG | D48: 0016100006708007 | E48: 1603205179180 | F48: 4.98 | G48: 0.05 | H48: =F48+(F48*G48) -> 5.229 | I48: 0.25 | J48: =VLOOKUP(B48,[4]CN!$B$33:$J$365,9,FALSE) -> Nhân viên phòng Quản trị - Dịch vụ | K48: =H48+I48 -> 5.479 | L48: =K48*$G$15 -> 9862200 | M48: =VLOOKUP(B48,'[5]Gui chi Quynh'!$B$11:$E$400,4,FALSE) -> A3 | N48: =IF(M48="A1",L48*1.6,IF(M48="A2",L48*1.4,IF(M48="A3",L48*1.2,IF(M48="A4",L48*1,IF(M48="B1",L48*0.7,IF(M48="B2",L48*0.5,IF(M48="C1",L48*0.3,IF(M48="C2",L48*0.2,0)))))))) -> 11834640 | O48: 16 | P48: =IFERROR(INDEX('[6]CN BC'!$J$10:$J$277,MATCH(B48,'[6]CN BC'!$H$10:$H$277,0)),"") -> 19 | Q48: =IF(P48>=O48,N48,N48/O48*P48) -> 11834640 | S48: =R48*$G$15*1 -> 0 | U48: =T48*$G$15*1 -> 0 | V48: =IF(OR(M48="A DN",M48="KXL", M48=""),"0",ROUND(K48*0.01*$G$15+R48*1%*$G$15+T48*1%*$G$15,)) -> 98622 | W48: =(Q48+S48+U48) -> 11834640 | X48: =IFERROR(INDEX([7]TL!$X$12:$X$200,MATCH(B48,[7]TL!$B$12:$B$200,0)),"0") -> 0 | Y48: =W48+X48 -> 11834640 | Z48: =Y48/AA48 -> 6.5748 | AA48: 1800000 | AB48: =Z48*AA48 -> 11834640 | AC48: =A48 -> 28 | AD48: =IFERROR(INDEX('[6]CN BC'!$M$10:$M$276,MATCH(B48,'[6]CN BC'!$H$10:$H$276,0)),"") -> 0
A49: =_xlfn.AGGREGATE(4,7,A$19:A48)+1 -> 29 | B49: Bùi Thị Dương | C49: DƯƠNG | D49: 0016100006716002 | E49: 1603205182619 | F49: 3.66 | H49: =F49+(F49*G49) -> 3.66 | J49: =VLOOKUP(B49,[4]CN!$B$33:$J$365,9,FALSE) -> Nhân viên phòng Quản trị - Dịch vụ | K49: =H49+I49 -> 3.66 | L49: =K49*$G$15 -> 6588000 | M49: =VLOOKUP(B49,'[5]Gui chi Quynh'!$B$11:$E$400,4,FALSE) -> A4 | N49: =IF(M49="A1",L49*1.6,IF(M49="A2",L49*1.4,IF(M49="A3",L49*1.2,IF(M49="A4",L49*1,IF(M49="B1",L49*0.7,IF(M49="B2",L49*0.5,IF(M49="C1",L49*0.3,IF(M49="C2",L49*0.2,0)))))))) -> 6588000 | O49: 16 | P49: =IFERROR(INDEX('[6]CN BC'!$J$10:$J$277,MATCH(B49,'[6]CN BC'!$H$10:$H$277,0)),"") -> 19 | Q49: =IF(P49>=O49,N49,N49/O49*P49) -> 6588000 | S49: =R49*$G$15*0.8 -> 0 | U49: =T49*$G$15*1 -> 0 | V49: =IF(OR(M49="A DN",M49="KXL", M49=""),"0",ROUND(K49*0.01*$G$15+R49*1%*$G$15+T49*1%*$G$15,)) -> 65880 | W49: =(Q49+S49+U49) -> 6588000 | X49: =IFERROR(INDEX([7]TL!$X$12:$X$200,MATCH(B49,[7]TL!$B$12:$B$200,0)),"0") -> 0 | Y49: =W49+X49 -> 6588000 | Z49: =Y49/AA49 -> 3.66 | AA49: 1800000 | AB49: =Z49*AA49 -> 6588000 | AC49: =A49 -> 29 | AD49: =IFERROR(INDEX('[6]CN BC'!$M$10:$M$276,MATCH(B49,'[6]CN BC'!$H$10:$H$276,0)),"") -> 0
A50: =_xlfn.AGGREGATE(4,7,A$19:A49)+1 -> 30 | B50: Phan Hữu Tước | F50: 4.06 | G50: 0.1 | H50: =F50+(F50*G50) -> 4.466 | I50: 0.35 | J50: =VLOOKUP(B50,[4]CN!$B$33:$J$365,9,FALSE) -> Nhân viên phòng Quản trị - Dịch vụ | K50: =H50+I50 -> 4.816 | L50: =K50*$G$15 -> 8668800 | M50: =VLOOKUP(B50,'[5]Gui chi Quynh'!$B$11:$E$400,4,FALSE) -> A1 | N50: =IF(M50="A1",L50*1.6,IF(M50="A2",L50*1.4,IF(M50="A3",L50*1.2,IF(M50="A4",L50*1,IF(M50="B1",L50*0.7,IF(M50="B2",L50*0.5,IF(M50="C1",L50*0.3,IF(M50="C2",L50*0.2,0)))))))) -> 13870080 | O50: 16 | P50: =IFERROR(INDEX('[6]CN BC'!$J$10:$J$277,MATCH(B50,'[6]CN BC'!$H$10:$H$277,0)),"") -> 19 | Q50: =IF(P50>=O50,N50,N50/O50*P50) -> 13870080 | S50: =R50*$G$15*0.8 -> 0 | U50: =T50*$G$15*1 -> 0 | V50: =IF(OR(M50="A DN",M50="KXL", M50=""),"0",ROUND(K50*0.01*$G$15+R50*1%*$G$15+T50*1%*$G$15,)) -> 86688 | W50: =(Q50+S50+U50) -> 13870080 | X50: =IFERROR(INDEX([7]TL!$X$12:$X$200,MATCH(B50,[7]TL!$B$12:$B$200,0)),"0") -> 0 | Y50: =W50+X50 -> 13870080 | Z50: =Y50/AA50 -> 7.7056 | AA50: 1800000 | AB50: =Z50*AA50 -> 13870080 | AC50: =A50 -> 30 | AD50: =IFERROR(INDEX('[6]CN BC'!$M$10:$M$276,MATCH(B50,'[6]CN BC'!$H$10:$H$276,0)),"") -> 0
A51: =_xlfn.AGGREGATE(4,7,A$19:A50)+1 -> 31 | B51: Trang Thị Xuân Uyên | C51: UYÊN | D51: 0016100006567007 | E51: 1603205186156 | F51: 4.65 | H51: =F51+(F51*G51) -> 4.65 | I51: 0.45 | J51: =VLOOKUP(B51,[4]CN!$B$33:$J$365,9,FALSE) -> Trưởng TT Y tế | K51: =H51+I51 -> 5.1 | L51: =K51*$G$15 -> 9180000 | M51: =VLOOKUP(B51,'[5]Gui chi Quynh'!$B$11:$E$400,4,FALSE) -> A3 | N51: =IF(M51="A1",L51*1.6,IF(M51="A2",L51*1.4,IF(M51="A3",L51*1.2,IF(M51="A4",L51*1,IF(M51="B1",L51*0.7,IF(M51="B2",L51*0.5,IF(M51="C1",L51*0.3,IF(M51="C2",L51*0.2,0)))))))) -> 11016000 | O51: 16 | P51: =IFERROR(INDEX('[6]CN BC'!$J$10:$J$277,MATCH(B51,'[6]CN BC'!$H$10:$H$277,0)),"") -> 19 | Q51: =IF(P51>=O51,N51,N51/O51*P51) -> 11016000 | S51: =R51*$G$15*1 -> 0 | U51: =T51*$G$15*1 -> 0 | V51: =IF(OR(M51="A DN",M51="KXL", M51=""),"0",ROUND(K51*0.01*$G$15+R51*1%*$G$15+T51*1%*$G$15,)) -> 91800 | W51: =(Q51+S51+U51) -> 11016000 | X51: =IFERROR(INDEX([7]TL!$X$12:$X$200,MATCH(B51,[7]TL!$B$12:$B$200,0)),"0") -> 0 | Y51: =W51+X51 -> 11016000 | Z51: =Y51/AA51 -> 6.12 | AA51: 1800000 | AB51: =Z51*AA51 -> 11016000 | AC51: =A51 -> 31 | AD51: =IFERROR(INDEX('[6]CN BC'!$M$10:$M$276,MATCH(B51,'[6]CN BC'!$H$10:$H$276,0)),"") -> 0
A52: =_xlfn.AGGREGATE(4,7,A$19:A51)+1 -> 32 | B52: Bùi Thị Lan Anh | C52: ANH | D52: 0016100006725001 | E52: 1603205247426 | F52: 3.66 | H52: =F52+(F52*G52) -> 3.66 | J52: =VLOOKUP(B52,[4]CN!$B$33:$J$365,9,FALSE) -> Nhân viên Trung tâm Y tế | K52: =H52+I52 -> 3.66 | L52: =K52*$G$15 -> 6588000 | M52: =VLOOKUP(B52,'[5]Gui chi Quynh'!$B$11:$E$400,4,FALSE) -> A3 | N52: =IF(M52="A1",L52*1.6,IF(M52="A2",L52*1.4,IF(M52="A3",L52*1.2,IF(M52="A4",L52*1,IF(M52="B1",L52*0.7,IF(M52="B2",L52*0.5,IF(M52="C1",L52*0.3,IF(M52="C2",L52*0.2,0)))))))) -> 7905600 | O52: 16 | P52: =IFERROR(INDEX('[6]CN BC'!$J$10:$J$277,MATCH(B52,'[6]CN BC'!$H$10:$H$277,0)),"") -> 19 | Q52: =IF(P52>=O52,N52,N52/O52*P52) -> 7905600 | S52: =R52*$G$15*1 -> 0 | U52: =T52*$G$15*1 -> 0 | V52: =IF(OR(M52="A DN",M52="KXL", M52=""),"0",ROUND(K52*0.01*$G$15+R52*1%*$G$15+T52*1%*$G$15,)) -> 65880 | W52: =(Q52+S52+U52) -> 7905600 | X52: =IFERROR(INDEX([7]TL!$X$12:$X$200,MATCH(B52,[7]TL!$B$12:$B$200,0)),"0") -> 0 | Y52: =W52+X52 -> 7905600 | Z52: =Y52/AA52 -> 4.392 | AA52: 1800000 | AB52: =Z52*AA52 -> 7905600 | AC52: =A52 -> 32 | AD52: =IFERROR(INDEX('[6]CN BC'!$M$10:$M$276,MATCH(B52,'[6]CN BC'!$H$10:$H$276,0)),"") -> 0
A53: =_xlfn.AGGREGATE(4,7,A$19:A52)+1 -> 33 | B53: Nguyễn Kính | C53: KÍNH | D53: 0016100006705008 | E53: 1603205457393 | F53: 4.98 | G53: 0.37 | H53: =F53+(F53*G53) -> 6.8226 | I53: 0.45 | J53: =VLOOKUP(B53,[4]CN!$B$33:$J$365,9,FALSE) -> TP. Kế hoạch - Tài chính | K53: =H53+I53 -> 7.2726 | L53: =K53*$G$15 -> 13090680 | M53: =VLOOKUP(B53,'[5]Gui chi Quynh'!$B$11:$E$400,4,FALSE) -> A1 | N53: =IF(M53="A1",L53*1.6,IF(M53="A2",L53*1.4,IF(M53="A3",L53*1.2,IF(M53="A4",L53*1,IF(M53="B1",L53*0.7,IF(M53="B2",L53*0.5,IF(M53="C1",L53*0.3,IF(M53="C2",L53*0.2,0)))))))) -> 20945088 | O53: 16 | P53: =IFERROR(INDEX('[6]CN BC'!$J$10:$J$277,MATCH(B53,'[6]CN BC'!$H$10:$H$277,0)),"") -> 19 | Q53: =IF(P53>=O53,N53,N53/O53*P53) -> 20945088 | S53: =R53*$G$15*1 -> 0 | U53: =T53*$G$15*1 -> 0 | V53: =IF(OR(M53="A DN",M53="KXL", M53=""),"0",ROUND(K53*0.01*$G$15+R53*1%*$G$15+T53*1%*$G$15,)) -> 130907 | W53: =(Q53+S53+U53) -> 20945088 | X53: =IFERROR(INDEX([7]TL!$X$12:$X$200,MATCH(B53,[7]TL!$B$12:$B$200,0)),"0") -> 0 | Y53: =W53+X53 -> 20945088 | Z53: =Y53/AA53 -> 11.63616 | AA53: 1800000 | AB53: =Z53*AA53 -> 20945088 | AC53: =A53 -> 33 | AD53: =IFERROR(INDEX('[6]CN BC'!$M$10:$M$276,MATCH(B53,'[6]CN BC'!$H$10:$H$276,0)),"") -> 0
A54: =_xlfn.AGGREGATE(4,7,A$19:A53)+1 -> 34 | B54: Hồng Mộng Tuyết Dung | C54: DUNG | D54: 0016100006512008 | E54: 1603205203183 | F54: 3.99 | H54: =F54+(F54*G54) -> 3.99 | J54: =VLOOKUP(B54,[4]CN!$B$33:$J$365,9,FALSE) -> NV phòng KH-TC | K54: =H54+I54 -> 3.99 | L54: =K54*$G$15 -> 7182000 | M54: =VLOOKUP(B54,'[5]Gui chi Quynh'!$B$11:$E$400,4,FALSE) -> A1 | N54: =IF(M54="A1",L54*1.6,IF(M54="A2",L54*1.4,IF(M54="A3",L54*1.2,IF(M54="A4",L54*1,IF(M54="B1",L54*0.7,IF(M54="B2",L54*0.5,IF(M54="C1",L54*0.3,IF(M54="C2",L54*0.2,0)))))))) -> 11491200 | O54: 16 | P54: =IFERROR(INDEX('[6]CN BC'!$J$10:$J$277,MATCH(B54,'[6]CN BC'!$H$10:$H$277,0)),"") -> 18 | Q54: =IF(P54>=O54,N54,N54/O54*P54) -> 11491200 | S54: =R54*$G$15*1 -> 0 | U54: =T54*$G$15*1 -> 0 | V54: =IF(OR(M54="A DN",M54="KXL", M54=""),"0",ROUND(K54*0.01*$G$15+R54*1%*$G$15+T54*1%*$G$15,)) -> 71820 | W54: =(Q54+S54+U54) -> 11491200 | X54: =IFERROR(INDEX([7]TL!$X$12:$X$200,MATCH(B54,[7]TL!$B$12:$B$200,0)),"0") -> 0 | Y54: =W54+X54 -> 11491200 | Z54: =Y54/AA54 -> 6.384 | AA54: 1800000 | AB54: =Z54*AA54 -> 11491200 | AC54: =A54 -> 34 | AD54: =IFERROR(INDEX('[6]CN BC'!$M$10:$M$276,MATCH(B54,'[6]CN BC'!$H$10:$H$276,0)),"") -> 0
A55: =_xlfn.AGGREGATE(4,7,A$19:A54)+1 -> 35 | B55: Trần Thị Minh Thoa | C55: THOA | D55: 0016100006515007 | E55: 1603205178873 | F55: 3.66 | H55: =F55+(F55*G55) -> 3.66 | J55: =VLOOKUP(B55,[4]CN!$B$33:$J$365,9,FALSE) -> NV phòng KH-TC | K55: =H55+I55 -> 3.66 | L55: =K55*$G$15 -> 6588000 | M55: =VLOOKUP(B55,'[5]Gui chi Quynh'!$B$11:$E$400,4,FALSE) -> A1 | N55: =IF(M55="A1",L55*1.6,IF(M55="A2",L55*1.4,IF(M55="A3",L55*1.2,IF(M55="A4",L55*1,IF(M55="B1",L55*0.7,IF(M55="B2",L55*0.5,IF(M55="C1",L55*0.3,IF(M55="C2",L55*0.2,0)))))))) -> 10540800 | O55: 16 | P55: =IFERROR(INDEX('[6]CN BC'!$J$10:$J$277,MATCH(B55,'[6]CN BC'!$H$10:$H$277,0)),"") -> 18 | Q55: =IF(P55>=O55,N55,N55/O55*P55) -> 10540800 | S55: =R55*$G$15*1.6 -> 0 | U55: =T55*$G$15*1 -> 0 | V55: =IF(OR(M55="A DN",M55="KXL", M55=""),"0",ROUND(K55*0.01*$G$15+R55*1%*$G$15+T55*1%*$G$15,)) -> 65880 | W55: =(Q55+S55+U55) -> 10540800 | X55: =IFERROR(INDEX([7]TL!$X$12:$X$200,MATCH(B55,[7]TL!$B$12:$B$200,0)),"0") -> 0 | Y55: =W55+X55 -> 10540800 | Z55: =Y55/AA55 -> 5.856 | AA55: 1800000 | AB55: =Z55*AA55 -> 10540800 | AC55: =A55 -> 35 | AD55: =IFERROR(INDEX('[6]CN BC'!$M$10:$M$276,MATCH(B55,'[6]CN BC'!$H$10:$H$276,0)),"") -> 0
A56: =_xlfn.AGGREGATE(4,7,A$19:A55)+1 -> 36 | B56: Nguyễn Thị Hồng Thắm | C56: THẮM | D56: 0016100006681004 | E56: 1603205372861 | F56: 2.67 | H56: =F56+(F56*G56) -> 2.67 | J56: =VLOOKUP(B56,[4]CN!$B$33:$J$365,9,FALSE) -> NV phòng KH-TC | K56: =H56+I56 -> 2.67 | L56: =K56*$G$15 -> 4806000 | M56: =VLOOKUP(B56,'[5]Gui chi Quynh'!$B$11:$E$400,4,FALSE) -> A2 | N56: =IF(M56="A1",L56*1.6,IF(M56="A2",L56*1.4,IF(M56="A3",L56*1.2,IF(M56="A4",L56*1,IF(M56="B1",L56*0.7,IF(M56="B2",L56*0.5,IF(M56="C1",L56*0.3,IF(M56="C2",L56*0.2,0)))))))) -> 6728400 | O56: 16 | P56: =IFERROR(INDEX('[6]CN BC'!$J$10:$J$277,MATCH(B56,'[6]CN BC'!$H$10:$H$277,0)),"") -> 17 | Q56: =IF(P56>=O56,N56,N56/O56*P56) -> 6728400 | S56: =R56*$G$15*1 -> 0 | U56: =T56*$G$15*1 -> 0 | V56: =IF(OR(M56="A DN",M56="KXL", M56=""),"0",ROUND(K56*0.01*$G$15+R56*1%*$G$15+T56*1%*$G$15,)) -> 48060 | W56: =(Q56+S56+U56) -> 6728400 | X56: =IFERROR(INDEX([7]TL!$X$12:$X$200,MATCH(B56,[7]TL!$B$12:$B$200,0)),"0") -> 0 | Y56: =W56+X56 -> 6728400 | Z56: =Y56/AA56 -> 3.738 | AA56: 1800000 | AB56: =Z56*AA56 -> 6728400 | AC56: =A56 -> 36 | AD56: =IFERROR(INDEX('[6]CN BC'!$M$10:$M$276,MATCH(B56,'[6]CN BC'!$H$10:$H$276,0)),"") -> Trừ 1 ngày nghỉ phép 15/2
A57: =_xlfn.AGGREGATE(4,7,A$19:A56)+1 -> 37 | B57: Võ Thị Lệ Trân | C57: TRÂN | D57: 0016100006524006 | E57: 1603205185357 | F57: 3.66 | H57: =F57+(F57*G57) -> 3.66 | J57: =VLOOKUP(B57,[4]CN!$B$33:$J$365,9,FALSE) -> NV Phòng KH-TC | K57: =H57+I57 -> 3.66 | L57: =K57*$G$15 -> 6588000 | M57: =VLOOKUP(B57,'[5]Gui chi Quynh'!$B$11:$E$400,4,FALSE) -> A1 | N57: =IF(M57="A1",L57*1.6,IF(M57="A2",L57*1.4,IF(M57="A3",L57*1.2,IF(M57="A4",L57*1,IF(M57="B1",L57*0.7,IF(M57="B2",L57*0.5,IF(M57="C1",L57*0.3,IF(M57="C2",L57*0.2,0)))))))) -> 10540800 | O57: 16 | P57: =IFERROR(INDEX('[6]CN BC'!$J$10:$J$277,MATCH(B57,'[6]CN BC'!$H$10:$H$277,0)),"") -> 19 | Q57: =IF(P57>=O57,N57,N57/O57*P57) -> 10540800 | S57: =R57*$G$15*1 -> 0 | U57: =T57*$G$15*1 -> 0 | V57: =IF(OR(M57="A DN",M57="KXL", M57=""),"0",ROUND(K57*0.01*$G$15+R57*1%*$G$15+T57*1%*$G$15,)) -> 65880 | W57: =(Q57+S57+U57) -> 10540800 | X57: =IFERROR(INDEX([7]TL!$X$12:$X$200,MATCH(B57,[7]TL!$B$12:$B$200,0)),"0") -> 0 | Y57: =W57+X57 -> 10540800 | Z57: =Y57/AA57 -> 5.856 | AA57: 1800000 | AB57: =Z57*AA57 -> 10540800 | AC57: =A57 -> 37 | AD57: =IFERROR(INDEX('[6]CN BC'!$M$10:$M$276,MATCH(B57,'[6]CN BC'!$H$10:$H$276,0)),"") -> 0
A58: =_xlfn.AGGREGATE(4,7,A$19:A57)+1 -> 38 | B58: Nguyễn Văn Chiến | C58: CHIẾN | D58: 0016100006548002 | E58: 1603205341369 | F58: 4.32 | H58: =F58+(F58*G58) -> 4.32 | I58: 0.45 | J58: =VLOOKUP(B58,[4]CN!$B$33:$J$365,9,FALSE) -> Phu trách TT QHDN | K58: =H58+I58 -> 4.77 | L58: =K58*$G$15 -> 8586000 | M58: =VLOOKUP(B58,'[5]Gui chi Quynh'!$B$11:$E$400,4,FALSE) -> A1 | N58: =IF(M58="A1",L58*1.6,IF(M58="A2",L58*1.4,IF(M58="A3",L58*1.2,IF(M58="A4",L58*1,IF(M58="B1",L58*0.7,IF(M58="B2",L58*0.5,IF(M58="C1",L58*0.3,IF(M58="C2",L58*0.2,0)))))))) -> 13737600 | O58: 16 | P58: =IFERROR(INDEX('[6]CN BC'!$J$10:$J$277,MATCH(B58,'[6]CN BC'!$H$10:$H$277,0)),"") -> 18 | Q58: =IF(P58>=O58,N58,N58/O58*P58) -> 13737600 | S58: 0 | U58: =T58*$G$15*1 -> 0 | V58: =IF(OR(M58="A DN",M58="KXL", M58=""),"0",ROUND(K58*0.01*$G$15+R58*1%*$G$15+T58*1%*$G$15,)) -> 85860 | W58: =(Q58+S58+U58) -> 13737600 | X58: =IFERROR(INDEX([7]TL!$X$12:$X$200,MATCH(B58,[7]TL!$B$12:$B$200,0)),"0") -> 0 | Y58: =W58+X58 -> 13737600 | Z58: =Y58/AA58 -> 7.632 | AA58: 1800000 | AB58: =Z58*AA58 -> 13737600 | AC58: =A58 -> 38 | AD58: =IFERROR(INDEX('[6]CN BC'!$M$10:$M$276,MATCH(B58,'[6]CN BC'!$H$10:$H$276,0)),"") -> 0
A59: =_xlfn.AGGREGATE(4,7,A$19:A58)+1 -> 39 | B59: Nguyễn Thùy Dương | C59: DƯƠNG | D59: 0016100006640006 | E59: 1603205356140 | F59: 3.99 | H59: =F59+(F59*G59) -> 3.99 | J59: =VLOOKUP(B59,[4]CN!$B$33:$J$365,9,FALSE) -> NV Trung tâm QHDN | K59: =H59+I59 -> 3.99 | L59: =K59*$G$15 -> 7182000 | M59: =VLOOKUP(B59,'[5]Gui chi Quynh'!$B$11:$E$400,4,FALSE) -> A4 | N59: =IF(M59="A1",L59*1.6,IF(M59="A2",L59*1.4,IF(M59="A3",L59*1.2,IF(M59="A4",L59*1,IF(M59="B1",L59*0.7,IF(M59="B2",L59*0.5,IF(M59="C1",L59*0.3,IF(M59="C2",L59*0.2,0)))))))) -> 7182000 | O59: 16 | P59: =IFERROR(INDEX('[6]CN BC'!$J$10:$J$277,MATCH(B59,'[6]CN BC'!$H$10:$H$277,0)),"") -> 14 | Q59: =IF(P59>=O59,N59,N59/O59*P59) -> 6284250 | S59: =R59*$G$15*1 -> 0 | U59: =T59*$G$15*1 -> 0 | V59: =IF(OR(M59="A DN",M59="KXL", M59=""),"0",ROUND(K59*0.01*$G$15+R59*1%*$G$15+T59*1%*$G$15,)) -> 71820 | W59: =(Q59+S59+U59) -> 6284250 | X59: =IFERROR(INDEX([7]TL!$X$12:$X$200,MATCH(B59,[7]TL!$B$12:$B$200,0)),"0") -> 0 | Y59: =W59+X59 -> 6284250 | Z59: =Y59/AA59 -> 3.49125 | AA59: 1800000 | AB59: =Z59*AA59 -> 6284250 | AC59: =A59 -> 39 | AD59: =IFERROR(INDEX('[6]CN BC'!$M$10:$M$276,MATCH(B59,'[6]CN BC'!$H$10:$H$276,0)),"") -> Trừ 2 ngày nghỉ phép 15+16/2
A60: =_xlfn.AGGREGATE(4,7,A$19:A59)+1 -> 40 | B60: Nguyễn Thị Ngọc Anh | C60: ANH | D60: 0016100006654007 | E60: 1603205182727 | F60: 4.32 | H60: =F60+(F60*G60) -> 4.32 | J60: =VLOOKUP(B60,[4]CN!$B$33:$J$365,9,FALSE) -> Nhân viên phòng Thanh tra GD - Công tác SV | K60: =H60+I60 -> 4.32 | L60: =K60*$G$15 -> 7776000 | M60: =VLOOKUP(B60,'[5]Gui chi Quynh'!$B$11:$E$400,4,FALSE) -> A2 | N60: =IF(M60="A1",L60*1.6,IF(M60="A2",L60*1.4,IF(M60="A3",L60*1.2,IF(M60="A4",L60*1,IF(M60="B1",L60*0.7,IF(M60="B2",L60*0.5,IF(M60="C1",L60*0.3,IF(M60="C2",L60*0.2,0)))))))) -> 10886400 | O60: 16 | P60: =IFERROR(INDEX('[6]CN BC'!$J$10:$J$277,MATCH(B60,'[6]CN BC'!$H$10:$H$277,0)),"") -> 15 | Q60: =IF(P60>=O60,N60,N60/O60*P60) -> 10206000 | R60: 0 | S60: =R60*$G$15*1 -> 0 | U60: =T60*$G$15*1 -> 0 | V60: =IF(OR(M60="A DN",M60="KXL", M60=""),"0",ROUND(K60*0.01*$G$15+R60*1%*$G$15+T60*1%*$G$15,)) -> 77760 | W60: =(Q60+S60+U60) -> 10206000 | X60: =IFERROR(INDEX([7]TL!$X$12:$X$200,MATCH(B60,[7]TL!$B$12:$B$200,0)),"0") -> 0 | Y60: =W60+X60 -> 10206000 | Z60: =Y60/AA60 -> 5.67 | AA60: 1800000 | AB60: =Z60*AA60 -> 10206000 | AC60: =A60 -> 40 | AD60: =IFERROR(INDEX('[6]CN BC'!$M$10:$M$276,MATCH(B60,'[6]CN BC'!$H$10:$H$276,0)),"") -> Trừ 1 ngày nghỉ phép 19/2
A61: =_xlfn.AGGREGATE(4,7,A$19:A60)+1 -> 41 | B61: Lê Xuân Thiện | C61: THIỆN | D61: 0016100006766007 | E61: 1603205185958 | F61: 4.98 | G61: 0.07 | H61: =F61+(F61*G61) -> 5.3286 | I61: 0.45 | J61: =VLOOKUP(B61,[4]CN!$B$33:$J$365,9,FALSE) -> Trưởng phòng Thanh tra GD - CTSV | K61: =H61+I61 -> 5.7786 | L61: =K61*$G$15 -> 10401480 | M61: =VLOOKUP(B61,'[5]Gui chi Quynh'!$B$11:$E$400,4,FALSE) -> A2 | N61: =IF(M61="A1",L61*1.6,IF(M61="A2",L61*1.4,IF(M61="A3",L61*1.2,IF(M61="A4",L61*1,IF(M61="B1",L61*0.7,IF(M61="B2",L61*0.5,IF(M61="C1",L61*0.3,IF(M61="C2",L61*0.2,0)))))))) -> 14562072 | O61: 16 | P61: =IFERROR(INDEX('[6]CN BC'!$J$10:$J$277,MATCH(B61,'[6]CN BC'!$H$10:$H$277,0)),"") -> 19 | Q61: =IF(P61>=O61,N61,N61/O61*P61) -> 14562072 | S61: =R61*$G$15*1 -> 0 | U61: =T61*$G$15*1 -> 0 | V61: =IF(OR(M61="A DN",M61="KXL", M61=""),"0",ROUND(K61*0.01*$G$15+R61*1%*$G$15+T61*1%*$G$15,)) -> 104015 | W61: =(Q61+S61+U61) -> 14562072 | X61: =IFERROR(INDEX([7]TL!$X$12:$X$200,MATCH(B61,[7]TL!$B$12:$B$200,0)),"0") -> 0 | Y61: =W61+X61 -> 14562072 | Z61: =Y61/AA61 -> 8.09004 | AA61: 1800000 | AB61: =Z61*AA61 -> 14562072 | AC61: =A61 -> 41 | AD61: =IFERROR(INDEX('[6]CN BC'!$M$10:$M$276,MATCH(B61,'[6]CN BC'!$H$10:$H$276,0)),"") -> 0 | AH61: 5000000
A62: =_xlfn.AGGREGATE(4,7,A$19:A61)+1 -> 42 | B62: Nguyễn Thị Kim Anh | C62: ANH | D62: 0016100006719001 | E62: 1603205189653 | F62: 3.99 | H62: =F62+(F62*G62) -> 3.99 | J62: =VLOOKUP(B62,[4]CN!$B$33:$J$365,9,FALSE) -> NV phòng Thanh tra Giáo dục - Sinh viên | K62: =H62+I62 -> 3.99 | L62: =K62*$G$15 -> 7182000 | M62: =VLOOKUP(B62,'[5]Gui chi Quynh'!$B$11:$E$400,4,FALSE) -> A3 | N62: =IF(M62="A1",L62*1.6,IF(M62="A2",L62*1.4,IF(M62="A3",L62*1.2,IF(M62="A4",L62*1,IF(M62="B1",L62*0.7,IF(M62="B2",L62*0.5,IF(M62="C1",L62*0.3,IF(M62="C2",L62*0.2,0)))))))) -> 8618400 | O62: 16 | P62: =IFERROR(INDEX('[6]CN BC'!$J$10:$J$277,MATCH(B62,'[6]CN BC'!$H$10:$H$277,0)),"") -> 16 | Q62: =IF(P62>=O62,N62,N62/O62*P62) -> 8618400 | S62: =R62*$G$15*1 -> 0 | U62: =T62*$G$15*1 -> 0 | V62: =IF(OR(M62="A DN",M62="KXL", M62=""),"0",ROUND(K62*0.01*$G$15+R62*1%*$G$15+T62*1%*$G$15,)) -> 71820 | W62: =(Q62+S62+U62) -> 8618400 | X62: =IFERROR(INDEX([7]TL!$X$12:$X$200,MATCH(B62,[7]TL!$B$12:$B$200,0)),"0") -> 0 | Y62: =W62+X62 -> 8618400 | Z62: =Y62/AA62 -> 4.788 | AA62: 1800000 | AB62: =Z62*AA62 -> 8618400 | AC62: =A62 -> 42 | AD62: =IFERROR(INDEX('[6]CN BC'!$M$10:$M$276,MATCH(B62,'[6]CN BC'!$H$10:$H$276,0)),"") -> 0
A63: =_xlfn.AGGREGATE(4,7,A$19:A62)+1 -> 43 | B63: Phạm Thị Lê Chi | C63: CHI | D63: 0016100006714007 | E63: 1603205250618 | F63: 3.66 | H63: =F63+(F63*G63) -> 3.66 | J63: =VLOOKUP(B63,[4]CN!$B$33:$J$365,9,FALSE) -> NV phòng Thanh tra Giáo dục - Sinh viên | K63: =H63+I63 -> 3.66 | L63: =K63*$G$15 -> 6588000 | M63: =VLOOKUP(B63,'[5]Gui chi Quynh'!$B$11:$E$400,4,FALSE) -> A4 | N63: =IF(M63="A1",L63*1.6,IF(M63="A2",L63*1.4,IF(M63="A3",L63*1.2,IF(M63="A4",L63*1,IF(M63="B1",L63*0.7,IF(M63="B2",L63*0.5,IF(M63="C1",L63*0.3,IF(M63="C2",L63*0.2,0)))))))) -> 6588000 | O63: 16 | P63: =IFERROR(INDEX('[6]CN BC'!$J$10:$J$277,MATCH(B63,'[6]CN BC'!$H$10:$H$277,0)),"") -> 15 | Q63: =IF(P63>=O63,N63,N63/O63*P63) -> 6176250 | S63: =R63*$G$15*1 -> 0 | U63: =T63*$G$15*1 -> 0 | V63: =IF(OR(M63="A DN",M63="KXL", M63=""),"0",ROUND(K63*0.01*$G$15+R63*1%*$G$15+T63*1%*$G$15,)) -> 65880 | W63: =(Q63+S63+U63) -> 6176250 | X63: =IFERROR(INDEX([7]TL!$X$12:$X$200,MATCH(B63,[7]TL!$B$12:$B$200,0)),"0") -> 0 | Y63: =W63+X63 -> 6176250 | Z63: =Y63/AA63 -> 3.43125 | AA63: 1800000 | AB63: =Z63*AA63 -> 6176250 | AC63: =A63 -> 43 | AD63: =IFERROR(INDEX('[6]CN BC'!$M$10:$M$276,MATCH(B63,'[6]CN BC'!$H$10:$H$276,0)),"") -> Trừ 1 ngày nghỉ phép 15/2
A64: =_xlfn.AGGREGATE(4,7,A$19:A63)+1 -> 44 | B64: Trần Thị Thu Hà | C64: HÀ | D64: 0016100006711008 | E64: 1603205186179 | F64: 4.32 | H64: =F64+(F64*G64) -> 4.32 | J64: =VLOOKUP(B64,[4]CN!$B$33:$J$365,9,FALSE) -> NV phòng Thanh tra Giáo dục - Sinh viên | K64: =H64+I64 -> 4.32 | L64: =K64*$G$15 -> 7776000 | M64: =VLOOKUP(B64,'[5]Gui chi Quynh'!$B$11:$E$400,4,FALSE) -> A3 | N64: =IF(M64="A1",L64*1.6,IF(M64="A2",L64*1.4,IF(M64="A3",L64*1.2,IF(M64="A4",L64*1,IF(M64="B1",L64*0.7,IF(M64="B2",L64*0.5,IF(M64="C1",L64*0.3,IF(M64="C2",L64*0.2,0)))))))) -> 9331200 | O64: 16 | P64: =IFERROR(INDEX('[6]CN BC'!$J$10:$J$277,MATCH(B64,'[6]CN BC'!$H$10:$H$277,0)),"") -> 17 | Q64: =IF(P64>=O64,N64,N64/O64*P64) -> 9331200 | S64: =R64*$G$15*1 -> 0 | U64: =T64*$G$15*1 -> 0 | V64: =IF(OR(M64="A DN",M64="KXL", M64=""),"0",ROUND(K64*0.01*$G$15+R64*1%*$G$15+T64*1%*$G$15,)) -> 77760 | W64: =(Q64+S64+U64) -> 9331200 | X64: =IFERROR(INDEX([7]TL!$X$12:$X$200,MATCH(B64,[7]TL!$B$12:$B$200,0)),"0") -> 0 | Y64: =W64+X64 -> 9331200 | Z64: =Y64/AA64 -> 5.184 | AA64: 1800000 | AB64: =Z64*AA64 -> 9331200 | AC64: =A64 -> 44 | AD64: =IFERROR(INDEX('[6]CN BC'!$M$10:$M$276,MATCH(B64,'[6]CN BC'!$H$10:$H$276,0)),"") -> Trừ 2 ngày nghỉ phép 6+7/2
A65: =_xlfn.AGGREGATE(4,7,A$19:A64)+1 -> 45 | B65: Nguyễn Tất Thắng | C65: THẮNG | D65: 0016100006715006 | E65: 1603205179109 | F65: 4.32 | H65: =F65+(F65*G65) -> 4.32 | J65: =VLOOKUP(B65,[4]CN!$B$33:$J$365,9,FALSE) -> NV phòng Thanh tra Giáo dục - Sinh viên | K65: =H65+I65 -> 4.32 | L65: =K65*$G$15 -> 7776000 | M65: =VLOOKUP(B65,'[5]Gui chi Quynh'!$B$11:$E$400,4,FALSE) -> A4 | N65: =IF(M65="A1",L65*1.6,IF(M65="A2",L65*1.4,IF(M65="A3",L65*1.2,IF(M65="A4",L65*1,IF(M65="B1",L65*0.7,IF(M65="B2",L65*0.5,IF(M65="C1",L65*0.3,IF(M65="C2",L65*0.2,0)))))))) -> 7776000 | O65: 16 | P65: =IFERROR(INDEX('[6]CN BC'!$J$10:$J$277,MATCH(B65,'[6]CN BC'!$H$10:$H$277,0)),"") -> 15 | Q65: =IF(P65>=O65,N65,N65/O65*P65) -> 7290000 | S65: =R65*$G$15*1 -> 0 | U65: =T65*$G$15*1 -> 0 | V65: =IF(OR(M65="A DN",M65="KXL", M65=""),"0",ROUND(K65*0.01*$G$15+R65*1%*$G$15+T65*1%*$G$15,)) -> 77760 | W65: =(Q65+S65+U65) -> 7290000 | X65: =IFERROR(INDEX([7]TL!$X$12:$X$200,MATCH(B65,[7]TL!$B$12:$B$200,0)),"0") -> 0 | Y65: =W65+X65 -> 7290000 | Z65: =Y65/AA65 -> 4.05 | AA65: 1800000 | AB65: =Z65*AA65 -> 7290000 | AC65: =A65 -> 45 | AD65: =IFERROR(INDEX('[6]CN BC'!$M$10:$M$276,MATCH(B65,'[6]CN BC'!$H$10:$H$276,0)),"") -> Trừ 1 ngày nghỉ phép 26/2
A66: =_xlfn.AGGREGATE(4,7,A$19:A65)+1 -> 46 | B66: Mai Thu Hương | C66: HƯƠNG | D66: 0016100006498005 | E66: 1603205273823 | F66: 3.66 | H66: =F66+(F66*G66) -> 3.66 | J66: =VLOOKUP(B66,[4]CN!$B$33:$J$365,9,FALSE) -> NV Phòng Thanh tra GD - Sinh viên | K66: =H66+I66 -> 3.66 | L66: =K66*$G$15 -> 6588000 | M66: =VLOOKUP(B66,'[5]Gui chi Quynh'!$B$11:$E$400,4,FALSE) -> A4 | N66: =IF(M66="A1",L66*1.6,IF(M66="A2",L66*1.4,IF(M66="A3",L66*1.2,IF(M66="A4",L66*1,IF(M66="B1",L66*0.7,IF(M66="B2",L66*0.5,IF(M66="C1",L66*0.3,IF(M66="C2",L66*0.2,0)))))))) -> 6588000 | O66: 16 | P66: =IFERROR(INDEX('[6]CN BC'!$J$10:$J$277,MATCH(B66,'[6]CN BC'!$H$10:$H$277,0)),"") -> 16 | Q66: =IF(P66>=O66,N66,N66/O66*P66) -> 6588000 | S66: =R66*$G$15*1 -> 0 | U66: =T66*$G$15*1 -> 0 | V66: =IF(OR(M66="A DN",M66="KXL", M66=""),"0",ROUND(K66*0.01*$G$15+R66*1%*$G$15+T66*1%*$G$15,)) -> 65880 | W66: =(Q66+S66+U66) -> 6588000 | X66: =IFERROR(INDEX([7]TL!$X$12:$X$200,MATCH(B66,[7]TL!$B$12:$B$200,0)),"0") -> 0 | Y66: =W66+X66 -> 6588000 | Z66: =Y66/AA66 -> 3.66 | AA66: 1800000 | AB66: =Z66*AA66 -> 6588000 | AC66: =A66 -> 46 | AD66: =IFERROR(INDEX('[6]CN BC'!$M$10:$M$276,MATCH(B66,'[6]CN BC'!$H$10:$H$276,0)),"") -> 0
A67: =_xlfn.AGGREGATE(4,7,A$19:A66)+1 -> 47 | B67: Huỳnh Thị Cẩm Hoa | C67: HOA | D67: 0016100006568003 | E67: 1603215003383 | F67: 3.66 | H67: =F67+(F67*G67) -> 3.66 | J67: =VLOOKUP(B67,[4]CN!$B$33:$J$365,9,FALSE) -> Nhân viên phòng Tuyển sinh - Đào tạo | K67: =H67+I67 -> 3.66 | L67: =K67*$G$15 -> 6588000 | M67: =VLOOKUP(B67,'[5]Gui chi Quynh'!$B$11:$E$400,4,FALSE) -> A3 | N67: =IF(M67="A1",L67*1.6,IF(M67="A2",L67*1.4,IF(M67="A3",L67*1.2,IF(M67="A4",L67*1,IF(M67="B1",L67*0.7,IF(M67="B2",L67*0.5,IF(M67="C1",L67*0.3,IF(M67="C2",L67*0.2,0)))))))) -> 7905600 | O67: 16 | P67: =IFERROR(INDEX('[6]CN BC'!$J$10:$J$277,MATCH(B67,'[6]CN BC'!$H$10:$H$277,0)),"") -> 13.5 | Q67: =IF(P67>=O67,N67,N67/O67*P67) -> 6670350 | S67: =R67*$G$15*1 -> 0 | U67: =T67*$G$15*1 -> 0 | V67: =IF(OR(M67="A DN",M67="KXL", M67=""),"0",ROUND(K67*0.01*$G$15+R67*1%*$G$15+T67*1%*$G$15,)) -> 65880 | W67: =(Q67+S67+U67) -> 6670350 | X67: =IFERROR(INDEX([7]TL!$X$12:$X$200,MATCH(B67,[7]TL!$B$12:$B$200,0)),"0") -> 0 | Y67: =W67+X67 -> 6670350 | Z67: =Y67/AA67 -> 3.70575 | AA67: 1800000 | AB67: =Z67*AA67 -> 6670350 | AC67: =A67 -> 47 | AD67: =IFERROR(INDEX('[6]CN BC'!$M$10:$M$276,MATCH(B67,'[6]CN BC'!$H$10:$H$276,0)),"") -> 0
A68: =_xlfn.AGGREGATE(4,7,A$19:A67)+1 -> 48 | B68: Nguyễn Thành Nam | C68: NAM | D68: 0016100006648007 | E68: 1603215002713 | F68: 4.4 | H68: =F68+(F68*G68) -> 4.4 | I68: 0.45 | J68: =VLOOKUP(B68,[4]CN!$B$33:$J$365,9,FALSE) -> Trưởng phòng Tuyển sinh - Đào tạo | K68: =H68+I68 -> 4.85 | L68: =K68*$G$15 -> 8730000 | M68: =VLOOKUP(B68,'[5]Gui chi Quynh'!$B$11:$E$400,4,FALSE) -> A1 | N68: =IF(M68="A1",L68*1.6,IF(M68="A2",L68*1.4,IF(M68="A3",L68*1.2,IF(M68="A4",L68*1,IF(M68="B1",L68*0.7,IF(M68="B2",L68*0.5,IF(M68="C1",L68*0.3,IF(M68="C2",L68*0.2,0)))))))) -> 13968000 | O68: 16 | P68: =IFERROR(INDEX('[6]CN BC'!$J$10:$J$277,MATCH(B68,'[6]CN BC'!$H$10:$H$277,0)),"") -> 18 | Q68: =IF(P68>=O68,N68,N68/O68*P68) -> 13968000 | S68: =R68*$G$15*1.6 -> 0 | U68: =T68*$G$15*1 -> 0 | V68: =IF(OR(M68="A DN",M68="KXL", M68=""),"0",ROUND(K68*0.01*$G$15+R68*1%*$G$15+T68*1%*$G$15,)) -> 87300 | W68: =(Q68+S68+U68) -> 13968000 | X68: =IFERROR(INDEX([7]TL!$X$12:$X$200,MATCH(B68,[7]TL!$B$12:$B$200,0)),"0") -> 0 | Y68: =W68+X68 -> 13968000 | Z68: =Y68/AA68 -> 7.76 | AA68: 1800000 | AB68: =Z68*AA68 -> 13968000 | AC68: =A68 -> 48 | AD68: =IFERROR(INDEX('[6]CN BC'!$M$10:$M$276,MATCH(B68,'[6]CN BC'!$H$10:$H$276,0)),"") -> 0
A69: =_xlfn.AGGREGATE(4,7,A$19:A68)+1 -> 49 | B69: Quách Minh Thử | C69: THỬ | D69: 0016100006528001 | E69: 1603205182415 | F69: 4.32 | H69: =F69+(F69*G69) -> 4.32 | I69: 0.35 | J69: =VLOOKUP(B69,[4]CN!$B$33:$J$365,9,FALSE) -> Phó TP. Tuyể sinh - Đào tạo | K69: =H69+I69 -> 4.67 | L69: =K69*$G$15 -> 8406000 | M69: =VLOOKUP(B69,'[5]Gui chi Quynh'!$B$11:$E$400,4,FALSE) -> A1 | N69: =IF(M69="A1",L69*1.6,IF(M69="A2",L69*1.4,IF(M69="A3",L69*1.2,IF(M69="A4",L69*1,IF(M69="B1",L69*0.7,IF(M69="B2",L69*0.5,IF(M69="C1",L69*0.3,IF(M69="C2",L69*0.2,0)))))))) -> 13449600 | O69: 16 | P69: =IFERROR(INDEX('[6]CN BC'!$J$10:$J$277,MATCH(B69,'[6]CN BC'!$H$10:$H$277,0)),"") -> 16 | Q69: =IF(P69>=O69,N69,N69/O69*P69) -> 13449600 | S69: =R69*$G$15*1 -> 0 | U69: =T69*$G$15*1 -> 0 | V69: =IF(OR(M69="A DN",M69="KXL", M69=""),"0",ROUND(K69*0.01*$G$15+R69*1%*$G$15+T69*1%*$G$15,)) -> 84060 | W69: =(Q69+S69+U69) -> 13449600 | X69: =IFERROR(INDEX([7]TL!$X$12:$X$200,MATCH(B69,[7]TL!$B$12:$B$200,0)),"0") -> 0 | Y69: =W69+X69 -> 13449600 | Z69: =Y69/AA69 -> 7.472 | AA69: 1800000 | AB69: =Z69*AA69 -> 13449600 | AC69: =A69 -> 49 | AD69: =IFERROR(INDEX('[6]CN BC'!$M$10:$M$276,MATCH(B69,'[6]CN BC'!$H$10:$H$276,0)),"") -> 0
A70: =_xlfn.AGGREGATE(4,7,A$19:A69)+1 -> 50 | B70: Võ Thị Xuân Thơ | C70: THƠ | D70: 0016100006527005 | E70: 1603205185760 | F70: 4.65 | H70: =F70+(F70*G70) -> 4.65 | J70: =VLOOKUP(B70,[4]CN!$B$33:$J$365,9,FALSE) -> Nhân viên phòng TS - Đào tạo | K70: =H70+I70 -> 4.65 | L70: =K70*$G$15 -> 8370000 | M70: =VLOOKUP(B70,'[5]Gui chi Quynh'!$B$11:$E$400,4,FALSE) -> A2 | N70: =IF(M70="A1",L70*1.6,IF(M70="A2",L70*1.4,IF(M70="A3",L70*1.2,IF(M70="A4",L70*1,IF(M70="B1",L70*0.7,IF(M70="B2",L70*0.5,IF(M70="C1",L70*0.3,IF(M70="C2",L70*0.2,0)))))))) -> 11718000 | O70: 16 | P70: =IFERROR(INDEX('[6]CN BC'!$J$10:$J$277,MATCH(B70,'[6]CN BC'!$H$10:$H$277,0)),"") -> 17 | Q70: =IF(P70>=O70,N70,N70/O70*P70) -> 11718000 | S70: =R70*$G$15*1 -> 0 | U70: =T70*$G$15*1 -> 0 | V70: =IF(OR(M70="A DN",M70="KXL", M70=""),"0",ROUND(K70*0.01*$G$15+R70*1%*$G$15+T70*1%*$G$15,)) -> 83700 | W70: =(Q70+S70+U70) -> 11718000 | X70: =IFERROR(INDEX([7]TL!$X$12:$X$200,MATCH(B70,[7]TL!$B$12:$B$200,0)),"0") -> 0 | Y70: =W70+X70 -> 11718000 | Z70: =Y70/AA70 -> 6.51 | AA70: 1800000 | AB70: =Z70*AA70 -> 11718000 | AC70: =A70 -> 50 | AD70: =IFERROR(INDEX('[6]CN BC'!$M$10:$M$276,MATCH(B70,'[6]CN BC'!$H$10:$H$276,0)),"") -> 0
A71: =_xlfn.AGGREGATE(4,7,A$19:A70)+1 -> 51 | B71: Nguyễn Thị Thanh Thảo | C71: THẢO | D71: 0016100006521007 | E71: 1603205182394 | F71: 3.99 | H71: =F71+(F71*G71) -> 3.99 | J71: =VLOOKUP(B71,[4]CN!$B$33:$J$365,9,FALSE) -> Nhân viên phòng TS - Đào tạo | K71: =H71+I71 -> 3.99 | L71: =K71*$G$15 -> 7182000 | M71: =VLOOKUP(B71,'[5]Gui chi Quynh'!$B$11:$E$400,4,FALSE) -> A2 | N71: =IF(M71="A1",L71*1.6,IF(M71="A2",L71*1.4,IF(M71="A3",L71*1.2,IF(M71="A4",L71*1,IF(M71="B1",L71*0.7,IF(M71="B2",L71*0.5,IF(M71="C1",L71*0.3,IF(M71="C2",L71*0.2,0)))))))) -> 10054800 | O71: 16 | P71: =IFERROR(INDEX('[6]CN BC'!$J$10:$J$277,MATCH(B71,'[6]CN BC'!$H$10:$H$277,0)),"") -> 16.5 | Q71: =IF(P71>=O71,N71,N71/O71*P71) -> 10054800 | S71: =R71*$G$15*1 -> 0 | U71: =T71*$G$15*1 -> 0 | V71: =IF(OR(M71="A DN",M71="KXL", M71=""),"0",ROUND(K71*0.01*$G$15+R71*1%*$G$15+T71*1%*$G$15,)) -> 71820 | W71: =(Q71+S71+U71) -> 10054800 | X71: =IFERROR(INDEX([7]TL!$X$12:$X$200,MATCH(B71,[7]TL!$B$12:$B$200,0)),"0") -> 0 | Y71: =W71+X71 -> 10054800 | Z71: =Y71/AA71 -> 5.586 | AA71: 1800000 | AB71: =Z71*AA71 -> 10054800 | AC71: =A71 -> 51 | AD71: =IFERROR(INDEX('[6]CN BC'!$M$10:$M$276,MATCH(B71,'[6]CN BC'!$H$10:$H$276,0)),"") -> 0
A72: =_xlfn.AGGREGATE(4,7,A$19:A71)+1 -> 52 | B72: Giáp Thị Vượng | C72: VƯỢNG | D72: 0016100006526009 | E72: 1603205246090 | F72: 3.33 | H72: =F72+(F72*G72) -> 3.33 | J72: =VLOOKUP(B72,[4]CN!$B$33:$J$365,9,FALSE) -> Nhân viên phòng TS - Đào tạo | K72: =H72+I72 -> 3.33 | L72: =K72*$G$15 -> 5994000 | M72: =VLOOKUP(B72,'[5]Gui chi Quynh'!$B$11:$E$400,4,FALSE) -> A3 | N72: =IF(M72="A1",L72*1.6,IF(M72="A2",L72*1.4,IF(M72="A3",L72*1.2,IF(M72="A4",L72*1,IF(M72="B1",L72*0.7,IF(M72="B2",L72*0.5,IF(M72="C1",L72*0.3,IF(M72="C2",L72*0.2,0)))))))) -> 7192800 | O72: 16 | P72: =IFERROR(INDEX('[6]CN BC'!$J$10:$J$277,MATCH(B72,'[6]CN BC'!$H$10:$H$277,0)),"") -> 14 | Q72: =IF(P72>=O72,N72,N72/O72*P72) -> 6293700 | R72: 0 | S72: =R72*$G$15*1 -> 0 | U72: =T72*$G$15*1 -> 0 | V72: =IF(OR(M72="A DN",M72="KXL", M72=""),"0",ROUND(K72*0.01*$G$15+R72*1%*$G$15+T72*1%*$G$15,)) -> 59940 | W72: =(Q72+S72+U72) -> 6293700 | X72: =IFERROR(INDEX([7]TL!$X$12:$X$200,MATCH(B72,[7]TL!$B$12:$B$200,0)),"0") -> 0 | Y72: =W72+X72 -> 6293700 | Z72: =Y72/AA72 -> 3.4965 | AA72: 1800000 | AB72: =Z72*AA72 -> 6293700 | AC72: =A72 -> 52 | AD72: =IFERROR(INDEX('[6]CN BC'!$M$10:$M$276,MATCH(B72,'[6]CN BC'!$H$10:$H$276,0)),"") -> 0
A73: =_xlfn.AGGREGATE(4,7,A$19:A72)+1 -> 53 | B73: Nguyễn Thị Thùy | C73: THÙY | D73: 0016100006535008 | E73: 1603205182762 | F73: 3.96 | H73: =F73+(F73*G73) -> 3.96 | J73: =VLOOKUP(B73,[4]CN!$B$33:$J$365,9,FALSE) -> Nhân viên phòng TS - Đào tạo | K73: =H73+I73 -> 3.96 | L73: =K73*$G$15 -> 7128000 | M73: =VLOOKUP(B73,'[5]Gui chi Quynh'!$B$11:$E$400,4,FALSE) -> A2 | N73: =IF(M73="A1",L73*1.6,IF(M73="A2",L73*1.4,IF(M73="A3",L73*1.2,IF(M73="A4",L73*1,IF(M73="B1",L73*0.7,IF(M73="B2",L73*0.5,IF(M73="C1",L73*0.3,IF(M73="C2",L73*0.2,0)))))))) -> 9979200 | O73: 16 | P73: =IFERROR(INDEX('[6]CN BC'!$J$10:$J$277,MATCH(B73,'[6]CN BC'!$H$10:$H$277,0)),"") -> 16.5 | Q73: =IF(P73>=O73,N73,N73/O73*P73) -> 9979200 | S73: =R73*$G$15*1 -> 0 | U73: =T73*$G$15*1 -> 0 | V73: =IF(OR(M73="A DN",M73="KXL", M73=""),"0",ROUND(K73*0.01*$G$15+R73*1%*$G$15+T73*1%*$G$15,)) -> 71280 | W73: =(Q73+S73+U73) -> 9979200 | X73: =IFERROR(INDEX([7]TL!$X$12:$X$200,MATCH(B73,[7]TL!$B$12:$B$200,0)),"0") -> 0 | Y73: =W73+X73 -> 9979200 | Z73: =Y73/AA73 -> 5.544 | AA73: 1800000 | AB73: =Z73*AA73 -> 9979200 | AC73: =A73 -> 53 | AD73: =IFERROR(INDEX('[6]CN BC'!$M$10:$M$276,MATCH(B73,'[6]CN BC'!$H$10:$H$276,0)),"") -> Trừ 2 ngày nghỉ phép 15+16/2
A74: =_xlfn.AGGREGATE(4,7,A$19:A73)+1 -> 54 | B74: Nguyễn Thị Hải Hà | C74: HÀ | D74: 0016100006541008 | E74: 1603205182178 | F74: 3.66 | H74: =F74+(F74*G74) -> 3.66 | J74: =VLOOKUP(B74,[4]CN!$B$33:$J$365,9,FALSE) -> Nhân viên phòng TS - Đào tạo | K74: =H74+I74 -> 3.66 | L74: =K74*$G$15 -> 6588000 | M74: =VLOOKUP(B74,'[5]Gui chi Quynh'!$B$11:$E$400,4,FALSE) -> A1 | N74: =IF(M74="A1",L74*1.6,IF(M74="A2",L74*1.4,IF(M74="A3",L74*1.2,IF(M74="A4",L74*1,IF(M74="B1",L74*0.7,IF(M74="B2",L74*0.5,IF(M74="C1",L74*0.3,IF(M74="C2",L74*0.2,0)))))))) -> 10540800 | O74: 16 | P74: =IFERROR(INDEX('[6]CN BC'!$J$10:$J$277,MATCH(B74,'[6]CN BC'!$H$10:$H$277,0)),"") -> 17.5 | Q74: =IF(P74>=O74,N74,N74/O74*P74) -> 10540800 | S74: =R74*$G$15*1.6 -> 0 | U74: =T74*$G$15*1 -> 0 | V74: =IF(OR(M74="A DN",M74="KXL", M74=""),"0",ROUND(K74*0.01*$G$15+R74*1%*$G$15+T74*1%*$G$15,)) -> 65880 | W74: =(Q74+S74+U74) -> 10540800 | X74: =IFERROR(INDEX([7]TL!$X$12:$X$200,MATCH(B74,[7]TL!$B$12:$B$200,0)),"0") -> 0 | Y74: =W74+X74 -> 10540800 | Z74: =Y74/AA74 -> 5.856 | AA74: 1800000 | AB74: =Z74*AA74 -> 10540800 | AC74: =A74 -> 54 | AD74: =IFERROR(INDEX('[6]CN BC'!$M$10:$M$276,MATCH(B74,'[6]CN BC'!$H$10:$H$276,0)),"") -> 0
A75: =_xlfn.AGGREGATE(4,7,A$19:A74)+1 -> 55 | B75: Thái Thị My Sa | C75: SA | D75: 0016100006768002 | E75: 1603205351697 | F75: 3.33 | H75: =F75+(F75*G75) -> 3.33 | J75: =VLOOKUP(B75,[4]CN!$B$33:$J$365,9,FALSE) -> Nhân viên phòng TS - Đào tạo | K75: =H75+I75 -> 3.33 | L75: =K75*$G$15 -> 5994000 | M75: =VLOOKUP(B75,'[5]Gui chi Quynh'!$B$11:$E$400,4,FALSE) -> A3 | N75: =IF(M75="A1",L75*1.6,IF(M75="A2",L75*1.4,IF(M75="A3",L75*1.2,IF(M75="A4",L75*1,IF(M75="B1",L75*0.7,IF(M75="B2",L75*0.5,IF(M75="C1",L75*0.3,IF(M75="C2",L75*0.2,0)))))))) -> 7192800 | O75: 16 | P75: =IFERROR(INDEX('[6]CN BC'!$J$10:$J$277,MATCH(B75,'[6]CN BC'!$H$10:$H$277,0)),"") -> 13.5 | Q75: =IF(P75>=O75,N75,N75/O75*P75) -> 6068925 | S75: =R75*$G$15*1 -> 0 | U75: =T75*$G$15*1 -> 0 | V75: =IF(OR(M75="A DN",M75="KXL", M75=""),"0",ROUND(K75*0.01*$G$15+R75*1%*$G$15+T75*1%*$G$15,)) -> 59940 | W75: =(Q75+S75+U75) -> 6068925 | X75: =IFERROR(INDEX([7]TL!$X$12:$X$200,MATCH(B75,[7]TL!$B$12:$B$200,0)),"0") -> 0 | Y75: =W75+X75 -> 6068925 | Z75: =Y75/AA75 -> 3.371625 | AA75: 1800000 | AB75: =Z75*AA75 -> 6068925 | AC75: =A75 -> 55 | AD75: =IFERROR(INDEX('[6]CN BC'!$M$10:$M$276,MATCH(B75,'[6]CN BC'!$H$10:$H$276,0)),"") -> 0
A76: =_xlfn.AGGREGATE(4,7,A$19:A75)+1 -> 56 | B76: Mai Nguyễn Hoàng Yến | C76: YẾN | D76: 0016100006652004 | E76: 1603205357194 | F76: 3.33 | H76: =F76+(F76*G76) -> 3.33 | J76: =VLOOKUP(B76,[4]CN!$B$33:$J$365,9,FALSE) -> Nhân viên phòng Tuyển sinh - Đào tạo | K76: =H76+I76 -> 3.33 | L76: =K76*$G$15 -> 5994000 | M76: =VLOOKUP(B76,'[5]Gui chi Quynh'!$B$11:$E$400,4,FALSE) -> A3 | N76: =IF(M76="A1",L76*1.6,IF(M76="A2",L76*1.4,IF(M76="A3",L76*1.2,IF(M76="A4",L76*1,IF(M76="B1",L76*0.7,IF(M76="B2",L76*0.5,IF(M76="C1",L76*0.3,IF(M76="C2",L76*0.2,0)))))))) -> 7192800 | O76: 16 | P76: =IFERROR(INDEX('[6]CN BC'!$J$10:$J$277,MATCH(B76,'[6]CN BC'!$H$10:$H$277,0)),"") -> 17.5 | Q76: =IF(P76>=O76,N76,N76/O76*P76) -> 7192800 | S76: =R76*$G$15*1 -> 0 | U76: =T76*$G$15*1 -> 0 | V76: =IF(OR(M76="A DN",M76="KXL", M76=""),"0",ROUND(K76*0.01*$G$15+R76*1%*$G$15+T76*1%*$G$15,)) -> 59940 | W76: =(Q76+S76+U76) -> 7192800 | X76: =IFERROR(INDEX([7]TL!$X$12:$X$200,MATCH(B76,[7]TL!$B$12:$B$200,0)),"0") -> 0 | Y76: =W76+X76 -> 7192800 | Z76: =Y76/AA76 -> 3.996 | AA76: 1800000 | AB76: =Z76*AA76 -> 7192800 | AC76: =A76 -> 56 | AD76: =IFERROR(INDEX('[6]CN BC'!$M$10:$M$276,MATCH(B76,'[6]CN BC'!$H$10:$H$276,0)),"") -> 0
A77: =_xlfn.AGGREGATE(4,7,A$19:A76)+1 -> 57 | B77: Nguyễn Chí Nhân | C77: NHÂN | D77: 0016100006689005 | E77: 1603205182184 | F77: 4.65 | H77: =F77+(F77*G77) -> 4.65 | I77: 0.45 | J77: =VLOOKUP(B77,[4]CN!$B$33:$J$365,9,FALSE) -> Trưởng phòng Khảo thí và ĐBCL | K77: =H77+I77 -> 5.1 | L77: =K77*$G$15 -> 9180000 | M77: =VLOOKUP(B77,'[5]Gui chi Quynh'!$B$11:$E$400,4,FALSE) -> A1 | N77: =IF(M77="A1",L77*1.6,IF(M77="A2",L77*1.4,IF(M77="A3",L77*1.2,IF(M77="A4",L77*1,IF(M77="B1",L77*0.7,IF(M77="B2",L77*0.5,IF(M77="C1",L77*0.3,IF(M77="C2",L77*0.2,0)))))))) -> 14688000 | O77: 16 | P77: =IFERROR(INDEX('[6]CN BC'!$J$10:$J$277,MATCH(B77,'[6]CN BC'!$H$10:$H$277,0)),"") -> 19 | Q77: =IF(P77>=O77,N77,N77/O77*P77) -> 14688000 | S77: =R77*$G$15*1 -> 0 | U77: =T77*$G$15*1 -> 0 | V77: =IF(OR(M77="A DN",M77="KXL", M77=""),"0",ROUND(K77*0.01*$G$15+R77*1%*$G$15+T77*1%*$G$15,)) -> 91800 | W77: =(Q77+S77+U77) -> 14688000 | X77: =IFERROR(INDEX([7]TL!$X$12:$X$200,MATCH(B77,[7]TL!$B$12:$B$200,0)),"0") -> 0 | Y77: =W77+X77 -> 14688000 | Z77: =Y77/AA77 -> 8.16 | AA77: 1800000 | AB77: =Z77*AA77 -> 14688000 | AC77: =A77 -> 57 | AD77: =IFERROR(INDEX('[6]CN BC'!$M$10:$M$276,MATCH(B77,'[6]CN BC'!$H$10:$H$276,0)),"") -> 0
A78: =_xlfn.AGGREGATE(4,7,A$19:A77)+1 -> 58 | B78: Nguyễn Thị Kim Dung | C78: DUNG | D78: 0016100006682008 | E78: 1603205182336 | F78: 4.32 | H78: =F78+(F78*G78) -> 4.32 | I78: 0.35 | J78: =VLOOKUP(B78,[4]CN!$B$33:$J$365,9,FALSE) -> Phó TP. Kế hoạch - Tài chính | K78: =H78+I78 -> 4.67 | L78: =K78*$G$15 -> 8406000 | M78: =VLOOKUP(B78,'[5]Gui chi Quynh'!$B$11:$E$400,4,FALSE) -> A3 | N78: =IF(M78="A1",L78*1.6,IF(M78="A2",L78*1.4,IF(M78="A3",L78*1.2,IF(M78="A4",L78*1,IF(M78="B1",L78*0.7,IF(M78="B2",L78*0.5,IF(M78="C1",L78*0.3,IF(M78="C2",L78*0.2,0)))))))) -> 10087200 | O78: 16 | P78: =IFERROR(INDEX('[6]CN BC'!$J$10:$J$277,MATCH(B78,'[6]CN BC'!$H$10:$H$277,0)),"") -> 14 | Q78: =IF(P78>=O78,N78,N78/O78*P78) -> 8826300 | S78: =R78*$G$15*1 -> 0 | U78: =T78*$G$15*1 -> 0 | V78: =IF(OR(M78="A DN",M78="KXL", M78=""),"0",ROUND(K78*0.01*$G$15+R78*1%*$G$15+T78*1%*$G$15,)) -> 84060 | W78: =(Q78+S78+U78) -> 8826300 | X78: =IFERROR(INDEX([7]TL!$X$12:$X$200,MATCH(B78,[7]TL!$B$12:$B$200,0)),"0") -> 0 | Y78: =W78+X78 -> 8826300 | Z78: =Y78/AA78 -> 4.9035 | AA78: 1800000 | AB78: =Z78*AA78 -> 8826300 | AC78: =A78 -> 58 | AD78: =IFERROR(INDEX('[6]CN BC'!$M$10:$M$276,MATCH(B78,'[6]CN BC'!$H$10:$H$276,0)),"") -> Trừ 3 ngày nghỉ phép 5+6+7/2
A79: =_xlfn.AGGREGATE(4,7,A$19:A78)+1 -> 59 | B79: Nguyễn Thanh Sơn | C79: SƠN (B) | D79: 0016100006721006 | E79: 1603205303449 | F79: 4.98 | G79: 0.2 | H79: =F79+(F79*G79) -> 5.976 | J79: =VLOOKUP(B79,[4]CN!$B$33:$J$365,9,FALSE) -> Nhân viên phòng Khảo thí và ĐBCL | K79: =H79+I79 -> 5.976 | L79: =K79*$G$15 -> 10756800 | M79: =VLOOKUP(B79,'[5]Gui chi Quynh'!$B$11:$E$400,4,FALSE) -> A4 | N79: =IF(M79="A1",L79*1.6,IF(M79="A2",L79*1.4,IF(M79="A3",L79*1.2,IF(M79="A4",L79*1,IF(M79="B1",L79*0.7,IF(M79="B2",L79*0.5,IF(M79="C1",L79*0.3,IF(M79="C2",L79*0.2,0)))))))) -> 10756800 | O79: 16 | P79: =IFERROR(INDEX('[6]CN BC'!$J$10:$J$277,MATCH(B79,'[6]CN BC'!$H$10:$H$277,0)),"") -> 15 | Q79: =IF(P79>=O79,N79,N79/O79*P79) -> 10084500 | S79: =R79*$G$15*1 -> 0 | U79: =T79*$G$15*1 -> 0 | V79: =IF(OR(M79="A DN",M79="KXL", M79=""),"0",ROUND(K79*0.01*$G$15+R79*1%*$G$15+T79*1%*$G$15,)) -> 107568 | W79: =(Q79+S79+U79) -> 10084500 | X79: =IFERROR(INDEX([7]TL!$X$12:$X$200,MATCH(B79,[7]TL!$B$12:$B$200,0)),"0") -> 0 | Y79: =W79+X79 -> 10084500 | Z79: =Y79/AA79 -> 5.6025 | AA79: 1800000 | AB79: =Z79*AA79 -> 10084500 | AC79: =A79 -> 59 | AD79: =IFERROR(INDEX('[6]CN BC'!$M$10:$M$276,MATCH(B79,'[6]CN BC'!$H$10:$H$276,0)),"") -> Trừ 1 ngày nghỉ phép 15/2
A80: =_xlfn.AGGREGATE(4,7,A$19:A79)+1 -> 60 | B80: Vũ Thị Thu Thủy | C80: THỦY | D80: 0016100006685007 | E80: 1603205182575 | F80: 3.66 | H80: =F80+(F80*G80) -> 3.66 | J80: =VLOOKUP(B80,[4]CN!$B$33:$J$365,9,FALSE) -> Nhân viên phòng Khảo thí và ĐBCL | K80: =H80+I80 -> 3.66 | L80: =K80*$G$15 -> 6588000 | M80: =VLOOKUP(B80,'[5]Gui chi Quynh'!$B$11:$E$400,4,FALSE) -> A3 | N80: =IF(M80="A1",L80*1.6,IF(M80="A2",L80*1.4,IF(M80="A3",L80*1.2,IF(M80="A4",L80*1,IF(M80="B1",L80*0.7,IF(M80="B2",L80*0.5,IF(M80="C1",L80*0.3,IF(M80="C2",L80*0.2,0)))))))) -> 7905600 | O80: 16 | P80: =IFERROR(INDEX('[6]CN BC'!$J$10:$J$277,MATCH(B80,'[6]CN BC'!$H$10:$H$277,0)),"") -> 16 | Q80: =IF(P80>=O80,N80,N80/O80*P80) -> 7905600 | S80: =R80*$G$15*0.8 -> 0 | U80: =T80*$G$15*1 -> 0 | V80: =IF(OR(M80="A DN",M80="KXL", M80=""),"0",ROUND(K80*0.01*$G$15+R80*1%*$G$15+T80*1%*$G$15,)) -> 65880 | W80: =(Q80+S80+U80) -> 7905600 | X80: =IFERROR(INDEX([7]TL!$X$12:$X$200,MATCH(B80,[7]TL!$B$12:$B$200,0)),"0") -> 0 | Y80: =W80+X80 -> 7905600 | Z80: =Y80/AA80 -> 4.392 | AA80: 1800000 | AB80: =Z80*AA80 -> 7905600 | AC80: =A80 -> 60 | AD80: =IFERROR(INDEX('[6]CN BC'!$M$10:$M$276,MATCH(B80,'[6]CN BC'!$H$10:$H$276,0)),"") -> 0
A81: =_xlfn.AGGREGATE(4,7,A$19:A80)+1 -> 61 | B81: Nguyễn Thị Tuyết | C81: TUYẾT | D81: 0016100006733004 | E81: 1603205182756 | F81: 3.66 | H81: =F81+(F81*G81) -> 3.66 | J81: =VLOOKUP(B81,[4]CN!$B$33:$J$365,9,FALSE) -> Nhân viên phòng Khảo thí và ĐBCL | K81: =H81+I81 -> 3.66 | L81: =K81*$G$15 -> 6588000 | M81: =VLOOKUP(B81,'[5]Gui chi Quynh'!$B$11:$E$400,4,FALSE) -> A2 | N81: =IF(M81="A1",L81*1.6,IF(M81="A2",L81*1.4,IF(M81="A3",L81*1.2,IF(M81="A4",L81*1,IF(M81="B1",L81*0.7,IF(M81="B2",L81*0.5,IF(M81="C1",L81*0.3,IF(M81="C2",L81*0.2,0)))))))) -> 9223200 | O81: 16 | P81: =IFERROR(INDEX('[6]CN BC'!$J$10:$J$277,MATCH(B81,'[6]CN BC'!$H$10:$H$277,0)),"") -> 16 | Q81: =IF(P81>=O81,N81,N81/O81*P81) -> 9223200 | S81: =R81*$G$15*0.8 -> 0 | U81: =T81*$G$15*1 -> 0 | V81: =IF(OR(M81="A DN",M81="KXL", M81=""),"0",ROUND(K81*0.01*$G$15+R81*1%*$G$15+T81*1%*$G$15,)) -> 65880 | W81: =(Q81+S81+U81) -> 9223200 | X81: =IFERROR(INDEX([7]TL!$X$12:$X$200,MATCH(B81,[7]TL!$B$12:$B$200,0)),"0") -> 0 | Y81: =W81+X81 -> 9223200 | Z81: =Y81/AA81 -> 5.124 | AA81: 1800000 | AB81: =Z81*AA81 -> 9223200 | AC81: =A81 -> 61 | AD81: =IFERROR(INDEX('[6]CN BC'!$M$10:$M$276,MATCH(B81,'[6]CN BC'!$H$10:$H$276,0)),"") -> 0
A82: =_xlfn.AGGREGATE(4,7,A$19:A81)+1 -> 62 | B82: Lương Minh Dũng | C82: DŨNG | D82: 0016100006792008 | E82: 1603205286752 | F82: 3.66 | H82: =F82+(F82*G82) -> 3.66 | J82: =VLOOKUP(B82,[4]CN!$B$33:$J$365,9,FALSE) -> Nhân viên phòng Khảo thí và ĐBCL | K82: =H82+I82 -> 3.66 | L82: =K82*$G$15 -> 6588000 | M82: =VLOOKUP(B82,'[5]Gui chi Quynh'!$B$11:$E$400,4,FALSE) -> A3 | N82: =IF(M82="A1",L82*1.6,IF(M82="A2",L82*1.4,IF(M82="A3",L82*1.2,IF(M82="A4",L82*1,IF(M82="B1",L82*0.7,IF(M82="B2",L82*0.5,IF(M82="C1",L82*0.3,IF(M82="C2",L82*0.2,0)))))))) -> 7905600 | O82: 16 | P82: =IFERROR(INDEX('[6]CN BC'!$J$10:$J$277,MATCH(B82,'[6]CN BC'!$H$10:$H$277,0)),"") -> 12 | Q82: =IF(P82>=O82,N82,N82/O82*P82) -> 5929200 | S82: =R82*$G$15*0.8 -> 0 | U82: =T82*$G$15*1 -> 0 | V82: =IF(OR(M82="A DN",M82="KXL", M82=""),"0",ROUND(K82*0.01*$G$15+R82*1%*$G$15+T82*1%*$G$15,)) -> 65880 | W82: =(Q82+S82+U82) -> 5929200 | X82: =IFERROR(INDEX([7]TL!$X$12:$X$200,MATCH(B82,[7]TL!$B$12:$B$200,0)),"0") -> 0 | Y82: =W82+X82 -> 5929200 | Z82: =Y82/AA82 -> 3.294 | AA82: 1800000 | AB82: =Z82*AA82 -> 5929200 | AC82: =A82 -> 62 | AD82: =IFERROR(INDEX('[6]CN BC'!$M$10:$M$276,MATCH(B82,'[6]CN BC'!$H$10:$H$276,0)),"") -> Trừ 1 ngày nghỉ phép 2/2 và 3 ngày nghỉ chế độ tang 5+6+7/2
A83: =_xlfn.AGGREGATE(4,7,A$19:A82)+1 -> 63 | B83: Trương Thị Hồng | D83: 0016100006657006 | E83: 1603205186603 | F83: 3 | H83: =F83+(F83*G83) -> 3 | I83: 0.35 | J83: =VLOOKUP(B83,[4]CN!$B$33:$J$365,9,FALSE) -> Nhân viên phòng Khảo thí và ĐBCL | K83: =H83+I83 -> 3.35 | L83: =K83*$G$15 -> 6030000 | M83: =VLOOKUP(B83,'[5]Gui chi Quynh'!$B$11:$E$400,4,FALSE) -> A1 | N83: =IF(M83="A1",L83*1.6,IF(M83="A2",L83*1.4,IF(M83="A3",L83*1.2,IF(M83="A4",L83*1,IF(M83="B1",L83*0.7,IF(M83="B2",L83*0.5,IF(M83="C1",L83*0.3,IF(M83="C2",L83*0.2,0)))))))) -> 9648000 | O83: 16 | P83: =IFERROR(INDEX('[6]CN BC'!$J$10:$J$277,MATCH(B83,'[6]CN BC'!$H$10:$H$277,0)),"") -> 19 | Q83: =IF(P83>=O83,N83,N83/O83*P83) -> 9648000 | S83: =R83*$G$15*1 -> 0 | U83: =T83*$G$15*1 -> 0 | V83: =IF(OR(M83="A DN",M83="KXL", M83=""),"0",ROUND(K83*0.01*$G$15+R83*1%*$G$15+T83*1%*$G$15,)) -> 60300 | W83: =(Q83+S83+U83) -> 9648000 | X83: =IFERROR(INDEX([7]TL!$X$12:$X$200,MATCH(B83,[7]TL!$B$12:$B$200,0)),"0") -> 0 | Y83: =W83+X83 -> 9648000 | Z83: =Y83/AA83 -> 5.36 | AA83: 1800000 | AB83: =Z83*AA83 -> 9648000 | AC83: =A83 -> 63 | AD83: =IFERROR(INDEX('[6]CN BC'!$M$10:$M$276,MATCH(B83,'[6]CN BC'!$H$10:$H$276,0)),"") -> 0
A84: =_xlfn.AGGREGATE(4,7,A$19:A83)+1 -> 64 | B84: Nguyễn Hữu Thiện | C84: THIỆN | D84: 0016100006563001 | E84: 1603205185147 | F84: 3.66 | H84: =F84+(F84*G84) -> 3.66 | I84: 0.45 | J84: =VLOOKUP(B84,[4]CN!$B$33:$J$365,9,FALSE) -> Trưởng TT Điều hành và QLDL | K84: =H84+I84 -> 4.11 | L84: =K84*$G$15 -> 7398000 | M84: =VLOOKUP(B84,'[5]Gui chi Quynh'!$B$11:$E$400,4,FALSE) -> A1 | N84: =IF(M84="A1",L84*1.6,IF(M84="A2",L84*1.4,IF(M84="A3",L84*1.2,IF(M84="A4",L84*1,IF(M84="B1",L84*0.7,IF(M84="B2",L84*0.5,IF(M84="C1",L84*0.3,IF(M84="C2",L84*0.2,0)))))))) -> 11836800 | O84: 16 | P84: =IFERROR(INDEX('[6]CN BC'!$J$10:$J$277,MATCH(B84,'[6]CN BC'!$H$10:$H$277,0)),"") -> 19 | Q84: =IF(P84>=O84,N84,N84/O84*P84) -> 11836800 | S84: =R84*$G$15*1 -> 0 | U84: =T84*$G$15*1 -> 0 | V84: =IF(OR(M84="A DN",M84="KXL", M84=""),"0",ROUND(K84*0.01*$G$15+R84*1%*$G$15+T84*1%*$G$15,)) -> 73980 | W84: =(Q84+S84+U84) -> 11836800 | X84: =IFERROR(INDEX([7]TL!$X$12:$X$200,MATCH(B84,[7]TL!$B$12:$B$200,0)),"0") -> 0 | Y84: =W84+X84 -> 11836800 | Z84: =Y84/AA84 -> 6.576 | AA84: 1800000 | AB84: =Z84*AA84 -> 11836800 | AC84: =A84 -> 64 | AD84: =IFERROR(INDEX('[6]CN BC'!$M$10:$M$276,MATCH(B84,'[6]CN BC'!$H$10:$H$276,0)),"") -> 0
A85: =_xlfn.AGGREGATE(4,7,A$19:A84)+1 -> 65 | B85: Trương Hữu Lộc | C85: LỘC | D85: 0016100006562005 | E85: 1603205246010 | F85: 3.66 | H85: =F85+(F85*G85) -> 3.66 | J85: =VLOOKUP(B85,[4]CN!$B$33:$J$365,9,FALSE) -> NV Trung tâm ĐH và QLDL | K85: =H85+I85 -> 3.66 | L85: =K85*$G$15 -> 6588000 | M85: =VLOOKUP(B85,'[5]Gui chi Quynh'!$B$11:$E$400,4,FALSE) -> A1 | N85: =IF(M85="A1",L85*1.6,IF(M85="A2",L85*1.4,IF(M85="A3",L85*1.2,IF(M85="A4",L85*1,IF(M85="B1",L85*0.7,IF(M85="B2",L85*0.5,IF(M85="C1",L85*0.3,IF(M85="C2",L85*0.2,0)))))))) -> 10540800 | O85: 16 | P85: =IFERROR(INDEX('[6]CN BC'!$J$10:$J$277,MATCH(B85,'[6]CN BC'!$H$10:$H$277,0)),"") -> 19 | Q85: =IF(P85>=O85,N85,N85/O85*P85) -> 10540800 | S85: =R85*$G$15*1 -> 0 | U85: =T85*$G$15*1 -> 0 | V85: =IF(OR(M85="A DN",M85="KXL", M85=""),"0",ROUND(K85*0.01*$G$15+R85*1%*$G$15+T85*1%*$G$15,)) -> 65880 | W85: =(Q85+S85+U85) -> 10540800 | X85: =IFERROR(INDEX([7]TL!$X$12:$X$200,MATCH(B85,[7]TL!$B$12:$B$200,0)),"0") -> 0 | Y85: =W85+X85 -> 10540800 | Z85: =Y85/AA85 -> 5.856 | AA85: 1800000 | AB85: =Z85*AA85 -> 10540800 | AC85: =A85 -> 65 | AD85: =IFERROR(INDEX('[6]CN BC'!$M$10:$M$276,MATCH(B85,'[6]CN BC'!$H$10:$H$276,0)),"") -> 0
A86: =_xlfn.AGGREGATE(4,7,A$19:A85)+1 -> 66 | B86: Vương Hội Khánh | C86: KHÁNH | D86: 0016100006542004 | E86: 1603205254263 | F86: 3.26 | H86: =F86+(F86*G86) -> 3.26 | J86: =VLOOKUP(B86,[4]CN!$B$33:$J$365,9,FALSE) -> Nhân viên TT Điều hành và QLDL | K86: =H86+I86 -> 3.26 | L86: =K86*$G$15 -> 5868000 | M86: =VLOOKUP(B86,'[5]Gui chi Quynh'!$B$11:$E$400,4,FALSE) -> A2 | N86: =IF(M86="A1",L86*1.6,IF(M86="A2",L86*1.4,IF(M86="A3",L86*1.2,IF(M86="A4",L86*1,IF(M86="B1",L86*0.7,IF(M86="B2",L86*0.5,IF(M86="C1",L86*0.3,IF(M86="C2",L86*0.2,0)))))))) -> 8215200 | O86: 16 | P86: =IFERROR(INDEX('[6]CN BC'!$J$10:$J$277,MATCH(B86,'[6]CN BC'!$H$10:$H$277,0)),"") -> 18 | Q86: =IF(P86>=O86,N86,N86/O86*P86) -> 8215200 | S86: =R86*$G$15*1.2 -> 0 | U86: =T86*$G$15*1 -> 0 | V86: =IF(OR(M86="A DN",M86="KXL", M86=""),"0",ROUND(K86*0.01*$G$15+R86*1%*$G$15+T86*1%*$G$15,)) -> 58680 | W86: =(Q86+S86+U86) -> 8215200 | X86: =IFERROR(INDEX([7]TL!$X$12:$X$200,MATCH(B86,[7]TL!$B$12:$B$200,0)),"0") -> 0 | Y86: =W86+X86 -> 8215200 | Z86: =Y86/AA86 -> 4.564 | AA86: 1800000 | AB86: =Z86*AA86 -> 8215200 | AC86: =A86 -> 66 | AD86: =IFERROR(INDEX('[6]CN BC'!$M$10:$M$276,MATCH(B86,'[6]CN BC'!$H$10:$H$276,0)),"") -> 0
A87: =_xlfn.AGGREGATE(4,7,A$19:A86)+1 -> 67 | B87: Hồ Ngọc Chi | D87: 0016100007759007 | E87: 1603215005599 | F87: 3.66 | H87: =F87+(F87*G87) -> 3.66 | I87: 0.45 | J87: =VLOOKUP(B87,[4]CN!$B$33:$J$365,9,FALSE) -> Phụ trách TT Thư viện | K87: =H87+I87 -> 4.11 | L87: =K87*$G$15 -> 7398000 | M87: =VLOOKUP(B87,'[5]Gui chi Quynh'!$B$11:$E$400,4,FALSE) -> A1 | N87: =IF(M87="A1",L87*1.6,IF(M87="A2",L87*1.4,IF(M87="A3",L87*1.2,IF(M87="A4",L87*1,IF(M87="B1",L87*0.7,IF(M87="B2",L87*0.5,IF(M87="C1",L87*0.3,IF(M87="C2",L87*0.2,0)))))))) -> 11836800 | O87: 16 | P87: =IFERROR(INDEX('[6]CN BC'!$J$10:$J$277,MATCH(B87,'[6]CN BC'!$H$10:$H$277,0)),"") -> 16 | Q87: =IF(P87>=O87,N87,N87/O87*P87) -> 11836800 | S87: =R87*$G$15*1 -> 0 | U87: =T87*$G$15*1 -> 0 | V87: =IF(OR(M87="A DN",M87="KXL", M87=""),"0",ROUND(K87*0.01*$G$15+R87*1%*$G$15+T87*1%*$G$15,)) -> 73980 | W87: =(Q87+S87+U87) -> 11836800 | X87: =IFERROR(INDEX([7]TL!$X$12:$X$200,MATCH(B87,[7]TL!$B$12:$B$200,0)),"0") -> 0 | Y87: =W87+X87 -> 11836800 | Z87: =Y87/AA87 -> 6.576 | AA87: 1800000 | AB87: =Z87*AA87 -> 11836800 | AC87: =A87 -> 67 | AD87: =IFERROR(INDEX('[6]CN BC'!$M$10:$M$276,MATCH(B87,'[6]CN BC'!$H$10:$H$276,0)),"") -> 0
A88: =_xlfn.AGGREGATE(4,7,A$19:A87)+1 -> 68 | B88: Đặng Thu Hà | C88: HÀ | D88: 0016100006633007 | E88: 1603205246400 | F88: 3.33 | H88: =F88+(F88*G88) -> 3.33 | J88: =VLOOKUP(B88,[4]CN!$B$33:$J$365,9,FALSE) -> Nhân viên TT Thư viện | K88: =H88+I88 -> 3.33 | L88: =K88*$G$15 -> 5994000 | M88: =VLOOKUP(B88,'[5]Gui chi Quynh'!$B$11:$E$400,4,FALSE) -> A3 | N88: =IF(M88="A1",L88*1.6,IF(M88="A2",L88*1.4,IF(M88="A3",L88*1.2,IF(M88="A4",L88*1,IF(M88="B1",L88*0.7,IF(M88="B2",L88*0.5,IF(M88="C1",L88*0.3,IF(M88="C2",L88*0.2,0)))))))) -> 7192800 | O88: 16 | P88: =IFERROR(INDEX('[6]CN BC'!$J$10:$J$277,MATCH(B88,'[6]CN BC'!$H$10:$H$277,0)),"") -> 17 | Q88: =IF(P88>=O88,N88,N88/O88*P88) -> 7192800 | S88: =R88*$G$15*1 -> 0 | U88: =T88*$G$15*1 -> 0 | V88: =IF(OR(M88="A DN",M88="KXL", M88=""),"0",ROUND(K88*0.01*$G$15+R88*1%*$G$15+T88*1%*$G$15,)) -> 59940 | W88: =(Q88+S88+U88) -> 7192800 | X88: =IFERROR(INDEX([7]TL!$X$12:$X$200,MATCH(B88,[7]TL!$B$12:$B$200,0)),"0") -> 0 | Y88: =W88+X88 -> 7192800 | Z88: =Y88/AA88 -> 3.996 | AA88: 1800000 | AB88: =Z88*AA88 -> 7192800 | AC88: =A88 -> 68 | AD88: =IFERROR(INDEX('[6]CN BC'!$M$10:$M$276,MATCH(B88,'[6]CN BC'!$H$10:$H$276,0)),"") -> 0
A89: =_xlfn.AGGREGATE(4,7,A$19:A88)+1 -> 69 | B89: Trần Thị Diễm Thúy | C89: THÚY | D89: 0016100006561009 | E89: 1603205185623 | F89: 3.33 | H89: =F89+(F89*G89) -> 3.33 | J89: =VLOOKUP(B89,[4]CN!$B$33:$J$365,9,FALSE) -> Nhân viên TT Thư viện | K89: =H89+I89 -> 3.33 | L89: =K89*$G$15 -> 5994000 | M89: =VLOOKUP(B89,'[5]Gui chi Quynh'!$B$11:$E$400,4,FALSE) -> A4 | N89: =IF(M89="A1",L89*1.6,IF(M89="A2",L89*1.4,IF(M89="A3",L89*1.2,IF(M89="A4",L89*1,IF(M89="B1",L89*0.7,IF(M89="B2",L89*0.5,IF(M89="C1",L89*0.3,IF(M89="C2",L89*0.2,0)))))))) -> 5994000 | O89: 16 | P89: =IFERROR(INDEX('[6]CN BC'!$J$10:$J$277,MATCH(B89,'[6]CN BC'!$H$10:$H$277,0)),"") -> 13 | Q89: =IF(P89>=O89,N89,N89/O89*P89) -> 4870125 | S89: =R89*$G$15*1 -> 0 | U89: =T89*$G$15*1 -> 0 | V89: =IF(OR(M89="A DN",M89="KXL", M89=""),"0",ROUND(K89*0.01*$G$15+R89*1%*$G$15+T89*1%*$G$15,)) -> 59940 | W89: =(Q89+S89+U89) -> 4870125 | X89: =IFERROR(INDEX([7]TL!$X$12:$X$200,MATCH(B89,[7]TL!$B$12:$B$200,0)),"0") -> 0 | Y89: =W89+X89 -> 4870125 | Z89: =Y89/AA89 -> 2.705625 | AA89: 1800000 | AB89: =Z89*AA89 -> 4870125 | AC89: =A89 -> 69 | AD89: =IFERROR(INDEX('[6]CN BC'!$M$10:$M$276,MATCH(B89,'[6]CN BC'!$H$10:$H$276,0)),"") -> Trừ 3 ngày nghỉ phép 7+15+16/2
A90: =_xlfn.AGGREGATE(4,7,A$19:A89)+1 -> 70 | B90: Nguyễn Tứ Cảnh | C90: CẢNH | D90: 0016100006501006 | E90: 1603205179013 | F90: 4.98 | G90: 0.05 | H90: =F90+(F90*G90) -> 5.229 | J90: =VLOOKUP(B90,[4]CN!$B$33:$J$365,9,FALSE) -> Nhân viên TT Thư viện | K90: =H90+I90 -> 5.229 | L90: =K90*$G$15 -> 9412200 | M90: =VLOOKUP(B90,'[5]Gui chi Quynh'!$B$11:$E$400,4,FALSE) -> A4 | N90: =IF(M90="A1",L90*1.6,IF(M90="A2",L90*1.4,IF(M90="A3",L90*1.2,IF(M90="A4",L90*1,IF(M90="B1",L90*0.7,IF(M90="B2",L90*0.5,IF(M90="C1",L90*0.3,IF(M90="C2",L90*0.2,0)))))))) -> 9412200 | O90: 16 | P90: =IFERROR(INDEX('[6]CN BC'!$J$10:$J$277,MATCH(B90,'[6]CN BC'!$H$10:$H$277,0)),"") -> 16 | Q90: =IF(P90>=O90,N90,N90/O90*P90) -> 9412200 | S90: =R90*$G$15*1 -> 0 | U90: =T90*$G$15*1 -> 0 | V90: =IF(OR(M90="A DN",M90="KXL", M90=""),"0",ROUND(K90*0.01*$G$15+R90*1%*$G$15+T90*1%*$G$15,)) -> 94122 | W90: =(Q90+S90+U90) -> 9412200 | X90: =IFERROR(INDEX([7]TL!$X$12:$X$200,MATCH(B90,[7]TL!$B$12:$B$200,0)),"0") -> 0 | Y90: =W90+X90 -> 9412200 | Z90: =Y90/AA90 -> 5.229 | AA90: 1800000 | AB90: =Z90*AA90 -> 9412200 | AC90: =A90 -> 70 | AD90: =IFERROR(INDEX('[6]CN BC'!$M$10:$M$276,MATCH(B90,'[6]CN BC'!$H$10:$H$276,0)),"") -> 0
A91: =_xlfn.AGGREGATE(4,7,A$19:A90)+1 -> 71 | B91: Nguyễn Trọng Nghĩa | C91: NGHĨA | D91: 0016100006639008 | E91: 1603215002243 | F91: 4.98 | H91: =F91+(F91*G91) -> 4.98 | I91: 0.45 | J91: =VLOOKUP(B91,[4]CN!$B$33:$J$365,9,FALSE) -> Trưởng phòng KHCN & HTQT | K91: =H91+I91 -> 5.43 | L91: =K91*$G$15 -> 9774000 | M91: =VLOOKUP(B91,'[5]Gui chi Quynh'!$B$11:$E$400,4,FALSE) -> A1 | N91: =IF(M91="A1",L91*1.6,IF(M91="A2",L91*1.4,IF(M91="A3",L91*1.2,IF(M91="A4",L91*1,IF(M91="B1",L91*0.7,IF(M91="B2",L91*0.5,IF(M91="C1",L91*0.3,IF(M91="C2",L91*0.2,0)))))))) -> 15638400 | O91: 16 | P91: =IFERROR(INDEX('[6]CN BC'!$J$10:$J$277,MATCH(B91,'[6]CN BC'!$H$10:$H$277,0)),"") -> 16 | Q91: =IF(P91>=O91,N91,N91/O91*P91) -> 15638400 | S91: =R91*$G$15*1 -> 0 | U91: =T91*$G$15*1 -> 0 | V91: =IF(OR(M91="A DN",M91="KXL", M91=""),"0",ROUND(K91*0.01*$G$15+R91*1%*$G$15+T91*1%*$G$15,)) -> 97740 | W91: =(Q91+S91+U91) -> 15638400 | X91: =IFERROR(INDEX([7]TL!$X$12:$X$200,MATCH(B91,[7]TL!$B$12:$B$200,0)),"0") -> 0 | Y91: =W91+X91 -> 15638400 | Z91: =Y91/AA91 -> 8.688 | AA91: 1800000 | AB91: =Z91*AA91 -> 15638400 | AC91: =A91 -> 71 | AD91: =IFERROR(INDEX('[6]CN BC'!$M$10:$M$276,MATCH(B91,'[6]CN BC'!$H$10:$H$276,0)),"") -> 0
A92: =_xlfn.AGGREGATE(4,7,A$19:A91)+1 -> 72 | B92: Lương Xuân Thịnh | C92: THỊNH | D92: 0016100006540001 | E92: 1603205354978 | F92: 2.67 | H92: =F92+(F92*G92) -> 2.67 | I92: 0.45 | J92: =VLOOKUP(B92,[4]CN!$B$33:$J$365,9,FALSE) -> Giám đốc TT Đào tạo Lý Tự Trọng | K92: =H92+I92 -> 3.12 | L92: =K92*TH!$G$15 -> 5616000 | M92: =VLOOKUP(B92,'[5]Gui chi Quynh'!$B$11:$E$400,4,FALSE) -> A1 | N92: =IF(M92="A1",L92*1.6,IF(M92="A2",L92*1.4,IF(M92="A3",L92*1.2,IF(M92="A4",L92*1,IF(M92="B1",L92*0.7,IF(M92="B2",L92*0.5,IF(M92="C1",L92*0.3,IF(M92="C2",L92*0.2,0)))))))) -> 8985600 | O92: 16 | P92: =IFERROR(INDEX('[6]CN BC'!$J$10:$J$277,MATCH(B92,'[6]CN BC'!$H$10:$H$277,0)),"") -> 19 | Q92: =IF(P92>=O92,N92,N92/O92*P92) -> 8985600 | S92: =R92*TH!$G$15*1 -> 0 | U92: =T92*[3]CN!$G$8*0.65 -> 0 | V92: =IF(OR(M92="A DN",M92="KXL", M92=""),"0",ROUND(K92*0.01*TH!$G$15+R92*1%*TH!$G$15+T92*1%*TH!$G$15,)) -> 56160 | W92: =(Q92+S92+U92) -> 8985600 | X92: =IFERROR(INDEX([7]TL!$X$12:$X$200,MATCH(B92,[7]TL!$B$12:$B$200,0)),"0") -> 0 | Y92: =W92+X92 -> 8985600 | Z92: =Y92/AA92 -> 4.992 | AA92: 1800000 | AB92: =Z92*AA92 -> 8985600 | AC92: =A92 -> 72 | AD92: =IFERROR(INDEX('[6]CN BC'!$M$10:$M$276,MATCH(B92,'[6]CN BC'!$H$10:$H$276,0)),"") -> 0
A93: =_xlfn.AGGREGATE(4,7,A$19:A92)+1 -> 73 | B93: Đỗ Thị Tâm | C93: TÂM | D93: 0016100006552007 | E93: 1603205179059 | F93: 3.34 | H93: =F93+(F93*G93) -> 3.34 | I93: 0 | J93: =VLOOKUP(B93,[4]CN!$B$33:$J$365,9,FALSE) -> Nhân viên Trung tâm Lý Tự Trọng | K93: =I93+H93 -> 3.34 | L93: =K93*TH!$G$15 -> 6012000 | M93: =VLOOKUP(B93,'[5]Gui chi Quynh'!$B$11:$E$400,4,FALSE) -> A4 | N93: =IF(M93="A1",L93*1.6,IF(M93="A2",L93*1.4,IF(M93="A3",L93*1.2,IF(M93="A4",L93*1,IF(M93="B1",L93*0.7,IF(M93="B2",L93*0.5,IF(M93="C1",L93*0.3,IF(M93="C2",L93*0.2,0)))))))) -> 6012000 | O93: 16 | P93: =IFERROR(INDEX('[6]CN BC'!$J$10:$J$277,MATCH(B93,'[6]CN BC'!$H$10:$H$277,0)),"") -> 16 | Q93: =IF(P93>=O93,N93,N93/O93*P93) -> 6012000 | S93: =R93*$H$16*0.65 -> 0 | U93: =T93*$H$16*0.65 -> 0 | V93: =L93*1% -> 60120 | W93: =(Q93+S93+U93) -> 6012000 | X93: =IFERROR(INDEX([7]TL!$X$12:$X$200,MATCH(B93,[7]TL!$B$12:$B$200,0)),"0") -> 0 | Y93: =W93+X93 -> 6012000 | Z93: =Y93/AA93 -> 3.34 | AA93: 1800000 | AB93: =Z93*AA93 -> 6012000 | AC93: =A93 -> 73 | AD93: =IFERROR(INDEX('[6]CN BC'!$M$10:$M$276,MATCH(B93,'[6]CN BC'!$H$10:$H$276,0)),"") -> Trừ 3 ngày nghỉ phép 15+16+17/2
A94: =_xlfn.AGGREGATE(4,7,A$19:A93)+1 -> 74 | B94: Phạm Quang Vũ | C94: VŨ | D94: 0016100007211001 | E94: 1603215003961 | F94: 3.66 | H94: =F94+(F94*G94) -> 3.66 | I94: 0.45 | J94: =VLOOKUP(B94,[4]CN!$B$33:$J$365,9,FALSE) -> Trưởng khoa Xây dựng | K94: =H94+I94 -> 4.11 | L94: =K94*TH!$G$15 -> 7398000 | M94: =VLOOKUP(B94,'[5]Gui chi Quynh'!$B$11:$E$400,4,FALSE) -> A3 | N94: =IF(M94="A1",L94*1.6,IF(M94="A2",L94*1.4,IF(M94="A3",L94*1.2,IF(M94="A4",L94*1,IF(M94="B1",L94*0.7,IF(M94="B2",L94*0.5,IF(M94="C1",L94*0.3,IF(M94="C2",L94*0.2,0)))))))) -> 8877600 | O94: 9 | P94: =IFERROR(INDEX('[6]CN BC'!$J$10:$J$277,MATCH(B94,'[6]CN BC'!$H$10:$H$277,0)),"") -> 9 | Q94: =IF(P94>=O94,N94,N94/O94*P94) -> 8877600 | S94: =R94*$G$15*1 -> 0 | U94: =T94*$G$15*1 -> 0 | V94: =IF(OR(M94="A DN",M94="KXL", M94=""),"0",ROUND(K94*0.01*$G$15+R94*1%*$G$15+T94*1%*$G$15,)) -> 73980 | W94: =(Q94+S94+U94) -> 8877600 | X94: =IFERROR(INDEX([7]TL!$X$12:$X$200,MATCH(B94,[7]TL!$B$12:$B$200,0)),"0") -> 1412345.5 | Y94: =W94+X94 -> 10289945 | Z94: =Y94/AA94 -> 5.7166364 | AA94: 1800000 | AB94: =Z94*AA94 -> 10289945 | AC94: =A94 -> 74 | AD94: =IFERROR(INDEX('[6]CN BC'!$M$10:$M$276,MATCH(B94,'[6]CN BC'!$H$10:$H$276,0)),"") -> 0
A95: =_xlfn.AGGREGATE(4,7,A$19:A94)+1 -> 75 | B95: Trình Minh Phong | D95: 0004100004671006 | E95: 1603205634954 | F95: 2.67 | H95: =F95+(F95*G95) -> 2.67 | J95: =VLOOKUP(B95,[4]CN!$B$33:$J$365,9,FALSE) -> Giảng viên khoa Xây dựng | K95: =H95+I95 -> 2.67 | L95: =K95*$G$15 -> 4806000 | M95: =VLOOKUP(B95,'[5]Gui chi Quynh'!$B$11:$E$400,4,FALSE) -> A4 | N95: =IF(M95="A1",L95*1.6,IF(M95="A2",L95*1.4,IF(M95="A3",L95*1.2,IF(M95="A4",L95*1,IF(M95="B1",L95*0.7,IF(M95="B2",L95*0.5,IF(M95="C1",L95*0.3,IF(M95="C2",L95*0.2,0)))))))) -> 4806000 | O95: 9 | P95: =IFERROR(INDEX('[6]CN BC'!$J$10:$J$277,MATCH(B95,'[6]CN BC'!$H$10:$H$277,0)),"") -> 9 | Q95: =IF(P95>=O95,N95,N95/O95*P95) -> 4806000 | S95: =R95*$G$15*1 -> 0 | U95: =T95*$G$15*1 -> 0 | V95: =IF(OR(M95="A DN",M95="KXL", M95=""),"0",ROUND(K95*0.01*$G$15+R95*1%*$G$15+T95*1%*$G$15,)) -> 48060 | W95: =(Q95+S95+U95) -> 4806000 | X95: =IFERROR(INDEX([7]TL!$X$12:$X$200,MATCH(B95,[7]TL!$B$12:$B$200,0)),"0") -> 655363.64 | Y95: =W95+X95 -> 5461363.6 | Z95: =Y95/AA95 -> 3.0340909 | AA95: 1800000 | AB95: =Z95*AA95 -> 5461363.6 | AC95: =A95 -> 75 | AD95: =IFERROR(INDEX('[6]CN BC'!$M$10:$M$276,MATCH(B95,'[6]CN BC'!$H$10:$H$276,0)),"") -> 0
A96: =_xlfn.AGGREGATE(4,7,A$19:A95)+1 -> 76 | B96: Trần Ngọc Tuấn | D96: 0016100029229001 | F96: 2.34 | H96: =F96+(F96*G96) -> 2.34 | J96: =VLOOKUP(B96,[4]CN!$B$33:$J$365,9,FALSE) -> Giảng viên khoa Xây dựng | K96: =H96+I96 -> 2.34 | L96: =K96*$G$15 -> 4212000 | M96: =VLOOKUP(B96,'[5]Gui chi Quynh'!$B$11:$E$400,4,FALSE) -> A3 | N96: =IF(M96="A1",L96*1.6,IF(M96="A2",L96*1.4,IF(M96="A3",L96*1.2,IF(M96="A4",L96*1,IF(M96="B1",L96*0.7,IF(M96="B2",L96*0.5,IF(M96="C1",L96*0.3,IF(M96="C2",L96*0.2,0)))))))) -> 5054400 | O96: 9 | P96: =IFERROR(INDEX('[6]CN BC'!$J$10:$J$277,MATCH(B96,'[6]CN BC'!$H$10:$H$277,0)),"") -> 9 | Q96: =IF(P96>=O96,N96,N96/O96*P96) -> 5054400 | S96: =R96*$G$15*1 -> 0 | U96: =T96*$G$15*1 -> 0 | V96: =IF(OR(M96="A DN",M96="KXL", M96=""),"0",ROUND(K96*0.01*$G$15+R96*1%*$G$15+T96*1%*$G$15,)) -> 42120 | W96: =(Q96+S96+U96) -> 5054400 | X96: =IFERROR(INDEX([7]TL!$X$12:$X$200,MATCH(B96,[7]TL!$B$12:$B$200,0)),"0") -> 689236.36 | Y96: =W96+X96 -> 5743636.4 | Z96: =Y96/AA96 -> 3.1909091 | AA96: 1800000 | AB96: =Z96*AA96 -> 5743636.4 | AC96: =A96 -> 76 | AD96: =IFERROR(INDEX('[6]CN BC'!$M$10:$M$276,MATCH(B96,'[6]CN BC'!$H$10:$H$276,0)),"") -> 0
A97: =_xlfn.AGGREGATE(4,7,A$19:A96)+1 -> 77 | B97: Trịnh Hoàng Hiệp | C97: HIỆP | D97: 0016100006608005 | E97: 1603205458242 | F97: 3.99 | H97: =F97+(F97*G97) -> 3.99 | I97: 0.45 | J97: =VLOOKUP(B97,[4]CN!$B$33:$J$365,9,FALSE) -> Phó Trưởng khoa, Phụ trách khoa Kinh tế | K97: =H97+I97 -> 4.44 | L97: =K97*$G$15 -> 7992000 | M97: =VLOOKUP(B97,'[5]Gui chi Quynh'!$B$11:$E$400,4,FALSE) -> A2 | N97: =IF(M97="A1",L97*1.6,IF(M97="A2",L97*1.4,IF(M97="A3",L97*1.2,IF(M97="A4",L97*1,IF(M97="B1",L97*0.7,IF(M97="B2",L97*0.5,IF(M97="C1",L97*0.3,IF(M97="C2",L97*0.2,0)))))))) -> 11188800 | O97: 9 | P97: =IFERROR(INDEX('[6]CN BC'!$J$10:$J$277,MATCH(B97,'[6]CN BC'!$H$10:$H$277,0)),"") -> 9 | Q97: =IF(P97>=O97,N97,N97/O97*P97) -> 11188800 | S97: =R97*$G$15*1 -> 0 | U97: =T97*$G$15*1 -> 0 | V97: =IF(OR(M97="A DN",M97="KXL", M97=""),"0",ROUND(K97*0.01*$G$15+R97*1%*$G$15+T97*1%*$G$15,)) -> 79920 | W97: =(Q97+S97+U97) -> 11188800 | X97: =IFERROR(INDEX([7]TL!$X$12:$X$200,MATCH(B97,[7]TL!$B$12:$B$200,0)),"0") -> 1307781.8 | Y97: =W97+X97 -> 12496582 | Z97: =Y97/AA97 -> 6.9425455 | AA97: 1800000 | AB97: =Z97*AA97 -> 12496582 | AC97: =A97 -> 77 | AD97: =IFERROR(INDEX('[6]CN BC'!$M$10:$M$276,MATCH(B97,'[6]CN BC'!$H$10:$H$276,0)),"") -> 0 | AE97: 1
A98: =_xlfn.AGGREGATE(4,7,A$19:A97)+1 -> 78 | B98: Trần Thị Ngọc Dung | D98: 0016100006602007 | E98: 1603215003876 | F98: 3 | H98: =F98+(F98*G98) -> 3 | J98: =VLOOKUP(B98,[4]CN!$B$33:$J$365,9,FALSE) -> Giảng viên khoa Kinh tế | K98: =H98+I98 -> 3 | L98: =K98*$G$15 -> 5400000 | M98: =VLOOKUP(B98,'[5]Gui chi Quynh'!$B$11:$E$400,4,FALSE) -> A4 | N98: =IF(M98="A1",L98*1.6,IF(M98="A2",L98*1.4,IF(M98="A3",L98*1.2,IF(M98="A4",L98*1,IF(M98="B1",L98*0.7,IF(M98="B2",L98*0.5,IF(M98="C1",L98*0.3,IF(M98="C2",L98*0.2,0)))))))) -> 5400000 | O98: 9 | P98: =IFERROR(INDEX('[6]CN BC'!$J$10:$J$277,MATCH(B98,'[6]CN BC'!$H$10:$H$277,0)),"") -> 9 | Q98: =IF(P98>=O98,N98,N98/O98*P98) -> 5400000 | S98: =R98*$G$15*1 -> 0 | U98: =T98*$G$15*1 -> 0 | V98: =IF(OR(M98="A DN",M98="KXL", M98=""),"0",ROUND(K98*0.01*$G$15+R98*1%*$G$15+T98*1%*$G$15,)) -> 54000 | W98: =(Q98+S98+U98) -> 5400000 | X98: =IFERROR(INDEX([7]TL!$X$12:$X$200,MATCH(B98,[7]TL!$B$12:$B$200,0)),"0") -> 736363.64 | Y98: =W98+X98 -> 6136363.6 | Z98: =Y98/AA98 -> 3.4090909 | AA98: 1800000 | AB98: =Z98*AA98 -> 6136363.6 | AC98: =A98 -> 78 | AD98: =IFERROR(INDEX('[6]CN BC'!$M$10:$M$276,MATCH(B98,'[6]CN BC'!$H$10:$H$276,0)),"") -> 0 | AE98: 2
A99: =_xlfn.AGGREGATE(4,7,A$19:A98)+1 -> 79 | B99: Cao Xuân Giang | D99: 0016100007755001 | E99: 1603215005603 | F99: 3 | H99: =F99+(F99*G99) -> 3 | J99: =VLOOKUP(B99,[4]CN!$B$33:$J$365,9,FALSE) -> Giảng viên khoa Kinh tế | K99: =H99+I99 -> 3 | L99: =K99*$G$15 -> 5400000 | M99: =VLOOKUP(B99,'[5]Gui chi Quynh'!$B$11:$E$400,4,FALSE) -> A4 | N99: =IF(M99="A1",L99*1.6,IF(M99="A2",L99*1.4,IF(M99="A3",L99*1.2,IF(M99="A4",L99*1,IF(M99="B1",L99*0.7,IF(M99="B2",L99*0.5,IF(M99="C1",L99*0.3,IF(M99="C2",L99*0.2,0)))))))) -> 5400000 | O99: 9 | P99: =IFERROR(INDEX('[6]CN BC'!$J$10:$J$277,MATCH(B99,'[6]CN BC'!$H$10:$H$277,0)),"") -> 9 | Q99: =IF(P99>=O99,N99,N99/O99*P99) -> 5400000 | S99: =R99*$G$15*1 -> 0 | U99: =T99*$G$15*1 -> 0 | V99: =IF(OR(M99="A DN",M99="KXL", M99=""),"0",ROUND(K99*0.01*$G$15+R99*1%*$G$15+T99*1%*$G$15,)) -> 54000 | W99: =(Q99+S99+U99) -> 5400000 | X99: =IFERROR(INDEX([7]TL!$X$12:$X$200,MATCH(B99,[7]TL!$B$12:$B$200,0)),"0") -> 736363.64 | Y99: =W99+X99 -> 6136363.6 | Z99: =Y99/AA99 -> 3.4090909 | AA99: 1800000 | AB99: =Z99*AA99 -> 6136363.6 | AC99: =A99 -> 79 | AD99: =IFERROR(INDEX('[6]CN BC'!$M$10:$M$276,MATCH(B99,'[6]CN BC'!$H$10:$H$276,0)),"") -> 0 | AE99: 3
A100: =_xlfn.AGGREGATE(4,7,A$19:A99)+1 -> 80 | B100: Phạm Quỳnh Như | C100: NHƯ | D100: 0016100006603003 | E100: 1603205458417 | F100: 3.66 | H100: =F100+(F100*G100) -> 3.66 | I100: 0.35 | J100: =VLOOKUP(B100,[4]CN!$B$33:$J$365,9,FALSE) -> Phó Trưởng khoa Kinh tế | K100: =H100+I100 -> 4.01 | L100: =K100*$G$15 -> 7218000 | M100: =VLOOKUP(B100,'[5]Gui chi Quynh'!$B$11:$E$400,4,FALSE) -> A2 | N100: =IF(M100="A1",L100*1.6,IF(M100="A2",L100*1.4,IF(M100="A3",L100*1.2,IF(M100="A4",L100*1,IF(M100="B1",L100*0.7,IF(M100="B2",L100*0.5,IF(M100="C1",L100*0.3,IF(M100="C2",L100*0.2,0)))))))) -> 10105200 | O100: 9 | P100: =IFERROR(INDEX('[6]CN BC'!$J$10:$J$277,MATCH(B100,'[6]CN BC'!$H$10:$H$277,0)),"") -> 9 | Q100: =IF(P100>=O100,N100,N100/O100*P100) -> 10105200 | S100: =R100*$G$15*1 -> 0 | U100: =T100*$G$15*1 -> 0 | V100: =IF(OR(M100="A DN",M100="KXL", M100=""),"0",ROUND(K100*0.01*$G$15+R100*1%*$G$15+T100*1%*$G$15,)) -> 72180 | W100: =(Q100+S100+U100) -> 10105200 | X100: =IFERROR(INDEX([7]TL!$X$12:$X$200,MATCH(B100,[7]TL!$B$12:$B$200,0)),"0") -> 1377981.8 | Y100: =W100+X100 -> 11483182 | Z100: =Y100/AA100 -> 6.3795455 | AA100: 1800000 | AB100: =Z100*AA100 -> 11483182 | AC100: =A100 -> 80 | AD100: =IFERROR(INDEX('[6]CN BC'!$M$10:$M$276,MATCH(B100,'[6]CN BC'!$H$10:$H$276,0)),"") -> 0 | AE100: 4
A101: =_xlfn.AGGREGATE(4,7,A$19:A100)+1 -> 81 | B101: Lê Thị Thúy Oanh | D101: 0016100028104008 | E101: 1603205647197 | F101: 2.34 | H101: =F101+(F101*G101) -> 2.34 | J101: =VLOOKUP(B101,[4]CN!$B$33:$J$365,9,FALSE) -> Giảng viên khoa Kinh tế | K101: =H101+I101 -> 2.34 | L101: =K101*$G$15 -> 4212000 | M101: =VLOOKUP(B101,'[5]Gui chi Quynh'!$B$11:$E$400,4,FALSE) -> A3 | N101: =IF(M101="A1",L101*1.6,IF(M101="A2",L101*1.4,IF(M101="A3",L101*1.2,IF(M101="A4",L101*1,IF(M101="B1",L101*0.7,IF(M101="B2",L101*0.5,IF(M101="C1",L101*0.3,IF(M101="C2",L101*0.2,0)))))))) -> 5054400 | O101: 9 | P101: =IFERROR(INDEX('[6]CN BC'!$J$10:$J$277,MATCH(B101,'[6]CN BC'!$H$10:$H$277,0)),"") -> 9 | Q101: =IF(P101>=O101,N101,N101/O101*P101) -> 5054400 | S101: =R101*$G$15*1 -> 0 | U101: =T101*$G$15*1 -> 0 | V101: =IF(OR(M101="A DN",M101="KXL", M101=""),"0",ROUND(K101*0.01*$G$15+R101*1%*$G$15+T101*1%*$G$15,)) -> 42120 | W101: =(Q101+S101+U101) -> 5054400 | X101: =IFERROR(INDEX([7]TL!$X$12:$X$200,MATCH(B101,[7]TL!$B$12:$B$200,0)),"0") -> 689236.36 | Y101: =W101+X101 -> 5743636.4 | Z101: =Y101/AA101 -> 3.1909091 | AA101: 1800000 | AB101: =Z101*AA101 -> 5743636.4 | AC101: =A101 -> 81 | AD101: =IFERROR(INDEX('[6]CN BC'!$M$10:$M$276,MATCH(B101,'[6]CN BC'!$H$10:$H$276,0)),"") -> 0 | AE101: 5
A102: =_xlfn.AGGREGATE(4,7,A$19:A101)+1 -> 82 | B102: Lê Thị Thu Thảo | C102: THẢO | D102: 0016100006606002 | E102: 1603205458481 | F102: 3.33 | H102: =F102+(F102*G102) -> 3.33 | J102: =VLOOKUP(B102,[4]CN!$B$33:$J$365,9,FALSE) -> Giảng viên khoa Kinh tế | K102: =H102+I102 -> 3.33 | L102: =K102*$G$15 -> 5994000 | M102: =VLOOKUP(B102,'[5]Gui chi Quynh'!$B$11:$E$400,4,FALSE) -> A4 | N102: =IF(M102="A1",L102*1.6,IF(M102="A2",L102*1.4,IF(M102="A3",L102*1.2,IF(M102="A4",L102*1,IF(M102="B1",L102*0.7,IF(M102="B2",L102*0.5,IF(M102="C1",L102*0.3,IF(M102="C2",L102*0.2,0)))))))) -> 5994000 | O102: 9 | P102: =IFERROR(INDEX('[6]CN BC'!$J$10:$J$277,MATCH(B102,'[6]CN BC'!$H$10:$H$277,0)),"") -> 9 | Q102: =IF(P102>=O102,N102,N102/O102*P102) -> 5994000 | S102: =R102*$G$15*1 -> 0 | U102: =T102*$G$15*1 -> 0 | V102: =IF(OR(M102="A DN",M102="KXL", M102=""),"0",ROUND(K102*0.01*$G$15+R102*1%*$G$15+T102*1%*$G$15,)) -> 59940 | W102: =(Q102+S102+U102) -> 5994000 | X102: =IFERROR(INDEX([7]TL!$X$12:$X$200,MATCH(B102,[7]TL!$B$12:$B$200,0)),"0") -> 817363.64 | Y102: =W102+X102 -> 6811363.6 | Z102: =Y102/AA102 -> 3.7840909 | AA102: 1800000 | AB102: =Z102*AA102 -> 6811363.6 | AC102: =A102 -> 82 | AD102: =IFERROR(INDEX('[6]CN BC'!$M$10:$M$276,MATCH(B102,'[6]CN BC'!$H$10:$H$276,0)),"") -> 0 | AE102: 7
A103: =_xlfn.AGGREGATE(4,7,A$19:A102)+1 -> 83 | B103: Nguyễn Mỹ Tiên | D103: 0016100006638001 | E103: 1603215003882 | F103: 3 | H103: =F103+(F103*G103) -> 3 | J103: =VLOOKUP(B103,[4]CN!$B$33:$J$365,9,FALSE) -> Giảng viên khoa Kinh tế | K103: =H103+I103 -> 3 | L103: =K103*$G$15 -> 5400000 | M103: =VLOOKUP(B103,'[5]Gui chi Quynh'!$B$11:$E$400,4,FALSE) -> A4 | N103: =IF(M103="A1",L103*1.6,IF(M103="A2",L103*1.4,IF(M103="A3",L103*1.2,IF(M103="A4",L103*1,IF(M103="B1",L103*0.7,IF(M103="B2",L103*0.5,IF(M103="C1",L103*0.3,IF(M103="C2",L103*0.2,0)))))))) -> 5400000 | O103: 9 | P103: =IFERROR(INDEX('[6]CN BC'!$J$10:$J$277,MATCH(B103,'[6]CN BC'!$H$10:$H$277,0)),"") -> 9 | Q103: =IF(P103>=O103,N103,N103/O103*P103) -> 5400000 | S103: =R103*$G$15*1 -> 0 | U103: =T103*$G$15*1 -> 0 | V103: =IF(OR(M103="A DN",M103="KXL", M103=""),"0",ROUND(K103*0.01*$G$15+R103*1%*$G$15+T103*1%*$G$15,)) -> 54000 | W103: =(Q103+S103+U103) -> 5400000 | X103: =IFERROR(INDEX([7]TL!$X$12:$X$200,MATCH(B103,[7]TL!$B$12:$B$200,0)),"0") -> 736363.64 | Y103: =W103+X103 -> 6136363.6 | Z103: =Y103/AA103 -> 3.4090909 | AA103: 1800000 | AB103: =Z103*AA103 -> 6136363.6 | AC103: =A103 -> 83 | AD103: =IFERROR(INDEX('[6]CN BC'!$M$10:$M$276,MATCH(B103,'[6]CN BC'!$H$10:$H$276,0)),"") -> 0 | AE103: 8
...

Sheet TL
A1: ỦY BAN NHÂN DÂN TP.HCM | R1: CỘNG HÒA XÃ HỘI CHỦ NGHĨA VIỆT NAM
A2: TRƯỜNG CAO ĐẲNG LÝ TỰ TRỌNG | R2: Độc lập - Tự do - Hạnh phúc
A3: THÀNH PHỐ HỒ CHÍ MINH
A5: BẢNG TRUY LÃNH THU NHẬP TĂNG THÊM - LƯƠNG THEO HỆ SỐ ĐIỀU CHỈNH THÁNG 01 NĂM 2024
A6: CÁN BỘ VIÊN CHỨC TRONG CHỈ TIÊU BIÊN CHẾ
A7: (Chi theo Chương II - "Những quy định cụ thể"/ Mục 2 - "Chi thanh toán cá nhân"/ Điều 17 - "Các khoản thanh toán cá nhân"/ Khoản b - "Thu nhập tăng thêm" trong Quy chế chi tiêu nội bộ năm 2023 ban hành kèm theo Quyết định số 739/QĐ-LTT-KHTC ngày 02 tháng 11 năm 2022)
A8: Mức lương tối thiểu hệ số 1 = 1.800.000 | C8: 1490000 | G8: 1800000 | V8: Đơn vị tính: đồng
A10: STT | B10: HỌ VÀ TÊN | D10: Số tài khoản thẻ ATM OCB | E10: Số tài khoản thẻ ATM AGRIBANK | F10: HS (hide) | G10: VK (hide) | H10: HS THỰC HƯỞNG (hide) | I10: HSPC (hide) | J10: HS LƯƠNG +PCCV | K10: CỘNG LƯƠNG (hide) | L10: XẾP LOẠI | M10: Mức lương theo hệ số điều chỉnh | N10: Số ngày công kế hoạch | O10: Số ngày công thực hiện | P10: Lương điều chỉnh tính theo ngày công thực hiện/tháng | Q10: HỆ SỐ TRUY LÃNH LƯƠNG (CỘT NÀY HIDE) | R10: Truy lãnh lương điều chỉnh do truy lãnh lương | S10: HỆ SỐ TRUY LÃNH PCCV (CỘT NÀY HIDE) | T10: Truy lãnh lương điều chỉnh do truy lãnh PCCV | U10: Trường hỗ trợ 1% BHYT | V10: THÀNH TIỀN | W10: ĐÃ NHẬN | X10: CHÊNH LỆCH | Y10: GHI CHÚ
A11: 01 | B11: 02 | F11: 03 | G11: 04 | H11: 05 | I11: 06 | J11: 03 | K11: 08 | L11: 04 | M11: 05 | N11: 06 | O11: 07 | P11: 08 | Q11: 16 | R11: 09 | S11: 18 | T11: 10 | U11: Bỏ | V11: 11 | Y11: 12
A12: =_xlfn.AGGREGATE(4,7,A$11:A11)+1 -> 1 | B12: Phạm Quang Vũ | C12: VŨ | D12: 0016100007211001 | E12: 1603215003961 | F12: 3.66 | H12: =F12+(F12*G12) -> 3.66 | I12: 0.45 | J12: =H12+I12 -> 4.11 | K12: =J12*TL!$G$8 -> 7398000 | L12: =VLOOKUP(B12,'[8]Gui chi Quynh'!$B$11:$E$401,4,FALSE) -> A2 | M12: =IF(L12="A1",K12*1.6,IF(L12="A2",K12*1.4,IF(L12="A3",K12*1.2,IF(L12="A4",K12*1,IF(L12="B1",K12*0.7,IF(L12="B2",K12*0.5,IF(L12="C1",K12*0.3,IF(L12="C2",K12*0.2,0)))))))) -> 10357200 | N12: 19 | O12: =IFERROR(INDEX('[9]CN BC'!$J$10:$J$277,MATCH(B12,'[9]CN BC'!$H$10:$H$277,0)),"") -> 19 | P12: =IF(O12>=N12,M12,M12/N12*O12) -> 10357200 | R12: =Q12*$G$8*1 -> 0 | T12: =S12*$G$8*1 -> 0 | U12: =IF(OR(L12="A DN",L12="KXL", L12=""),"0",ROUND(J12*0.01*$G$8+Q12*1%*$G$8+S12*1%*$G$8,)) -> 73980 | V12: =(P12+R12+T12) -> 10357200 | W12: =VLOOKUP(B12,CN!B13:O271,15,FALSE) -> #REF! | X12: =V12-W12 -> #REF! | Y12: =A12 -> 1 | Z12: =IFERROR(INDEX('[10]CN BC'!$M$10:$M$276,MATCH(B12,'[10]CN BC'!$H$10:$H$276,0)),"") -> 0
A13: =_xlfn.AGGREGATE(4,7,A$11:A12)+1 -> 2 | B13: Trình Minh Phong | D13: 0004100004671006 | E13: 1603205634954 | F13: 2.67 | H13: =F13+(F13*G13) -> 2.67 | J13: =H13+I13 -> 2.67 | K13: =J13*$G$8 -> 4806000 | L13: =VLOOKUP(B13,'[8]Gui chi Quynh'!$B$11:$E$401,4,FALSE) -> A4 | M13: =IF(L13="A1",K13*1.6,IF(L13="A2",K13*1.4,IF(L13="A3",K13*1.2,IF(L13="A4",K13*1,IF(L13="B1",K13*0.7,IF(L13="B2",K13*0.5,IF(L13="C1",K13*0.3,IF(L13="C2",K13*0.2,0)))))))) -> 4806000 | N13: 19 | O13: =IFERROR(INDEX('[9]CN BC'!$J$10:$J$277,MATCH(B13,'[9]CN BC'!$H$10:$H$277,0)),"") -> 19 | P13: =IF(O13>=N13,M13,M13/N13*O13) -> 4806000 | R13: =Q13*$G$8*1 -> 0 | T13: =S13*$G$8*1 -> 0 | U13: =IF(OR(L13="A DN",L13="KXL", L13=""),"0",ROUND(J13*0.01*$G$8+Q13*1%*$G$8+S13*1%*$G$8,)) -> 48060 | V13: =(P13+R13+T13) -> 4806000 | W13: =VLOOKUP(B13,CN!B13:O272,15,FALSE) -> #REF! | X13: =V13-W13 -> #REF! | Y13: =A13 -> 2 | Z13: =IFERROR(INDEX('[10]CN BC'!$M$10:$M$276,MATCH(B13,'[10]CN BC'!$H$10:$H$276,0)),"") -> 0
A14: =_xlfn.AGGREGATE(4,7,A$11:A13)+1 -> 3 | B14: Trần Ngọc Tuấn | D14: 0016100029229001 | F14: 2.34 | H14: =F14+(F14*G14) -> 2.34 | J14: =H14+I14 -> 2.34 | K14: =J14*$G$8 -> 4212000 | L14: =VLOOKUP(B14,'[8]Gui chi Quynh'!$B$11:$E$401,4,FALSE) -> A3 | M14: =IF(L14="A1",K14*1.6,IF(L14="A2",K14*1.4,IF(L14="A3",K14*1.2,IF(L14="A4",K14*1,IF(L14="B1",K14*0.7,IF(L14="B2",K14*0.5,IF(L14="C1",K14*0.3,IF(L14="C2",K14*0.2,0)))))))) -> 5054400 | N14: 19 | O14: =IFERROR(INDEX('[9]CN BC'!$J$10:$J$277,MATCH(B14,'[9]CN BC'!$H$10:$H$277,0)),"") -> 19 | P14: =IF(O14>=N14,M14,M14/N14*O14) -> 5054400 | R14: =Q14*$G$8*1 -> 0 | T14: =S14*$G$8*1 -> 0 | U14: =IF(OR(L14="A DN",L14="KXL", L14=""),"0",ROUND(J14*0.01*$G$8+Q14*1%*$G$8+S14*1%*$G$8,)) -> 42120 | V14: =(P14+R14+T14) -> 5054400 | W14: =VLOOKUP(B14,CN!B14:O273,15,FALSE) -> #REF! | X14: =V14-W14 -> #REF! | Y14: =A14 -> 3 | Z14: =IFERROR(INDEX('[10]CN BC'!$M$10:$M$276,MATCH(B14,'[10]CN BC'!$H$10:$H$276,0)),"") -> 0
A15: =_xlfn.AGGREGATE(4,7,A$11:A14)+1 -> 4 | B15: Trịnh Hoàng Hiệp | C15: HIỆP | D15: 0016100006608005 | E15: 1603205458242 | F15: 3.99 | H15: =F15+(F15*G15) -> 3.99 | I15: 0.45 | J15: =H15+I15 -> 4.44 | K15: =J15*$G$8 -> 7992000 | L15: =VLOOKUP(B15,'[8]Gui chi Quynh'!$B$11:$E$401,4,FALSE) -> A3 | M15: =IF(L15="A1",K15*1.6,IF(L15="A2",K15*1.4,IF(L15="A3",K15*1.2,IF(L15="A4",K15*1,IF(L15="B1",K15*0.7,IF(L15="B2",K15*0.5,IF(L15="C1",K15*0.3,IF(L15="C2",K15*0.2,0)))))))) -> 9590400 | N15: 19 | O15: =IFERROR(INDEX('[9]CN BC'!$J$10:$J$277,MATCH(B15,'[9]CN BC'!$H$10:$H$277,0)),"") -> 19 | P15: =IF(O15>=N15,M15,M15/N15*O15) -> 9590400 | R15: =Q15*$G$8*1 -> 0 | T15: =S15*$G$8*1 -> 0 | U15: =IF(OR(L15="A DN",L15="KXL", L15=""),"0",ROUND(J15*0.01*$G$8+Q15*1%*$G$8+S15*1%*$G$8,)) -> 79920 | V15: =(P15+R15+T15) -> 9590400 | W15: =VLOOKUP(B15,CN!B15:O274,15,FALSE) -> #REF! | X15: =V15-W15 -> #REF! | Y15: =A15 -> 4 | Z15: =IFERROR(INDEX('[10]CN BC'!$M$10:$M$276,MATCH(B15,'[10]CN BC'!$H$10:$H$276,0)),"") -> 0 | AA15: 1
A16: =_xlfn.AGGREGATE(4,7,A$11:A15)+1 -> 5 | B16: Trần Thị Ngọc Dung | D16: 0016100006602007 | E16: 1603215003876 | F16: 3 | H16: =F16+(F16*G16) -> 3 | J16: =H16+I16 -> 3 | K16: =J16*$G$8 -> 5400000 | L16: =VLOOKUP(B16,'[8]Gui chi Quynh'!$B$11:$E$401,4,FALSE) -> A4 | M16: =IF(L16="A1",K16*1.6,IF(L16="A2",K16*1.4,IF(L16="A3",K16*1.2,IF(L16="A4",K16*1,IF(L16="B1",K16*0.7,IF(L16="B2",K16*0.5,IF(L16="C1",K16*0.3,IF(L16="C2",K16*0.2,0)))))))) -> 5400000 | N16: 19 | O16: =IFERROR(INDEX('[9]CN BC'!$J$10:$J$277,MATCH(B16,'[9]CN BC'!$H$10:$H$277,0)),"") -> 19 | P16: =IF(O16>=N16,M16,M16/N16*O16) -> 5400000 | R16: =Q16*$G$8*1 -> 0 | T16: =S16*$G$8*1 -> 0 | U16: =IF(OR(L16="A DN",L16="KXL", L16=""),"0",ROUND(J16*0.01*$G$8+Q16*1%*$G$8+S16*1%*$G$8,)) -> 54000 | V16: =(P16+R16+T16) -> 5400000 | W16: =VLOOKUP(B16,CN!B16:O275,15,FALSE) -> #REF! | X16: =V16-W16 -> #REF! | Y16: =A16 -> 5 | Z16: =IFERROR(INDEX('[10]CN BC'!$M$10:$M$276,MATCH(B16,'[10]CN BC'!$H$10:$H$276,0)),"") -> 0 | AA16: 2
A17: =_xlfn.AGGREGATE(4,7,A$11:A16)+1 -> 6 | B17: Cao Xuân Giang | D17: 0016100007755001 | E17: 1603215005603 | F17: 3 | H17: =F17+(F17*G17) -> 3 | J17: =H17+I17 -> 3 | K17: =J17*$G$8 -> 5400000 | L17: =VLOOKUP(B17,'[8]Gui chi Quynh'!$B$11:$E$401,4,FALSE) -> A4 | M17: =IF(L17="A1",K17*1.6,IF(L17="A2",K17*1.4,IF(L17="A3",K17*1.2,IF(L17="A4",K17*1,IF(L17="B1",K17*0.7,IF(L17="B2",K17*0.5,IF(L17="C1",K17*0.3,IF(L17="C2",K17*0.2,0)))))))) -> 5400000 | N17: 19 | O17: =IFERROR(INDEX('[9]CN BC'!$J$10:$J$277,MATCH(B17,'[9]CN BC'!$H$10:$H$277,0)),"") -> 19 | P17: =IF(O17>=N17,M17,M17/N17*O17) -> 5400000 | R17: =Q17*$G$8*1 -> 0 | T17: =S17*$G$8*1 -> 0 | U17: =IF(OR(L17="A DN",L17="KXL", L17=""),"0",ROUND(J17*0.01*$G$8+Q17*1%*$G$8+S17*1%*$G$8,)) -> 54000 | V17: =(P17+R17+T17) -> 5400000 | W17: =VLOOKUP(B17,CN!B16:O276,15,FALSE) -> #REF! | X17: =V17-W17 -> #REF! | Y17: =A17 -> 6 | Z17: =IFERROR(INDEX('[10]CN BC'!$M$10:$M$276,MATCH(B17,'[10]CN BC'!$H$10:$H$276,0)),"") -> 0 | AA17: 3
A18: =_xlfn.AGGREGATE(4,7,A$11:A17)+1 -> 7 | B18: Phạm Quỳnh Như | C18: NHƯ | D18: 0016100006603003 | E18: 1603205458417 | F18: 3.66 | H18: =F18+(F18*G18) -> 3.66 | I18: 0.35 | J18: =H18+I18 -> 4.01 | K18: =J18*$G$8 -> 7218000 | L18: =VLOOKUP(B18,'[8]Gui chi Quynh'!$B$11:$E$401,4,FALSE) -> A2 | M18: =IF(L18="A1",K18*1.6,IF(L18="A2",K18*1.4,IF(L18="A3",K18*1.2,IF(L18="A4",K18*1,IF(L18="B1",K18*0.7,IF(L18="B2",K18*0.5,IF(L18="C1",K18*0.3,IF(L18="C2",K18*0.2,0)))))))) -> 10105200 | N18: 19 | O18: =IFERROR(INDEX('[9]CN BC'!$J$10:$J$277,MATCH(B18,'[9]CN BC'!$H$10:$H$277,0)),"") -> 19 | P18: =IF(O18>=N18,M18,M18/N18*O18) -> 10105200 | R18: =Q18*$G$8*1 -> 0 | T18: =S18*$G$8*1 -> 0 | U18: =IF(OR(L18="A DN",L18="KXL", L18=""),"0",ROUND(J18*0.01*$G$8+Q18*1%*$G$8+S18*1%*$G$8,)) -> 72180 | V18: =(P18+R18+T18) -> 10105200 | W18: =VLOOKUP(B18,CN!B17:O277,15,FALSE) -> #N/A | X18: =V18-W18 -> #N/A | Y18: =A18 -> 7 | Z18: =IFERROR(INDEX('[10]CN BC'!$M$10:$M$276,MATCH(B18,'[10]CN BC'!$H$10:$H$276,0)),"") -> 0 | AA18: 4
A19: =_xlfn.AGGREGATE(4,7,A$11:A18)+1 -> 8 | B19: Lê Thị Thúy Oanh | D19: 0016100028104008 | E19: 1603205647197 | F19: 2.34 | H19: =F19+(F19*G19) -> 2.34 | J19: =H19+I19 -> 2.34 | K19: =J19*$G$8 -> 4212000 | L19: =VLOOKUP(B19,'[8]Gui chi Quynh'!$B$11:$E$401,4,FALSE) -> A3 | M19: =IF(L19="A1",K19*1.6,IF(L19="A2",K19*1.4,IF(L19="A3",K19*1.2,IF(L19="A4",K19*1,IF(L19="B1",K19*0.7,IF(L19="B2",K19*0.5,IF(L19="C1",K19*0.3,IF(L19="C2",K19*0.2,0)))))))) -> 5054400 | N19: 19 | O19: =IFERROR(INDEX('[9]CN BC'!$J$10:$J$277,MATCH(B19,'[9]CN BC'!$H$10:$H$277,0)),"") -> 19 | P19: =IF(O19>=N19,M19,M19/N19*O19) -> 5054400 | R19: =Q19*$G$8*1 -> 0 | T19: =S19*$G$8*1 -> 0 | U19: =IF(OR(L19="A DN",L19="KXL", L19=""),"0",ROUND(J19*0.01*$G$8+Q19*1%*$G$8+S19*1%*$G$8,)) -> 42120 | V19: =(P19+R19+T19) -> 5054400 | W19: =VLOOKUP(B19,CN!B19:O278,15,FALSE) -> #REF! | X19: =V19-W19 -> #REF! | Y19: =A19 -> 8 | Z19: =IFERROR(INDEX('[10]CN BC'!$M$10:$M$276,MATCH(B19,'[10]CN BC'!$H$10:$H$276,0)),"") -> 0 | AA19: 5
A20: =_xlfn.AGGREGATE(4,7,A$11:A19)+1 -> 9 | B20: Lê Thị Thu Thảo | C20: THẢO | D20: 0016100006606002 | E20: 1603205458481 | F20: 3.33 | H20: =F20+(F20*G20) -> 3.33 | J20: =H20+I20 -> 3.33 | K20: =J20*$G$8 -> 5994000 | L20: =VLOOKUP(B20,'[8]Gui chi Quynh'!$B$11:$E$401,4,FALSE) -> A4 | M20: =IF(L20="A1",K20*1.6,IF(L20="A2",K20*1.4,IF(L20="A3",K20*1.2,IF(L20="A4",K20*1,IF(L20="B1",K20*0.7,IF(L20="B2",K20*0.5,IF(L20="C1",K20*0.3,IF(L20="C2",K20*0.2,0)))))))) -> 5994000 | N20: 19 | O20: =IFERROR(INDEX('[9]CN BC'!$J$10:$J$277,MATCH(B20,'[9]CN BC'!$H$10:$H$277,0)),"") -> 19 | P20: =IF(O20>=N20,M20,M20/N20*O20) -> 5994000 | R20: =Q20*$G$8*1 -> 0 | T20: =S20*$G$8*1 -> 0 | U20: =IF(OR(L20="A DN",L20="KXL", L20=""),"0",ROUND(J20*0.01*$G$8+Q20*1%*$G$8+S20*1%*$G$8,)) -> 59940 | V20: =(P20+R20+T20) -> 5994000 | W20: =VLOOKUP(B20,CN!B21:O279,15,FALSE) -> #REF! | X20: =V20-W20 -> #REF! | Y20: =A20 -> 9 | Z20: =IFERROR(INDEX('[10]CN BC'!$M$10:$M$276,MATCH(B20,'[10]CN BC'!$H$10:$H$276,0)),"") -> 0 | AA20: 7
A21: =_xlfn.AGGREGATE(4,7,A$11:A20)+1 -> 10 | B21: Nguyễn Mỹ Tiên | D21: 0016100006638001 | E21: 1603215003882 | F21: 3 | H21: =F21+(F21*G21) -> 3 | J21: =H21+I21 -> 3 | K21: =J21*$G$8 -> 5400000 | L21: =VLOOKUP(B21,'[8]Gui chi Quynh'!$B$11:$E$401,4,FALSE) -> A4 | M21: =IF(L21="A1",K21*1.6,IF(L21="A2",K21*1.4,IF(L21="A3",K21*1.2,IF(L21="A4",K21*1,IF(L21="B1",K21*0.7,IF(L21="B2",K21*0.5,IF(L21="C1",K21*0.3,IF(L21="C2",K21*0.2,0)))))))) -> 5400000 | N21: 19 | O21: =IFERROR(INDEX('[9]CN BC'!$J$10:$J$277,MATCH(B21,'[9]CN BC'!$H$10:$H$277,0)),"") -> 19 | P21: =IF(O21>=N21,M21,M21/N21*O21) -> 5400000 | R21: =Q21*$G$8*1 -> 0 | T21: =S21*$G$8*1 -> 0 | U21: =IF(OR(L21="A DN",L21="KXL", L21=""),"0",ROUND(J21*0.01*$G$8+Q21*1%*$G$8+S21*1%*$G$8,)) -> 54000 | V21: =(P21+R21+T21) -> 5400000 | W21: =VLOOKUP(B21,CN!B22:O280,15,FALSE) -> #REF! | X21: =V21-W21 -> #REF! | Y21: =A21 -> 10 | Z21: =IFERROR(INDEX('[10]CN BC'!$M$10:$M$276,MATCH(B21,'[10]CN BC'!$H$10:$H$276,0)),"") -> 0 | AA21: 8
