Workbook

Sheet data

Sheet Bảng điểm mới
A1: Môn học: | D1: Học kỳ : | F1: Năm học : | K1: Lớp: | L1: =data!G10 -> 0
A2: Số TT | B2: MSSV | C2: Họ và tên | E2: Điểm đánh giá thường xuyên (ĐĐGtx) | K2: Điểm đánh giá định kì (ĐĐGđk) | N2: Ghi chú
A3: 1 | B3: =IF(data!$D10="","",data!B10) | C3: =IF(data!$D10="","",data!C10) | D3: =IF(data!$D10="","",data!D10) | E3: =IF(data!$D10="","",IF(data!H10="","",data!H10)) | F3: =IF(data!$D10="","",IF(data!I10="","",data!I10)) | G3: =IF(data!$D10="","",IF(data!J10="","",data!J10)) | H3: =IF(data!$D10="","",IF(data!K10="","",data!K10)) | I3: =IF(data!$D10="","",IF(data!L10="","",data!L10)) | J3: =IF(data!$D10="","",IF(data!M10="","",data!M10)) | K3: =IF(data!$D10="","",IF(data!N10="","",data!N10)) | L3: =IF(data!$D10="","",IF(data!O10="","",data!O10)) | M3: =IF(data!$D10="","",IF(data!P10="","",data!P10))
A4: =A3+1 -> 2 | B4: =IF(data!$D11="","",data!B11) | C4: =IF(data!$D11="","",data!C11) | D4: =IF(data!$D11="","",data!D11) | E4: =IF(data!$D11="","",IF(data!H11="","",data!H11)) | F4: =IF(data!$D11="","",IF(data!I11="","",data!I11)) | G4: =IF(data!$D11="","",IF(data!J11="","",data!J11)) | H4: =IF(data!$D11="","",IF(data!K11="","",data!K11)) | I4: =IF(data!$D11="","",IF(data!L11="","",data!L11)) | J4: =IF(data!$D11="","",IF(data!M11="","",data!M11)) | K4: =IF(data!$D11="","",IF(data!N11="","",data!N11)) | L4: =IF(data!$D11="","",IF(data!O11="","",data!O11)) | M4: =IF(data!$D11="","",IF(data!P11="","",data!P11))
A5: =A4+1 -> 3 | B5: =IF(data!$D12="","",data!B12) | C5: =IF(data!$D12="","",data!C12) | D5: =IF(data!$D12="","",data!D12) | E5: =IF(data!$D12="","",IF(data!H12="","",data!H12)) | F5: =IF(data!$D12="","",IF(data!I12="","",data!I12)) | G5: =IF(data!$D12="","",IF(data!J12="","",data!J12)) | H5: =IF(data!$D12="","",IF(data!K12="","",data!K12)) | I5: =IF(data!$D12="","",IF(data!L12="","",data!L12)) | J5: =IF(data!$D12="","",IF(data!M12="","",data!M12)) | K5: =IF(data!$D12="","",IF(data!N12="","",data!N12)) | L5: =IF(data!$D12="","",IF(data!O12="","",data!O12)) | M5: =IF(data!$D12="","",IF(data!P12="","",data!P12))
A6: =A5+1 -> 4 | B6: =IF(data!$D13="","",data!B13) | C6: =IF(data!$D13="","",data!C13) | D6: =IF(data!$D13="","",data!D13) | E6: =IF(data!$D13="","",IF(data!H13="","",data!H13)) | F6: =IF(data!$D13="","",IF(data!I13="","",data!I13)) | G6: =IF(data!$D13="","",IF(data!J13="","",data!J13)) | H6: =IF(data!$D13="","",IF(data!K13="","",data!K13)) | I6: =IF(data!$D13="","",IF(data!L13="","",data!L13)) | J6: =IF(data!$D13="","",IF(data!M13="","",data!M13)) | K6: =IF(data!$D13="","",IF(data!N13="","",data!N13)) | L6: =IF(data!$D13="","",IF(data!O13="","",data!O13)) | M6: =IF(data!$D13="","",IF(data!P13="","",data!P13))
A7: =A6+1 -> 5 | B7: =IF(data!$D14="","",data!B14) | C7: =IF(data!$D14="","",data!C14) | D7: =IF(data!$D14="","",data!D14) | E7: =IF(data!$D14="","",IF(data!H14="","",data!H14)) | F7: =IF(data!$D14="","",IF(data!I14="","",data!I14)) | G7: =IF(data!$D14="","",IF(data!J14="","",data!J14)) | H7: =IF(data!$D14="","",IF(data!K14="","",data!K14)) | I7: =IF(data!$D14="","",IF(data!L14="","",data!L14)) | J7: =IF(data!$D14="","",IF(data!M14="","",data!M14)) | K7: =IF(data!$D14="","",IF(data!N14="","",data!N14)) | L7: =IF(data!$D14="","",IF(data!O14="","",data!O14)) | M7: =IF(data!$D14="","",IF(data!P14="","",data!P14))
A8: =A7+1 -> 6 | B8: =IF(data!$D15="","",data!B15) | C8: =IF(data!$D15="","",data!C15) | D8: =IF(data!$D15="","",data!D15) | E8: =IF(data!$D15="","",IF(data!H15="","",data!H15)) | F8: =IF(data!$D15="","",IF(data!I15="","",data!I15)) | G8: =IF(data!$D15="","",IF(data!J15="","",data!J15)) | H8: =IF(data!$D15="","",IF(data!K15="","",data!K15)) | I8: =IF(data!$D15="","",IF(data!L15="","",data!L15)) | J8: =IF(data!$D15="","",IF(data!M15="","",data!M15)) | K8: =IF(data!$D15="","",IF(data!N15="","",data!N15)) | L8: =IF(data!$D15="","",IF(data!O15="","",data!O15)) | M8: =IF(data!$D15="","",IF(data!P15="","",data!P15))
A9: =A8+1 -> 7 | B9: =IF(data!$D16="","",data!B16) | C9: =IF(data!$D16="","",data!C16) | D9: =IF(data!$D16="","",data!D16) | E9: =IF(data!$D16="","",IF(data!H16="","",data!H16)) | F9: =IF(data!$D16="","",IF(data!I16="","",data!I16)) | G9: =IF(data!$D16="","",IF(data!J16="","",data!J16)) | H9: =IF(data!$D16="","",IF(data!K16="","",data!K16)) | I9: =IF(data!$D16="","",IF(data!L16="","",data!L16)) | J9: =IF(data!$D16="","",IF(data!M16="","",data!M16)) | K9: =IF(data!$D16="","",IF(data!N16="","",data!N16)) | L9: =IF(data!$D16="","",IF(data!O16="","",data!O16)) | M9: =IF(data!$D16="","",IF(data!P16="","",data!P16))
A10: =A9+1 -> 8 | B10: =IF(data!$D17="","",data!B17) | C10: =IF(data!$D17="","",data!C17) | D10: =IF(data!$D17="","",data!D17) | E10: =IF(data!$D17="","",IF(data!H17="","",data!H17)) | F10: =IF(data!$D17="","",IF(data!I17="","",data!I17)) | G10: =IF(data!$D17="","",IF(data!J17="","",data!J17)) | H10: =IF(data!$D17="","",IF(data!K17="","",data!K17)) | I10: =IF(data!$D17="","",IF(data!L17="","",data!L17)) | J10: =IF(data!$D17="","",IF(data!M17="","",data!M17)) | K10: =IF(data!$D17="","",IF(data!N17="","",data!N17)) | L10: =IF(data!$D17="","",IF(data!O17="","",data!O17)) | M10: =IF(data!$D17="","",IF(data!P17="","",data!P17))
A11: =A10+1 -> 9 | B11: =IF(data!$D18="","",data!B18) | C11: =IF(data!$D18="","",data!C18) | D11: =IF(data!$D18="","",data!D18) | E11: =IF(data!$D18="","",IF(data!H18="","",data!H18)) | F11: =IF(data!$D18="","",IF(data!I18="","",data!I18)) | G11: =IF(data!$D18="","",IF(data!J18="","",data!J18)) | H11: =IF(data!$D18="","",IF(data!K18="","",data!K18)) | I11: =IF(data!$D18="","",IF(data!L18="","",data!L18)) | J11: =IF(data!$D18="","",IF(data!M18="","",data!M18)) | K11: =IF(data!$D18="","",IF(data!N18="","",data!N18)) | L11: =IF(data!$D18="","",IF(data!O18="","",data!O18)) | M11: =IF(data!$D18="","",IF(data!P18="","",data!P18))
A12: =A11+1 -> 10 | B12: =IF(data!$D19="","",data!B19) | C12: =IF(data!$D19="","",data!C19) | D12: =IF(data!$D19="","",data!D19) | E12: =IF(data!$D19="","",IF(data!H19="","",data!H19)) | F12: =IF(data!$D19="","",IF(data!I19="","",data!I19)) | G12: =IF(data!$D19="","",IF(data!J19="","",data!J19)) | H12: =IF(data!$D19="","",IF(data!K19="","",data!K19)) | I12: =IF(data!$D19="","",IF(data!L19="","",data!L19)) | J12: =IF(data!$D19="","",IF(data!M19="","",data!M19)) | K12: =IF(data!$D19="","",IF(data!N19="","",data!N19)) | L12: =IF(data!$D19="","",IF(data!O19="","",data!O19)) | M12: =IF(data!$D19="","",IF(data!P19="","",data!P19))
A13: =A12+1 -> 11 | B13: =IF(data!$D20="","",data!B20) | C13: =IF(data!$D20="","",data!C20) | D13: =IF(data!$D20="","",data!D20) | E13: =IF(data!$D20="","",IF(data!H20="","",data!H20)) | F13: =IF(data!$D20="","",IF(data!I20="","",data!I20)) | G13: =IF(data!$D20="","",IF(data!J20="","",data!J20)) | H13: =IF(data!$D20="","",IF(data!K20="","",data!K20)) | I13: =IF(data!$D20="","",IF(data!L20="","",data!L20)) | J13: =IF(data!$D20="","",IF(data!M20="","",data!M20)) | K13: =IF(data!$D20="","",IF(data!N20="","",data!N20)) | L13: =IF(data!$D20="","",IF(data!O20="","",data!O20)) | M13: =IF(data!$D20="","",IF(data!P20="","",data!P20))
A14: =A13+1 -> 12 | B14: =IF(data!$D21="","",data!B21) | C14: =IF(data!$D21="","",data!C21) | D14: =IF(data!$D21="","",data!D21) | E14: =IF(data!$D21="","",IF(data!H21="","",data!H21)) | F14: =IF(data!$D21="","",IF(data!I21="","",data!I21)) | G14: =IF(data!$D21="","",IF(data!J21="","",data!J21)) | H14: =IF(data!$D21="","",IF(data!K21="","",data!K21)) | I14: =IF(data!$D21="","",IF(data!L21="","",data!L21)) | J14: =IF(data!$D21="","",IF(data!M21="","",data!M21)) | K14: =IF(data!$D21="","",IF(data!N21="","",data!N21)) | L14: =IF(data!$D21="","",IF(data!O21="","",data!O21)) | M14: =IF(data!$D21="","",IF(data!P21="","",data!P21))
A15: =A14+1 -> 13 | B15: =IF(data!$D22="","",data!B22) | C15: =IF(data!$D22="","",data!C22) | D15: =IF(data!$D22="","",data!D22) | E15: =IF(data!$D22="","",IF(data!H22="","",data!H22)) | F15: =IF(data!$D22="","",IF(data!I22="","",data!I22)) | G15: =IF(data!$D22="","",IF(data!J22="","",data!J22)) | H15: =IF(data!$D22="","",IF(data!K22="","",data!K22)) | I15: =IF(data!$D22="","",IF(data!L22="","",data!L22)) | J15: =IF(data!$D22="","",IF(data!M22="","",data!M22)) | K15: =IF(data!$D22="","",IF(data!N22="","",data!N22)) | L15: =IF(data!$D22="","",IF(data!O22="","",data!O22)) | M15: =IF(data!$D22="","",IF(data!P22="","",data!P22))
... A72: =A71+1 -> 70 | B72: =IF(data!$D79="","",data!B79) | C72: =IF(data!$D79="","",data!C79) | D72: =IF(data!$D79="","",data!D79) | E72: =IF(data!$D79="","",IF(data!H79="","",data!H79)) | F72: =IF(data!$D79="","",IF(data!I79="","",data!I79)) | G72: =IF(data!$D79="","",IF(data!J79="","",data!J79)) | H72: =IF(data!$D79="","",IF(data!K79="","",data!K79)) | I72: =IF(data!$D79="","",IF(data!L79="","",data!L79)) | J72: =IF(data!$D79="","",IF(data!M79="","",data!M79)) | K72: =IF(data!$D79="","",IF(data!N79="","",data!N79)) | L72: =IF(data!$D79="","",IF(data!O79="","",data!O79)) | M72: =IF(data!$D79="","",IF(data!P79="","",data!P79))
K73: Giáo viên môn học
K74: (Ký và ghi rõ họ tên)

Sheet Bảng điểm mới (2)
A4: BẢNG GHI ĐIỂM LỚP HỌC PHẦN
C5: Môn học: | D5: =UPPER(MID(data!E5,FIND("]",data!E5,1)+3,FIND("(",data!E5,1)-FIND("]",data!E5,1)-3)) -> #VALUE! | I5: Lớp: | J5: =data!G10 -> 0
A6: Số TT | B6: MSSV | C6: Họ và tên | E6: Điểm đánh giá thường xuyên (ĐĐGtx) | K6: Điểm đánh giá định kì (ĐĐGđk) | N6: Ghi chú
A7: 1 | B7: =IF(data!$D10="","",data!B10) | C7: =IF(data!$D10="","",data!C10) | D7: =IF(data!$D10="","",data!D10) | E7: =IF(data!$D10="","",IF(data!H10="","",data!H10)) | F7: =IF(data!$D10="","",IF(data!I10="","",data!I10)) | G7: =IF(data!$D10="","",IF(data!J10="","",data!J10)) | H7: =IF(data!$D10="","",IF(data!K10="","",data!K10)) | I7: =IF(data!$D10="","",IF(data!L10="","",data!L10)) | J7: =IF(data!$D10="","",IF(data!M10="","",data!M10)) | K7: =IF(data!$D10="","",IF(data!N10="","",data!N10)) | L7: =IF(data!$D10="","",IF(data!O10="","",data!O10)) | M7: =IF(data!$D10="","",IF(data!P10="","",data!P10))
A8: =A7+1 -> 2 | B8: =IF(data!$D11="","",data!B11) | C8: =IF(data!$D11="","",data!C11) | D8: =IF(data!$D11="","",data!D11) | E8: =IF(data!$D11="","",IF(data!H11="","",data!H11)) | F8: =IF(data!$D11="","",IF(data!I11="","",data!I11)) | G8: =IF(data!$D11="","",IF(data!J11="","",data!J11)) | H8: =IF(data!$D11="","",IF(data!K11="","",data!K11)) | I8: =IF(data!$D11="","",IF(data!L11="","",data!L11)) | J8: =IF(data!$D11="","",IF(data!M11="","",data!M11)) | K8: =IF(data!$D11="","",IF(data!N11="","",data!N11)) | L8: =IF(data!$D11="","",IF(data!O11="","",data!O11)) | M8: =IF(data!$D11="","",IF(data!P11="","",data!P11))
A9: =A8+1 -> 3 | B9: =IF(data!$D12="","",data!B12) | C9: =IF(data!$D12="","",data!C12) | D9: =IF(data!$D12="","",data!D12) | E9: =IF(data!$D12="","",IF(data!H12="","",data!H12)) | F9: =IF(data!$D12="","",IF(data!I12="","",data!I12)) | G9: =IF(data!$D12="","",IF(data!J12="","",data!J12)) | H9: =IF(data!$D12="","",IF(data!K12="","",data!K12)) | I9: =IF(data!$D12="","",IF(data!L12="","",data!L12)) | J9: =IF(data!$D12="","",IF(data!M12="","",data!M12)) | K9: =IF(data!$D12="","",IF(data!N12="","",data!N12)) | L9: =IF(data!$D12="","",IF(data!O12="","",data!O12)) | M9: =IF(data!$D12="","",IF(data!P12="","",data!P12))
A10: =A9+1 -> 4 | B10: =IF(data!$D13="","",data!B13) | C10: =IF(data!$D13="","",data!C13) | D10: =IF(data!$D13="","",data!D13) | E10: =IF(data!$D13="","",IF(data!H13="","",data!H13)) | F10: =IF(data!$D13="","",IF(data!I13="","",data!I13)) | G10: =IF(data!$D13="","",IF(data!J13="","",data!J13)) | H10: =IF(data!$D13="","",IF(data!K13="","",data!K13)) | I10: =IF(data!$D13="","",IF(data!L13="","",data!L13)) | J10: =IF(data!$D13="","",IF(data!M13="","",data!M13)) | K10: =IF(data!$D13="","",IF(data!N13="","",data!N13)) | L10: =IF(data!$D13="","",IF(data!O13="","",data!O13)) | M10: =IF(data!$D13="","",IF(data!P13="","",data!P13))
A11: =A10+1 -> 5 | B11: =IF(data!$D14="","",data!B14) | C11: =IF(data!$D14="","",data!C14) | D11: =IF(data!$D14="","",data!D14) | E11: =IF(data!$D14="","",IF(data!H14="","",data!H14)) | F11: =IF(data!$D14="","",IF(data!I14="","",data!I14)) | G11: =IF(data!$D14="","",IF(data!J14="","",data!J14)) | H11: =IF(data!$D14="","",IF(data!K14="","",data!K14)) | I11: =IF(data!$D14="","",IF(data!L14="","",data!L14)) | J11: =IF(data!$D14="","",IF(data!M14="","",data!M14)) | K11: =IF(data!$D14="","",IF(data!N14="","",data!N14)) | L11: =IF(data!$D14="","",IF(data!O14="","",data!O14)) | M11: =IF(data!$D14="","",IF(data!P14="","",data!P14))
A12: =A11+1 -> 6 | B12: =IF(data!$D15="","",data!B15) | C12: =IF(data!$D15="","",data!C15) | D12: =IF(data!$D15="","",data!D15) | E12: =IF(data!$D15="","",IF(data!H15="","",data!H15)) | F12: =IF(data!$D15="","",IF(data!I15="","",data!I15)) | G12: =IF(data!$D15="","",IF(data!J15="","",data!J15)) | H12: =IF(data!$D15="","",IF(data!K15="","",data!K15)) | I12: =IF(data!$D15="","",IF(data!L15="","",data!L15)) | J12: =IF(data!$D15="","",IF(data!M15="","",data!M15)) | K12: =IF(data!$D15="","",IF(data!N15="","",data!N15)) | L12: =IF(data!$D15="","",IF(data!O15="","",data!O15)) | M12: =IF(data!$D15="","",IF(data!P15="","",data!P15))
A13: =A12+1 -> 7 | B13: =IF(data!$D16="","",data!B16) | C13: =IF(data!$D16="","",data!C16) | D13: =IF(data!$D16="","",data!D16) | E13: =IF(data!$D16="","",IF(data!H16="","",data!H16)) | F13: =IF(data!$D16="","",IF(data!I16="","",data!I16)) | G13: =IF(data!$D16="","",IF(data!J16="","",data!J16)) | H13: =IF(data!$D16="","",IF(data!K16="","",data!K16)) | I13: =IF(data!$D16="","",IF(data!L16="","",data!L16)) | J13: =IF(data!$D16="","",IF(data!M16="","",data!M16)) | K13: =IF(data!$D16="","",IF(data!N16="","",data!N16)) | L13: =IF(data!$D16="","",IF(data!O16="","",data!O16)) | M13: =IF(data!$D16="","",IF(data!P16="","",data!P16))
A14: =A13+1 -> 8 | B14: =IF(data!$D17="","",data!B17) | C14: =IF(data!$D17="","",data!C17) | D14: =IF(data!$D17="","",data!D17) | E14: =IF(data!$D17="","",IF(data!H17="","",data!H17)) | F14: =IF(data!$D17="","",IF(data!I17="","",data!I17)) | G14: =IF(data!$D17="","",IF(data!J17="","",data!J17)) | H14: =IF(data!$D17="","",IF(data!K17="","",data!K17)) | I14: =IF(data!$D17="","",IF(data!L17="","",data!L17)) | J14: =IF(data!$D17="","",IF(data!M17="","",data!M17)) | K14: =IF(data!$D17="","",IF(data!N17="","",data!N17)) | L14: =IF(data!$D17="","",IF(data!O17="","",data!O17)) | M14: =IF(data!$D17="","",IF(data!P17="","",data!P17))
A15: =A14+1 -> 9 | B15: =IF(data!$D18="","",data!B18) | C15: =IF(data!$D18="","",data!C18) | D15: =IF(data!$D18="","",data!D18) | E15: =IF(data!$D18="","",IF(data!H18="","",data!H18)) | F15: =IF(data!$D18="","",IF(data!I18="","",data!I18)) | G15: =IF(data!$D18="","",IF(data!J18="","",data!J18)) | H15: =IF(data!$D18="","",IF(data!K18="","",data!K18)) | I15: =IF(data!$D18="","",IF(data!L18="","",data!L18)) | J15: =IF(data!$D18="","",IF(data!M18="","",data!M18)) | K15: =IF(data!$D18="","",IF(data!N18="","",data!N18)) | L15: =IF(data!$D18="","",IF(data!O18="","",data!O18)) | M15: =IF(data!$D18="","",IF(data!P18="","",data!P18))
A16: =A15+1 -> 10 | B16: =IF(data!$D19="","",data!B19) | C16: =IF(data!$D19="","",data!C19) | D16: =IF(data!$D19="","",data!D19) | E16: =IF(data!$D19="","",IF(data!H19="","",data!H19)) | F16: =IF(data!$D19="","",IF(data!I19="","",data!I19)) | G16: =IF(data!$D19="","",IF(data!J19="","",data!J19)) | H16: =IF(data!$D19="","",IF(data!K19="","",data!K19)) | I16: =IF(data!$D19="","",IF(data!L19="","",data!L19)) | J16: =IF(data!$D19="","",IF(data!M19="","",data!M19)) | K16: =IF(data!$D19="","",IF(data!N19="","",data!N19)) | L16: =IF(data!$D19="","",IF(data!O19="","",data!O19)) | M16: =IF(data!$D19="","",IF(data!P19="","",data!P19))
A17: =A16+1 -> 11 | B17: =IF(data!$D20="","",data!B20) | C17: =IF(data!$D20="","",data!C20) | D17: =IF(data!$D20="","",data!D20) | E17: =IF(data!$D20="","",IF(data!H20="","",data!H20)) | F17: =IF(data!$D20="","",IF(data!I20="","",data!I20)) | G17: =IF(data!$D20="","",IF(data!J20="","",data!J20)) | H17: =IF(data!$D20="","",IF(data!K20="","",data!K20)) | I17: =IF(data!$D20="","",IF(data!L20="","",data!L20)) | J17: =IF(data!$D20="","",IF(data!M20="","",data!M20)) | K17: =IF(data!$D20="","",IF(data!N20="","",data!N20)) | L17: =IF(data!$D20="","",IF(data!O20="","",data!O20)) | M17: =IF(data!$D20="","",IF(data!P20="","",data!P20))
A18: =A17+1 -> 12 | B18: =IF(data!$D21="","",data!B21) | C18: =IF(data!$D21="","",data!C21) | D18: =IF(data!$D21="","",data!D21) | E18: =IF(data!$D21="","",IF(data!H21="","",data!H21)) | F18: =IF(data!$D21="","",IF(data!I21="","",data!I21)) | G18: =IF(data!$D21="","",IF(data!J21="","",data!J21)) | H18: =IF(data!$D21="","",IF(data!K21="","",data!K21)) | I18: =IF(data!$D21="","",IF(data!L21="","",data!L21)) | J18: =IF(data!$D21="","",IF(data!M21="","",data!M21)) | K18: =IF(data!$D21="","",IF(data!N21="","",data!N21)) | L18: =IF(data!$D21="","",IF(data!O21="","",data!O21)) | M18: =IF(data!$D21="","",IF(data!P21="","",data!P21))
A19: =A18+1 -> 13 | B19: =IF(data!$D22="","",data!B22) | C19: =IF(data!$D22="","",data!C22) | D19: =IF(data!$D22="","",data!D22) | E19: =IF(data!$D22="","",IF(data!H22="","",data!H22)) | F19: =IF(data!$D22="","",IF(data!I22="","",data!I22)) | G19: =IF(data!$D22="","",IF(data!J22="","",data!J22)) | H19: =IF(data!$D22="","",IF(data!K22="","",data!K22)) | I19: =IF(data!$D22="","",IF(data!L22="","",data!L22)) | J19: =IF(data!$D22="","",IF(data!M22="","",data!M22)) | K19: =IF(data!$D22="","",IF(data!N22="","",data!N22)) | L19: =IF(data!$D22="","",IF(data!O22="","",data!O22)) | M19: =IF(data!$D22="","",IF(data!P22="","",data!P22))
... A76: =A75+1 -> 70 | B76: =IF(data!$D79="","",data!B79) | C76: =IF(data!$D79="","",data!C79) | D76: =IF(data!$D79="","",data!D79) | E76: =IF(data!$D79="","",IF(data!H79="","",data!H79)) | F76: =IF(data!$D79="","",IF(data!I79="","",data!I79)) | G76: =IF(data!$D79="","",IF(data!J79="","",data!J79)) | H76: =IF(data!$D79="","",IF(data!K79="","",data!K79)) | I76: =IF(data!$D79="","",IF(data!L79="","",data!L79)) | J76: =IF(data!$D79="","",IF(data!M79="","",data!M79)) | K76: =IF(data!$D79="","",IF(data!N79="","",data!N79)) | L76: =IF(data!$D79="","",IF(data!O79="","",data!O79)) | M76: =IF(data!$D79="","",IF(data!P79="","",data!P79))
K77: Giáo viên môn học
K78: (Ký và ghi rõ họ tên)

Sheet Sheet2
A4: BẢNG GHI ĐIỂM LỚP HỌC PHẦN
B5: Đợt: HK2 (2022 - 2023) | E5: Lớp học phần: [071400326827] - Vật lý (22T4-THU1)
H6: DiemHeSo11 | I6: DiemHeSo12 | J6: DiemHeSo13 | K6: DiemHeSo14 | L6: DiemHeSo15 | M6: DiemHeSo16 | N6: DiemHeSo21 | O6: DiemHeSo22 | P6: DiemHeSo23 | Q6: DiemTBThuongKy | R6: DuocDuThiKetThuc
A7: STT | B7: Thông tin sinh viên | H7: Thường xuyên 40% | Q7: TBTK | R7: Được dự thi | S7: Ghi chú
B8: Mã sinh viên | C8: Họ đệm | D8: Tên | E8: Giới tính | F8: Ngày sinh | G8: Lớp học | H8: Hệ số 1 | N8: Hệ số 2
H9: 1 | I9: 2 | J9: 3 | K9: 4 | L9: 5 | M9: 6 | N9: 1 | O9: 2 | P9: 3
A10: 1 | B10: 22001551 | C10: Trịnh Khắc Tuấn | D10: Anh | E10: Nam | F10: 12/03/2007 | G10: 22T4-THU1 | H10: 5 | N10: 9 | Q10: 7.7 | R10: V
A11: 2 | B11: 22002135 | C11: Vũ Minh | D11: Anh | E11: Nữ | F11: 21/12/2007 | G11: 22T4-THU1 | H11: 8.3 | N11: 10 | Q11: 9.4 | R11: V
A12: 3 | B12: 22001600 | C12: Lê Võ Yến | D12: Chi | E12: Nữ | F12: 21/08/2007 | G12: 22T4-THU1 | H12: 10 | N12: 10 | Q12: 10 | R12: V
A13: 4 | B13: 22001967 | C13: Lê Nguyễn Quốc | D13: Đạt | E13: Nam | F13: 19/10/2007 | G13: 22T4-THU1 | H13: 9.7 | N13: 10 | Q13: 9.9 | R13: V
A14: 5 | B14: 22001597 | C14: Kỷ Bình Anh | D14: Duy | E14: Nam | F14: 24/07/2007 | G14: 22T4-THU1 | H14: 6.2 | N14: 8.5 | Q14: 7.7 | R14: V
A15: 6 | B15: 22001968 | C15: Trần Trung | D15: Hiếu | E15: Nam | F15: 30/12/2007 | G15: 22T4-THU1 | H15: 10 | N15: 10 | Q15: 10 | R15: V
A16: 7 | B16: 22000944 | C16: Võ Thụy Thái | D16: Hòa | E16: Nữ | F16: 18/02/2007 | G16: 22T4-THU1 | H16: 10 | N16: 10 | Q16: 10 | R16: V
A17: 8 | B17: 22002737 | C17: Nguyễn Lê Minh | D17: Hoàng | E17: Nam | F17: 20/06/2006 | G17: 22T4-THU1 | H17: 1.5 | N17: 0 | Q17: 0.5 | S17: Nợ học phí, Không đủ điểm, Vắng quá số tiết
A18: 9 | B18: 22000979 | C18: Huỳnh Văn | D18: Hưng | E18: Nam | F18: 16/09/2007 | G18: 22T4-THU1 | H18: 6.5 | N18: 8.5 | Q18: 7.8 | S18: Nợ học phí
A19: 10 | B19: 22001684 | C19: Nguyễn Trí | D19: Khang | E19: Nam | F19: 22/09/2007 | G19: 22T4-THU1 | H19: 10 | N19: 10 | Q19: 10 | R19: V
A20: 11 | B20: 22001202 | C20: Trần Anh | D20: Khoa | E20: Nam | F20: 23/03/2006 | G20: 22T4-THU1 | H20: 0 | N20: 0 | Q20: 0 | S20: Nợ học phí, Không đủ điểm, Vắng quá số tiết
A21: 12 | B21: 22001166 | C21: Bùi Hoàng Bính | D21: Long | E21: Nam | F21: 31/12/2007 | G21: 22T4-THU1 | H21: 5.2 | N21: 9 | Q21: 7.7 | R21: V
A22: 13 | B22: 22002235 | C22: Phan Thị Cẩm | D22: Mỹ | E22: Nữ | F22: 02/08/2007 | G22: 22T4-THU1 | H22: 9.8 | N22: 8 | Q22: 8.6 | R22: V
A23: 14 | B23: 22000815 | C23: Lê Ngọc Tuyết | D23: Ngân | E23: Nữ | F23: 21/12/2007 | G23: 22T4-THU1 | H23: 0 | N23: 0 | Q23: 0 | S23: Nợ học phí, Không đủ điểm, Vắng quá số tiết
A24: 15 | B24: 22003872 | C24: Mai Phương | D24: Nghi | E24: Nữ | F24: 08/03/2007 | G24: 22T4-THU1 | H24: 9.3 | N24: 8 | Q24: 8.4 | S24: Nợ học phí
A25: 16 | B25: 22002120 | C25: Hồ Bảo | D25: Ngọc | E25: Nữ | F25: 21/02/2007 | G25: 22T4-THU1 | H25: 0 | N25: 0 | Q25: 0 | S25: Nợ học phí, Không đủ điểm, Vắng quá số tiết
A26: 17 | B26: 22001290 | C26: Nguyễn Bảo | D26: Nguyên | E26: Nam | F26: 29/09/2007 | G26: 22T4-THU1 | H26: 8.8 | N26: 8 | Q26: 8.3 | R26: V
A27: 18 | B27: 22000869 | C27: Võ Thành | D27: Nhân | E27: Nam | F27: 12/01/2007 | G27: 22T4-THU1 | H27: 1.5 | N27: 5.5 | Q27: 4.2 | S27: Nợ học phí, Không đủ điểm, Vắng quá số tiết
A28: 19 | B28: 22003123 | C28: Đỗ Đăng | D28: Phát | E28: Nam | F28: 05/05/2007 | G28: 22T4-THU1 | H28: 4.8 | N28: 0 | Q28: 1.6 | S28: Nợ học phí, Không đủ điểm, Vắng quá số tiết
A29: 20 | B29: 22001983 | C29: Nguyễn Tấn | D29: Phát | E29: Nam | F29: 29/04/2007 | G29: 22T4-THU1 | H29: 0 | N29: 9 | Q29: 6 | S29: Nợ học phí, Vắng quá số tiết
A30: 21 | B30: 22000582 | C30: Nguyễn Ngọc Minh | D30: Phú | E30: Nam | F30: 30/03/2007 | G30: 22T4-THU1 | H30: 0 | N30: 7.5 | Q30: 5 | S30: Nợ học phí, Vắng quá số tiết
A31: 22 | B31: 22003046 | C31: Võ Hoàng | D31: Phúc | E31: Nam | F31: 27/03/2005 | G31: 22T4-THU1 | H31: 10 | N31: 10 | Q31: 10 | R31: V
A32: 23 | B32: 22001794 | C32: Nguyễn Hồ Diệu | D32: Phương | E32: Nữ | F32: 28/08/2007 | G32: 22T4-THU1 | H32: 10 | N32: 10 | Q32: 10 | R32: V
A33: 24 | B33: 22001299 | C33: Dương Huỳnh Minh | D33: Quân | E33: Nam | F33: 15/02/2007 | G33: 22T4-THU1 | H33: 10 | N33: 10 | Q33: 10 | R33: V
A34: 25 | B34: 22001465 | C34: Nguyễn Hà Hoàng | D34: Quân | E34: Nam | F34: 30/11/2007 | G34: 22T4-THU1 | H34: 10 | N34: 10 | Q34: 10 | R34: V
A35: 26 | B35: 22001155 | C35: Nguyễn Tấn | D35: Tài | E35: Nam | F35: 16/10/2007 | G35: 22T4-THU1 | H35: 10 | N35: 9.3 | Q35: 9.5 | R35: V
A36: 27 | B36: 22001220 | C36: Nguyễn Tấn | D36: Tài | E36: Nam | F36: 06/02/2007 | G36: 22T4-THU1 | H36: 10 | N36: 10 | Q36: 10 | R36: V
A37: 28 | B37: 22004098 | C37: Hoàng Hữu | D37: Tâm | E37: Nam | F37: 24/05/2007 | G37: 22T4-THU1 | H37: 2 | N37: 0 | Q37: 0.7 | S37: Nợ học phí, Không đủ điểm, Vắng quá số tiết
A38: 29 | B38: 22001400 | C38: Trần Ngọc | D38: Tâm | E38: Nam | F38: 24/01/2007 | G38: 22T4-THU1 | H38: 7.8 | N38: 8.5 | Q38: 8.3 | R38: V
A39: 30 | B39: 22002134 | C39: Vũ Hoàng Minh | D39: Tâm | E39: Nam | F39: 02/03/2007 | G39: 22T4-THU1 | H39: 10 | N39: 10 | Q39: 10 | R39: V
A40: 31 | B40: 22003499 | C40: Phan Hoàng | D40: Thái | E40: Nam | F40: 05/08/2005 | G40: 22T4-THU1 | H40: 0 | N40: 0 | Q40: 0 | S40: Nợ học phí, Không đủ điểm, Vắng quá số tiết
A41: 32 | B41: 22001987 | C41: Võ Nguyễn Hải | D41: Thảo | E41: Nữ | F41: 08/03/2007 | G41: 22T4-THU1 | H41: 10 | N41: 10 | Q41: 10 | S41: Nợ học phí
A42: 33 | B42: 22002175 | C42: Lê Nguyễn Thủy | D42: Tiên | E42: Nữ | F42: 28/09/2007 | G42: 22T4-THU1 | H42: 6.3 | N42: 8.5 | Q42: 7.8 | R42: V
A43: 34 | B43: 22002452 | C43: Nguyễn Ngọc | D43: Tiên | E43: Nam | F43: 22/03/2007 | G43: 22T4-THU1 | H43: 5.8 | N43: 5 | Q43: 5.3 | R43: V
A44: 35 | B44: 22000832 | C44: Đỗ Thảo | D44: Trang | E44: Nữ | F44: 09/11/2007 | G44: 22T4-THU1 | H44: 7.2 | N44: 8.5 | Q44: 8.1 | R44: V
A45: 36 | B45: 22001737 | C45: Võ Ngọc Uyên | D45: Trang | E45: Nữ | F45: 04/03/2007 | G45: 22T4-THU1 | H45: 10 | N45: 10 | Q45: 10 | R45: V
A46: 37 | B46: 22001784 | C46: Nguyễn Quang | D46: Triều | E46: Nam | F46: 28/12/2007 | G46: 22T4-THU1 | H46: 9.3 | N46: 9 | Q46: 9.1 | R46: V
A47: 38 | B47: 22002971 | C47: Nguyễn Đỗ Đức | D47: Tú | E47: Nam | F47: 24/11/2007 | G47: 22T4-THU1 | H47: 5.5 | N47: 5 | Q47: 5.2 | S47: Nợ học phí
A48: 39 | B48: 22001414 | C48: Nguyễn Minh | D48: Uyên | E48: Nữ | F48: 08/07/2007 | G48: 22T4-THU1 | H48: 8.3 | N48: 5.5 | Q48: 6.4 | R48: V
A49: 40 | B49: 22001754 | C49: Trịnh Thế | D49: Vinh | E49: Nam | F49: 05/11/2007 | G49: 22T4-THU1 | H49: 10 | N49: 7.8 | Q49: 8.5 | R49: V
A50: 41 | B50: 22000972 | C50: Võ Lê Thế | D50: Vinh | E50: Nam | F50: 04/09/2007 | G50: 22T4-THU1 | H50: 9 | N50: 9 | Q50: 9 | S50: Nợ học phí
A51: Tổng cộng: | C51: =COUNTA(C10:C50) -> 41 | H51: =SUM(H10:H50) -> 277.8 | I51: =SUM(I10:I50) -> 0 | J51: =SUM(J10:J50) -> 0 | K51: =SUM(K10:K50) -> 0 | L51: =SUM(L10:L50) -> 0 | M51: =SUM(M10:M50) -> 0 | N51: =SUM(N10:N50) -> 297.1 | O51: =SUM(O10:O50) -> 0 | ... Q51: =SUM(Q10:Q50) -> 290.7 | R51: =COUNTA(R10:R50) -> 26
B52: Tổng cộng: 41
G53: Người lập biểu
G56: Nguyễn Thanh Tú
