Workbook

Sheet Mau 1
A1: TRƯỜNG CAO ĐẲNG LÝ TỰ TRỌNG THÀNH PHỐ HỒ CHÍ MINH PHÒNG KẾ HOẠCH - TÀI CHÍNH | D1: CỘNG HÒA XÃ HỘI CHỦ NGHĨA VIỆT NAM Độc lập - Tự do - Hạnh phúc
G2: Mẫu 1
A3: BẢNG TỔNG HỢP CÔNG VIỆC ĐỘT XUẤT ĐÃ THỰC HIỆN THÁNG 09/2025
A4: TT | B4: Nội dung công việc | C4: Số lượng người tham gia thực hiện | D4: Tên người tham gia thực hiện | E4: Thời gian thực hiện | F4: Kết quả thực hiện | G4: Ghi chú
A5: I. | B5: Công việc đột xuất của Trường
A6: Nhiệm vụ 1 | B6: Thực hiện công văn số 2020-CV/BTGDVTW ngày 19/8/2025 của Ban tuyên giáo và dân vận về việc báo cáo kết quả tự chủ trong các cơ sở giáo dục nghề nghiệp | C6: 3 | D6: Kính, Thoa, Thắng | E6: Tháng 09/2025 | F6: Đang thực hiện
A7: Nhiệm vụ 2 | B7: Thực hiện công văn số 419/KVIV-NS3 ngày 27/8/2025 của Kiểm toán nhà nước khu vực IV về việc cung cấp thông tin cho việc lập kế hoạch kiểm toán trung hạn năm 2026-2028 | C7: 9 | D7: Kính, Thoa, Dung, Trân, Thắng, Thắm, Vân, Ý, Quỳnh | E7: Tháng 09/2025 | F7: Đã thực hiện
A8: Nhiệm vụ 3 | B8: Thực hiện công văn số 1697/SGDĐT-KHTC ngày 22/8/2025 của Sở Giáo dục và Đào tạo về triển khai xây dựng phương án tự chủ tài chính giai đoạn 2026 – 2030 đối với các đơn vị trực thuộc Sở | C8: 9 | D8: Kính, Thoa, Dung, Trân, Thắng, Thắm, Vân, Ý, Quỳnh | E8: Tháng 09/2025 | F8: Đang thực hiện
A9: Nhiệm vụ 4 | B9: Thực hiện công văn số 3903/STC-QLCS ngày 27/8/2025 về việc triển khai thực hiện Nghị định số 153/2025/NĐ-CP về sửa đổi, bổ sung Nghị định số 72/2023/NĐ-CP của Chính phủ quy định tiêu chuẩn, định mức sử dụng xe ô tô (báo cáo đề cương theo phụ lục đính kèm) | C9: 3 | D9: Kính, Thoa, Thắng | E9: Tháng 09/2025 | F9: Đã thực hiện
A10: Nhiệm vụ 5 | B10: Thực hiện công văn số 1826/SGDĐT-KHTC ngày 26/8/2025 vể thực hiện tiết kiệm chi thường xuyên dự toán năm 2025 theo Nghị quyết số 173/NQ-CP ngày 13/6/2025 của Chính phủ | C10: 3 | D10: Kính, Thoa, Dung | E10: Tháng 09/2025 | F10: Đã thực hiện
A11: Nhiệm vụ 6 | B11: Thực hiện công văn số 1888/SGDĐT-KHTC ngày 29/8/2025 về sử dụng học phí và các khoản thu khác; thực hiện chế độ miễn, giảm, hỗ trợ học phí và hỗ trợ chi phí học tập năm học 2025-2026 của các cơ sở giáo dục và đào tạo công lập trên địa bàn Thành phố Hồ Chí Minh | C11: 9 | D11: Kính, Thoa, Dung, Trân, Thắng, Thắm, Vân, Ý, Quỳnh | E11: Tháng 09/2025 | F11: Đang thực hiện
A12: Nhiệm vụ 7 | B12: Thực hiện công văn số 2190/SGDĐT-KHTC ngày 11/9/2025 của Sở Giáo dục và Đào tạo về triển khai thực hiện theo Nghị định số 03/2025/NĐ-CP của Chính phủ - Phối hợp với Sở Giáo dục và Đào tạo lập biên bản kiểm tra hiện trạng nhà đất | C12: 4 | D12: Kính, Thoa, Ý, Thắng | E12: Tháng 09/2025 | F12: Đã thực hiện
A13: Nhiệm vụ 8 | B13: Thực hiện công văn 6139/STC-HCSN ngày 16/9/2025 của Sở Tài chính về việc hủy dự toán ngân sách nhà nước năm 2025 trước sắp xếp do thực hiện mô hình tổ chức chính quyền địa phương 02 cấp | C13: 2 | D13: Kính, Dung | E13: Tháng 09/2025 | F13: Đã thực hiện
A14: Nhiệm vụ 9 | B14: Thực hiện công văn số 2182/SGDĐT-KHTC ngày 10/9/2025 của Sở Giáo dục và Đào tạo về cung cấp thông tin cho việc lập kế hoạch kiểm toán năm 2026 | C14: 4 | D14: Kính, Thoa, Dung, Thắng | E14: Tháng 09/2025 | F14: Đã thực hiện
A15: II. | B15: Công việc đột xuất của Phòng
A16: Nhiệm vụ 1 | B16: Thực hiện thông báo số 64406/TB-HCM-KĐT ngày 16/9/2025 về giải trình nộp thuế thu nhập doanh nghiệp với cơ quan thuế | C16: 2 | D16: Kính, Thắm | E16: Tháng 09/2025 | F16: Đang thực hiện
A17: Nhiệm vụ 2 | B17: Tiếp tục thực hiện giải trình của Đoàn kiểm tra theo Quyết định số 875/QĐ-SGDĐT ngày 11/4/2024 của Giám đốc Sở GDĐT Tiến hành kiểm tra đột xuất việc triển khai thực hiện chức năng, nhiệm vụ của Trường Cao đẳng Lý Tự Trọng TP. Hồ Chí Minh (P. KH-TC đang thực hiện việc báo cáo giải trình, cung cấp số liệu, hồ sơ, sổ sách đầy đủ cho đoàn Thanh tra) | C17: 5 | D17: Kính, Dung, Thoa, Trân, Vân | E17: Tháng 09/2025 | F17: Đang thực hiện
A18: Nhiệm vụ 3 | B18: Thực hiện công văn số 1256/SGDĐT-KHTC ngày 13 tháng 8 năm 2025 của Sở Giáo dục và Đào tạo về triển khai thực hiện kế hoạch mua sắm, bảo dưỡng và sửa chữa tài sản công năm 2025 của các đơn vị trực thuộc Sở Giáo dục và Đào tạo (giai đoạn Lập báo cáo kinh tế kỹ thuật và Kế hoạch lựa chọn thầu giai đoạn chuẩn bị đầu tư); | C18: 4 | D18: Kính, Trân, Thắng, Ý | E18: Tháng 09/2025 | F18: Đang thực hiện
A19: Nhiệm vụ 4 | B19: Tiếp tục thực hiện cập nhật đồng bộ mã số định danh với mã số thuế TNCN theo thông tư số 86/2024/TT-BTC quy định về việc sử dụng số căn cước công dân/mã định danh cá nhân thay cho mã số thuế, áp dụng từ ngày 01/7/2025. Thông báo số 412/TB-LTT-KHTC ngày 10/6/2025 của Trường Cao đẳng Lý Tự Trọng TP. HCM về việc cung câp CCCD/ĐDCN để đồng bộ dữ liệu của người nộp thuế trên Hệ thống cơ quan thuế | C19: 2 | D19: Kính, Thắm | E19: Tháng 09/2025 | F19: Đang thực hiện
A20: Nhiệm vụ 5 | B20: Thực hiện thư ngõ tài trợ Lễ Kỷ niệm Ngày Nhà giáo Việt Nam 20/11/2025, Cập nhật và báo cáo tình hình phát sinh công tác tài trợ của các đơn vị, Doanh nghiệp; | C20: 3 | D20: Kính, Ý, Quỳnh | E20: Tháng 09/2025 | F20: Đang thực hiện
A21: Nhiệm vụ 6 | B21: Thực hiện hồ sơ thầu qua mạng đấu gia: Trang bị đồng phục năm 2025 cho CB, VC và người lao động Trường Cao đẳng Lý Tự Trọng Thành phố Hồ Chí Minh | C21: 3 | D21: Kính, Thắng, Trân | E21: Tháng 09/2025 | F21: Đang thực hiện
A22: Nhiệm vụ 7 | B22: Phối hợp với khoa Cơ Khí hoàn thiện hồ sơ thực hiện đề tài nghiên cứu khoa học cấp trường: Nghiên cứu và chế tạo máy hàn plastic composite sử dụng tần số cao công suất 1000W; Thi công mô hình cánh tay Robot 6 bậc tự do sử dụng công nghệ AI để nhận diện đối tượng | C22: 3 | D22: Kính, Thoa, Ý | E22: Tháng 09/2025 | F22: Đang thực hiện
A23: Nhiệm vụ 8 | B23: Phân công trực phục vụ công tác tuyển sinh các ngày nghỉ lễ 2/9/2025; chủ nhật 14/9/2025 | C23: 8 | D23: Kính, Dung, Thoa, Trân, Thắm, Thắng, Ý, Vân | E23: Tháng 09/2025 | F23: Đã thực hiện
A24: Nhiệm vụ 9 | B24: Trưởng P. KHTC đã phân công choàng việc cho bà Nguyễn Thị Minh Thùy nghỉ hộ sản | C24: 9 | D24: Kính, Thoa, Dung, Trân, Thắng, Thắm, Vân, Ý, Quỳnh | E24: Tháng 09/2025 | F24: Đã thực hiện
A26: Lưu ý: - Không ghi nhận nhiệm vụ đột xuất đối với những công việc có tính thường xuyên thuộc chức năng của đơn vị mà cá nhân được phân công phụ trách hoặc những việc mà cá nhân đã nhận được chi trả chi phí, bồi dưỡng riêng. - Các đơn vị gửi file điện tử về phòng TC-HC-TH (Cô Trần Thị Ánh Phượng) qua hệ thống điện tử E-Office (không gửi văn bản giấy)./.
D27: Thành phố Hồ Chí Minh, ngày 23 tháng 9 năm 2025
D28: TRƯỞNG ĐƠN VỊ
D32: Nguyễn Kính

Sheet Mau 2
A1: TRƯỜNG CAO ĐẲNG LÝ TỰ TRỌNG | T1: CỘNG HÒA XÃ HỘI CHỦ NGHĨA VIỆT NAM
A2: THÀNH PHỐ HỒ CHÍ MINH | T2: Độc lập - Tự do - Hạnh phúc
A3: PHÒNG KẾ HOẠCH - TÀI CHÍNH
AF4: Mẫu 2
A5: THỐNG KÊ CHI TIẾT KHỐI LƯỢNG CÔNG VIỆC THỰC HIỆN THÁNG 09/2025
A7: TT | B7: Tên nội dung công việc | D7: Công việc chung của trường | T7: Công việc chung của đơn vị | AG7: Ghi chú
B8: Họ và tên | C8: Mã E-office | D8: Nhiệm vụ 1 | E8: Nhiệm vụ 2 | F8: Nhiệm vụ 3 | G8: Nhiệm vụ 4 | H8: Nhiệm vụ 5 | I8: Nhiệm vụ 6 | J8: Nhiệm vụ 7 | K8: Nhiệm vụ 8 | L8: Nhiệm vụ 9 | M8: Nhiệm vụ 10 | N8: Nhiệm vụ 11 | O8: Nhiệm vụ 12 | P8: Nhiệm vụ 13 | Q8: Nhiệm vụ 14 | R8: Nhiệm vụ 15 | S8: Tổng cộng | T8: Nhiệm vụ 1 | U8: Nhiệm vụ 2 | V8: Nhiệm vụ 3 | W8: Nhiệm vụ 4 | X8: Nhiệm vụ 5 | Y8: Nhiệm vụ 6 | Z8: Nhiệm vụ 7 | AA8: Nhiệm vụ 8 | AB8: Nhiệm vụ 9 | AC8: Nhiệm vụ 10 | AD8: Nhiệm vụ 11 | AE8: Nhiệm vụ 12 | AF8: Tổng cộng
C9: -1 | D9: -2 | E9: -3 | F9: -4 | G9: -5 | H9: -6 | I9: -7 | J9: -8 | K9: -9 | L9: -10 | M9: -11 | N9: -12 | O9: -13 | P9: -14 | Q9: -15 | R9: -16 | S9: -12 | T9: -13 | U9: -14 | V9: -15 | W9: -16 | X9: -17 | Y9: -18 | Z9: -19 | AA9: -20 | AB9: -21 | AC9: -22 | AD9: -23 | AE9: -24 | AF9: -25
A10: I. Cán bộ quản lý (Trưởng, Phó đơn vị)
A11: 01 | B11: Nguyễn Kính | C11: 01017006 | D11: x | E11: x | F11: x | G11: x | H11: x | I11: x | J11: x | K11: x | L11: x | S11: =COUNTIF(D11:R11,"X") -> 9 | T11: x | U11: x | V11: x | W11: x | X11: x | Y11: x | Z11: x | AA11: x | AB11: x | AF11: =COUNTIF(T11:AE11,"X") -> 9
A12: II. Nhân viên | AF12: =COUNTIF(T12:AE12,"X") -> 0
A13: 02 | B13: Trần Thị Minh Thoa | C13: 01003005 | D13: x | E13: x | F13: x | G13: x | H13: x | I13: x | J13: x | L13: x | S13: =COUNTIF(D13:R13,"X") -> 8 | U13: x | Z13: x | AA13: x | AB13: x | AF13: =COUNTIF(T13:AE13,"X") -> 4
A14: 03 | B14: Võ Thị Lệ Trân | C14: 01023004 | E14: x | F14: x | I14: x | S14: =COUNTIF(D14:R14,"X") -> 3 | U14: x | V14: x | Y14: x | AA14: x | AB14: x | AF14: =COUNTIF(T14:AE14,"X") -> 5
A15: 04 | B15: Hồng Mộng Tuyết Dung | C15: 01003007 | E15: x | F15: x | H15: x | I15: x | K15: x | L15: x | S15: =COUNTIF(D15:R15,"X") -> 6 | U15: x | AA15: x | AB15: x | AF15: =COUNTIF(T15:AE15,"X") -> 3
A16: 05 | B16: Nguyễn Chiến Thắng | C16: 01003015 | D16: x | E16: x | F16: x | G16: x | I16: x | J16: x | L16: x | S16: =COUNTIF(D16:R16,"X") -> 7 | V16: x | Y16: x | AA16: x | AB16: x | AF16: =COUNTIF(T16:AE16,"X") -> 4
A17: 06 | B17: Huỳnh Như Ý | C17: 01003016 | E17: x | F17: x | I17: x | J17: x | S17: =COUNTIF(D17:R17,"X") -> 4 | V17: x | X17: x | Z17: x | AA17: x | AB17: x | AF17: =COUNTIF(T17:AE17,"X") -> 5
A18: 07 | B18: Trần Thị Thảo Vân | C18: 01003008 | E18: x | F18: x | I18: x | S18: =COUNTIF(D18:R18,"X") -> 3 | U18: x | AA18: x | AB18: x | AF18: =COUNTIF(T18:AE18,"X") -> 3
A19: 08 | B19: Nguyễn Thị Hồng Thắm | C19: 01003009 | E19: x | F19: x | I19: x | S19: =COUNTIF(D19:R19,"X") -> 3 | T19: x | W19: x | AA19: x | AB19: x | AF19: =COUNTIF(T19:AE19,"X") -> 4
A20: 09 | B20: Vũ Như Quỳnh | C20: 01002017 | E20: x | F20: x | I20: x | S20: =COUNTIF(D20:R20,"X") -> 3 | X20: x | AA20: x | AB20: x | AF20: =COUNTIF(T20:AE20,"X") -> 3
A21: 10 | B21: Nguyễn Thị Minh Thùy | C21: 01003013 | S21: =COUNTIF(D21:R21,"X") -> 0 | AF21: =COUNTIF(T21:AE21,"X") -> 0
A22: Lưu ý: Các đơn vị gửi file điện tử về phòng TC-HC-TH (Cô Trần Thị Ánh Phượng) qua hệ thống điện tử E-Office (không gửi văn bản giấy).
T23: TPHCM, ngày 23 tháng 09 năm 2025
T24: TRƯỞNG ĐƠN VỊ
T29: Nguyễn Kính

Sheet Mau 3 
A1: TRƯỜNG CAO ĐẲNG LÝ TỰ TRỌNG | F1: CỘNG HÒA XÃ HỘI CHỦ NGHĨA VIỆT NAM
A2: THÀNH PHỐ HỒ CHÍ MINH | F2: Độc lập - Tự do - Hạnh phúc
A3: PHÒNG KẾ HOẠCH - TÀI CHÍNH
K4: Mẫu 3
A5: DANH SÁCH XẾP LOẠI THI ĐUA THÁNG 09/2025
A6: TT | B6: Họ tên | C6: Mã E-Office | D6: Đơn vị xếp loại thi đua theo quy định | H6: Số ngày nghỉ/ tiết nghỉ | I6: Đơn vị đề nghị mức xếp loại thi đua A1, A2 và sắp xếp danh sách cá nhân theo thứ tự ưu tiên | K6: Ghi chú
D7: Xếp loại | E7: Lý do | F7: Số lượng công việc chung của trường | G7: Số lượng công việc chung của đơn vị | I7: Xếp loại | J7: Lý do đề nghị
A8: -1 | B8: -2 | C8: -3 | D8: -4 | E8: -5 | F8: -6 | G8: -7 | H8: -8 | I8: -9 | J8: -10
A9: I. Cán bộ quản lý | D9: 1
A10: 01 | B10: Nguyễn Kính | C10: ='Mau 2'!C11 -> 01017006 | D10: A1 | F10: =VLOOKUP(C10,'Mau 2'!$C$11:$AG$21,17,0) -> 9 | G10: =VLOOKUP(C10,'Mau 2'!$C$11:$AF$21,30,FALSE) -> 9
A11: II. Nhân viên | D11: 8
A12: 01 | B12: Hồng Mộng Tuyết Dung | C12: 01003007 | D12: A1 | F12: =VLOOKUP(C12,'Mau 2'!$C$11:$AG$21,17,0) -> 6 | G12: =VLOOKUP(C12,'Mau 2'!$C$11:$AF$21,30,FALSE) -> 3
A13: 02 | B13: Võ Thị Lệ Trân | C13: 01023004 | D13: A1 | F13: =VLOOKUP(C13,'Mau 2'!$C$11:$AG$21,17,0) -> 3 | G13: =VLOOKUP(C13,'Mau 2'!$C$11:$AF$21,30,FALSE) -> 5
A14: 03 | B14: Trần Thị Minh Thoa | C14: 01003005 | D14: A1 | F14: =VLOOKUP(C14,'Mau 2'!$C$11:$AG$21,17,0) -> 8 | G14: =VLOOKUP(C14,'Mau 2'!$C$11:$AF$21,30,FALSE) -> 4
A15: 04 | B15: Nguyễn Thị Hồng Thắm | C15: 01003009 | D15: A1 | F15: =VLOOKUP(C15,'Mau 2'!$C$11:$AG$21,17,0) -> 3 | G15: =VLOOKUP(C15,'Mau 2'!$C$11:$AF$21,30,FALSE) -> 4
A16: 05 | B16: Vũ Như Quỳnh | C16: ='Mau 2'!C20 -> 01002017 | D16: A2 | F16: =VLOOKUP(C16,'Mau 2'!$C$11:$AG$21,17,0) -> 3 | G16: =VLOOKUP(C16,'Mau 2'!$C$11:$AF$21,30,FALSE) -> 3
A17: 06 | B17: Trần Thị Thảo Vân | C17: 01003008 | D17: A2 | F17: =VLOOKUP(C17,'Mau 2'!$C$11:$AG$21,17,0) -> 3 | G17: =VLOOKUP(C17,'Mau 2'!$C$11:$AF$21,30,FALSE) -> 3
A18: 07 | B18: Huỳnh Như Ý | C18: 01003016 | D18: A2 | F18: =VLOOKUP(C18,'Mau 2'!$C$11:$AG$21,17,0) -> 4 | G18: =VLOOKUP(C18,'Mau 2'!$C$11:$AF$21,30,FALSE) -> 5
A19: 08 | B19: Nguyễn Chiến Thắng | C19: 01003015 | D19: A3 | F19: =VLOOKUP(C19,'Mau 2'!$C$11:$AG$21,17,0) -> 7 | G19: =VLOOKUP(C19,'Mau 2'!$C$11:$AF$21,30,FALSE) -> 4
A20: 09 | B20: Nguyễn Thị Minh Thùy | C20: 01003013 | D20: ADN | F20: =VLOOKUP(C20,'Mau 2'!$C$11:$AG$21,17,0) -> 0 | G20: =VLOOKUP($C20,'Mau 2'!$C$11:$AG$21,28,0) -> 0 | K20: Nghỉ hộ sản từ 17/03/2024
B21: Kết quả xếp loại | D21: Cán bộ quản lý | F21: Giảng viên/Nhân viên
D22: Số lượng | E22: Tỷ lệ (%) | F22: Số lượng | G22: Tỷ lệ (%)
B23: Xếp loại A1 | D23: =COUNTIF($D$10:$D$10,"A1") -> 1 | E23: =ROUND(D23/$D$9,2) -> 1 | F23: =COUNTIF($D$12:$D$20,"A1") -> 4 | G23: =ROUND(F23/10,2) -> 0.4
B24: Xếp loại A2 | E24: =ROUND(D24/$D$9,2) -> 0 | F24: =COUNTIF($D$12:$D$20,"A2") -> 3 | G24: =ROUND(F24/10,2) -> 0.3
B25: Xếp loại A3 | E25: =ROUND(D25/$D$9,2) -> 0 | F25: =COUNTIF($D$12:$D$20,"A3") -> 1 | G25: =ROUND(F25/10,2) -> 0.1
B26: Xếp loại A4 | E26: =ROUND(D26/$D$9,2) -> 0 | F26: =COUNTIF($D$12:$D$20,"A4") -> 0 | G26: =ROUND(F26/$D$11,2) -> 0
B27: Xếp loại ADN | E27: =ROUND(D27/$D$9,2) -> 0 | F27: =COUNTIF($D$12:$D$20,"ADN") -> 1 | G27: =ROUND(F27/10,2) -> 0.1
B28: Xếp loại B1 | E28: =ROUND(D28/$D$9,2) -> 0 | F28: =COUNTIF($D$12:$D$20,"B1") -> 0 | G28: =ROUND(F28/$D$11,2) -> 0
B29: Xếp loại B2 | E29: =ROUND(D29/$D$9,2) -> 0 | F29: =COUNTIF($D$12:$D$20,"B2") -> 0 | G29: =ROUND(F29/$D$11,2) -> 0
B30: Xếp loại C1 | E30: =ROUND(D30/$D$9,2) -> 0 | F30: =COUNTIF($D$12:$D$20,"C1") -> 0 | G30: =ROUND(F30/$D$11,2) -> 0
B31: Xếp loại C2 | E31: =ROUND(D31/$D$9,2) -> 0 | F31: =COUNTIF($D$12:$D$20,"C2") -> 0 | G31: =ROUND(F31/$D$11,2) -> 0
B32: Xếp loại D | E32: =ROUND(D32/$D$9,2) -> 0 | F32: =COUNTIF($D$12:$D$20,"D") -> 0 | G32: =ROUND(F32/$D$11,2) -> 0
B33: Không xếp loại (Loại E) | E33: =ROUND(D33/$D$9,2) -> 0 | F33: =COUNTIF($D$12:$D$20,"KXL") -> 0 | G33: =ROUND(F33/$D$11,2) -> 0
B34: Tổng số nhân sự: | D34: =SUM(D23:D33) -> 1 | F34: =SUM(F23:F33) -> 9
A36: Lưu ý: - Tỷ lệ xếp loại thi đua mức A1 không quá 20%, mức A2 không quá 30% trên tổng số nhân sự (trừ Trưởng, Phó đơn vị). Trưởng đơn vị đánh giá mức độ hoàn thành nhiệm vụ được giao đối với từng cá nhân và xếp loại thi đua không vượt quá tỷ lệ quy định; trường hợp có nhiều cá nhân hoàn thành xuất sắc nhiệm vụ, đơn vị đề nghị xếp loại A1, A2 với tổng tỷ lệ không vượt quá 60% và sắp xếp danh sách theo thứ tự ưu tiên từ cao xuống thấp. - Giảng viên/ Nhân viên (bao gồm Trưởng bộ môn, Tổ trưởng, Phụ trách Tổ, ...) - Các đơn vị gửi file mềm qua hệ thống điện tử E-Office và văn bản giấy về phòng TC-HC-TH (Cô Trần Thị Ánh Phượng).
F37: TPHCM, ngày 23 tháng 09 năm 2025
F38: TRƯỞNG ĐƠN VỊ
F43: Nguyễn Kính
