Workbook
Name _Hlk191996357: 'Mau 1'!#REF!

Sheet Mau 1
A1: TRƯỜNG CAO ĐẲNG LÝ TỰ TRỌNG THÀNH PHỐ HỒ CHÍ MINH PHÒNG THANH TRA GIÁO DỤC - CÔNG TÁC SINH VIÊN | F1: CỘNG HÒA XÃ HỘI CHỦ NGHĨA VIỆT NAM Độc lập - Tự do - Hạnh phúc
G2: Mẫu 1
A3: BẢNG TỔNG HỢP CÔNG VIỆC ĐỘT XUẤT ĐÃ THỰC HIỆN THÁNG 9/2025
A6: TT | B6: Nội dung công việc | C6: Số lượng người tham gia thực hiện | D6: Tên người tham gia thực hiện | E6: Thời gian thực hiện | F6: Kết quả thực hiện | G6: Ghi chú
A7: I. | B7: Công việc đột xuất của Trường
A8: Nhiệm vụ 1 | B8: Tham gia thực hiện công tác tuyển sinh trực tiếp qua điện thoại. | C8: 5 | D8: Trần Hà, Kim Anh, Hoàng, Trang, Phượng | E8: Từ ngày 10/9/2025 đến kết thúc | F8: Tốt
A9: Nhiệm vụ 2 | B9: Thực hiện các công tác chuẩn bị tổng kết Khối thi đua 1 năm học 2024 - 2025 | C9: 3 | D9: Chiến, Trần Hà, Hoàng | E9: Từ ngày 16/9 đến 20/9/2025 | F9: Tốt
A10: Nhiệm vụ 3 | B10: Tham gia thực hiện công tác tuyển sinh theo điều động của trường | C10: 1 | D10: Đặng Thu Hà | E10: Từ ngày 03/9 - 25/9/2025 | F10: Tốt
A11: Nhiệm vụ 4 | B11: Tiếp nhận tài trợ sách đợt 1 từ TS. Võ Tá Hân với 97 nhan đề, 123 quyển sách trị giá 411.340.000đ. | C11: 1 | D11: Hồ Ngọc Chi | E11: Từ ngày 10/9 - 18/9/2025 | F11: Tốt
A12: Nhiệm vụ 5 | B12: Tham gia công tác thiết kế phục vụ Lễ Khai giảng năm học 2025-2026 (05/9/2025) | C12: 1 | D12: Hồ Ngọc Chi | E12: Từ ngày 25/8 - 03/9/2025 | F12: Tốt
A13: Nhiệm vụ 6 | B13: Liên hệ Bảo hiểm xã hội Thành phố Hồ Chí Minh cập nhật xã, phường mới sau sáp nhập tỉnh để làm Bảo hiểm Y tế cho sinh viên | C13: 3 | D13: C Uyên, Huyền, Lan Anh | E13: Ngày 05/9/2025 | F13: Đang thực hiện | G13: Do phần mềm BHYT BKAV chưa cập nhật lên hệ thống, không gửi được file Ecel đi mua thẻ BHYT cho sinh viên
A14: Nhiệm vụ 7 | B14: Báo cáo thống kê SV là người dân tộc thiểu số có hộ khẩu thường trú tại phường Hòa Hưng, TPHCM nhận hỗ trợ học phí NH 2024 - 2025 theo Công văn số 310/VHXH ngày 22/8/2025 của UBND Phường Hòa Hưng | C14: 2 | D14: Chiến, Trần Hà | E14: Ngày 25 - 26/8/2025 | F14: Tốt
A15: Nhiệm vụ 8 | B15: Nhận bàn giao hồ sơ sổ sách công tác thanh tra nội bộ; Thực hiện đi đổi dấu BCH Công đoàn nhà trường | C15: 1 | D15: Phượng | E15: Ngày 13-15/9/2025 | F15: Tốt
A16: Nhiệm vụ 9 | B16: Thực hiện việc công việc sát nhập 3 đơn vị, theo quyết định số 410/QĐ-LTT-TC ngày 26 tháng 8 năm 2025 | C16: 3 | D16: Chiến, H.Chi, Uyên, Nhuận | E16: Tháng 9/2025 | F16: Tốt
A17: Nhiệm vụ 10 | B17: Thực hiện chia sẻ các buổi tuyển sinh online | C17: 2 | D17: P.Chi, Dương | E17: Từ tháng 7/2025 đến tháng 9/2025 | F17: Tốt
A18: II. | B18: Công việc đột xuất của đơn vị
A19: Nhiệm vụ 1 | B19: Huy động và ổn định trật tự SV tham dự Lễ Khai giảng năm học 2025 – 2026 | C19: 17 | D19: Nhuận, Ngọc Chi, Hà, Hoàng, P.Chi, Thắng, Phượng, Mỹ, Việt Anh, Dương, Phước, Hương, Thảo, K.Anh, Hậu, Trang, Thúy | E19: Ngày 05/9/2025 | F19: Tốt
A20: Nhiệm vụ 2 | B20: Công tác chuẩn bị, tổ chức, ổn định trật tự và điểm danh SV tham gia sinh hoạt chính trị đầu khóa - các lớp cao đẳng 25C | C20: 17 | D20: Trần Hà, Hoàng, P.Chi, Thắng, Mỹ, Việt Anh, Dương, Phước, Hương, Thảo, Thúy, Đ. Hà, Trang, Phúc, Hậu, K.Anh, Phượng | E20: Ngày 15/9-20/9/2025 | F20: Tốt
A21: Nhiệm vụ 3 | B21: Hoàn thiện Sổ tay chính trị đầu khóa cho sinh viên khóa 2025 | C21: 2 | D21: Chiến, Phượng | E21: Từ ngày 16/9 22/9/2025 | F21: Tốt
A22: Nhiệm vụ 4 | B22: Thực hiện thủ tục cấp giấy xác nhận cho SV và Ban chỉ huy quân sự các phường/xã | C22: 2 | D22: Kim Anh, Nhuận | E22: Tháng 9/2025 | F22: Tốt | G22: Hiện tại các địa phương trên toàn quốc đang rà soát số lượng thanh niên đến tuổi thực hiện NVQS nên số lượng nam SV xin cấp giấy xác nhận mỗi ngày rất lớn
A23: Nhiệm vụ 5 | B23: Thực hiện hiện công tuyển sinh năm học 25-26 (nhập thông tin SV và chụp hình, bán đồ, tư vấn BHYT ngoài giờ). | C23: 17 | D23: Hà, Hoàng, P.Chi, Thắng, Phượng, Mỹ, Việt Anh, Dương, Phước, Hương, Thảo, K,Anh, Huyền, Anh,Đặng Hà, Phúc, Thúy | E23: Từ ngày 20/8 - 16/9 | F23: Tốt
A24: Nhiệm vụ 6 | B24: Đưa giảng viên, sinh viên bị chóng mặt, khó thở đi cấp cứu tại bệnh viện Thống Nhất | C24: 3 | D24: C Uyên, Huyền, Lan Anh | E24: 10, 11/9/2025 | F24: Tốt | G24: 2SV và 1 GV
A25: Nhiệm vụ 7 | B25: Xây dựng kế hoạch kham sức khỏe SV năm học 2025-2026 | C25: 2 | D25: C Uyên, Lan Anh | E25: Từ ngày 15/9- 21/9/2025 | F25: Tốt
A26: Nhiệm vụ 8 | B26: Thực hiện chia sẻ các buổi tuyển sinh online | C26: 1 | D26: Thắng | E26: Từ tháng 7/2025 đến tháng 9/2025 | F26: Tốt
A27: Nhiệm vụ 9 | B27: Thực hiện giặt 64 bao gối lười phục vụ SV | C27: 5 | D27: Thúy, Đ.Hà, Hậu, Phúc, Trang | E27: Tháng 9/2025 | F27: Tốt
A28: Lưu ý: - Không ghi nhận nhiệm vụ đột xuất đối với những công việc có tính thường xuyên thuộc chức năng của đơn vị mà cá nhân được phân công phụ trách hoặc những việc mà cá nhân đã nhận được chi trả chi phí, bồi dưỡng riêng. - Các đơn vị gửi file điện tử về phòng TC-HC-TH (Cô Trần Thị Ánh Phượng) qua hệ thống điện tử E-Office (không gửi văn bản giấy)./.
E29: Thành phố Hồ Chí Minh, ngày 22 tháng 9 năm 2025
E30: TRƯỞNG ĐƠN VỊ
E34: Nguyễn Văn Chiến

Sheet Mau 2
B1: TRƯỜNG CAO ĐẲNG LÝ TỰ TRỌNG | W1: CỘNG HÒA XÃ HỘI CHỦ NGHĨA VIỆT NAM Độc lập - Tự do - Hạnh phúc
B2: THÀNH PHỐ HỒ CHÍ MINH
B3: PHÒNG THANH TRA GIÁO DỤC - CÔNG TÁC SINH VIÊN
AL4: Mẫu 2
A5: THỐNG KÊ CHI TIẾT KHỐI LƯỢNG CÔNG VIỆC THỰC HIỆN THÁNG 9/2025
A7: TT | B7: Tên nội dung công việc | D7: Công việc chung của trường | X7: Công việc chung của đơn vị | AL7: Ghi chú
B8: Họ và tên | C8: Mã E-office | D8: Nhiệm vụ 1 | E8: Nhiệm vụ 2 | F8: Nhiệm vụ 3 | G8: Nhiệm vụ 4 | H8: Nhiệm vụ 5 | I8: Nhiệm vụ 6 | J8: Nhiệm vụ 7 | K8: Nhiệm vụ 8 | L8: Nhiệm vụ 9 | M8: Nhiệm vụ 10 | N8: Nhiệm vụ 9 | O8: Nhiệm vụ 8 | P8: Nhiệm vụ 9 | Q8: Nhiệm vụ 10 | R8: Nhiệm vụ 11 | S8: Nhiệm vụ 12 | T8: Nhiệm vụ 13 | U8: Nhiệm vụ 14 | V8: Nhiệm vụ 15 | W8: Tổng cộng | X8: Nhiệm vụ 1 | Y8: Nhiệm vụ 2 | Z8: Nhiệm vụ 3 | AA8: Nhiệm vụ 4 | AB8: Nhiệm vụ 5 | AC8: Nhiệm vụ 6 | AD8: Nhiệm vụ 7 | AE8: Nhiệm vụ 8 | AF8: Nhiệm vụ 7 | AG8: Nhiệm vụ 8 | AH8: Nhiệm vụ 9 | AI8: Nhiệm vụ 10 | AJ8: Nhiệm vụ 9 | AK8: Tổng cộng
C9: -1 | D9: -2 | E9: -3 | F9: -4 | G9: -5 | H9: -6 | I9: -7 | J9: -8 | M9: -9 | N9: -10 | O9: -9 | P9: -10 | Q9: -11 | R9: -12 | S9: -13 | T9: -14 | U9: -15 | V9: -16 | W9: -10 | X9: -19 | Y9: -20 | Z9: -21 | AA9: -22 | AB9: -23 | AC9: -24 | AD9: -25 | AE9: -26 | AF9: -23 | AG9: -24 | AH9: -25 | AI9: -26 | AJ9: -27 | AK9: -27
A10: I. Cán bộ quản lý (Trưởng, Phó đơn vị)
A11: 01 | B11: Nguyễn Văn Chiến | C11: 01007008 | E11: X | J11: X | L11: X | W11: =COUNTIF(D11:M11,"X") -> 3 | Z11: X | AK11: =COUNTIF(X11:AJ11,"X") -> 1
A12: 02 | B12: Nguyễn Thị Nhuận | C12: 01022003 | L12: X | W12: =COUNTIF(D12:M12,"X") -> 1 | X12: X | AA12: X | AK12: =COUNTIF(X12:AJ12,"X") -> 2
A13: 03 | B13: Trang Xuân Uyên | C13: 01021001 | I13: X | L13: X | W13: =COUNTIF(D13:M13,"X") -> 2 | AC13: X | AD13: X | AK13: =COUNTIF(X13:AJ13,"X") -> 2
A14: 04 | B14: Hồ Ngọc Chi | C14: 01015042 | G14: X | H14: X | L14: X | W14: =COUNTIF(D14:M14,"X") -> 3 | X14: X | AK14: =COUNTIF(X14:AJ14,"X") -> 1
A15: II. Giảng viên/nhân viên
A16: 01 | B16: Nguyễn Thị Kim Anh | C16: 01009018 | D16: X | W16: =COUNTIF(D16:M16,"X") -> 1 | X16: X | Y16: X | AA16: X | AB16: X | AK16: =COUNTIF(X16:AJ16,"X") -> 4
A17: 02 | B17: Phạm Thị Lê Chi | C17: 01009010 | M17: X | W17: =COUNTIF(D17:M17,"X") -> 1 | X17: X | Y17: X | AB17: X | AK17: =COUNTIF(X17:AJ17,"X") -> 3
A18: 03 | B18: Trần Thị Thu Hà | C18: 01002004 | D18: X | E18: X | J18: X | W18: =COUNTIF(D18:M18,"X") -> 3 | X18: X | Y18: X | AB18: X | AK18: =COUNTIF(X18:AJ18,"X") -> 3
A19: 04 | B19: Nguyễn Tất Thắng | C19: 01009008 | M19: X | W19: =COUNTIF(D19:M19,"X") -> 1 | X19: X | Y19: X | AB19: X | AE19: X | AK19: =COUNTIF(X19:AJ19,"X") -> 4
A20: 05 | B20: Mai Thu Hương | C20: 01007004 | W20: =COUNTIF(D20:M20,"X") -> 0 | X20: X | Y20: X | AB20: X | AK20: =COUNTIF(X20:AJ20,"X") -> 3
A21: 06 | B21: Nguyễn Thùy Dương | C21: 01014012 | W21: =COUNTIF(D21:M21,"X") -> 0 | X21: X | Y21: X | AB21: X | AK21: =COUNTIF(X21:AJ21,"X") -> 3
A22: 07 | B22: Phan Thị Ngọc Phượng | C22: 01002018 | D22: X | K22: X | W22: =COUNTIF(D22:M22,"X") -> 2 | X22: X | Y22: X | Z22: X | AB22: X | AK22: =COUNTIF(X22:AJ22,"X") -> 4
A23: 08 | B23: Phạm Huy Hoàng | C23: 01009011 | D23: X | E23: X | W23: =COUNTIF(D23:M23,"X") -> 2 | X23: X | Y23: X | AB23: X | AK23: =COUNTIF(X23:AJ23,"X") -> 3
A24: 09 | B24: Trần Anh Mỹ | C24: 01009028 | W24: =COUNTIF(D24:M24,"X") -> 0 | X24: X | Y24: X | AB24: X | AK24: =COUNTIF(X24:AJ24,"X") -> 3
A25: 10 | B25: Bùi Đức Phước | C25: 01009026 | W25: =COUNTIF(D25:M25,"X") -> 0 | X25: X | Y25: X | AB25: X | AK25: =COUNTIF(X25:AJ25,"X") -> 3
A26: 11 | B26: Nguyễn Thị Thảo | C26: 01007003 | W26: =COUNTIF(D26:M26,"X") -> 0 | X26: X | Y26: X | AB26: X | AK26: =COUNTIF(X26:AJ26,"X") -> 3
A27: 12 | B27: Trần Việt Anh | C27: 01002038 | W27: =COUNTIF(D27:M27,"X") -> 0 | X27: X | Y27: X | AB27: X | AK27: =COUNTIF(X27:AJ27,"X") -> 3
A28: 13 | B28: Phạm Huỳnh Thanh Ngân | C28: 01025013 | W28: =COUNTIF(D28:M28,"X") -> 0 | AK28: =COUNTIF(X28:AJ28,"X") -> 0
A29: 14 | B29: Đặng Thu Hà | C29: 01018002 | F29: X | W29: =COUNTIF(D29:M29,"X") -> 1 | Y29: X | AB29: X | AJ29: X | AK29: =COUNTIF(X29:AJ29,"X") -> 3
A30: 15 | B30: Trần Thị Diễm Thúy | C30: 01018005 | W30: =COUNTIF(D30:M30,"X") -> 0 | X30: X | Y30: X | AB30: X | AJ30: X | AK30: =COUNTIF(X30:AJ30,"X") -> 4
A31: 16 | B31: Nguyễn Thị Trang | C31: 01018008 | D31: X | W31: =COUNTIF(D31:M31,"X") -> 1 | X31: X | Y31: X | AJ31: X | AK31: =COUNTIF(X31:AJ31,"X") -> 3
A32: 17 | B32: Hà Thị Hậu | C32: 01018007 | W32: =COUNTIF(D32:M32,"X") -> 0 | X32: X | Y32: X | AJ32: X | AK32: =COUNTIF(X32:AJ32,"X") -> 3
A33: 18 | B33: Lư Diễm Phúc | C33: 01018009 | W33: =COUNTIF(D33:M33,"X") -> 0 | Y33: X | AB33: X | AJ33: X | AK33: =COUNTIF(X33:AJ33,"X") -> 3
A34: 19 | B34: Bùi Thị Lan Anh | C34: 01021003 | I34: X | W34: =COUNTIF(D34:M34,"X") -> 1 | AB34: X | AC34: X | AD34: X | AK34: =COUNTIF(X34:AJ34,"X") -> 3
A35: 20 | B35: Lê Thị Huyền | C35: 01021004 | I35: X | W35: =COUNTIF(D35:M35,"X") -> 1 | AB35: X | AC35: X | AK35: =COUNTIF(X35:AJ35,"X") -> 2
A37: Lưu ý: Các đơn vị gửi file điện tử về phòng TC-HC (Cô Trần Thị Ánh Phượng) qua hệ thống điện tử E-Office (không gửi văn bản giấy).
X38: TP. Hồ Chí minh ngày 22 tháng 9 năm 2025
X39: TRƯỞNG ĐƠN VỊ
X43: Nguyễn Văn Chiến

Sheet Mau 3 
A1: TRƯỜNG CAO ĐẲNG LÝ TỰ TRỌNG | F1: CỘNG HÒA XÃ HỘI CHỦ NGHĨA VIỆT NAM
A2: THÀNH PHỐ HỒ CHÍ MINH | F2: Độc lập - Tự do - Hạnh phúc
A3: PHÒNG THANH TRA GIÁO DỤC - CÔNG TÁC SINH VIÊN
J4: Mẫu 3
A5: DANH SÁCH DỰ KIẾN XẾP LOẠI THI ĐUA THÁNG 9/2025
A7: TT | B7: Họ tên | C7: Mã E-Office | D7: Đơn vị xếp loại thi đua theo quy định | H7: Số ngày nghỉ/ tiết nghỉ | I7: Đơn vị đề nghị mức xếp loại thi đua A1, A2 và sắp xếp danh sách cá nhân theo thứ tự ưu tiên
D8: Xếp loại | E8: Lý do | F8: Số lượng công việc chung của trường | G8: Số lượng công việc chung của đơn vị | I8: Xếp loại | J8: Lý do đề nghị
A9: -1 | B9: -2 | C9: -3 | D9: -4 | E9: -5 | F9: -6 | G9: -7 | H9: -8 | I9: -9 | J9: -10
A10: I. Cán bộ quản lý | D10: 4 | F10: ='Mau 2'!W10 -> 0 | G10: ='Mau 2'!AK10 -> 0
A11: 01 | B11: Nguyễn Văn Chiến | C11: 01007008 | D11: A1 | F11: ='Mau 2'!W11 -> 3 | G11: ='Mau 2'!AK11 -> 1
A12: 02 | B12: Nguyễn Thị Nhuận | C12: 01022003 | D12: A3 | F12: ='Mau 2'!W12 -> 1 | G12: ='Mau 2'!AK12 -> 2
A13: 03 | B13: Trang Thị Xuân Uyên | C13: 01021001 | D13: A2 | F13: ='Mau 2'!W13 -> 2 | G13: ='Mau 2'!AK13 -> 2
A14: 04 | B14: Hồ Ngọc Chi | C14: 01015042 | D14: A1 | F14: ='Mau 2'!W14 -> 3 | G14: ='Mau 2'!AK14 -> 1 | H14: Nghỉ phép 01 ngày 19/9/2025 | J14: Xin trợ sách đợt 1 là 123 quyển sách trị giá 411.340.000đ.
A15: II. Giảng viên/nhân viên | D15: 20 | F15: ='Mau 2'!W15 -> 0 | G15: ='Mau 2'!AK15 -> 0
A16: 01 | B16: Nguyễn Thị Kim Anh | C16: 01009018 | D16: A3 | F16: ='Mau 2'!W16 -> 1 | G16: ='Mau 2'!AK16 -> 4 | I16: A2 | J16: Thực hiên nhiệm vụ phòng làm giấy xác nhận cho SV tăng đột biến ngoài giờ tháng 9/2025
A17: 02 | B17: Phạm Thị Lê Chi | C17: 01009010 | D17: A3 | F17: ='Mau 2'!W17 -> 1 | G17: ='Mau 2'!AK17 -> 3
A18: 03 | B18: Trần Thị Thu Hà | C18: 01002004 | D18: A1 | F18: ='Mau 2'!W18 -> 3 | G18: ='Mau 2'!AK18 -> 3
A19: 04 | B19: Nguyễn Tất Thắng | C19: 01009008 | D19: A3 | G19: ='Mau 2'!AK19 -> 4
A20: 05 | B20: Mai Thu Hương | C20: 01007004 | D20: A3 | F20: ='Mau 2'!W20 -> 0 | G20: ='Mau 2'!AK20 -> 3
A21: 06 | B21: Nguyễn Thùy Dương | C21: 01014012 | D21: A3 | F21: 1 | G21: ='Mau 2'!AK21 -> 3
A22: 07 | B22: Phan Thị Ngọc Phượng | C22: 01002018 | D22: A1 | F22: ='Mau 2'!W22 -> 2 | G22: ='Mau 2'!AK22 -> 4
A23: 08 | B23: Phạm Huy Hoàng | C23: 01009011 | D23: A1 | F23: ='Mau 2'!W23 -> 2 | G23: ='Mau 2'!AK23 -> 3
A24: 09 | B24: Trần Anh Mỹ | C24: 01009028 | D24: A3 | F24: ='Mau 2'!W24 -> 0 | G24: ='Mau 2'!AK24 -> 3
A25: 10 | B25: Bùi Đức Phước | C25: 01009026 | D25: A3 | F25: ='Mau 2'!W25 -> 0 | G25: ='Mau 2'!AK25 -> 3 | H25: Nghỉ phép 01 ngày 13/9/2025
A26: 11 | B26: Nguyễn Thị Thảo | C26: 01007003 | D26: A4 | F26: ='Mau 2'!W26 -> 0 | G26: ='Mau 2'!AK26 -> 3 | H26: Nghỉ phép 5 ngày 25/8-29/8/2025
A27: 12 | B27: Phạm Huỳnh Kim Ngân | C27: 01025013 | D27: ADN | F27: ='Mau 2'!W27 -> 0 | J27: Nghỉ thai đến tháng 10/2025
A28: 13 | B28: Trần Việt Anh | C28: 01002038 | D28: A3 | G28: ='Mau 2'!AK33 -> 3
A29: 14 | B29: Đặng Thu Hà | C29: 01018002 | D29: A3 | E29: 1 | F29: ='Mau 2'!W29 -> 1 | G29: ='Mau 2'!AK29 -> 3
A30: 15 | B30: Trần Thị Diễm Thúy | C30: 01018005 | D30: A3 | F30: ='Mau 2'!W30 -> 0 | G30: ='Mau 2'!AK30 -> 4 | I30: A2 | J30: Thực hiện bán đồng phục ngoài giờ với PH-SV quá lớn trong tháng 9/2025
A31: 16 | B31: Nguyễn Thị Trang | C31: 01018008 | D31: A3 | F31: ='Mau 2'!W31 -> 1 | G31: ='Mau 2'!AK31 -> 3
A32: 17 | B32: Hà Thị Hậu | C32: 01018007 | D32: A3 | F32: ='Mau 2'!W32 -> 0 | G32: ='Mau 2'!AK32 -> 3
A33: 18 | B33: Lư Diễm Phúc | C33: 01018009 | D33: A4 | F33: ='Mau 2'!W33 -> 0 | G33: ='Mau 2'!AK33 -> 3 | H33: ' Nghỉ phép 2 ngày
A34: 19 | B34: Bùi Thị Lan Anh | C34: 01021003 | D34: A3 | F34: ='Mau 2'!W34 -> 1 | G34: ='Mau 2'!AK34 -> 3
A35: 20 | B35: Lê Thị Huyền | C35: 01021004 | D35: A3 | F35: ='Mau 2'!W35 -> 1 | G35: ='Mau 2'!AK35 -> 2
B37: Kết quả xếp loại | D37: Cán bộ quản lý | F37: Giảng viên/Nhân viên
D38: Số lượng | E38: Tỷ lệ (%) | F38: Số lượng | G38: Tỷ lệ (%)
B39: Xếp loại A1 | D39: =COUNTIF($D$14:$D$14,"A1") -> 1 | E39: =ROUND(D39/$D$10,2) -> 0.25 | F39: =COUNTIF($D$16:$D$35,"A1") -> 3 | G39: =ROUND(F39/$D$15,2) -> 0.15
B40: Xếp loại A2 | D40: =COUNTIF($D$14:$D$14,"A2") -> 0 | E40: =ROUND(D40/$D$10,2) -> 0 | F40: =COUNTIF($D$16:$D$35,"A2") -> 0 | G40: =ROUND(F40/$D$15,2) -> 0
B41: Xếp loại A3 | D41: =COUNTIF($D$14:$D$14,"A3") -> 0 | E41: =ROUND(D41/$D$10,2) -> 0 | F41: =COUNTIF($D$16:$D$35,"A3") -> 14 | G41: =ROUND(F41/$D$15,2) -> 0.7
B42: Xếp loại A4 | D42: =COUNTIF($D$14:$D$14,"A4") -> 0 | E42: =ROUND(D42/$D$10,2) -> 0 | F42: =COUNTIF($D$16:$D$35,"A4") -> 2 | G42: =ROUND(F42/$D$15,2) -> 0.1
...
