Workbook

Sheet 3716-040
A1: ỦY BAN NHÂN DÂN THÀNH PHỐ HỒ CHÍ MINH | I1: Mẫu số 09
A2: Trường Cao đẳng Lý Tự Trọng Thành phố Hồ Chí Minh | I2: Mã hiệu:…………. Số:…………..
A3: Mã đơn vị có quan hệ với ngân sách: 1058083
A5: BẢNG THANH TOÁN CHO ĐỐI TƯỢNG THỤ HƯỞNG
A6: (Kèm theo Ủy nhiệm chi số: 3716/040 ngày 25 tháng 02 năm 2025)
D7: Tài khoản dự toán o | F7: Tài khoản tiền gửi: T
A8: 1. Đơn vị sử dụng ngân sách: Trường Cao đẳng Lý Tự Trọng Thành phố Hồ Chí Minh
A9: 2. Mã đơn vị: 1058083
A10: 3.Tài khoản thanh toán của đơn vị mở tại ngân hàng: Tài khoản số 060266676878 tại Ngân hàng thương mại cổ phần Sài Gòn Thương Tín, Chi nhánh Phú Nhuận
A11: I. Nội dung đề nghị thanh toán: Thanh toán tiền Phụ cấp bồi dưỡng GV Giáo dục thể chất, giáo dục quốc phòng giảng dạy HK1, NH 2024-2025
N12: Đơn vị: đồng
A13: STT | B13: Họ và tên | C13: Tài khoản Ngân hàng | E13: Tổng số | F13: Trong đó: | N13: Ghi chú
C14: Số Tài khoản người hưởng | D14: Tên Ngân hàng | F14: Lương và phụ cấp theo lương | G14: Tiền công lao đông theo hợp đồng | H14: Thu nhập tăng thêm | I14: Tiền thưởng | J14: Tiền phụ cấp và trợ cấp khác | L14: Tiền khoán | M14: Tiền học Bổng
J15: Phụ cấp bồi dưỡng GV Giáo dục thể chất giảng dạy HK1, NH 2024-2025 | K15: Phụ cấp bồi dưỡng GV Giáo dục quốc phòng giảng dạy HK1, NH 2024-2025
J16: 9.1 | K16: 9.2
A17: 1 | B17: 2 | C17: 3 | E17: 4 | F17: 5 | G17: 6 | H17: 7 | I17: 8 | J17: 9 | L17: 10 | M17: 11 | N17: 12
B18: Tổng số | E18: =+E19+E25+E26 -> 62010000 | J18: =+J19+J25+J26 -> 53352000 | K18: =+K19+K25+K26 -> 8658000
A19: I | B19: Đối với Công chức, viên chức | E19: =+SUM(E20:E24) -> 62010000 | J19: =+SUM(J20:J24) -> 53352000 | K19: =+SUM(K20:K24) -> 8658000 | P19: CƠM T08 | Q19: CƠM T09 | R19: THIDUA T09
A20: =IF(B20="","",COUNTA($B$20:B20)) -> 1 | B20: Giang Phi Hùng | C20: 060278313401 | D20: Sacombank | E20: =SUM(F20:M20) -> 12870000 | J20: 4212000 | K20: 8658000 | O20: =+COUNTIF('[1]03'!B19:$B$345,'3716-040'!B20) -> #VALUE! | P20: =+SUMIF('[2]C8 (BS)'!$C:$C,B20,'[2]C8 (BS)'!$E:$E) -> #VALUE! | Q20: =+SUMIF([2]C9!$C:$C,B20,[2]C9!$E:$E) -> #VALUE! | R20: =+SUMIF([2]TD9!$B:$B,B20,[2]TD9!$E:$E) -> #VALUE!
A21: =IF(B21="","",COUNTA($B$20:B21)) -> 2 | B21: Lê Thái Hùng | C21: 060278706470 | D21: Sacombank | E21: =SUM(F21:M21) -> 11934000 | J21: 11934000
A22: =IF(B22="","",COUNTA($B$20:B22)) -> 3 | B22: Nguyễn Phú Tân | C22: 060310649239 | D22: Sacombank | E22: =SUM(F22:M22) -> 11934000 | J22: 11934000
A23: =IF(B23="","",COUNTA($B$20:B23)) -> 4 | B23: Ngô Thanh Điền | C23: 060278335715 | D23: Sacombank | E23: =SUM(F23:M23) -> 12542400 | J23: 12542400
A24: =IF(B24="","",COUNTA($B$20:B24)) -> 5 | B24: Nguyễn Mạnh Phương | C24: 060310650121 | D24: Sacombank | E24: =SUM(F24:M24) -> 12729600 | J24: 12729600
A25: II | B25: Đối với lao động hợp đồng thực hiện công việc hỗ trợ, phục vụ theo Nghị định số 111/2022/NĐ-CP | O25: =+COUNTIF('[1]03'!B283:$B$345,'3716-040'!B25) -> #VALUE! | P25: =+SUMIF('[2]C8 (BS)'!$C:$C,B25,'[2]C8 (BS)'!$E:$E) -> #VALUE! | Q25: =+SUMIF([2]C9!$C:$C,B25,[2]C9!$E:$E) -> #VALUE! | R25: =+SUMIF([2]TD9!$B:$B,B25,[2]TD9!$E:$E) -> #VALUE!
A26: III | B26: Đối với hợp đồng thực hiện công việc chuyên môn, nghiệp vụ trong đơn vị sự nghiệp công lập theo Nghị định số 111/2022/NĐ-CP | O26: =+COUNTIF('[1]03'!B294:$B$345,'3716-040'!B26) -> #VALUE! | P26: =+SUMIF('[2]C8 (BS)'!$C:$C,B26,'[2]C8 (BS)'!$E:$E) -> #VALUE! | Q26: =+SUMIF([2]C9!$C:$C,B26,[2]C9!$E:$E) -> #VALUE! | R26: =+SUMIF([2]TD9!$B:$B,B26,[2]TD9!$E:$E) -> #VALUE!
B27: Tổng cộng | E27: =+E26+E25+E19 -> 62010000 | J27: =+J26+J25+J19 -> 53352000 | K27: =+K26+K25+K19 -> 8658000 | P27: =+SUM(P20:P26) -> #VALUE! | Q27: =+SUM(Q20:Q26) -> #VALUE! | R27: =+SUM(R20:R26) -> #VALUE! | S27: =+P27+Q27+R27 -> #VALUE!
A28: ="Số tiền bằng chữ: "&SUBSTITUTE([3]!VND(E27),",","")&" đồng." -> Số tiền bằng chữ: Sáu mươi hai triệu không trăm mười ngàn đồng. | P28: =+'[2]C8 (BS)'!$E$171 -> 83000000 | Q28: =+[2]C9!$E$333 -> 340125000 | R28: =+[2]TD9!$E$331 -> 2174976955
A29: II. Phần thuyết minh thay đổi so với tháng trước: | P29: =+P27-P28 -> #VALUE! | Q29: =+Q27-Q28 -> #VALUE! | R29: =+R27-R28 -> #VALUE!
A30: -Phát sinh tăng 62.010.000 đồng, do 1 học kỳ chi 1 lần cho giảng viên. | P30: =+E27-'[1]08'!E18 -> -1175086641
K31: Ngày tháng 02 năm 2025
A32: Người lập | E32: Kế toán trưởng | K32: KT. Hiệu trưởng
K33: Phó Hiệu trưởng
A37: Huỳnh Như Ý | E37: Nguyễn Kính | K37: Đinh Văn Đệ
A39: KHO BẠC NHÀ NƯỚC
A40: Chuyên viên kiểm soát chi/ giao dịch viên | K40: Giám đốc kho bạc nhà nước Tân Bình
A41: (Ký, họ tên) | K41: Ngày tháng năm 2025
K42: (Ký, họ tên, đóng dấu)
A44: Chuyên viên kiểm soát chi/ giao dịch viên

Sheet 3716-070
A1: ỦY BAN NHÂN DÂN THÀNH PHỐ HỒ CHÍ MINH | I1: Mẫu số 09
A2: Trường Cao đẳng Lý Tự Trọng Thành phố Hồ Chí Minh | I2: Mã hiệu:…………. Số:…………..
A3: Mã đơn vị có quan hệ với ngân sách: 1058083
A5: BẢNG THANH TOÁN CHO ĐỐI TƯỢNG THỤ HƯỞNG
A6: (Kèm theo Ủy nhiệm chi số: 3716/070 ngày 28 tháng 03 năm 2025)
D7: Tài khoản dự toán o | F7: Tài khoản tiền gửi: T
A8: 1. Đơn vị sử dụng ngân sách: Trường Cao đẳng Lý Tự Trọng Thành phố Hồ Chí Minh
A9: 2. Mã đơn vị: 1058083
A10: 3.Tài khoản thanh toán của đơn vị mở tại ngân hàng: Tài khoản số 060266676878 tại Ngân hàng thương mại cổ phần Sài Gòn Thương Tín, Chi nhánh Phú Nhuận
A11: I. Nội dung đề nghị thanh toán: Thanh toán tiền Phụ cấp HDTV theo QĐ số 495/QĐ-LTT-TC ngày 05/9/2023 và QĐ số 01/QĐ-LTT-TC ngày 03/01/2024
N12: Đơn vị: đồng
A13: STT | B13: Họ và tên | C13: Tài khoản Ngân hàng | E13: Tổng số | F13: Trong đó: | N13: Ghi chú
C14: Số Tài khoản người hưởng | D14: Tên Ngân hàng | F14: Lương và phụ cấp theo lương | G14: Tiền công lao đông theo hợp đồng | H14: Thu nhập tăng thêm | I14: Tiền thưởng | J14: Tiền phụ cấp và trợ cấp khác | L14: Tiền khoán | M14: Tiền học Bổng
J15: PC trách nhiệm HDTV từ ngày 01/9/2023 đến 31/08/2024 theo QĐ số 495/QĐ-LTT-TC ngày 05/9/2023 | K15: PC trách nhiệm HDTV từ ngày 01/01/2024 đến 31/12/2024 theo QĐ số 01/QĐ-LTT-TC ngày 03/01/2024
J16: 9.1 | K16: 9.2
A17: 1 | B17: 2 | C17: 3 | E17: 4 | F17: 5 | G17: 6 | H17: 7 | I17: 8 | J17: 9 | L17: 10 | M17: 11 | N17: 12
B18: Tổng số | E18: =+E19+E22+E23 -> 14904000 | J18: =+J19+J22+J23 -> 7452000 | K18: =+K19+K22+K23 -> 7452000
A19: I | B19: Đối với Công chức, viên chức | E19: =+SUM(E20:E21) -> 14904000 | J19: =+SUM(J20:J21) -> 7452000 | K19: =+SUM(K20:K21) -> 7452000 | P19: CƠM T08 | Q19: CƠM T09 | R19: THIDUA T09
A20: =IF(B20="","",COUNTA($B$20:B20)) -> 1 | B20: Phạm Thị Thu Hiền | C20: 060278309838 | D20: Sacombank | E20: =SUM(F20:M20) -> 7452000 | J20: 7452000 | O20: =+COUNTIF('[1]03'!B19:$B$345,'3716-070'!B20) -> #VALUE! | P20: =+SUMIF('[2]C8 (BS)'!$C:$C,B20,'[2]C8 (BS)'!$E:$E) -> #VALUE! | Q20: =+SUMIF([2]C9!$C:$C,B20,[2]C9!$E:$E) -> #VALUE! | R20: =+SUMIF([2]TD9!$B:$B,B20,[2]TD9!$E:$E) -> #VALUE!
A21: =IF(B21="","",COUNTA($B$20:B21)) -> 2 | B21: Trần Thanh Trúc | C21: 060278002457 | D21: Sacombank | E21: =SUM(F21:M21) -> 7452000 | K21: 7452000
A22: II | B22: Đối với lao động hợp đồng thực hiện công việc hỗ trợ, phục vụ theo Nghị định số 111/2022/NĐ-CP | O22: =+COUNTIF('[1]03'!B283:$B$345,'3716-070'!B22) -> #VALUE! | P22: =+SUMIF('[2]C8 (BS)'!$C:$C,B22,'[2]C8 (BS)'!$E:$E) -> #VALUE! | Q22: =+SUMIF([2]C9!$C:$C,B22,[2]C9!$E:$E) -> #VALUE! | R22: =+SUMIF([2]TD9!$B:$B,B22,[2]TD9!$E:$E) -> #VALUE!
A23: III | B23: Đối với hợp đồng thực hiện công việc chuyên môn, nghiệp vụ trong đơn vị sự nghiệp công lập theo Nghị định số 111/2022/NĐ-CP | O23: =+COUNTIF('[1]03'!B294:$B$345,'3716-070'!B23) -> #VALUE! | P23: =+SUMIF('[2]C8 (BS)'!$C:$C,B23,'[2]C8 (BS)'!$E:$E) -> #VALUE! | Q23: =+SUMIF([2]C9!$C:$C,B23,[2]C9!$E:$E) -> #VALUE! | R23: =+SUMIF([2]TD9!$B:$B,B23,[2]TD9!$E:$E) -> #VALUE!
B24: Tổng cộng | E24: =+E23+E22+E19 -> 14904000 | J24: =+J23+J22+J19 -> 7452000 | K24: =+K23+K22+K19 -> 7452000 | P24: =+SUM(P20:P23) -> #VALUE! | Q24: =+SUM(Q20:Q23) -> #VALUE! | R24: =+SUM(R20:R23) -> #VALUE! | S24: =+P24+Q24+R24 -> #VALUE!
A25: ="Số tiền bằng chữ: "&SUBSTITUTE([3]!VND(E24),",","")&" đồng." -> Số tiền bằng chữ: Mười bốn triệu chín trăm lẻ bốn ngàn đồng. | P25: =+'[2]C8 (BS)'!$E$171 -> 83000000 | Q25: =+[2]C9!$E$333 -> 340125000 | R25: =+[2]TD9!$E$331 -> 2174976955
A26: II. Phần thuyết minh thay đổi so với tháng trước: | P26: =+P24-P25 -> #VALUE! | Q26: =+Q24-Q25 -> #VALUE! | R26: =+R24-R25 -> #VALUE!
A27: - Phát sinh tăng 14.904.000 đồng, do hoàn thành công tác hướng dẫn thử việc. | P27: =+E24-'[1]08'!E18 -> -1222192641
K28: Ngày tháng 03 năm 2025
A29: Người lập | E29: Kế toán trưởng | K29: KT. Hiệu trưởng
K30: Phó Hiệu trưởng
A34: Huỳnh Như Ý | E34: Nguyễn Kính | K34: Đinh Văn Đệ
A36: KHO BẠC NHÀ NƯỚC
K37: Ngày tháng năm 2025
A38: Chuyên viên kiểm soát chi/ giao dịch viên | K38: Giám đốc KBNN cấp tỉnh hoặc Lãnh đạo phòng
K39: được uỷ quyền/ Giám đốc KBNN quận, huyện
A40: (Ký, họ tên) | K40: (Ký, họ tên, đóng dấu)
A43: Chuyên viên kiểm soát chi/ giao dịch viên

Sheet 3716-186
A1: ỦY BAN NHÂN DÂN THÀNH PHỐ HỒ CHÍ MINH | I1: Mẫu số 09
A2: Trường Cao đẳng Lý Tự Trọng Thành phố Hồ Chí Minh | I2: Mã hiệu:…………. Số:…………..
A3: Mã đơn vị có quan hệ với ngân sách: 1058083
A5: BẢNG THANH TOÁN CHO ĐỐI TƯỢNG THỤ HƯỞNG
A6: (Kèm theo Ủy nhiệm chi số: 3716/186 ngày 11 tháng 07 năm 2025)
D7: Tài khoản dự toán o | F7: Tài khoản tiền gửi: T
A8: 1. Đơn vị sử dụng ngân sách: Trường Cao đẳng Lý Tự Trọng Thành phố Hồ Chí Minh
A9: 2. Mã đơn vị: 1058083
A10: 3.Tài khoản thanh toán của đơn vị mở tại ngân hàng: Tài khoản số 060266676878 tại Ngân hàng thương mại cổ phần Sài Gòn Thương Tín, Chi nhánh Phú Nhuận
A11: I. Nội dung đề nghị thanh toán: Thanh toán tiền Phụ cấp bồi dưỡng GV Giáo dục thể chất, giáo dục quốc phòng giảng dạy HK2, NH 2024-2025
N12: Đơn vị: đồng
A13: STT | B13: Họ và tên | C13: Tài khoản Ngân hàng | E13: Tổng số | F13: Trong đó: | N13: Ghi chú
C14: Số Tài khoản người hưởng | D14: Tên Ngân hàng | F14: Lương và phụ cấp theo lương | G14: Tiền công lao đông theo hợp đồng | H14: Thu nhập tăng thêm | I14: Tiền thưởng | J14: Tiền phụ cấp và trợ cấp khác | L14: Tiền khoán | M14: Tiền học Bổng
J15: Phụ cấp bồi dưỡng GV Giáo dục thể chất giảng dạy HK2, NH 2024-2025 | K15: Phụ cấp bồi dưỡng GV Giáo dục quốc phòng giảng dạy HK2, NH 2024-2025
J16: 9.1 | K16: 9.2
A17: 1 | B17: 2 | C17: 3 | E17: 4 | F17: 5 | G17: 6 | H17: 7 | I17: 8 | J17: 9 | L17: 10 | M17: 11 | N17: 12
B18: Tổng số | E18: =+E19+E25+E26 -> 25295400 | J18: =+J19+J25+J26 -> 18252000 | K18: =+K19+K25+K26 -> 7043400
A19: I | B19: Đối với Công chức, viên chức | E19: =+SUM(E20:E24) -> 25295400 | J19: =+SUM(J20:J24) -> 18252000 | K19: =+SUM(K20:K24) -> 7043400 | P19: CƠM T08 | Q19: CƠM T09 | R19: THIDUA T09
A20: =IF(B20="","",COUNTA($B$20:B20)) -> 1 | B20: Lê Thái Hùng | C20: 060278706470 | D20: Sacombank | E20: =SUM(F20:M20) -> 4305600 | J20: 4305600
A21: =IF(B21="","",COUNTA($B$20:B21)) -> 2 | B21: Nguyễn Phú Tân | C21: 060310649239 | D21: Sacombank | E21: =SUM(F21:M21) -> 4305600 | J21: 4305600
A22: =IF(B22="","",COUNTA($B$20:B22)) -> 3 | B22: Ngô Thanh Điền | C22: 060278335715 | D22: Sacombank | E22: =SUM(F22:M22) -> 5522400 | J22: 5522400
A23: =IF(B23="","",COUNTA($B$20:B23)) -> 4 | B23: Nguyễn Mạnh Phương | C23: 060310650121 | D23: Sacombank | E23: =SUM(F23:M23) -> 4118400 | J23: 4118400
A24: =IF(B24="","",COUNTA($B$20:B24)) -> 5 | B24: Giang Phi Hùng | C24: 060278313401 | D24: Sacombank | E24: =SUM(F24:M24) -> 7043400 | K24: 7043400 | O24: =+COUNTIF('[1]03'!B23:$B$345,'3716-186'!B24) -> #VALUE! | P24: =+SUMIF('[2]C8 (BS)'!$C:$C,B24,'[2]C8 (BS)'!$E:$E) -> #VALUE! | Q24: =+SUMIF([2]C9!$C:$C,B24,[2]C9!$E:$E) -> #VALUE! | R24: =+SUMIF([2]TD9!$B:$B,B24,[2]TD9!$E:$E) -> #VALUE!
A25: II | B25: Đối với lao động hợp đồng thực hiện công việc hỗ trợ, phục vụ theo Nghị định số 111/2022/NĐ-CP | O25: =+COUNTIF('[1]03'!B283:$B$345,'3716-186'!B25) -> #VALUE! | P25: =+SUMIF('[2]C8 (BS)'!$C:$C,B25,'[2]C8 (BS)'!$E:$E) -> #VALUE! | Q25: =+SUMIF([2]C9!$C:$C,B25,[2]C9!$E:$E) -> #VALUE! | R25: =+SUMIF([2]TD9!$B:$B,B25,[2]TD9!$E:$E) -> #VALUE!
A26: III | B26: Đối với hợp đồng thực hiện công việc chuyên môn, nghiệp vụ trong đơn vị sự nghiệp công lập theo Nghị định số 111/2022/NĐ-CP | O26: =+COUNTIF('[1]03'!B294:$B$345,'3716-186'!B26) -> #VALUE! | P26: =+SUMIF('[2]C8 (BS)'!$C:$C,B26,'[2]C8 (BS)'!$E:$E) -> #VALUE! | Q26: =+SUMIF([2]C9!$C:$C,B26,[2]C9!$E:$E) -> #VALUE! | R26: =+SUMIF([2]TD9!$B:$B,B26,[2]TD9!$E:$E) -> #VALUE!
B27: Tổng cộng | E27: =+E26+E25+E19 -> 25295400 | J27: =+J26+J25+J19 -> 18252000 | K27: =+K26+K25+K19 -> 7043400 | P27: =+SUM(P20:P26) -> #VALUE! | Q27: =+SUM(Q20:Q26) -> #VALUE! | R27: =+SUM(R20:R26) -> #VALUE! | S27: =+P27+Q27+R27 -> #VALUE!
A28: ="Số tiền bằng chữ: "&SUBSTITUTE([3]!VND(E27),",","")&" đồng." -> Số tiền bằng chữ: Hai mươi lăm triệu hai trăm chín mươi lăm ngàn bốn trăm đồng. | P28: =+'[2]C8 (BS)'!$E$171 -> 83000000 | Q28: =+[2]C9!$E$333 -> 340125000 | R28: =+[2]TD9!$E$331 -> 2174976955
A29: II. Phần thuyết minh thay đổi so với tháng trước: | P29: =+P27-P28 -> #VALUE! | Q29: =+Q27-Q28 -> #VALUE! | R29: =+R27-R28 -> #VALUE!
A30: -Phát sinh tăng 25.295.400 đồng, do 1 học kỳ chi 1 lần cho giảng viên. | P30: =+E27-'[1]08'!E18 -> -1211801241
K31: Ngày tháng 07 năm 2025
A32: Người lập | E32: Kế toán trưởng | K32: Q. Hiệu trưởng
A37: Huỳnh Như Ý | E37: Nguyễn Kính | K37: Đinh Văn Đệ
A39: KHO BẠC NHÀ NƯỚC
K40: Ngày tháng năm 2025
A41: Chuyên viên kiểm soát chi/ giao dịch viên | K41: Giám đốc KBNN cấp tỉnh hoặc Lãnh đạo phòng
A42: (Ký, họ tên) | K42: được uỷ quyền/ Giám đốc KBNN quận, huyện
K43: (Ký, họ tên, đóng dấu)
A45: Chuyên viên kiểm soát chi/ giao dịch viên

Sheet 3716-282
A1: ỦY BAN NHÂN DÂN THÀNH PHỐ HỒ CHÍ MINH | I1: Mẫu số 09
A2: Trường Cao đẳng Lý Tự Trọng Thành phố Hồ Chí Minh | I2: Mã hiệu:…………. Số:…………..
A3: Mã đơn vị có quan hệ với ngân sách: 1058083
A5: BẢNG THANH TOÁN CHO ĐỐI TƯỢNG THỤ HƯỞNG
A6: (Kèm theo Ủy nhiệm chi số: 3716/282 ngày 06 tháng 10 năm 2025)
D7: Tài khoản dự toán o | F7: Tài khoản tiền gửi: T
A8: 1. Đơn vị sử dụng ngân sách: Trường Cao đẳng Lý Tự Trọng Thành phố Hồ Chí Minh
A9: 2. Mã đơn vị: 1058083
A10: 3.Tài khoản thanh toán của đơn vị mở tại ngân hàng: Tài khoản số 060266676878 tại Ngân hàng thương mại cổ phần Sài Gòn Thương Tín, Chi nhánh Phú Nhuận
A11: I. Nội dung đề nghị thanh toán: Thanh toán tiền Phụ cấp HDTV theo QĐ số 642/QĐ-LTT-TC ngày 03/10/2024, QĐ số 436/QĐ-LTT-TC ngày 03/08/2024 và QĐ số 520/QĐ-LTT-TC ngày 06/09/2024
O12: Đơn vị: đồng
A13: STT | B13: Họ và tên | C13: Tài khoản Ngân hàng | E13: Tổng số | F13: Trong đó: | O13: Ghi chú
C14: Số Tài khoản người hưởng | D14: Tên Ngân hàng | F14: Lương và phụ cấp theo lương | G14: Tiền công lao đông theo hợp đồng | H14: Thu nhập tăng thêm | I14: Tiền thưởng | J14: Tiền phụ cấp và trợ cấp khác | M14: Tiền khoán | N14: Tiền học Bổng
J15: PC trách nhiệm HDTV từ ngày 01/10/2024 đến 30/04/2025 theo QĐ số 642/QĐ-LTT-TC ngày 03/10/2024 | K15: PC trách nhiệm HDTV từ ngày 01/08/2024 đến 31/07/2025 theo QĐ số 436/QĐ-LTT-TC ngày 03/08/2024 | L15: PC trách nhiệm HDTV từ ngày 01/09/2024 đến 31/08/2025 theo QĐ số 520/QĐ-LTT-TC ngày 06/09/2024
J16: 9.1 | L16: 9.2
A17: 1 | B17: 2 | C17: 3 | E17: 4 | F17: 5 | G17: 6 | H17: 7 | I17: 8 | J17: 9 | M17: 10 | N17: 11 | O17: 12
B18: Tổng số | E18: =+E19+E23+E24 -> 21762000 | J18: =+J19+J23+J24 -> 4914000 | K18: =+K19+K23+K24 -> 8424000 | L18: =+L19+L23+L24 -> 8424000
A19: I | B19: Đối với Công chức, viên chức | E19: =+SUM(E20:E22) -> 21762000 | J19: =+SUM(J20:J22) -> 4914000 | K19: =+SUM(K20:K22) -> 8424000 | L19: =+SUM(L20:L22) -> 8424000 | Q19: CƠM T08 | R19: CƠM T09 | S19: THIDUA T09
A20: =IF(B20="","",COUNTA($B$20:B20)) -> 1 | B20: Nguyễn Thị Thu Hà | C20: 060278691740 | D20: Sacombank | E20: =SUM(F20:N20) -> 4914000 | J20: 4914000 | P20: =+COUNTIF('[1]03'!B19:$B$345,'3716-282'!B20) -> #VALUE! | Q20: =+SUMIF('[2]C8 (BS)'!$C:$C,B20,'[2]C8 (BS)'!$E:$E) -> #VALUE! | R20: =+SUMIF([2]C9!$C:$C,B20,[2]C9!$E:$E) -> #VALUE! | S20: =+SUMIF([2]TD9!$B:$B,B20,[2]TD9!$E:$E) -> #VALUE!
A21: =IF(B21="","",COUNTA($B$20:B21)) -> 2 | B21: Nguyễn Thị Thanh Tú | C21: 060311078375 | D21: Sacombank | E21: =SUM(F21:N21) -> 8424000 | K21: 8424000
A22: =IF(B22="","",COUNTA($B$20:B22)) -> 3 | B22: Trịnh Hoàng Hiệp | C22: 060310839577 | D22: Sacombank | E22: =SUM(F22:N22) -> 8424000 | L22: 8424000
A23: II | B23: Đối với lao động hợp đồng thực hiện công việc hỗ trợ, phục vụ theo Nghị định số 111/2022/NĐ-CP | P23: =+COUNTIF('[1]03'!B283:$B$345,'3716-282'!B23) -> #VALUE! | Q23: =+SUMIF('[2]C8 (BS)'!$C:$C,B23,'[2]C8 (BS)'!$E:$E) -> #VALUE! | R23: =+SUMIF([2]C9!$C:$C,B23,[2]C9!$E:$E) -> #VALUE! | S23: =+SUMIF([2]TD9!$B:$B,B23,[2]TD9!$E:$E) -> #VALUE!
A24: III | B24: Đối với hợp đồng thực hiện công việc chuyên môn, nghiệp vụ trong đơn vị sự nghiệp công lập theo Nghị định số 111/2022/NĐ-CP | P24: =+COUNTIF('[1]03'!B294:$B$345,'3716-282'!B24) -> #VALUE! | Q24: =+SUMIF('[2]C8 (BS)'!$C:$C,B24,'[2]C8 (BS)'!$E:$E) -> #VALUE! | R24: =+SUMIF([2]C9!$C:$C,B24,[2]C9!$E:$E) -> #VALUE! | S24: =+SUMIF([2]TD9!$B:$B,B24,[2]TD9!$E:$E) -> #VALUE!
B25: Tổng cộng | E25: =+E24+E23+E19 -> 21762000 | J25: =+J24+J23+J19 -> 4914000 | K25: =+K24+K23+K19 -> 8424000 | L25: =+L24+L23+L19 -> 8424000 | Q25: =+SUM(Q20:Q24) -> #VALUE! | R25: =+SUM(R20:R24) -> #VALUE! | S25: =+SUM(S20:S24) -> #VALUE! | T25: =+Q25+R25+S25 -> #VALUE!
A26: ="Số tiền bằng chữ: "&SUBSTITUTE([3]!VND(E25),",","")&" đồng." -> Số tiền bằng chữ: Hai mươi mốt triệu bảy trăm sáu mươi hai ngàn đồng. | Q26: =+'[2]C8 (BS)'!$E$171 -> 83000000 | R26: =+[2]C9!$E$333 -> 340125000 | S26: =+[2]TD9!$E$331 -> 2174976955
A27: II. Phần thuyết minh thay đổi so với tháng trước: | Q27: =+Q25-Q26 -> #VALUE! | R27: =+R25-R26 -> #VALUE! | S27: =+S25-S26 -> #VALUE!
A28: - Phát sinh tăng 21.762.000 đồng, do hoàn thành công tác hướng dẫn thử việc. | Q28: =+E25-'[1]08'!E18 -> -1215334641
L29: Ngày tháng 10 năm 2025
A30: Người lập | E30: Kế toán trưởng | L30: Q. Hiệu trưởng
A35: Huỳnh Như Ý | E35: Nguyễn Kính | L35: Đinh Văn Đệ
G37: KHO BẠC NHÀ NƯỚC
L38: Ngày tháng năm 2025
A39: Chuyên viên kiểm soát chi/ giao dịch viên | L39: Giám đốc KBNN cấp tỉnh hoặc Lãnh đạo phòng
L40: được uỷ quyền/ Giám đốc KBNN quận, huyện
A41: (Ký, họ tên) | L41: (Ký, họ tên, đóng dấu)
A44: Chuyên viên kiểm soát chi/ giao dịch viên

Sheet 3716-294
A1: ỦY BAN NHÂN DÂN THÀNH PHỐ HỒ CHÍ MINH | I1: Mẫu số 09
A2: Trường Cao đẳng Lý Tự Trọng Thành phố Hồ Chí Minh | I2: Mã hiệu:…………. Số:…………..
A3: Mã đơn vị có quan hệ với ngân sách: 1058083
A5: BẢNG THANH TOÁN CHO ĐỐI TƯỢNG THỤ HƯỞNG
A6: (Kèm theo Ủy nhiệm chi số: 3716/294 ngày 08 tháng 10 năm 2025)
D7: Tài khoản dự toán o | F7: Tài khoản tiền gửi: T
A8: 1. Đơn vị sử dụng ngân sách: Trường Cao đẳng Lý Tự Trọng Thành phố Hồ Chí Minh
A9: 2. Mã đơn vị: 1058083
A10: 3.Tài khoản thanh toán của đơn vị mở tại ngân hàng: Tài khoản số 060266676878 tại Ngân hàng thương mại cổ phần Sài Gòn Thương Tín, Chi nhánh Phú Nhuận
A11: I. Nội dung đề nghị thanh toán: Thanh toán tiền CBQL tham gia viết bài tham luận, bài báo trên tạp chí khoa học NH 2024-2025
M12: Đơn vị: đồng
A13: STT | B13: Họ và tên | C13: Tài khoản Ngân hàng | E13: Tổng số | F13: Trong đó: | M13: Ghi chú
C14: Số Tài khoản người hưởng | D14: Tên Ngân hàng | F14: Lương và phụ cấp theo lương | G14: Tiền công lao đông theo hợp đồng | H14: Thu nhập tăng thêm | I14: Tiền thưởng | J14: Tiền phụ cấp và trợ cấp khác Thanh toán tiền CBQL tham gia viết bài tham luận, bài báo trên tạp chí khoa học NH 2024-2025 | K14: Tiền khoán | L14: Tiền học Bổng
A17: 1 | B17: 2 | C17: 3 | E17: 4 | F17: 5 | G17: 6 | H17: 7 | I17: 8 | J17: 9 | K17: 10 | L17: 11 | M17: 12
B18: Tổng số | E18: =+E19+E25+E26 -> 24600000 | J18: =+J19+J25+J26 -> 24600000
A19: I | B19: Đối với Công chức, viên chức | E19: =+SUM(E20:E24) -> 24600000 | J19: =+SUM(J20:J24) -> 24600000 | O19: CƠM T08 | P19: CƠM T09 | Q19: THIDUA T09
A20: =IF(B20="","",COUNTA($B$20:B20)) -> 1 | B20: Đinh Văn Đệ | C20: 01344338868 | D20: Sacombank | E20: =SUM(F20:L20) -> 7800000 | J20: 7800000
A21: =IF(B21="","",COUNTA($B$20:B21)) -> 2 | B21: Phạm Hữu Lộc | C21: 0903828252 | D21: Sacombank | E21: =SUM(F21:L21) -> 1800000 | J21: 1800000
A22: =IF(B22="","",COUNTA($B$20:B22)) -> 3 | B22: Nguyễn Thành Nam | C22: 060182713905 | D22: Sacombank | E22: =SUM(F22:L22) -> 4500000 | J22: 4500000
A23: =IF(B23="","",COUNTA($B$20:B23)) -> 4 | B23: Lương Xuân Thịnh | C23: 0981820082 | D23: Sacombank | E23: =SUM(F23:L23) -> 3300000 | J23: 3300000
A24: =IF(B24="","",COUNTA($B$20:B24)) -> 5 | B24: Quách Minh Thử | C24: 060282652970 | D24: Sacombank | E24: =SUM(F24:L24) -> 7200000 | J24: 7200000 | N24: =+COUNTIF('[1]03'!B23:$B$345,'3716-294'!B24) -> #VALUE! | O24: =+SUMIF('[2]C8 (BS)'!$C:$C,B24,'[2]C8 (BS)'!$E:$E) -> #VALUE! | P24: =+SUMIF([2]C9!$C:$C,B24,[2]C9!$E:$E) -> #VALUE! | Q24: =+SUMIF([2]TD9!$B:$B,B24,[2]TD9!$E:$E) -> #VALUE!
A25: II | B25: Đối với lao động hợp đồng thực hiện công việc hỗ trợ, phục vụ theo Nghị định số 111/2022/NĐ-CP | N25: =+COUNTIF('[1]03'!B283:$B$345,'3716-294'!B25) -> #VALUE! | O25: =+SUMIF('[2]C8 (BS)'!$C:$C,B25,'[2]C8 (BS)'!$E:$E) -> #VALUE! | P25: =+SUMIF([2]C9!$C:$C,B25,[2]C9!$E:$E) -> #VALUE! | Q25: =+SUMIF([2]TD9!$B:$B,B25,[2]TD9!$E:$E) -> #VALUE!
A26: III | B26: Đối với hợp đồng thực hiện công việc chuyên môn, nghiệp vụ trong đơn vị sự nghiệp công lập theo Nghị định số 111/2022/NĐ-CP | N26: =+COUNTIF('[1]03'!B294:$B$345,'3716-294'!B26) -> #VALUE! | O26: =+SUMIF('[2]C8 (BS)'!$C:$C,B26,'[2]C8 (BS)'!$E:$E) -> #VALUE! | P26: =+SUMIF([2]C9!$C:$C,B26,[2]C9!$E:$E) -> #VALUE! | Q26: =+SUMIF([2]TD9!$B:$B,B26,[2]TD9!$E:$E) -> #VALUE!
B27: Tổng cộng | E27: =+E26+E25+E19 -> 24600000 | J27: =+J26+J25+J19 -> 24600000 | O27: =+SUM(O20:O26) -> #VALUE! | P27: =+SUM(P20:P26) -> #VALUE! | Q27: =+SUM(Q20:Q26) -> #VALUE! | R27: =+O27+P27+Q27 -> #VALUE!
A28: ="Số tiền bằng chữ: "&SUBSTITUTE([3]!VND(E27),",","")&" đồng." -> Số tiền bằng chữ: Hai mươi bốn triệu sáu trăm ngàn đồng. | O28: =+'[2]C8 (BS)'!$E$171 -> 83000000 | P28: =+[2]C9!$E$333 -> 340125000 | Q28: =+[2]TD9!$E$331 -> 2174976955
A29: II. Phần thuyết minh thay đổi so với tháng trước: | O29: =+O27-O28 -> #VALUE! | P29: =+P27-P28 -> #VALUE! | Q29: =+Q27-Q28 -> #VALUE!
A30: -Phát sinh tăng 24.600.000 đồng, do hoàn thành bài viết tham luận, bài báo trên tạp chí khoa học NH 2024-2025 | O30: =+E27-'[1]08'!E18 -> -1212496641
J31: Ngày tháng 10 năm 2025
A32: Người lập | E32: Kế toán trưởng | J32: Q. Hiệu trưởng
A37: Huỳnh Như Ý | E37: Nguyễn Kính | J37: Đinh Văn Đệ
A39: KHO BẠC NHÀ NƯỚC
J40: Ngày tháng năm 2025
A41: Chuyên viên kiểm soát chi/ giao dịch viên | J41: Giám đốc KBNN cấp tỉnh hoặc Lãnh đạo phòng
A42: (Ký, họ tên) | J42: được uỷ quyền/ Giám đốc KBNN quận, huyện
J43: (Ký, họ tên, đóng dấu)
A45: Chuyên viên kiểm soát chi/ giao dịch viên

Sheet 3716-299
A1: ỦY BAN NHÂN DÂN THÀNH PHỐ HỒ CHÍ MINH | I1: Mẫu số 09
A2: Trường Cao đẳng Lý Tự Trọng Thành phố Hồ Chí Minh | I2: Mã hiệu:…………. Số:…………..
A3: Mã đơn vị có quan hệ với ngân sách: 1058083
A5: BẢNG THANH TOÁN CHO ĐỐI TƯỢNG THỤ HƯỞNG
A6: (Kèm theo Ủy nhiệm chi số: 3716/299 ngày 14 tháng 10 năm 2025)
D7: Tài khoản dự toán o | F7: Tài khoản tiền gửi: T
A8: 1. Đơn vị sử dụng ngân sách: Trường Cao đẳng Lý Tự Trọng Thành phố Hồ Chí Minh
A9: 2. Mã đơn vị: 1058083
A10: 3.Tài khoản thanh toán của đơn vị mở tại ngân hàng: Tài khoản số 060266676878 tại Ngân hàng thương mại cổ phần Sài Gòn Thương Tín, Chi nhánh Phú Nhuận
A11: I. Nội dung đề nghị thanh toán: Thanh toán tiền GV phục vụ công tác HD TTTN cho sinh viên khoá 2021 TC và 2021+2022 CĐ NH 2024-2025 (Khoa: DL-KS)
M12: Đơn vị: đồng
A13: STT | B13: Họ và tên | C13: Tài khoản Ngân hàng | E13: Tổng số | F13: Trong đó: | M13: Ghi chú
C14: Số Tài khoản người hưởng | D14: Tên Ngân hàng | F14: Lương và phụ cấp theo lương | G14: Tiền công lao đông theo hợp đồng | H14: Thu nhập tăng thêm | I14: Tiền thưởng | J14: Tiền phụ cấp và trợ cấp khác GV phục vụ công tác HD TTTN cho sinh viên khoá 2021 TC và 2021+2022 CĐ NH 2024-2025 (Khoa: DL-KS) | K14: Tiền khoán | L14: Tiền học bổng
A17: 1 | B17: 2 | C17: 3 | E17: 4 | F17: 5 | G17: 6 | H17: 7 | I17: 8 | J17: 9 | K17: 10 | L17: 11 | M17: 12
B18: Tổng số | E18: =+E19+E25+E26 -> 5460000 | J18: =+J19+J25+J26 -> 5460000
A19: I | B19: Đối với Công chức, viên chức | E19: =+SUM(E20:E24) -> 5460000 | J19: =+SUM(J20:J24) -> 5460000 | O19: CƠM T08 | P19: CƠM T09 | Q19: THIDUA T09
A20: =IF(B20="","",COUNTA($B$20:B20)) -> 1 | B20: Hồ Gia Bảo | C20: 060278701061 | D20: Sacombank | E20: =SUM(F20:L20) -> 1020000 | J20: 1020000
A21: =IF(B21="","",COUNTA($B$20:B21)) -> 2 | B21: Phạm Thị Thanh Thúy | C21: 060310839461 | D21: Sacombank | E21: =SUM(F21:L21) -> 1620000 | J21: 1620000
A22: =IF(B22="","",COUNTA($B$20:B22)) -> 3 | B22: Võ Thị Kim Thư | C22: 060289551851 | D22: Sacombank | E22: =SUM(F22:L22) -> 840000 | J22: 840000
A23: =IF(B23="","",COUNTA($B$20:B23)) -> 4 | B23: Huỳnh Kim Liên | C23: 060310902848 | D23: Sacombank | E23: =SUM(F23:L23) -> 960000 | J23: 960000
A24: =IF(B24="","",COUNTA($B$20:B24)) -> 5 | B24: Nguyễn Thị Hiền | C24: 060928978968 | D24: Sacombank | E24: =SUM(F24:L24) -> 1020000 | J24: 1020000 | N24: =+COUNTIF('[1]03'!B23:$B$345,'3716-299'!B24) -> #VALUE! | O24: =+SUMIF('[2]C8 (BS)'!$C:$C,B24,'[2]C8 (BS)'!$E:$E) -> #VALUE! | P24: =+SUMIF([2]C9!$C:$C,B24,[2]C9!$E:$E) -> #VALUE! | Q24: =+SUMIF([2]TD9!$B:$B,B24,[2]TD9!$E:$E) -> #VALUE!
A25: II | B25: Đối với lao động hợp đồng thực hiện công việc hỗ trợ, phục vụ theo Nghị định số 111/2022/NĐ-CP | N25: =+COUNTIF('[1]03'!B283:$B$345,'3716-299'!B25) -> #VALUE! | O25: =+SUMIF('[2]C8 (BS)'!$C:$C,B25,'[2]C8 (BS)'!$E:$E) -> #VALUE! | P25: =+SUMIF([2]C9!$C:$C,B25,[2]C9!$E:$E) -> #VALUE! | Q25: =+SUMIF([2]TD9!$B:$B,B25,[2]TD9!$E:$E) -> #VALUE!
A26: III | B26: Đối với hợp đồng thực hiện công việc chuyên môn, nghiệp vụ trong đơn vị sự nghiệp công lập theo Nghị định số 111/2022/NĐ-CP | N26: =+COUNTIF('[1]03'!B294:$B$345,'3716-299'!B26) -> #VALUE! | O26: =+SUMIF('[2]C8 (BS)'!$C:$C,B26,'[2]C8 (BS)'!$E:$E) -> #VALUE! | P26: =+SUMIF([2]C9!$C:$C,B26,[2]C9!$E:$E) -> #VALUE! | Q26: =+SUMIF([2]TD9!$B:$B,B26,[2]TD9!$E:$E) -> #VALUE!
B27: Tổng cộng | E27: =+E26+E25+E19 -> 5460000 | J27: =+J26+J25+J19 -> 5460000 | O27: =+SUM(O20:O26) -> #VALUE! | P27: =+SUM(P20:P26) -> #VALUE! | Q27: =+SUM(Q20:Q26) -> #VALUE! | R27: =+O27+P27+Q27 -> #VALUE!
A28: ="Số tiền bằng chữ: "&SUBSTITUTE([3]!VND(E27),",","")&" đồng." -> Số tiền bằng chữ: Năm triệu bốn trăm sáu mươi ngàn đồng. | O28: =+'[2]C8 (BS)'!$E$171 -> 83000000 | P28: =+[2]C9!$E$333 -> 340125000 | Q28: =+[2]TD9!$E$331 -> 2174976955
A29: II. Phần thuyết minh thay đổi so với tháng trước: | O29: =+O27-O28 -> #VALUE! | P29: =+P27-P28 -> #VALUE! | Q29: =+Q27-Q28 -> #VALUE!
A30: - Tăng 5.460.000 đồng, do 1 năm học chi 1 lần cho giảng viên. | O30: =+E27-'[1]08'!E18 -> -1231636641
J31: Ngày tháng 10 năm 2025
A32: Người lập | E32: Kế toán trưởng | J32: Q. Hiệu trưởng
A37: Huỳnh Như Ý | E37: Nguyễn Kính | J37: Đinh Văn Đệ
A39: KHO BẠC NHÀ NƯỚC
J40: Ngày tháng năm 2025
A41: Chuyên viên kiểm soát chi/ giao dịch viên | J41: Giám đốc KBNN cấp tỉnh hoặc Lãnh đạo phòng
A42: (Ký, họ tên) | J42: được uỷ quyền/ Giám đốc KBNN quận, huyện
J43: (Ký, họ tên, đóng dấu)
A45: Chuyên viên kiểm soát chi/ giao dịch viên

Sheet 3716-315
A1: ỦY BAN NHÂN DÂN THÀNH PHỐ HỒ CHÍ MINH | I1: Mẫu số 09
A2: Trường Cao đẳng Lý Tự Trọng Thành phố Hồ Chí Minh | I2: Mã hiệu:…………. Số:…………..
A3: Mã đơn vị có quan hệ với ngân sách: 1058083
A5: BẢNG THANH TOÁN CHO ĐỐI TƯỢNG THỤ HƯỞNG
A6: (Kèm theo Ủy nhiệm chi số: 3716/319 ngày 27 tháng 10 năm 2025)
D7: Tài khoản dự toán o | F7: Tài khoản tiền gửi: T
A8: 1. Đơn vị sử dụng ngân sách: Trường Cao đẳng Lý Tự Trọng Thành phố Hồ Chí Minh
A9: 2. Mã đơn vị: 1058083
A10: 3.Tài khoản thanh toán của đơn vị mở tại ngân hàng: Tài khoản số 060266676878 tại Ngân hàng thương mại cổ phần Sài Gòn Thương Tín, Chi nhánh Phú Nhuận
A11: I. Nội dung đề nghị thanh toán: Thanh toán tiền phụ trội NH 2024-2025 cho GV Khoa DL-KS, Điện - Điện tử, XD-NL, Cơ khí, May TT, Động lực, CNTT, Kinh tế và GV kiêm chức
M12: Đơn vị: đồng
A13: STT | B13: Họ và tên | C13: Tài khoản Ngân hàng | E13: Tổng số | F13: Trong đó: | M13: Ghi chú
C14: Số Tài khoản người hưởng | D14: Tên Ngân hàng | F14: Lương và phụ cấp theo lương | G14: Tiền công lao đông theo hợp đồng | H14: Thu nhập tăng thêm | I14: Tiền thưởng | J14: Tiền phụ cấp và trợ cấp khác Tiền phụ trội NH 2024-2025 cho GV Khoa DL-KS, Điện - Điện tử, XD-NL, Cơ khí, May TT, Động lực, CNTT, Kinh tế và GV kiêm chức | K14: Tiền khoán | L14: Tiền học bổng
A17: 1 | B17: 2 | C17: 3 | E17: 4 | F17: 5 | G17: 6 | H17: 7 | I17: 8 | J17: 9 | K17: 10 | L17: 11 | M17: 12
B18: Tổng số | E18: =+E19+E160+E161 -> 6831982582 | J18: =+J19+J160+J161 -> 6831982582
A19: I | B19: Đối với Công chức, viên chức | E19: =+SUM(E20:E159) -> 6831982582 | J19: =+SUM(J20:J159) -> 6831982582 | O19: CƠM T08 | P19: CƠM T09 | Q19: THIDUA T09
A20: =IF(B20="","",COUNTA($B$20:B20)) -> 1 | B20: Đinh Văn Đệ | C20: 01344338868 | D20: Sacombank | E20: =SUM(F20:L20) -> 33243180 | J20: 33243180
A21: =IF(B21="","",COUNTA($B$20:B21)) -> 2 | B21: Châu Văn Bảo | C21: 060310678093 | D21: Sacombank | E21: =SUM(F21:L21) -> 33211155 | J21: 33211155
A22: =IF(B22="","",COUNTA($B$20:B22)) -> 3 | B22: Huỳnh Thị Minh Ly | C22: 060310665501 | D22: Sacombank | E22: =SUM(F22:L22) -> 50483800 | J22: 50483800
A23: =IF(B23="","",COUNTA($B$20:B23)) -> 4 | B23: Lê Quang Liêm | C23: 060310851941 | D23: Sacombank | E23: =SUM(F23:L23) -> 3087222 | J23: 3087222
A24: =IF(B24="","",COUNTA($B$20:B24)) -> 5 | B24: Nguyễn Hữu Thiện | C24: 060311484640 | D24: Sacombank | E24: =SUM(F24:L24) -> 3519994 | J24: 3519994
A25: =IF(B25="","",COUNTA($B$20:B25)) -> 6 | B25: Trương Thị Hồng | C25: 060278317180 | D25: Sacombank | E25: =SUM(F25:L25) -> 6078586 | J25: 6078586
A26: =IF(B26="","",COUNTA($B$20:B26)) -> 7 | B26: Hồ Ngọc Chi | C26: 060278693931 | D26: Sacombank | E26: =SUM(F26:L26) -> 46559589 | J26: 46559589
A27: =IF(B27="","",COUNTA($B$20:B27)) -> 8 | B27: Hồ Gia Bảo | C27: 060278701061 | D27: Sacombank | E27: =SUM(F27:L27) -> 47017600 | J27: 47017600
A28: =IF(B28="","",COUNTA($B$20:B28)) -> 9 | B28: Huỳnh Kim Liên | C28: 060310902848 | D28: Sacombank | E28: =SUM(F28:L28) -> 60450200 | J28: 60450200
A29: =IF(B29="","",COUNTA($B$20:B29)) -> 10 | B29: Lê Thị Thúy Oanh | C29: 060288717055 | D29: Sacombank | E29: =SUM(F29:L29) -> 17948969 | J29: 17948969
A30: =IF(B30="","",COUNTA($B$20:B30)) -> 11 | B30: Phạm Thị Thanh Thúy | C30: 060310839461 | D30: Sacombank | E30: =SUM(F30:L30) -> 93215000 | J30: 93215000
A31: =IF(B31="","",COUNTA($B$20:B31)) -> 12 | B31: Võ Thị Kim Thư | C31: 060289551851 | D31: Sacombank | E31: =SUM(F31:L31) -> 48102600 | J31: 48102600
... A159: =IF(B159="","",COUNTA($B$20:B159)) -> 140 | B159: Trần Thị Ngọc Dung | C159: 060284970368 | D159: Sacombank | E159: =SUM(F159:L159) -> 38677937 | J159: 38677937
A160: II | B160: Đối với lao động hợp đồng thực hiện công việc hỗ trợ, phục vụ theo Nghị định số 111/2022/NĐ-CP | N160: =+COUNTIF('[1]03'!B283:$B$345,'3716-315'!B160) -> #VALUE! | O160: =+SUMIF('[2]C8 (BS)'!$C:$C,B160,'[2]C8 (BS)'!$E:$E) -> #VALUE! | P160: =+SUMIF([2]C9!$C:$C,B160,[2]C9!$E:$E) -> #VALUE! | Q160: =+SUMIF([2]TD9!$B:$B,B160,[2]TD9!$E:$E) -> #VALUE!
A161: III | B161: Đối với hợp đồng thực hiện công việc chuyên môn, nghiệp vụ trong đơn vị sự nghiệp công lập theo Nghị định số 111/2022/NĐ-CP | N161: =+COUNTIF('[1]03'!B294:$B$345,'3716-315'!B161) -> #VALUE! | O161: =+SUMIF('[2]C8 (BS)'!$C:$C,B161,'[2]C8 (BS)'!$E:$E) -> #VALUE! | P161: =+SUMIF([2]C9!$C:$C,B161,[2]C9!$E:$E) -> #VALUE! | Q161: =+SUMIF([2]TD9!$B:$B,B161,[2]TD9!$E:$E) -> #VALUE!
B162: Tổng cộng | E162: =+E161+E160+E19 -> 6831982582 | J162: =+J161+J160+J19 -> 6831982582 | O162: =+SUM(O20:O161) -> #VALUE! | P162: =+SUM(P20:P161) -> #VALUE! | Q162: =+SUM(Q20:Q161) -> #VALUE! | R162: =+O162+P162+Q162 -> #VALUE!
A163: ="Số tiền bằng chữ: "&SUBSTITUTE([3]!VND(E162),",","")&" đồng." -> Số tiền bằng chữ: Sáu tỷ tám trăm ba mươi mốt triệu chín trăm tám mươi hai ngàn năm trăm tám mươi hai đồng. | O163: =+'[2]C8 (BS)'!$E$171 -> 83000000 | P163: =+[2]C9!$E$333 -> 340125000 | Q163: =+[2]TD9!$E$331 -> 2174976955
A164: II. Phần thuyết minh thay đổi so với tháng trước: | O164: =+O162-O163 -> #VALUE! | P164: =+P162-P163 -> #VALUE! | Q164: =+Q162-Q163 -> #VALUE!
A165: - Tăng 6.831.982.582 đồng, do 1 năm học chi 1 lần cho giảng viên. | O165: =+E162-'[1]08'!E18 -> 5594885941
J166: Ngày tháng 10 năm 2025
A167: Người lập | E167: Kế toán trưởng | J167: Q. Hiệu trưởng
A172: Huỳnh Như Ý | E172: Nguyễn Kính | J172: Đinh Văn Đệ
A174: KHO BẠC NHÀ NƯỚC
J175: Ngày tháng năm 2025
...

Sheet 3716-326
A1: ỦY BAN NHÂN DÂN THÀNH PHỐ HỒ CHÍ MINH | I1: Mẫu số 09
A2: Trường Cao đẳng Lý Tự Trọng Thành phố Hồ Chí Minh | I2: Mã hiệu:…………. Số:…………..
A3: Mã đơn vị có quan hệ với ngân sách: 1058083
A5: BẢNG THANH TOÁN CHO ĐỐI TƯỢNG THỤ HƯỞNG
A6: (Kèm theo Ủy nhiệm chi số: 3716/326 ngày 22 tháng 10 năm 2025)
D7: Tài khoản dự toán o | F7: Tài khoản tiền gửi: T
A8: 1. Đơn vị sử dụng ngân sách: Trường Cao đẳng Lý Tự Trọng Thành phố Hồ Chí Minh
A9: 2. Mã đơn vị: 1058083
A10: 3.Tài khoản thanh toán của đơn vị mở tại ngân hàng: Tài khoản số 060266676878 tại Ngân hàng thương mại cổ phần Sài Gòn Thương Tín, Chi nhánh Phú Nhuận
A11: I. Nội dung đề nghị thanh toán: Thanh toán tiền viết bài tham luận, bài báo trên tạp chí khoa học NH 2024-2025 cho GV Khoa DL-KS, Điện - Điện tử, XD-NL, Cơ khí, May TT, Động lực, CNTT, Kinh tế, LLCT
M12: Đơn vị: đồng
A13: STT | B13: Họ và tên | C13: Tài khoản Ngân hàng | E13: Tổng số | F13: Trong đó: | M13: Ghi chú
C14: Số Tài khoản người hưởng | D14: Tên Ngân hàng | F14: Lương và phụ cấp theo lương | G14: Tiền công lao đông theo hợp đồng | H14: Thu nhập tăng thêm | I14: Tiền thưởng | J14: Tiền phụ cấp và trợ cấp khác Tiền viết bài tham luận, bài báo trên tạp chí khoa học NH 2024-2025 cho GV Khoa DL-KS, Điện - Điện tử, XD-NL, Cơ khí, May TT, Động lực, CNTT, Kinh tế, LLCT | K14: Tiền khoán | L14: Tiền học bổng
A17: 1 | B17: 2 | C17: 3 | E17: 4 | F17: 5 | G17: 6 | H17: 7 | I17: 8 | J17: 9 | K17: 10 | L17: 11 | M17: 12
B18: Tổng số | E18: =+E19+E78+E79 -> 239130000 | J18: =+J19+J78+J79 -> 239130000
A19: I | B19: Đối với Công chức, viên chức | E19: =+SUM(E20:E77) -> 239130000 | J19: =+SUM(J20:J77) -> 239130000 | O19: CƠM T08 | P19: CƠM T09 | Q19: THIDUA T09
A20: =IF(B20="","",COUNTA($B$20:B20)) -> 1 | B20: Hồ Gia Bảo | C20: 060278701061 | D20: Sacombank | E20: =SUM(F20:L20) -> 10800000 | J20: 10800000
A21: =IF(B21="","",COUNTA($B$20:B21)) -> 2 | B21: Lữ Xuân Trang | C21: 060282998461 | D21: Sacombank | E21: =SUM(F21:L21) -> 3000000 | J21: 3000000
A22: =IF(B22="","",COUNTA($B$20:B22)) -> 3 | B22: Phạm Thị Thanh Thúy | C22: 060310839461 | D22: Sacombank | E22: =SUM(F22:L22) -> 1200000 | J22: 1200000
A23: =IF(B23="","",COUNTA($B$20:B23)) -> 4 | B23: Huỳnh Kim Liên | C23: 060310902848 | D23: Sacombank | E23: =SUM(F23:L23) -> 1200000 | J23: 1200000
A24: =IF(B24="","",COUNTA($B$20:B24)) -> 5 | B24: Lê Thị Thúy Oanh | C24: 060288717055 | D24: Sacombank | E24: =SUM(F24:L24) -> 1200000 | J24: 1200000
A25: =IF(B25="","",COUNTA($B$20:B25)) -> 6 | B25: Võ Thị Kim Thư | C25: 060289551851 | D25: Sacombank | E25: =SUM(F25:L25) -> 1200000 | J25: 1200000
A26: =IF(B26="","",COUNTA($B$20:B26)) -> 7 | B26: Đinh Thị Trâm | C26: 060310902961 | D26: Sacombank | E26: =SUM(F26:L26) -> 1200000 | J26: 1200000
A27: =IF(B27="","",COUNTA($B$20:B27)) -> 8 | B27: Huỳnh Duy An | C27: 060310832051 | D27: Sacombank | E27: =SUM(F27:L27) -> 7200000 | J27: 7200000
A28: =IF(B28="","",COUNTA($B$20:B28)) -> 9 | B28: Nguyễn Minh Đức Cường | C28: 060282641685 | D28: Sacombank | E28: =SUM(F28:L28) -> 5400000 | J28: 5400000
A29: =IF(B29="","",COUNTA($B$20:B29)) -> 10 | B29: Tạ Minh Cường | C29: 060284076772 | D29: Sacombank | E29: =SUM(F29:L29) -> 11400000 | J29: 11400000
A30: =IF(B30="","",COUNTA($B$20:B30)) -> 11 | B30: Lâm Viết Dũng | C30: 060310678204 | D30: Sacombank | E30: =SUM(F30:L30) -> 1410000 | J30: 1410000
A31: =IF(B31="","",COUNTA($B$20:B31)) -> 12 | B31: Nguyễn Hồng Đức | C31: 060283491318 | D31: Sacombank | E31: =SUM(F31:L31) -> 450000 | J31: 450000
... A77: =IF(B77="","",COUNTA($B$20:B77)) -> 58 | B77: Đỗ Thị Thơm | C77: 060290176894 | D77: Sacombank | E77: =SUM(F77:L77) -> 8430000 | J77: 8430000
A78: II | B78: Đối với lao động hợp đồng thực hiện công việc hỗ trợ, phục vụ theo Nghị định số 111/2022/NĐ-CP | N78: =+COUNTIF('[1]03'!B283:$B$345,'3716-326'!B78) -> #VALUE! | O78: =+SUMIF('[2]C8 (BS)'!$C:$C,B78,'[2]C8 (BS)'!$E:$E) -> #VALUE! | P78: =+SUMIF([2]C9!$C:$C,B78,[2]C9!$E:$E) -> #VALUE! | Q78: =+SUMIF([2]TD9!$B:$B,B78,[2]TD9!$E:$E) -> #VALUE!
A79: III | B79: Đối với hợp đồng thực hiện công việc chuyên môn, nghiệp vụ trong đơn vị sự nghiệp công lập theo Nghị định số 111/2022/NĐ-CP | N79: =+COUNTIF('[1]03'!B294:$B$345,'3716-326'!B79) -> #VALUE! | O79: =+SUMIF('[2]C8 (BS)'!$C:$C,B79,'[2]C8 (BS)'!$E:$E) -> #VALUE! | P79: =+SUMIF([2]C9!$C:$C,B79,[2]C9!$E:$E) -> #VALUE! | Q79: =+SUMIF([2]TD9!$B:$B,B79,[2]TD9!$E:$E) -> #VALUE!
B80: Tổng cộng | E80: =+E79+E78+E19 -> 239130000 | J80: =+J79+J78+J19 -> 239130000 | O80: =+SUM(O20:O79) -> #VALUE! | P80: =+SUM(P20:P79) -> #VALUE! | Q80: =+SUM(Q20:Q79) -> #VALUE! | R80: =+O80+P80+Q80 -> #VALUE!
A81: ="Số tiền bằng chữ: "&SUBSTITUTE([3]!VND(E80),",","")&" đồng." -> Số tiền bằng chữ: Hai trăm ba mươi chín triệu một trăm ba mươi ngàn đồng. | O81: =+'[2]C8 (BS)'!$E$171 -> 83000000 | P81: =+[2]C9!$E$333 -> 340125000 | Q81: =+[2]TD9!$E$331 -> 2174976955
A82: II. Phần thuyết minh thay đổi so với tháng trước: | O82: =+O80-O81 -> #VALUE! | P82: =+P80-P81 -> #VALUE! | Q82: =+Q80-Q81 -> #VALUE!
A83: - Tăng 239.130.000 đồng, do 1 năm học chi 1 lần cho giảng viên. | O83: =+E80-'[1]08'!E18 -> -997966641
J84: Ngày tháng 10 năm 2025
A85: Người lập | E85: Kế toán trưởng | J85: Q. Hiệu trưởng
A90: Huỳnh Như Ý | E90: Nguyễn Kính | J90: Đinh Văn Đệ
A92: KHO BẠC NHÀ NƯỚC
J93: Ngày tháng năm 2025
...

Sheet 3716-327
A1: ỦY BAN NHÂN DÂN THÀNH PHỐ HỒ CHÍ MINH | I1: Mẫu số 09
A2: Trường Cao đẳng Lý Tự Trọng Thành phố Hồ Chí Minh | I2: Mã hiệu:…………. Số:…………..
A3: Mã đơn vị có quan hệ với ngân sách: 1058083
A5: BẢNG THANH TOÁN CHO ĐỐI TƯỢNG THỤ HƯỞNG
A6: (Kèm theo Ủy nhiệm chi số: 3716/326 ngày 22 tháng 10 năm 2025)
D7: Tài khoản dự toán o | F7: Tài khoản tiền gửi: T
A8: 1. Đơn vị sử dụng ngân sách: Trường Cao đẳng Lý Tự Trọng Thành phố Hồ Chí Minh
A9: 2. Mã đơn vị: 1058083
A10: 3.Tài khoản thanh toán của đơn vị mở tại ngân hàng: Tài khoản số 060266676878 tại Ngân hàng thương mại cổ phần Sài Gòn Thương Tín, Chi nhánh Phú Nhuận
A11: I. Nội dung đề nghị thanh toán: Thanh toán tiền công tác soạn đề, coi, chấm thi NH 2024-2025 cho GV Khoa DL-KS, Điện - Điện tử, XD-NL, Cơ khí, May TT, Động lực, CNTT, Kinh tế, LLCT
M12: Đơn vị: đồng
A13: STT | B13: Họ và tên | C13: Tài khoản Ngân hàng | E13: Tổng số | F13: Trong đó: | M13: Ghi chú
C14: Số Tài khoản người hưởng | D14: Tên Ngân hàng | F14: Lương và phụ cấp theo lương | G14: Tiền công lao đông theo hợp đồng | H14: Thu nhập tăng thêm | I14: Tiền thưởng | J14: Tiền phụ cấp và trợ cấp khác Tiền công tác soạn đề, coi, chấm thi NH 2024-2025 cho GV Khoa DL-KS, Điện - Điện tử, XD-NL, Cơ khí, May TT, Động lực, CNTT, Kinh tế, LLCT | K14: Tiền khoán | L14: Tiền học bổng
A17: 1 | B17: 2 | C17: 3 | E17: 4 | F17: 5 | G17: 6 | H17: 7 | I17: 8 | J17: 9 | K17: 10 | L17: 11 | M17: 12
B18: Tổng số | E18: =+E19+E164+E165 -> 499752000 | J18: =+J19+J164+J165 -> 499752000
A19: I | B19: Đối với Công chức, viên chức | E19: =+SUM(E20:E163) -> 499752000 | J19: =+SUM(J20:J163) -> 499752000 | O19: CƠM T08 | P19: CƠM T09 | Q19: THIDUA T09
A20: =IF(B20="","",COUNTA($B$20:B20)) -> 1 | B20: Hồ Gia Bảo | C20: 060278701061 | D20: Sacombank | E20: =SUM(F20:L20) -> 8776000 | J20: 8776000
A21: =IF(B21="","",COUNTA($B$20:B21)) -> 2 | B21: Lữ Xuân Trang | C21: 060282998461 | D21: Sacombank | E21: =SUM(F21:L21) -> 816000 | J21: 816000
A22: =IF(B22="","",COUNTA($B$20:B22)) -> 3 | B22: Phạm Thị Thanh Thúy | C22: 060310839461 | D22: Sacombank | E22: =SUM(F22:L22) -> 3696000 | J22: 3696000
A23: =IF(B23="","",COUNTA($B$20:B23)) -> 4 | B23: Huỳnh Kim Liên | C23: 060310902848 | D23: Sacombank | E23: =SUM(F23:L23) -> 5568000 | J23: 5568000
A24: =IF(B24="","",COUNTA($B$20:B24)) -> 5 | B24: Lê Thị Thúy Oanh | C24: 060288717055 | D24: Sacombank | E24: =SUM(F24:L24) -> 2736000 | J24: 2736000
A25: =IF(B25="","",COUNTA($B$20:B25)) -> 6 | B25: Võ Thị Kim Thư | C25: 060289551851 | D25: Sacombank | E25: =SUM(F25:L25) -> 4872000 | J25: 4872000
A26: =IF(B26="","",COUNTA($B$20:B26)) -> 7 | B26: Đinh Thị Trâm | C26: 060310902961 | D26: Sacombank | E26: =SUM(F26:L26) -> 8032000 | J26: 8032000
A27: =IF(B27="","",COUNTA($B$20:B27)) -> 8 | B27: Huỳnh Duy An | C27: 060310832051 | D27: Sacombank | E27: =SUM(F27:L27) -> 1872000 | J27: 1872000
A28: =IF(B28="","",COUNTA($B$20:B28)) -> 9 | B28: Ngô Hoàng Anh | C28: 060284970678 | D28: Sacombank | E28: =SUM(F28:L28) -> 808000 | J28: 808000
A29: =IF(B29="","",COUNTA($B$20:B29)) -> 10 | B29: Trần Nam Anh | C29: 060282653217 | D29: Sacombank | E29: =SUM(F29:L29) -> 4976000 | J29: 4976000
A30: =IF(B30="","",COUNTA($B$20:B30)) -> 11 | B30: Vũ HẠnh Chiêu | C30: 060284970139 | D30: Sacombank | E30: =SUM(F30:L30) -> 3464000 | J30: 3464000
A31: =IF(B31="","",COUNTA($B$20:B31)) -> 12 | B31: Ngô Phong Cường | C31: 060282990612 | D31: Sacombank | E31: =SUM(F31:L31) -> 2696000 | J31: 2696000
... A163: =IF(B163="","",COUNTA($B$20:B163)) -> 144 | B163: Lê Thị Hồng Vân | C163: 060286400178 | D163: Sacombank | E163: =SUM(F163:L163) -> 480000 | J163: 480000
A164: II | B164: Đối với lao động hợp đồng thực hiện công việc hỗ trợ, phục vụ theo Nghị định số 111/2022/NĐ-CP | N164: =+COUNTIF('[1]03'!B283:$B$345,'3716-327'!B164) -> #VALUE! | O164: =+SUMIF('[2]C8 (BS)'!$C:$C,B164,'[2]C8 (BS)'!$E:$E) -> #VALUE! | P164: =+SUMIF([2]C9!$C:$C,B164,[2]C9!$E:$E) -> #VALUE! | Q164: =+SUMIF([2]TD9!$B:$B,B164,[2]TD9!$E:$E) -> #VALUE!
A165: III | B165: Đối với hợp đồng thực hiện công việc chuyên môn, nghiệp vụ trong đơn vị sự nghiệp công lập theo Nghị định số 111/2022/NĐ-CP | N165: =+COUNTIF('[1]03'!B294:$B$345,'3716-327'!B165) -> #VALUE! | O165: =+SUMIF('[2]C8 (BS)'!$C:$C,B165,'[2]C8 (BS)'!$E:$E) -> #VALUE! | P165: =+SUMIF([2]C9!$C:$C,B165,[2]C9!$E:$E) -> #VALUE! | Q165: =+SUMIF([2]TD9!$B:$B,B165,[2]TD9!$E:$E) -> #VALUE!
B166: Tổng cộng | E166: =+E165+E164+E19 -> 499752000 | J166: =+J165+J164+J19 -> 499752000 | O166: =+SUM(O20:O165) -> #VALUE! | P166: =+SUM(P20:P165) -> #VALUE! | Q166: =+SUM(Q20:Q165) -> #VALUE! | R166: =+O166+P166+Q166 -> #VALUE!
A167: ="Số tiền bằng chữ: "&SUBSTITUTE([3]!VND(E166),",","")&" đồng." -> Số tiền bằng chữ: Bốn trăm chín mươi chín triệu bảy trăm năm mươi hai ngàn đồng. | O167: =+'[2]C8 (BS)'!$E$171 -> 83000000 | P167: =+[2]C9!$E$333 -> 340125000 | Q167: =+[2]TD9!$E$331 -> 2174976955
A168: II. Phần thuyết minh thay đổi so với tháng trước: | O168: =+O166-O167 -> #VALUE! | P168: =+P166-P167 -> #VALUE! | Q168: =+Q166-Q167 -> #VALUE!
A169: - Tăng 499.752.000 đồng, do 1 năm học chi 1 lần cho giảng viên. | O169: =+E166-'[1]08'!E18 -> -737344641
J170: Ngày tháng 10 năm 2025
A171: Người lập | E171: Kế toán trưởng | J171: Q. Hiệu trưởng
A176: Huỳnh Như Ý | E176: Nguyễn Kính | J176: Đinh Văn Đệ
A178: KHO BẠC NHÀ NƯỚC
J179: Ngày tháng năm 2025
...

Sheet 3716-345
A1: ỦY BAN NHÂN DÂN THÀNH PHỐ HỒ CHÍ MINH | I1: Mẫu số 09
A2: Trường Cao đẳng Lý Tự Trọng Thành phố Hồ Chí Minh | I2: Mã hiệu:…………. Số:…………..
A3: Mã đơn vị có quan hệ với ngân sách: 1058083
A5: BẢNG THANH TOÁN CHO ĐỐI TƯỢNG THỤ HƯỞNG
A6: (Kèm theo Ủy nhiệm chi số: 3716/347 ngày 07 tháng 11 năm 2025)
D7: Tài khoản dự toán o | F7: Tài khoản tiền gửi: T
A8: 1. Đơn vị sử dụng ngân sách: Trường Cao đẳng Lý Tự Trọng Thành phố Hồ Chí Minh
A9: 2. Mã đơn vị: 1058083
A10: 3.Tài khoản thanh toán của đơn vị mở tại ngân hàng: Tài khoản số 060266676878 tại Ngân hàng thương mại cổ phần Sài Gòn Thương Tín, Chi nhánh Phú Nhuận
A11: I. Nội dung đề nghị thanh toán: Thanh toán tiền phụ trội NH 2024-2025 cho GV Khoa Giáo dục đại cương, Ngoại ngữ
M12: Đơn vị: đồng
A13: STT | B13: Họ và tên | C13: Tài khoản Ngân hàng | E13: Tổng số | F13: Trong đó: | M13: Ghi chú
C14: Số Tài khoản người hưởng | D14: Tên Ngân hàng | F14: Lương và phụ cấp theo lương | G14: Tiền công lao đông theo hợp đồng | H14: Thu nhập tăng thêm | I14: Tiền thưởng | J14: Tiền phụ cấp và trợ cấp khác Tiền phụ trội NH 2024-2025 cho GV Khoa Giáo dục đại cương, Ngoại ngữ | K14: Tiền khoán | L14: Tiền học bổng
A17: 1 | B17: 2 | C17: 3 | E17: 4 | F17: 5 | G17: 6 | H17: 7 | I17: 8 | J17: 9 | K17: 10 | L17: 11 | M17: 12
B18: Tổng số | E18: =+E19+E55+E56 -> 1311641722 | J18: =+J19+J55+J56 -> 1311641722
A19: I | B19: Đối với Công chức, viên chức | E19: =+SUM(E20:E54) -> 1311641722 | J19: =+SUM(J20:J54) -> 1311641722 | O19: CƠM T08 | P19: CƠM T09 | Q19: THIDUA T09
A20: =IF(B20="","",COUNTA($B$20:B20)) -> 1 | B20: Hà Như Mai | C20: 060278311948 | D20: Sacombank | E20: =SUM(F20:L20) -> 33699670 | J20: 33699670
A21: =IF(B21="","",COUNTA($B$20:B21)) -> 2 | B21: Nguyễn Phương Hà | C21: 060278309730 | D21: Sacombank | E21: =SUM(F21:L21) -> 42461942 | J21: 42461942
A22: =IF(B22="","",COUNTA($B$20:B22)) -> 3 | B22: Nguyễn Thị Cẩm Thạch | C22: 060983403300 | D22: Sacombank | E22: =SUM(F22:L22) -> 965835 | J22: 965835
A23: =IF(B23="","",COUNTA($B$20:B23)) -> 4 | B23: Phạm Thị Thu Nga | C23: 060278695541 | D23: Sacombank | E23: =SUM(F23:L23) -> 64574200 | J23: 64574200
A24: =IF(B24="","",COUNTA($B$20:B24)) -> 5 | B24: Nguyễn Thị Thủy | C24: 060278713299 | D24: Sacombank | E24: =SUM(F24:L24) -> 28804948 | J24: 28804948
A25: =IF(B25="","",COUNTA($B$20:B25)) -> 6 | B25: Đặng Thị Kiến Trúc | C25: 060278312057 | D25: Sacombank | E25: =SUM(F25:L25) -> 3147607 | J25: 3147607
A26: =IF(B26="","",COUNTA($B$20:B26)) -> 7 | B26: Ngô Thanh Điền | C26: 060278335715 | D26: Sacombank | E26: =SUM(F26:L26) -> 55717156 | J26: 55717156
A27: =IF(B27="","",COUNTA($B$20:B27)) -> 8 | B27: Nguyễn Văn Hậu | C27: 060066980629 | D27: Sacombank | E27: =SUM(F27:L27) -> 20063820 | J27: 20063820
A28: =IF(B28="","",COUNTA($B$20:B28)) -> 9 | B28: Dương Đức Kiên | C28: 060278705156 | D28: Sacombank | E28: =SUM(F28:L28) -> 12893539 | J28: 12893539
A29: =IF(B29="","",COUNTA($B$20:B29)) -> 10 | B29: Giang Phi Hùng | C29: 060278313401 | D29: Sacombank | E29: =SUM(F29:L29) -> 64810400 | J29: 64810400
A30: =IF(B30="","",COUNTA($B$20:B30)) -> 11 | B30: Nguyễn Mạnh Phương | C30: 060310650121 | D30: Sacombank | E30: =SUM(F30:L30) -> 55871037 | J30: 55871037
A31: =IF(B31="","",COUNTA($B$20:B31)) -> 12 | B31: Nguyễn Phú Tân | C31: 060310649239 | D31: Sacombank | E31: =SUM(F31:L31) -> 36452604 | J31: 36452604
... A54: =IF(B54="","",COUNTA($B$20:B54)) -> 35 | B54: Vương Thanh Thủy | C54: 060278675273 | D54: Sacombank | E54: =SUM(F54:L54) -> 82174000 | J54: 82174000
A55: II | B55: Đối với lao động hợp đồng thực hiện công việc hỗ trợ, phục vụ theo Nghị định số 111/2022/NĐ-CP | N55: =+COUNTIF('[1]03'!B283:$B$345,'3716-345'!B55) -> #VALUE! | O55: =+SUMIF('[2]C8 (BS)'!$C:$C,B55,'[2]C8 (BS)'!$E:$E) -> #VALUE! | P55: =+SUMIF([2]C9!$C:$C,B55,[2]C9!$E:$E) -> #VALUE! | Q55: =+SUMIF([2]TD9!$B:$B,B55,[2]TD9!$E:$E) -> #VALUE!
A56: III | B56: Đối với hợp đồng thực hiện công việc chuyên môn, nghiệp vụ trong đơn vị sự nghiệp công lập theo Nghị định số 111/2022/NĐ-CP | N56: =+COUNTIF('[1]03'!B294:$B$345,'3716-345'!B56) -> #VALUE! | O56: =+SUMIF('[2]C8 (BS)'!$C:$C,B56,'[2]C8 (BS)'!$E:$E) -> #VALUE! | P56: =+SUMIF([2]C9!$C:$C,B56,[2]C9!$E:$E) -> #VALUE! | Q56: =+SUMIF([2]TD9!$B:$B,B56,[2]TD9!$E:$E) -> #VALUE!
B57: Tổng cộng | E57: =+E56+E55+E19 -> 1311641722 | J57: =+J56+J55+J19 -> 1311641722 | O57: =+SUM(O20:O56) -> #VALUE! | P57: =+SUM(P20:P56) -> #VALUE! | Q57: =+SUM(Q20:Q56) -> #VALUE! | R57: =+O57+P57+Q57 -> #VALUE!
A58: ="Số tiền bằng chữ: "&SUBSTITUTE([3]!VND(E57),",","")&" đồng." -> Số tiền bằng chữ: Một tỷ ba trăm mười một triệu sáu trăm bốn mươi mốt ngàn bảy trăm hai mươi hai đồng. | O58: =+'[2]C8 (BS)'!$E$171 -> 83000000 | P58: =+[2]C9!$E$333 -> 340125000 | Q58: =+[2]TD9!$E$331 -> 2174976955
A59: II. Phần thuyết minh thay đổi so với tháng trước: | O59: =+O57-O58 -> #VALUE! | P59: =+P57-P58 -> #VALUE! | Q59: =+Q57-Q58 -> #VALUE!
A60: - Tăng 1.311.641.722 đồng, do 1 năm học chi 1 lần cho giảng viên. | O60: =+E57-'[1]08'!E18 -> 74545081
J61: Ngày tháng 11 năm 2025
A62: Người lập | E62: Kế toán trưởng | J62: Q. Hiệu trưởng
A67: Huỳnh Như Ý | E67: Nguyễn Kính | J67: Đinh Văn Đệ
A69: KHO BẠC NHÀ NƯỚC
J70: Ngày tháng năm 2025
...

Sheet 3716-349
A1: ỦY BAN NHÂN DÂN THÀNH PHỐ HỒ CHÍ MINH | I1: Mẫu số 09
A2: Trường Cao đẳng Lý Tự Trọng Thành phố Hồ Chí Minh | I2: Mã hiệu:…………. Số:…………..
A3: Mã đơn vị có quan hệ với ngân sách: 1058083
A5: BẢNG THANH TOÁN CHO ĐỐI TƯỢNG THỤ HƯỞNG
A6: (Kèm theo Ủy nhiệm chi số: 3716/349 ngày 07 tháng 11 năm 2025)
D7: Tài khoản dự toán o | F7: Tài khoản tiền gửi: T
A8: 1. Đơn vị sử dụng ngân sách: Trường Cao đẳng Lý Tự Trọng Thành phố Hồ Chí Minh
A9: 2. Mã đơn vị: 1058083
A10: 3.Tài khoản thanh toán của đơn vị mở tại ngân hàng: Tài khoản số 060266676878 tại Ngân hàng thương mại cổ phần Sài Gòn Thương Tín, Chi nhánh Phú Nhuận
A11: I. Nội dung đề nghị thanh toán: Thanh toán tiền viết bài tham luận, bài báo trên tạp chí khoa học NH 2024-2025 cho GV Khoa Ngoại ngữ và Giáo dục đại cương
M12: Đơn vị: đồng
A13: STT | B13: Họ và tên | C13: Tài khoản Ngân hàng | E13: Tổng số | F13: Trong đó: | M13: Ghi chú
C14: Số Tài khoản người hưởng | D14: Tên Ngân hàng | F14: Lương và phụ cấp theo lương | G14: Tiền công lao đông theo hợp đồng | H14: Thu nhập tăng thêm | I14: Tiền thưởng | J14: Tiền phụ cấp và trợ cấp khác Tiền viết bài tham luận, bài báo trên tạp chí khoa học NH 2024-2025 cho GV Khoa Ngoại ngữ và Giáo dục đại cương | K14: Tiền khoán | L14: Tiền học bổng
A17: 1 | B17: 2 | C17: 3 | E17: 4 | F17: 5 | G17: 6 | H17: 7 | I17: 8 | J17: 9 | K17: 10 | L17: 11 | M17: 12
B18: Tổng số | E18: =+E19+E29+E30 -> 26385000 | J18: =+J19+J29+J30 -> 26385000
A19: I | B19: Đối với Công chức, viên chức | E19: =+SUM(E20:E28) -> 26385000 | J19: =+SUM(J20:J28) -> 26385000 | O19: CƠM T08 | P19: CƠM T09 | Q19: THIDUA T09
A20: =IF(B20="","",COUNTA($B$20:B20)) -> 1 | B20: Đoàn Thanh Long | C20: 0708538961 | D20: Sacombank | E20: =SUM(F20:L20) -> 1635000 | J20: 1635000
A21: =IF(B21="","",COUNTA($B$20:B21)) -> 2 | B21: Lâm Thị Phương Thảo | C21: 060278335642 | D21: Sacombank | E21: =SUM(F21:L21) -> 1200000 | J21: 1200000
A22: =IF(B22="","",COUNTA($B$20:B22)) -> 3 | B22: Phạm Thị Thu Nga | C22: 060278695541 | D22: Sacombank | E22: =SUM(F22:L22) -> 9450000 | J22: 9450000
A23: =IF(B23="","",COUNTA($B$20:B23)) -> 4 | B23: Nguyễn Văn Hậu | C23: 060066980629 | D23: Sacombank | E23: =SUM(F23:L23) -> 3000000 | J23: 3000000
A24: =IF(B24="","",COUNTA($B$20:B24)) -> 5 | B24: Hà Như Mai | C24: 060278311948 | D24: Sacombank | E24: =SUM(F24:L24) -> 450000 | J24: 450000
A25: =IF(B25="","",COUNTA($B$20:B25)) -> 6 | B25: Nguyễn Thị Thủy | C25: 060278713299 | D25: Sacombank | E25: =SUM(F25:L25) -> 3000000 | J25: 3000000
A26: =IF(B26="","",COUNTA($B$20:B26)) -> 7 | B26: Nguyễn Mạnh Phương | C26: 060310650121 | D26: Sacombank | E26: =SUM(F26:L26) -> 1200000 | J26: 1200000
A27: =IF(B27="","",COUNTA($B$20:B27)) -> 8 | B27: Đặng Thị Kiến Trúc | C27: 060278312057 | D27: Sacombank | E27: =SUM(F27:L27) -> 3000000 | J27: 3000000
A28: =IF(B28="","",COUNTA($B$20:B28)) -> 9 | B28: Nguyễn Thanh Tú | C28: 060278675771 | D28: Sacombank | E28: =SUM(F28:L28) -> 3450000 | J28: 3450000
A29: II | B29: Đối với lao động hợp đồng thực hiện công việc hỗ trợ, phục vụ theo Nghị định số 111/2022/NĐ-CP | N29: =+COUNTIF('[1]03'!B283:$B$345,'3716-349'!B29) -> #VALUE! | O29: =+SUMIF('[2]C8 (BS)'!$C:$C,B29,'[2]C8 (BS)'!$E:$E) -> #VALUE! | P29: =+SUMIF([2]C9!$C:$C,B29,[2]C9!$E:$E) -> #VALUE! | Q29: =+SUMIF([2]TD9!$B:$B,B29,[2]TD9!$E:$E) -> #VALUE!
A30: III | B30: Đối với hợp đồng thực hiện công việc chuyên môn, nghiệp vụ trong đơn vị sự nghiệp công lập theo Nghị định số 111/2022/NĐ-CP | N30: =+COUNTIF('[1]03'!B294:$B$345,'3716-349'!B30) -> #VALUE! | O30: =+SUMIF('[2]C8 (BS)'!$C:$C,B30,'[2]C8 (BS)'!$E:$E) -> #VALUE! | P30: =+SUMIF([2]C9!$C:$C,B30,[2]C9!$E:$E) -> #VALUE! | Q30: =+SUMIF([2]TD9!$B:$B,B30,[2]TD9!$E:$E) -> #VALUE!
B31: Tổng cộng | E31: =+E30+E29+E19 -> 26385000 | J31: =+J30+J29+J19 -> 26385000 | O31: =+SUM(O20:O30) -> #VALUE! | P31: =+SUM(P20:P30) -> #VALUE! | Q31: =+SUM(Q20:Q30) -> #VALUE! | R31: =+O31+P31+Q31 -> #VALUE!
A32: ="Số tiền bằng chữ: "&SUBSTITUTE([3]!VND(E31),",","")&" đồng." -> Số tiền bằng chữ: Hai mươi sáu triệu ba trăm tám mươi lăm ngàn đồng. | O32: =+'[2]C8 (BS)'!$E$171 -> 83000000 | P32: =+[2]C9!$E$333 -> 340125000 | Q32: =+[2]TD9!$E$331 -> 2174976955
A33: II. Phần thuyết minh thay đổi so với tháng trước: | O33: =+O31-O32 -> #VALUE! | P33: =+P31-P32 -> #VALUE! | Q33: =+Q31-Q32 -> #VALUE!
A34: - Tăng 26.385.000 đồng, do 1 năm học chi 1 lần cho giảng viên. | O34: =+E31-'[1]08'!E18 -> -1210711641
J35: Ngày tháng 11 năm 2025
A36: Người lập | E36: Kế toán trưởng | J36: Q. Hiệu trưởng
A41: Huỳnh Như Ý | E41: Nguyễn Kính | J41: Đinh Văn Đệ
A43: KHO BẠC NHÀ NƯỚC
J44: Ngày tháng năm 2025
A45: Chuyên viên kiểm soát chi/ giao dịch viên | J45: Giám đốc KBNN cấp tỉnh hoặc Lãnh đạo phòng
A46: (Ký, họ tên) | J46: được uỷ quyền/ Giám đốc KBNN quận, huyện
J47: (Ký, họ tên, đóng dấu)
A49: Chuyên viên kiểm soát chi/ giao dịch viên

Sheet 3716-350
A1: ỦY BAN NHÂN DÂN THÀNH PHỐ HỒ CHÍ MINH | I1: Mẫu số 09
A2: Trường Cao đẳng Lý Tự Trọng Thành phố Hồ Chí Minh | I2: Mã hiệu:…………. Số:…………..
A3: Mã đơn vị có quan hệ với ngân sách: 1058083
A5: BẢNG THANH TOÁN CHO ĐỐI TƯỢNG THỤ HƯỞNG
A6: (Kèm theo Ủy nhiệm chi số: 3716/350 ngày 07 tháng 11 năm 2025)
D7: Tài khoản dự toán o | F7: Tài khoản tiền gửi: T
A8: 1. Đơn vị sử dụng ngân sách: Trường Cao đẳng Lý Tự Trọng Thành phố Hồ Chí Minh
A9: 2. Mã đơn vị: 1058083
A10: 3.Tài khoản thanh toán của đơn vị mở tại ngân hàng: Tài khoản số 060266676878 tại Ngân hàng thương mại cổ phần Sài Gòn Thương Tín, Chi nhánh Phú Nhuận
A11: I. Nội dung đề nghị thanh toán: Thanh toán tiền công tác soạn đề, coi, chấm thi NH 2024-2025 cho GV Khoa Giáo dục đại cương, Ngoại ngữ
M12: Đơn vị: đồng
A13: STT | B13: Họ và tên | C13: Tài khoản Ngân hàng | E13: Tổng số | F13: Trong đó: | M13: Ghi chú
C14: Số Tài khoản người hưởng | D14: Tên Ngân hàng | F14: Lương và phụ cấp theo lương | G14: Tiền công lao đông theo hợp đồng | H14: Thu nhập tăng thêm | I14: Tiền thưởng | J14: Tiền phụ cấp và trợ cấp khác Tiền công tác soạn đề, coi, chấm thi NH 2024-2025 cho GV Khoa Giáo dục đại cương, Ngoại ngữ | K14: Tiền khoán | L14: Tiền học bổng
A17: 1 | B17: 2 | C17: 3 | E17: 4 | F17: 5 | G17: 6 | H17: 7 | I17: 8 | J17: 9 | K17: 10 | L17: 11 | M17: 12
B18: Tổng số | E18: =+E19+E50+E51 -> 108560000 | J18: =+J19+J50+J51 -> 108560000
A19: I | B19: Đối với Công chức, viên chức | E19: =+SUM(E20:E49) -> 108560000 | J19: =+SUM(J20:J49) -> 108560000 | O19: CƠM T08 | P19: CƠM T09 | Q19: THIDUA T09
A20: =IF(B20="","",COUNTA($B$20:B20)) -> 1 | B20: Nguyễn Thị Bảo Trân | C20: 060278311786 | D20: Sacombank | E20: =SUM(F20:L20) -> 1888000 | J20: 1888000
A21: =IF(B21="","",COUNTA($B$20:B21)) -> 2 | B21: Đoàn Thanh Long | C21: 0708538961 | D21: Sacombank | E21: =SUM(F21:L21) -> 4400000 | J21: 4400000
A22: =IF(B22="","",COUNTA($B$20:B22)) -> 3 | B22: Nguyễn Thị Thanh Tú | C22: 060311078375 | D22: Sacombank | E22: =SUM(F22:L22) -> 5312000 | J22: 5312000
A23: =IF(B23="","",COUNTA($B$20:B23)) -> 4 | B23: Võ Thị Hồng Lan | C23: 060278713272 | D23: Sacombank | E23: =SUM(F23:L23) -> 3464000 | J23: 3464000
A24: =IF(B24="","",COUNTA($B$20:B24)) -> 5 | B24: Nguyễn Huỳnh Khánh Vy | C24: 0935112914 | D24: Sacombank | E24: =SUM(F24:L24) -> 4048000 | J24: 4048000
A25: =IF(B25="","",COUNTA($B$20:B25)) -> 6 | B25: Lê Thu Hà | C25: 060311486686 | D25: Sacombank | E25: =SUM(F25:L25) -> 5056000 | J25: 5056000
A26: =IF(B26="","",COUNTA($B$20:B26)) -> 7 | B26: Lê Nguyễn Mỹ Trâm | C26: 060278315706 | D26: Sacombank | E26: =SUM(F26:L26) -> 11896000 | J26: 11896000
A27: =IF(B27="","",COUNTA($B$20:B27)) -> 8 | B27: Ôn Thị Ngọc Thảo | C27: 0934145656 | D27: Sacombank | E27: =SUM(F27:L27) -> 5048000 | J27: 5048000
A28: =IF(B28="","",COUNTA($B$20:B28)) -> 9 | B28: Nguyễn Thị Thu Hà | C28: 060278691740 | D28: Sacombank | E28: =SUM(F28:L28) -> 2432000 | J28: 2432000
A29: =IF(B29="","",COUNTA($B$20:B29)) -> 10 | B29: Lâm Thị Phương Thảo | C29: 060278335642 | D29: Sacombank | E29: =SUM(F29:L29) -> 4936000 | J29: 4936000
A30: =IF(B30="","",COUNTA($B$20:B30)) -> 11 | B30: Trần Thanh Trúc | C30: 060278002457 | D30: Sacombank | E30: =SUM(F30:L30) -> 4336000 | J30: 4336000
A31: =IF(B31="","",COUNTA($B$20:B31)) -> 12 | B31: Nguyễn Thiện Bình | C31: 060278308580 | D31: Sacombank | E31: =SUM(F31:L31) -> 2784000 | J31: 2784000
... A49: =IF(B49="","",COUNTA($B$20:B49)) -> 30 | B49: Nguyễn Thanh Tú | C49: 060278675771 | D49: Sacombank | E49: =SUM(F49:L49) -> 6216000 | J49: 6216000
A50: II | B50: Đối với lao động hợp đồng thực hiện công việc hỗ trợ, phục vụ theo Nghị định số 111/2022/NĐ-CP | N50: =+COUNTIF('[1]03'!B283:$B$345,'3716-350'!B50) -> #VALUE! | O50: =+SUMIF('[2]C8 (BS)'!$C:$C,B50,'[2]C8 (BS)'!$E:$E) -> #VALUE! | P50: =+SUMIF([2]C9!$C:$C,B50,[2]C9!$E:$E) -> #VALUE! | Q50: =+SUMIF([2]TD9!$B:$B,B50,[2]TD9!$E:$E) -> #VALUE!
A51: III | B51: Đối với hợp đồng thực hiện công việc chuyên môn, nghiệp vụ trong đơn vị sự nghiệp công lập theo Nghị định số 111/2022/NĐ-CP | N51: =+COUNTIF('[1]03'!B294:$B$345,'3716-350'!B51) -> #VALUE! | O51: =+SUMIF('[2]C8 (BS)'!$C:$C,B51,'[2]C8 (BS)'!$E:$E) -> #VALUE! | P51: =+SUMIF([2]C9!$C:$C,B51,[2]C9!$E:$E) -> #VALUE! | Q51: =+SUMIF([2]TD9!$B:$B,B51,[2]TD9!$E:$E) -> #VALUE!
B52: Tổng cộng | E52: =+E51+E50+E19 -> 108560000 | J52: =+J51+J50+J19 -> 108560000 | O52: =+SUM(O20:O51) -> #VALUE! | P52: =+SUM(P20:P51) -> #VALUE! | Q52: =+SUM(Q20:Q51) -> #VALUE! | R52: =+O52+P52+Q52 -> #VALUE!
A53: ="Số tiền bằng chữ: "&SUBSTITUTE([3]!VND(E52),",","")&" đồng." -> Số tiền bằng chữ: Một trăm lẻ tám triệu năm trăm sáu mươi ngàn đồng. | O53: =+'[2]C8 (BS)'!$E$171 -> 83000000 | P53: =+[2]C9!$E$333 -> 340125000 | Q53: =+[2]TD9!$E$331 -> 2174976955
A54: II. Phần thuyết minh thay đổi so với tháng trước: | O54: =+O52-O53 -> #VALUE! | P54: =+P52-P53 -> #VALUE! | Q54: =+Q52-Q53 -> #VALUE!
A55: - Tăng 108.560.000 đồng, do 1 học kỳ chi 1 lần cho giảng viên. | O55: =+E52-'[1]08'!E18 -> -1128536641
J56: Ngày tháng 11 năm 2025
A57: Người lập | E57: Kế toán trưởng | J57: Q. Hiệu trưởng
A62: Huỳnh Như Ý | E62: Nguyễn Kính | J62: Đinh Văn Đệ
A64: KHO BẠC NHÀ NƯỚC
J65: Ngày tháng năm 2025
...
