Workbook
Name _Hlk191996357: 'Mau 1'!#REF!

Sheet Mau 1
A1: TRƯỜNG CAO ĐẲNG LÝ TỰ TRỌNG THÀNH PHỐ HỒ CHÍ MINH PHÒNG THANH TRA GIÁO DỤC - CÔNG TÁC SINH VIÊN | D1: CỘNG HÒA XÃ HỘI CHỦ NGHĨA VIỆT NAM Độc lập - Tự do - Hạnh phúc
G2: Mẫu 1
A3: BẢNG TỔNG HỢP CÔNG VIỆC ĐỘT XUẤT ĐÃ THỰC HIỆN THÁNG 11/2025
A6: TT | B6: Nội dung công việc | C6: Số lượng người tham gia thực hiện | D6: Tên người tham gia thực hiện | E6: Thời gian thực hiện | F6: Kết quả thực hiện | G6: Ghi chú
A7: I. | B7: Công việc đột xuất của Trường
A8: Nhiệm vụ 1 | B8: Hỗ trợ, phục vụ, quản lý SV trong Lễ kỷ niệm ngày Nhà giáo Việt Nam 20/11 năm 2025 | C8: 10 | D8: Nhuậu, Trần Hà,, Phước, Việt Anh, Thắng, Chi, Hương, Thảo, Mỹ, K.Anh | E8: Ngày 20/11/2025 | F8: Tốt
A9: Nhiệm vụ 2 | B9: Hỗ trợ phục vụ công tác liên hoan tại thư viện sau lễ 20/11 | C9: 6 | D9: Hồ Chi, Thuý, Hà, Hậu, Phúc, Trang | E9: Ngày 20/11/2025 | F9: Tốt
A10: Nhiệm vụ 3 | B10: Phối hợp với phòng khám đa khoa quốc tế An phú khám sức khoẻ cho sinh viên toàn trường | C10: 15 | D10: Chiến,Uyên, Huyền, Lan Anh, Mỹ , Phước, Thắng, Phượng, Thuý, Đ.Hà P. Chi, Hoàng, Hương, Thảo, Dương | E10: Tư ngày 22, đến hết ngày 24/10/2025 | F10: Tốt | G10: 03 ngày
A11: Nhiệm vụ 4 | B11: Xử lý trường hợp ngộ độ bánh mì ngày 5/11/2025 với Trung tâm y tế phường Tân Sơn Nhất | C11: 3 | D11: C Uyên, Huyền, Lan Anh | E11: 6,7,8/11/2025 | F11: Tốt
A12: Nhiệm vụ 5 | B12: Tham gia đội văn nghệ biểu diễn trong Lễ kỷ niệm Ngày Nhà giáo Việt Nam 20/11 | C12: 2 | D12: Hoàng, Ngọc Phượng | E12: 20/11/2025 | F12: Tốt
A13: Nhiệm vụ 6 | B13: Hỗ trợ lên kế hoạch và đưa SV đi tham dự cuộc thi "Trường học không ma túy" tại cơ sở 2 - Đại học Văn Lang | C13: 2 | D13: Chiến, Kim Anh | E13: 12-13/11/2025 | F13: Tốt
A14: Nhiệm vụ 7 | B14: BC gấp: BC phối hợp thực hiện công tác BHYT HSSV tại trường gửi BHXH | C14: 2 | D14: Phượng, Lan Anh | E14: 21/10/2025 | F14: Tốt
A15: Nhiệm vụ 8 | B15: Tổng hợp, xây dựng văn kiện HN CBVC: Dự thảo Phát động phong trào thi đua NH 2025 - 2026; dự thảo Phương hướng nhiệm vụ NH 2025 - 2026; dự thảo kiểm điểm việc thực hiện các nghị quyết; dự thảo BC thực hiện Nghị quyết Hội nghị CB,CC,VC | C15: 1 | D15: Phượng | E15: 03-11/11/2025 | F15: Tốt | G15: Phối hợp cùng phòng TC-HC
A16: Nhiệm vụ 9 | B16: Xây dựng nội dung văn kiện, đề án nhân sự chuẩn bị ĐH Công đoàn theo hướng dẫn mới gửi về LĐLĐ TP trước khi tổ chức ĐH Công đoàn | C16: 1 | D16: Phượng | E16: 10-19/11/2025 | F16: Tốt | G16: Phối hợp cùng BCH CĐ
A17: Nhiệm vụ 10 | B17: Phối hợp lên kế hoạch và hỗ trợ giữ trật tự buổi tuyên truyền pháp luật (Luật lao động) cho SV năm cuối | C17: 1 | D17: Kim Anh | E17: 24, 28/10/2025 | F17: Tốt
A18: Nhiệm vụ 11 | B18: Làm việc với các nhà cung cấp và các khoa để phục vụ công tác mua bổ sung tài liệu giảng dạy và TLTK năm 2025. | C18: 1 | D18: Hồ Chi | E18: 26/10-15/11/2025 | F18: Tốt
A19: Nhiệm vụ 12 | B19: Góp ý, xây dựng KH hưởng ứng 35 năm Việt Nam ứng phó với HIV/AIDS, Tháng hành động quốc gia phòng, chống HIV/AIDS năm 2025/ KH triển khai QĐ ban hành Quy trình Quy trình phối hợp, hỗ trợ, can thiệp, xử lý đối với các trường hợp bạo lực gia đình trên địa bàn TP.HCM | C19: 3 | D19: Uyên, Phượng, Trần Hà | E19: 03-17/11/2025 | F19: Tốt
A20: II. | B20: Công việc đột xuất của đơn vị
A21: Nhiệm vụ 1 | B21: Hỗ trợ Đảng vụ Trường xác minh quá trình học tập tại trường của SV Lê Văn Mạnh, lớp 22C1-ĐĐT1, theo Công văn số 31-CV/CBBP-2025 ngày 15/10/2025 của Chi bộ Trường THPT Bình Phú - TPHCM về thẩm tra lý lịch của người xin vào Đảng (chị gái của SV) | C21: 1 | D21: Trần Hà | E21: 28/10/2025 | F21: Tốt
A22: Nhiệm vụ 2 | B22: Cung cấp số lượng SV các khóa thực học trong năm học 2025 - 2026 hỗ trợ P.QLĐT - HTQT thực hiện báo cáo; Cung cấp số liệu có liên quan về công tác SV hỗ trợ công tác soạn thảo văn kiện HN CB, CC, VC, NLĐ năm học 2025 - 2026 | C22: 2 | D22: Chiến, Trần Hà | E22: 29/10/2025; 06/11/2025 | F22: Tốt
A23: Nhiệm vụ 3 | B23: Kịp thời phát hiện và ngăn chặn SV lớp 25T4 - CNÔ1 và 25T4 - CNÔ3 đánh nhau, thu 2 dao thái lan. | C23: 2 | D23: Hoàng, Dương | E23: 06/11/2025 | F23: Tốt
A24: Nhiệm vụ 4 | B24: Xử lý SV Giang Thế Vinh 24T4-ĐCN1 trộm cắp phụ tùng xe trong bãi xe nhà trường. | C24: 1 | D24: Hoàng | E24: 22/10/2025 | F24: Tốt
A25: Nhiệm vụ 5 | B25: Hỗ trợ nhân viên Mai Thu Hương xử lý vụ việc 02 SV Phạm Quang Dũng, Nguyễn Đăng Quang lớp 25T4 - QDL1 đánh và sử dụng dao đe doạ sinh viên lớp 23T4 - QDL1( Thu giữ trong cặp SV Quang 1 tuốc - lơ -vít dài 20cm, 1 con dao nhỏ nhọn chuôi đỏ. | C25: 1 | D25: Việt Anh | E25: 27/10/2025 | F25: Tốt
A26: Nhiệm vụ 6 | B26: Hỗ trợ đưa SV Nguyễn Ngọc Thuận lớp 25C2-NNA1 học tiết 13-16 ngày 23/10/2025 bị đánh ngã xuống sàn nhà đi cấp cứu tại Bệnh viện Thống Nhất. | C26: 1 | D26: Thắng | E26: 45953 | F26: Tốt
A27: Nhiệm vụ 7 | B27: Phối hợp GV Huỳnh Quốc Dũng (CVHT) tới nhà SV Nguyễn Minh Thơ, lớp 25C1-TKĐ1 sau đó mời phụ huynh để làm việc về vấn đề SV có dấu hiệu bất ổn về tâm lý (có nhắn với bạn về ý định tự tử) | C27: 1 | D27: Dương | E27: 05/11/2025 | F27: Tốt
A28: Nhiệm vụ 8 | B28: Báo cáo nhanh các ca bệnh sốt xuất huyết tại trường với trạm y tế phường Tân Sơn Nhất | C28: 3 | D28: Uyên, Huyền, Lan Anh | E28: 45965 | F28: Tốt
A29: Nhiệm vụ 9 | B29: Xử trí, theo dõi các ca bệnh Thuỷ đậu không để lây lan thành dịch trong trường của lớp 25C2-TCD1: 1ca, lớp 24T4-CNÔ3: 4 ca | C29: 3 | D29: Uyên, Huyền, Lan Anh | E29: 01,02,09,09,11/11/2025 | F29: Tốt
A30: Nhiệm vụ 10 | B30: Ngày 25/10 Nguyễn Thanh Phương 24T4-NNA1 té cầu thang đau đầu chuyển BV Thống Nhất C Huyền); 28/20 Nguyễn Danh Đạt 24T4-CNÔ1 sốt 40 độ không hạ chuyển BV Thống Nhất (L Anh); 29/10 Đèo Trần Đăng Khoa 25T4-QTM đau ngực khi học giáo dục thể chất chuyển BV Thống Nhất (L Anh); 5/11 Nguyễn Nguyên Kha 24T4-CCK2 rối loạn tâm thần, lo âu hoang tưởng liên hệ giao gia đình đưa đi khám bệnh (L Anh); 6/11, 7/11 Thầy Giang Phi Hùng Viêm ruột cấp chuyển BV Thống Nhất ( C Uyên, Huyền), Nguyễn Công Hậu 24C1-LTM1 sốt không hạ chuyển BV Thống Nhất (C Uyên); 7/11 Bùi Thanh Phúc 25C2-TCĐ Thuỷ Đậu chuyển BV Tân Bình (L Anh); 11/11 Nguyễn Anh Kiệt 24T4-CNÔ3 nổi mụn nước toàn thân gửi BV Tân Bình (C Huyền). | C30: 3 | D30: Uyên, Huyền, Lan Anh | E30: 25,28,29/10/2025;'5,6,8,11/11/2025 | F30: Tốt
A31: Nhiệm vụ 11 | B31: Liên hệ sinh viên cung cấp CCCD gửi BHXH Thành phố Hồ Chí Minh điều chỉnh lại thông tin trên thẻ BHYT cho đúng với dữ liệu thông tin quốc gia | C31: 1 | D31: Huyền | E31: 4,8/11/2025 | F31: Tốt
A32: Nhiệm vụ 12 | B32: Hỗ trợ lớp học QP-AN nghe thời sự tại thư viện vào tối thứ 2 và thứ 4 hàng tuần | C32: 1 | D32: Trang | E32: Từ 05/11/2025 | F32: Tốt
A33: Nhiệm vụ 13 | B33: Xây dựng clip, viết bài về " Kỹ năng quản lý thời gian dành cho sinh viên" kết hợp việc quảng bá thư viện và truyền thông thương hiệu trường trên facebook thư viện và trang thư viện số: http://digitallib.lttc.edu.vn | C33: 2 | D33: Hồ Chi, Hậu | E33: 26/10-15/11 | F33: Tốt
A34: Nhiệm vụ 14 | B34: - Quản lý, vệ sinh, giữ gìn không gian thư viện Xanh - Sạch - Đẹp. - Giặt bao gối nằm sinh viên | C34: 6 | D34: Hồ Chi, Thuý, Hà, Hậu, Phúc, Trang | E34: 17/10 - 15/11 | F34: Tốt
A35: Nhiệm vụ 15 | B35: Hướng dẫn xe Phun thuốc diệt muỗi các khu vực trong trường phòng chống sốt xuất huyết theo thông báo của phường Tân Sơn Nhất | C35: 3 | D35: Uyên, Huyền, Lan Anh | E35: 04/11/2025 | F35: Tốt
A36: Nhiệm vụ 16 | B36: Hỗ trợ giữ trật tự SV Chương trình "Giao lưu văn hoá Anh - Nhật - Hàn" | C36: 1 | D36: Kim Anh | E36: 25/10/2025 | F36: Tốt
A37: Nhiệm vụ 17 | B37: Hỗ trợ quản lý SV trong buổi tiếp đón đoàn Phòng Thủ Công Nghệ Thành phố Erfurt - Cộng hòa Liên bang Đức | C37: 1 | D37: Dương | E37: 07/11/2025 | F37: Tốt
A38: Nhiệm vụ 18
A39: Lưu ý: - Không ghi nhận nhiệm vụ đột xuất đối với những công việc có tính thường xuyên thuộc chức năng của đơn vị mà cá nhân được phân công phụ trách hoặc những việc mà cá nhân đã nhận được chi trả chi phí, bồi dưỡng riêng. - Các đơn vị gửi file điện tử về phòng TC-HC-TH (Cô Trần Thị Ánh Phượng) qua hệ thống điện tử E-Office (không gửi văn bản giấy)./.
E40: Thành phố Hồ Chí Minh, ngày 21 tháng 11 năm 2025
E41: TRƯỞNG ĐƠN VỊ
E45: Nguyễn Văn Chiến

Sheet Mau 2
B1: TRƯỜNG CAO ĐẲNG LÝ TỰ TRỌNG | Z1: CỘNG HÒA XÃ HỘI CHỦ NGHĨA VIỆT NAM Độc lập - Tự do - Hạnh phúc
B2: THÀNH PHỐ HỒ CHÍ MINH
B3: PHÒNG THANH TRA GIÁO DỤC - CÔNG TÁC SINH VIÊN
AT4: Mẫu 2
A5: THỐNG KÊ CHI TIẾT KHỐI LƯỢNG CÔNG VIỆC THỰC HIỆN THÁNG 11/2025
A7: TT | B7: Tên nội dung công việc | D7: Công việc chung của trường | AA7: Công việc chung của đơn vị | AT7: Ghi chú
B8: Họ và tên | C8: Mã E-office | D8: Nhiệm vụ 1 | E8: Nhiệm vụ 2 | F8: Nhiệm vụ 3 | G8: Nhiệm vụ 4 | H8: Nhiệm vụ 5 | I8: Nhiệm vụ 6 | J8: Nhiệm vụ 7 | K8: Nhiệm vụ 8 | L8: Nhiệm vụ 9 | M8: Nhiệm vụ 10 | N8: Nhiệm vụ 11 | O8: Nhiệm vụ 12 | P8: Nhiệm vụ 13 | Q8: Nhiệm vụ 9 | R8: Nhiệm vụ 8 | S8: Nhiệm vụ 9 | T8: Nhiệm vụ 10 | U8: Nhiệm vụ 11 | V8: Nhiệm vụ 12 | W8: Nhiệm vụ 13 | X8: Nhiệm vụ 14 | Y8: Nhiệm vụ 15 | Z8: Tổng cộng | AA8: Nhiệm vụ 1 | AB8: Nhiệm vụ 2 | AC8: Nhiệm vụ 3 | AD8: Nhiệm vụ 4 | AE8: Nhiệm vụ 5 | AF8: Nhiệm vụ 6 | AG8: Nhiệm vụ 7 | AH8: Nhiệm vụ 8 | AI8: Nhiệm vụ 9 | AJ8: Nhiệm vụ 10 | AK8: Nhiệm vụ 11 | AL8: Nhiệm vụ 12 | AM8: Nhiệm vụ 13 | AN8: Nhiệm vụ 14 | AO8: Nhiệm vụ 15 | AP8: Nhiệm vụ 16 | AQ8: Nhiệm vụ 17 | AR8: Nhiệm vụ 18 | AS8: Tổng cộng
C9: -1 | D9: -2 | E9: -3 | F9: -4 | G9: -5 | H9: -6 | I9: -7 | J9: -8 | K9: -9 | L9: -10 | M9: -10 | N9: -11 | O9: -12 | P9: -13 | Q9: -10 | R9: -9 | S9: -10 | T9: -11 | U9: -12 | V9: -13 | W9: -14 | X9: -15 | Y9: -16 | Z9: -14 | AA9: -19 | AB9: -20 | AC9: -21 | AD9: -22 | AE9: -23 | AF9: -24 | AG9: -25 | AH9: -26 | AI9: -27 | AJ9: -28 | AK9: -29 | AL9: -30 | AM9: -31 | AN9: -32 | AO9: -33 | AP9: -34 | AQ9: -35 | AR9: -36 | AS9: -36
A10: I. Cán bộ quản lý (Trưởng, Phó đơn vị)
A11: 01 | B11: Nguyễn Văn Chiến | C11: 01007008 | F11: X | I11: X | Z11: =COUNTIF(D11:P11,"X") -> 2 | AB11: X | AI11: X | AS11: =COUNTIF(AA11:AR11,"X") -> 2
A12: 02 | B12: Nguyễn Thị Nhuận | C12: 01022003 | D12: X | Z12: =COUNTIF(D12:P12,"X") -> 1 | AS12: =COUNTIF(AA12:AR12,"X") -> 0
A13: 03 | B13: Trang Xuân Uyên | C13: 01021001 | F13: X | G13: X | O13: X | Z13: =COUNTIF(D13:P13,"X") -> 3 | AH13: X | AI13: X | AJ13: X | AO13: X | AS13: =COUNTIF(AA13:AR13,"X") -> 4
A14: 04 | B14: Hồ Ngọc Chi | C14: 01015042 | E14: X | N14: X | Z14: =COUNTIF(D14:P14,"X") -> 2 | AM14: X | AN14: X | AS14: =COUNTIF(AA14:AR14,"X") -> 2
A15: II. Giảng viên/nhân viên
A16: 01 | B16: Nguyễn Thị Kim Anh | C16: 01009018 | D16: X | I16: X | M16: X | Z16: =COUNTIF(D16:P16,"X") -> 3 | AP16: X | AS16: =COUNTIF(AA16:AR16,"X") -> 1
A17: 02 | B17: Phạm Thị Lê Chi | C17: 01009010 | D17: X | F17: X | Z17: =COUNTIF(D17:P17,"X") -> 2 | AS17: =COUNTIF(AA17:AR17,"X") -> 0
A18: 03 | B18: Trần Thị Thu Hà | C18: 01002004 | D18: X | O18: X | Z18: =COUNTIF(D18:P18,"X") -> 2 | AA18: X | AB18: X | AS18: =COUNTIF(AA18:AR18,"X") -> 2
A19: 04 | B19: Nguyễn Tất Thắng | C19: 01009008 | D19: X | F19: X | Z19: =COUNTIF(D19:P19,"X") -> 2 | AF19: X | AS19: =COUNTIF(AA19:AR19,"X") -> 1
A20: 05 | B20: Mai Thu Hương | C20: 01007004 | D20: X | F20: X | Z20: =COUNTIF(D20:P20,"X") -> 2 | AS20: =COUNTIF(AA20:AR20,"X") -> 0
A21: 06 | B21: Nguyễn Thùy Dương | C21: 01014012 | F21: X | Z21: =COUNTIF(D21:P21,"X") -> 1 | AC21: X | AG21: X | AQ21: X | AS21: =COUNTIF(AA21:AR21,"X") -> 3
A22: 07 | B22: Phan Thị Ngọc Phượng | C22: 01002018 | F22: X | H22: X | K22: X | L22: X | O22: X | Z22: =COUNTIF(D22:P22,"X") -> 5 | AS22: =COUNTIF(AA22:AR22,"X") -> 0
A23: 08 | B23: Phạm Huy Hoàng | C23: 01009011 | F23: X | H23: X | Z23: =COUNTIF(D23:P23,"X") -> 2 | AC23: X | AD23: X | AS23: =COUNTIF(AA23:AR23,"X") -> 2
A24: 09 | B24: Trần Anh Mỹ | C24: 01009028 | D24: X | F24: X | Z24: =COUNTIF(D24:P24,"X") -> 2 | AS24: =COUNTIF(AA24:AR24,"X") -> 0
A25: 10 | B25: Bùi Đức Phước | C25: 01009026 | D25: X | F25: X | Z25: =COUNTIF(D25:P25,"X") -> 2 | AS25: =COUNTIF(AA25:AR25,"X") -> 0
A26: 11 | B26: Nguyễn Thị Thảo | C26: 01007003 | D26: X | F26: X | Z26: =COUNTIF(D26:P26,"X") -> 2 | AS26: =COUNTIF(AA26:AR26,"X") -> 0
A27: 12 | B27: Trần Việt Anh | C27: 01002038 | D27: X | Z27: =COUNTIF(D27:P27,"X") -> 1 | AE27: X | AS27: =COUNTIF(AA27:AR27,"X") -> 1
A28: 13 | B28: Phạm Huỳnh Thanh Ngân | C28: 01025013 | Z28: =COUNTIF(D28:P28,"X") -> 0 | AS28: =COUNTIF(AA28:AR28,"X") -> 0
A29: 14 | B29: Đặng Thu Hà | C29: 01018002 | E29: X | F29: X | Z29: =COUNTIF(D29:P29,"X") -> 2 | AN29: X | AS29: =COUNTIF(AA29:AR29,"X") -> 1
A30: 15 | B30: Trần Thị Diễm Thúy | C30: 01018005 | E30: X | F30: X | Z30: =COUNTIF(D30:P30,"X") -> 2 | AN30: X | AS30: =COUNTIF(AA30:AR30,"X") -> 1
A31: 16 | B31: Nguyễn Thị Trang | C31: 01018008 | E31: X | Z31: =COUNTIF(D31:P31,"X") -> 1 | AL31: X | AN31: X | AS31: =COUNTIF(AA31:AR31,"X") -> 2
A32: 17 | B32: Hà Thị Hậu | C32: 01018007 | E32: X | Z32: =COUNTIF(D32:P32,"X") -> 1 | AM32: X | AN32: X | AS32: =COUNTIF(AA32:AR32,"X") -> 2
A33: 18 | B33: Lư Diễm Phúc | C33: 01018009 | E33: X | Z33: =COUNTIF(D33:P33,"X") -> 1 | AN33: X | AS33: =COUNTIF(AA33:AR33,"X") -> 1
A34: 19 | B34: Bùi Thị Lan Anh | C34: 01021003 | F34: X | G34: X | Z34: =COUNTIF(D34:P34,"X") -> 2 | AH34: X | AI34: X | AJ34: X | AO34: X | AS34: =COUNTIF(AA34:AR34,"X") -> 4
A35: 20 | B35: Lê Thị Huyền | C35: 01021004 | F35: X | G35: X | Z35: =COUNTIF(D35:P35,"X") -> 2 | AH35: X | AI35: X | AJ35: X | AK35: X | AO35: X | AS35: =COUNTIF(AA35:AR35,"X") -> 5
A37: Lưu ý: Các đơn vị gửi file điện tử về phòng TC-HC (Cô Trần Thị Ánh Phượng) qua hệ thống điện tử E-Office (không gửi văn bản giấy).
AA38: TP. Hồ Chí minh ngày 21 tháng 11 năm 2025
AA39: TRƯỞNG ĐƠN VỊ
AA43: Nguyễn Văn Chiến

Sheet Mau 3 
A1: TRƯỜNG CAO ĐẲNG LÝ TỰ TRỌNG | F1: CỘNG HÒA XÃ HỘI CHỦ NGHĨA VIỆT NAM
A2: THÀNH PHỐ HỒ CHÍ MINH | F2: Độc lập - Tự do - Hạnh phúc
A3: PHÒNG THANH TRA GIÁO DỤC - CÔNG TÁC SINH VIÊN
J4: Mẫu 3
A5: DANH SÁCH DỰ KIẾN XẾP LOẠI THI ĐUA THÁNG 11/2025
A7: TT | B7: Họ tên | C7: Mã E-Office | D7: Đơn vị xếp loại thi đua theo quy định | H7: Số ngày nghỉ/ tiết nghỉ | I7: Đơn vị đề nghị mức xếp loại thi đua A1, A2 và sắp xếp danh sách cá nhân theo thứ tự ưu tiên
D8: Xếp loại | E8: Lý do | F8: Số lượng công việc chung của trường | G8: Số lượng công việc chung của đơn vị | I8: Xếp loại | J8: Lý do đề nghị
A9: -1 | B9: -2 | C9: -3 | D9: -4 | E9: -5 | F9: -6 | G9: -7 | H9: -8 | I9: -9 | J9: -10
A10: I. Cán bộ quản lý | D10: 4 | F10: ='Mau 2'!Z10 -> 0 | G10: ='Mau 2'!AS10 -> 0
A11: 01 | B11: Nguyễn Văn Chiến | C11: 01007008 | D11: A2 | F11: ='Mau 2'!Z11 -> 2 | G11: ='Mau 2'!AS11 -> 2
A12: 02 | B12: Nguyễn Thị Nhuận | C12: 01022003 | D12: A3 | F12: ='Mau 2'!Z12 -> 1 | G12: ='Mau 2'!AS12 -> 0 | I12: A2 | J12: Hoàn thành tốt nhiệm vụ nhà trường và phòng giao
A13: 03 | B13: Trang Thị Xuân Uyên | C13: 01021001 | D13: A1 | F13: ='Mau 2'!Z13 -> 3 | G13: ='Mau 2'!AS13 -> 4
A14: 04 | B14: Hồ Ngọc Chi | C14: 01015042 | D14: A2 | F14: ='Mau 2'!Z14 -> 2 | G14: ='Mau 2'!AS14 -> 2
A15: II. Giảng viên/nhân viên | D15: 20 | F15: ='Mau 2'!Z15 -> 0 | G15: ='Mau 2'!AS15 -> 0
A16: 01 | B16: Nguyễn Thị Kim Anh | C16: 01009018 | D16: A1 | F16: ='Mau 2'!Z16 -> 3 | G16: ='Mau 2'!AS16 -> 1
A17: 02 | B17: Phạm Thị Lê Chi | C17: 01009010 | D17: A3 | F17: ='Mau 2'!Z17 -> 2 | G17: ='Mau 2'!AS17 -> 0
A18: 03 | B18: Trần Thị Thu Hà | C18: 01002004 | D18: A2 | F18: ='Mau 2'!Z18 -> 2 | G18: ='Mau 2'!AS18 -> 2
A19: 04 | B19: Nguyễn Tất Thắng | C19: 01009008 | D19: A3 | F19: ='Mau 2'!Z19 -> 2 | G19: ='Mau 2'!AS19 -> 1
A20: 05 | B20: Mai Thu Hương | C20: 01007004 | D20: A3 | F20: ='Mau 2'!Z20 -> 2 | G20: ='Mau 2'!AS20 -> 0
A21: 06 | B21: Nguyễn Thùy Dương | C21: 01014012 | D21: A3 | F21: 1 | G21: ='Mau 2'!AS21 -> 3 | H21: Nghỉ ngày 21/11/2025 | J21: Nhắc nhở
A22: 07 | B22: Phan Thị Ngọc Phượng | C22: 01002018 | D22: A1 | F22: ='Mau 2'!Z22 -> 5 | G22: ='Mau 2'!AS22 -> 0
A23: 08 | B23: Phạm Huy Hoàng | C23: 01009011 | D23: A2 | F23: ='Mau 2'!Z23 -> 2 | G23: ='Mau 2'!AS23 -> 2
A24: 09 | B24: Trần Anh Mỹ | C24: 01009028 | D24: A3 | F24: ='Mau 2'!Z24 -> 2 | G24: ='Mau 2'!AS24 -> 0 | H24: Nghỉ ngày 8/11/2025
A25: 10 | B25: Bùi Đức Phước | C25: 01009026 | D25: A3 | F25: ='Mau 2'!Z25 -> 2 | G25: ='Mau 2'!AS25 -> 0
A26: 11 | B26: Nguyễn Thị Thảo | C26: 01007003 | D26: A3 | F26: ='Mau 2'!Z26 -> 2 | G26: ='Mau 2'!AS26 -> 0
A27: 12 | B27: Trần Việt Anh | C27: 01002038 | D27: A3 | F27: ='Mau 2'!Z27 -> 1 | G27: ='Mau 2'!AS27 -> 1
A28: 13 | B28: Phạm Huỳnh Kim Ngân | C28: 1025013 | D28: ADN | F28: ='Mau 2'!Z28 -> 0 | G28: ='Mau 2'!AS28 -> 0 | J28: Nghỉ thai đến tháng 12/2025
A29: 14 | B29: Đặng Thu Hà | C29: 01018002 | D29: A3 | F29: ='Mau 2'!Z29 -> 2 | G29: ='Mau 2'!AS29 -> 1
A30: 15 | B30: Trần Thị Diễm Thúy | C30: 01018005 | D30: A3 | F30: ='Mau 2'!Z30 -> 2 | G30: ='Mau 2'!AS30 -> 1
A31: 16 | B31: Nguyễn Thị Trang | C31: 01018008 | D31: A3 | F31: ='Mau 2'!Z31 -> 1 | G31: ='Mau 2'!AS31 -> 2 | H31: Nghỉ ngày 1/11/2025
A32: 17 | B32: Hà Thị Hậu | C32: 01018007 | D32: A3 | F32: ='Mau 2'!Z32 -> 1 | G32: ='Mau 2'!AS32 -> 2 | H32: Nghỉ ngày 25/10/2025
A33: 18 | B33: Lư Diễm Phúc | C33: 01018009 | D33: A3 | F33: ='Mau 2'!Z33 -> 1 | G33: ='Mau 2'!AS33 -> 1
A34: 19 | B34: Bùi Thị Lan Anh | C34: 01021003 | D34: A1 | F34: ='Mau 2'!Z34 -> 2 | G34: ='Mau 2'!AS34 -> 4
A35: 20 | B35: Lê Thị Huyền | C35: 01021004 | D35: A1 | F35: ='Mau 2'!Z35 -> 2 | G35: ='Mau 2'!AS35 -> 5
B37: Kết quả xếp loại | D37: Cán bộ quản lý | F37: Giảng viên/Nhân viên
D38: Số lượng | E38: Tỷ lệ (%) | F38: Số lượng | G38: Tỷ lệ (%)
B39: Xếp loại A1 | D39: =COUNTIF($D$11:$D$14,"A1") -> 1 | E39: =ROUND(D39/$D$10,2) -> 0.25 | F39: =COUNTIF($D$16:$D$35,"A1") -> 4 | G39: =ROUND(F39/$D$15,2) -> 0.2
B40: Xếp loại A2 | D40: =COUNTIF($D$11:$D$14,"A2") -> 2 | E40: =ROUND(D40/$D$10,2) -> 0.5 | F40: =COUNTIF($D$16:$D$35,"A2") -> 2 | G40: =ROUND(F40/$D$15,2) -> 0.1
B41: Xếp loại A3 | D41: =COUNTIF($D$11:$D$14,"A3") -> 1 | E41: =ROUND(D41/$D$10,2) -> 0.25 | F41: =COUNTIF($D$16:$D$35,"A3") -> 13 | G41: =ROUND(F41/$D$15,2) -> 0.65
B42: Xếp loại A4 | D42: =COUNTIF($D$11:$D$14,"A4") -> 0 | E42: =ROUND(D42/$D$10,2) -> 0 | F42: =COUNTIF($D$16:$D$35,"A4") -> 0 | G42: =ROUND(F42/$D$15,2) -> 0
...
