Workbook

Sheet Mau 1
A1: TRƯỜNG CAO ĐẲNG LÝ TỰ TRỌNG THÀNH PHỐ HỒ CHÍ MINH PHÒNG THANH TRA GIÁO DỤC - CÔNG TÁC SINH VIÊN | F1: CỘNG HÒA XÃ HỘI CHỦ NGHĨA VIỆT NAM Độc lập - Tự do - Hạnh phúc
G2: Mẫu 1
A3: BẢNG TỔNG HỢP CÔNG VIỆC ĐỘT XUẤT ĐÃ THỰC HIỆN THÁNG 4/2026
A6: TT | B6: Nội dung công việc | C6: Số lượng người tham gia thực hiện | D6: Tên người tham gia thực hiện | E6: Thời gian thực hiện | F6: Kết quả thực hiện | G6: Ghi chú
A7: I. | B7: Công việc đột xuất của Trường
A8: Nhiệm vụ 1 | B8: Tham gia công tác chuẩn bị tổ chức buổi họp phụ huynh khối T4 học kỳ 2 năm học 2025 -2026 | E8: 20/03/2026 - 20/04/2026 | G8: Lớp 24T4-TKĐ2, CVHT xin chuyển lịch họp PH ngày 19/04/2026 do ngày 12/04/2026 trùng lịch thi cuối kỳ VB2
A9: Nhiệm vụ 2
A10: Nhiệm vụ 3
A11: Nhiệm vụ 4
A12: Nhiệm vụ 5
A13: Nhiệm vụ 6
A14: II. | B14: Công việc đột xuất của đơn vị
A15: Nhiệm vụ 1 | B15: Thực hiện gấp: cung cấp minh chứng thuyết minh chi tiết kết quả thực hiện công tác phòng chống tham nhũng năm 2026 | E15: 30/03/2026 và 03/04/2026
A16: Nhiệm vụ 2 | B16: Tham gia báo cáo kết quả công tác tuyên truyền về an ninh, trật tự cho sinh viên theo yêu cầu của phòng An ninh chính trị nội bộ - Công an Thành phố Hồ Chí Minh | E16: 06/04/2026
A17: Nhiệm vụ 3
A19: Lưu ý: - Không ghi nhận nhiệm vụ đột xuất đối với những công việc có tính thường xuyên thuộc chức năng của đơn vị mà cá nhân được phân công phụ trách hoặc những việc mà cá nhân đã nhận được chi trả chi phí, bồi dưỡng riêng. - Các đơn vị gửi file điện tử về phòng TC-HC-TH (Cô Trần Thị Ánh Phượng) qua hệ thống điện tử E-Office (không gửi văn bản giấy)./.
E20: Thành phố Hồ Chí Minh, ngày 20 tháng 4 năm 2026
E21: TRƯỞNG ĐƠN VỊ

Sheet Mau 2
B1: TRƯỜNG CAO ĐẲNG LÝ TỰ TRỌNG | T1: CỘNG HÒA XÃ HỘI CHỦ NGHĨA VIỆT NAM Độc lập - Tự do - Hạnh phúc
B2: THÀNH PHỐ HỒ CHÍ MINH
B3: PHÒNG THANH TRA GIÁO DỤC - CÔNG TÁC SINH VIÊN
AI4: Mẫu 2
A5: THỐNG KÊ CHI TIẾT KHỐI LƯỢNG CÔNG VIỆC THỰC HIỆN THÁNG 4/2026
A7: TT | B7: Tên nội dung công việc | D7: Công việc chung của trường | U7: Công việc chung của đơn vị | AI7: Ghi chú
B8: Họ và tên | C8: Mã E-office | D8: Nhiệm vụ 1 | E8: Nhiệm vụ 2 | F8: Nhiệm vụ 3 | G8: Nhiệm vụ 4 | H8: Nhiệm vụ 5 | I8: Nhiệm vụ 6 | J8: Nhiệm vụ 7 | K8: Nhiệm vụ 9 | L8: Nhiệm vụ 8 | M8: Nhiệm vụ 9 | N8: Nhiệm vụ 10 | O8: Nhiệm vụ 11 | P8: Nhiệm vụ 12 | Q8: Nhiệm vụ 13 | R8: Nhiệm vụ 14 | S8: Nhiệm vụ 15 | T8: Tổng cộng | U8: Nhiệm vụ 1 | V8: Nhiệm vụ 2 | W8: Nhiệm vụ 3 | X8: Nhiệm vụ 4 | Y8: Nhiệm vụ 5 | Z8: Nhiệm vụ 6 | AA8: Nhiệm vụ 7 | AB8: Nhiệm vụ 8 | AC8: Nhiệm vụ 7 | AD8: Nhiệm vụ 8 | AE8: Nhiệm vụ 9 | AF8: Nhiệm vụ 10 | AG8: Nhiệm vụ 11 | AH8: Tổng cộng
D9: =VLOOKUP(D8,'Mau 1'!$A$8:$B$13,2) -> Tham gia công tác chuẩn bị tổ chức buổi họp phụ huynh khối T4 học kỳ 2 năm học 2025 -2026 | E9: =VLOOKUP(E8,'Mau 1'!$A$8:$B$13,2) -> 0 | F9: =VLOOKUP(F8,'Mau 1'!$A$8:$B$13,2) -> 0 | G9: =VLOOKUP(G8,'Mau 1'!$A$8:$B$13,2) -> 0 | H9: =VLOOKUP(H8,'Mau 1'!$A$8:$B$13,2) -> 0 | I9: =VLOOKUP(I8,'Mau 1'!$A$8:$B$13,2) -> 0 | J9: =VLOOKUP(J8,'Mau 1'!$A$8:$B$13,2) -> 0 | U9: =VLOOKUP(U8,'Mau 1'!$A$15:$B$17,2) -> Thực hiện gấp: cung cấp minh chứng thuyết minh chi tiết kết quả thực hiện công tác phòng chống tham nhũng năm 2026 | V9: =VLOOKUP(V8,'Mau 1'!$A$15:$B$17,2) -> Tham gia báo cáo kết quả công tác tuyên truyền về an ninh, trật tự cho sinh viên theo yêu cầu của phòng An ninh chính trị nội bộ - Công an Thành phố Hồ Chí Minh | W9: =VLOOKUP(W8,'Mau 1'!$A$15:$B$17,2) -> 0 | X9: =VLOOKUP(X8,'Mau 1'!$A$15:$B$17,2) -> 0 | Y9: =VLOOKUP(Y8,'Mau 1'!$A$15:$B$17,2) -> 0 | Z9: =VLOOKUP(Z8,'Mau 1'!$A$15:$B$17,2) -> 0 | AA9: =VLOOKUP(AA8,'Mau 1'!$A$15:$B$17,2) -> 0 | AB9: =VLOOKUP(AB8,'Mau 1'!$A$15:$B$17,2) -> 0
C10: -1 | D10: -2 | E10: -3 | F10: -4 | G10: -6 | H10: -7 | I10: -8 | J10: -9 | K10: -10 | L10: -9 | M10: -10 | N10: -11 | O10: -12 | P10: -13 | Q10: -14 | R10: -15 | S10: -16 | T10: -10 | U10: -19 | V10: -20 | W10: -21 | X10: -22 | Y10: -23 | Z10: -24 | AA10: -25 | AB10: -26 | AC10: -23 | AD10: -24 | AE10: -25 | AF10: -26 | AG10: -27 | AH10: -27
A11: II. Giảng viên/nhân viên | AH11: =COUNTIF(U11:AG11,"X") -> 0
A12: 01 | B12: Trần Thị Thu Hà | C12: 01002004 | D12: =IF(VLOOKUP(D8,'Mau 1'!$A$8:$B$13,2)<>"","X","") -> X | E12: =IF(VLOOKUP(E8,'Mau 1'!$A$8:$B$13,2)<>"","X","") | F12: =IF(VLOOKUP(F8,'Mau 1'!$A$8:$B$13,2)<>"","X","") | H12: =IF(VLOOKUP(H8,'Mau 1'!$A$8:$B$13,2)<>"","X","") | I12: =IF(VLOOKUP(I8,'Mau 1'!$A$8:$B$13,2)<>"","X","") | J12: =IF(VLOOKUP(J8,'Mau 1'!$A$8:$B$13,2)<>"","X","") | T12: =COUNTIF(D12:J12,"X") -> 1 | U12: =IF(VLOOKUP(U8,'Mau 1'!$A$15:$B$17,2)<>"","X","") -> X | V12: =IF(VLOOKUP(V8,'Mau 1'!$A$15:$B$17,2)<>"","X","") -> X | W12: =IF(VLOOKUP(W8,'Mau 1'!$A$15:$B$17,2)<>"","X","") | X12: =IF(VLOOKUP(X8,'Mau 1'!$A$15:$B$17,2)<>"","X","") | Y12: =IF(VLOOKUP(Y8,'Mau 1'!$A$15:$B$17,2)<>"","X","") | Z12: =IF(VLOOKUP(Z8,'Mau 1'!$A$15:$B$17,2)<>"","X","") | AA12: =IF(VLOOKUP(AA8,'Mau 1'!$A$15:$B$17,2)<>"","X","") | AB12: =IF(VLOOKUP(AB8,'Mau 1'!$A$15:$B$17,2)<>"","X","") | AC12: =IF(VLOOKUP(AC8,'Mau 1'!I15:J17,2)<>"","X","") -> #N/A | AD12: =IF(VLOOKUP(AD8,'Mau 1'!J15:K17,2)<>"","X","") -> #N/A | AE12: =IF(VLOOKUP(AE8,'Mau 1'!K15:L17,2)<>"","X","") -> #N/A | AF12: =IF(VLOOKUP(AF8,'Mau 1'!L15:M17,2)<>"","X","") -> #N/A | AG12: =IF(VLOOKUP(AG8,'Mau 1'!M15:N17,2)<>"","X","") -> #N/A | AH12: =COUNTIF(U12:AB12,"X") -> 2
A14: Lưu ý: Các đơn vị gửi file điện tử về phòng TC-HC-TH (Cô Trần Thị Ánh Phượng) qua hệ thống điện tử E-Office (không gửi văn bản giấy).
U15: Thành phố Hồ Chí Minh, ngày 20 tháng 4 năm 2026
U16: TRƯỞNG ĐƠN VỊ
U20: Nguyễn Văn Chiến

Sheet Mau 3 
A1: TRƯỜNG CAO ĐẲNG LÝ TỰ TRỌNG | F1: CỘNG HÒA XÃ HỘI CHỦ NGHĨA VIỆT NAM
A2: THÀNH PHỐ HỒ CHÍ MINH | F2: Độc lập - Tự do - Hạnh phúc
A3: PHÒNG THANH TRA GIÁO DỤC - CÔNG TÁC SINH VIÊN
J4: Mẫu 3
A5: DANH SÁCH DỰ KIẾN XẾP LOẠI THI ĐUA THÁNG 4/2026
A7: TT | B7: Họ tên | C7: Mã E-Office | D7: Đơn vị xếp loại thi đua theo quy định | H7: Số ngày nghỉ/ tiết nghỉ | I7: Đơn vị đề nghị mức xếp loại thi đua A1, A2 và sắp xếp danh sách cá nhân theo thứ tự ưu tiên
D8: Xếp loại | E8: Lý do | F8: Số lượng công việc chung của trường | G8: Số lượng công việc chung của đơn vị | I8: Xếp loại | J8: Lý do đề nghị
A9: -1 | B9: -2 | C9: -3 | D9: -4 | E9: -5 | F9: -6 | G9: -7 | H9: -8 | I9: -9 | J9: -10
A10: II. Giảng viên/nhân viên
A11: 04 | B11: Trần Thị Thu Hà | C11: 01002004 | D11: =IF(AND($F11>=2,$G11>=3,H11=0),"A1",IF(AND($F11>=3,$G11>=1,H11=0),"A1",IF(AND($F11>=4,$G11>=0,H11=0),"A1",IF(AND($F11>=2,$G11>=2,H11>=0),"A2",IF(AND($F11>=3,$G11>=0,H11>=0),"A2",IF(AND(OR($F11>=1,$G11>=2),H11>=-2),"A3","A4")))))) -> A3 | F11: ='Mau 2'!T12 -> 1 | G11: ='Mau 2'!AH12 -> 2
B13: Kết quả xếp loại | D13: Cán bộ quản lý | F13: Giảng viên/Nhân viên
D14: Số lượng | E14: Tỷ lệ (%) | F14: Số lượng | G14: Tỷ lệ (%)
B15: Xếp loại A1 | D15: =COUNTIF(D11,"A1") -> 0 | F15: =COUNTIF($D$11,"A1") -> 0
B16: Xếp loại A2 | D16: =COUNTIF(D12,"A1") -> 0 | F16: =COUNTIF($D$11,"A2") -> 0
B17: Xếp loại A3 | D17: =COUNTIF(D13,"A1") -> 0 | F17: =COUNTIF($D$11,"A3") -> 1
B18: Xếp loại A4 | D18: =COUNTIF(D14,"A1") -> 0 | F18: =COUNTIF($D$11,"A4") -> 0
B19: Xếp loại A DN | D19: =COUNTIF(D15,"A1") -> 0 | F19: =COUNTIF($D$11,"A DN") -> 0
B20: Xếp loại B1 | D20: =COUNTIF(D16,"A1") -> 0 | F20: =COUNTIF($D$11,"B1") -> 0
B21: Xếp loại B2 | D21: =COUNTIF(D17,"A1") -> 0 | F21: =COUNTIF($D$11,"B2") -> 0
B22: Xếp loại C1 | D22: =COUNTIF(D18,"A1") -> 0 | F22: =COUNTIF($D$11,"C1") -> 0
B23: Xếp loại C2 | D23: =COUNTIF(D19,"A1") -> 0 | F23: =COUNTIF($D$11,"C2") -> 0
B24: Xếp loại D | D24: =COUNTIF(D20,"A1") -> 0 | F24: =COUNTIF($D$11,"D") -> 0
B25: Không xếp loại (Loại E) | D25: =COUNTIF(D21,"A1") -> 0 | F25: =COUNTIF($D$11,"E") -> 0
B26: Tổng số nhân sự: | D26: =SUM(D15:D25) -> 0 | F26: =SUM(F15:F25) -> 1
A28: Lưu ý: - Tỷ lệ xếp loại thi đua mức A1 không quá 20%, mức A2 không quá 30% trên tổng số nhân sự (trừ Trưởng, Phó đơn vị). Trưởng đơn vị đánh giá mức độ hoàn thành nhiệm vụ được giao đối với từng cá nhân và xếp loại thi đua không vượt quá tỷ lệ quy định; trường hợp có nhiều cá nhân hoàn thành xuất sắc nhiệm vụ, đơn vị đề nghị xếp loại A1, A2 với tổng tỷ lệ không vượt quá 60% và sắp xếp danh sách theo thứ tự ưu tiên từ cao xuống thấp. - Giảng viên/ Nhân viên (bao gồm Trưởng bộ môn, Tổ trưởng, Phụ trách Tổ, ...) - Các đơn vị gửi file mềm qua hệ thống điện tử E-Office và văn bản giấy về phòng TC-HC-TH (Cô Trần Thị Ánh Phượng).
F29: Thành phố Hồ Chí Minh, ngày 20 tháng 4 năm 2026
F30: TRƯỞNG ĐƠN VỊ
F35: Nguyễn Văn Chiến
