Workbook
Name _Hlk191996357: 'mau 1'!#REF!

Sheet mau 1
A1: TRƯỜNG CAO ĐẲNG LÝ TỰ TRỌNG THÀNH PHỐ HỒ CHÍ MINH PHÒNG THANH TRA GIÁO DỤC - CÔNG TÁC SINH VIÊN | F1: CỘNG HÒA XÃ HỘI CHỦ NGHĨA VIỆT NAM Độc lập - Tự do - Hạnh phúc
AD2: Mẫu 1
A3: BẢNG TỔNG HỢP CÔNG VIỆC ĐỘT XUẤT ĐÃ THỰC HIỆN THÁNG 4/2026
A6: TT | B6: Nội dung công việc | C6: Số lượng người tham gia thực hiện | D6: Tên người tham gia thực hiện | E6: Thời gian thực hiện | F6: Kết quả thực hiện | G6: Chiến | H6: Nhuận | I6: Uyên | J6: H.Chi | K6: K.Anh | L6: L.Chi | M6: Tr.Hà | N6: Thắng | O6: Hương | P6: Dương | Q6: Phượng | R6: Hoàng | S6: Mỹ | T6: Thảo | U6: V.Anh | V6: Ngân | W6: Đ.Hà | X6: Thúy | Y6: Trang | Z6: Hậu | AA6: Phúc | AB6: L.Anh | AC6: Huyền | AD6: Ghi chú
G7: 01007008 | H7: 01022003 | I7: 01021001 | J7: 01015042 | K7: 01009018 | L7: 01009010 | M7: 01002004 | N7: 01009008 | O7: 01007004 | P7: 01014012 | Q7: 01002018 | R7: 01009011 | S7: 01009028 | T7: 01007003 | U7: 01002038 | V7: 01025013 | W7: 01018002 | X7: 01018005 | Y7: 01018008 | Z7: 01018007 | AA7: 01018009 | AB7: 01021003 | AC7: 01021004
A8: I. | B8: Công việc đột xuất của Trường | G8: =COUNTIF(G9:G19,"x") -> 3 | H8: =COUNTIF(H9:H19,"x") -> 3 | I8: =COUNTIF(I9:I19,"x") -> 2 | J8: =COUNTIF(J9:J19,"x") -> 3 | K8: =COUNTIF(K9:K19,"x") -> 2 | L8: =COUNTIF(L9:L19,"x") -> 2 | M8: =COUNTIF(M9:M19,"x") -> 1 | N8: =COUNTIF(N9:N19,"x") -> 1 | ... AC8: =COUNTIF(AC9:AC19,"x") -> 2
A9: Nhiệm vụ 1 | B9: Tham gia công tác chuẩn bị và tổ chức buổi họp phụ huynh khối T4 học kỳ 2 năm học 2025 -2026 (Họp ngày chủ nhật 12/4/2026) | C9: 16 | D9: Cả phòng (Trừ NV Đ.Hà, Thuý, Trang, Hậu, Phúc và Huyền) | E9: 20/3/2026 - 20/4/2026 | F9: Tốt | G9: x | H9: x | I9: x | J9: x | K9: x | L9: x | M9: x | N9: x | O9: x | P9: x | Q9: x | R9: x | S9: x | T9: x | U9: x | V9: x | AB9: x | AD9: Lớp 24T4-TKĐ2, CVHT xin chuyển lịch họp PH ngày 19/04/2026 do ngày 12/04/2026 trùng lịch thi cuối kỳ VB2
A10: Nhiệm vụ 2 | B10: Lên kế hoạch và tổ chức chuỗi hoạt động chào mừng Kỷ niệm 51 năm Ngày Giải phóng Miền nam - Thống nhất đất nước (30/4/1975 - 30/4/2026) | C10: =COUNTA(G10:AC10) -> 5 | D10: Hồ Chi, Nhuận, Kim Anh, Hoàng | E10: 24/3/2026 - 22/4/2026 | F10: Tốt | G10: x | H10: x | J10: x | K10: x | R10: x
A11: Nhiệm vụ 3 | B11: Tham gia Hội thao của khối thi đua 19 tại trường cao đẳng CN Thủ Đức | C11: 4 | D11: Chiến, Lê Chi, Phượng, Huyền, Trang | E11: 11/4/2026, 18/4/2026 | F11: Tốt | G11: x | L11: x | Q11: x | Y11: x | AC11: x
A12: Nhiệm vụ 4 | B12: Tham gia công tác tuyển sinh của trường | C12: =COUNTA(G12:AC12) -> 2 | D12: Nhuận, Đặng Hà | E12: 16/3 - 24/4/2026 | F12: Nhuận (9 trường) Đặng Hà (39 trường) | H12: x | W12: x | AD12: NV Đặng Hà tham gia TS tại 13 trường ngoài giờ trực
A13: Nhiệm vụ 5 | B13: Tham gia Hội thi tuyên truyền viên Giỏi 2026 | C13: 1 | D13: Hồ Chi | E13: 10/4-15/4/2026 | F13: Tốt | J13: x
A14: Nhiệm vụ 6 | B14: Phối hợp với Phòng khám đa khoa Quốc tế An Phú tổ chức khám sức khoẻ định kỳ cho cán bộ, giảng viên, nhân viên và người lao động. | C14: =COUNTA(G14:AC14) -> 3 | D14: Uyên, Lan Anh, Huyền | E14: 20,27/3/2026 | F14: Tốt | I14: x | AB14: x | AC14: x
A15: Nhiệm vụ 7 | C15: =COUNTA(G15:AC15) -> 0
A16: Nhiệm vụ 8 | C16: =COUNTA(G16:AC16) -> 0
A17: Nhiệm vụ 9 | C17: =COUNTA(G17:AC17) -> 0
A18: Nhiệm vụ 10 | C18: =COUNTA(G18:AC18) -> 0
A19: Nhiệm vụ 11 | C19: =COUNTA(G19:AC19) -> 0
A20: Nhiệm vụ 12 | C20: =COUNTA(G20:AC20) -> 0
A21: Nhiệm vụ 13 | C21: =COUNTA(G21:AC21) -> 0
A22: Nhiệm vụ 14 | C22: =COUNTA(G22:AC22) -> 0
A23: Nhiệm vụ 15 | C23: =COUNTA(G23:AC23) -> 0
A24: II. | B24: Công việc đột xuất của đơn vị | G24: =COUNTIF(G25:G36,"x") -> 0 | H24: =COUNTIF(H25:H36,"x") -> 0 | I24: =COUNTIF(I25:I36,"x") -> 1 | J24: =COUNTIF(J25:J36,"x") -> 1 | K24: =COUNTIF(K25:K36,"x") -> 1 | L24: =COUNTIF(L25:L36,"x") -> 0 | M24: =COUNTIF(M25:M36,"x") -> 3 | N24: =COUNTIF(N25:N36,"x") -> 3 | ... AC24: =COUNTIF(AC25:AC36,"x") -> 0
A25: Nhiệm vụ 1 | B25: Thực hiện gấp: cung cấp minh chứng thuyết minh chi tiết kết quả thực hiện công tác phòng chống tham nhũng năm 2026 | C25: =COUNTA(G25:AC25) -> 1 | D25: Trần Hà | E25: 30/3/2026 và 03/4/2026 | F25: Tốt | M25: x
A26: Nhiệm vụ 2 | B26: Tham gia báo cáo kết quả công tác tuyên truyền về an ninh, trật tự cho sinh viên theo yêu cầu của phòng An ninh chính trị nội bộ - Công an Thành phố Hồ Chí Minh | C26: =COUNTA(G26:AC26) -> 2 | D26: Trần Hà, Phượng | E26: 06/4 - 16/4/2026 | F26: Tốt | M26: x | Q26: x
A27: Nhiệm vụ 3 | B27: Hỗ trợ khám sức khỏe CB-GV-NV năm học 2025-2026; | C27: =COUNTA(G27:AC27) -> 5 | D27: Kim Anh, Hoàng, Phượng, Tr Hà, Thúy | E27: 20/3 và 27/3/2026 | F27: Tốt | K27: x | M27: x | Q27: x | R27: x | X27: x
A28: Nhiệm vụ 4 | B28: Xây dựng KH phòng, chống tội phạm xâm hại trẻ em và phòng, chống tội phạm, VPPL liên quan đến người dưới 18 tuổi (GĐ 2026 – 2030) | C28: =COUNTA(G28:AC28) -> 1 | D28: Phượng | E28: 01-06/4/2026 | F28: Tốt | Q28: x
A29: Nhiệm vụ 5 | B29: Hỗ trợ ca trực theo điều động của lãnh đạo phòng (trực camera ngày 30/3; trực quản lý SV tham gia lớp chuyên đề ngày 17/4) | C29: =COUNTA(G29:AC29) -> 1 | D29: Phượng | E29: ;30/3 và 17/4/2026 | F29: Tốt | Q29: x
A30: Nhiệm vụ 6 | B30: Phát hiện và xử lý kịp thời trường hợp SV Nguyễn Đức Phú lớp 24T4-CNÔ2 đùa giỡn làm vỡ kính, tay bị chảy máu tại phòng H1.3.04. | C30: =COUNTA(G30:AC30) -> 1 | D30: Hoàng | E30: 46122 | F30: Tốt | R30: x
A31: Nhiệm vụ 7 | B31: Hỗ trợ đưa SV Trần Văn Bắc lớp 24C1-CCK1 đi bệnh viện Thống Nhất cấp cứu.. | C31: =COUNTA(G31:AC31) -> 3 | D31: Uyên, Hoàng, Thắng | E31: 46129 | F31: Tốt | I31: x | N31: x | R31: x
A32: Nhiệm vụ 8 | B32: Xử lý trường hợp SV tạt sơn ngày 09/4/2026 Lớp 24T4 – LTM1 phòng H1.2-10 tiết 8 (giờ ra chơi ) GV Hà Như Mai. Xác minh các SV có hành vi chụp hình, quay phim vụ việc. | C32: =COUNTA(G32:AC32) -> 1 | D32: Việt Anh | E32: 09/4/2026 | F32: Tốt | U32: x
A33: Nhiệm vụ 9 | B33: Ngăn chặn sự việc đánh nhau do mẫu thuẫn gữa các SV Dương Bảo Long, Dương Đức Long với SV Nguyễn Xuân Thái lớp 24T4-LTM1 trong giơi giải lao lúc 15 giờ 40 phút ngày 30/03/2026 tại khu hành lang trước phòng H1.2-04, đã mời PH vào trường làm việc cam kết và báo cho CVHT, quản lý khối biết để theo dõi. | C33: =COUNTA(G33:AC33) -> 1 | D33: Thắng | E33: 30/3/2026 | F33: Tốt | N33: x
A34: Nhiệm vụ 10 | B34: Hỗ trợ chấm công trực khu vực và giám sát camera ca 3 tiết 13- tiết 17 (từ 17 giờ 45 phút đến 21 giờ 30 phút) ngày 03/ 04/2026 thay cho đồng nghiệp Bùi Đức Phước đưa con đi bệnh viện khám bệnh tối ngày 03/04/2026. | C34: =COUNTA(G34:AC34) -> 1 | D34: Thắng | E34: '03/4/2026 | F34: Tốt | N34: x
A35: Nhiệm vụ 11 | B35: Trang trí sắp xếp không gian thư viện chào mừng Ngày sách và văn hóa đọc Việt Nam. | C35: =COUNTA(G35:AC35) -> 6 | D35: Hồ Chi, Thuý, Hà, Hậu, Phúc, Trang | E35: 10-20/4/2026 | F35: Tốt | J35: x | W35: x | X35: x | Y35: x | Z35: x | AA35: x
A36: Nhiệm vụ 12 | B36: Hỗ trợ lớp học QP-AN nghe thời sự tại Thư viện vào tối thứ 2 và thứ 4 hàng tuần. | C36: =COUNTA(G36:AC36) -> 1 | D36: Trang | E36: 09/3-03/4/2026 | F36: Tốt | Y36: x
A37: Nhiệm vụ 13 | B37: Thay ruột gối lười phòng nghỉ sinh viên (Giặt 100 bao gối, ruột gối, thay 130kg hạt xốp ruột gối) | C37: =COUNTA(G37:AC37) -> 6 | D37: Hồ Chi, Thuý, Hà, Phúc, Trang, Hậu | E37: 10-11/04/2026 | F37: Tốt | J37: x | W37: x | X37: x | Y37: x | Z37: x | AA37: x
A38: Nhiệm vụ 14 | B38: Viết bài tuyên truyền về Ngày Sách và Văn hoá Đọc Việt Nam, xây dựng clip giới thiệu sách về phương pháp và kỹ thuật đọc sách hiệu quả: " Trí tuệ siêu đọc sách" của tác giả Trương Văn Trung trên kênh facebook của Thư viện. | C38: =COUNTA(G38:AC38) -> 2 | D38: Hồ Chi, Trang | E38: 20-22/04/2026 | F38: Tốt | J38: x | Y38: x
A39: Nhiệm vụ 15 | B39: Đưa SV Nguyễn Trung Tín lớp 25C2-ĐHĐ bị sốt cao run chân tay do nhiễm trùng máu nhập hồi sức cấp cứu BV Thống Nhất | C39: =COUNTA(G39:AC39) -> 2 | D39: Lan Anh, Mỹ | E39: 03/4/2026 | F39: Tốt | S39: x | AB39: x
A40: Nhiệm vụ 16 | B40: Phối hợp với phòng Kế hoạch - Tài chính làm DS trả lại phí BHYT cho 287 sinh viên có thẻ đối tượng khác trùng hạn, 86 SV giảm thẻ sau cấp thẻ do có thẻ ưu tiên cao hơn | C40: =COUNTA(G40:AC40) -> 2 | D40: Uyên, Huyền | E40: 8,9,10/4/2026 | F40: Tốt | I40: x | AC40: x
A41: Nhiệm vụ 17 | C41: =COUNTA(G41:AC41) -> 0
A42: Nhiệm vụ 18 | C42: =COUNTA(G42:AC42) -> 0
...

Sheet Mau 2
B1: TRƯỜNG CAO ĐẲNG LÝ TỰ TRỌNG | S1: CỘNG HÒA XÃ HỘI CHỦ NGHĨA VIỆT NAM Độc lập - Tự do - Hạnh phúc
B2: THÀNH PHỐ HỒ CHÍ MINH
B3: PHÒNG THANH TRA GIÁO DỤC - CÔNG TÁC SINH VIÊN
AO4: Mẫu 2
A5: THỐNG KÊ CHI TIẾT KHỐI LƯỢNG CÔNG VIỆC THỰC HIỆN THÁNG 4/2026
A7: TT | B7: Tên nội dung công việc | D7: Công việc chung của trường | T7: Công việc chung của đơn vị | AO7: Ghi chú
D8: Nhiệm vụ 1 | E8: Nhiệm vụ 2 | F8: Nhiệm vụ 3 | G8: Nhiệm vụ 4 | H8: Nhiệm vụ 5 | I8: Nhiệm vụ 6 | J8: Nhiệm vụ 7 | K8: Nhiệm vụ 8 | L8: Nhiệm vụ 9 | M8: Nhiệm vụ 10 | N8: Nhiệm vụ 11 | O8: Nhiệm vụ 12 | P8: Nhiệm vụ 13 | Q8: Nhiệm vụ 14 | R8: Nhiệm vụ 15 | S8: Tổng cộng | T8: Nhiệm vụ 1 | U8: Nhiệm vụ 2 | V8: Nhiệm vụ 3 | W8: Nhiệm vụ 4 | X8: Nhiệm vụ 5 | Y8: Nhiệm vụ 6 | Z8: Nhiệm vụ 7 | AA8: Nhiệm vụ 8 | AB8: Nhiệm vụ 9 | AC8: Nhiệm vụ 10 | AD8: Nhiệm vụ 11 | AE8: Nhiệm vụ 12 | AF8: Nhiệm vụ 13 | AG8: Nhiệm vụ 14 | AH8: Nhiệm vụ 15 | AI8: Nhiệm vụ 16 | AJ8: Nhiệm vụ 17 | AK8: Nhiệm vụ 18 | AL8: Nhiệm vụ 19 | AM8: Nhiệm vụ 20 | AN8: Tổng cộng
B9: Họ và tên | C9: Mã E-office | D9: ='mau 1'!$B9 -> Tham gia công tác chuẩn bị và tổ chức buổi họp phụ huynh khối T4 học kỳ 2 năm học 2025 -2026 (Họp ngày chủ nhật 12/4/2026) | E9: ='mau 1'!$B10 -> Lên kế hoạch và tổ chức chuỗi hoạt động chào mừng Kỷ niệm 51 năm Ngày Giải phóng Miền nam - Thống nhất đất nước (30/4/1975 - 30/4/2026) | F9: ='mau 1'!$B11 -> Tham gia Hội thao của khối thi đua 19 tại trường cao đẳng CN Thủ Đức | G9: ='mau 1'!$B12 -> Tham gia công tác tuyển sinh của trường | H9: ='mau 1'!$B13 -> Tham gia Hội thi tuyên truyền viên Giỏi 2026 | I9: ='mau 1'!$B14 -> Phối hợp với Phòng khám đa khoa Quốc tế An Phú tổ chức khám sức khoẻ định kỳ cho cán bộ, giảng viên, nhân viên và người lao động. | J9: ='mau 1'!$B15 -> 0 | K9: ='mau 1'!$B16 -> 0 | L9: ='mau 1'!$B17 -> 0 | M9: ='mau 1'!$B18 -> 0 | N9: ='mau 1'!$B19 -> 0 | O9: ='mau 1'!$B20 -> 0 | P9: ='mau 1'!$B21 -> 0 | Q9: ='mau 1'!$B22 -> 0 | R9: ='mau 1'!$B23 -> 0 | T9: ='mau 1'!$B25 -> Thực hiện gấp: cung cấp minh chứng thuyết minh chi tiết kết quả thực hiện công tác phòng chống tham nhũng năm 2026 | U9: ='mau 1'!$B26 -> Tham gia báo cáo kết quả công tác tuyên truyền về an ninh, trật tự cho sinh viên theo yêu cầu của phòng An ninh chính trị nội bộ - Công an Thành phố Hồ Chí Minh | V9: ='mau 1'!$B27 -> Hỗ trợ khám sức khỏe CB-GV-NV năm học 2025-2026; | W9: ='mau 1'!$B28 -> Xây dựng KH phòng, chống tội phạm xâm hại trẻ em và phòng, chống tội phạm, VPPL liên quan đến người dưới 18 tuổi (GĐ 2026 – 2030) | X9: ='mau 1'!$B29 -> Hỗ trợ ca trực theo điều động của lãnh đạo phòng (trực camera ngày 30/3; trực quản lý SV tham gia lớp chuyên đề ngày 17/4) | Y9: ='mau 1'!$B30 -> Phát hiện và xử lý kịp thời trường hợp SV Nguyễn Đức Phú lớp 24T4-CNÔ2 đùa giỡn làm vỡ kính, tay bị chảy máu tại phòng H1.3.04. | Z9: ='mau 1'!$B31 -> Hỗ trợ đưa SV Trần Văn Bắc lớp 24C1-CCK1 đi bệnh viện Thống Nhất cấp cứu.. | AA9: ='mau 1'!$B32 -> Xử lý trường hợp SV tạt sơn ngày 09/4/2026 Lớp 24T4 – LTM1 phòng H1.2-10 tiết 8 (giờ ra chơi ) GV Hà Như Mai. Xác minh các SV có hành vi chụp hình, quay phim vụ việc. | AB9: ='mau 1'!#REF! -> #REF! | AC9: ='mau 1'!$B33 -> Ngăn chặn sự việc đánh nhau do mẫu thuẫn gữa các SV Dương Bảo Long, Dương Đức Long với SV Nguyễn Xuân Thái lớp 24T4-LTM1 trong giơi giải lao lúc 15 giờ 40 phút ngày 30/03/2026 tại khu hành lang trước phòng H1.2-04, đã mời PH vào trường làm việc cam kết và báo cho CVHT, quản lý khối biết để theo dõi. | AD9: ='mau 1'!$B34 -> Hỗ trợ chấm công trực khu vực và giám sát camera ca 3 tiết 13- tiết 17 (từ 17 giờ 45 phút đến 21 giờ 30 phút) ngày 03/ 04/2026 thay cho đồng nghiệp Bùi Đức Phước đưa con đi bệnh viện khám bệnh tối ngày 03/04/2026. | AE9: ='mau 1'!#REF! -> #REF! | AF9: ='mau 1'!$B35 -> Trang trí sắp xếp không gian thư viện chào mừng Ngày sách và văn hóa đọc Việt Nam. | AG9: ='mau 1'!$B36 -> Hỗ trợ lớp học QP-AN nghe thời sự tại Thư viện vào tối thứ 2 và thứ 4 hàng tuần. | AH9: ='mau 1'!$B36 -> Hỗ trợ lớp học QP-AN nghe thời sự tại Thư viện vào tối thứ 2 và thứ 4 hàng tuần. | AI9: ='mau 1'!$B36 -> Hỗ trợ lớp học QP-AN nghe thời sự tại Thư viện vào tối thứ 2 và thứ 4 hàng tuần. | AJ9: ='mau 1'!$B36 -> Hỗ trợ lớp học QP-AN nghe thời sự tại Thư viện vào tối thứ 2 và thứ 4 hàng tuần. | AK9: ='mau 1'!$B36 -> Hỗ trợ lớp học QP-AN nghe thời sự tại Thư viện vào tối thứ 2 và thứ 4 hàng tuần. | AL9: ='mau 1'!$B36 -> Hỗ trợ lớp học QP-AN nghe thời sự tại Thư viện vào tối thứ 2 và thứ 4 hàng tuần. | AM9: ='mau 1'!$B36 -> Hỗ trợ lớp học QP-AN nghe thời sự tại Thư viện vào tối thứ 2 và thứ 4 hàng tuần.
C10: -1 | D10: -2 | E10: -3 | F10: -4 | G10: -5 | H10: -6 | I10: -7 | J10: -8 | K10: -9 | L10: -10 | M10: -11 | N10: -12 | O10: -13 | P10: -14 | Q10: -15 | R10: -16 | S10: -17 | T10: -18 | U10: -19 | V10: -20 | W10: -21 | X10: -22 | Y10: -23 | Z10: -24 | AA10: -25 | AB10: -26 | AC10: -27 | AD10: -28 | AE10: -29 | AF10: -30 | AG10: -31 | AH10: -32 | AI10: -33 | AJ10: -34 | AK10: -35 | AL10: -36 | AM10: -37 | AN10: -38
A11: I. Cán bộ quản lý (Trưởng, Phó đơn vị)
A12: 01 | B12: Nguyễn Văn Chiến | C12: 01007008 | D12: =HLOOKUP($C12,'mau 1'!$G$7:$AC$47,3,0) -> x | E12: =HLOOKUP($C12,'mau 1'!$G$7:$AC$47,4,0) -> x | F12: =HLOOKUP($C12,'mau 1'!$G$7:$AC$47,5,0) -> x | G12: =HLOOKUP($C12,'mau 1'!$G$7:$AC$47,6,0) -> 0 | H12: =HLOOKUP($C12,'mau 1'!$G$7:$AC$47,7,0) -> 0 | I12: =HLOOKUP($C12,'mau 1'!$G$7:$AC$47,8,0) -> 0 | J12: =HLOOKUP($C12,'mau 1'!$G$7:$AC$47,9,0) -> 0 | K12: =HLOOKUP($C12,'mau 1'!$G$7:$AC$47,10,0) -> 0 | L12: =HLOOKUP($C12,'mau 1'!$G$7:$AC$47,11,0) -> 0 | M12: =HLOOKUP($C12,'mau 1'!$G$7:$AC$47,12,0) -> 0 | N12: =HLOOKUP($C12,'mau 1'!$G$7:$AC$47,13,0) -> 0 | O12: =HLOOKUP($C12,'mau 1'!$G$7:$AC$47,14,0) -> 0 | P12: =HLOOKUP($C12,'mau 1'!$G$7:$AC$47,15,0) -> 0 | Q12: =HLOOKUP($C12,'mau 1'!$G$7:$AC$47,16,0) -> 0 | R12: =HLOOKUP($C12,'mau 1'!$G$7:$AC$47,17,0) -> 0 | S12: =COUNTIF(D12:P12,"X") -> 3 | T12: =HLOOKUP($C12,'mau 1'!$G$7:$AC$47,19,0) -> 0 | U12: =HLOOKUP($C12,'mau 1'!$G$7:$AC$47,20,0) -> 0 | V12: =HLOOKUP($C12,'mau 1'!$G$7:$AC$47,21,0) -> 0 | W12: =HLOOKUP($C12,'mau 1'!$G$7:$AC$47,22,0) -> 0 | X12: =HLOOKUP($C12,'mau 1'!$G$7:$AC$47,23,0) -> 0 | Y12: =HLOOKUP($C12,'mau 1'!$G$7:$AC$47,24,0) -> 0 | Z12: =HLOOKUP($C12,'mau 1'!$G$7:$AC$47,25,0) -> 0 | AA12: =HLOOKUP($C12,'mau 1'!$G$7:$AC$47,26,0) -> 0 | AB12: =HLOOKUP($C12,'mau 1'!$G$7:$AC$47,27,0) -> 0 | AC12: =HLOOKUP($C12,'mau 1'!$G$7:$AC$47,28,0) -> 0 | AD12: =HLOOKUP($C12,'mau 1'!$G$7:$AC$47,29,0) -> 0 | AE12: =HLOOKUP($C12,'mau 1'!$G$7:$AC$47,30,0) -> 0 | AF12: =HLOOKUP($C12,'mau 1'!$G$7:$AC$47,31,0) -> 0 | AG12: =HLOOKUP($C12,'mau 1'!$G$7:$AC$47,32,0) -> 0 | AH12: =HLOOKUP($C12,'mau 1'!$G$7:$AC$47,33,0) -> 0 | AI12: =HLOOKUP($C12,'mau 1'!$G$7:$AC$47,34,0) -> 0 | AJ12: =HLOOKUP($C12,'mau 1'!$G$7:$AC$47,35,0) -> 0 | AK12: =HLOOKUP($C12,'mau 1'!$G$7:$AC$47,36,0) -> 0 | AL12: =HLOOKUP($C12,'mau 1'!$G$7:$AC$47,37,0) -> 0 | AM12: =HLOOKUP($C12,'mau 1'!$G$7:$AC$47,38,0) -> 0 | AN12: =COUNTIF(T12:AM12,"X") -> 0
A13: 02 | B13: Nguyễn Thị Nhuận | C13: 01022003 | D13: =HLOOKUP($C13,'mau 1'!$G$7:$AC$47,3,0) -> x | E13: =HLOOKUP($C13,'mau 1'!$G$7:$AC$47,4,0) -> x | F13: =HLOOKUP($C13,'mau 1'!$G$7:$AC$47,5,0) -> 0 | G13: =HLOOKUP($C13,'mau 1'!$G$7:$AC$47,6,0) -> x | H13: =HLOOKUP($C13,'mau 1'!$G$7:$AC$47,7,0) -> 0 | I13: =HLOOKUP($C13,'mau 1'!$G$7:$AC$47,8,0) -> 0 | J13: =HLOOKUP($C13,'mau 1'!$G$7:$AC$47,9,0) -> 0 | K13: =HLOOKUP($C13,'mau 1'!$G$7:$AC$47,10,0) -> 0 | L13: =HLOOKUP($C13,'mau 1'!$G$7:$AC$47,11,0) -> 0 | M13: =HLOOKUP($C13,'mau 1'!$G$7:$AC$47,12,0) -> 0 | N13: =HLOOKUP($C13,'mau 1'!$G$7:$AC$47,13,0) -> 0 | O13: =HLOOKUP($C13,'mau 1'!$G$7:$AC$47,14,0) -> 0 | P13: =HLOOKUP($C13,'mau 1'!$G$7:$AC$47,15,0) -> 0 | Q13: =HLOOKUP($C13,'mau 1'!$G$7:$AC$47,16,0) -> 0 | R13: =HLOOKUP($C13,'mau 1'!$G$7:$AC$47,17,0) -> 0 | S13: =COUNTIF(D13:P13,"X") -> 3 | T13: =HLOOKUP($C13,'mau 1'!$G$7:$AC$47,19,0) -> 0 | U13: =HLOOKUP($C13,'mau 1'!$G$7:$AC$47,20,0) -> 0 | V13: =HLOOKUP($C13,'mau 1'!$G$7:$AC$47,21,0) -> 0 | W13: =HLOOKUP($C13,'mau 1'!$G$7:$AC$47,22,0) -> 0 | X13: =HLOOKUP($C13,'mau 1'!$G$7:$AC$47,23,0) -> 0 | Y13: =HLOOKUP($C13,'mau 1'!$G$7:$AC$47,24,0) -> 0 | Z13: =HLOOKUP($C13,'mau 1'!$G$7:$AC$47,25,0) -> 0 | AA13: =HLOOKUP($C13,'mau 1'!$G$7:$AC$47,26,0) -> 0 | AB13: =HLOOKUP($C13,'mau 1'!$G$7:$AC$47,27,0) -> 0 | AC13: =HLOOKUP($C13,'mau 1'!$G$7:$AC$47,28,0) -> 0 | AD13: =HLOOKUP($C13,'mau 1'!$G$7:$AC$47,29,0) -> 0 | AE13: =HLOOKUP($C13,'mau 1'!$G$7:$AC$47,30,0) -> 0 | AF13: =HLOOKUP($C13,'mau 1'!$G$7:$AC$47,31,0) -> 0 | AG13: =HLOOKUP($C13,'mau 1'!$G$7:$AC$47,32,0) -> 0 | AH13: =HLOOKUP($C13,'mau 1'!$G$7:$AC$47,33,0) -> 0 | AI13: =HLOOKUP($C13,'mau 1'!$G$7:$AC$47,34,0) -> 0 | AJ13: =HLOOKUP($C13,'mau 1'!$G$7:$AC$47,35,0) -> 0 | AK13: =HLOOKUP($C13,'mau 1'!$G$7:$AC$47,36,0) -> 0 | AL13: =HLOOKUP($C13,'mau 1'!$G$7:$AC$47,37,0) -> 0 | AM13: =HLOOKUP($C13,'mau 1'!$G$7:$AC$47,38,0) -> 0 | AN13: =COUNTIF(T13:AM13,"X") -> 0
A14: 03 | B14: Trang Xuân Uyên | C14: 01021001 | D14: =HLOOKUP($C14,'mau 1'!$G$7:$AC$47,3,0) -> x | E14: =HLOOKUP($C14,'mau 1'!$G$7:$AC$47,4,0) -> 0 | F14: =HLOOKUP($C14,'mau 1'!$G$7:$AC$47,5,0) -> 0 | G14: =HLOOKUP($C14,'mau 1'!$G$7:$AC$47,6,0) -> 0 | H14: =HLOOKUP($C14,'mau 1'!$G$7:$AC$47,7,0) -> 0 | I14: =HLOOKUP($C14,'mau 1'!$G$7:$AC$47,8,0) -> x | J14: =HLOOKUP($C14,'mau 1'!$G$7:$AC$47,9,0) -> 0 | K14: =HLOOKUP($C14,'mau 1'!$G$7:$AC$47,10,0) -> 0 | L14: =HLOOKUP($C14,'mau 1'!$G$7:$AC$47,11,0) -> 0 | M14: =HLOOKUP($C14,'mau 1'!$G$7:$AC$47,12,0) -> 0 | N14: =HLOOKUP($C14,'mau 1'!$G$7:$AC$47,13,0) -> 0 | O14: =HLOOKUP($C14,'mau 1'!$G$7:$AC$47,14,0) -> 0 | P14: =HLOOKUP($C14,'mau 1'!$G$7:$AC$47,15,0) -> 0 | Q14: =HLOOKUP($C14,'mau 1'!$G$7:$AC$47,16,0) -> 0 | R14: =HLOOKUP($C14,'mau 1'!$G$7:$AC$47,17,0) -> 0 | S14: =COUNTIF(D14:P14,"X") -> 2 | T14: =HLOOKUP($C14,'mau 1'!$G$7:$AC$47,19,0) -> 0 | U14: =HLOOKUP($C14,'mau 1'!$G$7:$AC$47,20,0) -> 0 | V14: =HLOOKUP($C14,'mau 1'!$G$7:$AC$47,21,0) -> 0 | W14: =HLOOKUP($C14,'mau 1'!$G$7:$AC$47,22,0) -> 0 | X14: =HLOOKUP($C14,'mau 1'!$G$7:$AC$47,23,0) -> 0 | Y14: =HLOOKUP($C14,'mau 1'!$G$7:$AC$47,24,0) -> 0 | Z14: =HLOOKUP($C14,'mau 1'!$G$7:$AC$47,25,0) -> x | AA14: =HLOOKUP($C14,'mau 1'!$G$7:$AC$47,26,0) -> 0 | AB14: =HLOOKUP($C14,'mau 1'!$G$7:$AC$47,27,0) -> 0 | AC14: =HLOOKUP($C14,'mau 1'!$G$7:$AC$47,28,0) -> 0 | AD14: =HLOOKUP($C14,'mau 1'!$G$7:$AC$47,29,0) -> 0 | AE14: =HLOOKUP($C14,'mau 1'!$G$7:$AC$47,30,0) -> 0 | AF14: =HLOOKUP($C14,'mau 1'!$G$7:$AC$47,31,0) -> 0 | AG14: =HLOOKUP($C14,'mau 1'!$G$7:$AC$47,32,0) -> 0 | AH14: =HLOOKUP($C14,'mau 1'!$G$7:$AC$47,33,0) -> 0 | AI14: =HLOOKUP($C14,'mau 1'!$G$7:$AC$47,34,0) -> x | AJ14: =HLOOKUP($C14,'mau 1'!$G$7:$AC$47,35,0) -> 0 | AK14: =HLOOKUP($C14,'mau 1'!$G$7:$AC$47,36,0) -> 0 | AL14: =HLOOKUP($C14,'mau 1'!$G$7:$AC$47,37,0) -> 0 | AM14: =HLOOKUP($C14,'mau 1'!$G$7:$AC$47,38,0) -> 0 | AN14: =COUNTIF(T14:AM14,"X") -> 2
A15: 04 | B15: Hồ Ngọc Chi | C15: 01015042 | D15: =HLOOKUP($C15,'mau 1'!$G$7:$AC$47,3,0) -> x | E15: =HLOOKUP($C15,'mau 1'!$G$7:$AC$47,4,0) -> x | F15: =HLOOKUP($C15,'mau 1'!$G$7:$AC$47,5,0) -> 0 | G15: =HLOOKUP($C15,'mau 1'!$G$7:$AC$47,6,0) -> 0 | H15: =HLOOKUP($C15,'mau 1'!$G$7:$AC$47,7,0) -> x | I15: =HLOOKUP($C15,'mau 1'!$G$7:$AC$47,8,0) -> 0 | J15: =HLOOKUP($C15,'mau 1'!$G$7:$AC$47,9,0) -> 0 | K15: =HLOOKUP($C15,'mau 1'!$G$7:$AC$47,10,0) -> 0 | L15: =HLOOKUP($C15,'mau 1'!$G$7:$AC$47,11,0) -> 0 | M15: =HLOOKUP($C15,'mau 1'!$G$7:$AC$47,12,0) -> 0 | N15: =HLOOKUP($C15,'mau 1'!$G$7:$AC$47,13,0) -> 0 | O15: =HLOOKUP($C15,'mau 1'!$G$7:$AC$47,14,0) -> 0 | P15: =HLOOKUP($C15,'mau 1'!$G$7:$AC$47,15,0) -> 0 | Q15: =HLOOKUP($C15,'mau 1'!$G$7:$AC$47,16,0) -> 0 | R15: =HLOOKUP($C15,'mau 1'!$G$7:$AC$47,17,0) -> 0 | S15: =COUNTIF(D15:P15,"X") -> 3 | T15: =HLOOKUP($C15,'mau 1'!$G$7:$AC$47,19,0) -> 0 | U15: =HLOOKUP($C15,'mau 1'!$G$7:$AC$47,20,0) -> 0 | V15: =HLOOKUP($C15,'mau 1'!$G$7:$AC$47,21,0) -> 0 | W15: =HLOOKUP($C15,'mau 1'!$G$7:$AC$47,22,0) -> 0 | X15: =HLOOKUP($C15,'mau 1'!$G$7:$AC$47,23,0) -> 0 | Y15: =HLOOKUP($C15,'mau 1'!$G$7:$AC$47,24,0) -> 0 | Z15: =HLOOKUP($C15,'mau 1'!$G$7:$AC$47,25,0) -> 0 | AA15: =HLOOKUP($C15,'mau 1'!$G$7:$AC$47,26,0) -> 0 | AB15: =HLOOKUP($C15,'mau 1'!$G$7:$AC$47,27,0) -> 0 | AC15: =HLOOKUP($C15,'mau 1'!$G$7:$AC$47,28,0) -> 0 | AD15: =HLOOKUP($C15,'mau 1'!$G$7:$AC$47,29,0) -> x | AE15: =HLOOKUP($C15,'mau 1'!$G$7:$AC$47,30,0) -> 0 | AF15: =HLOOKUP($C15,'mau 1'!$G$7:$AC$47,31,0) -> x | AG15: =HLOOKUP($C15,'mau 1'!$G$7:$AC$47,32,0) -> x | AH15: =HLOOKUP($C15,'mau 1'!$G$7:$AC$47,33,0) -> 0 | AI15: =HLOOKUP($C15,'mau 1'!$G$7:$AC$47,34,0) -> 0 | AJ15: =HLOOKUP($C15,'mau 1'!$G$7:$AC$47,35,0) -> 0 | AK15: =HLOOKUP($C15,'mau 1'!$G$7:$AC$47,36,0) -> 0 | AL15: =HLOOKUP($C15,'mau 1'!$G$7:$AC$47,37,0) -> 0 | AM15: =HLOOKUP($C15,'mau 1'!$G$7:$AC$47,38,0) -> 0 | AN15: =COUNTIF(T15:AM15,"X") -> 3
A16: II. Giảng viên/nhân viên | AN16: =COUNTIF(T16:AM16,"X") -> 0
A17: 01 | B17: Nguyễn Thị Kim Anh | C17: 01009018 | D17: =HLOOKUP($C17,'mau 1'!$G$7:$AC$47,3,0) -> x | E17: =HLOOKUP($C17,'mau 1'!$G$7:$AC$47,4,0) -> x | F17: =HLOOKUP($C17,'mau 1'!$G$7:$AC$47,5,0) -> 0 | G17: =HLOOKUP($C17,'mau 1'!$G$7:$AC$47,6,0) -> 0 | H17: =HLOOKUP($C17,'mau 1'!$G$7:$AC$47,7,0) -> 0 | I17: =HLOOKUP($C17,'mau 1'!$G$7:$AC$47,8,0) -> 0 | J17: =HLOOKUP($C17,'mau 1'!$G$7:$AC$47,9,0) -> 0 | K17: =HLOOKUP($C17,'mau 1'!$G$7:$AC$47,10,0) -> 0 | L17: =HLOOKUP($C17,'mau 1'!$G$7:$AC$47,11,0) -> 0 | M17: =HLOOKUP($C17,'mau 1'!$G$7:$AC$47,12,0) -> 0 | N17: =HLOOKUP($C17,'mau 1'!$G$7:$AC$47,13,0) -> 0 | O17: =HLOOKUP($C17,'mau 1'!$G$7:$AC$47,14,0) -> 0 | P17: =HLOOKUP($C17,'mau 1'!$G$7:$AC$47,15,0) -> 0 | Q17: =HLOOKUP($C17,'mau 1'!$G$7:$AC$47,16,0) -> 0 | R17: =HLOOKUP($C17,'mau 1'!$G$7:$AC$47,17,0) -> 0 | S17: =COUNTIF(D17:P17,"X") -> 2 | T17: =HLOOKUP($C17,'mau 1'!$G$7:$AC$47,19,0) -> 0 | U17: =HLOOKUP($C17,'mau 1'!$G$7:$AC$47,20,0) -> 0 | V17: =HLOOKUP($C17,'mau 1'!$G$7:$AC$47,21,0) -> x | W17: =HLOOKUP($C17,'mau 1'!$G$7:$AC$47,22,0) -> 0 | X17: =HLOOKUP($C17,'mau 1'!$G$7:$AC$47,23,0) -> 0 | Y17: =HLOOKUP($C17,'mau 1'!$G$7:$AC$47,24,0) -> 0 | Z17: =HLOOKUP($C17,'mau 1'!$G$7:$AC$47,25,0) -> 0 | AA17: =HLOOKUP($C17,'mau 1'!$G$7:$AC$47,26,0) -> 0 | AB17: =HLOOKUP($C17,'mau 1'!$G$7:$AC$47,27,0) -> 0 | AC17: =HLOOKUP($C17,'mau 1'!$G$7:$AC$47,28,0) -> 0 | AD17: =HLOOKUP($C17,'mau 1'!$G$7:$AC$47,29,0) -> 0 | AE17: =HLOOKUP($C17,'mau 1'!$G$7:$AC$47,30,0) -> 0 | AF17: =HLOOKUP($C17,'mau 1'!$G$7:$AC$47,31,0) -> 0 | AG17: =HLOOKUP($C17,'mau 1'!$G$7:$AC$47,32,0) -> 0 | AH17: =HLOOKUP($C17,'mau 1'!$G$7:$AC$47,33,0) -> 0 | AI17: =HLOOKUP($C17,'mau 1'!$G$7:$AC$47,34,0) -> 0 | AJ17: =HLOOKUP($C17,'mau 1'!$G$7:$AC$47,35,0) -> 0 | AK17: =HLOOKUP($C17,'mau 1'!$G$7:$AC$47,36,0) -> 0 | AL17: =HLOOKUP($C17,'mau 1'!$G$7:$AC$47,37,0) -> 0 | AM17: =HLOOKUP($C17,'mau 1'!$G$7:$AC$47,38,0) -> 0 | AN17: =COUNTIF(T17:AM17,"X") -> 1
A18: 02 | B18: Phạm Thị Lê Chi | C18: 01009010 | D18: =HLOOKUP($C18,'mau 1'!$G$7:$AC$47,3,0) -> x | E18: =HLOOKUP($C18,'mau 1'!$G$7:$AC$47,4,0) -> 0 | F18: =HLOOKUP($C18,'mau 1'!$G$7:$AC$47,5,0) -> x | G18: =HLOOKUP($C18,'mau 1'!$G$7:$AC$47,6,0) -> 0 | H18: =HLOOKUP($C18,'mau 1'!$G$7:$AC$47,7,0) -> 0 | I18: =HLOOKUP($C18,'mau 1'!$G$7:$AC$47,8,0) -> 0 | J18: =HLOOKUP($C18,'mau 1'!$G$7:$AC$47,9,0) -> 0 | K18: =HLOOKUP($C18,'mau 1'!$G$7:$AC$47,10,0) -> 0 | L18: =HLOOKUP($C18,'mau 1'!$G$7:$AC$47,11,0) -> 0 | M18: =HLOOKUP($C18,'mau 1'!$G$7:$AC$47,12,0) -> 0 | N18: =HLOOKUP($C18,'mau 1'!$G$7:$AC$47,13,0) -> 0 | O18: =HLOOKUP($C18,'mau 1'!$G$7:$AC$47,14,0) -> 0 | P18: =HLOOKUP($C18,'mau 1'!$G$7:$AC$47,15,0) -> 0 | Q18: =HLOOKUP($C18,'mau 1'!$G$7:$AC$47,16,0) -> 0 | R18: =HLOOKUP($C18,'mau 1'!$G$7:$AC$47,17,0) -> 0 | S18: =COUNTIF(D18:P18,"X") -> 2 | T18: =HLOOKUP($C18,'mau 1'!$G$7:$AC$47,19,0) -> 0 | U18: =HLOOKUP($C18,'mau 1'!$G$7:$AC$47,20,0) -> 0 | V18: =HLOOKUP($C18,'mau 1'!$G$7:$AC$47,21,0) -> 0 | W18: =HLOOKUP($C18,'mau 1'!$G$7:$AC$47,22,0) -> 0 | X18: =HLOOKUP($C18,'mau 1'!$G$7:$AC$47,23,0) -> 0 | Y18: =HLOOKUP($C18,'mau 1'!$G$7:$AC$47,24,0) -> 0 | Z18: =HLOOKUP($C18,'mau 1'!$G$7:$AC$47,25,0) -> 0 | AA18: =HLOOKUP($C18,'mau 1'!$G$7:$AC$47,26,0) -> 0 | AB18: =HLOOKUP($C18,'mau 1'!$G$7:$AC$47,27,0) -> 0 | AC18: =HLOOKUP($C18,'mau 1'!$G$7:$AC$47,28,0) -> 0 | AD18: =HLOOKUP($C18,'mau 1'!$G$7:$AC$47,29,0) -> 0 | AE18: =HLOOKUP($C18,'mau 1'!$G$7:$AC$47,30,0) -> 0 | AF18: =HLOOKUP($C18,'mau 1'!$G$7:$AC$47,31,0) -> 0 | AG18: =HLOOKUP($C18,'mau 1'!$G$7:$AC$47,32,0) -> 0 | AH18: =HLOOKUP($C18,'mau 1'!$G$7:$AC$47,33,0) -> 0 | AI18: =HLOOKUP($C18,'mau 1'!$G$7:$AC$47,34,0) -> 0 | AJ18: =HLOOKUP($C18,'mau 1'!$G$7:$AC$47,35,0) -> 0 | AK18: =HLOOKUP($C18,'mau 1'!$G$7:$AC$47,36,0) -> 0 | AL18: =HLOOKUP($C18,'mau 1'!$G$7:$AC$47,37,0) -> 0 | AM18: =HLOOKUP($C18,'mau 1'!$G$7:$AC$47,38,0) -> 0 | AN18: =COUNTIF(T18:AM18,"X") -> 0
A19: 03 | B19: Trần Thị Thu Hà | C19: 01002004 | D19: =HLOOKUP($C19,'mau 1'!$G$7:$AC$47,3,0) -> x | E19: =HLOOKUP($C19,'mau 1'!$G$7:$AC$47,4,0) -> 0 | F19: =HLOOKUP($C19,'mau 1'!$G$7:$AC$47,5,0) -> 0 | G19: =HLOOKUP($C19,'mau 1'!$G$7:$AC$47,6,0) -> 0 | H19: =HLOOKUP($C19,'mau 1'!$G$7:$AC$47,7,0) -> 0 | I19: =HLOOKUP($C19,'mau 1'!$G$7:$AC$47,8,0) -> 0 | J19: =HLOOKUP($C19,'mau 1'!$G$7:$AC$47,9,0) -> 0 | K19: =HLOOKUP($C19,'mau 1'!$G$7:$AC$47,10,0) -> 0 | L19: =HLOOKUP($C19,'mau 1'!$G$7:$AC$47,11,0) -> 0 | M19: =HLOOKUP($C19,'mau 1'!$G$7:$AC$47,12,0) -> 0 | N19: =HLOOKUP($C19,'mau 1'!$G$7:$AC$47,13,0) -> 0 | O19: =HLOOKUP($C19,'mau 1'!$G$7:$AC$47,14,0) -> 0 | P19: =HLOOKUP($C19,'mau 1'!$G$7:$AC$47,15,0) -> 0 | Q19: =HLOOKUP($C19,'mau 1'!$G$7:$AC$47,16,0) -> 0 | R19: =HLOOKUP($C19,'mau 1'!$G$7:$AC$47,17,0) -> 0 | S19: =COUNTIF(D19:P19,"X") -> 1 | T19: =HLOOKUP($C19,'mau 1'!$G$7:$AC$47,19,0) -> x | U19: =HLOOKUP($C19,'mau 1'!$G$7:$AC$47,20,0) -> x | V19: =HLOOKUP($C19,'mau 1'!$G$7:$AC$47,21,0) -> x | W19: =HLOOKUP($C19,'mau 1'!$G$7:$AC$47,22,0) -> 0 | X19: =HLOOKUP($C19,'mau 1'!$G$7:$AC$47,23,0) -> 0 | Y19: =HLOOKUP($C19,'mau 1'!$G$7:$AC$47,24,0) -> 0 | Z19: =HLOOKUP($C19,'mau 1'!$G$7:$AC$47,25,0) -> 0 | AA19: =HLOOKUP($C19,'mau 1'!$G$7:$AC$47,26,0) -> 0 | AB19: =HLOOKUP($C19,'mau 1'!$G$7:$AC$47,27,0) -> 0 | AC19: =HLOOKUP($C19,'mau 1'!$G$7:$AC$47,28,0) -> 0 | AD19: =HLOOKUP($C19,'mau 1'!$G$7:$AC$47,29,0) -> 0 | AE19: =HLOOKUP($C19,'mau 1'!$G$7:$AC$47,30,0) -> 0 | AF19: =HLOOKUP($C19,'mau 1'!$G$7:$AC$47,31,0) -> 0 | AG19: =HLOOKUP($C19,'mau 1'!$G$7:$AC$47,32,0) -> 0 | AH19: =HLOOKUP($C19,'mau 1'!$G$7:$AC$47,33,0) -> 0 | AI19: =HLOOKUP($C19,'mau 1'!$G$7:$AC$47,34,0) -> 0 | AJ19: =HLOOKUP($C19,'mau 1'!$G$7:$AC$47,35,0) -> 0 | AK19: =HLOOKUP($C19,'mau 1'!$G$7:$AC$47,36,0) -> 0 | AL19: =HLOOKUP($C19,'mau 1'!$G$7:$AC$47,37,0) -> 0 | AM19: =HLOOKUP($C19,'mau 1'!$G$7:$AC$47,38,0) -> 0 | AN19: =COUNTIF(T19:AM19,"X") -> 3
A20: 04 | B20: Nguyễn Tất Thắng | C20: 01009008 | D20: =HLOOKUP($C20,'mau 1'!$G$7:$AC$47,3,0) -> x | E20: =HLOOKUP($C20,'mau 1'!$G$7:$AC$47,4,0) -> 0 | F20: =HLOOKUP($C20,'mau 1'!$G$7:$AC$47,5,0) -> 0 | G20: =HLOOKUP($C20,'mau 1'!$G$7:$AC$47,6,0) -> 0 | H20: =HLOOKUP($C20,'mau 1'!$G$7:$AC$47,7,0) -> 0 | I20: =HLOOKUP($C20,'mau 1'!$G$7:$AC$47,8,0) -> 0 | J20: =HLOOKUP($C20,'mau 1'!$G$7:$AC$47,9,0) -> 0 | K20: =HLOOKUP($C20,'mau 1'!$G$7:$AC$47,10,0) -> 0 | L20: =HLOOKUP($C20,'mau 1'!$G$7:$AC$47,11,0) -> 0 | M20: =HLOOKUP($C20,'mau 1'!$G$7:$AC$47,12,0) -> 0 | N20: =HLOOKUP($C20,'mau 1'!$G$7:$AC$47,13,0) -> 0 | O20: =HLOOKUP($C20,'mau 1'!$G$7:$AC$47,14,0) -> 0 | P20: =HLOOKUP($C20,'mau 1'!$G$7:$AC$47,15,0) -> 0 | Q20: =HLOOKUP($C20,'mau 1'!$G$7:$AC$47,16,0) -> 0 | R20: =HLOOKUP($C20,'mau 1'!$G$7:$AC$47,17,0) -> 0 | S20: =COUNTIF(D20:P20,"X") -> 1 | T20: =HLOOKUP($C20,'mau 1'!$G$7:$AC$47,19,0) -> 0 | U20: =HLOOKUP($C20,'mau 1'!$G$7:$AC$47,20,0) -> 0 | V20: =HLOOKUP($C20,'mau 1'!$G$7:$AC$47,21,0) -> 0 | W20: =HLOOKUP($C20,'mau 1'!$G$7:$AC$47,22,0) -> 0 | X20: =HLOOKUP($C20,'mau 1'!$G$7:$AC$47,23,0) -> 0 | Y20: =HLOOKUP($C20,'mau 1'!$G$7:$AC$47,24,0) -> 0 | Z20: =HLOOKUP($C20,'mau 1'!$G$7:$AC$47,25,0) -> x | AA20: =HLOOKUP($C20,'mau 1'!$G$7:$AC$47,26,0) -> 0 | AB20: =HLOOKUP($C20,'mau 1'!$G$7:$AC$47,27,0) -> x | AC20: =HLOOKUP($C20,'mau 1'!$G$7:$AC$47,28,0) -> x | AD20: =HLOOKUP($C20,'mau 1'!$G$7:$AC$47,29,0) -> 0 | AE20: =HLOOKUP($C20,'mau 1'!$G$7:$AC$47,30,0) -> 0 | AF20: =HLOOKUP($C20,'mau 1'!$G$7:$AC$47,31,0) -> 0 | AG20: =HLOOKUP($C20,'mau 1'!$G$7:$AC$47,32,0) -> 0 | AH20: =HLOOKUP($C20,'mau 1'!$G$7:$AC$47,33,0) -> 0 | AI20: =HLOOKUP($C20,'mau 1'!$G$7:$AC$47,34,0) -> 0 | AJ20: =HLOOKUP($C20,'mau 1'!$G$7:$AC$47,35,0) -> 0 | AK20: =HLOOKUP($C20,'mau 1'!$G$7:$AC$47,36,0) -> 0 | AL20: =HLOOKUP($C20,'mau 1'!$G$7:$AC$47,37,0) -> 0 | AM20: =HLOOKUP($C20,'mau 1'!$G$7:$AC$47,38,0) -> 0 | AN20: =COUNTIF(T20:AM20,"X") -> 3
A21: 05 | B21: Mai Thu Hương | C21: 01007004 | D21: =HLOOKUP($C21,'mau 1'!$G$7:$AC$47,3,0) -> x | E21: =HLOOKUP($C21,'mau 1'!$G$7:$AC$47,4,0) -> 0 | F21: =HLOOKUP($C21,'mau 1'!$G$7:$AC$47,5,0) -> 0 | G21: =HLOOKUP($C21,'mau 1'!$G$7:$AC$47,6,0) -> 0 | H21: =HLOOKUP($C21,'mau 1'!$G$7:$AC$47,7,0) -> 0 | I21: =HLOOKUP($C21,'mau 1'!$G$7:$AC$47,8,0) -> 0 | J21: =HLOOKUP($C21,'mau 1'!$G$7:$AC$47,9,0) -> 0 | K21: =HLOOKUP($C21,'mau 1'!$G$7:$AC$47,10,0) -> 0 | L21: =HLOOKUP($C21,'mau 1'!$G$7:$AC$47,11,0) -> 0 | M21: =HLOOKUP($C21,'mau 1'!$G$7:$AC$47,12,0) -> 0 | N21: =HLOOKUP($C21,'mau 1'!$G$7:$AC$47,13,0) -> 0 | O21: =HLOOKUP($C21,'mau 1'!$G$7:$AC$47,14,0) -> 0 | P21: =HLOOKUP($C21,'mau 1'!$G$7:$AC$47,15,0) -> 0 | Q21: =HLOOKUP($C21,'mau 1'!$G$7:$AC$47,16,0) -> 0 | R21: =HLOOKUP($C21,'mau 1'!$G$7:$AC$47,17,0) -> 0 | S21: =COUNTIF(D21:P21,"X") -> 1 | T21: =HLOOKUP($C21,'mau 1'!$G$7:$AC$47,19,0) -> 0 | U21: =HLOOKUP($C21,'mau 1'!$G$7:$AC$47,20,0) -> 0 | V21: =HLOOKUP($C21,'mau 1'!$G$7:$AC$47,21,0) -> 0 | W21: =HLOOKUP($C21,'mau 1'!$G$7:$AC$47,22,0) -> 0 | X21: =HLOOKUP($C21,'mau 1'!$G$7:$AC$47,23,0) -> 0 | Y21: =HLOOKUP($C21,'mau 1'!$G$7:$AC$47,24,0) -> 0 | Z21: =HLOOKUP($C21,'mau 1'!$G$7:$AC$47,25,0) -> 0 | AA21: =HLOOKUP($C21,'mau 1'!$G$7:$AC$47,26,0) -> 0 | AB21: =HLOOKUP($C21,'mau 1'!$G$7:$AC$47,27,0) -> 0 | AC21: =HLOOKUP($C21,'mau 1'!$G$7:$AC$47,28,0) -> 0 | AD21: =HLOOKUP($C21,'mau 1'!$G$7:$AC$47,29,0) -> 0 | AE21: =HLOOKUP($C21,'mau 1'!$G$7:$AC$47,30,0) -> 0 | AF21: =HLOOKUP($C21,'mau 1'!$G$7:$AC$47,31,0) -> 0 | AG21: =HLOOKUP($C21,'mau 1'!$G$7:$AC$47,32,0) -> 0 | AH21: =HLOOKUP($C21,'mau 1'!$G$7:$AC$47,33,0) -> 0 | AI21: =HLOOKUP($C21,'mau 1'!$G$7:$AC$47,34,0) -> 0 | AJ21: =HLOOKUP($C21,'mau 1'!$G$7:$AC$47,35,0) -> 0 | AK21: =HLOOKUP($C21,'mau 1'!$G$7:$AC$47,36,0) -> 0 | AL21: =HLOOKUP($C21,'mau 1'!$G$7:$AC$47,37,0) -> 0 | AM21: =HLOOKUP($C21,'mau 1'!$G$7:$AC$47,38,0) -> 0 | AN21: =COUNTIF(T21:AM21,"X") -> 0
A22: 06 | B22: Nguyễn Thùy Dương | C22: 01014012 | D22: =HLOOKUP($C22,'mau 1'!$G$7:$AC$47,3,0) -> x | E22: =HLOOKUP($C22,'mau 1'!$G$7:$AC$47,4,0) -> 0 | F22: =HLOOKUP($C22,'mau 1'!$G$7:$AC$47,5,0) -> 0 | G22: =HLOOKUP($C22,'mau 1'!$G$7:$AC$47,6,0) -> 0 | H22: =HLOOKUP($C22,'mau 1'!$G$7:$AC$47,7,0) -> 0 | I22: =HLOOKUP($C22,'mau 1'!$G$7:$AC$47,8,0) -> 0 | J22: =HLOOKUP($C22,'mau 1'!$G$7:$AC$47,9,0) -> 0 | K22: =HLOOKUP($C22,'mau 1'!$G$7:$AC$47,10,0) -> 0 | L22: =HLOOKUP($C22,'mau 1'!$G$7:$AC$47,11,0) -> 0 | M22: =HLOOKUP($C22,'mau 1'!$G$7:$AC$47,12,0) -> 0 | N22: =HLOOKUP($C22,'mau 1'!$G$7:$AC$47,13,0) -> 0 | O22: =HLOOKUP($C22,'mau 1'!$G$7:$AC$47,14,0) -> 0 | P22: =HLOOKUP($C22,'mau 1'!$G$7:$AC$47,15,0) -> 0 | Q22: =HLOOKUP($C22,'mau 1'!$G$7:$AC$47,16,0) -> 0 | R22: =HLOOKUP($C22,'mau 1'!$G$7:$AC$47,17,0) -> 0 | S22: =COUNTIF(D22:P22,"X") -> 1 | T22: =HLOOKUP($C22,'mau 1'!$G$7:$AC$47,19,0) -> 0 | U22: =HLOOKUP($C22,'mau 1'!$G$7:$AC$47,20,0) -> 0 | V22: =HLOOKUP($C22,'mau 1'!$G$7:$AC$47,21,0) -> 0 | W22: =HLOOKUP($C22,'mau 1'!$G$7:$AC$47,22,0) -> 0 | X22: =HLOOKUP($C22,'mau 1'!$G$7:$AC$47,23,0) -> 0 | Y22: =HLOOKUP($C22,'mau 1'!$G$7:$AC$47,24,0) -> 0 | Z22: =HLOOKUP($C22,'mau 1'!$G$7:$AC$47,25,0) -> 0 | AA22: =HLOOKUP($C22,'mau 1'!$G$7:$AC$47,26,0) -> 0 | AB22: =HLOOKUP($C22,'mau 1'!$G$7:$AC$47,27,0) -> 0 | AC22: =HLOOKUP($C22,'mau 1'!$G$7:$AC$47,28,0) -> 0 | AD22: =HLOOKUP($C22,'mau 1'!$G$7:$AC$47,29,0) -> 0 | AE22: =HLOOKUP($C22,'mau 1'!$G$7:$AC$47,30,0) -> 0 | AF22: =HLOOKUP($C22,'mau 1'!$G$7:$AC$47,31,0) -> 0 | AG22: =HLOOKUP($C22,'mau 1'!$G$7:$AC$47,32,0) -> 0 | AH22: =HLOOKUP($C22,'mau 1'!$G$7:$AC$47,33,0) -> 0 | AI22: =HLOOKUP($C22,'mau 1'!$G$7:$AC$47,34,0) -> 0 | AJ22: =HLOOKUP($C22,'mau 1'!$G$7:$AC$47,35,0) -> 0 | AK22: =HLOOKUP($C22,'mau 1'!$G$7:$AC$47,36,0) -> 0 | AL22: =HLOOKUP($C22,'mau 1'!$G$7:$AC$47,37,0) -> 0 | AM22: =HLOOKUP($C22,'mau 1'!$G$7:$AC$47,38,0) -> 0 | AN22: =COUNTIF(T22:AM22,"X") -> 0
A23: 07 | B23: Phan Thị Ngọc Phượng | C23: 01002018 | D23: =HLOOKUP($C23,'mau 1'!$G$7:$AC$47,3,0) -> x | E23: =HLOOKUP($C23,'mau 1'!$G$7:$AC$47,4,0) -> 0 | F23: =HLOOKUP($C23,'mau 1'!$G$7:$AC$47,5,0) -> x | G23: =HLOOKUP($C23,'mau 1'!$G$7:$AC$47,6,0) -> 0 | H23: =HLOOKUP($C23,'mau 1'!$G$7:$AC$47,7,0) -> 0 | I23: =HLOOKUP($C23,'mau 1'!$G$7:$AC$47,8,0) -> 0 | J23: =HLOOKUP($C23,'mau 1'!$G$7:$AC$47,9,0) -> 0 | K23: =HLOOKUP($C23,'mau 1'!$G$7:$AC$47,10,0) -> 0 | L23: =HLOOKUP($C23,'mau 1'!$G$7:$AC$47,11,0) -> 0 | M23: =HLOOKUP($C23,'mau 1'!$G$7:$AC$47,12,0) -> 0 | N23: =HLOOKUP($C23,'mau 1'!$G$7:$AC$47,13,0) -> 0 | O23: =HLOOKUP($C23,'mau 1'!$G$7:$AC$47,14,0) -> 0 | P23: =HLOOKUP($C23,'mau 1'!$G$7:$AC$47,15,0) -> 0 | Q23: =HLOOKUP($C23,'mau 1'!$G$7:$AC$47,16,0) -> 0 | R23: =HLOOKUP($C23,'mau 1'!$G$7:$AC$47,17,0) -> 0 | S23: =COUNTIF(D23:P23,"X") -> 2 | T23: =HLOOKUP($C23,'mau 1'!$G$7:$AC$47,19,0) -> 0 | U23: =HLOOKUP($C23,'mau 1'!$G$7:$AC$47,20,0) -> x | V23: =HLOOKUP($C23,'mau 1'!$G$7:$AC$47,21,0) -> x | W23: =HLOOKUP($C23,'mau 1'!$G$7:$AC$47,22,0) -> x | X23: =HLOOKUP($C23,'mau 1'!$G$7:$AC$47,23,0) -> x | Y23: =HLOOKUP($C23,'mau 1'!$G$7:$AC$47,24,0) -> 0 | Z23: =HLOOKUP($C23,'mau 1'!$G$7:$AC$47,25,0) -> 0 | AA23: =HLOOKUP($C23,'mau 1'!$G$7:$AC$47,26,0) -> 0 | AB23: =HLOOKUP($C23,'mau 1'!$G$7:$AC$47,27,0) -> 0 | AC23: =HLOOKUP($C23,'mau 1'!$G$7:$AC$47,28,0) -> 0 | AD23: =HLOOKUP($C23,'mau 1'!$G$7:$AC$47,29,0) -> 0 | AE23: =HLOOKUP($C23,'mau 1'!$G$7:$AC$47,30,0) -> 0 | AF23: =HLOOKUP($C23,'mau 1'!$G$7:$AC$47,31,0) -> 0 | AG23: =HLOOKUP($C23,'mau 1'!$G$7:$AC$47,32,0) -> 0 | AH23: =HLOOKUP($C23,'mau 1'!$G$7:$AC$47,33,0) -> 0 | AI23: =HLOOKUP($C23,'mau 1'!$G$7:$AC$47,34,0) -> 0 | AJ23: =HLOOKUP($C23,'mau 1'!$G$7:$AC$47,35,0) -> 0 | AK23: =HLOOKUP($C23,'mau 1'!$G$7:$AC$47,36,0) -> 0 | AL23: =HLOOKUP($C23,'mau 1'!$G$7:$AC$47,37,0) -> 0 | AM23: =HLOOKUP($C23,'mau 1'!$G$7:$AC$47,38,0) -> 0 | AN23: =COUNTIF(T23:AM23,"X") -> 4
A24: 08 | B24: Phạm Huy Hoàng | C24: 01009011 | D24: =HLOOKUP($C24,'mau 1'!$G$7:$AC$47,3,0) -> x | E24: =HLOOKUP($C24,'mau 1'!$G$7:$AC$47,4,0) -> x | F24: =HLOOKUP($C24,'mau 1'!$G$7:$AC$47,5,0) -> 0 | G24: =HLOOKUP($C24,'mau 1'!$G$7:$AC$47,6,0) -> 0 | H24: =HLOOKUP($C24,'mau 1'!$G$7:$AC$47,7,0) -> 0 | I24: =HLOOKUP($C24,'mau 1'!$G$7:$AC$47,8,0) -> 0 | J24: =HLOOKUP($C24,'mau 1'!$G$7:$AC$47,9,0) -> 0 | K24: =HLOOKUP($C24,'mau 1'!$G$7:$AC$47,10,0) -> 0 | L24: =HLOOKUP($C24,'mau 1'!$G$7:$AC$47,11,0) -> 0 | M24: =HLOOKUP($C24,'mau 1'!$G$7:$AC$47,12,0) -> 0 | N24: =HLOOKUP($C24,'mau 1'!$G$7:$AC$47,13,0) -> 0 | O24: =HLOOKUP($C24,'mau 1'!$G$7:$AC$47,14,0) -> 0 | P24: =HLOOKUP($C24,'mau 1'!$G$7:$AC$47,15,0) -> 0 | Q24: =HLOOKUP($C24,'mau 1'!$G$7:$AC$47,16,0) -> 0 | R24: =HLOOKUP($C24,'mau 1'!$G$7:$AC$47,17,0) -> 0 | S24: =COUNTIF(D24:P24,"X") -> 2 | T24: =HLOOKUP($C24,'mau 1'!$G$7:$AC$47,19,0) -> 0 | U24: =HLOOKUP($C24,'mau 1'!$G$7:$AC$47,20,0) -> 0 | V24: =HLOOKUP($C24,'mau 1'!$G$7:$AC$47,21,0) -> x | W24: =HLOOKUP($C24,'mau 1'!$G$7:$AC$47,22,0) -> 0 | X24: =HLOOKUP($C24,'mau 1'!$G$7:$AC$47,23,0) -> 0 | Y24: =HLOOKUP($C24,'mau 1'!$G$7:$AC$47,24,0) -> x | Z24: =HLOOKUP($C24,'mau 1'!$G$7:$AC$47,25,0) -> x | AA24: =HLOOKUP($C24,'mau 1'!$G$7:$AC$47,26,0) -> 0 | AB24: =HLOOKUP($C24,'mau 1'!$G$7:$AC$47,27,0) -> 0 | AC24: =HLOOKUP($C24,'mau 1'!$G$7:$AC$47,28,0) -> 0 | AD24: =HLOOKUP($C24,'mau 1'!$G$7:$AC$47,29,0) -> 0 | AE24: =HLOOKUP($C24,'mau 1'!$G$7:$AC$47,30,0) -> 0 | AF24: =HLOOKUP($C24,'mau 1'!$G$7:$AC$47,31,0) -> 0 | AG24: =HLOOKUP($C24,'mau 1'!$G$7:$AC$47,32,0) -> 0 | AH24: =HLOOKUP($C24,'mau 1'!$G$7:$AC$47,33,0) -> 0 | AI24: =HLOOKUP($C24,'mau 1'!$G$7:$AC$47,34,0) -> 0 | AJ24: =HLOOKUP($C24,'mau 1'!$G$7:$AC$47,35,0) -> 0 | AK24: =HLOOKUP($C24,'mau 1'!$G$7:$AC$47,36,0) -> 0 | AL24: =HLOOKUP($C24,'mau 1'!$G$7:$AC$47,37,0) -> 0 | AM24: =HLOOKUP($C24,'mau 1'!$G$7:$AC$47,38,0) -> 0 | AN24: =COUNTIF(T24:AM24,"X") -> 3
A25: 09 | B25: Trần Anh Mỹ | C25: 01009028 | D25: =HLOOKUP($C25,'mau 1'!$G$7:$AC$47,3,0) -> x | E25: =HLOOKUP($C25,'mau 1'!$G$7:$AC$47,4,0) -> 0 | F25: =HLOOKUP($C25,'mau 1'!$G$7:$AC$47,5,0) -> 0 | G25: =HLOOKUP($C25,'mau 1'!$G$7:$AC$47,6,0) -> 0 | H25: =HLOOKUP($C25,'mau 1'!$G$7:$AC$47,7,0) -> 0 | I25: =HLOOKUP($C25,'mau 1'!$G$7:$AC$47,8,0) -> 0 | J25: =HLOOKUP($C25,'mau 1'!$G$7:$AC$47,9,0) -> 0 | K25: =HLOOKUP($C25,'mau 1'!$G$7:$AC$47,10,0) -> 0 | L25: =HLOOKUP($C25,'mau 1'!$G$7:$AC$47,11,0) -> 0 | M25: =HLOOKUP($C25,'mau 1'!$G$7:$AC$47,12,0) -> 0 | N25: =HLOOKUP($C25,'mau 1'!$G$7:$AC$47,13,0) -> 0 | O25: =HLOOKUP($C25,'mau 1'!$G$7:$AC$47,14,0) -> 0 | P25: =HLOOKUP($C25,'mau 1'!$G$7:$AC$47,15,0) -> 0 | Q25: =HLOOKUP($C25,'mau 1'!$G$7:$AC$47,16,0) -> 0 | R25: =HLOOKUP($C25,'mau 1'!$G$7:$AC$47,17,0) -> 0 | S25: =COUNTIF(D25:P25,"X") -> 1 | T25: =HLOOKUP($C25,'mau 1'!$G$7:$AC$47,19,0) -> 0 | U25: =HLOOKUP($C25,'mau 1'!$G$7:$AC$47,20,0) -> 0 | V25: =HLOOKUP($C25,'mau 1'!$G$7:$AC$47,21,0) -> 0 | W25: =HLOOKUP($C25,'mau 1'!$G$7:$AC$47,22,0) -> 0 | X25: =HLOOKUP($C25,'mau 1'!$G$7:$AC$47,23,0) -> 0 | Y25: =HLOOKUP($C25,'mau 1'!$G$7:$AC$47,24,0) -> 0 | Z25: =HLOOKUP($C25,'mau 1'!$G$7:$AC$47,25,0) -> 0 | AA25: =HLOOKUP($C25,'mau 1'!$G$7:$AC$47,26,0) -> 0 | AB25: =HLOOKUP($C25,'mau 1'!$G$7:$AC$47,27,0) -> 0 | AC25: =HLOOKUP($C25,'mau 1'!$G$7:$AC$47,28,0) -> 0 | AD25: =HLOOKUP($C25,'mau 1'!$G$7:$AC$47,29,0) -> 0 | AE25: =HLOOKUP($C25,'mau 1'!$G$7:$AC$47,30,0) -> 0 | AF25: =HLOOKUP($C25,'mau 1'!$G$7:$AC$47,31,0) -> 0 | AG25: =HLOOKUP($C25,'mau 1'!$G$7:$AC$47,32,0) -> 0 | AH25: =HLOOKUP($C25,'mau 1'!$G$7:$AC$47,33,0) -> x | AI25: =HLOOKUP($C25,'mau 1'!$G$7:$AC$47,34,0) -> 0 | AJ25: =HLOOKUP($C25,'mau 1'!$G$7:$AC$47,35,0) -> 0 | AK25: =HLOOKUP($C25,'mau 1'!$G$7:$AC$47,36,0) -> 0 | AL25: =HLOOKUP($C25,'mau 1'!$G$7:$AC$47,37,0) -> 0 | AM25: =HLOOKUP($C25,'mau 1'!$G$7:$AC$47,38,0) -> 0 | AN25: =COUNTIF(T25:AM25,"X") -> 1
A26: 10 | B26: Nguyễn Thị Thảo | C26: 01007003 | D26: =HLOOKUP($C26,'mau 1'!$G$7:$AC$47,3,0) -> x | E26: =HLOOKUP($C26,'mau 1'!$G$7:$AC$47,4,0) -> 0 | F26: =HLOOKUP($C26,'mau 1'!$G$7:$AC$47,5,0) -> 0 | G26: =HLOOKUP($C26,'mau 1'!$G$7:$AC$47,6,0) -> 0 | H26: =HLOOKUP($C26,'mau 1'!$G$7:$AC$47,7,0) -> 0 | I26: =HLOOKUP($C26,'mau 1'!$G$7:$AC$47,8,0) -> 0 | J26: =HLOOKUP($C26,'mau 1'!$G$7:$AC$47,9,0) -> 0 | K26: =HLOOKUP($C26,'mau 1'!$G$7:$AC$47,10,0) -> 0 | L26: =HLOOKUP($C26,'mau 1'!$G$7:$AC$47,11,0) -> 0 | M26: =HLOOKUP($C26,'mau 1'!$G$7:$AC$47,12,0) -> 0 | N26: =HLOOKUP($C26,'mau 1'!$G$7:$AC$47,13,0) -> 0 | O26: =HLOOKUP($C26,'mau 1'!$G$7:$AC$47,14,0) -> 0 | P26: =HLOOKUP($C26,'mau 1'!$G$7:$AC$47,15,0) -> 0 | Q26: =HLOOKUP($C26,'mau 1'!$G$7:$AC$47,16,0) -> 0 | R26: =HLOOKUP($C26,'mau 1'!$G$7:$AC$47,17,0) -> 0 | S26: =COUNTIF(D26:P26,"X") -> 1 | T26: =HLOOKUP($C26,'mau 1'!$G$7:$AC$47,19,0) -> 0 | U26: =HLOOKUP($C26,'mau 1'!$G$7:$AC$47,20,0) -> 0 | V26: =HLOOKUP($C26,'mau 1'!$G$7:$AC$47,21,0) -> 0 | W26: =HLOOKUP($C26,'mau 1'!$G$7:$AC$47,22,0) -> 0 | X26: =HLOOKUP($C26,'mau 1'!$G$7:$AC$47,23,0) -> 0 | Y26: =HLOOKUP($C26,'mau 1'!$G$7:$AC$47,24,0) -> 0 | Z26: =HLOOKUP($C26,'mau 1'!$G$7:$AC$47,25,0) -> 0 | AA26: =HLOOKUP($C26,'mau 1'!$G$7:$AC$47,26,0) -> 0 | AB26: =HLOOKUP($C26,'mau 1'!$G$7:$AC$47,27,0) -> 0 | AC26: =HLOOKUP($C26,'mau 1'!$G$7:$AC$47,28,0) -> 0 | AD26: =HLOOKUP($C26,'mau 1'!$G$7:$AC$47,29,0) -> 0 | AE26: =HLOOKUP($C26,'mau 1'!$G$7:$AC$47,30,0) -> 0 | AF26: =HLOOKUP($C26,'mau 1'!$G$7:$AC$47,31,0) -> 0 | AG26: =HLOOKUP($C26,'mau 1'!$G$7:$AC$47,32,0) -> 0 | AH26: =HLOOKUP($C26,'mau 1'!$G$7:$AC$47,33,0) -> 0 | AI26: =HLOOKUP($C26,'mau 1'!$G$7:$AC$47,34,0) -> 0 | AJ26: =HLOOKUP($C26,'mau 1'!$G$7:$AC$47,35,0) -> 0 | AK26: =HLOOKUP($C26,'mau 1'!$G$7:$AC$47,36,0) -> 0 | AL26: =HLOOKUP($C26,'mau 1'!$G$7:$AC$47,37,0) -> 0 | AM26: =HLOOKUP($C26,'mau 1'!$G$7:$AC$47,38,0) -> 0 | AN26: =COUNTIF(T26:AM26,"X") -> 0
A27: 11 | B27: Trần Việt Anh | C27: 01002038 | D27: =HLOOKUP($C27,'mau 1'!$G$7:$AC$47,3,0) -> x | E27: =HLOOKUP($C27,'mau 1'!$G$7:$AC$47,4,0) -> 0 | F27: =HLOOKUP($C27,'mau 1'!$G$7:$AC$47,5,0) -> 0 | G27: =HLOOKUP($C27,'mau 1'!$G$7:$AC$47,6,0) -> 0 | H27: =HLOOKUP($C27,'mau 1'!$G$7:$AC$47,7,0) -> 0 | I27: =HLOOKUP($C27,'mau 1'!$G$7:$AC$47,8,0) -> 0 | J27: =HLOOKUP($C27,'mau 1'!$G$7:$AC$47,9,0) -> 0 | K27: =HLOOKUP($C27,'mau 1'!$G$7:$AC$47,10,0) -> 0 | L27: =HLOOKUP($C27,'mau 1'!$G$7:$AC$47,11,0) -> 0 | M27: =HLOOKUP($C27,'mau 1'!$G$7:$AC$47,12,0) -> 0 | N27: =HLOOKUP($C27,'mau 1'!$G$7:$AC$47,13,0) -> 0 | O27: =HLOOKUP($C27,'mau 1'!$G$7:$AC$47,14,0) -> 0 | P27: =HLOOKUP($C27,'mau 1'!$G$7:$AC$47,15,0) -> 0 | Q27: =HLOOKUP($C27,'mau 1'!$G$7:$AC$47,16,0) -> 0 | R27: =HLOOKUP($C27,'mau 1'!$G$7:$AC$47,17,0) -> 0 | S27: =COUNTIF(D27:P27,"X") -> 1 | T27: =HLOOKUP($C27,'mau 1'!$G$7:$AC$47,19,0) -> 0 | U27: =HLOOKUP($C27,'mau 1'!$G$7:$AC$47,20,0) -> 0 | V27: =HLOOKUP($C27,'mau 1'!$G$7:$AC$47,21,0) -> 0 | W27: =HLOOKUP($C27,'mau 1'!$G$7:$AC$47,22,0) -> 0 | X27: =HLOOKUP($C27,'mau 1'!$G$7:$AC$47,23,0) -> 0 | Y27: =HLOOKUP($C27,'mau 1'!$G$7:$AC$47,24,0) -> 0 | Z27: =HLOOKUP($C27,'mau 1'!$G$7:$AC$47,25,0) -> 0 | AA27: =HLOOKUP($C27,'mau 1'!$G$7:$AC$47,26,0) -> x | AB27: =HLOOKUP($C27,'mau 1'!$G$7:$AC$47,27,0) -> 0 | AC27: =HLOOKUP($C27,'mau 1'!$G$7:$AC$47,28,0) -> 0 | AD27: =HLOOKUP($C27,'mau 1'!$G$7:$AC$47,29,0) -> 0 | AE27: =HLOOKUP($C27,'mau 1'!$G$7:$AC$47,30,0) -> 0 | AF27: =HLOOKUP($C27,'mau 1'!$G$7:$AC$47,31,0) -> 0 | AG27: =HLOOKUP($C27,'mau 1'!$G$7:$AC$47,32,0) -> 0 | AH27: =HLOOKUP($C27,'mau 1'!$G$7:$AC$47,33,0) -> 0 | AI27: =HLOOKUP($C27,'mau 1'!$G$7:$AC$47,34,0) -> 0 | AJ27: =HLOOKUP($C27,'mau 1'!$G$7:$AC$47,35,0) -> 0 | AK27: =HLOOKUP($C27,'mau 1'!$G$7:$AC$47,36,0) -> 0 | AL27: =HLOOKUP($C27,'mau 1'!$G$7:$AC$47,37,0) -> 0 | AM27: =HLOOKUP($C27,'mau 1'!$G$7:$AC$47,38,0) -> 0 | AN27: =COUNTIF(T27:AM27,"X") -> 1
A28: 12 | B28: Phạm Huỳnh Thanh Ngân | C28: 01025013 | D28: =HLOOKUP($C28,'mau 1'!$G$7:$AC$47,3,0) -> x | E28: =HLOOKUP($C28,'mau 1'!$G$7:$AC$47,4,0) -> 0 | F28: =HLOOKUP($C28,'mau 1'!$G$7:$AC$47,5,0) -> 0 | G28: =HLOOKUP($C28,'mau 1'!$G$7:$AC$47,6,0) -> 0 | H28: =HLOOKUP($C28,'mau 1'!$G$7:$AC$47,7,0) -> 0 | I28: =HLOOKUP($C28,'mau 1'!$G$7:$AC$47,8,0) -> 0 | J28: =HLOOKUP($C28,'mau 1'!$G$7:$AC$47,9,0) -> 0 | K28: =HLOOKUP($C28,'mau 1'!$G$7:$AC$47,10,0) -> 0 | L28: =HLOOKUP($C28,'mau 1'!$G$7:$AC$47,11,0) -> 0 | M28: =HLOOKUP($C28,'mau 1'!$G$7:$AC$47,12,0) -> 0 | N28: =HLOOKUP($C28,'mau 1'!$G$7:$AC$47,13,0) -> 0 | O28: =HLOOKUP($C28,'mau 1'!$G$7:$AC$47,14,0) -> 0 | P28: =HLOOKUP($C28,'mau 1'!$G$7:$AC$47,15,0) -> 0 | Q28: =HLOOKUP($C28,'mau 1'!$G$7:$AC$47,16,0) -> 0 | R28: =HLOOKUP($C28,'mau 1'!$G$7:$AC$47,17,0) -> 0 | S28: =COUNTIF(D28:P28,"X") -> 1 | T28: =HLOOKUP($C28,'mau 1'!$G$7:$AC$47,19,0) -> 0 | U28: =HLOOKUP($C28,'mau 1'!$G$7:$AC$47,20,0) -> 0 | V28: =HLOOKUP($C28,'mau 1'!$G$7:$AC$47,21,0) -> 0 | W28: =HLOOKUP($C28,'mau 1'!$G$7:$AC$47,22,0) -> 0 | X28: =HLOOKUP($C28,'mau 1'!$G$7:$AC$47,23,0) -> 0 | Y28: =HLOOKUP($C28,'mau 1'!$G$7:$AC$47,24,0) -> 0 | Z28: =HLOOKUP($C28,'mau 1'!$G$7:$AC$47,25,0) -> 0 | AA28: =HLOOKUP($C28,'mau 1'!$G$7:$AC$47,26,0) -> 0 | AB28: =HLOOKUP($C28,'mau 1'!$G$7:$AC$47,27,0) -> 0 | AC28: =HLOOKUP($C28,'mau 1'!$G$7:$AC$47,28,0) -> 0 | AD28: =HLOOKUP($C28,'mau 1'!$G$7:$AC$47,29,0) -> 0 | AE28: =HLOOKUP($C28,'mau 1'!$G$7:$AC$47,30,0) -> 0 | AF28: =HLOOKUP($C28,'mau 1'!$G$7:$AC$47,31,0) -> 0 | AG28: =HLOOKUP($C28,'mau 1'!$G$7:$AC$47,32,0) -> 0 | AH28: =HLOOKUP($C28,'mau 1'!$G$7:$AC$47,33,0) -> 0 | AI28: =HLOOKUP($C28,'mau 1'!$G$7:$AC$47,34,0) -> 0 | AJ28: =HLOOKUP($C28,'mau 1'!$G$7:$AC$47,35,0) -> 0 | AK28: =HLOOKUP($C28,'mau 1'!$G$7:$AC$47,36,0) -> 0 | AL28: =HLOOKUP($C28,'mau 1'!$G$7:$AC$47,37,0) -> 0 | AM28: =HLOOKUP($C28,'mau 1'!$G$7:$AC$47,38,0) -> 0 | AN28: =COUNTIF(T28:AM28,"X") -> 0
... A35: 19 | B35: Lê Thị Huyền | C35: 01021004 | D35: =HLOOKUP($C35,'mau 1'!$G$7:$AC$47,3,0) -> 0 | E35: =HLOOKUP($C35,'mau 1'!$G$7:$AC$47,4,0) -> 0 | F35: =HLOOKUP($C35,'mau 1'!$G$7:$AC$47,5,0) -> x | G35: =HLOOKUP($C35,'mau 1'!$G$7:$AC$47,6,0) -> 0 | H35: =HLOOKUP($C35,'mau 1'!$G$7:$AC$47,7,0) -> 0 | I35: =HLOOKUP($C35,'mau 1'!$G$7:$AC$47,8,0) -> x | J35: =HLOOKUP($C35,'mau 1'!$G$7:$AC$47,9,0) -> 0 | K35: =HLOOKUP($C35,'mau 1'!$G$7:$AC$47,10,0) -> 0 | L35: =HLOOKUP($C35,'mau 1'!$G$7:$AC$47,11,0) -> 0 | M35: =HLOOKUP($C35,'mau 1'!$G$7:$AC$47,12,0) -> 0 | N35: =HLOOKUP($C35,'mau 1'!$G$7:$AC$47,13,0) -> 0 | O35: =HLOOKUP($C35,'mau 1'!$G$7:$AC$47,14,0) -> 0 | P35: =HLOOKUP($C35,'mau 1'!$G$7:$AC$47,15,0) -> 0 | Q35: =HLOOKUP($C35,'mau 1'!$G$7:$AC$47,16,0) -> 0 | R35: =HLOOKUP($C35,'mau 1'!$G$7:$AC$47,17,0) -> 0 | S35: =COUNTIF(D35:P35,"X") -> 2 | T35: =HLOOKUP($C35,'mau 1'!$G$7:$AC$47,19,0) -> 0 | U35: =HLOOKUP($C35,'mau 1'!$G$7:$AC$47,20,0) -> 0 | V35: =HLOOKUP($C35,'mau 1'!$G$7:$AC$47,21,0) -> 0 | W35: =HLOOKUP($C35,'mau 1'!$G$7:$AC$47,22,0) -> 0 | X35: =HLOOKUP($C35,'mau 1'!$G$7:$AC$47,23,0) -> 0 | Y35: =HLOOKUP($C35,'mau 1'!$G$7:$AC$47,24,0) -> 0 | Z35: =HLOOKUP($C35,'mau 1'!$G$7:$AC$47,25,0) -> 0 | AA35: =HLOOKUP($C35,'mau 1'!$G$7:$AC$47,26,0) -> 0 | AB35: =HLOOKUP($C35,'mau 1'!$G$7:$AC$47,27,0) -> 0 | AC35: =HLOOKUP($C35,'mau 1'!$G$7:$AC$47,28,0) -> 0 | AD35: =HLOOKUP($C35,'mau 1'!$G$7:$AC$47,29,0) -> 0 | AE35: =HLOOKUP($C35,'mau 1'!$G$7:$AC$47,30,0) -> 0 | AF35: =HLOOKUP($C35,'mau 1'!$G$7:$AC$47,31,0) -> 0 | AG35: =HLOOKUP($C35,'mau 1'!$G$7:$AC$47,32,0) -> 0 | AH35: =HLOOKUP($C35,'mau 1'!$G$7:$AC$47,33,0) -> 0 | AI35: =HLOOKUP($C35,'mau 1'!$G$7:$AC$47,34,0) -> x | AJ35: =HLOOKUP($C35,'mau 1'!$G$7:$AC$47,35,0) -> 0 | AK35: =HLOOKUP($C35,'mau 1'!$G$7:$AC$47,36,0) -> 0 | AL35: =HLOOKUP($C35,'mau 1'!$G$7:$AC$47,37,0) -> 0 | AM35: =HLOOKUP($C35,'mau 1'!$G$7:$AC$47,38,0) -> 0 | AN35: =COUNTIF(T35:AM35,"X") -> 1
A37: Lưu ý: Các đơn vị gửi file điện tử về phòng TC-HC (Cô Trần Thị Ánh Phượng) qua hệ thống điện tử E-Office (không gửi văn bản giấy).
T38: TP. Hồ Chí minh ngày 23 tháng 4 năm 2026
T39: TRƯỞNG ĐƠN VỊ
T43: Nguyễn Văn Chiến

Sheet Mau 3 
A1: TRƯỜNG CAO ĐẲNG LÝ TỰ TRỌNG | F1: CỘNG HÒA XÃ HỘI CHỦ NGHĨA VIỆT NAM
A2: THÀNH PHỐ HỒ CHÍ MINH | F2: Độc lập - Tự do - Hạnh phúc
A3: PHÒNG THANH TRA GIÁO DỤC - CÔNG TÁC SINH VIÊN
J4: Mẫu 3
A5: DANH SÁCH DỰ KIẾN XẾP LOẠI THI ĐUA THÁNG 4/2026
A7: TT | B7: Họ tên | C7: Mã E-Office | D7: Đơn vị xếp loại thi đua theo quy định | H7: Số ngày nghỉ/ tiết nghỉ | I7: Đơn vị đề nghị mức xếp loại thi đua A1, A2 và sắp xếp danh sách cá nhân theo thứ tự ưu tiên
D8: Xếp loại | E8: Lý do | F8: Số lượng công việc chung của trường | G8: Số lượng công việc chung của đơn vị | I8: Xếp loại | J8: Lý do đề nghị
A9: -1 | B9: -2 | C9: -3 | D9: -4 | E9: -5 | F9: -6 | G9: -7 | H9: -8 | I9: -9 | J9: -10
A10: I. Cán bộ quản lý | D10: 4 | F10: ='Mau 2'!S11 -> 0 | G10: ='Mau 2'!AN11 -> 0
A11: 01 | B11: Nguyễn Văn Chiến | C11: 01007008 | D11: =IF(AND($F11>=2,$G11>=3,H10>=0),"A1",IF(AND($F11>=3,$G11>=1,H10>=0),"A1",IF(AND($F11>=4,$G11>=0,H10>=0),"A1",IF(AND($F11>=2,$G11>=2,H10>=0),"A2",IF(AND($F11>=3,$G11>=0,H10>=0),"A2",IF(AND(OR($F11>=1,$G11>=2),H10>=-2),"A3","A4")))))) -> A2 | F11: =IFERROR(VLOOKUP($C11,'Mau 2'!$C$12:$AN$35,17,0),0) -> 3 | G11: =IFERROR(VLOOKUP($C11,'Mau 2'!$C$12:$AN$35,38,0),0) -> 0 | H11: Nghỉ phép ngày 21/4/2026
A12: 02 | B12: Nguyễn Thị Nhuận | C12: 01022003 | D12: =IF(AND($F12>=2,$G12>=3,H11>=0),"A1",IF(AND($F12>=3,$G12>=1,H11>=0),"A1",IF(AND($F12>=4,$G12>=0,H11>=0),"A1",IF(AND($F12>=2,$G12>=2,H11>=0),"A2",IF(AND($F12>=3,$G12>=0,H11>=0),"A2",IF(AND(OR($F12>=1,$G12>=2),H11>=-2),"A3","A4")))))) -> A2 | F12: =IFERROR(VLOOKUP($C12,'Mau 2'!$C$12:$AN$35,17,0),0) -> 3 | G12: =IFERROR(VLOOKUP($C12,'Mau 2'!$C$12:$AN$35,38,0),0) -> 0
A13: 03 | B13: Trang Thị Xuân Uyên | C13: 01021001 | D13: =IF(AND($F13>=2,$G13>=3,H13>=0),"A1",IF(AND($F13>=3,$G13>=1,H13>=0),"A1",IF(AND($F13>=4,$G13>=0,H13>=0),"A1",IF(AND($F13>=2,$G13>=2,H13>=0),"A2",IF(AND($F13>=3,$G13>=0,H13>=0),"A2",IF(AND(OR($F13>=1,$G13>=2),H13>=-2),"A3","A4")))))) -> A2 | F13: =IFERROR(VLOOKUP($C13,'Mau 2'!$C$12:$AN$35,17,0),0) -> 2 | G13: =IFERROR(VLOOKUP($C13,'Mau 2'!$C$12:$AN$35,38,0),0) -> 2 | I13: A1 | J13: Tích cực hỗ trợ CB-GV-NV khám sức khỏe T3/2026
A14: 04 | B14: Hồ Ngọc Chi | C14: 01015042 | D14: =IF(AND($F14>=2,$G14>=3,H14>=0),"A1",IF(AND($F14>=3,$G14>=1,H14>=0),"A1",IF(AND($F14>=4,$G14>=0,H14>=0),"A1",IF(AND($F14>=2,$G14>=2,H14>=0),"A2",IF(AND($F14>=3,$G14>=0,H14>=0),"A2",IF(AND(OR($F14>=1,$G14>=2),H14>=-2),"A3","A4")))))) -> A1 | F14: =IFERROR(VLOOKUP($C14,'Mau 2'!$C$12:$AN$35,17,0),0) -> 3 | G14: =IFERROR(VLOOKUP($C14,'Mau 2'!$C$12:$AN$35,38,0),0) -> 3
A15: II. Giảng viên/nhân viên | D15: 20 | F15: =IFERROR(VLOOKUP($C15,'Mau 2'!$C$12:$AN$35,17,0),0) -> 0 | G15: =IFERROR(VLOOKUP($C15,'Mau 2'!$C$12:$AN$35,38,0),0) -> 0
A16: 01 | B16: Nguyễn Thị Kim Anh | C16: 01009018 | D16: =IF(AND($F16>=2,$G16>=3,H16>=0),"A1",IF(AND($F16>=3,$G16>=1,H16>=0),"A1",IF(AND($F16>=4,$G16>=0,H16>=0),"A1",IF(AND($F16>=2,$G16>=2,H16>=0),"A2",IF(AND($F16>=3,$G16>=0,H16>=0),"A2",IF(AND(OR($F16>=1,$G16>=2),H16>=-2),"A3","A4")))))) -> A3 | F16: =IFERROR(VLOOKUP($C16,'Mau 2'!$C$12:$AN$35,17,0),0) -> 2 | G16: =IFERROR(VLOOKUP($C16,'Mau 2'!$C$12:$AN$35,38,0),0) -> 1
A17: 02 | B17: Phạm Thị Lê Chi | C17: 01009010 | D17: =IF(AND($F17>=2,$G17>=3,H17>=0),"A1",IF(AND($F17>=3,$G17>=1,H17>=0),"A1",IF(AND($F17>=4,$G17>=0,H17>=0),"A1",IF(AND($F17>=2,$G17>=2,H17>=0),"A2",IF(AND($F17>=3,$G17>=0,H17>=0),"A2",IF(AND(OR($F17>=1,$G17>=2),H17>=-2),"A3","A4")))))) -> A3 | F17: =IFERROR(VLOOKUP($C17,'Mau 2'!$C$12:$AN$35,17,0),0) -> 2 | G17: =IFERROR(VLOOKUP($C17,'Mau 2'!$C$12:$AN$35,38,0),0) -> 0
A18: 03 | B18: Trần Thị Thu Hà | C18: 01002004 | D18: =IF(AND($F18>=2,$G18>=3,H18>=0),"A1",IF(AND($F18>=3,$G18>=1,H18>=0),"A1",IF(AND($F18>=4,$G18>=0,H18>=0),"A1",IF(AND($F18>=2,$G18>=2,H18>=0),"A2",IF(AND($F18>=3,$G18>=0,H18>=0),"A2",IF(AND(OR($F18>=1,$G18>=2),H18>=-2),"A3","A4")))))) -> A3 | F18: =IFERROR(VLOOKUP($C18,'Mau 2'!$C$12:$AN$35,17,0),0) -> 1 | G18: =IFERROR(VLOOKUP($C18,'Mau 2'!$C$12:$AN$35,38,0),0) -> 3
A19: 04 | B19: Nguyễn Tất Thắng | C19: 01009008 | D19: =IF(AND($F19>=2,$G19>=3,H19>=0),"A1",IF(AND($F19>=3,$G19>=1,H19>=0),"A1",IF(AND($F19>=4,$G19>=0,H19>=0),"A1",IF(AND($F19>=2,$G19>=2,H19>=0),"A2",IF(AND($F19>=3,$G19>=0,H19>=0),"A2",IF(AND(OR($F19>=1,$G19>=2),H19>=-2),"A3","A4")))))) -> A3 | F19: =IFERROR(VLOOKUP($C19,'Mau 2'!$C$12:$AN$35,17,0),0) -> 1 | G19: =IFERROR(VLOOKUP($C19,'Mau 2'!$C$12:$AN$35,38,0),0) -> 3
A20: 05 | B20: Mai Thu Hương | C20: 01007004 | D20: =IF(AND($F20>=2,$G20>=3,H20>=0),"A1",IF(AND($F20>=3,$G20>=1,H20>=0),"A1",IF(AND($F20>=4,$G20>=0,H20>=0),"A1",IF(AND($F20>=2,$G20>=2,H20>=0),"A2",IF(AND($F20>=3,$G20>=0,H20>=0),"A2",IF(AND(OR($F20>=1,$G20>=2),H20>=-2),"A3","A4")))))) -> A3 | F20: =IFERROR(VLOOKUP($C20,'Mau 2'!$C$12:$AN$35,17,0),0) -> 1 | G20: =IFERROR(VLOOKUP($C20,'Mau 2'!$C$12:$AN$35,38,0),0) -> 0
A21: 06 | B21: Nguyễn Thùy Dương | C21: 01014012 | D21: =IF(AND($F21>=2,$G21>=3,H21>=0),"A1",IF(AND($F21>=3,$G21>=1,H21>=0),"A1",IF(AND($F21>=4,$G21>=0,H21>=0),"A1",IF(AND($F21>=2,$G21>=2,H21>=0),"A2",IF(AND($F21>=3,$G21>=0,H21>=0),"A2",IF(AND(OR($F21>=1,$G21>=2),H21>=-2),"A3","A4")))))) -> A3 | F21: =IFERROR(VLOOKUP($C21,'Mau 2'!$C$12:$AN$35,17,0),0) -> 1 | G21: =IFERROR(VLOOKUP($C21,'Mau 2'!$C$12:$AN$35,38,0),0) -> 0 | H21: Nghỉ phép ngày 09/4/2026
A22: 07 | B22: Phan Thị Ngọc Phượng | C22: 01002018 | D22: =IF(AND($F22>=2,$G22>=3,H22>=0),"A1",IF(AND($F22>=3,$G22>=1,H22>=0),"A1",IF(AND($F22>=4,$G22>=0,H22>=0),"A1",IF(AND($F22>=2,$G22>=2,H22>=0),"A2",IF(AND($F22>=3,$G22>=0,H22>=0),"A2",IF(AND(OR($F22>=1,$G22>=2),H22>=-2),"A3","A4")))))) -> A1 | F22: =IFERROR(VLOOKUP($C22,'Mau 2'!$C$12:$AN$35,17,0),0) -> 2 | G22: =IFERROR(VLOOKUP($C22,'Mau 2'!$C$12:$AN$35,38,0),0) -> 4
A23: 08 | B23: Phạm Huy Hoàng | C23: 01009011 | D23: =IF(AND($F23>=2,$G23>=3,H23>=0),"A1",IF(AND($F23>=3,$G23>=1,H23>=0),"A1",IF(AND($F23>=4,$G23>=0,H23>=0),"A1",IF(AND($F23>=2,$G23>=2,H23>=0),"A2",IF(AND($F23>=3,$G23>=0,H23>=0),"A2",IF(AND(OR($F23>=1,$G23>=2),H23>=-2),"A3","A4")))))) -> A1 | F23: =IFERROR(VLOOKUP($C23,'Mau 2'!$C$12:$AN$35,17,0),0) -> 2 | G23: =IFERROR(VLOOKUP($C23,'Mau 2'!$C$12:$AN$35,38,0),0) -> 3
A24: 09 | B24: Trần Anh Mỹ | C24: 01009028 | D24: =IF(AND($F24>=2,$G24>=3,H24>=0),"A1",IF(AND($F24>=3,$G24>=1,H24>=0),"A1",IF(AND($F24>=4,$G24>=0,H24>=0),"A1",IF(AND($F24>=2,$G24>=2,H24>=0),"A2",IF(AND($F24>=3,$G24>=0,H24>=0),"A2",IF(AND(OR($F24>=1,$G24>=2),H24>=-2),"A3","A4")))))) -> A3 | F24: =IFERROR(VLOOKUP($C24,'Mau 2'!$C$12:$AN$35,17,0),0) -> 1 | G24: =IFERROR(VLOOKUP($C24,'Mau 2'!$C$12:$AN$35,38,0),0) -> 1
A25: 10 | B25: Nguyễn Thị Thảo | C25: 01007003 | D25: =IF(AND($F25>=2,$G25>=3,H25>=0),"A1",IF(AND($F25>=3,$G25>=1,H25>=0),"A1",IF(AND($F25>=4,$G25>=0,H25>=0),"A1",IF(AND($F25>=2,$G25>=2,H25>=0),"A2",IF(AND($F25>=3,$G25>=0,H25>=0),"A2",IF(AND(OR($F25>=1,$G25>=2),H25>=-2),"A3","A4")))))) -> A3 | F25: =IFERROR(VLOOKUP($C25,'Mau 2'!$C$12:$AN$35,17,0),0) -> 1 | G25: =IFERROR(VLOOKUP($C25,'Mau 2'!$C$12:$AN$35,38,0),0) -> 0
A26: 11 | B26: Trần Việt Anh | C26: 01002038 | D26: =IF(AND($F26>=2,$G26>=3,H26>=0),"A1",IF(AND($F26>=3,$G26>=1,H26>=0),"A1",IF(AND($F26>=4,$G26>=0,H26>=0),"A1",IF(AND($F26>=2,$G26>=2,H26>=0),"A2",IF(AND($F26>=3,$G26>=0,H26>=0),"A2",IF(AND(OR($F26>=1,$G26>=2),H26>=-2),"A3","A4")))))) -> A3 | F26: =IFERROR(VLOOKUP($C26,'Mau 2'!$C$12:$AN$35,17,0),0) -> 1 | G26: =IFERROR(VLOOKUP($C26,'Mau 2'!$C$12:$AN$35,38,0),0) -> 1 | H26: Nghỉ phép ngày 03/4/2026
A27: 12 | B27: Phạm Huỳnh Kim Ngân | C27: 01025013 | D27: =IF(AND($F27>=2,$G27>=3,H27>=0),"A1",IF(AND($F27>=3,$G27>=1,H27>=0),"A1",IF(AND($F27>=4,$G27>=0,H27>=0),"A1",IF(AND($F27>=2,$G27>=2,H27>=0),"A2",IF(AND($F27>=3,$G27>=0,H27>=0),"A2",IF(AND(OR($F27>=1,$G27>=2),H27>=-2),"A3","A4")))))) -> A3 | F27: =IFERROR(VLOOKUP($C27,'Mau 2'!$C$12:$AN$35,17,0),0) -> 1 | G27: =IFERROR(VLOOKUP($C27,'Mau 2'!$C$12:$AN$35,38,0),0) -> 0 | H27: Nghỉ phép ngày 06/4/2026
A28: 13 | B28: Đặng Thu Hà | C28: 01018002 | D28: =IF(AND($F28>=2,$G28>=3,H28>=0),"A1",IF(AND($F28>=3,$G28>=1,H28>=0),"A1",IF(AND($F28>=4,$G28>=0,H28>=0),"A1",IF(AND($F28>=2,$G28>=2,H28>=0),"A2",IF(AND($F28>=3,$G28>=0,H28>=0),"A2",IF(AND(OR($F28>=1,$G28>=2),H28>=-2),"A3","A4")))))) -> A3 | F28: =IFERROR(VLOOKUP($C28,'Mau 2'!$C$12:$AN$35,17,0),0) -> 1 | G28: =IFERROR(VLOOKUP($C28,'Mau 2'!$C$12:$AN$35,38,0),0) -> 2 | I28: A2 | J28: Tích cực trong công tác Tuyển sinh
A29: 14 | B29: Trần Thị Diễm Thúy | C29: 01018005 | D29: =IF(AND($F29>=2,$G29>=3,H29>=0),"A1",IF(AND($F29>=3,$G29>=1,H29>=0),"A1",IF(AND($F29>=4,$G29>=0,H29>=0),"A1",IF(AND($F29>=2,$G29>=2,H29>=0),"A2",IF(AND($F29>=3,$G29>=0,H29>=0),"A2",IF(AND(OR($F29>=1,$G29>=2),H29>=-2),"A3","A4")))))) -> A3 | F29: =IFERROR(VLOOKUP($C29,'Mau 2'!$C$12:$AN$35,17,0),0) -> 0 | G29: =IFERROR(VLOOKUP($C29,'Mau 2'!$C$12:$AN$35,38,0),0) -> 3
A30: 15 | B30: Nguyễn Thị Trang | C30: 01018008 | D30: =IF(AND($F30>=2,$G30>=3,H30>=0),"A1",IF(AND($F30>=3,$G30>=1,H30>=0),"A1",IF(AND($F30>=4,$G30>=0,H30>=0),"A1",IF(AND($F30>=2,$G30>=2,H30>=0),"A2",IF(AND($F30>=3,$G30>=0,H30>=0),"A2",IF(AND(OR($F30>=1,$G30>=2),H30>=-2),"A3","A4")))))) -> A3 | F30: =IFERROR(VLOOKUP($C30,'Mau 2'!$C$12:$AN$35,17,0),0) -> 1 | G30: =IFERROR(VLOOKUP($C30,'Mau 2'!$C$12:$AN$35,38,0),0) -> 4 | I30: A2 | J30: Tích cực trong công tác của phòng và nhà trường
A31: 16 | B31: Hà Thị Hậu | C31: 01018007 | D31: =IF(AND($F31>=2,$G31>=3,H31>=0),"A1",IF(AND($F31>=3,$G31>=1,H31>=0),"A1",IF(AND($F31>=4,$G31>=0,H31>=0),"A1",IF(AND($F31>=2,$G31>=2,H31>=0),"A2",IF(AND($F31>=3,$G31>=0,H31>=0),"A2",IF(AND(OR($F31>=1,$G31>=2),H31>=-2),"A3","A4")))))) -> A3 | E31: A4 | F31: =IFERROR(VLOOKUP($C31,'Mau 2'!$C$12:$AN$35,17,0),0) -> 0 | G31: =IFERROR(VLOOKUP($C31,'Mau 2'!$C$12:$AN$35,38,0),0) -> 2 | H31: Nghỉ phép ngày 10,11,13/4/2026
A32: 17 | B32: Lư Diễm Phúc | C32: 01018009 | D32: =IF(AND($F32>=2,$G32>=3,H32>=0),"A1",IF(AND($F32>=3,$G32>=1,H32>=0),"A1",IF(AND($F32>=4,$G32>=0,H32>=0),"A1",IF(AND($F32>=2,$G32>=2,H32>=0),"A2",IF(AND($F32>=3,$G32>=0,H32>=0),"A2",IF(AND(OR($F32>=1,$G32>=2),H32>=-2),"A3","A4")))))) -> A3 | F32: =IFERROR(VLOOKUP($C32,'Mau 2'!$C$12:$AN$35,17,0),0) -> 0 | G32: =IFERROR(VLOOKUP($C32,'Mau 2'!$C$12:$AN$35,38,0),0) -> 2
A33: 18 | B33: Bùi Thị Lan Anh | C33: 01021003 | D33: =IF(AND($F33>=2,$G33>=3,H33>=0),"A1",IF(AND($F33>=3,$G33>=1,H33>=0),"A1",IF(AND($F33>=4,$G33>=0,H33>=0),"A1",IF(AND($F33>=2,$G33>=2,H33>=0),"A2",IF(AND($F33>=3,$G33>=0,H33>=0),"A2",IF(AND(OR($F33>=1,$G33>=2),H33>=-2),"A3","A4")))))) -> A3 | F33: =IFERROR(VLOOKUP($C33,'Mau 2'!$C$12:$AN$35,17,0),0) -> 2 | G33: =IFERROR(VLOOKUP($C33,'Mau 2'!$C$12:$AN$35,38,0),0) -> 1 | I33: A2 | J33: Tích cực hỗ trợ CB-GV-NV khám sức khỏe T3/2026
A34: 19 | B34: Lê Thị Huyền | C34: 01021004 | D34: =IF(AND($F34>=2,$G34>=3,H34>=0),"A1",IF(AND($F34>=3,$G34>=1,H34>=0),"A1",IF(AND($F34>=4,$G34>=0,H34>=0),"A1",IF(AND($F34>=2,$G34>=2,H34>=0),"A2",IF(AND($F34>=3,$G34>=0,H34>=0),"A2",IF(AND(OR($F34>=1,$G34>=2),H34>=-2),"A3","A4")))))) -> A3 | F34: =IFERROR(VLOOKUP($C34,'Mau 2'!$C$12:$AN$35,17,0),0) -> 2 | G34: =IFERROR(VLOOKUP($C34,'Mau 2'!$C$12:$AN$35,38,0),0) -> 1 | I34: A2 | J34: Tích cực hỗ trợ CB-GV-NV khám sức khỏe T3/2026
B36: Kết quả xếp loại | D36: Cán bộ quản lý | F36: Giảng viên/Nhân viên
D37: Số lượng | E37: Tỷ lệ (%) | F37: Số lượng | G37: Tỷ lệ (%)
B38: Xếp loại A1 | D38: =COUNTIF($D$11:$D$14,"A1") -> 1 | E38: =ROUND(D38/$D$10,2) -> 0.25 | F38: =COUNTIF($D$16:$D$34,"A1") -> 2 | G38: =ROUND(F38/$D$15,2) -> 0.1
B39: Xếp loại A2 | D39: =COUNTIF($D$11:$D$14,"A2") -> 3 | E39: =ROUND(D39/$D$10,2) -> 0.75 | F39: =COUNTIF($D$16:$D$34,"A2") -> 0 | G39: =ROUND(F39/$D$15,2) -> 0
B40: Xếp loại A3 | D40: =COUNTIF($D$11:$D$14,"A3") -> 0 | E40: =ROUND(D40/$D$10,2) -> 0 | F40: =COUNTIF($D$16:$D$34,"A3") -> 17 | G40: =ROUND(F40/$D$15,2) -> 0.85
B41: Xếp loại A4 | D41: =COUNTIF($D$11:$D$14,"A4") -> 0 | E41: =ROUND(D41/$D$10,2) -> 0 | F41: =COUNTIF($D$16:$D$34,"A4") -> 0 | G41: =ROUND(F41/$D$15,2) -> 0
B42: Xếp loại ADN | D42: =COUNTIF($D$14:$D$14,"A DN") -> 0 | E42: =ROUND(D42/$D$10,2) -> 0 | F42: =COUNTIF($D$16:$D$34,"ADN") -> 0 | G42: =ROUND(F42/$D$15,2) -> 0
...
