Workbook
Name _Hlk198714537: 'MẪU 02'!$A$2

Sheet MẪU 01-A
A1: UBND THÀNH PHỐ HỒ CHÍ MINH TRƯỜNG CAO ĐẲNG LÝ TỰ TRỌNG THÀNH PHỐ HỒ CHÍ MINH | D1: CỘNG HÒA XÃ HỘI CHỦ NGHĨA VIỆT NAM Độc lập - Tự do - Hạnh phúc
F2: TP. HCM, ngày 16 tháng 6 năm 2026
A3: BẢN TỰ ĐÁNH GIÁ, XẾP LOẠI CỦA CÁ NHÂN
A4: Quý 2, Năm 2026
B5: Họ và tên: Lê Quang Liêm Ngày sinh: 19/01/1972
B6: Chức vụ Đảng: Đảng viên
B7: Chức vụ chính quyền: Trưởng phòng CSVC-DV
B8: Chức vụ đoàn thể: Ủy viên BCH Công đoàn
B9: Đơn vị công tác: Phòng CSVC-DV
B10: I. Tự đánh giá kết quả thực hiện nhiệm vụ
B11: Trên cơ sở nhiệm vụ được giao, cá nhân tự đánh giá về kết quả thực hiện nhiệm vụ theo quý như sau:
A12: A | B12: NHÓM TIÊU CHÍ CHUNG (30 ĐIỂM) - Các tiêu chí thực hiện theo Quy định số 366-QĐ/TW của Bộ Chính trị
A13: TT | B13: Tiêu chí / Nội dung | E13: Đảm bảo (Đánh dấu X) | F13: Không đảm bảo (Đánh dấu X) | G13: Điểm tối đa | H13: Điểm đạt (Chấm tối đa nếu đảm bảo; Chấm 0 điểm nếu không đảm bảo) | I13: Ghi chú
A14: 1 | B14: Về phẩm chất chính trị, đạo đức, lối sống, thực hiện trách nhiệm nêu gương | G14: =SUM(G15:G23) -> 18 | H14: =SUM(H15:H23) -> 18
A15: 1.1 | B15: Tuyệt đối trung thành với Đảng, Tổ quốc và Nhân dân; kiên định chủ nghĩa Mác - Lênin, tư tưởng Hồ Chí Minh, mục tiêu độc lập dân tộc và chủ nghĩa xã hội. Có lập trường, quan điểm, bản lĩnh chính trị vững vàng; kiên quyết bảo vệ nền tảng tư tưởng, Cương lĩnh chính trị, đường lối của Đảng, Hiến pháp, pháp luật của Nhà nước; đấu tranh phản bác các quan điểm sai trái, thù địch, các biểu hiện suy thoái, "tự diễn biến", "tự chuyển hoá". | E15: X | G15: 2 | H15: 2
A16: 1.2 | B16: Có tinh thần yêu nước sâu sắc, tận tuỵ phục vụ Nhân dân, sâu sát cơ sở, luôn hành động vì lợi ích của Nhân dân. Đặt lợi ích của Đảng, quốc gia - dân tộc, Nhân dân, tập thể lên trên lợi ích cá nhân, sẵn sàng hy sinh vì sự nghiệp cách mạng của Đảng, vì độc lập, tự do của Tổ quốc, vì hạnh phúc của Nhân dân. | E16: X | G16: 2 | H16: 2
A17: 1.3 | B17: Chấp hành nghiêm chủ trương, đường lối, nghị quyết, chỉ thị, quy định, nguyên tắc tổ chức, kỷ luật của Đảng, nhất là nguyên tắc tập trung dân chủ, tự phê bình và phê bình; chấp hành nghiêm pháp luật của Nhà nước và quy định của cơ quan, đơn vị. Tuyệt đối chấp hành sự phân công của tổ chức, yên tâm công tác và hoàn thành tốt mọi nhiệm vụ được giao. | E17: X | G17: 2 | H17: 2
A18: 1.4 | B18: Có tinh thần tự giác, trách nhiệm cao trong nghiên cứu, học tập chủ nghĩa Mác - Lênin, tư tưởng Hồ Chí Minh, các nghị quyết, chỉ thị của Đảng và các chương trình bồi dưỡng, cập nhật kiến thức mới nhằm nâng cao trình độ về mọi mặt, đáp ứng yêu cầu, nhiệm vụ. | E18: X | G18: 2 | H18: 2
A19: 1.5 | B19: Có phẩm chất đạo đức, lối sống trong sáng, trung thực, khiêm tốn, chân thành, giản dị; cần, kiệm, liêm, chính, chí công vô tư; chấp hành nghiêm quy định về chuẩn mực đạo đức cách mạng của cán bộ, đảng viên trong giai đoạn mới, trách nhiệm nêu gương; không vi phạm Quy định về những điều đảng viên không được làm. Không né tránh công việc, chạy theo thành tích; không vi phạm đạo đức, lối sống đến mức bị xử lý kỷ luật. | E19: X | G19: 2 | H19: 2
A20: 1.6 | B20: Không tham vọng quyền lực; không chạy chức, chạy quyền; không tham nhũng, lãng phí, cơ hội, vụ lợi, cục bộ, lợi ích nhóm; không để gia đình, người thân và người khác lợi dụng chức vụ, vị trí công tác để trục lợi. Không có biểu hiện suy thoái về tư tưởng chính trị, đạo đức, lối sống, những biểu hiện "tự diễn biến", "tự chuyển hoá" trong nội bộ. Kiên quyết đấu tranh chống quan liêu, cửa quyền, tham nhũng, xa hoa, lãng phí, tiêu cực, chủ nghĩa cá nhân, lối sống cơ hội, thực dụng, bè phái, lợi ích nhóm, nói không đi đôi với làm. | E20: X | G20: 2 | H20: 2
A21: 1.7 | B21: Có uy tín cao, tiêu biểu về phẩm chất đạo đức và phong cách công tác; là trung tâm đoàn kết, thương yêu đồng chí, đồng nghiệp. | E21: X | G21: 2 | H21: 2
A22: 1.8 | B22: Có tinh thần chủ động, đổi mới sáng tạo; phấn đấu vì mục tiêu phát triển của cơ quan, đơn vị, đóng góp vào mục tiêu chung của đất nước. | E22: X | G22: 2 | H22: 2
A23: 1.9 | B23: Thực hiện việc kê khai và công khai tài sản, thu nhập theo quy định. Báo cáo đầy đủ, trung thực, cung cấp thông tin chính xác, khách quan về những nội dung liên quan đến việc thực hiện chức trách, nhiệm vụ được giao và hoạt động của cơ quan, tổ chức, đơn vị với cấp trên khi được yêu cầu. | E23: X | G23: 2 | H23: 2
A24: 2 | B24: Tư duy đổi mới, chiến lược, khát vọng cống hiến, dám nghĩ dám làm | G24: =SUM(G25:G28) -> 4 | H24: =SUM(H25:H28) -> 4
A25: 2.1 | B25: Có tư duy đổi mới, tầm nhìn chiến lược, khả năng lãnh đạo, chỉ đạo thích ứng với sự phát triển của thời đại và xu thế toàn cầu hoá; phương pháp làm việc khoa học, nhạy bén chính trị; có năng lực cụ thể hoá trong lãnh đạo, chỉ đạo cơ quan, đơn vị thực hiện và hoàn thành tốt chức năng, nhiệm vụ được giao. | E25: X | G25: 1 | H25: 1
A26: 2.2 | B26: Luôn bám sát thực tiễn, có nhiều cách làm hay, sáng tạo, đạt hiệu quả cao trong lãnh đạo, chỉ đạo, tổ chức thực hiện nhiệm vụ; xây dựng cấp uỷ, tổ chức đảng trong sạch, vững mạnh, cơ quan, đơn vị vững mạnh toàn diện. | E26: X | G26: 1 | H26: 1
A27: 2.3 | B27: Nói đi đôi với làm, dám nghĩ, dám làm, dám chịu trách nhiệm, dám đột phá vì lợi ích chung. Có khả năng phân tích, dự báo tình hình, phát hiện những khó khăn, bất cập, thời cơ, thuận lợi trong thực tiễn; đề xuất hoặc quyết định những giải pháp phù hợp, kịp thời, hiệu quả. | E27: X | G27: 1 | H27: 1
A28: 2.4 | B28: Có khát vọng phấn đấu, cống hiến; có khả năng quy tụ và phát huy được sức mạnh của tập thể, cá nhân trong cơ quan, đơn vị và các cơ quan, đơn vị có liên quan. | E28: X | G28: 1 | H28: 1
A29: 3 | B29: Về tự phê bình và phê bình, tự soi, tự sửa, khắc phục hạn chế, khuyết điểm | G29: =SUM(G30:G33) -> 8 | H29: =SUM(H30:H33) -> 8
A30: 3.1 | B30: Chủ động, nghiêm túc thực hiện tự phê bình và phê bình, có tinh thần cầu thị và tiếp thu phản biện, góp ý. | E30: X | G30: 2 | H30: 2
A31: 3.2 | B31: Có kế hoạch rõ ràng và quyết liệt trong khắc phục hạn chế, khuyết điểm đã được chỉ ra. | E31: X | G31: 2 | H31: 2
A32: 3.3 | B32: Kết quả khắc phục hoàn thành từ ≥ 80% nội dung, có tiến bộ rõ, được tổ chức đánh giá tốt; không để tái diễn tồn tại. | E32: X | G32: 2 | H32: 2
A33: 3.4 | B33: Tự soi, tự sửa trên tinh thần trách nhiệm chính trị cao, không né tránh, không đổ lỗi. | E33: X | G33: 2 | H33: 2
A34: Tổng (A) = | G34: =SUM(G29,G24,G14) -> 30 | H34: 30
A35: B | B35: KẾT QUẢ THỰC HIỆN NHIỆM VỤ ĐƯỢC GIAO (70 ĐIỂM) | G35: Điểm tối đa (70 điểm) | H35: Điểm đạt được = Điểm KPI đã tính tại bảng tính điểm | I35: Ghi chú
A36: TỔNG (B) = Điểm KPI đã tính tại Bảng tính điểm | G36: 70 | H36: {='MẪU 01-C'!C71:D71} -> 70 | I36: 0
A37: TỔNG (A+ B) = | G37: =G36+G34 -> 100 | H37: =H34+H36 -> 100
B38: II. Tự đề xuất xếp loại mức chất lượng: Hoàn thành xuất sắc nhiệm vụ
B39: (Theo 04 mức: - Hoàn thành xuất sắc nhiệm vụ, 2- Hoàn thành tốt nhiệm vụ, 3- Hoàn thành nhiệm vụ và 4- Không hoàn thành nhiệm vụ)
F40: CÁ NHÂN TỰ ĐÁNH GIÁ
F41: (Ký, ghi rõ họ tên)
G45: Lê Quang Liêm
B46: III. Nhận xét, đánh giá của cấp có thẩm quyền
B47: - Chấm điểm: ….........................…................................................................................................................................................................................…....................................................
B48: - Đề xuất xếp loại: …................................................................................................................................................................................…........................................................................
B49: - Mức độ đáp ứng đối với các mục tiêu, nhiệm vụ then chốt: ….........................................................................................................................................................................................
F50: Q. HIỆU TRƯỞNG
F55: Đinh Văn Đệ

Sheet MẪU 01-B
A1: TRƯỜNG CAO ĐẲNG LÝ TỰ TRỌNG TP. HỒ CHÍ MINH
A2: BẢNG THỐNG KÊ CÔNG VIỆC QUÝ II NĂM 2026 (Tính từ ngày 10/3/2026 đến ngày 10/6/2026)
A4: TT | B4: Tên công việc | C4: Kết quả đầu ra | D4: Thời hạn hoàn thành | E4: Loại công việc | F4: Điểm chuẩn | G4: Hệ số độ khó | H4: Điểm quy đổi tối đa | I4: Minh chứng (Số ký hiệu văn bản)
A5: 1 | B5: 2 | C5: 3 | D5: 4 | E5: 5 | F5: 6 | G5: 7 | H5: 8 | I5: 9
A6: 1 | B6: Làm phông nền trước cổng và khu vực tuyển sinh; | C6: Tờ trình | D6: 11/3/2026 | E6: Thường xuyên | F6: 10 | G6: 1 | H6: =G6*F6 -> 10 | I6: 914/KH-LTT-ĐT ngày 30 tháng 10 năm 2025
A7: 2 | B7: Báo cáo kết quả thực hiện Đối thoại giữa BGH nhà trường và SV năm học 2025-2026 theo kế hoạch số 160/KH-LTT-TTGD ngày 06/3/2026 Tại HTA | C7: Báo cáo | D7: 46359 | E7: Thường xuyên | F7: 10 | G7: 1 | H7: =G7*F7 -> 10 | I7: 160/KH-LTT-TTGD…..... ngày 6/3/2026
A8: 3 | B8: Hỗ trợ Chương trình "Ngày hội 4S - Lái xe an toàn" tại HTA | C8: Báo cáo | D8: 14/3/2026 | E8: Thường xuyên | F8: 10 | G8: 1 | H8: =G8*F8 -> 10 | I8: KH công tác ngày 14/3/2026
A9: 4 | B9: Hỗ trợ Công ty Cổ phần tư vấn giáo dục Bách Khoa tổ chức lớp học "Thấu hiểu nhân tâm" tại HTL | C9: Kế hoạch Công tác | D9: 18/3/2026 | E9: Thường xuyên | F9: 10 | G9: 1.1 | H9: =G9*F9 -> 11 | I9: KH công tác ngày 18/3/2026
A10: 5 | B10: Tổ chức gặp gỡ và đối thoại giữa sinh viên nội trú với Ban Lãnh đạo Nhà trường tại HTA | C10: Kế hoạch | D10: 19/3/2026 | E10: Đột xuất | F10: 12 | G10: 1 | H10: =G10*F10 -> 12 | I10: 155/KH-LTT-DV ngày 05/3/2026
A11: 6 | B11: Công tác chuẩn bị Lễ tiếp nhận và bàn giao xe ô tô điện Vinfast tại Xưởng thực hành ô tô | C11: Kế hoạch | D11: 20/3/2026 | E11: Thường xuyên | F11: 10 | G11: 1 | H11: =G11*F11 -> 10 | I11: 159/KH-LTT-TTĐT ngày 6/3/2026
A12: 7 | B12: Chuẩn bị cơ sở vật chất hỗ trợ Khám sức khỏe CB - GV - NV (Lấy máu xét nghiệm, chụp X - quang) | C12: Tờ trình | D12: 20/3/2026 | E12: Thường xuyên | F12: 10 | G12: 1 | H12: =G12*F12 -> 10 | I12: 129/KH-LTT-TTGD ngày 10/02/2026
A13: 8 | B13: Công ty Cổ phần tư vấn giáo dục Bách Khoa tổ chức lớp học: "Thấu hiểu nhân tâm" tại HTL | C13: Kế hoạch Công tác | D13: 21/3/2026 | E13: Thường xuyên | F13: 10 | G13: 1 | H13: =G13*F13 -> 10 | I13: KH công tác ngày 21/3/2026
A14: 9 | B14: Công ty Cổ phần tư vấn giáo dục Bách Khoa Tổ chức lớp học "Thấu hiểu nhân tâm" tại HTL | C14: Kế hoạch Công tác | D14: 22/3/2026 | E14: Thường xuyên | F14: 10 | G14: 1 | H14: =G14*F14 -> 10 | I14: KH công tác ngày 22/3/2026
A15: 10 | B15: Công ty cổ phần tư vấn giáo dục Bách Khoa tổ chức lớp học: "Kiến tạo con đường hạnh phúc" HT L | C15: Kế hoạch Công tác | D15: 26/3/2026 | E15: Thường xuyên | F15: 10 | G15: 1 | H15: =G15*F15 -> 10 | I15: KH công tác ngày 26/3/2026
A16: 11 | B16: Khám sức khỏe CB - GV - NV năm học 2025-2026 Tại HT C | C16: Tờ trình | D16: 27/3/2026 | E16: Thường xuyên | F16: 10 | G16: 1 | H16: =G16*F16 -> 10 | I16: 129/KH-LTT-TTGD ngày 10/02/2026
A17: 12 | B17: Tập huấn chuyên đề An toàn điện và An toàn lao động Tại HT L | C17: Kế hoạch Công tác | D17: 27/3/2026 | E17: Thường xuyên | F17: 10 | G17: 1 | H17: =G17*F17 -> 10 | I17: KH công tác ngày 26/3/2026
A18: 13 | B18: Báo cáo tình hình quản lý, sử dụng tài sản công năm 2025 | C18: Báo cáo | D18: Trước ngày 27/3/2026 | E18: Đột xuất | F18: 12 | G18: 1.1 | H18: =G18*F18 -> 13.2 | I18: 6217/STC-QLCS….ngày 16/3/2026
A19: 14 | B19: Tổ chức Hội thi Bí thư Đoàn giỏi năm 2026 tại HTL | C19: Kế hoạch Công tác | D19: 27/3/2026 | E19: Thường xuyên | F19: 10 | G19: 1 | H19: =G19*F19 -> 10 | I19: KH công tác ngày 27/3/2026
... A23: 18 | B23: Tuyên truyền, phổ biến pháp luật về Văn hóa và an toàn hàng không tại HT C | C23: Kế hoạch Công tác | D23: 30/3/2026 | E23: Thường xuyên | F23: 10 | G23: 1 | H23: =G23*F23 -> 10 | I23: KH công tác ngày 30/3/2026
A24: 19 | B24: Chuẩn bị Hội nghị quán triệt, triển khai những nội dung trọng tâm thực hiện Nghị quyết Đại hội đại biểu toàn quốc lần thứ XIV; thông tin thời sự quý I năm 2026 tại HT L | C24: Kế hoạch Công tác | D24: 46057 | E24: Thường xuyên | F24: 10 | G24: 1 | H24: =G24*F24 -> 10 | I24: KH công tác ngày 2/4/2026
A25: 20 | B25: Hội nghị tập huấn chuyên đề "Đo lường và đánh giá trong giáo dục" và CĐS và Phát triển Tư duy tại HT L | C25: Kế hoạch | D25: 4/4/2026 | E25: Đột xuất | F25: 10 | G25: 1.1 | H25: =G25*F25 -> 11 | I25: 218/KH-LTT-TC ngày 25/3/2026
A26: 21 | B26: Họp triển khai kế hoạch 225/KH-LTT-TTGD ngày 27/3/2026 về Tổ chức họp phụ huynh sinh viên khối trung cấp T4, học kỳ II năm học 2025 - 2026 tại HT C | C26: Kế hoạch Công tác | D26: 46116 | E26: Thường xuyên | F26: 10 | G26: 1 | H26: =G26*F26 -> 10 | I26: 225/KH-LTT-TTGD ngày 27/3/2026
A27: 22 | B27: Sửa chữa và nâng mái che các khu vực C1 | C27: Kế hoạch Công tác | D27: 46146 | E27: Thường xuyên | F27: 10 | G27: 1 | H27: =G27*F27 -> 10 | I27: Kế hoạch công tác tháng 4
A28: 23 | B28: Tổ chức workshop "Tác phong chuyên nghiệp nơi làm việc" tại HTA | C28: Kế hoạch Công tác | D28: 46238 | E28: Thường xuyên | F28: 10 | G28: 1 | H28: =G28*F28 -> 10 | I28: KH công tác ngày 8/4/2026
A29: 24 | B29: Báo cáo tình hình thực hiện sắp xếp lại, xử lý nhà đất theo nghị quyết số 74/2022/QH15 | C29: Báo cáo | D29: Trước ngày 8/4/2026 | E29: Đột xuất | F29: 10 | G29: 1.1 | H29: =G29*F29 -> 11 | I29: 7800/TSC/QLCS ngày 31/3/2026
A30: 25 | B30: Tổ chức workshop "Tác phong chuyên nghiệp nơi làm việc" tại HT L | C30: Kế hoạch Công tác | D30: 46269 | E30: Thường xuyên | F30: 10 | G30: 1 | H30: =G30*F30 -> 10 | I30: KH công tác ngày 9/4/2026
A31: 26 | B31: Họp phụ huynh sinh viên các lớp khóa đào tạo Trung cấp (khối T4) HKII năm học 2025 - 2026 | C31: Kế hoạch | D31: 46360 | E31: Đột xuất | F31: 10 | G31: 1.1 | H31: =G31*F31 -> 11 | I31: 225/KH-LTT-TTGD ngày 27/3/2026
A32: 27 | B32: Bố trí và thiết lập hệ thống thổi không khí cho khoa Cơ khí | C32: Kế hoạch Công tác | D32: 14/4/2026 | E32: Thường xuyên | F32: 10 | G32: 1 | H32: =G32*F32 -> 10 | I32: Kế hoạch công tác tháng 4
A33: 28 | B33: Hỗ trợ công tác thu thập thông tin | C33: Tờ trình | D33: Trước ngày15/4/2026 | E33: Đột xuất | F33: 10 | G33: 1.2 | H33: =G33*F33 -> 12 | I33: …TTr/TC-HC ngày 11/4/2026
A34: 29 | B34: Tổ chức chuyên đề Nâng cao hiệu quả sử dụng thiết bị cầm tay gắn với an toàn khi làm việc tại HT C | C34: Kế hoạch | D34: 17/4/2024 | E34: Thường xuyên | F34: 10 | G34: 1 | H34: =G34*F34 -> 10 | I34: 230/KH-LTT-TTGD ngày 27/3/2026
A35: 30 | B35: Công Ty Cổ Phần Tư Vấn Giáo Dục Bách Khoa tổ chức lớp học: "Lãnh đạo á đông" tại HT L | C35: Kế hoạch Công tác | D35: 17/4/2026 | E35: Thường xuyên | F35: 10 | G35: 1 | H35: =G35*F35 -> 10 | I35: KH công tác ngày 17/4/2026
A36: 31 | B36: Công Ty Cổ Phần Tư Vấn Giáo Dục Bách Khoa tổ chức lớp học: "Nhân tướng học" HT L | C36: Kế hoạch Công tác | D36: 18/4/2026 | E36: Thường xuyên | F36: 10 | G36: 1 | H36: =G36*F36 -> 10 | I36: KH công tác ngày 18/4/2026
A37: 32 | B37: Công Ty Cổ Phần Tư Vấn Giáo Dục Bách Khoa tổ chức lớp học: “ Nhân tướng học” HT L | C37: Kế hoạch Công tác | D37: 19/4/2026 | E37: Thường xuyên | F37: 10 | G37: 1 | H37: =G37*F37 -> 10 | I37: KH công tác ngày 19/4/2026
A38: 33 | B38: Công ty RPO Solutions tổ chức workshop cho SV khoá 23T4 thuộc Khoa CNTT tại HT C | C38: Kế hoạch Công tác | D38: 21/4/2026 | E38: Thường xuyên | F38: 10 | G38: 1 | H38: =G38*F38 -> 10 | I38: KH công tác ngày 21/4/2026
A39: 34 | B39: Công Ty Cổ Phần Tư Vấn Giáo Dục Bách Khoa tổ chức lớp học: "Nhân tướng học" HT L | C39: Kế hoạch Công tác | D39: 21/4/2026 | E39: Thường xuyên | F39: 10 | G39: 1 | H39: =G39*F39 -> 10 | I39: KH công tác ngày 21/4/2026
A40: 35 | B40: Tổ chức workshop với chuyên đề: "Bánh xe cuộc đời - Kỹ năng cân bằng cảm xúc để theo đuổi ước mơ" tạo Thư viện | C40: Kế hoạch | D40: 22/4/2026 | E40: Thường xuyên | F40: 10 | G40: 1 | H40: =G40*F40 -> 10 | I40: 236/KH-LTT-TTGD ngày 31/3/2026
A41: 36 | B41: Công tác giáo dục kỹ năng mềm cho sinh viên tại Trường Cao đẳng Lý Tự Trọng Thành phố Hồ Chí Minh | C41: Báo cáo | D41: 22/4/2026 | E41: Đột xuất | F41: 10 | G41: 1.1 | H41: =G41*F41 -> 11 | I41: …./TB-LTT-ĐT ngày .../.../2026
A42: 37 | B42: Thiết lập hệ thống điện cấp cho máy phát đến HTA và HTL | C42: Kế hoạch Công tác | D42: 22/4/2026 | E42: Thường xuyên | F42: 10 | G42: 1 | H42: =G42*F42 -> 10 | I42: Kế hoạch công tác tháng 4
A43: 38 | B43: Khoa Du lịch - Khách sạn triển khai quy định TNDN và TTTN cho SV 3 khóa 23T4, 24T4 và 24C1 | C43: Kế hoạch Công tác | D43: 23/4/2026 | E43: Thường xuyên | F43: 10 | G43: 1 | H43: =G43*F43 -> 10 | I43: KH công tác ngày 23/4/2026
... A45: 40 | B45: Phổ biến quy định về đi thực tập tốt nghiệp cho khối lớp 23T4, 24T4, 24C1 tại HTA ngày 24/4 | C45: Kế hoạch | D45: 24/4/2026 | E45: Thường xuyên | F45: 10 | G45: 1 | H45: =G45*F45 -> 10 | I45: KH công tác ngày 24/4/2026
A46: 41 | B46: Hỗ trợ Ngày hội hiến máu tình nguyện lần 3, năm học 2025 - 2026 tại sân trước phòng TSĐT-HTQT | C46: Kế hoạch Công tác | D46: 46147 | E46: Thường xuyên | F46: 10 | G46: 1 | H46: =G46*F46 -> 10 | I46: KH công tác ngày 5/5/2026
A47: 42 | B47: SV khoa Kinh tế thi vòng loại ý tưởng lập kế hoạch kinh doanh khởi nghiệp tại HTC | C47: Kế hoạch Công tác | D47: 46270 | E47: Thường xuyên | F47: 10 | G47: 1 | H47: =G47*F47 -> 10 | I47: KH công tác ngày 9/5/2026
A48: 43 | B48: Lễ bế giảng lớp sơ cấp nghề bậc 1 cho Tổng công ty mạng lưới Viettel HT C | C48: Kế hoạch Công tác | D48: 46361 | E48: Thường xuyên | F48: 10 | G48: 1 | H48: =G48*F48 -> 10 | I48: KH công tác ngày 12/5/2026
A49: 44 | B49: Hỗ trợ Tổ chức hướng dẫn kỹ năng lái xe an toàn cho SV khóa 25T4 tại HTL | C49: Kế hoạch Công tác | D49: 46361 | E49: Thường xuyên | F49: 10 | G49: 1 | H49: =G49*F49 -> 10 | I49: KH công tác ngày 12/5/2026
A50: 45 | B50: Công ty Cổ phần tư vấn giáo dục Bách Khoa tổ chức lớp học: "Thấu hiểu nhân tâm" tại HTL | C50: Kế hoạch Công tác | D50: 13/5/2026 | E50: Thường xuyên | F50: 10 | G50: 1 | H50: =G50*F50 -> 10 | I50: KH công tác ngày 13/5/2026
A51: 46 | B51: Doanh nghiệp trao giấy chứng nhận hoàn thành chuyên đề cho sinh viên lớp 25C1-TMĐ1 tại HTA | C51: Kế hoạch Công tác | D51: 13/5/2026 | E51: Thường xuyên | F51: 10 | G51: 1 | H51: =G51*F51 -> 10 | I51: KH công tác ngày 13/5/2026
A52: 47 | B52: Thông báo số 310/TB-LTT-ĐT về việc Thực hiện báo cáo công tác giáo dục kỹ năng mềm cho sinh viên tại trường CĐ Lý Tự Trọng TP.HCM | C52: Báo cáo | D52: Trước ngày15/5/2026 | E52: Đột xuất | F52: 10 | G52: 1.1 | H52: =G52*F52 -> 11 | I52: 310/TB-LTT-ĐT ngày 22/4/2026
A53: 48 | B53: Tổ chức chuyên đề "Nhận thức an toàn thông tin" và ra mắt CLB học thuật Khoa CNTT tại HTA | C53: Kế hoạch Công tác | D53: 16/5/2026 | E53: Thường xuyên | F53: 10 | G53: 1 | H53: =G53*F53 -> 10 | I53: KH công tác ngày 16/5/2026
A54: 49 | B54: Hội thao công đoàn năm học 2025-2026 | C54: Kế hoạch Công tác | D54: 16/5/2026 | E54: Thường xuyên | F54: 10 | G54: 1 | H54: =G54*F54 -> 10 | I54: KH công tác ngày 16/5/2026
A55: 50 | B55: Công Ty Cổ Phần Tư Vấn Giáo Dục Bách Khoa tổ chức lớp học: "Thấu hiểu nhân tâm" HT L | C55: Kế hoạch Công tác | D55: 16/5/2026 | E55: Thường xuyên | F55: 10 | G55: 1 | H55: =G55*F55 -> 10 | I55: KH công tác ngày 16/5/2026
A56: 51 | B56: Công Ty Cổ Phần Tư Vấn Giáo Dục Bách Khoa tổ chức lớp học: "Lãnh đạo á đông" tại HT L | C56: Kế hoạch Công tác | D56: 17/5/2026 | E56: Thường xuyên | F56: 10 | G56: 1 | H56: =G56*F56 -> 10 | I56: KH công tác ngày 17/5/2026
A57: 52 | B57: Đoàn CA Phường Tân Sơn Nhất kiểm tra ANTT đột xuất tại KTX của trường ngày 18/5 | C57: Kế hoạch | D57: 18/5/2026 | E57: Đột xuất | F57: 10 | G57: 1 | H57: =G57*F57 -> 10 | I57: Phường TSN
A58: 53 | B58: Hỗ trợ Hội thi văn nghệ chào mừng kỷ niệm 136 năm ngày sinh của Chủ tịch Hồ Chí Minh ngày 19/5 tại HT L | C58: Kế hoạch Công tác | D58: 19/5/2026 | E58: Thường xuyên | F58: 10 | G58: 1 | H58: =G58*F58 -> 10 | I58: KH công tác ngày 19/5/2026
A59: 54 | B59: Công ty Cổ phần tư vấn giáo dục Bách Khoa tổ chức lớp học: "Thấu hiểu nhân tâm" tại HTL | C59: Kế hoạch Công tác | D59: 20/5/2026 | E59: Thường xuyên | F59: 10 | G59: 1 | H59: =G59*F59 -> 10 | I59: KH công tác ngày 20/5/2026
A60: 55 | B60: Hỗ trợ phục vụ Tổ chức Lễ tốt nghiệp cho sinh viên các khóa tại HTL | C60: Kế hoạch Công tác | D60: 23/5/2026 | E60: Thường xuyên | F60: 10 | G60: 1 | H60: =G60*F60 -> 10 | I60: KH công tác ngày 23/5/2026
A61: 56 | B61: Tập huấn Chủ đề: Kỹ năng giao tiếp hiệu quả tại HT C | C61: Kế hoạch Công tác | D61: 24/5/2026 | E61: Thường xuyên | F61: 10 | G61: 1 | H61: =G61*F61 -> 10 | I61: KH công tác ngày 24/5/2026
... A65: 60 | B65: Hỗ trợ công tác Tuyên truyền phổ biến pháp luật Chuyên đề "Khi chúng ta hiểu nhau" tại HT L | C65: Kế hoạch Công tác | D65: 29/5/2026 | E65: Thường xuyên | F65: 10 | G65: 1 | H65: =G65*F65 -> 10 | I65: KH công tác ngày 29/5/2026
A66: 61 | B66: Kế hoạch thực hiện công tác tuyển sinh và tiếp nhận sinh viên năm 2026. | C66: Kế hoạch | D66: 46028 | E66: Thường xuyên | F66: 10 | G66: 1 | H66: =G66*F66 -> 10 | I66: 404/KH-LTT-ĐT ngày 25/5/2026
A67: 62 | B67: Hỗ trợ công tác cho Hội nghị chuyên đề Học tập và làm theo tư tưởng, đạo đức, phong cách Hồ Chí Minh tại HT L | C67: Kế hoạch Công tác | D67: 46148 | E67: Đột xuất | F67: 10 | G67: 1.1 | H67: =G67*F67 -> 11 | I67: Đảng ủy phường Tân Sơn Nhất
B68: Tổng số nhiệm vụ thực hiện trong quý | C68: 62 | H68: =SUM(H6:H67) -> 638.4
B69: Tổng số nhiệm vụ vượt tiến độ/chất lượng | C69: 11
E71: CÁ NHÂN TỰ ĐÁNH GIÁ
F75: Lê Quang Liêm
B76: Ghi chú: Các ô chữ màu đỏ, nền vàng là thực hiện công thức, không tự nhập dữ liệu. Chỉ bổ sung dòng không thêm cột trong bảng tính. Danh mục sản phẩm công việc được lập tập trung các nội dung trọng tâm Cột 2. Tên công việc: ghi nội dung ngắn gọn, phản ánh đúng nhiệm vụ; Cột 3. Kết quả đầu ra: ghi loại văn bản cụ thể như báo cáo, công văn, kế hoạch, đề án, hồ sơ, dữ liệu;
B77: Cột 4. Thời hạn hoàn thành: ghi ngày hoặc mốc thời gian yêu cầu hoàn thành sản phẩm;
B78: Cột 5. Loại công việc: + Thường xuyên là các nhiệm vụ theo chức năng, nhiệm vụ và kế hoạch công tác; + Đột xuất Là các nhiệm vụ phát sinh do cấp có thẩm quyền giao ngoài kế hoạch.
B79: Cột 6. Điểm chuẩn: Công việc thường xuyên 10 điểm/công việc; Công việc đột xuất 12 điểm/công việc; Cột 7. Hệ số độ khó: phải được xác định ngay khi giao việc và được người giao việc phê duyệt + Công việc thông thường: 100%; + Công việc cần phối hợp nhiều đơn vị hoặc yêu cầu chuyên môn cao hơn bình thường: 110% + Công việc cần phối hợp nhiều đơn vị hoặc yêu cầu chuyên môn cao hơn bình thường: 120%
B80: Cột 8. Điểm quy đổi tối đa = Điểm chuẩn (cột 6) × Hệ số độ khó (cột 7); Cột 9. Minh chứng: Ghi Văn bản ban hành, hồ sơ, báo cáo, hệ thống điện tử và ngày tháng hoàn thành sản phẩm

Sheet MẪU 01-C
A1: TRƯỜNG CAO ĐẲNG LÝ TỰ TRỌNG TP. HỒ CHÍ MINH
A3: BẢNG TÍNH ĐIỂM KPI- QUÝ II NĂM 2026 (Tính từ ngày 10/3/2026 đến ngày 10/6/2026)
A5: TT | B5: Tên công việc | C5: Điểm chuẩn | D5: Hệ số độ khó | E5: Điểm quy đổi tối đa | F5: Tiến độ | G5: Kết quả | H5: Điểm thực hiện | I5: Điểm quy đổi thực tế
F6: 0.3 | G6: 0.7
A7: 1 | B7: 2 | C7: 3 | D7: 4 | E7: 5 | F7: 6 | G7: 7 | H7: 8 | I7: 9
A8: =SUM('MẪU 01-B'!A6) -> 1 | B8: Làm phông nền trước cổng và khu vực tuyển sinh; | C8: =SUM('MẪU 01-B'!F6) -> 10 | D8: =SUM('MẪU 01-B'!G6) -> 1 | E8: =SUM('MẪU 01-B'!H6) -> 10 | F8: 1 | G8: 1 | H8: =$C8*($F$6*$F8+$G$6*$G8) -> 10 | I8: =ROUND($D8*$H8,2) -> 10
A9: =SUM('MẪU 01-B'!A7) -> 2 | B9: Báo cáo kết quả thực hiện Đối thoại giữa BGH nhà trường và SV năm học 2025-2026 theo kế hoạch số 160/KH-LTT-TTGD ngày 06/3/2026 Tại HTA | C9: =SUM('MẪU 01-B'!F7) -> 10 | D9: =SUM('MẪU 01-B'!G7) -> 1 | E9: =SUM('MẪU 01-B'!H7) -> 10 | F9: 1 | G9: 1 | H9: =$C9*($F$6*$F9+$G$6*$G9) -> 10 | I9: =ROUND($D9*$H9,2) -> 10
A10: =SUM('MẪU 01-B'!A8) -> 3 | B10: Hỗ trợ Chương trình "Ngày hội 4S - Lái xe an toàn" tại HTA | C10: =SUM('MẪU 01-B'!F8) -> 10 | D10: =SUM('MẪU 01-B'!G8) -> 1 | E10: =SUM('MẪU 01-B'!H8) -> 10 | F10: 1 | G10: 1 | H10: =$C10*($F$6*$F10+$G$6*$G10) -> 10 | I10: =ROUND($D10*$H10,2) -> 10
A11: =SUM('MẪU 01-B'!A9) -> 4 | B11: Hỗ trợ Công ty Cổ phần tư vấn giáo dục Bách Khoa tổ chức lớp học "Thấu hiểu nhân tâm" tại HTL | C11: =SUM('MẪU 01-B'!F9) -> 10 | D11: =SUM('MẪU 01-B'!G9) -> 1.1 | E11: =SUM('MẪU 01-B'!H9) -> 11 | F11: 1 | G11: 1 | H11: =$C11*($F$6*$F11+$G$6*$G11) -> 10 | I11: =ROUND($D11*$H11,2) -> 11
A12: =SUM('MẪU 01-B'!A10) -> 5 | B12: Tổ chức gặp gỡ và đối thoại giữa sinh viên nội trú với Ban Lãnh đạo Nhà trường tại HTA | C12: =SUM('MẪU 01-B'!F10) -> 12 | D12: =SUM('MẪU 01-B'!G10) -> 1 | E12: =SUM('MẪU 01-B'!H10) -> 12 | F12: 1 | G12: 1 | H12: =$C12*($F$6*$F12+$G$6*$G12) -> 12 | I12: =ROUND($D12*$H12,2) -> 12
A13: =SUM('MẪU 01-B'!A11) -> 6 | B13: Công tác chuẩn bị Lễ tiếp nhận và bàn giao xe ô tô điện Vinfast tại Xưởng thực hành ô tô | C13: =SUM('MẪU 01-B'!F11) -> 10 | D13: =SUM('MẪU 01-B'!G11) -> 1 | E13: =SUM('MẪU 01-B'!H11) -> 10 | F13: 1 | G13: 1 | H13: =$C13*($F$6*$F13+$G$6*$G13) -> 10 | I13: =ROUND($D13*$H13,2) -> 10
A14: =SUM('MẪU 01-B'!A12) -> 7 | B14: Chuẩn bị cơ sở vật chất hỗ trợ Khám sức khỏe CB - GV - NV (Lấy máu xét nghiệm, chụp X - quang) | C14: =SUM('MẪU 01-B'!F12) -> 10 | D14: =SUM('MẪU 01-B'!G12) -> 1 | E14: =SUM('MẪU 01-B'!H12) -> 10 | F14: 1 | G14: 1 | H14: =$C14*($F$6*$F14+$G$6*$G14) -> 10 | I14: =ROUND($D14*$H14,2) -> 10
A15: =SUM('MẪU 01-B'!A13) -> 8 | B15: Công ty Cổ phần tư vấn giáo dục Bách Khoa Tổ chức lớp học "Thấu hiểu nhân tâm" tại HTL | C15: =SUM('MẪU 01-B'!F13) -> 10 | D15: =SUM('MẪU 01-B'!G13) -> 1 | E15: =SUM('MẪU 01-B'!H13) -> 10 | F15: 1 | G15: 1 | H15: =$C15*($F$6*$F15+$G$6*$G15) -> 10 | I15: =ROUND($D15*$H15,2) -> 10
A16: =SUM('MẪU 01-B'!A14) -> 9 | B16: Công ty Cổ phần tư vấn giáo dục Bách Khoa Tổ chức lớp học "Thấu hiểu nhân tâm" tại HTL | C16: =SUM('MẪU 01-B'!F14) -> 10 | D16: =SUM('MẪU 01-B'!G14) -> 1 | E16: =SUM('MẪU 01-B'!H14) -> 10 | F16: 1 | G16: 1 | H16: =$C16*($F$6*$F16+$G$6*$G16) -> 10 | I16: =ROUND($D16*$H16,2) -> 10
A17: =SUM('MẪU 01-B'!A15) -> 10 | B17: Công ty cổ phần tư vấn giáo dục Bách Khoa tổ chức lớp học: "Kiến tạo con đường hạnh phúc" HT L | C17: =SUM('MẪU 01-B'!F15) -> 10 | D17: =SUM('MẪU 01-B'!G15) -> 1 | E17: =SUM('MẪU 01-B'!H15) -> 10 | F17: 1 | G17: 1 | H17: =$C17*($F$6*$F17+$G$6*$G17) -> 10 | I17: =ROUND($D17*$H17,2) -> 10
A18: =SUM('MẪU 01-B'!A16) -> 11 | B18: Khám sức khỏe CB - GV - NV năm học 2025-2026 Tại HT C | C18: =SUM('MẪU 01-B'!F16) -> 10 | D18: =SUM('MẪU 01-B'!G16) -> 1 | E18: =SUM('MẪU 01-B'!H16) -> 10 | F18: 1 | G18: 1 | H18: =$C18*($F$6*$F18+$G$6*$G18) -> 10 | I18: =ROUND($D18*$H18,2) -> 10
A19: =SUM('MẪU 01-B'!A17) -> 12 | B19: Tập huấn chuyên đề An toàn điện và An toàn lao động Tại HT L | C19: =SUM('MẪU 01-B'!F17) -> 10 | D19: =SUM('MẪU 01-B'!G17) -> 1 | E19: =SUM('MẪU 01-B'!H17) -> 10 | F19: 1 | G19: 1 | H19: =$C19*($F$6*$F19+$G$6*$G19) -> 10 | I19: =ROUND($D19*$H19,2) -> 10
... A69: =SUM('MẪU 01-B'!A67) -> 62 | B69: Hỗ trợ công tác cho Hội nghị chuyên đề Học tập và làm theo tư tưởng, đạo đức, phong cách Hồ Chí Minh tại HT L | C69: =SUM('MẪU 01-B'!F67) -> 10 | D69: =SUM('MẪU 01-B'!G67) -> 1.1 | E69: =SUM('MẪU 01-B'!H67) -> 11 | F69: 1 | G69: 1 | H69: =$C69*($F$6*$F69+$G$6*$G69) -> 10 | I69: =ROUND($D69*$H69,2) -> 11
B70: Điểm trị giá A | E70: =SUM(E8:E69) -> 638.4 | F70: Điểm trị giá B | I70: =SUM(I8:I69) -> 638.4
B71: KPI% (trục 4) = B/A * 70 điểm (nếu B>A thì KPI là 70 điểm) | C71: =ROUND(I70/E70*70,2) -> 70 | E71: (Điểm này được sử dụng để đưa vào cột Điểm đạt được, phần I-B, Mẫu 01-A. Bản tự nhận xét, đánh gái của cá nhân)
E73: CÁ NHÂN TỰ ĐÁNH GIÁ
F77: Lê Quang Liêm
B78: Ghi chú: Cột 2. Tên công việc: Ghi nội dung ngắn gọn, phản ánh đúng nhiệm vụ; Cột 3. Điểm chuẩn: Điểm chuẩn của công việc được xác định tại Danh mục Sản phẩm chuẩn; Cột 4. Hệ số độ khó: Hệ số độ khó của công việc được xác định tại Danh mục Sản phẩm chuẩn; Cột 5. Điểm quy đổi tối đa = Điểm chuẩn (cột 3) x hệ số độ khó (cột 4); Cột 6. Tiến độ %: Tỷ lệ điểm căn cứ theo thời hạn hoàn thành (30%) + Hoàn thành đúng hoặc trước hạn: 100% + Hoàn thành trễ 1-3 ngày làm việc: 80% + Hoàn thành trễ 4-5 ngày làm việc: 60% + Hoàn thành trễ trên 5 ngày làm việc: 0% Cột 7. Kết quả %: Tỷ lệ điểm căn cứ chất lượng sản phẩm (70%) + Đạt đầy đủ yêu cầu: 100% + Đạt yêu cầu, chỉnh sửa nhỏ: 80% + Hoàn thành cơ bản: 60% + Không đạt yêu cầu: 0% Cột 8. Điểm thực hiện = Điểm chuẩn (cột 3) * {30% * Tiến độ% (cột 6) + 70% * Kết quả % (cột 7)} Cột 9. Điểm quy đổi thực tế = Điểm thực hiện (cột 8) x Hệ số độ khó (cột 4) Giá trị A: Tổng Điểm quy đổi tối đa (tổng cột 5); Giá trị B: Tổng Điểm quy đổi thực tế (tổng cột 9) KPI = (giá trị B/Giá trị A) * 70 đểm (nếu B>A thì KPI đạt tối đa 70 điểm)

Sheet MẪU 02
A2: UBND THÀNH PHỐ HỒ CHÍ MINH TRƯỜNG CAO ĐẲNG LÝ TỰ TRỌNG THÀNH PHỐ HỒ CHÍ MINH | F2: CỘNG HÒA XÃ HỘI CHỦ NGHĨA VIỆT NAM Độc lập – Tự do – Hạnh phúc
F3: Thành phố Hồ Chí Minh, ngày tháng năm 2026
A4: TỔNG HỢP KẾT QUẢ ĐÁNH GIÁ VÀ ĐỀ XUẤT XẾP LOẠI QUÝ 2, NĂM 2026 ĐỐI VỚI CÁN BỘ THUỘC ỦY BAN NHÂN DÂN THÀNH PHỐ HỒ CHÍ MINH QUẢN LÝ
A5: (Đính kèm Kế hoạch số /KH-LTT-TC ngày tháng 6 năm 2026 của Trường Cao đẳng Lý Tự Trọng Thành phố Hồ Chí Minh)
A7: STT | B7: Họ và tên | C7: Chức vụ, đơn vị công tác | D7: Cá nhân tự đề xuất mức xếp loại | E7: Tập thể lãnh đạo, cơ quan, đơn vị đề xuất mức xếp loại | F7: Tóm tắt căn cứ, cơ sở lý do trong trường hợp đề xuất mức xếp loại hoàn thành xuất sắc hoặc mức xếp loại không hoàn thành nhiệm vụ hoặc các nội dung khác (nếu có) | G7: Đề xuất nội dung liên quan về công tác khác (nếu có)
A8: 1.
A9: 2.
F11: KT. HIỆU TRƯỞNG PHÓ HIỆU TRƯỞNG
