Workbook

Sheet MẪU 01-B
A1: TRƯỜNG CAO ĐẲNG LÝ TỰ TRỌNG TP. HỒ CHÍ MINH
A2: BẢNG THỐNG KÊ CÔNG VIỆC QUÝ II NĂM 2026 (Tính từ ngày 10/3/2026 đến ngày 10/6/2026)
A3: (Lấy ví dụ mô phỏng chức danh Phó Trưởng phòng)
A4: TT | B4: Tên công việc | C4: Kết quả đầu ra | D4: Thời hạn hoàn thành | E4: Loại công việc | F4: Điểm chuẩn | G4: Hệ số độ khó | H4: Điểm quy đổi tối đa | I4: Minh chứng (Số ký hiệu văn bản) | J4: Họ và tên | K4: Ghi chú
A5: 1 | B5: 2 | C5: 3 | D5: 4 | E5: 5 | F5: 6 | G5: 7 | H5: 8 | I5: 9
A6: 1 | B6: Tổ chức các hoạt động, chuyên đề: - Tổ chức chuyên đề "Nâng cao hiệu quả sử dụng thiết bị cầm tay gắn với an toàn khi làm việc" - Tổ chức chương trình Workshop "Sống tích cực cho sinh viên - Tổ chức hướng dẫn kỹ năng lái xe gắn máy an toàn cho sinh viên - Tổ chức họp phụ huynh sinh viên khối trung cấp T4 học kỳ 2 năm học 2025 - 2026 | C6: Kế hoạch, Thông báo | D6: Quý 2/2026 | E6: Thường xuyên | F6: 10 | G6: 1 | H6: =G6*F6 -> 10 | I6: 230/KH-LTT-TTGD ngày 27/3/2026; 290/TB-LTT-TTGD ngày 18/4/2026; 361/KH-LTT-TTGD ngày 11/5/2026; 360/LTT-TC ngày 09/5/2026; 225/KH-LTT-TTGD ngày 27/3/2026 | J6: Châu Văn Bảo
A7: 2 | B7: - Triển khai hoạt động tuyên truyền, phổ biến, giáo dục pháp luật năm 2026 của Trường Cao đẳng Lý Tự Trọng TP. HCM - Triển khai thực hiện công tác phòng, chống thiên tai năm 2026 của Trường Cao đẳng Lý Tự Trọng TP. HCM | C7: Kế hoạch | D7: Quý 2/2026 | E7: Thường xuyên | F7: 10 | G7: 1 | H7: =G7*F7 -> 10 | I7: 323/KH-LTT-TC ngày 24/4/2026; 375/KH-LTT-TC ngày 14/5/2026 | J7: Châu Văn Bảo
A8: 3 | B8: Công tác sinh viên: - Tổ chức cho sinh viên tham quan Xí nghiệp Cơ khí Ô Tô An Lạc - Thực hiện báo cáo công tác giáo dục kỹ năng mềm cho sinh viên tại Trường Cao đẳng Lý Tự Trọng TP. HCM | C8: Kế hoạch, Thông báo | D8: Quý 2/2026 | E8: Thường xuyên | F8: 10 | G8: 1 | H8: =G8*F8 -> 10 | I8: 270/KH-LTT-TTĐT ngày 13/4/2026; 310/TB-LTT-ĐT ngày 22/4/2026; 377/TB-LTT-TTGD ngày 14/5/2026 | J8: Châu Văn Bảo
A9: 4 | B9: Thực hiện hồ sơ đánh giá hiệu quả công việc và đề xuất mức xếp loại đánh giá hiệu quả quý 1/2026 đối với ông Đinh Văn Đệ, Quyền Hiệu trưởng Trường Cao đẳng Lý Tự Trọng TP. Hồ Chí Minh | C9: Công văn | D9: 05/4/2026 | E9: Thường xuyên | F9: 10 | G9: 1 | H9: =G9*F9 -> 10 | I9: 239/LTT-TC ngày 03/4/2026 | J9: Châu Văn Bảo
A10: 5 | B10: Báo cáo công tác tuyên truyền an ninh, trật tự trong sinh viên của Trường Cao đẳng Lý Tự Trọng Thành phố Hồ Chí Minh | C10: Báo cáo | D10: 07/4/2026 | E10: Thường xuyên | F10: 10 | G10: 1 | H10: =G10*F10 -> 10 | I10: 248/BC-LTT-TTGD ngày 07/4/2026 | J10: Châu Văn Bảo
A11: 6 | B11: Thực hiện hoàn thành việc khai và nộp Phiếu điều tra cơ sở hành chính, sự nghiệp năm 2026 và báo cáo nghiệm thu kết quả Điều tra CSHCSN năm 2026 | C11: Phiếu điều tra | D11: Trước 30/5/2026 | E11: Đột xuất | F11: 12 | G11: 1.2 | H11: =G11*F11 -> 14.4 | I11: Thực hiện trên phần mềm kèm Hồ sơ minh chứng đi kèm Phiếu điều tra | J11: Châu Văn Bảo
A12: 7 | B12: Thực hiện Báo cáo kết quả đánh giá, xếp loại chất lượng theo Nghị quyết số 27/2025/NQ-HĐND từ Quý 1 đến Quý 4 năm 2025 để chi thu nhập tăng thêm | C12: Báo cáo | D12: Trước 26/4/2026 | E12: Đột xuất | F12: 12 | G12: 1.2 | H12: =G12*F12 -> 14.4 | I12: 324/BC-LTT-TC ngày 25/4/2026 | J12: Châu Văn Bảo
A13: 8 | B13: Tổ chức Lễ và các hoạt động kỷ niệm các ngày lễ lớn tại trường: - Chuỗi hoạt động chào mừng Kỷ niệm 51 năm Ngày Giải phóng Miền Nam - thống nhất đất nước (30/4/1975 - 30/4/2026) - Triển khai tuyên truyền kỷ niệm các ngày Lễ lớn và sự kiện quan trọng trong năm 2026, tại Trường Cao đẳng Lý Tự Trọng Thành phố Hồ Chí Minh - Tổ chức Lễ Giỗ tổ Hùng Vương | C13: Kế hoạch; Thông báo | D13: Quý 2/2026 | E13: Thường xuyên | F13: 10 | G13: 1 | H13: =G13*F13 -> 10 | I13: 236/KH-LTT-TTGD ngày 31/3/2026; 241/KH-LTT-TC ngày 03/4/2026 267/TB-LTT-TC ngày 13/4/2026 | J13: Châu Văn Bảo
A14: 9 | B14: Xây dựng kế hoạch Thực hiện Kết luận của Bộ Chính trị khóa XII về đẩy mạnh học tập và làm theo tư tưởng, đạo đức, phong cách Hồ Chí Minh, năm 2026 | C14: Kế hoạch | D14: 46104 | E14: Thường xuyên | F14: 10 | G14: 1 | H14: =G14*F14 -> 10 | I14: 120-KH/ĐU 23/03/2026 | J14: Châu Văn Bảo
A15: 10 | B15: Công tác bảo vệ chính trị nội bộ hàng quý gửi Đảng ủy phường: - Báo cáo Quý I năm 2026 - Báo cáo Quý II năm 2026 | C15: Báo cáo | D15: 23/03/2026 15/6/2026 | E15: Thường xuyên | F15: 10 | G15: 1 | H15: =G15*F15 -> 10 | I15: 119-CV/ĐU 23/03/2026; 154-BC/ĐU 15/06/2026 | J15: Châu Văn Bảo
A16: 11 | B16: Kế hoạch về Xây dựng Không gian Văn hóa Hồ Chí Minh năm 2026 | C16: Kế hoạch | D16: 46140 | E16: Thường xuyên | F16: 10 | G16: 1 | H16: =G16*F16 -> 10 | I16: 127-KH/ĐU 28/4/2026 | J16: Châu Văn Bảo
A17: 12 | B17: Kế hoạch về tổ chức Hội thi văn nghệ chào mừng kỷ niệm 136 năm ngày sinh của Chủ tịch Hồ Chí Minh | C17: Kế hoạch | D17: 46140 | E17: Đột xuất | F17: 12 | G17: 1.2 | H17: =G17*F17 -> 14.4 | I17: 126-KH/ĐU 28/04/2026 | J17: Châu Văn Bảo
A18: 13 | B18: Thực hiện Công tác Dân vận và Quy chế dân chủ ở cơ sở năm 2026 trong Đảng bộ Trường Cao đẳng Lý Tự Trọng TP.HCM | C18: Kế hoạch | D18: 46162 | E18: Thường xuyên | F18: 10 | G18: 1 | H18: =G18*F18 -> 10 | I18: 133-KH/ĐU 20/05/2026 | J18: Châu Văn Bảo
A19: 14 | B19: Thực hiện công tác tuyên giáo năm 2026 | C19: Kế hoạch | D19: 46162 | E19: Thường xuyên | F19: 10 | G19: 1 | H19: =G19*F19 -> 10 | I19: 132-KH/ĐU 20/05/2026 | J19: Châu Văn Bảo
A20: 15 | B20: Báo cáo Kết quả thực hiện nhiệm vụ công tác Đảng tháng 4/2026 và nhiệm vụ, giải pháp trọng tâm tháng 5/2026 | C20: Báo cáo | D20: 46127 | E20: Thường xuyên | F20: 10 | G20: 1 | H20: =G20*F20 -> 10 | I20: 123-BC/ĐU 15/4/2026 | J20: Châu Văn Bảo
A21: 16 | B21: Bổ sung giải trình một số nội dung ghi nhận về hành vi vi phạm hành chính trong lĩnh vực giáo dục nghề nghiệp tại Thông báo số 296/TB-SGDĐT ngày 12 tháng 01 năm 2026 của Sở Giáo dục và Đào tạo | C21: Báo cáo | D21: 04/6/2026 | E21: Đột xuất | F21: 12 | G21: 1.2 | H21: =G21*F21 -> 14.4 | I21: 437/BC-LTT ngày 04/6/2026 | J21: Châu Văn Bảo
A22: 17 | B22: Báo cáo Kết quả thực hiện nhiệm vụ công tác Đảng tháng 5/2026 và nhiệm vụ, giải pháp trọng tâm tháng 6/2026 | C22: Báo cáo | D22: 46182 | E22: Thường xuyên | F22: 10 | G22: 1 | H22: =G22*F22 -> 10 | I22: 147-BC/ĐU 09/06/2026 | J22: Châu Văn Bảo
A23: 18 | B23: Báo cáo kết quả công tác giáo dục quốc phòng và an ninh; quốc phòng, quân sự; phòng, chống khủng bố; phòng thủ dân sự năm học 2025 - 2026 và phương hướng nhiệm vụ năm học 2026 - 2027 | C23: Báo cáo | D23: Trước 20/06/2026 | E23: Thường xuyên | F23: 10 | G23: 1 | H23: =G23*F23 -> 10 | I23: 496/BC-LTT-GDĐC ngày 18/6/2026 | J23: Châu Văn Bảo
A24: 19 | B24: Báo cáo Sở Giáo dục và Đào tạo: - Báo cáo tình hình cử cán bộ quản lý, giảng viên đi học tập, bồi dưỡng ở nước ngoài của Trường Cao đẳng Lý Tự Trọng Thành phố Hồ Chí Minh - Báo cáo kết quả triển khai thí điểm giảng dạy một số modun chuyên ngành bằng tiếng Anh trong chương trình đào tạo của Trường - Kết quả tự đánh giá trường học an toàn, phòng, chống tai nạn thương tích năm học 2025 - 2026 - Việc giảng dạy khối lượng kiến thức văn hóa trung học phổ thông | C24: Báo cáo | D24: Quý 2/2026 | E24: Thường xuyên | F24: 10 | G24: 1 | H24: =G24*F24 -> 10 | I24: 322/BC-LTT ngày 24/4/2026; 379/KH-LTT-QLĐT ngày 15/5/2026; 381/BC-LTT-TTGD ngày 16/5/2026; | J24: Châu Văn Bảo
A25: 20 | B25: - Thực hiện công tác Thi, tổng kết học kỳ II năm học 2025 - 2026 Bậc đào tạo: Trung cấp (T4) khóa 2025; - Thông báo về việc tổ chức chức thi Ngoại ngữ, Tin học chuẩn đầu ra; | C25: Kế hoạch; Thông báo | D25: 30/3/2026 | E25: Thường xuyên | F25: 10 | G25: 1 | H25: =G25*F25 -> 10 | I25: 233/KH-LTT-ĐT ngày 30/3/2026; 299/TB-LTT-TTĐT ngày 21/4/2026 | J25: Châu Văn Bảo
A26: 21 | B26: Báo cáo kết quả công tác giáo dục quốc phòng và an ninh; quốc phòng, quân sự; phòng, chống khủng bố; phòng thủ dân sự năm học 2025 - 2026 và phương hướng nhiệm vụ năm học 2026 - 2027 | C26: Báo cáo | D26: 20/6/2026 | E26: Thường xuyên | F26: 10 | G26: 1 | H26: =G26*F26 -> 10 | I26: 496/BC-LTT-GDĐC ngày 18/6/2026 | J26: Châu Văn Bảo
A27: 22 | B27: Báo cáo Sở Giáo dục và Đào tạo việc thực hiện liên kết, phối hợp giữa Nhà trường và Doanh nghiệp trong công tác đào tạo giáo dục nghề nghiệp” | C27: Báo cáo | D27: 18/6/2026 | E27: Đột xuất | F27: 12 | G27: 1.2 | H27: =G27*F27 -> 14.4 | I27: 424/BC-LTT-GDĐC ngày 29/5/2026 | J27: Châu Văn Bảo
A28: 23 | B28: Cập nhật cơ sở dữ liệu giáo dục nghề nghiệp theo công văn số 1214/GDNNGDTX-VP ngày 11 tháng 06 năm 2026 của Cục Giáo dục nghề nghiệp và Giáo dục thường xuyên - Bộ Giáo dục và Đào tạo | C28: Dữ liệu | D28: 15/6/2026 | E28: Đột xuất | F28: 12 | G28: 1.2 | H28: =G28*F28 -> 14.4 | I28: https://gdnn.moet.gov.vn | J28: Châu Văn Bảo
A29: 24 | B29: Cập nhật dữ liệu theo Công văn số 5577/SGDĐT-GDTXNNĐH ngày 11/6/2026 v/v cung cấp số liệu phục vụ lập Quy hoạch tổng thể TPHCM thời kỳ 2025 - 2045, tầm nhìn 100 năm. | C29: Dữ liệu | D29: 11/6/2026 | E29: Đột xuất | F29: 12 | G29: 1.2 | H29: =G29*F29 -> 14.4 | I29: https://byvn.net/ThGf | J29: Châu Văn Bảo
A30: 25 | B30: Báo cáo lại tình hình hợp tác quốc tế của Trường, nhập vào link sau (Sở Giáo dục và Đào tạo yêu cầu báo cáo đột xuất) | C30: Dữ liệu | D30: 01/6/2026 | E30: Đột xuất | F30: 12 | G30: 1.2 | H30: =G30*F30 -> 14.4 | I30: https://onedrive.live.com/:x:/g/personal/56B2075BBDDE2D70/IQCOy0Yu53U4TaZeJg7luFHIAWXyEa4B-oOq-2zmGxK2gg4?resid=56B2075BBDDE2D70!s2e46cb8e75e74d38a65e260ee5b851c8&ithint=file%2Cxlsx&e=fwaVsy&migratedtospo=true&redeem=aHR0cHM6Ly8xZHJ2Lm1zL3gvYy81NmIyMDc1YmJkZGUyZDcwL0lRQ095MFl1NTNVNFRhWmVKZzdsdUZISUFXWHlFYTRCLW9PcS0yem1HeEsyZ2c0P2U9ZndhVnN5 | J30: Châu Văn Bảo
A31: 26 | B31: Báo cáo nhanh tình hình dư luận xã hội trong thời gian qua theo yêu cầu của Ban Xây dựng Đảng phường Tân Sơn Nhất | C31: Dữ liệu | D31: 10/6/2026 | E31: Đột xuất | F31: 12 | G31: 1.2 | H31: =G31*F31 -> 14.4 | I31: https://forms.gle/jLFmVFauJ9r9CjSHA | J31: Châu Văn Bảo
A32: 27 | B32: Báo cáo cho Ban Xây dựng Đảng phường về sơ kết 3 năm Chương trình hành động 44-CTrHĐ/TU về không gian văn hoá Hồ Chí Minh | C32: Dữ liệu | D32: 22/4/2026 | E32: Đột xuất | F32: 12 | G32: 1.2 | H32: =G32*F32 -> 14.4 | I32: https://docs.google.com/spreadsheets/d/1Ls_maDLC6Rd_pjP0DEevz5_aXq21aKPSXHadJ-DHwYI/edit?usp=sharing | J32: Châu Văn Bảo
A33: 28 | B33: Báo cáo số liệu hoàn thành phiếu đăng ký và gửi phiếu đăng ký của cán bộ chủ chốt theo yêu cầu của Ban Xây dựng Đảng phường Tân Sơn Nhất | C33: Dữ liệu | D33: 09/6/2026 | E33: Đột xuất | F33: 12 | G33: 1.2 | H33: =G33*F33 -> 14.4 | I33: https://docs.google.com/spreadsheets/d/1c8t0XXhQYVUztNvCbZ_Cxhsp25jc8jQ9yIJ0AyIXufs/edit?usp=sharing | J33: Châu Văn Bảo
B34: Tổng số nhiệm vụ thực hiện trong quý | C34: =COUNTA(E6:E33) -> 28 | J34: Châu Văn Bảo
B35: Tổng số nhiệm vụ vượt tiến độ/chất lượng | C35: =COUNTIF(E6:E33,"Đột xuất") -> 11 | J35: Châu Văn Bảo
A36: 01 | B36: Kế hoạch tuyển sinh tháng 3,4,5 tại tỉnh Tây Ninh, Bình Phước (cũ) | C36: Tờ trình | D36: 28/3/2026 | E36: Đột xuất | F36: 12 | G36: 1.2 | H36: =G36*F36 -> 14.4 | I36: KH ngày 04/5/2026 | J36: Lê Thị Hồng Vân
A37: 02 | B37: Kế hoạch tổ chức sinh viên thi chế tạo mô hình từ vật dụng rác thải | C37: Tờ trình | D37: 27/3/2026 | E37: Thường xuyên | F37: 10 | G37: 1 | H37: =G37*F37 -> 10 | I37: KH ngày 15/3/2026 | J37: Lê Thị Hồng Vân
A38: 03 | B38: Viết bài gửi dự thi gửi Đảng phường Tân Sơn Nhất | C38: Chi bộ 1 | D38: 28/3/2026 | E38: Đột xuất | F38: 12 | G38: 1.1 | H38: =G38*F38 -> 13.2 | I38: BC ngày 18/5/2026 | J38: Lê Thị Hồng Vân
A39: 04 | B39: Viết bài gửi ban tuyên giáo | C39: Theo địa chỉ mail nhận, công văn | D39: 46146 | E39: Thường xuyên | F39: 10 | G39: 1 | H39: =G39*F39 -> 10 | I39: KH ngày 20/5/2026 | J39: Lê Thị Hồng Vân
A40: 05 | B40: Kế hoạch giảng viên khoa dẫn sinh viên về nguồn | C40: Tờ trình | D40: 28/5/2026 | E40: Thường xuyên | F40: 10 | G40: 1.1 | H40: =G40*F40 -> 11 | I40: KH ngày 29/4/2026 | J40: Lê Thị Hồng Vân
...

Sheet Thống kê
A1: Stt | B1: Họ và tên | C1: Chức vụ | D1: Đã gửi DM | E1: Tổng số NV thực hiện trong quý | F1: Tổng số nhiệm vụ đột xuất
A2: 1 | B2: Châu Văn Bảo | C2: Phó Hiệu trưởng | D2: x | E2: =COUNTIFS('MẪU 01-B'!$J$6:$J$648,"=Châu Văn Bảo",'MẪU 01-B'!$E$6:$E$648,"=Thường xuyên")+COUNTIFS('MẪU 01-B'!$J$6:$J$648,"=Châu Văn Bảo",'MẪU 01-B'!$E$6:$E$648,"=Đột xuất") -> 28 | F2: =COUNTIFS('MẪU 01-B'!$J$6:$J$648,"=Châu Văn Bảo",'MẪU 01-B'!$E$6:$E$648,"=Đột xuất") -> 11
A3: 2 | B3: Lê Thị Hồng Vân | C3: Trưởng khoa Giáo dục đại cương | D3: x | E3: =COUNTIFS('MẪU 01-B'!$J$6:$J$648,"=Lê Thị Hồng Vân",'MẪU 01-B'!$E$6:$E$648,"=Thường xuyên")+COUNTIFS('MẪU 01-B'!$J$6:$J$648,"=Lê Thị Hồng Vân",'MẪU 01-B'!$E$6:$E$648,"=Đột xuất") -> 8 | F3: =COUNTIFS('MẪU 01-B'!$J$6:$J$648,"=Lê Thị Hồng Vân",'MẪU 01-B'!$E$6:$E$648,"=Đột xuất") -> 4
A4: 3 | B4: Phạm Thị Thu Nga | C4: Phó Trưởng khoa Giáo dục đại cương | D4: x | E4: =COUNTIFS('MẪU 01-B'!$J$6:$J$648,"=Phạm Thị Thu Nga",'MẪU 01-B'!$E$6:$E$648,"=Thường xuyên")+COUNTIFS('MẪU 01-B'!$J$6:$J$648,"=Phạm Thị Thu Nga",'MẪU 01-B'!$E$6:$E$648,"=Đột xuất") -> 6 | F4: =COUNTIFS('MẪU 01-B'!$J$6:$J$648,"=Phạm Thị Thu Nga",'MẪU 01-B'!$E$6:$E$648,"=Đột xuất") -> 3
A5: 4 | B5: Trương Thị Hồng | C5: Phó Trưởng khoa Giáo dục đại cương | D5: x | E5: =COUNTIFS('MẪU 01-B'!$J$6:$J$648,"=Trương Thị Hồng",'MẪU 01-B'!$E$6:$E$648,"=Thường xuyên")+COUNTIFS('MẪU 01-B'!$J$6:$J$648,"=Trương Thị Hồng",'MẪU 01-B'!$E$6:$E$648,"=Đột xuất") -> 20 | F5: =COUNTIFS('MẪU 01-B'!$J$6:$J$648,"=Trương Thị Hồng",'MẪU 01-B'!$E$6:$E$648,"=Đột xuất") -> 7
A6: 5 | B6: Nguyễn Hữu Thiện | C6: Trưởng khoa Công nghệ thông tin | D6: x | E6: =COUNTIFS('MẪU 01-B'!$J$6:$J$648,"=Nguyễn Hữu Thiện",'MẪU 01-B'!$E$6:$E$648,"=Thường xuyên")+COUNTIFS('MẪU 01-B'!$J$6:$J$648,"=Nguyễn Hữu Thiện",'MẪU 01-B'!$E$6:$E$648,"=Đột xuất") -> 11 | F6: =COUNTIFS('MẪU 01-B'!$J$6:$J$648,"=Nguyễn Hữu Thiện",'MẪU 01-B'!$E$6:$E$648,"=Đột xuất") -> 3
A7: 6 | B7: Trần Việt Khánh | C7: Phó Trưởng khoa Công nghệ thông tin | D7: x | E7: =COUNTIFS('MẪU 01-B'!$J$6:$J$648,"=Trần Việt Khánh",'MẪU 01-B'!$E$6:$E$648,"=Thường xuyên")+COUNTIFS('MẪU 01-B'!$J$6:$J$648,"=Trần Việt Khánh",'MẪU 01-B'!$E$6:$E$648,"=Đột xuất") -> 12 | F7: =COUNTIFS('MẪU 01-B'!$J$6:$J$648,"=Trần Việt Khánh",'MẪU 01-B'!$E$6:$E$648,"=Đột xuất") -> 3
A8: 7 | B8: Nguyễn Văn Đôn | C8: Phó Trưởng khoa Công nghệ thông tin | D8: x | E8: =COUNTIFS('MẪU 01-B'!$J$6:$J$648,"=Nguyễn Văn Đôn",'MẪU 01-B'!$E$6:$E$648,"=Thường xuyên")+COUNTIFS('MẪU 01-B'!$J$6:$J$648,"=Nguyễn Văn Đôn",'MẪU 01-B'!$E$6:$E$648,"=Đột xuất") -> 10 | F8: =COUNTIFS('MẪU 01-B'!$J$6:$J$648,"=Nguyễn Văn Đôn",'MẪU 01-B'!$E$6:$E$648,"=Đột xuất") -> 4
A9: 8 | B9: Quách Minh Thử | C9: Phụ trách khoa Điện - Điện tử | D9: x | E9: =COUNTIFS('MẪU 01-B'!$J$6:$J$648,"=Quách Minh Thử",'MẪU 01-B'!$E$6:$E$648,"=Thường xuyên")+COUNTIFS('MẪU 01-B'!$J$6:$J$648,"=Quách Minh Thử",'MẪU 01-B'!$E$6:$E$648,"=Đột xuất") -> 18 | F9: =COUNTIFS('MẪU 01-B'!$J$6:$J$648,"=Quách Minh Thử",'MẪU 01-B'!$E$6:$E$648,"=Đột xuất") -> 10
A10: 9 | B10: Huỳnh Ngọc Mai | C10: Phó Trưởng Khoa Điện - Điện tử | D10: x | E10: =COUNTIFS('MẪU 01-B'!$J$6:$J$648,"=Huỳnh Ngọc Mai",'MẪU 01-B'!$E$6:$E$648,"=Thường xuyên")+COUNTIFS('MẪU 01-B'!$J$6:$J$648,"=Huỳnh Ngọc Mai",'MẪU 01-B'!$E$6:$E$648,"=Đột xuất") -> 16 | F10: =COUNTIFS('MẪU 01-B'!$J$6:$J$648,"=Huỳnh Ngọc Mai",'MẪU 01-B'!$E$6:$E$648,"=Đột xuất") -> 7
A11: 10 | B11: Nguyễn Thị Thu Hà | C11: Trưởng khoa Ngoại ngữ | D11: x | E11: =COUNTIFS('MẪU 01-B'!$J$6:$J$648,"=Nguyễn Thị Thu Hà",'MẪU 01-B'!$E$6:$E$648,"=Thường xuyên")+COUNTIFS('MẪU 01-B'!$J$6:$J$648,"=Nguyễn Thị Thu Hà",'MẪU 01-B'!$E$6:$E$648,"=Đột xuất") -> 10 | F11: =COUNTIFS('MẪU 01-B'!$J$6:$J$648,"=Nguyễn Thị Thu Hà",'MẪU 01-B'!$E$6:$E$648,"=Đột xuất") -> 7
A12: 11 | B12: Nguyễn Ngọc Thọ | C12: Trưởng khoa Thời trang - Du lịch | D12: x | E12: =COUNTIFS('MẪU 01-B'!$J$6:$J$648,"=Nguyễn Ngọc Thọ",'MẪU 01-B'!$E$6:$E$648,"=Thường xuyên")+COUNTIFS('MẪU 01-B'!$J$6:$J$648,"=Nguyễn Ngọc Thọ",'MẪU 01-B'!$E$6:$E$648,"=Đột xuất") -> 8 | F12: =COUNTIFS('MẪU 01-B'!$J$6:$J$648,"=Nguyễn Ngọc Thọ",'MẪU 01-B'!$E$6:$E$648,"=Đột xuất") -> 6
A13: 12 | B13: Hồ Gia Bảo | C13: Phó Trưởng khoa Thời trang - Du lịch | D13: x | E13: =COUNTIFS('MẪU 01-B'!$J$6:$J$648,"=Hồ Gia Bảo",'MẪU 01-B'!$E$6:$E$648,"=Thường xuyên")+COUNTIFS('MẪU 01-B'!$J$6:$J$648,"=Hồ Gia Bảo",'MẪU 01-B'!$E$6:$E$648,"=Đột xuất") -> 33 | F13: =COUNTIFS('MẪU 01-B'!$J$6:$J$648,"=Hồ Gia Bảo",'MẪU 01-B'!$E$6:$E$648,"=Đột xuất") -> 26
A14: 13 | B14: Trịnh Hoàng Hiệp | C14: Trưởng khoa Kinh tế | D14: x | E14: =COUNTIFS('MẪU 01-B'!$J$6:$J$648,"=Trịnh Hoàng Hiệp",'MẪU 01-B'!$E$6:$E$648,"=Thường xuyên")+COUNTIFS('MẪU 01-B'!$J$6:$J$648,"=Trịnh Hoàng Hiệp",'MẪU 01-B'!$E$6:$E$648,"=Đột xuất") -> 20 | F14: =COUNTIFS('MẪU 01-B'!$J$6:$J$648,"=Trịnh Hoàng Hiệp",'MẪU 01-B'!$E$6:$E$648,"=Đột xuất") -> 15
A15: 14 | B15: Nguyễn Anh Tuấn | C15: Trưởng khoa Động lực | D15: x | E15: =COUNTIFS('MẪU 01-B'!$J$6:$J$648,"=Nguyễn Anh Tuấn",'MẪU 01-B'!$E$6:$E$648,"=Thường xuyên")+COUNTIFS('MẪU 01-B'!$J$6:$J$648,"=Nguyễn Anh Tuấn",'MẪU 01-B'!$E$6:$E$648,"=Đột xuất") -> 14 | F15: =COUNTIFS('MẪU 01-B'!$J$6:$J$648,"=Nguyễn Anh Tuấn",'MẪU 01-B'!$E$6:$E$648,"=Đột xuất") -> 6
A16: 15 | B16: Võ Đắc Thịnh | C16: Phó Trưởng khoa Động lực | D16: x | E16: =COUNTIFS('MẪU 01-B'!$J$6:$J$648,"=Võ Đắc Thịnh",'MẪU 01-B'!$E$6:$E$648,"=Thường xuyên")+COUNTIFS('MẪU 01-B'!$J$6:$J$648,"=Võ Đắc Thịnh",'MẪU 01-B'!$E$6:$E$648,"=Đột xuất") -> 9 | F16: =COUNTIFS('MẪU 01-B'!$J$6:$J$648,"=Võ Đắc Thịnh",'MẪU 01-B'!$E$6:$E$648,"=Đột xuất") -> 6
A17: 16 | B17: Chung Trần Thế Vinh | C17: Trưởng khoa Cơ khí | D17: x | E17: =COUNTIFS('MẪU 01-B'!$J$6:$J$648,"=Chung Trần Thế Vinh",'MẪU 01-B'!$E$6:$E$648,"=Thường xuyên")+COUNTIFS('MẪU 01-B'!$J$6:$J$648,"=Chung Trần Thế Vinh",'MẪU 01-B'!$E$6:$E$648,"=Đột xuất") -> 26 | F17: =COUNTIFS('MẪU 01-B'!$J$6:$J$648,"=Chung Trần Thế Vinh",'MẪU 01-B'!$E$6:$E$648,"=Đột xuất") -> 3
A18: 17 | B18: Phạm Quang Vũ | C18: Trưởng khoa Xây dựng - Nhiệt lạnh | D18: x | E18: =COUNTIFS('MẪU 01-B'!$J$6:$J$648,"=Phạm Quang Vũ",'MẪU 01-B'!$E$6:$E$648,"=Thường xuyên")+COUNTIFS('MẪU 01-B'!$J$6:$J$648,"=Phạm Quang Vũ",'MẪU 01-B'!$E$6:$E$648,"=Đột xuất") -> 5 | F18: =COUNTIFS('MẪU 01-B'!$J$6:$J$648,"=Phạm Quang Vũ",'MẪU 01-B'!$E$6:$E$648,"=Đột xuất") -> 4
A19: 18 | B19: Nguyễn Kính | C19: Trưởng phòng Kế hoạch - Tài chính | D19: x | E19: =COUNTIFS('MẪU 01-B'!$J$6:$J$648,"=Nguyễn Kính",'MẪU 01-B'!$E$6:$E$648,"=Thường xuyên")+COUNTIFS('MẪU 01-B'!$J$6:$J$648,"=Nguyễn Kính",'MẪU 01-B'!$E$6:$E$648,"=Đột xuất") -> 21 | F19: =COUNTIFS('MẪU 01-B'!$J$6:$J$648,"=Nguyễn Kính",'MẪU 01-B'!$E$6:$E$648,"=Đột xuất") -> 12
A20: 19 | B20: Nguyễn Văn Chiến | C20: Trưởng phòng Công tác sinh viên - Thư viện - Y tế | D20: x | E20: =COUNTIFS('MẪU 01-B'!$J$6:$J$648,"=Nguyễn Văn Chiến",'MẪU 01-B'!$E$6:$E$648,"=Thường xuyên")+COUNTIFS('MẪU 01-B'!$J$6:$J$648,"=Nguyễn Văn Chiến",'MẪU 01-B'!$E$6:$E$648,"=Đột xuất") -> 7 | F20: =COUNTIFS('MẪU 01-B'!$J$6:$J$648,"=Nguyễn Văn Chiến",'MẪU 01-B'!$E$6:$E$648,"=Đột xuất") -> 4
A21: 20 | B21: Trang Thị Xuân Uyên | C21: Phó Trưởng phòng Công tác sinh viên - Thư viện - Y tế | D21: x | E21: =COUNTIFS('MẪU 01-B'!$J$6:$J$648,"=Trang Thị Xuân Uyên",'MẪU 01-B'!$E$6:$E$648,"=Thường xuyên")+COUNTIFS('MẪU 01-B'!$J$6:$J$648,"=Trang Thị Xuân Uyên",'MẪU 01-B'!$E$6:$E$648,"=Đột xuất") -> 8 | F21: =COUNTIFS('MẪU 01-B'!$J$6:$J$648,"=Trang Thị Xuân Uyên",'MẪU 01-B'!$E$6:$E$648,"=Đột xuất") -> 1
A22: 21 | B22: Nguyễn Thị Nhuận | C22: Phó Trưởng phòng Công tác sinh viên - Thư viện - Y tế | D22: x | E22: =COUNTIFS('MẪU 01-B'!$J$6:$J$648,"=Nguyễn Thị Nhuận",'MẪU 01-B'!$E$6:$E$648,"=Thường xuyên")+COUNTIFS('MẪU 01-B'!$J$6:$J$648,"=Nguyễn Thị Nhuận",'MẪU 01-B'!$E$6:$E$648,"=Đột xuất") -> 7 | F22: =COUNTIFS('MẪU 01-B'!$J$6:$J$648,"=Nguyễn Thị Nhuận",'MẪU 01-B'!$E$6:$E$648,"=Đột xuất") -> 4
A23: 22 | B23: Hồ Ngọc Chi | C23: Phó Trưởng phòng Công tác sinh viên - Thư viện - Y tế | D23: x | E23: =COUNTIFS('MẪU 01-B'!$J$6:$J$648,"=Hồ Ngọc Chi",'MẪU 01-B'!$E$6:$E$648,"=Thường xuyên")+COUNTIFS('MẪU 01-B'!$J$6:$J$648,"=Hồ Ngọc Chi",'MẪU 01-B'!$E$6:$E$648,"=Đột xuất") -> 10 | F23: =COUNTIFS('MẪU 01-B'!$J$6:$J$648,"=Hồ Ngọc Chi",'MẪU 01-B'!$E$6:$E$648,"=Đột xuất") -> 8
A24: 23 | B24: Lê Quang Liêm | C24: Trưởng phòng Cơ sở vật chất - Dịch vụ | D24: x | E24: =COUNTIFS('MẪU 01-B'!$J$6:$J$648,"=Lê Quang Liêm",'MẪU 01-B'!$E$6:$E$648,"=Thường xuyên")+COUNTIFS('MẪU 01-B'!$J$6:$J$648,"=Lê Quang Liêm",'MẪU 01-B'!$E$6:$E$648,"=Đột xuất") -> 62 | F24: =COUNTIFS('MẪU 01-B'!$J$6:$J$648,"=Lê Quang Liêm",'MẪU 01-B'!$E$6:$E$648,"=Đột xuất") -> 12
A25: 24 | B25: Phan Hữu Tước | C25: Phó Trưởng phòng Cơ sở vật chất - Dịch vụ | D25: x | E25: =COUNTIFS('MẪU 01-B'!$J$6:$J$648,"=Phan Hữu Tước",'MẪU 01-B'!$E$6:$E$648,"=Thường xuyên")+COUNTIFS('MẪU 01-B'!$J$6:$J$648,"=Phan Hữu Tước",'MẪU 01-B'!$E$6:$E$648,"=Đột xuất") -> 20 | F25: =COUNTIFS('MẪU 01-B'!$J$6:$J$648,"=Phan Hữu Tước",'MẪU 01-B'!$E$6:$E$648,"=Đột xuất") -> 4
A26: 25 | B26: Nguyễn Văn Thành | C26: Phó Trưởng phòng Cơ sở vật chất - Dịch vụ | D26: x | E26: =COUNTIFS('MẪU 01-B'!$J$6:$J$648,"=Nguyễn Văn Thành",'MẪU 01-B'!$E$6:$E$648,"=Thường xuyên")+COUNTIFS('MẪU 01-B'!$J$6:$J$648,"=Nguyễn Văn Thành",'MẪU 01-B'!$E$6:$E$648,"=Đột xuất") -> 49 | F26: =COUNTIFS('MẪU 01-B'!$J$6:$J$648,"=Nguyễn Văn Thành",'MẪU 01-B'!$E$6:$E$648,"=Đột xuất") -> 5
A27: 26 | B27: Nguyễn Chí Nhân | C27: Trưởng phòng Đảm bảo chất lượng - NCKH | D27: x | E27: =COUNTIFS('MẪU 01-B'!$J$6:$J$648,"=Nguyễn Chí Nhân",'MẪU 01-B'!$E$6:$E$648,"=Thường xuyên")+COUNTIFS('MẪU 01-B'!$J$6:$J$648,"=Nguyễn Chí Nhân",'MẪU 01-B'!$E$6:$E$648,"=Đột xuất") -> 8 | F27: =COUNTIFS('MẪU 01-B'!$J$6:$J$648,"=Nguyễn Chí Nhân",'MẪU 01-B'!$E$6:$E$648,"=Đột xuất") -> 3
A28: 27 | B28: Nguyễn Thị Kim Dung | C28: Phó Trưởng phòng Đảm bảo chất lượng - NCKH | D28: x | E28: =COUNTIFS('MẪU 01-B'!$J$6:$J$648,"=Nguyễn Thị Kim Dung",'MẪU 01-B'!$E$6:$E$648,"=Thường xuyên")+COUNTIFS('MẪU 01-B'!$J$6:$J$648,"=Nguyễn Thị Kim Dung",'MẪU 01-B'!$E$6:$E$648,"=Đột xuất") -> 9 | F28: =COUNTIFS('MẪU 01-B'!$J$6:$J$648,"=Trương Thị Hồng",'MẪU 01-B'!$E$6:$E$648,"=Đột xuất") -> 7
A29: 28 | B29: Hoàng Văn Viết | C29: Trưởng phòng Tuyển sinh Đào tạo - HTQT | D29: x | E29: =COUNTIFS('MẪU 01-B'!$J$6:$J$648,"=Hoàng Văn Viết",'MẪU 01-B'!$E$6:$E$648,"=Thường xuyên")+COUNTIFS('MẪU 01-B'!$J$6:$J$648,"=Hoàng Văn Viết",'MẪU 01-B'!$E$6:$E$648,"=Đột xuất") -> 45 | F29: =COUNTIFS('MẪU 01-B'!$J$6:$J$648,"=Hoàng Văn Viết",'MẪU 01-B'!$E$6:$E$648,"=Đột xuất") -> 16
A30: 29 | B30: Nguyễn Trọng Nghĩa | C30: Phó Trưởng phòng Tuyển sinh Đào tạo - HTQT | D30: x | E30: =COUNTIFS('MẪU 01-B'!$J$6:$J$648,"=Nguyễn Trọng Nghĩa",'MẪU 01-B'!$E$6:$E$648,"=Thường xuyên")+COUNTIFS('MẪU 01-B'!$J$6:$J$648,"=Nguyễn Trọng Nghĩa",'MẪU 01-B'!$E$6:$E$648,"=Đột xuất") -> 11 | F30: =COUNTIFS('MẪU 01-B'!$J$6:$J$648,"=Nguyễn Trọng Nghĩa",'MẪU 01-B'!$E$6:$E$648,"=Đột xuất") -> 4
A31: 30 | B31: Nguyễn Thành Nam | C31: Trưởng phòng Tổ chức - Hành chính | D31: x | E31: =COUNTIFS('MẪU 01-B'!$J$6:$J$648,"=Nguyễn Thành Nam",'MẪU 01-B'!$E$6:$E$648,"=Thường xuyên")+COUNTIFS('MẪU 01-B'!$J$6:$J$648,"=Nguyễn Thành Nam",'MẪU 01-B'!$E$6:$E$648,"=Đột xuất") -> 8 | F31: =COUNTIFS('MẪU 01-B'!$J$6:$J$648,"=Nguyễn Thành Nam",'MẪU 01-B'!$E$6:$E$648,"=Đột xuất") -> 7
A32: 31 | B32: Lưu Hoàng Hải Yến | C32: Phó Trưởng phòng Tổ chức - Hành chính | D32: x | E32: =COUNTIFS('MẪU 01-B'!$J$6:$J$648,"=Lưu Hoàng Hải Yến",'MẪU 01-B'!$E$6:$E$648,"=Thường xuyên")+COUNTIFS('MẪU 01-B'!$J$6:$J$648,"=Lưu Hoàng Hải Yến",'MẪU 01-B'!$E$6:$E$648,"=Đột xuất") -> 21 | F32: =COUNTIFS('MẪU 01-B'!$J$6:$J$648,"=Lưu Hoàng Hải Yến",'MẪU 01-B'!$E$6:$E$648,"=Đột xuất") -> 12
A33: 32 | B33: Huỳnh Thị Minh Ly | C33: Phó Trưởng phòng Tổ chức - Hành chính | D33: x | E33: =COUNTIFS('MẪU 01-B'!$J$6:$J$648,"=Huỳnh Thị Minh Ly",'MẪU 01-B'!$E$6:$E$648,"=Thường xuyên")+COUNTIFS('MẪU 01-B'!$J$6:$J$648,"=Huỳnh Thị Minh Ly",'MẪU 01-B'!$E$6:$E$648,"=Đột xuất") -> 9 | F33: =COUNTIFS('MẪU 01-B'!$J$6:$J$648,"=Huỳnh Thị Minh Ly",'MẪU 01-B'!$E$6:$E$648,"=Đột xuất") -> 4
A34: 33 | B34: Lương Xuân Thịnh | C34: GĐ trung tâm Đào tạo - QHDN - VTTB | D34: x | E34: =COUNTIFS('MẪU 01-B'!$J$6:$J$648,"=Lương Xuân Thịnh",'MẪU 01-B'!$E$6:$E$648,"=Thường xuyên")+COUNTIFS('MẪU 01-B'!$J$6:$J$648,"=Lương Xuân Thịnh",'MẪU 01-B'!$E$6:$E$648,"=Đột xuất") -> 20 | F34: =COUNTIFS('MẪU 01-B'!$J$6:$J$648,"=Lương Xuân Thịnh",'MẪU 01-B'!$E$6:$E$648,"=Đột xuất") -> 8
A35: 34 | B35: Nguyễn Cao Thắng | C35: PGĐ trung tâm Đào tạo - QHDN - VTTB | D35: x | E35: =COUNTIFS('MẪU 01-B'!$J$6:$J$648,"=Nguyễn Cao Thắng",'MẪU 01-B'!$E$6:$E$648,"=Thường xuyên")+COUNTIFS('MẪU 01-B'!$J$6:$J$648,"=Nguyễn Cao Thắng",'MẪU 01-B'!$E$6:$E$648,"=Đột xuất") -> 5 | F35: =COUNTIFS('MẪU 01-B'!$J$6:$J$648,"=Nguyễn Cao Thắng",'MẪU 01-B'!$E$6:$E$648,"=Đột xuất") -> 2
