Workbook

Sheet Diem
A2: A1 | B2: 10
A3: A2 | B3: 9
A4: A3 | B4: 8
A5: A4 | B5: 7
A7: B1 | B7: 6
A8: B2 | B8: 5
A9: C1 | B9: 4
A10: C2 | B10: 3
A11: D | B11: 1
A12: E | B12: 0

Sheet HK1
A1: TRƯỜNG CAO ĐẲNG LÝ TỰ TRỌNG | I1: CỘNG HÒA XÃ HỘI CHỦ NGHĨA VIỆT NAM
A2: THÀNH PHỐ HỒ CHÍ MINH | I2: Độc lập - Tự do - Hạnh phúc
A3: ĐƠN VỊ:
A5: DANH SÁCH XÉT THI ĐUA HỌC KÌ I NĂM HỌC 2025 - 2026
A7: TT | B7: Họ và tên | C7: Mã số E-office | D7: Tháng 09/2025 | F7: Tháng 10/2025 | H7: Tháng 11/2025 | J7: Tháng 12/2025 | L7: Tháng 01/2026 | N7: Điểm K | O7: Hệ số trừ bậc (C, D, E) | P7: Xếp loại HK1 | Q7: Ghi chú
D8: Xếp loại | E8: Điểm | F8: Xếp loại | G8: Điểm | H8: Xếp loại | I8: Điểm | J8: Xếp loại | K8: Điểm | L8: Xếp loại | M8: Điểm
B9: I. Cán bộ quản lý (Trưởng, Phó đơn vị)
A10: 1 | B10: Nguyễn Văn A | C10: 01017006 | D10: A2 | E10: =VLOOKUP(D10,Diem!$A$2:$B$12,2,0) -> 9 | F10: A4 | G10: =VLOOKUP(F10,Diem!$A$2:$B$12,2,0) -> 7 | H10: A4 | I10: =VLOOKUP(H10,Diem!$A$2:$B$12,2,0) -> 7 | J10: A4 | K10: =VLOOKUP(J10,Diem!$A$2:$B$12,2,0) -> 7 | L10: A4 | M10: =VLOOKUP(L10,Diem!$A$2:$B$12,2,0) -> 7 | N10: =ROUND(AVERAGE(E10,G10,I10,K10,M10),2) -> 7.4 | O10: =COUNTIF(D10:K10,"C*")*1+COUNTIF(D10:K10,"D")*2+COUNTIF(D10:K10,"E")*3 -> 0 | P10: =IF(O10>=3,"Không hoàn thành nhiệm vụ",IF(AND($N10>=8,$N10<=10,O10=0),"Hoàn thành xuất sắc nhiệm vụ",IF(AND($N10>=8,$N10<=10,O10=1),"Hoàn thành tốt nhiệm vụ",IF(AND($N10>=8,$N10<=10,O10=2),"Hoàn thành nhiệm vụ",IF(AND($N10>6,$N10<8,O10<=1),"Hoàn thành tốt nhiệm vụ",IF(AND($N10>6,$N10<8,O10=2),"Hoàn thành nhiệm vụ",IF(AND($N10>=5,$N10<=6,O10<=2),"Hoàn thành nhiệm vụ",IF(AND($N10<5,O10>3),"Không hoàn thành nhiệm vụ","")))))))) -> Hoàn thành tốt nhiệm vụ
A11: 2 | B11: Nguyễn Văn B | C11: 01017007 | D11: A3 | E11: =VLOOKUP(D11,Diem!$A$2:$B$12,2,0) -> 8 | F11: A3 | G11: =VLOOKUP(F11,Diem!$A$2:$B$12,2,0) -> 8 | H11: A3 | I11: =VLOOKUP(H11,Diem!$A$2:$B$12,2,0) -> 8 | J11: A3 | K11: =VLOOKUP(J11,Diem!$A$2:$B$12,2,0) -> 8 | L11: A3 | M11: =VLOOKUP(L11,Diem!$A$2:$B$12,2,0) -> 8 | N11: =ROUND(AVERAGE(E11,G11,I11,K11,M11),2) -> 8 | O11: =COUNTIF(D11:K11,"C*")*1+COUNTIF(D11:K11,"D")*2+COUNTIF(D11:K11,"E")*3 -> 0 | P11: =IF(O11>=3,"Không hoàn thành nhiệm vụ",IF(AND($N11>=8,$N11<=10,O11=0),"Hoàn thành xuất sắc nhiệm vụ",IF(AND($N11>=8,$N11<=10,O11=1),"Hoàn thành tốt nhiệm vụ",IF(AND($N11>=8,$N11<=10,O11=2),"Hoàn thành nhiệm vụ",IF(AND($N11>6,$N11<8,O11<=1),"Hoàn thành tốt nhiệm vụ",IF(AND($N11>6,$N11<8,O11=2),"Hoàn thành nhiệm vụ",IF(AND($N11>=5,$N11<=6,O11<=2),"Hoàn thành nhiệm vụ",IF(AND($N11<5,O11>3),"Không hoàn thành nhiệm vụ","")))))))) -> Hoàn thành xuất sắc nhiệm vụ
B12: II. Giảng viên/nhân viên
A13: 1 | B13: Trần Thị Thu Hà | C13: 01002004 | D13: A3 | E13: =VLOOKUP(D13,Diem!$A$2:$B$12,2,0) -> 8 | F13: A1 | G13: =VLOOKUP(F13,Diem!$A$2:$B$12,2,0) -> 10 | H13: A2 | I13: =VLOOKUP(H13,Diem!$A$2:$B$12,2,0) -> 9 | J13: A1 | K13: =VLOOKUP(J13,Diem!$A$2:$B$12,2,0) -> 10 | L13: A2 | M13: =VLOOKUP(L13,Diem!$A$2:$B$12,2,0) -> 9 | N13: =ROUND(AVERAGE(E13,G13,I13,K13,M13),2) -> 9.2 | O13: =COUNTIF(D13:K13,"C*")*1+COUNTIF(D13:K13,"D")*2+COUNTIF(D13:K13,"E")*3 -> 0 | P13: =IF(O13>=3,"Không hoàn thành nhiệm vụ",IF(AND($N13>=8,$N13<=10,O13=0),"Hoàn thành xuất sắc nhiệm vụ",IF(AND($N13>=8,$N13<=10,O13=1),"Hoàn thành tốt nhiệm vụ",IF(AND($N13>=8,$N13<=10,O13=2),"Hoàn thành nhiệm vụ",IF(AND($N13>6,$N13<8,O13<=1),"Hoàn thành tốt nhiệm vụ",IF(AND($N13>6,$N13<8,O13=2),"Hoàn thành nhiệm vụ",IF(AND($N13>=5,$N13<=6,O13<=2),"Hoàn thành nhiệm vụ",IF(AND($N13<5,O13>3),"Không hoàn thành nhiệm vụ","")))))))) -> Hoàn thành xuất sắc nhiệm vụ
A14: 2 | O14: =COUNTIF(D14:K14,"C*")*1+COUNTIF(D14:K14,"D")*2+COUNTIF(D14:K14,"E")*3 -> 0 | P14: =IF(O14>=3,"Không hoàn thành nhiệm vụ",IF(AND($N14>=8,$N14<=10,O14=0),"Hoàn thành xuất sắc nhiệm vụ",IF(AND($N14>=8,$N14<=10,O14=1),"Hoàn thành tốt nhiệm vụ",IF(AND($N14>=8,$N14<=10,O14=2),"Hoàn thành nhiệm vụ",IF(AND($N14>6,$N14<8,O14<=1),"Hoàn thành tốt nhiệm vụ",IF(AND($N14>6,$N14<8,O14=2),"Hoàn thành nhiệm vụ",IF(AND($N14>=5,$N14<=6,O14<=2),"Hoàn thành nhiệm vụ",IF(AND($N14<5,O14>3),"Không hoàn thành nhiệm vụ",""))))))))
A15: 3
I17: Thành phố Hồ Chí Minh, ngày tháng năm 2026
I18: TRƯỞNG ĐƠN VỊ

Sheet HK2
A1: TRƯỜNG CAO ĐẲNG LÝ TỰ TRỌNG | I1: CỘNG HÒA XÃ HỘI CHỦ NGHĨA VIỆT NAM
A2: THÀNH PHỐ HỒ CHÍ MINH | I2: Độc lập - Tự do - Hạnh phúc
A3: ĐƠN VỊ:
A5: DANH SÁCH XÉT THI ĐUA HỌC KÌ II NĂM HỌC 2025 - 2026
A7: TT | B7: Họ và tên | C7: Mã số E-office | D7: Tháng 02/2026 | F7: Tháng 03/2026 | H7: Tháng 04/2026 | J7: Dự kiến Tháng 05/2026 | L7: Dự kiến Tháng 06/2026 | N7: Điểm K | O7: Hệ số trừ bậc (C, D, E) | P7: Xếp loại HK2 | Q7: Ghi chú
D8: Xếp loại | E8: Điểm | F8: Xếp loại | G8: Điểm | H8: Xếp loại | I8: Điểm | J8: Xếp loại | K8: Điểm | L8: Xếp loại | M8: Điểm
B9: I. Cán bộ quản lý (Trưởng, Phó đơn vị)
A10: 1 | B10: Nguyễn Văn A | C10: 01017006 | D10: A2 | E10: =VLOOKUP(D10,Diem!$A$2:$B$12,2,0) -> 9 | F10: A3 | G10: =VLOOKUP(F10,Diem!$A$2:$B$12,2,0) -> 8 | H10: A4 | I10: =VLOOKUP(H10,Diem!$A$2:$B$12,2,0) -> 7 | J10: A3 | K10: =VLOOKUP(J10,Diem!$A$2:$B$12,2,0) -> 8 | L10: A4 | M10: =VLOOKUP(L10,Diem!$A$2:$B$12,2,0) -> 7 | N10: =ROUND(AVERAGE(E10,G10,I10,K10,M10),2) -> 7.8 | O10: =COUNTIF(D10:M10,"C*")*1+COUNTIF(D10:M10,"D")*2+COUNTIF(D10:M10,"E")*3 -> 0 | P10: =IF(O10>=3,"Không hoàn thành nhiệm vụ",IF(AND($N10>=8,$N10<=10,O10=0),"Hoàn thành xuất sắc nhiệm vụ",IF(AND($N10>=8,$N10<=10,O10=1),"Hoàn thành tốt nhiệm vụ",IF(AND($N10>=8,$N10<=10,O10=2),"Hoàn thành nhiệm vụ",IF(AND($N10>6,$N10<8,O10<=1),"Hoàn thành tốt nhiệm vụ",IF(AND($N10>6,$N10<8,O10=2),"Hoàn thành nhiệm vụ",IF(AND($N10>=5,$N10<=6,O10<=2),"Hoàn thành nhiệm vụ",IF(AND($N10<5,O10>3),"Không hoàn thành nhiệm vụ","")))))))) -> Hoàn thành tốt nhiệm vụ
A11: 2 | B11: Nguyễn Văn B | C11: 01017007 | D11: A3 | E11: =VLOOKUP(D11,Diem!$A$2:$B$12,2,0) -> 8 | F11: A3 | G11: =VLOOKUP(F11,Diem!$A$2:$B$12,2,0) -> 8 | H11: A3 | I11: =VLOOKUP(H11,Diem!$A$2:$B$12,2,0) -> 8 | J11: A3 | K11: =VLOOKUP(J11,Diem!$A$2:$B$12,2,0) -> 8 | L11: A3 | M11: =VLOOKUP(L11,Diem!$A$2:$B$12,2,0) -> 8 | N11: =ROUND(AVERAGE(E11,G11,I11,K11,M11),2) -> 8 | O11: =COUNTIF(D11:M11,"C*")*1+COUNTIF(D11:M11,"D")*2+COUNTIF(D11:M11,"E")*3 -> 0 | P11: =IF(O11>=3,"Không hoàn thành nhiệm vụ",IF(AND($N11>=8,$N11<=10,O11=0),"Hoàn thành xuất sắc nhiệm vụ",IF(AND($N11>=8,$N11<=10,O11=1),"Hoàn thành tốt nhiệm vụ",IF(AND($N11>=8,$N11<=10,O11=2),"Hoàn thành nhiệm vụ",IF(AND($N11>6,$N11<8,O11<=1),"Hoàn thành tốt nhiệm vụ",IF(AND($N11>6,$N11<8,O11=2),"Hoàn thành nhiệm vụ",IF(AND($N11>=5,$N11<=6,O11<=2),"Hoàn thành nhiệm vụ",IF(AND($N11<5,O11>3),"Không hoàn thành nhiệm vụ","")))))))) -> Hoàn thành xuất sắc nhiệm vụ
B12: II. Giảng viên/nhân viên
A13: 1 | B13: Trần Thị Thu Hà | C13: 01002004 | D13: A3 | E13: =VLOOKUP(D13,Diem!$A$2:$B$12,2,0) -> 8 | F13: A3 | G13: =VLOOKUP(F13,Diem!$A$2:$B$12,2,0) -> 8 | H13: A3 | I13: =VLOOKUP(H13,Diem!$A$2:$B$12,2,0) -> 8 | J13: A1 | K13: =VLOOKUP(J13,Diem!$A$2:$B$12,2,0) -> 10 | L13: A3 | M13: =VLOOKUP(L13,Diem!$A$2:$B$12,2,0) -> 8 | N13: =ROUND(AVERAGE(E13,G13,I13,K13,M13),2) -> 8.4 | O13: =COUNTIF(D13:M13,"C*")*1+COUNTIF(D13:M13,"D")*2+COUNTIF(D13:M13,"E")*3 -> 0 | P13: =IF(O13>=3,"Không hoàn thành nhiệm vụ",IF(AND($N13>=8,$N13<=10,O13=0),"Hoàn thành xuất sắc nhiệm vụ",IF(AND($N13>=8,$N13<=10,O13=1),"Hoàn thành tốt nhiệm vụ",IF(AND($N13>=8,$N13<=10,O13=2),"Hoàn thành nhiệm vụ",IF(AND($N13>6,$N13<8,O13<=1),"Hoàn thành tốt nhiệm vụ",IF(AND($N13>6,$N13<8,O13=2),"Hoàn thành nhiệm vụ",IF(AND($N13>=5,$N13<=6,O13<=2),"Hoàn thành nhiệm vụ",IF(AND($N13<5,O13>3),"Không hoàn thành nhiệm vụ","")))))))) -> Hoàn thành xuất sắc nhiệm vụ
A14: 2
A15: 3
A16: 4
A17: 5
I19: Thành phố Hồ Chí Minh, ngày tháng năm 2026
I20: TRƯỞNG ĐƠN VỊ

Sheet NH
A1: TRƯỜNG CAO ĐẲNG LÝ TỰ TRỌNG | G1: CỘNG HÒA XÃ HỘI CHỦ NGHĨA VIỆT NAM
A2: THÀNH PHỐ HỒ CHÍ MINH | G2: Độc lập - Tự do - Hạnh phúc
A3: ĐƠN VỊ:
A5: DANH SÁCH XÉT THI ĐUA NĂM HỌC 2025 - 2026
A7: TT | B7: Họ tên | C7: Mã số E-office | D7: Học kỳ 1 | F7: Học kỳ 2 | H7: Cả năm | J7: Danh hiệu | K7: GHI CHÚ
D8: Điểm K | E8: Xếp loại | F8: Điểm K | G8: Xếp loại | H8: Điểm X | I8: Xếp loại
B9: I. Cán bộ quản lý (Trưởng, Phó đơn vị)
A10: 1 | B10: Nguyễn Văn A | C10: 01017006 | D10: ='HK1'!$N10 -> 7.4 | E10: ='HK1'!$P10 -> Hoàn thành tốt nhiệm vụ | F10: ='HK2'!N10 -> 7.8 | G10: ='HK2'!P10 -> Hoàn thành tốt nhiệm vụ | H10: =ROUND(AVERAGE(D10,F10),2) -> 7.6 | I10: =IF(AND(8<=$H10,$H10<=10),"Hoàn thành xuất sắc nhiệm vụ",IF(AND(6<$H10,$H10<8),"Hoàn thành tốt nhiệm vụ",IF(AND(5<=$H10,$H10<=6),"Hoàn thành nhiệm vụ","Không hoàn thành nhiệm vụ"))) -> Hoàn thành tốt nhiệm vụ | J10: =IF(G10="Hoàn thành nhiệm vụ","Không đạt LĐTT",IF(OR(I10="Hoàn thành xuất sắc nhiệm vụ",I10="Hoàn thành tốt nhiệm vụ"),"Đạt LĐTT","Không đạt LĐTT")) -> Đạt LĐTT
A11: 2 | B11: Nguyễn Văn B | C11: 01017007 | D11: ='HK1'!$N11 -> 8 | E11: ='HK1'!$P11 -> Hoàn thành xuất sắc nhiệm vụ | F11: ='HK2'!N11 -> 8 | G11: ='HK2'!P11 -> Hoàn thành xuất sắc nhiệm vụ | H11: =ROUND(AVERAGE(D11,F11),2) -> 8 | I11: =IF(AND(8<=$H11,$H11<=10),"Hoàn thành xuất sắc nhiệm vụ",IF(AND(6<$H11,$H11<8),"Hoàn thành tốt nhiệm vụ",IF(AND(5<=$H11,$H11<=6),"Hoàn thành nhiệm vụ","Không hoàn thành nhiệm vụ"))) -> Hoàn thành xuất sắc nhiệm vụ | J11: =IF(G11="Hoàn thành nhiệm vụ","Không đạt LĐTT",IF(OR(I11="Hoàn thành xuất sắc nhiệm vụ",I11="Hoàn thành tốt nhiệm vụ"),"Đạt LĐTT","Không đạt LĐTT")) -> Đạt LĐTT
B12: II. Giảng viên/nhân viên
A13: 1 | B13: Trần Thị Thu Hà | C13: 01002004 | D13: ='HK1'!$N13 -> 9.2 | E13: ='HK1'!$P13 -> Hoàn thành xuất sắc nhiệm vụ | F13: ='HK2'!N13 -> 8.4 | G13: ='HK2'!P13 -> Hoàn thành xuất sắc nhiệm vụ | H13: =ROUND(AVERAGE(D13,F13),2) -> 8.8 | I13: =IF(AND(8<=$H13,$H13<=10),"Hoàn thành xuất sắc nhiệm vụ",IF(AND(6<$H13,$H13<8),"Hoàn thành tốt nhiệm vụ",IF(AND(5<=$H13,$H13<=6),"Hoàn thành nhiệm vụ","Không hoàn thành nhiệm vụ"))) -> Hoàn thành xuất sắc nhiệm vụ | J13: =IF(G13="Hoàn thành nhiệm vụ","Không đạt LĐTT",IF(OR(I13="Hoàn thành xuất sắc nhiệm vụ",I13="Hoàn thành tốt nhiệm vụ"),"Đạt LĐTT","Không đạt LĐTT")) -> Đạt LĐTT
A14: 2
B16: Đạt LĐTT: | C16: =COUNTIF($J$10:$J$14,"Đạt LĐTT") -> 3
B17: Không đạt LĐTT: | C17: =COUNTIF($J$10:$J$14,"Không đạt LĐTT") -> 0
B18: Không xét LĐTT (Tuyển dụng dưới 6 tháng) | C18: =COUNTIF($J$10:$J$14,"Không xét LĐTT") -> 0
H20: Thành phố Hồ Chí Minh, ngày tháng năm 2026
H21: TRƯỞNG ĐƠN VỊ
