Workbook

Sheet Diem
A2: A1 | B2: 10
A3: A2 | B3: 9
A4: A3 | B4: 8
A5: A4 | B5: 7
A7: B1 | B7: 6
A8: B2 | B8: 5
A9: C1 | B9: 4
A10: C2 | B10: 3
A11: D | B11: 1
A12: E | B12: 0

Sheet HK1
A1: TRƯỜNG CAO ĐẲNG LÝ TỰ TRỌNG | I1: CỘNG HÒA XÃ HỘI CHỦ NGHĨA VIỆT NAM
A2: THÀNH PHỐ HỒ CHÍ MINH | I2: Độc lập - Tự do - Hạnh phúc
A3: KHOA GIÁO DỤC ĐẠI CƯƠNG
A5: DANH SÁCH XÉT THI ĐUA HỌC KÌ I NĂM HỌC 2025- 2026
A7: TT | B7: Họ và tên | C7: Mã số E-office | D7: Tháng 09/2025 | F7: Tháng 10/2025 | H7: Tháng 11/2025 | J7: Tháng 12/2025 | L7: Tháng 01/2026 | N7: Điểm K | O7: Hệ số trừ bậc (C, D, E) | P7: Xếp loại HK1 | Q7: Ghi chú
D8: Xếp loại | E8: Điểm | F8: Xếp loại | G8: Điểm | H8: Xếp loại | I8: Điểm | J8: Xếp loại | K8: Điểm | L8: Xếp loại | M8: Điểm
B9: I. Cán bộ quản lý (Trưởng, Phó đơn vị)
A10: 1 | B10: Lê Thị Hồng Vân | C10: 01011002 | D10: A2 | E10: =VLOOKUP(D10,[1]Diem!$A$2:$B$12,2,0) -> 9 | F10: A2 | G10: =VLOOKUP(F10,[1]Diem!$A$2:$B$12,2,0) -> 9 | H10: A1 | I10: =VLOOKUP(H10,[1]Diem!$A$2:$B$12,2,0) -> 10 | J10: A1 | K10: =VLOOKUP(J10,[1]Diem!$A$2:$B$12,2,0) -> 10 | L10: A2 | M10: =VLOOKUP(L10,Diem!$A$2:$B$12,2,0) -> 9 | N10: =ROUND(AVERAGE(E10,G10,I10,K10,M10),2) -> 9.4 | O10: =COUNTIF(D10:K10,"C*")*1+COUNTIF(D10:K10,"D")*2+COUNTIF(D10:K10,"E")*3 -> 0 | P10: =IF(O10>=3,"Không hoàn thành nhiệm vụ",IF(AND($N10>=8,$N10<=10,O10=0),"Hoàn thành xuất sắc nhiệm vụ",IF(AND($N10>=8,$N10<=10,O10=1),"Hoàn thành tốt nhiệm vụ",IF(AND($N10>=8,$N10<=10,O10=2),"Hoàn thành nhiệm vụ",IF(AND($N10>6,$N10<8,O10<=1),"Hoàn thành tốt nhiệm vụ",IF(AND($N10>6,$N10<8,O10=2),"Hoàn thành nhiệm vụ",IF(AND($N10>=5,$N10<=6,O10<=2),"Hoàn thành nhiệm vụ",IF(AND($N10<5,O10>3),"Không hoàn thành nhiệm vụ","")))))))) -> Hoàn thành xuất sắc nhiệm vụ
A11: 2 | B11: Trương Thị Hồng | C11: 01023002 | D11: A1 | E11: =VLOOKUP(D11,[1]Diem!$A$2:$B$12,2,0) -> 10 | F11: A1 | G11: =VLOOKUP(F11,[1]Diem!$A$2:$B$12,2,0) -> 10 | H11: A1 | I11: =VLOOKUP(H11,[1]Diem!$A$2:$B$12,2,0) -> 10 | J11: A1 | K11: =VLOOKUP(J11,[1]Diem!$A$2:$B$12,2,0) -> 10 | L11: A1 | M11: =VLOOKUP(L11,Diem!$A$2:$B$12,2,0) -> 10 | N11: =ROUND(AVERAGE(E11,G11,I11,K11,M11),2) -> 10 | O11: =COUNTIF(D11:K11,"C*")*1+COUNTIF(D11:K11,"D")*2+COUNTIF(D11:K11,"E")*3 -> 0 | P11: =IF(O11>=3,"Không hoàn thành nhiệm vụ",IF(AND($N11>=8,$N11<=10,O11=0),"Hoàn thành xuất sắc nhiệm vụ",IF(AND($N11>=8,$N11<=10,O11=1),"Hoàn thành tốt nhiệm vụ",IF(AND($N11>=8,$N11<=10,O11=2),"Hoàn thành nhiệm vụ",IF(AND($N11>6,$N11<8,O11<=1),"Hoàn thành tốt nhiệm vụ",IF(AND($N11>6,$N11<8,O11=2),"Hoàn thành nhiệm vụ",IF(AND($N11>=5,$N11<=6,O11<=2),"Hoàn thành nhiệm vụ",IF(AND($N11<5,O11>3),"Không hoàn thành nhiệm vụ","")))))))) -> Hoàn thành xuất sắc nhiệm vụ
A12: 3 | B12: Phạm Thị Thu Nga | C12: 1010007 | D12: A2 | E12: =VLOOKUP(D12,[1]Diem!$A$2:$B$12,2,0) -> 9 | F12: A3 | G12: =VLOOKUP(F12,[1]Diem!$A$2:$B$12,2,0) -> 8 | H12: A2 | I12: =VLOOKUP(H12,[1]Diem!$A$2:$B$12,2,0) -> 9 | J12: A2 | K12: =VLOOKUP(J12,[1]Diem!$A$2:$B$12,2,0) -> 9 | L12: A3 | M12: =VLOOKUP(L12,Diem!$A$2:$B$12,2,0) -> 8 | N12: =ROUND(AVERAGE(E12,G12,I12,K12,M12),2) -> 8.6 | P12: =IF(O12>=3,"Không hoàn thành nhiệm vụ",IF(AND($N12>=8,$N12<=10,O12=0),"Hoàn thành xuất sắc nhiệm vụ",IF(AND($N12>=8,$N12<=10,O12=1),"Hoàn thành tốt nhiệm vụ",IF(AND($N12>=8,$N12<=10,O12=2),"Hoàn thành nhiệm vụ",IF(AND($N12>6,$N12<8,O12<=1),"Hoàn thành tốt nhiệm vụ",IF(AND($N12>6,$N12<8,O12=2),"Hoàn thành nhiệm vụ",IF(AND($N12>=5,$N12<=6,O12<=2),"Hoàn thành nhiệm vụ",IF(AND($N12<5,O12>3),"Không hoàn thành nhiệm vụ","")))))))) -> Hoàn thành xuất sắc nhiệm vụ
B13: II. Giảng viên/nhân viên
A14: 4 | B14: Lê Văn Bình | C14: 01010023 | D14: A4 | E14: =VLOOKUP(D14,[1]Diem!$A$2:$B$12,2,0) -> 7 | F14: A4 | G14: =VLOOKUP(F14,[1]Diem!$A$2:$B$12,2,0) -> 7 | H14: A4 | I14: =VLOOKUP(H14,[1]Diem!$A$2:$B$12,2,0) -> 7 | J14: A4 | K14: =VLOOKUP(J14,[1]Diem!$A$2:$B$12,2,0) -> 7 | L14: A4 | M14: =VLOOKUP(L14,Diem!$A$2:$B$12,2,0) -> 7 | N14: =ROUND(AVERAGE(E14,G14,I14,K14,M14),2) -> 7 | P14: =IF(O14>=3,"Không hoàn thành nhiệm vụ",IF(AND($N14>=8,$N14<=10,O14=0),"Hoàn thành xuất sắc nhiệm vụ",IF(AND($N14>=8,$N14<=10,O14=1),"Hoàn thành tốt nhiệm vụ",IF(AND($N14>=8,$N14<=10,O14=2),"Hoàn thành nhiệm vụ",IF(AND($N14>6,$N14<8,O14<=1),"Hoàn thành tốt nhiệm vụ",IF(AND($N14>6,$N14<8,O14=2),"Hoàn thành nhiệm vụ",IF(AND($N14>=5,$N14<=6,O14<=2),"Hoàn thành nhiệm vụ",IF(AND($N14<5,O14>3),"Không hoàn thành nhiệm vụ","")))))))) -> Hoàn thành tốt nhiệm vụ
A15: 5 | B15: Nguyễn Thị Dinh | C15: 01011005 | D15: A3 | E15: =VLOOKUP(D15,[1]Diem!$A$2:$B$12,2,0) -> 8 | F15: A4 | G15: =VLOOKUP(F15,[1]Diem!$A$2:$B$12,2,0) -> 7 | H15: A3 | I15: =VLOOKUP(H15,[1]Diem!$A$2:$B$12,2,0) -> 8 | J15: A3 | K15: =VLOOKUP(J15,[1]Diem!$A$2:$B$12,2,0) -> 8 | L15: A4 | M15: =VLOOKUP(L15,Diem!$A$2:$B$12,2,0) -> 7 | N15: =ROUND(AVERAGE(E15,G15,I15,K15,M15),2) -> 7.6 | P15: =IF(O15>=3,"Không hoàn thành nhiệm vụ",IF(AND($N15>=8,$N15<=10,O15=0),"Hoàn thành xuất sắc nhiệm vụ",IF(AND($N15>=8,$N15<=10,O15=1),"Hoàn thành tốt nhiệm vụ",IF(AND($N15>=8,$N15<=10,O15=2),"Hoàn thành nhiệm vụ",IF(AND($N15>6,$N15<8,O15<=1),"Hoàn thành tốt nhiệm vụ",IF(AND($N15>6,$N15<8,O15=2),"Hoàn thành nhiệm vụ",IF(AND($N15>=5,$N15<=6,O15<=2),"Hoàn thành nhiệm vụ",IF(AND($N15<5,O15>3),"Không hoàn thành nhiệm vụ","")))))))) -> Hoàn thành tốt nhiệm vụ
A16: 6 | B16: Bùi Thành Dũng | C16: 01011011 | D16: A2 | E16: =VLOOKUP(D16,[1]Diem!$A$2:$B$12,2,0) -> 9 | F16: A3 | G16: =VLOOKUP(F16,[1]Diem!$A$2:$B$12,2,0) -> 8 | H16: A3 | I16: =VLOOKUP(H16,[1]Diem!$A$2:$B$12,2,0) -> 8 | J16: A3 | K16: =VLOOKUP(J16,[1]Diem!$A$2:$B$12,2,0) -> 8 | L16: A4 | M16: =VLOOKUP(L16,Diem!$A$2:$B$12,2,0) -> 7 | N16: =ROUND(AVERAGE(E16,G16,I16,K16,M16),2) -> 8 | P16: =IF(O16>=3,"Không hoàn thành nhiệm vụ",IF(AND($N16>=8,$N16<=10,O16=0),"Hoàn thành xuất sắc nhiệm vụ",IF(AND($N16>=8,$N16<=10,O16=1),"Hoàn thành tốt nhiệm vụ",IF(AND($N16>=8,$N16<=10,O16=2),"Hoàn thành nhiệm vụ",IF(AND($N16>6,$N16<8,O16<=1),"Hoàn thành tốt nhiệm vụ",IF(AND($N16>6,$N16<8,O16=2),"Hoàn thành nhiệm vụ",IF(AND($N16>=5,$N16<=6,O16<=2),"Hoàn thành nhiệm vụ",IF(AND($N16<5,O16>3),"Không hoàn thành nhiệm vụ","")))))))) -> Hoàn thành xuất sắc nhiệm vụ
A17: 7 | B17: Ngô Thanh Điền | C17: 01022005 | D17: A4 | E17: =VLOOKUP(D17,[1]Diem!$A$2:$B$12,2,0) -> 7 | F17: A2 | G17: =VLOOKUP(F17,[1]Diem!$A$2:$B$12,2,0) -> 9 | H17: A1 | I17: =VLOOKUP(H17,[1]Diem!$A$2:$B$12,2,0) -> 10 | J17: A1 | K17: =VLOOKUP(J17,[1]Diem!$A$2:$B$12,2,0) -> 10 | L17: A2 | M17: =VLOOKUP(L17,Diem!$A$2:$B$12,2,0) -> 9 | N17: =ROUND(AVERAGE(E17,G17,I17,K17,M17),2) -> 9 | P17: =IF(O17>=3,"Không hoàn thành nhiệm vụ",IF(AND($N17>=8,$N17<=10,O17=0),"Hoàn thành xuất sắc nhiệm vụ",IF(AND($N17>=8,$N17<=10,O17=1),"Hoàn thành tốt nhiệm vụ",IF(AND($N17>=8,$N17<=10,O17=2),"Hoàn thành nhiệm vụ",IF(AND($N17>6,$N17<8,O17<=1),"Hoàn thành tốt nhiệm vụ",IF(AND($N17>6,$N17<8,O17=2),"Hoàn thành nhiệm vụ",IF(AND($N17>=5,$N17<=6,O17<=2),"Hoàn thành nhiệm vụ",IF(AND($N17<5,O17>3),"Không hoàn thành nhiệm vụ","")))))))) -> Hoàn thành xuất sắc nhiệm vụ
A18: 8 | B18: Nguyễn Văn Đông | C18: 01010017 | D18: A4 | E18: =VLOOKUP(D18,[1]Diem!$A$2:$B$12,2,0) -> 7 | F18: A3 | G18: =VLOOKUP(F18,[1]Diem!$A$2:$B$12,2,0) -> 8 | H18: A3 | I18: =VLOOKUP(H18,[1]Diem!$A$2:$B$12,2,0) -> 8 | J18: A3 | K18: =VLOOKUP(J18,[1]Diem!$A$2:$B$12,2,0) -> 8 | L18: A4 | M18: =VLOOKUP(L18,Diem!$A$2:$B$12,2,0) -> 7 | N18: =ROUND(AVERAGE(E18,G18,I18,K18,M18),2) -> 7.6 | P18: =IF(O18>=3,"Không hoàn thành nhiệm vụ",IF(AND($N18>=8,$N18<=10,O18=0),"Hoàn thành xuất sắc nhiệm vụ",IF(AND($N18>=8,$N18<=10,O18=1),"Hoàn thành tốt nhiệm vụ",IF(AND($N18>=8,$N18<=10,O18=2),"Hoàn thành nhiệm vụ",IF(AND($N18>6,$N18<8,O18<=1),"Hoàn thành tốt nhiệm vụ",IF(AND($N18>6,$N18<8,O18=2),"Hoàn thành nhiệm vụ",IF(AND($N18>=5,$N18<=6,O18<=2),"Hoàn thành nhiệm vụ",IF(AND($N18<5,O18>3),"Không hoàn thành nhiệm vụ","")))))))) -> Hoàn thành tốt nhiệm vụ
A19: 9 | B19: Nguyễn Phương Hà | C19: 01010023 | D19: A4 | E19: =VLOOKUP(D19,[1]Diem!$A$2:$B$12,2,0) -> 7 | F19: A4 | G19: =VLOOKUP(F19,[1]Diem!$A$2:$B$12,2,0) -> 7 | H19: A3 | I19: =VLOOKUP(H19,[1]Diem!$A$2:$B$12,2,0) -> 8 | J19: A3 | K19: =VLOOKUP(J19,[1]Diem!$A$2:$B$12,2,0) -> 8 | L19: A4 | M19: =VLOOKUP(L19,Diem!$A$2:$B$12,2,0) -> 7 | N19: =ROUND(AVERAGE(E19,G19,I19,K19,M19),2) -> 7.4 | P19: =IF(O19>=3,"Không hoàn thành nhiệm vụ",IF(AND($N19>=8,$N19<=10,O19=0),"Hoàn thành xuất sắc nhiệm vụ",IF(AND($N19>=8,$N19<=10,O19=1),"Hoàn thành tốt nhiệm vụ",IF(AND($N19>=8,$N19<=10,O19=2),"Hoàn thành nhiệm vụ",IF(AND($N19>6,$N19<8,O19<=1),"Hoàn thành tốt nhiệm vụ",IF(AND($N19>6,$N19<8,O19=2),"Hoàn thành nhiệm vụ",IF(AND($N19>=5,$N19<=6,O19<=2),"Hoàn thành nhiệm vụ",IF(AND($N19<5,O19>3),"Không hoàn thành nhiệm vụ","")))))))) -> Hoàn thành tốt nhiệm vụ
A20: 10 | B20: Nguyễn Văn Hậu | C20: 01010033 | D20: A4 | E20: =VLOOKUP(D20,[1]Diem!$A$2:$B$12,2,0) -> 7 | F20: A4 | G20: =VLOOKUP(F20,[1]Diem!$A$2:$B$12,2,0) -> 7 | H20: A4 | I20: =VLOOKUP(H20,[1]Diem!$A$2:$B$12,2,0) -> 7 | J20: A4 | K20: =VLOOKUP(J20,[1]Diem!$A$2:$B$12,2,0) -> 7 | L20: A4 | M20: =VLOOKUP(L20,Diem!$A$2:$B$12,2,0) -> 7 | N20: =ROUND(AVERAGE(E20,G20,I20,K20,M20),2) -> 7 | P20: =IF(O20>=3,"Không hoàn thành nhiệm vụ",IF(AND($N20>=8,$N20<=10,O20=0),"Hoàn thành xuất sắc nhiệm vụ",IF(AND($N20>=8,$N20<=10,O20=1),"Hoàn thành tốt nhiệm vụ",IF(AND($N20>=8,$N20<=10,O20=2),"Hoàn thành nhiệm vụ",IF(AND($N20>6,$N20<8,O20<=1),"Hoàn thành tốt nhiệm vụ",IF(AND($N20>6,$N20<8,O20=2),"Hoàn thành nhiệm vụ",IF(AND($N20>=5,$N20<=6,O20<=2),"Hoàn thành nhiệm vụ",IF(AND($N20<5,O20>3),"Không hoàn thành nhiệm vụ","")))))))) -> Hoàn thành tốt nhiệm vụ
A21: 11 | B21: Giang Phi Hùng | C21: 01010030 | D21: A2 | E21: =VLOOKUP(D21,[1]Diem!$A$2:$B$12,2,0) -> 9 | F21: A1 | G21: =VLOOKUP(F21,[1]Diem!$A$2:$B$12,2,0) -> 10 | H21: A1 | I21: =VLOOKUP(H21,[1]Diem!$A$2:$B$12,2,0) -> 10 | J21: A2 | K21: =VLOOKUP(J21,[1]Diem!$A$2:$B$12,2,0) -> 9 | L21: A2 | M21: =VLOOKUP(L21,Diem!$A$2:$B$12,2,0) -> 9 | N21: =ROUND(AVERAGE(E21,G21,I21,K21,M21),2) -> 9.4 | P21: =IF(O21>=3,"Không hoàn thành nhiệm vụ",IF(AND($N21>=8,$N21<=10,O21=0),"Hoàn thành xuất sắc nhiệm vụ",IF(AND($N21>=8,$N21<=10,O21=1),"Hoàn thành tốt nhiệm vụ",IF(AND($N21>=8,$N21<=10,O21=2),"Hoàn thành nhiệm vụ",IF(AND($N21>6,$N21<8,O21<=1),"Hoàn thành tốt nhiệm vụ",IF(AND($N21>6,$N21<8,O21=2),"Hoàn thành nhiệm vụ",IF(AND($N21>=5,$N21<=6,O21<=2),"Hoàn thành nhiệm vụ",IF(AND($N21<5,O21>3),"Không hoàn thành nhiệm vụ","")))))))) -> Hoàn thành xuất sắc nhiệm vụ
A22: 12 | B22: Lê Thái Hùng | C22: 01010021 | D22: A4 | E22: =VLOOKUP(D22,[1]Diem!$A$2:$B$12,2,0) -> 7 | F22: A3 | G22: =VLOOKUP(F22,[1]Diem!$A$2:$B$12,2,0) -> 8 | H22: A1 | I22: =VLOOKUP(H22,[1]Diem!$A$2:$B$12,2,0) -> 10 | J22: A2 | K22: =VLOOKUP(J22,[1]Diem!$A$2:$B$12,2,0) -> 9 | L22: A2 | M22: =VLOOKUP(L22,Diem!$A$2:$B$12,2,0) -> 9 | N22: =ROUND(AVERAGE(E22,G22,I22,K22,M22),2) -> 8.6 | P22: =IF(O22>=3,"Không hoàn thành nhiệm vụ",IF(AND($N22>=8,$N22<=10,O22=0),"Hoàn thành xuất sắc nhiệm vụ",IF(AND($N22>=8,$N22<=10,O22=1),"Hoàn thành tốt nhiệm vụ",IF(AND($N22>=8,$N22<=10,O22=2),"Hoàn thành nhiệm vụ",IF(AND($N22>6,$N22<8,O22<=1),"Hoàn thành tốt nhiệm vụ",IF(AND($N22>6,$N22<8,O22=2),"Hoàn thành nhiệm vụ",IF(AND($N22>=5,$N22<=6,O22<=2),"Hoàn thành nhiệm vụ",IF(AND($N22<5,O22>3),"Không hoàn thành nhiệm vụ","")))))))) -> Hoàn thành xuất sắc nhiệm vụ
A23: 13 | B23: Đinh Thị Huyên | C23: 01011009 | D23: A3 | E23: =VLOOKUP(D23,[1]Diem!$A$2:$B$12,2,0) -> 8 | F23: A3 | G23: =VLOOKUP(F23,[1]Diem!$A$2:$B$12,2,0) -> 8 | H23: A3 | I23: =VLOOKUP(H23,[1]Diem!$A$2:$B$12,2,0) -> 8 | J23: A3 | K23: =VLOOKUP(J23,[1]Diem!$A$2:$B$12,2,0) -> 8 | L23: A2 | M23: =VLOOKUP(L23,Diem!$A$2:$B$12,2,0) -> 9 | N23: =ROUND(AVERAGE(E23,G23,I23,K23,M23),2) -> 8.2 | P23: =IF(O23>=3,"Không hoàn thành nhiệm vụ",IF(AND($N23>=8,$N23<=10,O23=0),"Hoàn thành xuất sắc nhiệm vụ",IF(AND($N23>=8,$N23<=10,O23=1),"Hoàn thành tốt nhiệm vụ",IF(AND($N23>=8,$N23<=10,O23=2),"Hoàn thành nhiệm vụ",IF(AND($N23>6,$N23<8,O23<=1),"Hoàn thành tốt nhiệm vụ",IF(AND($N23>6,$N23<8,O23=2),"Hoàn thành nhiệm vụ",IF(AND($N23>=5,$N23<=6,O23<=2),"Hoàn thành nhiệm vụ",IF(AND($N23<5,O23>3),"Không hoàn thành nhiệm vụ","")))))))) -> Hoàn thành xuất sắc nhiệm vụ
A24: 14 | B24: Dương Đức Kiên | C24: 01010037 | D24: A4 | E24: =VLOOKUP(D24,[1]Diem!$A$2:$B$12,2,0) -> 7 | F24: A3 | G24: =VLOOKUP(F24,[1]Diem!$A$2:$B$12,2,0) -> 8 | H24: A3 | I24: =VLOOKUP(H24,[1]Diem!$A$2:$B$12,2,0) -> 8 | J24: A3 | K24: =VLOOKUP(J24,[1]Diem!$A$2:$B$12,2,0) -> 8 | L24: A4 | M24: =VLOOKUP(L24,Diem!$A$2:$B$12,2,0) -> 7 | N24: =ROUND(AVERAGE(E24,G24,I24,K24,M24),2) -> 7.6 | P24: =IF(O24>=3,"Không hoàn thành nhiệm vụ",IF(AND($N24>=8,$N24<=10,O24=0),"Hoàn thành xuất sắc nhiệm vụ",IF(AND($N24>=8,$N24<=10,O24=1),"Hoàn thành tốt nhiệm vụ",IF(AND($N24>=8,$N24<=10,O24=2),"Hoàn thành nhiệm vụ",IF(AND($N24>6,$N24<8,O24<=1),"Hoàn thành tốt nhiệm vụ",IF(AND($N24>6,$N24<8,O24=2),"Hoàn thành nhiệm vụ",IF(AND($N24>=5,$N24<=6,O24<=2),"Hoàn thành nhiệm vụ",IF(AND($N24<5,O24>3),"Không hoàn thành nhiệm vụ","")))))))) -> Hoàn thành tốt nhiệm vụ
A25: 15 | B25: Nguyễn Anh Kiệt | C25: 01011001 | D25: A4 | E25: =VLOOKUP(D25,[1]Diem!$A$2:$B$12,2,0) -> 7 | F25: A4 | G25: =VLOOKUP(F25,[1]Diem!$A$2:$B$12,2,0) -> 7 | H25: A4 | I25: =VLOOKUP(H25,[1]Diem!$A$2:$B$12,2,0) -> 7 | J25: A4 | K25: =VLOOKUP(J25,[1]Diem!$A$2:$B$12,2,0) -> 7 | L25: A4 | M25: =VLOOKUP(L25,Diem!$A$2:$B$12,2,0) -> 7 | N25: =ROUND(AVERAGE(E25,G25,I25,K25,M25),2) -> 7 | P25: =IF(O25>=3,"Không hoàn thành nhiệm vụ",IF(AND($N25>=8,$N25<=10,O25=0),"Hoàn thành xuất sắc nhiệm vụ",IF(AND($N25>=8,$N25<=10,O25=1),"Hoàn thành tốt nhiệm vụ",IF(AND($N25>=8,$N25<=10,O25=2),"Hoàn thành nhiệm vụ",IF(AND($N25>6,$N25<8,O25<=1),"Hoàn thành tốt nhiệm vụ",IF(AND($N25>6,$N25<8,O25=2),"Hoàn thành nhiệm vụ",IF(AND($N25>=5,$N25<=6,O25<=2),"Hoàn thành nhiệm vụ",IF(AND($N25<5,O25>3),"Không hoàn thành nhiệm vụ","")))))))) -> Hoàn thành tốt nhiệm vụ
... A45: 35 | B45: Trịnh Khắc Vũ | C45: 01010026 | D45: A4 | E45: =VLOOKUP(D45,[1]Diem!$A$2:$B$12,2,0) -> 7 | F45: A4 | G45: =VLOOKUP(F45,[1]Diem!$A$2:$B$12,2,0) -> 7 | H45: A4 | I45: =VLOOKUP(H45,[1]Diem!$A$2:$B$12,2,0) -> 7 | J45: A4 | K45: =VLOOKUP(J45,[1]Diem!$A$2:$B$12,2,0) -> 7 | L45: A4 | M45: =VLOOKUP(L45,Diem!$A$2:$B$12,2,0) -> 7 | N45: =ROUND(AVERAGE(E45,G45,I45,K45,M45),2) -> 7 | P45: =IF(O45>=3,"Không hoàn thành nhiệm vụ",IF(AND($N45>=8,$N45<=10,O45=0),"Hoàn thành xuất sắc nhiệm vụ",IF(AND($N45>=8,$N45<=10,O45=1),"Hoàn thành tốt nhiệm vụ",IF(AND($N45>=8,$N45<=10,O45=2),"Hoàn thành nhiệm vụ",IF(AND($N45>6,$N45<8,O45<=1),"Hoàn thành tốt nhiệm vụ",IF(AND($N45>6,$N45<8,O45=2),"Hoàn thành nhiệm vụ",IF(AND($N45>=5,$N45<=6,O45<=2),"Hoàn thành nhiệm vụ",IF(AND($N45<5,O45>3),"Không hoàn thành nhiệm vụ","")))))))) -> Hoàn thành tốt nhiệm vụ

Sheet HK2
A1: TRƯỜNG CAO ĐẲNG LÝ TỰ TRỌNG | I1: CỘNG HÒA XÃ HỘI CHỦ NGHĨA VIỆT NAM
A2: THÀNH PHỐ HỒ CHÍ MINH | I2: Độc lập - Tự do - Hạnh phúc
A3: KHOA GIÁO DỤC ĐẠI CƯƠNG
A5: DANH SÁCH TẠM XÉT THI ĐUA HỌC KÌ II NĂM HỌC 2025 - 2026
A7: TT | B7: Họ và tên | C7: Mã số E-office | D7: Tháng 02/2026 | F7: Tháng 03/2026 | H7: Tháng 04/2026 | J7: Tháng 05/2026 | L7: Tháng 6/2026 | N7: Điểm K | O7: Hệ số trừ bậc (C, D, E) | P7: Xếp loại HK2 | Q7: Ghi chú
D8: Xếp loại | E8: Điểm | F8: Xếp loại | G8: Điểm | H8: Xếp loại | I8: Điểm | J8: Xếp loại | K8: Điểm | L8: Xếp loại | M8: Điểm
B9: I. Cán bộ quản lý (Trưởng, Phó đơn vị)
A10: 1 | B10: Lê Thị Hồng Vân | C10: 01011002 | D10: A2 | E10: =VLOOKUP(D10,[1]Diem!$A$2:$B$12,2,0) -> 9 | F10: A2 | G10: =VLOOKUP(F10,[1]Diem!$A$2:$B$12,2,0) -> 9 | H10: A1 | I10: =VLOOKUP(H10,[1]Diem!$A$2:$B$12,2,0) -> 10 | J10: A2 | K10: =VLOOKUP(J10,[1]Diem!$A$2:$B$12,2,0) -> 9 | L10: A2 | M10: =VLOOKUP(L10,[1]Diem!$A$2:$B$12,2,0) -> 9 | N10: =ROUND(AVERAGE(E10,G10,I10,K10),2) -> 9.25 | O10: =COUNTIF(D10:K10,"C*")*1+COUNTIF(D10:K10,"D")*2+COUNTIF(D10:K10,"E")*3 -> 0 | P10: =IF(O10>=3,"Không hoàn thành nhiệm vụ",IF(AND($N10>=8,$N10<=10,O10=0),"Hoàn thành xuất sắc nhiệm vụ",IF(AND($N10>=8,$N10<=10,O10=1),"Hoàn thành tốt nhiệm vụ",IF(AND($N10>=8,$N10<=10,O10=2),"Hoàn thành nhiệm vụ",IF(AND($N10>6,$N10<8,O10<=1),"Hoàn thành tốt nhiệm vụ",IF(AND($N10>6,$N10<8,O10=2),"Hoàn thành nhiệm vụ",IF(AND($N10>=5,$N10<=6,O10<=2),"Hoàn thành nhiệm vụ",IF(AND($N10<5,O10>3),"Không hoàn thành nhiệm vụ","")))))))) -> Hoàn thành xuất sắc nhiệm vụ
A11: 2 | B11: Trương Thị Hồng | C11: 01023002 | D11: A1 | E11: =VLOOKUP(D11,[1]Diem!$A$2:$B$12,2,0) -> 10 | F11: A3 | G11: =VLOOKUP(F11,[1]Diem!$A$2:$B$12,2,0) -> 8 | H11: A2 | I11: =VLOOKUP(H11,[1]Diem!$A$2:$B$12,2,0) -> 9 | J11: A1 | K11: =VLOOKUP(J11,[1]Diem!$A$2:$B$12,2,0) -> 10 | L11: A2 | M11: =VLOOKUP(L11,[1]Diem!$A$2:$B$12,2,0) -> 9 | N11: =ROUND(AVERAGE(E11,G11,I11,K11),2) -> 9.25 | O11: =COUNTIF(D11:K11,"C*")*1+COUNTIF(D11:K11,"D")*2+COUNTIF(D11:K11,"E")*3 -> 0 | P11: =IF(O11>=3,"Không hoàn thành nhiệm vụ",IF(AND($N11>=8,$N11<=10,O11=0),"Hoàn thành xuất sắc nhiệm vụ",IF(AND($N11>=8,$N11<=10,O11=1),"Hoàn thành tốt nhiệm vụ",IF(AND($N11>=8,$N11<=10,O11=2),"Hoàn thành nhiệm vụ",IF(AND($N11>6,$N11<8,O11<=1),"Hoàn thành tốt nhiệm vụ",IF(AND($N11>6,$N11<8,O11=2),"Hoàn thành nhiệm vụ",IF(AND($N11>=5,$N11<=6,O11<=2),"Hoàn thành nhiệm vụ",IF(AND($N11<5,O11>3),"Không hoàn thành nhiệm vụ","")))))))) -> Hoàn thành xuất sắc nhiệm vụ
A12: 3 | B12: Phạm Thị Thu Nga | C12: 1010007 | D12: A4 | E12: =VLOOKUP(D12,[1]Diem!$A$2:$B$12,2,0) -> 7 | F12: A1 | G12: =VLOOKUP(F12,[1]Diem!$A$2:$B$12,2,0) -> 10 | H12: A1 | I12: =VLOOKUP(H12,[1]Diem!$A$2:$B$12,2,0) -> 10 | J12: A1 | K12: =VLOOKUP(J12,[1]Diem!$A$2:$B$12,2,0) -> 10 | L12: A3 | M12: =VLOOKUP(L12,[1]Diem!$A$2:$B$12,2,0) -> 8 | N12: =ROUND(AVERAGE(E12,G12,I12,K12),2) -> 9.25 | P12: =IF(O12>=3,"Không hoàn thành nhiệm vụ",IF(AND($N12>=8,$N12<=10,O12=0),"Hoàn thành xuất sắc nhiệm vụ",IF(AND($N12>=8,$N12<=10,O12=1),"Hoàn thành tốt nhiệm vụ",IF(AND($N12>=8,$N12<=10,O12=2),"Hoàn thành nhiệm vụ",IF(AND($N12>6,$N12<8,O12<=1),"Hoàn thành tốt nhiệm vụ",IF(AND($N12>6,$N12<8,O12=2),"Hoàn thành nhiệm vụ",IF(AND($N12>=5,$N12<=6,O12<=2),"Hoàn thành nhiệm vụ",IF(AND($N12<5,O12>3),"Không hoàn thành nhiệm vụ","")))))))) -> Hoàn thành xuất sắc nhiệm vụ
B13: II. Giảng viên/nhân viên
A14: 4 | B14: Lê Văn Bình | C14: 01010023 | D14: A4 | E14: =VLOOKUP(D14,[1]Diem!$A$2:$B$12,2,0) -> 7 | F14: A3 | G14: =VLOOKUP(F14,[1]Diem!$A$2:$B$12,2,0) -> 8 | H14: A2 | I14: =VLOOKUP(H14,[1]Diem!$A$2:$B$12,2,0) -> 9 | J14: A3 | K14: =VLOOKUP(J14,[1]Diem!$A$2:$B$12,2,0) -> 8 | L14: A4 | M14: =VLOOKUP(L14,[1]Diem!$A$2:$B$12,2,0) -> 7 | N14: =ROUND(AVERAGE(E14,G14,I14,K14),2) -> 8 | P14: =IF(O14>=3,"Không hoàn thành nhiệm vụ",IF(AND($N14>=8,$N14<=10,O14=0),"Hoàn thành xuất sắc nhiệm vụ",IF(AND($N14>=8,$N14<=10,O14=1),"Hoàn thành tốt nhiệm vụ",IF(AND($N14>=8,$N14<=10,O14=2),"Hoàn thành nhiệm vụ",IF(AND($N14>6,$N14<8,O14<=1),"Hoàn thành tốt nhiệm vụ",IF(AND($N14>6,$N14<8,O14=2),"Hoàn thành nhiệm vụ",IF(AND($N14>=5,$N14<=6,O14<=2),"Hoàn thành nhiệm vụ",IF(AND($N14<5,O14>3),"Không hoàn thành nhiệm vụ","")))))))) -> Hoàn thành xuất sắc nhiệm vụ
A15: 5 | B15: Nguyễn Thị Dinh | C15: 01011005 | D15: A4 | E15: =VLOOKUP(D15,[1]Diem!$A$2:$B$12,2,0) -> 7 | F15: A4 | G15: =VLOOKUP(F15,[1]Diem!$A$2:$B$12,2,0) -> 7 | H15: A2 | I15: =VLOOKUP(H15,[1]Diem!$A$2:$B$12,2,0) -> 9 | J15: A2 | K15: =VLOOKUP(J15,[1]Diem!$A$2:$B$12,2,0) -> 9 | L15: A3 | M15: =VLOOKUP(L15,[1]Diem!$A$2:$B$12,2,0) -> 8 | N15: =ROUND(AVERAGE(E15,G15,I15,K15),2) -> 8 | P15: =IF(O15>=3,"Không hoàn thành nhiệm vụ",IF(AND($N15>=8,$N15<=10,O15=0),"Hoàn thành xuất sắc nhiệm vụ",IF(AND($N15>=8,$N15<=10,O15=1),"Hoàn thành tốt nhiệm vụ",IF(AND($N15>=8,$N15<=10,O15=2),"Hoàn thành nhiệm vụ",IF(AND($N15>6,$N15<8,O15<=1),"Hoàn thành tốt nhiệm vụ",IF(AND($N15>6,$N15<8,O15=2),"Hoàn thành nhiệm vụ",IF(AND($N15>=5,$N15<=6,O15<=2),"Hoàn thành nhiệm vụ",IF(AND($N15<5,O15>3),"Không hoàn thành nhiệm vụ","")))))))) -> Hoàn thành xuất sắc nhiệm vụ
A16: 6 | B16: Bùi Thành Dũng | C16: 01011011 | D16: A4 | E16: =VLOOKUP(D16,[1]Diem!$A$2:$B$12,2,0) -> 7 | F16: A2 | G16: =VLOOKUP(F16,[1]Diem!$A$2:$B$12,2,0) -> 9 | H16: A2 | I16: =VLOOKUP(H16,[1]Diem!$A$2:$B$12,2,0) -> 9 | J16: A2 | K16: =VLOOKUP(J16,[1]Diem!$A$2:$B$12,2,0) -> 9 | L16: A4 | M16: =VLOOKUP(L16,[1]Diem!$A$2:$B$12,2,0) -> 7 | N16: =ROUND(AVERAGE(E16,G16,I16,K16),2) -> 8.5 | P16: =IF(O16>=3,"Không hoàn thành nhiệm vụ",IF(AND($N16>=8,$N16<=10,O16=0),"Hoàn thành xuất sắc nhiệm vụ",IF(AND($N16>=8,$N16<=10,O16=1),"Hoàn thành tốt nhiệm vụ",IF(AND($N16>=8,$N16<=10,O16=2),"Hoàn thành nhiệm vụ",IF(AND($N16>6,$N16<8,O16<=1),"Hoàn thành tốt nhiệm vụ",IF(AND($N16>6,$N16<8,O16=2),"Hoàn thành nhiệm vụ",IF(AND($N16>=5,$N16<=6,O16<=2),"Hoàn thành nhiệm vụ",IF(AND($N16<5,O16>3),"Không hoàn thành nhiệm vụ","")))))))) -> Hoàn thành xuất sắc nhiệm vụ
A17: 7 | B17: Ngô Thanh Điền | C17: 01022005 | D17: A4 | E17: =VLOOKUP(D17,[1]Diem!$A$2:$B$12,2,0) -> 7 | F17: A2 | G17: =VLOOKUP(F17,[1]Diem!$A$2:$B$12,2,0) -> 9 | H17: A1 | I17: =VLOOKUP(H17,[1]Diem!$A$2:$B$12,2,0) -> 10 | J17: A3 | K17: =VLOOKUP(J17,[1]Diem!$A$2:$B$12,2,0) -> 8 | L17: A3 | M17: =VLOOKUP(L17,[1]Diem!$A$2:$B$12,2,0) -> 8 | N17: =ROUND(AVERAGE(E17,G17,I17,K17),2) -> 8.5 | P17: =IF(O17>=3,"Không hoàn thành nhiệm vụ",IF(AND($N17>=8,$N17<=10,O17=0),"Hoàn thành xuất sắc nhiệm vụ",IF(AND($N17>=8,$N17<=10,O17=1),"Hoàn thành tốt nhiệm vụ",IF(AND($N17>=8,$N17<=10,O17=2),"Hoàn thành nhiệm vụ",IF(AND($N17>6,$N17<8,O17<=1),"Hoàn thành tốt nhiệm vụ",IF(AND($N17>6,$N17<8,O17=2),"Hoàn thành nhiệm vụ",IF(AND($N17>=5,$N17<=6,O17<=2),"Hoàn thành nhiệm vụ",IF(AND($N17<5,O17>3),"Không hoàn thành nhiệm vụ","")))))))) -> Hoàn thành xuất sắc nhiệm vụ
A18: 8 | B18: Nguyễn Văn Đông | C18: 01010017 | D18: A4 | E18: =VLOOKUP(D18,[1]Diem!$A$2:$B$12,2,0) -> 7 | F18: A3 | G18: =VLOOKUP(F18,[1]Diem!$A$2:$B$12,2,0) -> 8 | H18: A3 | I18: =VLOOKUP(H18,[1]Diem!$A$2:$B$12,2,0) -> 8 | J18: A1 | K18: =VLOOKUP(J18,[1]Diem!$A$2:$B$12,2,0) -> 10 | L18: A4 | M18: =VLOOKUP(L18,[1]Diem!$A$2:$B$12,2,0) -> 7 | N18: =ROUND(AVERAGE(E18,G18,I18,K18),2) -> 8.25 | P18: =IF(O18>=3,"Không hoàn thành nhiệm vụ",IF(AND($N18>=8,$N18<=10,O18=0),"Hoàn thành xuất sắc nhiệm vụ",IF(AND($N18>=8,$N18<=10,O18=1),"Hoàn thành tốt nhiệm vụ",IF(AND($N18>=8,$N18<=10,O18=2),"Hoàn thành nhiệm vụ",IF(AND($N18>6,$N18<8,O18<=1),"Hoàn thành tốt nhiệm vụ",IF(AND($N18>6,$N18<8,O18=2),"Hoàn thành nhiệm vụ",IF(AND($N18>=5,$N18<=6,O18<=2),"Hoàn thành nhiệm vụ",IF(AND($N18<5,O18>3),"Không hoàn thành nhiệm vụ","")))))))) -> Hoàn thành xuất sắc nhiệm vụ
A19: 9 | B19: Nguyễn Phương Hà | C19: 01010023 | D19: A4 | E19: =VLOOKUP(D19,[1]Diem!$A$2:$B$12,2,0) -> 7 | F19: A3 | G19: =VLOOKUP(F19,[1]Diem!$A$2:$B$12,2,0) -> 8 | H19: A3 | I19: =VLOOKUP(H19,[1]Diem!$A$2:$B$12,2,0) -> 8 | J19: A2 | K19: =VLOOKUP(J19,[1]Diem!$A$2:$B$12,2,0) -> 9 | L19: A3 | M19: =VLOOKUP(L19,[1]Diem!$A$2:$B$12,2,0) -> 8 | N19: =ROUND(AVERAGE(E19,G19,I19,K19),2) -> 8 | P19: =IF(O19>=3,"Không hoàn thành nhiệm vụ",IF(AND($N19>=8,$N19<=10,O19=0),"Hoàn thành xuất sắc nhiệm vụ",IF(AND($N19>=8,$N19<=10,O19=1),"Hoàn thành tốt nhiệm vụ",IF(AND($N19>=8,$N19<=10,O19=2),"Hoàn thành nhiệm vụ",IF(AND($N19>6,$N19<8,O19<=1),"Hoàn thành tốt nhiệm vụ",IF(AND($N19>6,$N19<8,O19=2),"Hoàn thành nhiệm vụ",IF(AND($N19>=5,$N19<=6,O19<=2),"Hoàn thành nhiệm vụ",IF(AND($N19<5,O19>3),"Không hoàn thành nhiệm vụ","")))))))) -> Hoàn thành xuất sắc nhiệm vụ
A20: 10 | B20: Nguyễn Văn Hậu | C20: 01010033 | D20: A4 | E20: =VLOOKUP(D20,[1]Diem!$A$2:$B$12,2,0) -> 7 | F20: A4 | G20: =VLOOKUP(F20,[1]Diem!$A$2:$B$12,2,0) -> 7 | H20: A4 | I20: =VLOOKUP(H20,[1]Diem!$A$2:$B$12,2,0) -> 7 | J20: A3 | K20: =VLOOKUP(J20,[1]Diem!$A$2:$B$12,2,0) -> 8 | L20: A3 | M20: =VLOOKUP(L20,[1]Diem!$A$2:$B$12,2,0) -> 8 | N20: =ROUND(AVERAGE(E20,G20,I20,K20),2) -> 7.25 | P20: =IF(O20>=3,"Không hoàn thành nhiệm vụ",IF(AND($N20>=8,$N20<=10,O20=0),"Hoàn thành xuất sắc nhiệm vụ",IF(AND($N20>=8,$N20<=10,O20=1),"Hoàn thành tốt nhiệm vụ",IF(AND($N20>=8,$N20<=10,O20=2),"Hoàn thành nhiệm vụ",IF(AND($N20>6,$N20<8,O20<=1),"Hoàn thành tốt nhiệm vụ",IF(AND($N20>6,$N20<8,O20=2),"Hoàn thành nhiệm vụ",IF(AND($N20>=5,$N20<=6,O20<=2),"Hoàn thành nhiệm vụ",IF(AND($N20<5,O20>3),"Không hoàn thành nhiệm vụ","")))))))) -> Hoàn thành tốt nhiệm vụ
A21: 11 | B21: Giang Phi Hùng | C21: 01010030 | D21: A3 | E21: =VLOOKUP(D21,[1]Diem!$A$2:$B$12,2,0) -> 8 | F21: A1 | G21: =VLOOKUP(F21,[1]Diem!$A$2:$B$12,2,0) -> 10 | H21: A2 | I21: =VLOOKUP(H21,[1]Diem!$A$2:$B$12,2,0) -> 9 | J21: A3 | K21: =VLOOKUP(J21,[1]Diem!$A$2:$B$12,2,0) -> 8 | L21: A2 | M21: =VLOOKUP(L21,[1]Diem!$A$2:$B$12,2,0) -> 9 | N21: =ROUND(AVERAGE(E21,G21,I21,K21),2) -> 8.75 | P21: =IF(O21>=3,"Không hoàn thành nhiệm vụ",IF(AND($N21>=8,$N21<=10,O21=0),"Hoàn thành xuất sắc nhiệm vụ",IF(AND($N21>=8,$N21<=10,O21=1),"Hoàn thành tốt nhiệm vụ",IF(AND($N21>=8,$N21<=10,O21=2),"Hoàn thành nhiệm vụ",IF(AND($N21>6,$N21<8,O21<=1),"Hoàn thành tốt nhiệm vụ",IF(AND($N21>6,$N21<8,O21=2),"Hoàn thành nhiệm vụ",IF(AND($N21>=5,$N21<=6,O21<=2),"Hoàn thành nhiệm vụ",IF(AND($N21<5,O21>3),"Không hoàn thành nhiệm vụ","")))))))) -> Hoàn thành xuất sắc nhiệm vụ
A22: 12 | B22: Lê Thái Hùng | C22: 01010021 | D22: A3 | E22: =VLOOKUP(D22,[1]Diem!$A$2:$B$12,2,0) -> 8 | F22: A1 | G22: =VLOOKUP(F22,[1]Diem!$A$2:$B$12,2,0) -> 10 | H22: A1 | I22: =VLOOKUP(H22,[1]Diem!$A$2:$B$12,2,0) -> 10 | J22: A3 | K22: =VLOOKUP(J22,[1]Diem!$A$2:$B$12,2,0) -> 8 | L22: A3 | M22: =VLOOKUP(L22,[1]Diem!$A$2:$B$12,2,0) -> 8 | N22: =ROUND(AVERAGE(E22,G22,I22,K22),2) -> 9 | P22: =IF(O22>=3,"Không hoàn thành nhiệm vụ",IF(AND($N22>=8,$N22<=10,O22=0),"Hoàn thành xuất sắc nhiệm vụ",IF(AND($N22>=8,$N22<=10,O22=1),"Hoàn thành tốt nhiệm vụ",IF(AND($N22>=8,$N22<=10,O22=2),"Hoàn thành nhiệm vụ",IF(AND($N22>6,$N22<8,O22<=1),"Hoàn thành tốt nhiệm vụ",IF(AND($N22>6,$N22<8,O22=2),"Hoàn thành nhiệm vụ",IF(AND($N22>=5,$N22<=6,O22<=2),"Hoàn thành nhiệm vụ",IF(AND($N22<5,O22>3),"Không hoàn thành nhiệm vụ","")))))))) -> Hoàn thành xuất sắc nhiệm vụ
A23: 13 | B23: Đinh Thị Huyên | C23: 01011009 | D23: A3 | E23: =VLOOKUP(D23,[1]Diem!$A$2:$B$12,2,0) -> 8 | F23: A3 | G23: =VLOOKUP(F23,[1]Diem!$A$2:$B$12,2,0) -> 8 | H23: A1 | I23: =VLOOKUP(H23,[1]Diem!$A$2:$B$12,2,0) -> 10 | J23: A1 | K23: =VLOOKUP(J23,[1]Diem!$A$2:$B$12,2,0) -> 10 | L23: A3 | M23: =VLOOKUP(L23,[1]Diem!$A$2:$B$12,2,0) -> 8 | N23: =ROUND(AVERAGE(E23,G23,I23,K23),2) -> 9 | P23: =IF(O23>=3,"Không hoàn thành nhiệm vụ",IF(AND($N23>=8,$N23<=10,O23=0),"Hoàn thành xuất sắc nhiệm vụ",IF(AND($N23>=8,$N23<=10,O23=1),"Hoàn thành tốt nhiệm vụ",IF(AND($N23>=8,$N23<=10,O23=2),"Hoàn thành nhiệm vụ",IF(AND($N23>6,$N23<8,O23<=1),"Hoàn thành tốt nhiệm vụ",IF(AND($N23>6,$N23<8,O23=2),"Hoàn thành nhiệm vụ",IF(AND($N23>=5,$N23<=6,O23<=2),"Hoàn thành nhiệm vụ",IF(AND($N23<5,O23>3),"Không hoàn thành nhiệm vụ","")))))))) -> Hoàn thành xuất sắc nhiệm vụ
A24: 14 | B24: Dương Đức Kiên | C24: 01010037 | D24: A4 | E24: =VLOOKUP(D24,[1]Diem!$A$2:$B$12,2,0) -> 7 | F24: A1 | G24: =VLOOKUP(F24,[1]Diem!$A$2:$B$12,2,0) -> 10 | H24: A2 | I24: =VLOOKUP(H24,[1]Diem!$A$2:$B$12,2,0) -> 9 | J24: A2 | K24: =VLOOKUP(J24,[1]Diem!$A$2:$B$12,2,0) -> 9 | L24: A4 | M24: =VLOOKUP(L24,[1]Diem!$A$2:$B$12,2,0) -> 7 | N24: =ROUND(AVERAGE(E24,G24,I24,K24),2) -> 8.75 | P24: =IF(O24>=3,"Không hoàn thành nhiệm vụ",IF(AND($N24>=8,$N24<=10,O24=0),"Hoàn thành xuất sắc nhiệm vụ",IF(AND($N24>=8,$N24<=10,O24=1),"Hoàn thành tốt nhiệm vụ",IF(AND($N24>=8,$N24<=10,O24=2),"Hoàn thành nhiệm vụ",IF(AND($N24>6,$N24<8,O24<=1),"Hoàn thành tốt nhiệm vụ",IF(AND($N24>6,$N24<8,O24=2),"Hoàn thành nhiệm vụ",IF(AND($N24>=5,$N24<=6,O24<=2),"Hoàn thành nhiệm vụ",IF(AND($N24<5,O24>3),"Không hoàn thành nhiệm vụ","")))))))) -> Hoàn thành xuất sắc nhiệm vụ
A25: 15 | B25: Nguyễn Anh Kiệt | C25: 01011001 | D25: A4 | E25: =VLOOKUP(D25,[1]Diem!$A$2:$B$12,2,0) -> 7 | F25: A4 | G25: =VLOOKUP(F25,[1]Diem!$A$2:$B$12,2,0) -> 7 | H25: A4 | I25: =VLOOKUP(H25,[1]Diem!$A$2:$B$12,2,0) -> 7 | J25: A4 | K25: =VLOOKUP(J25,[1]Diem!$A$2:$B$12,2,0) -> 7 | L25: A4 | M25: =VLOOKUP(L25,[1]Diem!$A$2:$B$12,2,0) -> 7 | N25: =ROUND(AVERAGE(E25,G25,I25,K25),2) -> 7 | P25: =IF(O25>=3,"Không hoàn thành nhiệm vụ",IF(AND($N25>=8,$N25<=10,O25=0),"Hoàn thành xuất sắc nhiệm vụ",IF(AND($N25>=8,$N25<=10,O25=1),"Hoàn thành tốt nhiệm vụ",IF(AND($N25>=8,$N25<=10,O25=2),"Hoàn thành nhiệm vụ",IF(AND($N25>6,$N25<8,O25<=1),"Hoàn thành tốt nhiệm vụ",IF(AND($N25>6,$N25<8,O25=2),"Hoàn thành nhiệm vụ",IF(AND($N25>=5,$N25<=6,O25<=2),"Hoàn thành nhiệm vụ",IF(AND($N25<5,O25>3),"Không hoàn thành nhiệm vụ","")))))))) -> Hoàn thành tốt nhiệm vụ
... A45: 35 | B45: Trịnh Khắc Vũ | C45: 01010026 | D45: A4 | E45: =VLOOKUP(D45,[1]Diem!$A$2:$B$12,2,0) -> 7 | F45: A1 | G45: =VLOOKUP(F45,[1]Diem!$A$2:$B$12,2,0) -> 10 | H45: A4 | I45: =VLOOKUP(H45,[1]Diem!$A$2:$B$12,2,0) -> 7 | J45: A2 | K45: =VLOOKUP(J45,[1]Diem!$A$2:$B$12,2,0) -> 9 | L45: A4 | M45: =VLOOKUP(L45,[1]Diem!$A$2:$B$12,2,0) -> 7 | N45: =ROUND(AVERAGE(E45,G45,I45,K45),2) -> 8.25 | P45: =IF(O45>=3,"Không hoàn thành nhiệm vụ",IF(AND($N45>=8,$N45<=10,O45=0),"Hoàn thành xuất sắc nhiệm vụ",IF(AND($N45>=8,$N45<=10,O45=1),"Hoàn thành tốt nhiệm vụ",IF(AND($N45>=8,$N45<=10,O45=2),"Hoàn thành nhiệm vụ",IF(AND($N45>6,$N45<8,O45<=1),"Hoàn thành tốt nhiệm vụ",IF(AND($N45>6,$N45<8,O45=2),"Hoàn thành nhiệm vụ",IF(AND($N45>=5,$N45<=6,O45<=2),"Hoàn thành nhiệm vụ",IF(AND($N45<5,O45>3),"Không hoàn thành nhiệm vụ","")))))))) -> Hoàn thành xuất sắc nhiệm vụ

Sheet NH
A1: TRƯỜNG CAO ĐẲNG LÝ TỰ TRỌNG | G1: CỘNG HÒA XÃ HỘI CHỦ NGHĨA VIỆT NAM
A2: THÀNH PHỐ HỒ CHÍ MINH | G2: Độc lập - Tự do - Hạnh phúc
A3: KHOA GIÁO DỤC ĐẠI CƯƠNG
A5: DANH SÁCH XÉT THI ĐUA NĂM HỌC 2025 - 2026
A7: TT | B7: Họ tên | C7: Mã số E-office | D7: Học kỳ 1 | F7: Học kỳ 2 | H7: Cả năm | J7: Danh hiệu | K7: GHI CHÚ
D8: Điểm K | E8: Xếp loại | F8: Điểm K | G8: Xếp loại | H8: Điểm X | I8: Xếp loại
B9: I. Cán bộ quản lý (Trưởng, Phó đơn vị)
A10: 1 | B10: Lê Thị Hồng Vân | C10: 01011002 | D10: ='HK1'!N10 -> 9.4 | E10: ='HK1'!P10 -> Hoàn thành xuất sắc nhiệm vụ | F10: ='HK2'!N10 -> 9.25 | G10: ='HK2'!P10 -> Hoàn thành xuất sắc nhiệm vụ | H10: =ROUND(AVERAGE(D10,F10),2) -> 9.33 | I10: =IF(AND(8<=$H10,$H10<=10),"Hoàn thành xuất sắc nhiệm vụ",IF(AND(6<$H10,$H10<8),"Hoàn thành tốt nhiệm vụ",IF(AND(5<$H10,$H10<6),"Hoàn thành nhiệm vụ","Không hoàn thành nhiệm vụ"))) -> Hoàn thành xuất sắc nhiệm vụ | J10: =IF(G10="Hoàn thành nhiệm vụ","Không đạt LĐTT",IF(OR(I10="Hoàn thành xuất sắc nhiệm vụ",I10="Hoàn thành tốt nhiệm vụ"),"Đạt LĐTT","Không đạt LĐTT")) -> Đạt LĐTT | N10: =NH!D10=ROUND(AVERAGE(E10,G10,I10,K10,M10),2) -> #DIV/0!
A11: 2 | B11: Trương Thị Hồng | C11: 01023002 | D11: ='HK1'!N11 -> 10 | E11: ='HK1'!P11 -> Hoàn thành xuất sắc nhiệm vụ | F11: ='HK2'!N11 -> 9.25 | G11: ='HK2'!P11 -> Hoàn thành xuất sắc nhiệm vụ | H11: =ROUND(AVERAGE(D11,F11),2) -> 9.63 | I11: =IF(AND(8<=$H11,$H11<=10),"Hoàn thành xuất sắc nhiệm vụ",IF(AND(6<$H11,$H11<8),"Hoàn thành tốt nhiệm vụ",IF(AND(5<$H11,$H11<6),"Hoàn thành nhiệm vụ","Không hoàn thành nhiệm vụ"))) -> Hoàn thành xuất sắc nhiệm vụ | J11: =IF(G11="Hoàn thành NV","Không đạt LĐTT",IF(OR(I11="Hoàn thành xuất sắc nhiệm vụ",I11="Hoàn thành tốt nhiệm vụ"),"Đạt LĐTT","Không đạt LĐTT")) -> Đạt LĐTT
A12: 3 | B12: Phạm Thị Thu Nga | C12: 1010007 | D12: ='HK1'!N12 -> 8.6 | E12: ='HK1'!P12 -> Hoàn thành xuất sắc nhiệm vụ | F12: ='HK2'!N12 -> 9.25 | G12: ='HK2'!P12 -> Hoàn thành xuất sắc nhiệm vụ | H12: =ROUND(AVERAGE(D12,F12),2) -> 8.93 | I12: =IF(AND(8<=$H12,$H12<=10),"Hoàn thành xuất sắc nhiệm vụ",IF(AND(6<$H12,$H12<8),"Hoàn thành tốt nhiệm vụ",IF(AND(5<$H12,$H12<6),"Hoàn thành nhiệm vụ","Không hoàn thành nhiệm vụ"))) -> Hoàn thành xuất sắc nhiệm vụ | J12: =IF(G12="Hoàn thành NV","Không đạt LĐTT",IF(OR(I12="Hoàn thành xuất sắc nhiệm vụ",I12="Hoàn thành tốt nhiệm vụ"),"Đạt LĐTT","Không đạt LĐTT")) -> Đạt LĐTT
B13: II. Giảng viên/nhân viên
A14: 4 | B14: Lê Văn Bình | C14: 01010023 | D14: ='HK1'!N14 -> 7 | E14: ='HK1'!P14 -> Hoàn thành tốt nhiệm vụ | F14: ='HK2'!N14 -> 8 | G14: ='HK2'!P14 -> Hoàn thành xuất sắc nhiệm vụ | H14: =ROUND(AVERAGE(D14,F14),2) -> 7.5 | I14: =IF(AND(8<=$H14,$H14<=10),"Hoàn thành xuất sắc nhiệm vụ",IF(AND(6<$H14,$H14<8),"Hoàn thành tốt nhiệm vụ",IF(AND(5<$H14,$H14<6),"Hoàn thành nhiệm vụ","Không hoàn thành nhiệm vụ"))) -> Hoàn thành tốt nhiệm vụ | J14: =IF(G14="Hoàn thành NV","Không đạt LĐTT",IF(OR(I14="Hoàn thành xuất sắc nhiệm vụ",I14="Hoàn thành tốt nhiệm vụ"),"Đạt LĐTT","Không đạt LĐTT")) -> Đạt LĐTT
A15: 5 | B15: Nguyễn Thị Dinh | C15: 01011005 | D15: ='HK1'!N15 -> 7.6 | E15: ='HK1'!P15 -> Hoàn thành tốt nhiệm vụ | F15: ='HK2'!N15 -> 8 | G15: ='HK2'!P15 -> Hoàn thành xuất sắc nhiệm vụ | H15: =ROUND(AVERAGE(D15,F15),2) -> 7.8 | I15: =IF(AND(8<=$H15,$H15<=10),"Hoàn thành xuất sắc nhiệm vụ",IF(AND(6<$H15,$H15<8),"Hoàn thành tốt nhiệm vụ",IF(AND(5<$H15,$H15<6),"Hoàn thành nhiệm vụ","Không hoàn thành nhiệm vụ"))) -> Hoàn thành tốt nhiệm vụ | J15: Đạt LĐTT
A16: 6 | B16: Bùi Thành Dũng | C16: 01011011 | D16: ='HK1'!N16 -> 8 | E16: ='HK1'!P16 -> Hoàn thành xuất sắc nhiệm vụ | F16: ='HK2'!N16 -> 8.5 | G16: ='HK2'!P16 -> Hoàn thành xuất sắc nhiệm vụ | H16: =ROUND(AVERAGE(D16,F16),2) -> 8.25 | I16: =IF(AND(8<=$H16,$H16<=10),"Hoàn thành xuất sắc nhiệm vụ",IF(AND(6<$H16,$H16<8),"Hoàn thành tốt nhiệm vụ",IF(AND(5<$H16,$H16<6),"Hoàn thành nhiệm vụ","Không hoàn thành nhiệm vụ"))) -> Hoàn thành xuất sắc nhiệm vụ | J16: =IF(G16="Hoàn thành NV","Không đạt LĐTT",IF(OR(I16="Hoàn thành xuất sắc nhiệm vụ",I16="Hoàn thành tốt nhiệm vụ"),"Đạt LĐTT","Không đạt LĐTT")) -> Đạt LĐTT
A17: 7 | B17: Ngô Thanh Điền | C17: 01022005 | D17: ='HK1'!N17 -> 9 | E17: ='HK1'!P17 -> Hoàn thành xuất sắc nhiệm vụ | F17: ='HK2'!N17 -> 8.5 | G17: ='HK2'!P17 -> Hoàn thành xuất sắc nhiệm vụ | H17: =ROUND(AVERAGE(D17,F17),2) -> 8.75 | I17: =IF(AND(8<=$H17,$H17<=10),"Hoàn thành xuất sắc nhiệm vụ",IF(AND(6<$H17,$H17<8),"Hoàn thành tốt nhiệm vụ",IF(AND(5<$H17,$H17<6),"Hoàn thành nhiệm vụ","Không hoàn thành nhiệm vụ"))) -> Hoàn thành xuất sắc nhiệm vụ | J17: =IF(G17="Hoàn thành NV","Không đạt LĐTT",IF(OR(I17="Hoàn thành xuất sắc nhiệm vụ",I17="Hoàn thành tốt nhiệm vụ"),"Đạt LĐTT","Không đạt LĐTT")) -> Đạt LĐTT
A18: 8 | B18: Nguyễn Văn Đông | C18: 01010017 | D18: ='HK1'!N18 -> 7.6 | E18: ='HK1'!P18 -> Hoàn thành tốt nhiệm vụ | F18: ='HK2'!N18 -> 8.25 | G18: ='HK2'!P18 -> Hoàn thành xuất sắc nhiệm vụ | H18: =ROUND(AVERAGE(D18,F18),2) -> 7.93 | I18: =IF(AND(8<=$H18,$H18<=10),"Hoàn thành xuất sắc nhiệm vụ",IF(AND(6<$H18,$H18<8),"Hoàn thành tốt nhiệm vụ",IF(AND(5<$H18,$H18<6),"Hoàn thành nhiệm vụ","Không hoàn thành nhiệm vụ"))) -> Hoàn thành tốt nhiệm vụ | J18: =IF(G18="Hoàn thành NV","Không đạt LĐTT",IF(OR(I18="Hoàn thành xuất sắc nhiệm vụ",I18="Hoàn thành tốt nhiệm vụ"),"Đạt LĐTT","Không đạt LĐTT")) -> Đạt LĐTT
A19: 9 | B19: Nguyễn Phương Hà | C19: 01010023 | D19: ='HK1'!N19 -> 7.4 | E19: ='HK1'!P19 -> Hoàn thành tốt nhiệm vụ | F19: ='HK2'!N19 -> 8 | G19: ='HK2'!P19 -> Hoàn thành xuất sắc nhiệm vụ | H19: =ROUND(AVERAGE(D19,F19),2) -> 7.7 | I19: =IF(AND(8<=$H19,$H19<=10),"Hoàn thành xuất sắc nhiệm vụ",IF(AND(6<$H19,$H19<8),"Hoàn thành tốt nhiệm vụ",IF(AND(5<$H19,$H19<6),"Hoàn thành nhiệm vụ","Không hoàn thành nhiệm vụ"))) -> Hoàn thành tốt nhiệm vụ | J19: =IF(G19="Hoàn thành NV","Không đạt LĐTT",IF(OR(I19="Hoàn thành xuất sắc nhiệm vụ",I19="Hoàn thành tốt nhiệm vụ"),"Đạt LĐTT","Không đạt LĐTT")) -> Đạt LĐTT
A20: 10 | B20: Nguyễn Văn Hậu | C20: 01010033 | D20: ='HK1'!N20 -> 7 | E20: ='HK1'!P20 -> Hoàn thành tốt nhiệm vụ | F20: ='HK2'!N20 -> 7.25 | G20: ='HK2'!P20 -> Hoàn thành tốt nhiệm vụ | H20: =ROUND(AVERAGE(D20,F20),2) -> 7.13 | I20: =IF(AND(8<=$H20,$H20<=10),"Hoàn thành xuất sắc nhiệm vụ",IF(AND(6<$H20,$H20<8),"Hoàn thành tốt nhiệm vụ",IF(AND(5<$H20,$H20<6),"Hoàn thành nhiệm vụ","Không hoàn thành nhiệm vụ"))) -> Hoàn thành tốt nhiệm vụ | J20: =IF(G20="Hoàn thành NV","Không đạt LĐTT",IF(OR(I20="Hoàn thành xuất sắc nhiệm vụ",I20="Hoàn thành tốt nhiệm vụ"),"Đạt LĐTT","Không đạt LĐTT")) -> Đạt LĐTT
A21: 11 | B21: Giang Phi Hùng | C21: 01010030 | D21: ='HK1'!N21 -> 9.4 | E21: ='HK1'!P21 -> Hoàn thành xuất sắc nhiệm vụ | F21: ='HK2'!N21 -> 8.75 | G21: ='HK2'!P21 -> Hoàn thành xuất sắc nhiệm vụ | H21: =ROUND(AVERAGE(D21,F21),2) -> 9.08 | I21: =IF(AND(8<=$H21,$H21<=10),"Hoàn thành xuất sắc nhiệm vụ",IF(AND(6<$H21,$H21<8),"Hoàn thành tốt nhiệm vụ",IF(AND(5<$H21,$H21<6),"Hoàn thành nhiệm vụ","Không hoàn thành nhiệm vụ"))) -> Hoàn thành xuất sắc nhiệm vụ | J21: =IF(G21="Hoàn thành NV","Không đạt LĐTT",IF(OR(I21="Hoàn thành xuất sắc nhiệm vụ",I21="Hoàn thành tốt nhiệm vụ"),"Đạt LĐTT","Không đạt LĐTT")) -> Đạt LĐTT
A22: 12 | B22: Lê Thái Hùng | C22: 01010021 | D22: ='HK1'!N22 -> 8.6 | E22: ='HK1'!P22 -> Hoàn thành xuất sắc nhiệm vụ | F22: ='HK2'!N22 -> 9 | G22: ='HK2'!P22 -> Hoàn thành xuất sắc nhiệm vụ | H22: =ROUND(AVERAGE(D22,F22),2) -> 8.8 | I22: =IF(AND(8<=$H22,$H22<=10),"Hoàn thành xuất sắc nhiệm vụ",IF(AND(6<$H22,$H22<8),"Hoàn thành tốt nhiệm vụ",IF(AND(5<$H22,$H22<6),"Hoàn thành nhiệm vụ","Không hoàn thành nhiệm vụ"))) -> Hoàn thành xuất sắc nhiệm vụ | J22: =IF(G22="Hoàn thành NV","Không đạt LĐTT",IF(OR(I22="Hoàn thành xuất sắc nhiệm vụ",I22="Hoàn thành tốt nhiệm vụ"),"Đạt LĐTT","Không đạt LĐTT")) -> Đạt LĐTT
A23: 13 | B23: Đinh Thị Huyên | C23: 01011009 | D23: ='HK1'!N23 -> 8.2 | E23: ='HK1'!P23 -> Hoàn thành xuất sắc nhiệm vụ | F23: ='HK2'!N23 -> 9 | G23: ='HK2'!P23 -> Hoàn thành xuất sắc nhiệm vụ | H23: =ROUND(AVERAGE(D23,F23),2) -> 8.6 | I23: =IF(AND(8<=$H23,$H23<=10),"Hoàn thành xuất sắc nhiệm vụ",IF(AND(6<$H23,$H23<8),"Hoàn thành tốt nhiệm vụ",IF(AND(5<$H23,$H23<6),"Hoàn thành nhiệm vụ","Không hoàn thành nhiệm vụ"))) -> Hoàn thành xuất sắc nhiệm vụ | J23: =IF(G23="Hoàn thành NV","Không đạt LĐTT",IF(OR(I23="Hoàn thành xuất sắc nhiệm vụ",I23="Hoàn thành tốt nhiệm vụ"),"Đạt LĐTT","Không đạt LĐTT")) -> Đạt LĐTT
A24: 14 | B24: Dương Đức Kiên | C24: 01010037 | D24: ='HK1'!N24 -> 7.6 | E24: ='HK1'!P24 -> Hoàn thành tốt nhiệm vụ | F24: ='HK2'!N24 -> 8.75 | G24: ='HK2'!P24 -> Hoàn thành xuất sắc nhiệm vụ | H24: =ROUND(AVERAGE(D24,F24),2) -> 8.18 | I24: =IF(AND(8<=$H24,$H24<=10),"Hoàn thành xuất sắc nhiệm vụ",IF(AND(6<$H24,$H24<8),"Hoàn thành tốt nhiệm vụ",IF(AND(5<$H24,$H24<6),"Hoàn thành nhiệm vụ","Không hoàn thành nhiệm vụ"))) -> Hoàn thành xuất sắc nhiệm vụ | J24: =IF(G24="Hoàn thành NV","Không đạt LĐTT",IF(OR(I24="Hoàn thành xuất sắc nhiệm vụ",I24="Hoàn thành tốt nhiệm vụ"),"Đạt LĐTT","Không đạt LĐTT")) -> Đạt LĐTT
A25: 15 | B25: Nguyễn Anh Kiệt | C25: 01011001 | D25: ='HK1'!N25 -> 7 | E25: ='HK1'!P25 -> Hoàn thành tốt nhiệm vụ | F25: ='HK2'!N25 -> 7 | G25: ='HK2'!P25 -> Hoàn thành tốt nhiệm vụ | H25: =ROUND(AVERAGE(D25,F25),2) -> 7 | I25: =IF(AND(8<=$H25,$H25<=10),"Hoàn thành xuất sắc nhiệm vụ",IF(AND(6<$H25,$H25<8),"Hoàn thành tốt nhiệm vụ",IF(AND(5<$H25,$H25<6),"Hoàn thành nhiệm vụ","Không hoàn thành nhiệm vụ"))) -> Hoàn thành tốt nhiệm vụ | J25: =IF(G25="Hoàn thành NV","Không đạt LĐTT",IF(OR(I25="Hoàn thành xuất sắc nhiệm vụ",I25="Hoàn thành tốt nhiệm vụ"),"Đạt LĐTT","Không đạt LĐTT")) -> Đạt LĐTT
A26: 16 | B26: Hà Như Mai | C26: 01010031 | D26: ='HK1'!N26 -> 7.6 | E26: ='HK1'!P26 -> Hoàn thành tốt nhiệm vụ | F26: ='HK2'!N26 -> 7.75 | G26: ='HK2'!P26 -> Hoàn thành tốt nhiệm vụ | H26: =ROUND(AVERAGE(D26,F26),2) -> 7.68 | I26: =IF(AND(8<=$H26,$H26<=10),"Hoàn thành xuất sắc nhiệm vụ",IF(AND(6<$H26,$H26<8),"Hoàn thành tốt nhiệm vụ",IF(AND(5<$H26,$H26<6),"Hoàn thành nhiệm vụ","Không hoàn thành nhiệm vụ"))) -> Hoàn thành tốt nhiệm vụ | J26: =IF(G26="Hoàn thành NV","Không đạt LĐTT",IF(OR(I26="Hoàn thành xuất sắc nhiệm vụ",I26="Hoàn thành tốt nhiệm vụ"),"Đạt LĐTT","Không đạt LĐTT")) -> Đạt LĐTT
A27: 17 | B27: Nguyễn Thị Huyền Nga | C27: 010100006 | D27: ='HK1'!N27 -> 7.8 | E27: ='HK1'!P27 -> Hoàn thành tốt nhiệm vụ | F27: ='HK2'!N27 -> 8.25 | G27: ='HK2'!P27 -> Hoàn thành xuất sắc nhiệm vụ | H27: =ROUND(AVERAGE(D27,F27),2) -> 8.03 | I27: =IF(AND(8<=$H27,$H27<=10),"Hoàn thành xuất sắc nhiệm vụ",IF(AND(6<$H27,$H27<8),"Hoàn thành tốt nhiệm vụ",IF(AND(5<$H27,$H27<6),"Hoàn thành nhiệm vụ","Không hoàn thành nhiệm vụ"))) -> Hoàn thành xuất sắc nhiệm vụ | J27: =IF(G27="Hoàn thành NV","Không đạt LĐTT",IF(OR(I27="Hoàn thành xuất sắc nhiệm vụ",I27="Hoàn thành tốt nhiệm vụ"),"Đạt LĐTT","Không đạt LĐTT")) -> Đạt LĐTT
... A45: 35 | B45: Trịnh Khắc Vũ | C45: 01010026 | D45: ='HK1'!N45 -> 7 | E45: ='HK1'!P45 -> Hoàn thành tốt nhiệm vụ | F45: ='HK2'!N45 -> 8.25 | G45: ='HK2'!P45 -> Hoàn thành xuất sắc nhiệm vụ | H45: =ROUND(AVERAGE(D45,F45),2) -> 7.63 | I45: =IF(AND(8<=$H45,$H45<=10),"Hoàn thành xuất sắc nhiệm vụ",IF(AND(6<$H45,$H45<8),"Hoàn thành tốt nhiệm vụ",IF(AND(5<$H45,$H45<6),"Hoàn thành nhiệm vụ","Không hoàn thành nhiệm vụ"))) -> Hoàn thành tốt nhiệm vụ | J45: =IF(G45="Hoàn thành NV","Không đạt LĐTT",IF(OR(I45="Hoàn thành xuất sắc nhiệm vụ",I45="Hoàn thành tốt nhiệm vụ"),"Đạt LĐTT","Không đạt LĐTT")) -> Đạt LĐTT
