Workbook

Sheet T12.17
A1: THỐNG KÊ SỐ LIỆU SINH VIÊN TỔNG HỢP
A3: STT | B3: Lớp | C3: Nam | D3: Nữ | E3: Tổng số
A4: 1 | B4: 17C1-ĐCN1 | C4: 69 | D4: 0 | E4: =SUM(C4:D4) -> 69
A5: 2 | B5: 17C1-ĐCN2 | C5: 68 | D5: 0 | E5: =SUM(C5:D5) -> 68
A6: 3 | B6: 17C1-ĐCN3 | C6: 68 | D6: 0 | E6: =SUM(C6:D6) -> 68
A7: 4 | B7: 17C1-ĐCN4 | C7: 68 | D7: 0 | E7: =SUM(C7:D7) -> 68
A8: 5 | B8: 17C1-ĐĐT1 | C8: 60 | D8: 1 | E8: =SUM(C8:D8) -> 61
A9: 6 | B9: 17C1-ĐĐT2 | C9: 59 | D9: 2 | E9: =SUM(C9:D9) -> 61
A10: 7 | B10: 17C1-ĐĐT3 | C10: 60 | D10: 1 | E10: =SUM(C10:D10) -> 61
A11: 8 | B11: 17C1-ĐĐT4 | C11: 61 | D11: 1 | E11: =SUM(C11:D11) -> 62
A12: 9 | B12: 17C1-CĐT1 | C12: 72 | D12: 0 | E12: =SUM(C12:D12) -> 72
A13: 10 | B13: 17C1-ĐTC1 | C13: 38 | D13: 0 | E13: =SUM(C13:D13) -> 38
A14: 11 | B14: 17C1-TĐH1 | C14: 68 | D14: 0 | E14: =SUM(C14:D14) -> 68
A15: 12 | B15: 17C1-KML1 | C15: 58 | D15: 1 | E15: =SUM(C15:D15) -> 59
... A63: 60 | B63: 17C1-NNA2 | C63: 24 | D63: 28 | E63: =SUM(C63:D63) -> 52
A64: Tổng số | C64: =SUM(C4:C63) -> 3151 | D64: =SUM(D4:D63) -> 282 | E64: =SUM(E4:E63) -> 3433
A65: Cao đẳng liên thông
A66: 1 | B66: 17C2-ĐĐT1 | C66: 24 | D66: 0 | E66: =SUM(C66:D66) -> 24
B67: 17C2-QTM1 | C67: 12 | D67: 0 | E67: =SUM(C67:D67) -> 12
A68: 2 | B68: 17C2-CCK1 | C68: 15 | D68: 0 | E68: =SUM(C68:D68) -> 15
B69: 17C2-CNÔ1 | C69: 16 | D69: 0 | E69: =SUM(C69:D69) -> 16
A70: Tổng số | C70: =SUM(C66:C69) -> 67 | D70: =SUM(D66:D69) -> 0 | E70: =SUM(E66:E69) -> 67
A72: Trung cấp - (Tín chỉ) - Chính quy 1N3
A73: 1 | B73: 17T2-ĐCN1 | C73: 32 | D73: 0 | E73: =SUM(C73:D73) -> 32
A74: 2 | B74: 17T2-QTM1 | C74: 40 | D74: 5 | E74: =SUM(C74:D74) -> 45
A75: Tổng số | C75: =SUM(C73:C74) -> 72 | D75: =SUM(D73:D74) -> 5 | E75: =SUM(E73:E74) -> 77
A76: Trung cấp - (Tín chỉ) - Chính quy 3 năm
A77: 1 | B77: 17T4-ĐCN1 | C77: 43 | D77: 1 | E77: =SUM(C77:D77) -> 44
A78: 2 | B78: 17T4-ĐCN2 | C78: 42 | D78: 0 | E78: =SUM(C78:D78) -> 42
A79: 3 | B79: 17T4-ĐĐT1 | C79: 64 | D79: 1 | E79: =SUM(C79:D79) -> 65
A80: 4 | B80: 17T4-ĐTC1 | C80: 42 | D80: 2 | E80: =SUM(C80:D80) -> 44
A81: 5 | B81: 17T4-LĐL1 | C81: 42 | D81: 0 | E81: =SUM(C81:D81) -> 42
A82: 6 | B82: 17T4-LĐL2 | C82: 43 | D82: 0 | E82: =SUM(C82:D82) -> 43
A83: 7 | B83: 17T4-CNL1 | C83: 58 | D83: 0 | E83: =SUM(C83:D83) -> 58
A84: 8 | B84: 17T4-CKL1 | C84: 37 | D84: 0 | E84: =SUM(C84:D84) -> 37
A85: 9 | B85: 17T4-CCK1 | C85: 53 | D85: 0 | E85: =SUM(C85:D85) -> 53
A86: 10 | B86: 17T4-CCK2 | C86: 50 | D86: 0 | E86: =SUM(C86:D86) -> 50
A87: 11 | B87: 17T4-CNÔ1 | C87: 57 | D87: 0 | E87: =SUM(C87:D87) -> 57
A88: 12 | B88: 17T4-CNÔ2 | C88: 58 | D88: 0 | E88: =SUM(C88:D88) -> 58
... A101: 25 | B101: 17T4-NNA2 | C101: 24 | D101: 23 | E101: =SUM(C101:D101) -> 47
...

Sheet T12.18
A1: THỐNG KÊ SỐ LIỆU SINH VIÊN TỔNG HỢP
A2: (Tính đến ngày 10/12/2018)
A4: STT | B4: Lớp | C4: Nam | D4: Nữ | E4: Tổng số
A5: 1 | B5: 17C1-ĐCN1 | C5: 57 | D5: 0 | E5: =SUM(C5:D5) -> 57
A6: 2 | B6: 17C1-ĐCN2 | C6: 58 | D6: 0 | E6: =SUM(C6:D6) -> 58
A7: 3 | B7: 17C1-ĐCN3 | C7: 63 | D7: 0 | E7: =SUM(C7:D7) -> 63
A8: 4 | B8: 17C1-ĐCN4 | C8: 61 | D8: 0 | E8: =SUM(C8:D8) -> 61
A9: 5 | B9: 17C1-ĐĐT1 | C9: 48 | D9: 1 | E9: =SUM(C9:D9) -> 49
A10: 6 | B10: 17C1-ĐĐT2 | C10: 53 | D10: 2 | E10: =SUM(C10:D10) -> 55
A11: 7 | B11: 17C1-ĐĐT3 | C11: 46 | D11: 1 | E11: =SUM(C11:D11) -> 47
A12: 8 | B12: 17C1-ĐĐT4 | C12: 53 | D12: 1 | E12: =SUM(C12:D12) -> 54
A13: 9 | B13: 17C1-ĐTC1 | C13: 29 | D13: 0 | E13: =SUM(C13:D13) -> 29
A14: 10 | B14: 17C1-TĐH1 | C14: 56 | D14: 0 | E14: =SUM(C14:D14) -> 56
A15: 11 | B15: 17C1-CĐT1 | C15: 66 | D15: 0 | E15: =SUM(C15:D15) -> 66
A16: 12 | B16: 17C1-KML1 | C16: 51 | D16: 1 | E16: =SUM(C16:D16) -> 52
... A59: 55 | B59: 17C1-NNA1 | C59: 33 | D59: 46 | E59: =SUM(C59:D59) -> 79
A60: Tổng số | C60: =SUM(C5:C59) -> 2557 | D60: =SUM(D5:D59) -> 245 | E60: =SUM(E5:E59) -> 2802
A62: Cao đẳng - Chính quy 2 năm
A63: 1 | B63: 18C1-ĐCN1 | C63: 62 | D63: 0 | E63: =SUM(C63:D63) -> 62
A64: 2 | B64: 18C1-ĐCN2 | C64: 63 | D64: 0 | E64: =SUM(C64:D64) -> 63
A65: 3 | B65: 18C1-ĐCN3 | C65: 63 | D65: 0 | E65: =SUM(C65:D65) -> 63
A66: 4 | B66: 18C1-ĐCN4 | C66: 62 | D66: 0 | E66: =SUM(C66:D66) -> 62
A67: 5 | B67: 18C1-ĐĐT1 | C67: 66 | D67: 0 | E67: =SUM(C67:D67) -> 66
A68: 6 | B68: 18C1-ĐĐT2 | C68: 66 | D68: 1 | E68: =SUM(C68:D68) -> 67
A69: 7 | B69: 18C1-ĐĐT3 | C69: 67 | D69: 0 | E69: =SUM(C69:D69) -> 67
A70: 8 | B70: 18C1-CĐT1 | C70: 58 | D70: 0 | E70: =SUM(C70:D70) -> 58
A71: 9 | B71: 18C1-CĐT2 | C71: 58 | D71: 1 | E71: =SUM(C71:D71) -> 59
A72: 10 | B72: 18C1-TĐH1 | C72: 59 | D72: 0 | E72: =SUM(C72:D72) -> 59
A73: 11 | B73: 18C1-TĐH2 | C73: 43 | D73: 0 | E73: =SUM(C73:D73) -> 43
A74: 12 | B74: 18C1-KML1 | C74: 58 | D74: 0 | E74: =SUM(C74:D74) -> 58
... A128: 66 | B128: 18C1-KXD1 | C128: 67 | D128: 1 | E128: =SUM(C128:D128) -> 68
A129: Tổng số | C129: =SUM(C63:C128) -> 3416 | D129: =SUM(D63:D128) -> 254 | E129: =SUM(E63:E128) -> 3670
A131: 1 | B131: 17C2-ĐĐT1 | C131: 29 | D131: 0 | E131: =SUM(C131:D131) -> 29
B132: 17C2-QTM1 | C132: 12 | D132: 1 | E132: =SUM(C132:D132) -> 13
A133: 2 | B133: 17C2-CCK1 | C133: 20 | D133: 0 | E133: =SUM(C133:D133) -> 20
B134: 17C2-CNÔ1 | C134: 21 | D134: 0 | E134: =SUM(C134:D134) -> 21
A135: Tổng số | C135: =SUM(C131:C134) -> 82 | D135: =SUM(D131:D134) -> 1 | E135: =SUM(E131:E134) -> 83
A137: Cao đẳng - Liên thông
A138: 1 | B138: 18C2-ĐĐT1 | C138: 68 | D138: 0 | E138: =SUM(C138:D138) -> 68
A139: 2 | B139: 18C2-CNÔ1 | C139: 45 | D139: 0 | E139: =SUM(C139:D139) -> 45
...

Sheet T12.19
A1: THỐNG KÊ SỐ LIỆU SINH VIÊN TỔNG HỢP
A2: (Tính đến ngày 02/12/2019)
A4: STT | B4: Lớp | C4: Nam | D4: Nữ | E4: Tổng số
A5: 1 | B5: 17C1-ĐCN1 | C5: 45 | D5: 0 | E5: =SUM(C5:D5) -> 45
A6: 2 | B6: 17C1-ĐCN2 | C6: 47 | D6: 0 | E6: =SUM(C6:D6) -> 47
A7: 3 | B7: 17C1-ĐCN3 | C7: 34 | D7: 0 | E7: =SUM(C7:D7) -> 34
A8: 4 | B8: 17C1-ĐCN4 | C8: 38 | D8: 0 | E8: =SUM(C8:D8) -> 38
A9: 5 | B9: 17C1-ĐĐT1 | C9: 36 | D9: 1 | E9: =SUM(C9:D9) -> 37
A10: 6 | B10: 17C1-ĐĐT2 | C10: 37 | D10: 2 | E10: =SUM(C10:D10) -> 39
A11: 7 | B11: 17C1-ĐĐT3 | C11: 28 | D11: 0 | E11: =SUM(C11:D11) -> 28
A12: 8 | B12: 17C1-ĐĐT4 | C12: 31 | D12: 1 | E12: =SUM(C12:D12) -> 32
A13: 9 | B13: 17C1-ĐTC1 | C13: 20 | D13: 0 | E13: =SUM(C13:D13) -> 20
A14: 10 | B14: 17C1-CĐT1 | C14: 45 | D14: 0 | E14: =SUM(C14:D14) -> 45
A15: 11 | B15: 17C1-TĐH1 | C15: 39 | D15: 0 | E15: =SUM(C15:D15) -> 39
A16: 12 | B16: 17C1-KML1 | C16: 35 | D16: 1 | E16: =SUM(C16:D16) -> 36
... A58: 54 | B58: 17C1-NNA1 | C58: 9 | D58: 27 | E58: =SUM(C58:D58) -> 36
A59: Tổng số | C59: =SUM(C5:C58) -> 1755 | D59: =SUM(D5:D58) -> 178 | E59: =SUM(E5:E58) -> 1933
A61: 1 | B61: 18C1-ĐCN1 | C61: 42 | D61: 0 | E61: =SUM(C61:D61) -> 42
A62: 2 | B62: 18C1-ĐCN2 | C62: 47 | D62: 0 | E62: =SUM(C62:D62) -> 47
A63: 3 | B63: 18C1-ĐCN3 | C63: 38 | D63: 0 | E63: =SUM(C63:D63) -> 38
A64: 4 | B64: 18C1-ĐCN4 | C64: 47 | D64: 0 | E64: =SUM(C64:D64) -> 47
A65: 5 | B65: 18C1-ĐĐT1 | C65: 38 | D65: 0 | E65: =SUM(C65:D65) -> 38
A66: 6 | B66: 18C1-ĐĐT2 | C66: 37 | D66: 1 | E66: =SUM(C66:D66) -> 38
A67: 7 | B67: 18C1-ĐĐT3 | C67: 51 | D67: 0 | E67: =SUM(C67:D67) -> 51
A68: 8 | B68: 18C1-CĐT1 | C68: 65 | D68: 1 | E68: =SUM(C68:D68) -> 66
A69: 9 | B69: 18C1-TĐH1 | C69: 64 | D69: 0 | E69: =SUM(C69:D69) -> 64
A70: 10 | B70: 18C1-KML1 | C70: 45 | D70: 0 | E70: =SUM(C70:D70) -> 45
A71: 11 | B71: 18C1-KML2 | C71: 33 | D71: 0 | E71: =SUM(C71:D71) -> 33
A72: 12 | B72: 18C1-VSL1 | C72: 39 | D72: 0 | E72: =SUM(C72:D72) -> 39
... A115: 55 | B115: 18C1-KXD1 | C115: 54 | D115: 0 | E115: =SUM(C115:D115) -> 54
A116: Tổng số | C116: =SUM(C61:C115) -> 2332 | D116: =SUM(D61:D115) -> 197 | E116: =SUM(E61:E115) -> 2529
A118: 1 | B118: 19C1-ĐCN1 | C118: 57 | D118: 0 | E118: =SUM(C118:D118) -> 57
A119: 2 | B119: 19C1-ĐCN2 | C119: 55 | D119: 0 | E119: =SUM(C119:D119) -> 55
A120: 3 | B120: 19C1-ĐCN3 | C120: 36 | D120: 0 | E120: =SUM(C120:D120) -> 36
A121: 4 | B121: 19C1-ĐĐT1 | C121: 55 | D121: 2 | E121: =SUM(C121:D121) -> 57
A122: 5 | B122: 19C1-ĐĐT2 | C122: 57 | D122: 0 | E122: =SUM(C122:D122) -> 57
A123: 6 | B123: 19C1-ĐĐT3 | C123: 44 | D123: 2 | E123: =SUM(C123:D123) -> 46
A124: 7 | B124: 19C1-CĐT1 | C124: 50 | D124: 1 | E124: =SUM(C124:D124) -> 51
A125: 8 | B125: 19C1-TĐH1 | C125: 62 | D125: 1 | E125: =SUM(C125:D125) -> 63
A126: 9 | B126: 19C1-KML1 | C126: 56 | D126: 0 | E126: =SUM(C126:D126) -> 56
...

Sheet Qui mo dao tao qui doi
A1: BẢNG TÍNH SỐ HỌC SINH SINH VIÊN QUY ĐỔI
A2: Trình độ đào tạo | B2: Năm
B3: 2017 (tính đến tháng 12/2017) | C3: 2018 (tính đến tháng 12/2018) | D3: 2019 (tính đến tháng 12/2019)
A4: 1. Cao đẳng | B4: ='TDC _Chi tiet_12-2017'!E8 -> 1043.3 | C4: ='TDC _Chi tiet_12-2018'!E10 -> 4026.6 | D4: ='TDC _Chi tiet_12-2019 '!E13 -> 5277.6
A5: 2. Trung cấp | B5: ='TDC _Chi tiet_12-2017'!E12 -> 552.4 | C5: ='TDC _Chi tiet_12-2018'!E16 -> 1952.8 | D5: ='TDC _Chi tiet_12-2019 '!E20 -> 2858
A6: 3. Sơ cấp
A7: 4. Liên kết đào tạo
A8: 5. Loại hình khác
A9: Tổng cộng | B9: =SUM(B4:B8) -> 1595.7 | C9: =SUM(C4:C8) -> 5979.4 | D9: =SUM(D4:D8) -> 8135.6

Sheet TDC _Chi tiet_12-2017
A1: BẢNG TÍNH SỐ HỌC SINH SIHH VIÊN QUY ĐỔI NĂM 2017
A2: (tính đến tháng 12/2017)
A4: TT | B4: Khóa/đợt tuyển sinh | C4: Số lượng | D4: Số tháng thực học trong năm | E4: Số HSSV quy đổi | F4: Ghi chú
A5: I | B5: Trình độ Cao đẳng
A6: 1.1 | B6: 2017 cao đẳng chính quy (10/2017-10/2019) | C6: 3433 | D6: 3 | E6: =C6*D6/10 -> 1029.9
A7: 1.2 | B7: 2017 liên thông cao đẳng (11/2017-12/2018) | C7: 67 | D7: 2 | E7: =C7*D7/10 -> 13.4
E8: =SUM(E6:E7) -> 1043.3
A9: II | B9: Trình độ Trung cấp
A10: 2.1 | B10: 2017 trung cấp (1N3) (9/2017-9/2018) | C10: 77 | D10: 4 | E10: =C10*D10/10 -> 30.8
A11: 2.2 | B11: 2017 trung cấp (9+3) (9/2017-9/2020) | C11: 1304 | D11: 4 | E11: =C11*D11/10 -> 521.6
E12: =SUM(E10:E11) -> 552.4
B13: Tổng | E13: =E8+E12 -> 1595.7

Sheet TDC _Chi tiet_12-2018
A1: BẢNG TÍNH SỐ HỌC SINH SIHH VIÊN QUY ĐỔI NĂM 2018
A2: (tính đến tháng 12/2018)
A4: TT | B4: Khóa/đợt tuyển sinh | C4: Số lượng | D4: Số tháng thực học trong năm | E4: Số HSSV quy đổi | F4: Ghi chú
A5: I | B5: Trình độ Cao đẳng
A6: 1.1 | B6: 2017 cao đẳng chính quy (10/2017-10/2019) | C6: 2802 | D6: 10 | E6: =C6*D6/10 -> 2802
A7: 1.2 | B7: 2017 liên thông cao đẳng (11/2017-12/2018) | C7: 83 | D7: 10 | E7: =C7*D7/10 -> 83
A8: 1.3 | B8: 2018 cao đẳng chính quy (10/2018-10/2020) | C8: 3670 | D8: 3 | E8: =C8*D8/10 -> 1101
A9: 1.4 | B9: 2018 liên thông cao đẳng (11/2018-12/2019) | C9: 203 | D9: 2 | E9: =C9*D9/10 -> 40.6
E10: =SUM(E6:E9) -> 4026.6
A11: II | B11: Trình độ Trung cấp
A12: 2.1 | B12: 2017 trung cấp (1N3) (9/2017-9/2018) | C12: 52 | D12: 9 | E12: =C12*D12/10 -> 46.8
A13: 2.2 | B13: 2017 trung cấp (9+3) (9/2017-9/2020) | C13: 1182 | D13: 10 | E13: =C13*D13/10 -> 1182
A14: 2.3 | B14: 2018 trung cấp (1N3) (9/2018-12/2019) | C14: 72 | D14: 4 | E14: =C14*D14/10 -> 28.8
A15: 2.4 | B15: 2018 trung cấp (9+3) (9/2018-8/2021) | C15: 1738 | D15: 4 | E15: =C15*D15/10 -> 695.2
E16: =SUM(E12:E15) -> 1952.8
B17: Tổng | E17: =E10+E16 -> 5979.4

Sheet TDC _Chi tiet_12-2019 
A1: BẢNG TÍNH SỐ HỌC SINH SIHH VIÊN QUY ĐỔI NĂM 2019
A2: (tính đến tháng 12/2019)
A4: TT | B4: Khóa/đợt tuyển sinh | C4: Số lượng | D4: Số tháng thực học trong năm | E4: Số HSSV quy đổi | F4: Ghi chú
A5: I | B5: Trình độ Cao đẳng
A6: 1.1 | B6: 2017 cao đẳng chính quy (10/2017-10/2019) | C6: 1933 | D6: 10 | E6: =C6*D6/10 -> 1933
A7: 1.2 | B7: 2018 cao đẳng chính quy (10/2018-10/2020) | C7: 2529 | D7: 10 | E7: =C7*D7/10 -> 2529
A8: 1.3 | B8: 2018 liên thông cao đẳng (11/2018-12/2019) | C8: 208 | D8: 10 | E8: =C8*D8/10 -> 208
A9: 1.4 | B9: 2019 cao đẳng chính quy (11/2019-11/2021) | C9: 2539 | D9: 2 | E9: =C9*D9/10 -> 507.8
A10: 1.5 | B10: 2019 liên thông cao đẳng (11/2019-3/2021) | C10: 390 | D10: 2 | E10: =C10*D10/10 -> 78
A11: 1.6 | B11: 2019 cao đẳng chất lượng cao (11/2019-11/2021) | C11: 91 | D11: 2 | E11: =C11*D11/10 -> 18.2
A12: 1.7 | B12: 2019 cao đẳng trọng điểm quốc tế (11/2019-12/2022) | C12: 18 | D12: 2 | E12: =C12*D12/10 -> 3.6
E13: =SUM(E6:E12) -> 5277.6
A14: II | B14: Trình độ Trung cấp
A15: 2.1 | B15: 2017 trung cấp (9+3) (9/2017-9/2020) | C15: 688 | D15: 10 | E15: =C15*D15/10 -> 688
A16: 2.2 | B16: 2018 trung cấp (1N3) (9/2018-12/2019) | C16: 46 | D16: 10 | E16: =C16*D16/10 -> 46
A17: 2.3 | B17: 2018 trung cấp (9+3) (9/2018-8/2021) | C17: 1252 | D17: 10 | E17: =C17*D17/10 -> 1252
A18: 2.4 | B18: 2019 trung cấp (1N3) (9/2019-12/2020) | C18: 177 | D18: 4 | E18: =C18*D18/10 -> 70.8
A19: 2.5 | B19: 2019 trung cấp (9+3) (9/2019-8/2022) | C19: 2003 | D19: 4 | E19: =C19*D19/10 -> 801.2
E20: =SUM(E15:E19) -> 2858
B21: Tổng | E21: =E13+E20 -> 8135.6

Sheet TDC
A1: BẢNG TÍNH SỐ HỌC SINH SIHH VIÊN QUY ĐỔI NĂM 2019
A2: (tính đến tháng 12 năm 2019)
A4: TT | B4: Khóa/đợt tuyển sinh | C4: Sô lượng | D4: Số tháng thực học trong năm | E4: Số HSSV quy đổi | F4: Ghi chú
A5: I | B5: Trình độ Cao đẳng tốt nghiệp THPT
A6: 1.1 | B6: Khóa tuyển sinh 2017 (9/2017-6/2020) | C6: 2969 | D6: 10 | E6: =C6*D6/10 -> 2969
A7: 1.2 | B7: Khóa tuyển sinh 2018 (9/2018-6/2021) | C7: 3503 | D7: 10 | E7: =C7*D7/10 -> 3503
A8: 1.3 | B8: Khóa tuyển sinh 2019 (9/2019-6/2022) | C8: 3272 | D8: 10 | E8: =C8*D8/10 -> 3272
E9: =SUM(E6:E8) -> 9744
A10: II | B10: Trình độ Trung cấp tốt nghiệp THPT
A11: 1.1 | B11: Khóa tuyển sinh 2017 (9/2017-6/2020) | C11: =464+147 -> 611 | D11: 10 | E11: =C11*D11/10 -> 611
A12: 1.2 | B12: Khóa tuyển sinh 2018 (9/2018-6/2021) | C12: =542+113 -> 655 | D12: 10 | E12: =C12*D12/10 -> 655
A13: 1.3 | B13: Khóa tuyển sinh 2019 (9/2019-6/2022) | C13: =412+36 -> 448 | D13: 10 | E13: =C13*D13/10 -> 448
E14: =SUM(E11:E13) -> 1714
B15: Tổng | E15: =E9+E14 -> 11458
